Workbook

Sheet 記載・提出についての注意事項
B2: 様式14-2 技術協力業務委託費見積内訳明細書 記載・提出についての注意事項 1. 記載方法 ・本Excelデータの「A_委託費見積」及び「B_直接人件費内訳表」の両方を記載してください。 ・直接人件費は「B_直接人件費内訳表」に業務項目ごとの人日を入力してください。「A_委託費見積」の直接人件費欄は自動計算されるため、直接入力しないでください。 ・人日は0.5人日単位で記載してください。 ・技術者単価（「B_直接人件費内訳表」5行目）は変更しないでください。 ・諸経費及び技術経費の算定率は「A_委託費見積」の備考欄に記載のとおりです。変更しないでください。 ・セルの計算式は変更しないでください。また、行の追加及び削除は行わないでください。 ・直接人件費以外に必要な費用が想定される場合は、「A_委託費見積」の旅費交通費及びその他経費の欄に、項目名、数量、単位及び単価を記載してください。想定されない場合は空欄で構いません。 ・金額は円単位、税抜で記載してください。円未満の端数は切り捨てとします。 ・該当のない欄は空欄としてください。空欄は0として取り扱います。 2. 提出方法 ・本Excelデータ及びこれをPDF化したもの（「A_委託費見積」「B_直接人件費内訳表」とも）の両方を提出してください。 ・ファイル名は「様式14-2_（貴社名）」としてください。 ・提出期限、提出先及び提出部数は提案説明書第11によります。 ・Excelデータの数値とPDFの記載内容に相違がある場合は、Excelデータの内容を正とします。 3. その他 ・本様式に関する質問は、提案説明書第11に定める「様式10 参考図等に関する質問書」により提出してください。

Sheet A_委託費見積
B2: 技術協力業務委託費見積内訳明細書
B4: 業務名：札幌コンサートホール改修工事実施設計等技術協力業務
B5: 貴社名 | C5: ●●●● | G5: 令和9年●月●日
B7: ▼直接人件費については「B 直接人件費内訳表」から自動入力されます
B8: 項目 | C8: 数量 | D8: 単位 | E8: 単価（円） | F8: 金額（円） | G8: 備考
B9: ■理事・技師長
B10: 直接人件費 …① | C10: =B_直接人件費内訳表!C17 -> 0 | D10: 人・日 | E10: =B_直接人件費内訳表!C5 -> 82800 | F10: =C10*E10 -> 0
B11: 諸経費 …② | C11: =C10*1.1 -> 0 | D11: 人・日 | E11: =E10 -> 82800 | F11: =C11*E11 -> 0 | G11: 数量： ①×1.1
B12: 技術経費 | C12: =(C10+C11)*0.15 -> 0 | D12: 人・日 | E12: =E11 -> 82800 | F12: =C12*E12 -> 0 | G12: 数量：（①+②）×0.15
B13: 小 計 | F13: =SUBTOTAL(9,F10:F12) -> 0
B14: ■主任技師
B15: 直接人件費 …① | C15: =B_直接人件費内訳表!E17 -> 0 | D15: 人・日 | E15: =B_直接人件費内訳表!E5 -> 70900 | F15: =C15*E15 -> 0
B16: 諸経費 …② | C16: =C15*1.1 -> 0 | D16: 人・日 | E16: =E15 -> 70900 | F16: =C16*E16 -> 0 | G16: 数量： ①×1.1
B17: 技術経費 | C17: =(C15+C16)*0.15 -> 0 | D17: 人・日 | E17: =E16 -> 70900 | F17: =C17*E17 -> 0 | G17: 数量：（①+②）×0.15
B18: 小 計 | F18: =SUBTOTAL(9,F15:F17) -> 0
B19: ■技師（A）
B20: 直接人件費 …① | C20: =B_直接人件費内訳表!G17 -> 0 | D20: 人・日 | E20: =B_直接人件費内訳表!G5 -> 62600 | F20: =C20*E20 -> 0
B21: 諸経費 …② | C21: =C20*1.1 -> 0 | D21: 人・日 | E21: =E20 -> 62600 | F21: =C21*E21 -> 0 | G21: 数量： ①×1.1
B22: 技術経費 | C22: =(C20+C21)*0.15 -> 0 | D22: 人・日 | E22: =E21 -> 62600 | F22: =C22*E22 -> 0 | G22: 数量：（①+②）×0.15
B23: 小 計 | F23: =SUBTOTAL(9,F20:F22) -> 0
B24: ■技師（B）
B25: 直接人件費 …① | C25: =B_直接人件費内訳表!I17 -> 0 | D25: 人・日 | E25: =B_直接人件費内訳表!I5 -> 49300 | F25: =C25*E25 -> 0
B26: 諸経費 …② | C26: =C25*1.1 -> 0 | D26: 人・日 | E26: =E25 -> 49300 | F26: =C26*E26 -> 0 | G26: 数量： ①×1.1
B27: 技術経費 | C27: =(C25+C26)*0.15 -> 0 | D27: 人・日 | E27: =E26 -> 49300 | F27: =C27*E27 -> 0 | G27: 数量：（①+②）×0.15
B28: 小 計 | F28: =SUBTOTAL(9,F25:F27) -> 0
B29: ■技師（C）
B30: 直接人件費 …① | C30: =B_直接人件費内訳表!K17 -> 0 | D30: 人・日 | E30: =B_直接人件費内訳表!K5 -> 42500 | F30: =C30*E30 -> 0
B31: 諸経費 …② | C31: =C30*1.1 -> 0 | D31: 人・日 | E31: =E30 -> 42500 | F31: =C31*E31 -> 0 | G31: 数量： ①×1.1
B32: 技術経費 | C32: =(C30+C31)*0.15 -> 0 | D32: 人・日 | E32: =E31 -> 42500 | F32: =C32*E32 -> 0 | G32: 数量：（①+②）×0.15
B33: 小 計 | F33: =SUBTOTAL(9,F30:F32) -> 0
B34: ■技術員
B35: 直接人件費 …① | C35: =B_直接人件費内訳表!M17 -> 0 | D35: 人・日 | E35: =B_直接人件費内訳表!M5 -> 36700 | F35: =C35*E35 -> 0
B36: 諸経費 …② | C36: =C35*1.1 -> 0 | D36: 人・日 | E36: =E35 -> 36700 | F36: =C36*E36 -> 0 | G36: 数量： ①×1.1
B37: 技術経費 | C37: =(C35+C36)*0.15 -> 0 | D37: 人・日 | E37: =E36 -> 36700 | F37: =C37*E37 -> 0 | G37: 数量：（①+②）×0.15
B38: 小 計 | F38: =SUBTOTAL(9,F35:F37) -> 0
B39: 合 計 | F39: =SUBTOTAL(9,F9:F38) -> 0
B41: ▼以下は直接人件費以外で必要な費用が想定される場合に入力してください
B42: 項目 | C42: 数量 | D42: 単位 | E42: 単価（円） | F42: 金額（円） | G42: 備考
B43: ■旅費交通費
B44: ●●●●● | D44: ● | F44: =C44*E44 -> 0
...

Sheet B_直接人件費内訳表
B2: =A_委託費見積!B2 -> 技術協力業務委託費見積内訳明細書
B3: Ｂ 直接人件費内訳書
B4: 業務項目 | C4: 理事、技師長 | E4: 主任技師 | G4: 技師（A） | I4: 技師（B） | K4: 技師（C） | M4: 技術員 | O4: 合計
C5: 82800 | E5: 70900 | G5: 62600 | I5: 49300 | K5: 42500 | M5: 36700
C6: 人日 | D6: 円 | E6: 人日 | F6: 円 | G6: 人日 | H6: 円 | I6: 人日 | J6: 円 | K6: 人日 | L6: 円 | M6: 人日 | N6: 円 | O6: 円
B7: １ 現地調査 | D7: =$C$5*C7 -> 0 | F7: =$E$5*E7 -> 0 | H7: =$G$5*G7 -> 0 | J7: =$I$5*I7 -> 0 | L7: =$K$5*K7 -> 0 | N7: =$M$5*M7 -> 0 | O7: =SUM(N7,L7,J7,H7,F7,D7) -> 0
B8: ２ 技術検証 | D8: =$C$5*C8 -> 0 | F8: =$E$5*E8 -> 0 | H8: =$G$5*G8 -> 0 | J8: =$I$5*I8 -> 0 | L8: =$K$5*K8 -> 0 | N8: =$M$5*M8 -> 0 | O8: =SUM(N8,L8,J8,H8,F8,D8) -> 0
B9: ３ 技術提案 | D9: =$C$5*C9 -> 0 | F9: =$E$5*E9 -> 0 | H9: =$G$5*G9 -> 0 | J9: =$I$5*I9 -> 0 | L9: =$K$5*K9 -> 0 | N9: =$M$5*M9 -> 0 | O9: =SUM(N9,L9,J9,H9,F9,D9) -> 0
B10: ４ 工事工程表及び仮設計画の検討 | D10: =$C$5*C10 -> 0 | F10: =$E$5*E10 -> 0 | H10: =$G$5*G10 -> 0 | J10: =$I$5*I10 -> 0 | L10: =$K$5*K10 -> 0 | N10: =$M$5*M10 -> 0 | O10: =SUM(N10,L10,J10,H10,F10,D10) -> 0
B11: ５ 工事費の算出 | D11: =$C$5*C11 -> 0 | F11: =$E$5*E11 -> 0 | H11: =$G$5*G11 -> 0 | J11: =$I$5*I11 -> 0 | L11: =$K$5*K11 -> 0 | N11: =$M$5*M11 -> 0 | O11: =SUM(N11,L11,J11,H11,F11,D11) -> 0
B12: ６ 価格等の交渉 | D12: =$C$5*C12 -> 0 | F12: =$E$5*E12 -> 0 | H12: =$G$5*G12 -> 0 | J12: =$I$5*I12 -> 0 | L12: =$K$5*K12 -> 0 | N12: =$M$5*M12 -> 0 | O12: =SUM(N12,L12,J12,H12,F12,D12) -> 0
B13: ７ 関係機関等との協議資料作成支援 | D13: =$C$5*C13 -> 0 | F13: =$E$5*E13 -> 0 | H13: =$G$5*G13 -> 0 | J13: =$I$5*I13 -> 0 | L13: =$K$5*K13 -> 0 | N13: =$M$5*M13 -> 0 | O13: =SUM(N13,L13,J13,H13,F13,D13) -> 0
B14: ８ 施工段階への引き継ぎ計画書の作成 | D14: =$C$5*C14 -> 0 | F14: =$E$5*E14 -> 0 | H14: =$G$5*G14 -> 0 | J14: =$I$5*I14 -> 0 | L14: =$K$5*K14 -> 0 | N14: =$M$5*M14 -> 0 | O14: =SUM(N14,L14,J14,H14,F14,D14) -> 0
D15: 0 | F15: 0 | H15: 0 | J15: 0 | L15: =$K$5*K15 -> 0 | N15: =$M$5*M15 -> 0 | O15: =SUM(N15,L15,J15,H15,F15,D15) -> 0
D16: 0 | F16: 0 | H16: 0 | J16: 0 | L16: =$K$5*K16 -> 0 | N16: =$M$5*M16 -> 0 | O16: =SUM(N16,L16,J16,H16,F16,D16) -> 0
B17: 計 | C17: =SUBTOTAL(9,C7:C16) -> 0 | D17: =SUM(D7:D16) -> 0 | E17: =SUBTOTAL(9,E7:E16) -> 0 | F17: =SUM(F7:F16) -> 0 | G17: =SUBTOTAL(9,G7:G16) -> 0 | H17: =SUM(H7:H16) -> 0 | I17: =SUBTOTAL(9,I7:I16) -> 0 | J17: =SUM(J7:J16) -> 0 | K17: =SUBTOTAL(9,K7:K16) -> 0 | L17: =SUM(L7:L16) -> 0 | M17: =SUBTOTAL(9,M7:M16) -> 0 | N17: =SUM(N7:N16) -> 0 | O17: =SUM(O7:O16) -> 0
B19: のセルに入力をお願いいたします
