{"text_format":"1","workbook":"xlsx","n_sheets":2,"sheets":["調査票入力","特記印刷"],"not_rendered":{"charts":0,"images":0,"macros":1,"external_links":0,"defined_names":124,"comments":1,"pivot_tables":0},"unopened":[],"bounds":{"document_bytes":16777216,"sheet_cells":100000,"rows_first":2000,"rows_last":500,"rows_between":2000,"halvings":0,"cell_chars":16384,"cell_head_chars":4096},"cells_cut":0,"cells_raw":0,"read":"whole","date_system":"1900"}

{"sheet":"調査票入力","index":0,"n_rows":607,"n_cols":21,"rows_kept":607,"cut":false,"hidden":false,"merged":[[481,2,481,3],[481,4,482,5],[482,2,482,3],[484,0,484,5],[486,0,486,5],[487,0,494,5],[476,0,476,3],[476,4,476,5],[477,2,477,3],[477,4,478,5],[478,2,478,3],[480,0,480,3],[480,4,480,5],[469,2,469,3],[469,4,470,5],[470,2,470,3],[472,0,472,3],[472,4,472,5],[473,2,473,3],[473,4,474,5],[474,2,474,3],[464,0,464,3],[464,4,464,5],[465,2,465,3],[465,4,466,5],[466,2,466,3],[468,0,468,3],[468,4,468,5],[457,2,457,3],[457,4,458,5],[458,2,458,3],[460,0,460,3],[460,4,460,5],[461,2,461,3],[461,4,462,5],[462,2,462,3],[452,0,452,3],[452,4,452,5],[453,2,453,3],[453,4,454,5],[454,2,454,3],[456,0,456,3],[456,4,456,5],[445,2,445,3],[445,4,446,5],[446,2,446,3],[448,0,448,3],[448,4,448,5],[449,2,449,3],[449,4,450,5],[450,2,450,3],[440,0,440,3],[440,4,440,5],[441,2,441,3],[441,4,442,5],[442,2,442,3],[444,0,444,3],[444,4,444,5],[434,0,434,5],[436,0,436,3],[436,4,436,5],[437,2,437,3],[437,4,438,5],[438,2,438,3],[427,0,427,4],[428,2,428,4],[428,5,432,5],[429,2,429,4],[430,2,430,4],[431,2,431,4],[432,2,432,4],[420,0,420,4],[421,2,421,4],[421,5,425,5],[422,2,422,4],[423,2,423,4],[424,2,424,4],[425,2,425,4],[413,0,413,4],[414,2,414,4],[414,5,418,5],[415,2,415,4],[416,2,416,4],[417,2,417,4],[418,2,418,4],[406,0,406,4],[407,2,407,4],[407,5,411,5],[408,2,408,4],[409,2,409,4],[410,2,410,4],[411,2,411,4],[399,0,399,4],[400,2,400,4],[400,5,404,5],[401,2,401,4],[402,2,402,4],[403,2,403,4],[404,2,404,4],[392,0,392,4],[393,2,393,4],[393,5,397,5],[394,2,394,4],[395,2,395,4],[396,2,396,4],[397,2,397,4],[385,0,385,4],[386,2,386,4],[386,5,390,5],[387,2,387,4],[388,2,388,4],[389,2,389,4],[390,2,390,4],[378,0,378,4],[379,2,379,4],[379,5,383,5],[380,2,380,4],[381,2,381,4],[382,2,382,4],[383,2,383,4],[371,0,371,4],[372,2,372,4],[372,5,376,5],[373,2,373,4],[374,2,374,4],[375,2,375,4],[376,2,376,4],[364,0,364,4],[365,2,365,4],[365,5,369,5],[366,2,366,4],[367,2,367,4],[368,2,368,4],[369,2,369,4],[357,0,357,4],[358,2,358,4],[358,5,362,5],[359,2,359,4],[360,2,360,4],[361,2,361,4],[362,2,362,4],[350,0,350,4],[351,2,351,4],[351,5,355,5],[352,2,352,4],[353,2,353,4],[354,2,354,4],[355,2,355,4],[343,0,343,4],[344,2,344,4],[344,5,348,5],[345,2,345,4],[346,2,346,4],[347,2,347,4],[348,2,348,4],[336,0,336,4],[337,2,337,4],[337,5,341,5],[338,2,338,4],[339,2,339,4],[340,2,340,4],[341,2,341,4],[329,0,329,4],[330,2,330,4],[330,5,334,5],[331,2,331,4],[332,2,332,4],[333,2,333,4],[334,2,334,4],[322,0,322,4],[323,2,323,4],[323,5,327,5],[324,2,324,4],[325,2,325,4],[326,2,326,4],[327,2,327,4],[315,0,315,4],[316,2,316,4],[316,5,320,5],[317,2,317,4],[318,2,318,4],[319,2,319,4],[320,2,320,4],[308,0,308,4],[309,2,309,4],[309,5,313,5],[310,2,310,4],[311,2,311,4],[312,2,312,4],[313,2,313,4],[301,0,301,4],[302,2,302,4],[302,5,306,5],[303,2,303,4],[304,2,304,4],[305,2,305,4],[306,2,306,4],[294,0,294,4],[295,2,295,4],[295,5,299,5],[296,2,296,4],[297,2,297,4],[298,2,298,4],[299,2,299,4],[287,0,287,4],[288,2,288,4],[288,5,292,5],[289,2,289,4],[290,2,290,4],[291,2,291,4],[292,2,292,4],[280,0,280,4],[281,2,281,4],[281,5,285,5],[282,2,282,4],[283,2,283,4],[284,2,284,4],[285,2,285,4],[273,0,273,4],[274,2,274,4],[274,5,278,5],[275,2,275,4],[276,2,276,4],[277,2,277,4],[278,2,278,4],[266,0,266,4],[267,2,267,4],[267,5,271,5],[268,2,268,4],[269,2,269,4],[270,2,270,4],[271,2,271,4],[259,0,259,4],[260,2,260,4],[260,5,264,5],[261,2,261,4],[262,2,262,4],[263,2,263,4],[264,2,264,4],[252,0,252,4],[253,2,253,4],[253,5,257,5],[254,2,254,4],[255,2,255,4],[256,2,256,4],[257,2,257,4],[245,0,245,4],[246,2,246,4],[246,5,250,5],[247,2,247,4],[248,2,248,4],[249,2,249,4],[250,2,250,4],[238,0,238,4],[239,2,239,4],[239,5,243,5],[240,2,240,4],[241,2,241,4],[242,2,242,4],[243,2,243,4],[231,0,231,4],[232,2,232,4],[232,5,236,5],[233,2,233,4],[234,2,234,4],[235,2,235,4],[236,2,236,4],[224,0,224,4],[225,2,225,4],[225,5,229,5],[226,2,226,4],[227,2,227,4],[228,2,228,4],[229,2,229,4],[217,0,217,4],[218,2,218,4],[218,5,222,5],[219,2,219,4],[220,2,220,4],[221,2,221,4],[222,2,222,4],[210,0,210,4],[211,2,211,4],[211,5,215,5],[212,2,212,4],[213,2,213,4],[214,2,214,4],[215,2,215,4],[203,0,203,4],[204,2,204,4],[204,5,208,5],[205,2,205,4],[206,2,206,4],[207,2,207,4],[208,2,208,4],[194,0,194,5],[196,0,196,4],[197,2,197,4],[197,5,201,5],[198,2,198,4],[199,2,199,4],[200,2,200,4],[201,2,201,4],[186,2,186,4],[186,5,188,5],[187,2,187,4],[188,2,188,4],[190,0,190,4],[191,2,191,4],[191,5,192,5],[192,2,192,4],[180,0,180,4],[181,2,181,4],[181,5,183,5],[182,2,182,4],[183,2,183,4],[185,0,185,4],[173,0,173,4],[174,2,174,4],[174,5,178,5],[175,2,175,4],[176,2,176,4],[177,2,177,4],[178,2,178,4],[165,0,165,4],[166,2,166,4],[166,5,171,5],[167,2,167,4],[168,2,168,4],[169,2,169,4],[170,2,170,4],[171,2,171,4],[151,3,153,5],[155,0,155,5],[157,0,157,4],[158,2,158,4],[158,5,163,5],[159,2,159,4],[160,2,160,4],[161,2,161,4],[162,2,162,4],[163,2,163,4],[141,3,143,5],[145,0,145,2],[145,3,145,5],[146,3,148,5],[150,0,150,2],[150,3,150,5],[131,3,133,5],[135,0,135,2],[135,3,135,5],[136,3,138,5],[140,0,140,2],[140,3,140,5],[121,3,123,5],[125,0,125,2],[125,3,125,5],[126,3,128,5],[130,0,130,2],[130,3,130,5],[111,3,113,5],[115,0,115,2],[115,3,115,5],[116,3,118,5],[120,0,120,2],[120,3,120,5],[101,3,103,5],[105,0,105,2],[105,3,105,5],[106,3,108,5],[110,0,110,2],[110,3,110,5],[91,3,93,5],[95,0,95,2],[95,3,95,5],[96,3,98,5],[100,0,100,2],[100,3,100,5],[81,3,83,5],[85,0,85,2],[85,3,85,5],[86,3,88,5],[90,0,90,2],[90,3,90,5],[69,3,71,5],[73,0,73,5],[75,0,75,2],[75,3,75,5],[76,3,78,5],[80,0,80,2],[80,3,80,5],[59,3,62,5],[64,0,64,2],[64,3,64,5],[65,3,66,5],[68,0,68,2],[68,3,68,5],[47,3,50,5],[52,0,52,2],[52,3,52,5],[53,3,56,5],[58,0,58,2],[58,3,58,5],[35,3,38,5],[40,0,40,2],[40,3,40,5],[41,3,44,5],[46,0,46,2],[46,3,46,5],[23,3,26,5],[28,0,28,2],[28,3,28,5],[29,3,32,5],[34,0,34,2],[34,3,34,5],[11,3,14,5],[16,0,16,2],[16,3,16,5],[17,3,20,5],[22,0,22,2],[22,3,22,5],[2,0,2,5],[4,0,4,2],[4,3,4,5],[5,3,8,5],[10,0,10,2],[10,3,10,5]]}
["認定調査票"]
[]
["１．移動や動作等に関連する項目"]
[]
["１－１ 寝返り",null,null,"特記事項"]
[null,"１","支援が不要"]
["","２","見守り等の支援が必要"]
["","３","部分的な支援が必要"]
["","４","全面的な支援が必要"]
[]
["１－２ 起き上がり",null,null,"特記事項"]
["","１","支援が不要"]
["","２","見守り等の支援が必要"]
["","３","部分的な支援が必要"]
["","４","全面的な支援が必要"]
[]
["１－３ 座位保持",null,null,"特記事項"]
[null,"１","支援が不要"]
["","２","見守り等の支援が必要"]
["","３","部分的な支援が必要"]
["","４","全面的な支援が必要"]
[]
["１－４ 移乗",null,null,"特記事項"]
[null,"１","支援が不要"]
["","２","見守り等の支援が必要"]
["","３","部分的な支援が必要"]
["","４","全面的な支援が必要"]
[]
["１－５ 立ち上がり",null,null,"特記事項"]
["","１","支援が不要"]
["","２","見守り等の支援が必要"]
["","３","部分的な支援が必要"]
["","４","全面的な支援が必要"]
[]
["１－６ 両足での立位保持",null,null,"特記事項"]
["","１","支援が不要"]
["","２","見守り等の支援が必要"]
["","３","部分的な支援が必要"]
["","４","全面的な支援が必要"]
[]
["１－７ 片足での立位保持",null,null,"特記事項"]
["","１","支援が不要"]
["","２","見守り等の支援が必要"]
["","３","部分的な支援が必要"]
["","４","全面的な支援が必要"]
[]
["１－８ 歩行",null,null,"特記事項"]
["","１","支援が不要"]
["","２","見守り等の支援が必要"]
["","３","部分的な支援が必要"]
["","４","全面的な支援が必要"]
[]
["１－９ 移動",null,null,"特記事項"]
["","１","支援が不要"]
["","２","見守り等の支援が必要"]
["","３","部分的な支援が必要"]
["","４","全面的な支援が必要"]
[]
["１－10 衣服の着脱",null,null,"特記事項"]
["","１","支援が不要"]
["","２","見守り等の支援が必要"]
["","３","部分的な支援が必要"]
["","４","全面的な支援が必要"]
[]
["１－11 じょくそう",null,null,"特記事項"]
["","１","ない"]
["","２","ある"]
[]
["１－12 えん下",null,null,"特記事項"]
["","１","支援が不要"]
["","２","見守り等の支援が必要"]
["","３","全面的な支援が必要"]
[]
["２．身の回りの世話や日常生活等に関連する項目"]
[]
["２－１ 食事",null,null,"特記事項"]
["","１","支援が不要"]
["","２","部分的な支援が必要"]
["","３","全面的な支援が必要"]
[]
["２－２ 口腔清潔",null,null,"特記事項"]
["","１","支援が不要"]
["","２","部分的な支援が必要"]
["","３","全面的な支援が必要"]
[]
["２－３ 入浴",null,null,"特記事項"]
["","１","支援が不要"]
["","２","部分的な支援が必要"]
["","３","全面的な支援が必要"]
[]
["２－４ 排尿",null,null,"特記事項"]
["","１","支援が不要"]
["","２","部分的な支援が必要"]
["","３","全面的な支援が必要"]
[]
["２－５ 排便",null,null,"特記事項"]
["","１","支援が不要"]
["","２","部分的な支援が必要"]
["","３","全面的な支援が必要"]
[]
["２－６ 健康・栄養管理",null,null,"特記事項"]
["","１","支援が不要"]
["","２","部分的な支援が必要"]
["","３","全面的な支援が必要"]
[]
["２－７ 薬の管理",null,null,"特記事項"]
["","１","支援が不要"]
["","２","部分的な支援が必要"]
["","３","全面的な支援が必要"]
[]
["２－８ 金銭の管理",null,null,"特記事項"]
["","１","支援が不要"]
["","２","部分的な支援が必要"]
["","３","全面的な支援が必要"]
[]
["２－９ 電話等の利用",null,null,"特記事項"]
["","１","支援が不要"]
["","２","部分的な支援が必要"]
["","３","全面的な支援が必要"]
[]
["２－10 日常の意思決定",null,null,"特記事項"]
["","１","支援が不要"]
["","２","部分的な支援が必要"]
["","３","全面的な支援が必要"]
[]
["２－11 危険の認識",null,null,"特記事項"]
["","１","支援が不要"]
["","２","部分的な支援が必要"]
["","３","全面的な支援が必要"]
[]
["２－12 調理",null,null,"特記事項"]
["","１","支援が不要"]
["","２","部分的な支援が必要"]
["","３","全面的な支援が必要"]
[]
["２－13 掃除",null,null,"特記事項"]
["","１","支援が不要"]
["","２","部分的な支援が必要"]
["","３","全面的な支援が必要"]
[]
["２－14 洗濯",null,null,"特記事項"]
["","１","支援が不要"]
["","２","部分的な支援が必要"]
["","３","全面的な支援が必要"]
[]
["２－15 買い物",null,null,"特記事項"]
["","１","支援が不要"]
["","２","部分的な支援が必要"]
["","３","全面的な支援が必要"]
[]
["２－16 交通手段の利用",null,null,"特記事項"]
["","１","支援が不要"]
["","２","部分的な支援が必要"]
["","３","全面的な支援が必要"]
[]
["３．意思疎通等に関連する項目"]
[]
["３－１ 視力",null,null,null,null,"特記事項"]
["","１","日常生活に支障がない"]
["","２","約１ｍ離れた視力確認表の図が見える"]
["","３","目の前に置いた視力確認表の図が見える"]
["","４","ほとんど見えていない"]
["","５","全く見えない"]
["","６","見えているのか判断不能"]
[]
["３－２ 聴力",null,null,null,null,"特記事項"]
["","１","日常生活に支障がない"]
["","２","普通の声がやっと聞き取れる"]
["","３","かなり大きな声なら何とか聞き取れる"]
["","４","ほとんど聞こえない"]
["","５","全く聞こえない"]
["","６","聞こえているのか判断不能"]
[]
["３－３ コミュニケーション",null,null,null,null,"特記事項"]
["","１","日常生活に支障がない"]
["","２","特定の者であればコミュニケーションできる"]
["","３","会話以外の方法でコミュニケーションできる"]
["","４","独自の方法でコミュニケーションできる"]
["","５","コミュニケーションできない"]
[]
["３－４ 説明の理解",null,null,null,null,"特記事項"]
["","１","理解できる"]
["","２","理解できない"]
["","３","理解できているか判断できない"]
[]
["３－５ 読み書き",null,null,null,null,"特記事項"]
["","１","支援が不要"]
["","２","部分的な支援が必要"]
["","３","全面的な支援が必要"]
[]
["３－６ 感覚過敏・感覚鈍麻",null,null,null,null,"特記事項"]
["","１","ない"]
["","２","ある"]
[]
["４．行動障害に関連する項目"]
[]
["４－１ 被害的・拒否的",null,null,null,null,"特記事項"]
["","１","支援が不要"]
["","２","希に支援が必要"]
["","３","月に１回以上の支援が必要"]
["","４","週に１回以上の支援が必要"]
["","５","ほぼ毎日(週に５日以上の)支援が必要"]
[]
["４－２ 作話",null,null,null,null,"特記事項"]
["","１","支援が不要"]
["","２","希に支援が必要"]
["","３","月に１回以上の支援が必要"]
["","４","週に１回以上の支援が必要"]
["","５","ほぼ毎日(週に５日以上の)支援が必要"]
[]
["４－３ 感情が不安定",null,null,null,null,"特記事項"]
["","１","支援が不要"]
["","２","希に支援が必要"]
["","３","月に１回以上の支援が必要"]
["","４","週に１回以上の支援が必要"]
["","５","ほぼ毎日(週に５日以上の)支援が必要"]
[]
["４－４ 昼夜逆転",null,null,null,null,"特記事項"]
["","１","支援が不要"]
["","２","希に支援が必要"]
["","３","月に１回以上の支援が必要"]
["","４","週に１回以上の支援が必要"]
["","５","ほぼ毎日(週に５日以上の)支援が必要"]
[]
["４－５ 暴言暴行",null,null,null,null,"特記事項"]
["","１","支援が不要"]
["","２","希に支援が必要"]
["","３","月に１回以上の支援が必要"]
["","４","週に１回以上の支援が必要"]
["","５","ほぼ毎日(週に５日以上の)支援が必要"]
[]
["４－６ 同じ話をする",null,null,null,null,"特記事項"]
["","１","支援が不要"]
["","２","希に支援が必要"]
["","３","月に１回以上の支援が必要"]
["","４","週に１回以上の支援が必要"]
["","５","ほぼ毎日(週に５日以上の)支援が必要"]
[]
["４－７ 大声・奇声を出す",null,null,null,null,"特記事項"]
["","１","支援が不要"]
["","２","希に支援が必要"]
["","３","月に１回以上の支援が必要"]
["","４","週に１回以上の支援が必要"]
["","５","ほぼ毎日(週に５日以上の)支援が必要"]
[]
["４－８ 支援の拒否",null,null,null,null,"特記事項"]
["","１","支援が不要"]
["","２","希に支援が必要"]
["","３","月に１回以上の支援が必要"]
["","４","週に１回以上の支援が必要"]
["","５","ほぼ毎日(週に５日以上の)支援が必要"]
[]
["４－９ 徘徊",null,null,null,null,"特記事項"]
["","１","支援が不要"]
["","２","希に支援が必要"]
["","３","月に１回以上の支援が必要"]
["","４","週に１回以上の支援が必要"]
["","５","ほぼ毎日(週に５日以上の)支援が必要"]
[]
["４－10 落ち着きがない",null,null,null,null,"特記事項"]
["","１","支援が不要"]
["","２","希に支援が必要"]
["","３","月に１回以上の支援が必要"]
["","４","週に１回以上の支援が必要"]
["","５","ほぼ毎日(週に５日以上の)支援が必要"]
[]
["４－11 外出して戻れない",null,null,null,null,"特記事項"]
["","１","支援が不要"]
["","２","希に支援が必要"]
["","３","月に１回以上の支援が必要"]
["","４","週に１回以上の支援が必要"]
["","５","ほぼ毎日(週に５日以上の)支援が必要"]
[]
["４－12 １人で出たがる",null,null,null,null,"特記事項"]
["","１","支援が不要"]
["","２","希に支援が必要"]
["","３","月に１回以上の支援が必要"]
["","４","週に１回以上の支援が必要"]
["","５","ほぼ毎日(週に５日以上の)支援が必要"]
[]
["４－13 収集癖",null,null,null,null,"特記事項"]
["","１","支援が不要"]
["","２","希に支援が必要"]
["","３","月に１回以上の支援が必要"]
["","４","週に１回以上の支援が必要"]
["","５","ほぼ毎日(週に５日以上の)支援が必要"]
[]
["４－14 物や衣類を壊す",null,null,null,null,"特記事項"]
["","１","支援が不要"]
["","２","希に支援が必要"]
["","３","月に１回以上の支援が必要"]
["","４","週に１回以上の支援が必要"]
["","５","ほぼ毎日(週に５日以上の)支援が必要"]
[]
["４－15 不潔行為",null,null,null,null,"特記事項"]
["","１","支援が不要"]
["","２","希に支援が必要"]
["","３","月に１回以上の支援が必要"]
["","４","週に１回以上の支援が必要"]
["","５","ほぼ毎日(週に５日以上の)支援が必要"]
[]
["４－16 異食行動",null,null,null,null,"特記事項"]
["","１","支援が不要"]
["","２","希に支援が必要"]
["","３","月に１回以上の支援が必要"]
["","４","週に１回以上の支援が必要"]
["","５","ほぼ毎日(週に５日以上の)支援が必要"]
[]
["４－17 ひどい物忘れ",null,null,null,null,"特記事項"]
["","１","支援が不要"]
["","２","希に支援が必要"]
["","３","月に１回以上の支援が必要"]
["","４","週に１回以上の支援が必要"]
["","５","ほぼ毎日(週に５日以上の)支援が必要"]
[]
["４－18 こだわり",null,null,null,null,"特記事項"]
["","１","支援が不要"]
["","２","希に支援が必要"]
["","３","月に１回以上の支援が必要"]
["","４","週に１回以上の支援が必要"]
["","５","ほぼ毎日(週に５日以上の)支援が必要"]
[]
["４－19 多動・行動停止",null,null,null,null,"特記事項"]
["","１","支援が不要"]
["","２","希に支援が必要"]
["","３","月に１回以上の支援が必要"]
["","４","週に１回以上の支援が必要"]
["","５","ほぼ毎日(週に５日以上の)支援が必要"]
[]
["４－20 不安定な行動",null,null,null,null,"特記事項"]
["","１","支援が不要"]
["","２","希に支援が必要"]
["","３","月に１回以上の支援が必要"]
["","４","週に１回以上の支援が必要"]
["","５","ほぼ毎日(週に５日以上の)支援が必要"]
[]
["４－21 自らを傷つける行為",null,null,null,null,"特記事項"]
["","１","支援が不要"]
["","２","希に支援が必要"]
["","３","月に１回以上の支援が必要"]
["","４","週に１回以上の支援が必要"]
["","５","ほぼ毎日(週に５日以上の)支援が必要"]
[]
["４－22 他人を傷つける行為",null,null,null,null,"特記事項"]
["","１","支援が不要"]
["","２","希に支援が必要"]
["","３","月に１回以上の支援が必要"]
["","４","週に１回以上の支援が必要"]
["","５","ほぼ毎日(週に５日以上の)支援が必要"]
[]
["４－23 不適切な行為",null,null,null,null,"特記事項"]
["","１","支援が不要"]
["","２","希に支援が必要"]
["","３","月に１回以上の支援が必要"]
["","４","週に１回以上の支援が必要"]
["","５","ほぼ毎日(週に５日以上の)支援が必要"]
[]
["４－24 突発的な行動",null,null,null,null,"特記事項"]
["","１","支援が不要"]
["","２","希に支援が必要"]
["","３","月に１回以上の支援が必要"]
["","４","週に１回以上の支援が必要"]
["","５","ほぼ毎日(週に５日以上の)支援が必要"]
[]
["４－25 過食・反すう等",null,null,null,null,"特記事項"]
["","１","支援が不要"]
["","２","希に支援が必要"]
["","３","月に１回以上の支援が必要"]
["","４","週に１回以上の支援が必要"]
["","５","ほぼ毎日(週に５日以上の)支援が必要"]
[]
["４－26 そう鬱状態",null,null,null,null,"特記事項"]
["","１","支援が不要"]
["","２","希に支援が必要"]
["","３","月に１回以上の支援が必要"]
["","４","週に１回以上の支援が必要"]
["","５","ほぼ毎日(週に５日以上の)支援が必要"]
[]
["４－27 反復的行動",null,null,null,null,"特記事項"]
["","１","支援が不要"]
["","２","希に支援が必要"]
["","３","月に１回以上の支援が必要"]
["","４","週に１回以上の支援が必要"]
["","５","ほぼ毎日(週に５日以上の)支援が必要"]
[]
["４－28 対人面の不安緊張",null,null,null,null,"特記事項"]
["","１","支援が不要"]
["","２","希に支援が必要"]
["","３","月に１回以上の支援が必要"]
["","４","週に１回以上の支援が必要"]
["","５","ほぼ毎日(週に５日以上の)支援が必要"]
[]
["４－29 意欲が乏しい",null,null,null,null,"特記事項"]
["","１","支援が不要"]
["","２","希に支援が必要"]
["","３","月に１回以上の支援が必要"]
["","４","週に１回以上の支援が必要"]
["","５","ほぼ毎日(週に５日以上の)支援が必要"]
[]
["４－30 話がまとまらない",null,null,null,null,"特記事項"]
["","１","支援が不要"]
["","２","希に支援が必要"]
["","３","月に１回以上の支援が必要"]
["","４","週に１回以上の支援が必要"]
["","５","ほぼ毎日(週に５日以上の)支援が必要"]
[]
["４－31 集中力が続かない",null,null,null,null,"特記事項"]
["","１","支援が不要"]
["","２","希に支援が必要"]
["","３","月に１回以上の支援が必要"]
["","４","週に１回以上の支援が必要"]
["","５","ほぼ毎日(週に５日以上の)支援が必要"]
[]
["４－32 自己の過大評価",null,null,null,null,"特記事項"]
["","１","支援が不要"]
["","２","希に支援が必要"]
["","３","月に１回以上の支援が必要"]
["","４","週に１回以上の支援が必要"]
["","５","ほぼ毎日(週に５日以上の)支援が必要"]
[]
["４－33 集団への不適応",null,null,null,null,"特記事項"]
["","１","支援が不要"]
["","２","希に支援が必要"]
["","３","月に１回以上の支援が必要"]
["","４","週に１回以上の支援が必要"]
["","５","ほぼ毎日(週に５日以上の)支援が必要"]
[]
["４－34 多飲水・過飲水",null,null,null,null,"特記事項"]
["","１","支援が不要"]
["","２","希に支援が必要"]
["","３","月に１回以上の支援が必要"]
["","４","週に１回以上の支援が必要"]
["","５","ほぼ毎日(週に５日以上の)支援が必要"]
[]
["５．特別な医療に関連する項目"]
[]
["５－１ 点滴の管理",null,null,null,"特記事項"]
["","１","ない"]
["","２","ある"]
[]
["５－２ 中心静脈栄養",null,null,null,"特記事項"]
["","１","ない"]
["","２","ある"]
[]
["５－３ 透析",null,null,null,"特記事項"]
["","１","ない"]
["","２","ある"]
[]
["５－４ ストーマの処置(人工肛門の処置)",null,null,null,"特記事項"]
["","１","ない"]
["","２","ある"]
[]
["５－５ 酸素療法",null,null,null,"特記事項"]
["","１","ない"]
["","２","ある"]
[]
["５－６ レスピレーター(人工呼吸器)",null,null,null,"特記事項"]
["","１","ない"]
["","２","ある"]
[]
["５－７ 気管切開の処置",null,null,null,"特記事項"]
["","１","ない"]
["","２","ある"]
[]
["５－８ 疼痛の看護",null,null,null,"特記事項"]
["","１","ない"]
["","２","ある"]
[]
["５－９ 経管栄養",null,null,null,"特記事項"]
["","１","ない"]
["","２","ある"]
[]
["５－10 モニター測定(血圧、心拍、酸素飽和度等)",null,null,null,"特記事項"]
["","１","ない"]
["","２","ある"]
[]
["５－11 じょくそうの処置",null,null,null,"特記事項"]
["","１","ない"]
["","２","ある"]
[]
["５－12 カテーテル",null,null,null,"特記事項"]
["","１","ない"]
["","２","ある"]
[]
["６．その他（認定調査の際に「調査対象者に必要とされる支援の度合い」に関することで確認できた事項）"]
["","",""]
["特記事項"]
[]
[]
[]
[]
[]
[]
[]
[]
[]
[null,null,null,null,null,null,null,"№＋名称","名称","選択","内容","審査会資料表示","特記表示","特記事項","特記文字数","１行目","２行目","３行目","４行目","５行目","６行目"]
[null,null,null,null,null,null,null,"１－１ 寝返り","寝返り",1,{"$f":"VLOOKUP(DBCS(J498),調査票入力!$B$6:$C$9,2,0)","v":"支援が不要"},{"$f":"CHOOSE(J498,\"\",\"見守り等\",\"部分支援\",\"全面支援\")","v":""},{"$f":"CHOOSE(J498,\"支援不要\",\"見守り等\",\"部分支援\",\"全面支援\")","v":"支援不要"},{"$f":"IF($D6=\"\",\"\",\"　\"&SUBSTITUTE(IF(ASC(MID($D6,1,1))=\" \",MID($D6,2,300),$D6),CHAR(10),\"\"))","v":""},{"$f":"LEN($N498)","v":0},{"$f":"IF(OR(MID($N498,40,1)=\"、\",MID($N498,40,1)=\"。\"),40,IF(LEN($N498)>39,39,LEN($N498)))","v":0},{"$f":"LEN(MID($N498,SUM($P498:P498)+1,IF(AND(($O498-SUM($P498:P498))>39,OR(MID($G498,SUM($P498:P498)+40,1)=\"、\",MID($G498,SUM($P498:P498)+40,1)=\"。\")),40,39)))","v":0},{"$f":"LEN(MID($N498,SUM($P498:Q498)+1,IF(AND(($O498-SUM($P498:Q498))>39,OR(MID($G498,SUM($P498:Q498)+40,1)=\"、\",MID($G498,SUM($P498:Q498)+40,1)=\"。\")),40,39)))","v":0},{"$f":"LEN(MID($N498,SUM($P498:R498)+1,IF(AND(($O498-SUM($P498:R498))>39,OR(MID($G498,SUM($P498:R498)+40,1)=\"、\",MID($G498,SUM($P498:R498)+40,1)=\"。\")),40,39)))","v":0},{"$f":"LEN(MID($N498,SUM($P498:S498)+1,IF(AND(($O498-SUM($P498:S498))>39,OR(MID($G498,SUM($P498:S498)+40,1)=\"、\",MID($G498,SUM($P498:S498)+40,1)=\"。\")),40,39)))","v":0},{"$f":"LEN(MID($N498,SUM($P498:T498)+1,IF(AND(($O498-SUM($P498:T498))>39,OR(MID($G498,SUM($P498:T498)+40,1)=\"、\",MID($G498,SUM($P498:T498)+40,1)=\"。\")),40,39)))","v":0}]
[null,null,null,null,null,null,null,"１－２ 起き上がり","起き上がり",1,{"$f":"VLOOKUP(DBCS(J499),調査票入力!$B$6:$C$9,2,0)","v":"支援が不要"},"","支援不要",{"$f":"IF($D12=\"\",\"\",\"　\"&SUBSTITUTE(IF(ASC(MID($D12,1,1))=\" \",MID($D12,2,300),$D12),CHAR(10),\"\"))","v":""},{"$f":"LEN($N499)","v":0},{"$f":"IF(OR(MID($N499,40,1)=\"、\",MID($N499,40,1)=\"。\"),40,IF(LEN($N499)>39,39,LEN($N499)))","v":0},{"$f":"LEN(MID($N499,SUM($P499:P499)+1,IF(AND(($O499-SUM($P499:P499))>39,OR(MID($G499,SUM($P499:P499)+40,1)=\"、\",MID($G499,SUM($P499:P499)+40,1)=\"。\")),40,39)))","v":0},{"$f":"LEN(MID($N499,SUM($P499:Q499)+1,IF(AND(($O499-SUM($P499:Q499))>39,OR(MID($G499,SUM($P499:Q499)+40,1)=\"、\",MID($G499,SUM($P499:Q499)+40,1)=\"。\")),40,39)))","v":0},{"$f":"LEN(MID($N499,SUM($P499:R499)+1,IF(AND(($O499-SUM($P499:R499))>39,OR(MID($G499,SUM($P499:R499)+40,1)=\"、\",MID($G499,SUM($P499:R499)+40,1)=\"。\")),40,39)))","v":0},{"$f":"LEN(MID($N499,SUM($P499:S499)+1,IF(AND(($O499-SUM($P499:S499))>39,OR(MID($G499,SUM($P499:S499)+40,1)=\"、\",MID($G499,SUM($P499:S499)+40,1)=\"。\")),40,39)))","v":0},{"$f":"LEN(MID($N499,SUM($P499:T499)+1,IF(AND(($O499-SUM($P499:T499))>39,OR(MID($G499,SUM($P499:T499)+40,1)=\"、\",MID($G499,SUM($P499:T499)+40,1)=\"。\")),40,39)))","v":0}]
[null,null,null,null,null,null,null,"１－３ 座位保持","座位保持",1,{"$f":"VLOOKUP(DBCS(J500),調査票入力!$B$6:$C$9,2,0)","v":"支援が不要"},"","支援不要",{"$f":"IF($D18=\"\",\"\",\"　\"&SUBSTITUTE(IF(ASC(MID($D18,1,1))=\" \",MID($D18,2,300),$D18),CHAR(10),\"\"))","v":""},0,0,{"$f":"LEN(MID($N500,SUM($P500:P500)+1,IF(AND(($O500-SUM($P500:P500))>39,OR(MID($G500,SUM($P500:P500)+40,1)=\"、\",MID($G500,SUM($P500:P500)+40,1)=\"。\")),40,39)))","v":0},{"$f":"LEN(MID($N500,SUM($P500:Q500)+1,IF(AND(($O500-SUM($P500:Q500))>39,OR(MID($G500,SUM($P500:Q500)+40,1)=\"、\",MID($G500,SUM($P500:Q500)+40,1)=\"。\")),40,39)))","v":0},{"$f":"LEN(MID($N500,SUM($P500:R500)+1,IF(AND(($O500-SUM($P500:R500))>39,OR(MID($G500,SUM($P500:R500)+40,1)=\"、\",MID($G500,SUM($P500:R500)+40,1)=\"。\")),40,39)))","v":0},{"$f":"LEN(MID($N500,SUM($P500:S500)+1,IF(AND(($O500-SUM($P500:S500))>39,OR(MID($G500,SUM($P500:S500)+40,1)=\"、\",MID($G500,SUM($P500:S500)+40,1)=\"。\")),40,39)))","v":0},{"$f":"LEN(MID($N500,SUM($P500:T500)+1,IF(AND(($O500-SUM($P500:T500))>39,OR(MID($G500,SUM($P500:T500)+40,1)=\"、\",MID($G500,SUM($P500:T500)+40,1)=\"。\")),40,39)))","v":0}]
[null,null,null,null,null,null,null,"１－４ 移乗","移乗",1,{"$f":"VLOOKUP(DBCS(J501),調査票入力!$B$6:$C$9,2,0)","v":"支援が不要"},"","支援不要",{"$f":"IF($D24=\"\",\"\",\"　\"&SUBSTITUTE(IF(ASC(MID($D24,1,1))=\" \",MID($D24,2,300),$D24),CHAR(10),\"\"))","v":""},0,0,{"$f":"LEN(MID($N501,SUM($P501:P501)+1,IF(AND(($O501-SUM($P501:P501))>39,OR(MID($G501,SUM($P501:P501)+40,1)=\"、\",MID($G501,SUM($P501:P501)+40,1)=\"。\")),40,39)))","v":0},{"$f":"LEN(MID($N501,SUM($P501:Q501)+1,IF(AND(($O501-SUM($P501:Q501))>39,OR(MID($G501,SUM($P501:Q501)+40,1)=\"、\",MID($G501,SUM($P501:Q501)+40,1)=\"。\")),40,39)))","v":0},{"$f":"LEN(MID($N501,SUM($P501:R501)+1,IF(AND(($O501-SUM($P501:R501))>39,OR(MID($G501,SUM($P501:R501)+40,1)=\"、\",MID($G501,SUM($P501:R501)+40,1)=\"。\")),40,39)))","v":0},{"$f":"LEN(MID($N501,SUM($P501:S501)+1,IF(AND(($O501-SUM($P501:S501))>39,OR(MID($G501,SUM($P501:S501)+40,1)=\"、\",MID($G501,SUM($P501:S501)+40,1)=\"。\")),40,39)))","v":0},{"$f":"LEN(MID($N501,SUM($P501:T501)+1,IF(AND(($O501-SUM($P501:T501))>39,OR(MID($G501,SUM($P501:T501)+40,1)=\"、\",MID($G501,SUM($P501:T501)+40,1)=\"。\")),40,39)))","v":0}]
[null,null,null,null,null,null,null,"１－５ 立ち上がり","立ち上がり",1,{"$f":"VLOOKUP(DBCS(J502),調査票入力!$B$6:$C$9,2,0)","v":"支援が不要"},"","支援不要",{"$f":"IF($D30=\"\",\"\",\"　\"&SUBSTITUTE(IF(ASC(MID($D30,1,1))=\" \",MID($D30,2,300),$D30),CHAR(10),\"\"))","v":""},0,0,{"$f":"LEN(MID($N502,SUM($P502:P502)+1,IF(AND(($O502-SUM($P502:P502))>39,OR(MID($G502,SUM($P502:P502)+40,1)=\"、\",MID($G502,SUM($P502:P502)+40,1)=\"。\")),40,39)))","v":0},{"$f":"LEN(MID($N502,SUM($P502:Q502)+1,IF(AND(($O502-SUM($P502:Q502))>39,OR(MID($G502,SUM($P502:Q502)+40,1)=\"、\",MID($G502,SUM($P502:Q502)+40,1)=\"。\")),40,39)))","v":0},{"$f":"LEN(MID($N502,SUM($P502:R502)+1,IF(AND(($O502-SUM($P502:R502))>39,OR(MID($G502,SUM($P502:R502)+40,1)=\"、\",MID($G502,SUM($P502:R502)+40,1)=\"。\")),40,39)))","v":0},{"$f":"LEN(MID($N502,SUM($P502:S502)+1,IF(AND(($O502-SUM($P502:S502))>39,OR(MID($G502,SUM($P502:S502)+40,1)=\"、\",MID($G502,SUM($P502:S502)+40,1)=\"。\")),40,39)))","v":0},{"$f":"LEN(MID($N502,SUM($P502:T502)+1,IF(AND(($O502-SUM($P502:T502))>39,OR(MID($G502,SUM($P502:T502)+40,1)=\"、\",MID($G502,SUM($P502:T502)+40,1)=\"。\")),40,39)))","v":0}]
[null,null,null,null,null,null,null,"１－６ 両足での立位保持","両足での立位保持",1,{"$f":"VLOOKUP(DBCS(J503),調査票入力!$B$6:$C$9,2,0)","v":"支援が不要"},"","支援不要",{"$f":"IF($D36=\"\",\"\",\"　\"&SUBSTITUTE(IF(ASC(MID($D36,1,1))=\" \",MID($D36,2,300),$D36),CHAR(10),\"\"))","v":""},0,0,{"$f":"LEN(MID($N503,SUM($P503:P503)+1,IF(AND(($O503-SUM($P503:P503))>39,OR(MID($G503,SUM($P503:P503)+40,1)=\"、\",MID($G503,SUM($P503:P503)+40,1)=\"。\")),40,39)))","v":0},{"$f":"LEN(MID($N503,SUM($P503:Q503)+1,IF(AND(($O503-SUM($P503:Q503))>39,OR(MID($G503,SUM($P503:Q503)+40,1)=\"、\",MID($G503,SUM($P503:Q503)+40,1)=\"。\")),40,39)))","v":0},{"$f":"LEN(MID($N503,SUM($P503:R503)+1,IF(AND(($O503-SUM($P503:R503))>39,OR(MID($G503,SUM($P503:R503)+40,1)=\"、\",MID($G503,SUM($P503:R503)+40,1)=\"。\")),40,39)))","v":0},{"$f":"LEN(MID($N503,SUM($P503:S503)+1,IF(AND(($O503-SUM($P503:S503))>39,OR(MID($G503,SUM($P503:S503)+40,1)=\"、\",MID($G503,SUM($P503:S503)+40,1)=\"。\")),40,39)))","v":0},{"$f":"LEN(MID($N503,SUM($P503:T503)+1,IF(AND(($O503-SUM($P503:T503))>39,OR(MID($G503,SUM($P503:T503)+40,1)=\"、\",MID($G503,SUM($P503:T503)+40,1)=\"。\")),40,39)))","v":0}]
[null,null,null,null,null,null,null,"１－７ 片足での立位保持","片足での立位保持",1,{"$f":"VLOOKUP(DBCS(J504),調査票入力!$B$6:$C$9,2,0)","v":"支援が不要"},"","支援不要",{"$f":"IF($D42=\"\",\"\",\"　\"&SUBSTITUTE(IF(ASC(MID($D42,1,1))=\" \",MID($D42,2,300),$D42),CHAR(10),\"\"))","v":""},0,0,{"$f":"LEN(MID($N504,SUM($P504:P504)+1,IF(AND(($O504-SUM($P504:P504))>39,OR(MID($G504,SUM($P504:P504)+40,1)=\"、\",MID($G504,SUM($P504:P504)+40,1)=\"。\")),40,39)))","v":0},{"$f":"LEN(MID($N504,SUM($P504:Q504)+1,IF(AND(($O504-SUM($P504:Q504))>39,OR(MID($G504,SUM($P504:Q504)+40,1)=\"、\",MID($G504,SUM($P504:Q504)+40,1)=\"。\")),40,39)))","v":0},{"$f":"LEN(MID($N504,SUM($P504:R504)+1,IF(AND(($O504-SUM($P504:R504))>39,OR(MID($G504,SUM($P504:R504)+40,1)=\"、\",MID($G504,SUM($P504:R504)+40,1)=\"。\")),40,39)))","v":0},{"$f":"LEN(MID($N504,SUM($P504:S504)+1,IF(AND(($O504-SUM($P504:S504))>39,OR(MID($G504,SUM($P504:S504)+40,1)=\"、\",MID($G504,SUM($P504:S504)+40,1)=\"。\")),40,39)))","v":0},{"$f":"LEN(MID($N504,SUM($P504:T504)+1,IF(AND(($O504-SUM($P504:T504))>39,OR(MID($G504,SUM($P504:T504)+40,1)=\"、\",MID($G504,SUM($P504:T504)+40,1)=\"。\")),40,39)))","v":0}]
[null,null,null,null,null,null,null,"１－８ 歩行","歩行",1,{"$f":"VLOOKUP(DBCS(J505),調査票入力!$B$6:$C$9,2,0)","v":"支援が不要"},"","支援不要",{"$f":"IF($D48=\"\",\"\",\"　\"&SUBSTITUTE(IF(ASC(MID($D48,1,1))=\" \",MID($D48,2,300),$D48),CHAR(10),\"\"))","v":""},0,0,{"$f":"LEN(MID($N505,SUM($P505:P505)+1,IF(AND(($O505-SUM($P505:P505))>39,OR(MID($G505,SUM($P505:P505)+40,1)=\"、\",MID($G505,SUM($P505:P505)+40,1)=\"。\")),40,39)))","v":0},{"$f":"LEN(MID($N505,SUM($P505:Q505)+1,IF(AND(($O505-SUM($P505:Q505))>39,OR(MID($G505,SUM($P505:Q505)+40,1)=\"、\",MID($G505,SUM($P505:Q505)+40,1)=\"。\")),40,39)))","v":0},{"$f":"LEN(MID($N505,SUM($P505:R505)+1,IF(AND(($O505-SUM($P505:R505))>39,OR(MID($G505,SUM($P505:R505)+40,1)=\"、\",MID($G505,SUM($P505:R505)+40,1)=\"。\")),40,39)))","v":0},{"$f":"LEN(MID($N505,SUM($P505:S505)+1,IF(AND(($O505-SUM($P505:S505))>39,OR(MID($G505,SUM($P505:S505)+40,1)=\"、\",MID($G505,SUM($P505:S505)+40,1)=\"。\")),40,39)))","v":0},{"$f":"LEN(MID($N505,SUM($P505:T505)+1,IF(AND(($O505-SUM($P505:T505))>39,OR(MID($G505,SUM($P505:T505)+40,1)=\"、\",MID($G505,SUM($P505:T505)+40,1)=\"。\")),40,39)))","v":0}]
[null,null,null,null,null,null,null,"１－９ 移動","移動",1,{"$f":"VLOOKUP(DBCS(J506),調査票入力!$B$6:$C$9,2,0)","v":"支援が不要"},"","支援不要",{"$f":"IF($D54=\"\",\"\",\"　\"&SUBSTITUTE(IF(ASC(MID($D54,1,1))=\" \",MID($D54,2,300),$D54),CHAR(10),\"\"))","v":""},0,0,{"$f":"LEN(MID($N506,SUM($P506:P506)+1,IF(AND(($O506-SUM($P506:P506))>39,OR(MID($G506,SUM($P506:P506)+40,1)=\"、\",MID($G506,SUM($P506:P506)+40,1)=\"。\")),40,39)))","v":0},{"$f":"LEN(MID($N506,SUM($P506:Q506)+1,IF(AND(($O506-SUM($P506:Q506))>39,OR(MID($G506,SUM($P506:Q506)+40,1)=\"、\",MID($G506,SUM($P506:Q506)+40,1)=\"。\")),40,39)))","v":0},{"$f":"LEN(MID($N506,SUM($P506:R506)+1,IF(AND(($O506-SUM($P506:R506))>39,OR(MID($G506,SUM($P506:R506)+40,1)=\"、\",MID($G506,SUM($P506:R506)+40,1)=\"。\")),40,39)))","v":0},{"$f":"LEN(MID($N506,SUM($P506:S506)+1,IF(AND(($O506-SUM($P506:S506))>39,OR(MID($G506,SUM($P506:S506)+40,1)=\"、\",MID($G506,SUM($P506:S506)+40,1)=\"。\")),40,39)))","v":0},{"$f":"LEN(MID($N506,SUM($P506:T506)+1,IF(AND(($O506-SUM($P506:T506))>39,OR(MID($G506,SUM($P506:T506)+40,1)=\"、\",MID($G506,SUM($P506:T506)+40,1)=\"。\")),40,39)))","v":0}]
[null,null,null,null,null,null,null,"１－10 衣服の着脱","衣服の着脱",1,{"$f":"VLOOKUP(DBCS(J507),調査票入力!B6:C9,2,0)","v":"支援が不要"},"","支援不要",{"$f":"IF($D60=\"\",\"\",\"　\"&SUBSTITUTE(IF(ASC(MID($D60,1,1))=\" \",MID($D60,2,300),$D60),CHAR(10),\"\"))","v":""},0,0,{"$f":"LEN(MID($N507,SUM($P507:P507)+1,IF(AND(($O507-SUM($P507:P507))>39,OR(MID($G507,SUM($P507:P507)+40,1)=\"、\",MID($G507,SUM($P507:P507)+40,1)=\"。\")),40,39)))","v":0},{"$f":"LEN(MID($N507,SUM($P507:Q507)+1,IF(AND(($O507-SUM($P507:Q507))>39,OR(MID($G507,SUM($P507:Q507)+40,1)=\"、\",MID($G507,SUM($P507:Q507)+40,1)=\"。\")),40,39)))","v":0},{"$f":"LEN(MID($N507,SUM($P507:R507)+1,IF(AND(($O507-SUM($P507:R507))>39,OR(MID($G507,SUM($P507:R507)+40,1)=\"、\",MID($G507,SUM($P507:R507)+40,1)=\"。\")),40,39)))","v":0},{"$f":"LEN(MID($N507,SUM($P507:S507)+1,IF(AND(($O507-SUM($P507:S507))>39,OR(MID($G507,SUM($P507:S507)+40,1)=\"、\",MID($G507,SUM($P507:S507)+40,1)=\"。\")),40,39)))","v":0},{"$f":"LEN(MID($N507,SUM($P507:T507)+1,IF(AND(($O507-SUM($P507:T507))>39,OR(MID($G507,SUM($P507:T507)+40,1)=\"、\",MID($G507,SUM($P507:T507)+40,1)=\"。\")),40,39)))","v":0}]
[null,null,null,null,null,null,null,"１－11 じょくそう","じょくそう",1,{"$f":"VLOOKUP(DBCS(J508),調査票入力!B66:C67,2,0)","v":"ない"},{"$f":"CHOOSE(J508,\"\",\"ある\")","v":""},{"$f":"CHOOSE(J508,\"ない\",\"ある\")","v":"ない"},{"$f":"IF($D66=\"\",\"\",\"　\"&SUBSTITUTE(IF(ASC(MID($D66,1,1))=\" \",MID($D66,2,300),$D66),CHAR(10),\"\"))","v":""},0,0,{"$f":"LEN(MID($N508,SUM($P508:P508)+1,IF(AND(($O508-SUM($P508:P508))>39,OR(MID($G508,SUM($P508:P508)+40,1)=\"、\",MID($G508,SUM($P508:P508)+40,1)=\"。\")),40,39)))","v":0},{"$f":"LEN(MID($N508,SUM($P508:Q508)+1,IF(AND(($O508-SUM($P508:Q508))>39,OR(MID($G508,SUM($P508:Q508)+40,1)=\"、\",MID($G508,SUM($P508:Q508)+40,1)=\"。\")),40,39)))","v":0},{"$f":"LEN(MID($N508,SUM($P508:R508)+1,IF(AND(($O508-SUM($P508:R508))>39,OR(MID($G508,SUM($P508:R508)+40,1)=\"、\",MID($G508,SUM($P508:R508)+40,1)=\"。\")),40,39)))","v":0},{"$f":"LEN(MID($N508,SUM($P508:S508)+1,IF(AND(($O508-SUM($P508:S508))>39,OR(MID($G508,SUM($P508:S508)+40,1)=\"、\",MID($G508,SUM($P508:S508)+40,1)=\"。\")),40,39)))","v":0},{"$f":"LEN(MID($N508,SUM($P508:T508)+1,IF(AND(($O508-SUM($P508:T508))>39,OR(MID($G508,SUM($P508:T508)+40,1)=\"、\",MID($G508,SUM($P508:T508)+40,1)=\"。\")),40,39)))","v":0}]
[null,null,null,null,null,null,null,"１－12 えん下","えん下",1,{"$f":"VLOOKUP(DBCS(J509),調査票入力!B70:C72,2,0)","v":"支援が不要"},{"$f":"CHOOSE(J509,\"\",\"見守り等\",\"全面支援\")","v":""},{"$f":"CHOOSE(J509,\"支援不要\",\"見守り等\",\"全面支援\")","v":"支援不要"},{"$f":"IF($D70=\"\",\"\",\"　\"&SUBSTITUTE(IF(ASC(MID($D70,1,1))=\" \",MID($D70,2,300),$D70),CHAR(10),\"\"))","v":""},0,0,{"$f":"LEN(MID($N509,SUM($P509:P509)+1,IF(AND(($O509-SUM($P509:P509))>39,OR(MID($G509,SUM($P509:P509)+40,1)=\"、\",MID($G509,SUM($P509:P509)+40,1)=\"。\")),40,39)))","v":0},{"$f":"LEN(MID($N509,SUM($P509:Q509)+1,IF(AND(($O509-SUM($P509:Q509))>39,OR(MID($G509,SUM($P509:Q509)+40,1)=\"、\",MID($G509,SUM($P509:Q509)+40,1)=\"。\")),40,39)))","v":0},{"$f":"LEN(MID($N509,SUM($P509:R509)+1,IF(AND(($O509-SUM($P509:R509))>39,OR(MID($G509,SUM($P509:R509)+40,1)=\"、\",MID($G509,SUM($P509:R509)+40,1)=\"。\")),40,39)))","v":0},{"$f":"LEN(MID($N509,SUM($P509:S509)+1,IF(AND(($O509-SUM($P509:S509))>39,OR(MID($G509,SUM($P509:S509)+40,1)=\"、\",MID($G509,SUM($P509:S509)+40,1)=\"。\")),40,39)))","v":0},{"$f":"LEN(MID($N509,SUM($P509:T509)+1,IF(AND(($O509-SUM($P509:T509))>39,OR(MID($G509,SUM($P509:T509)+40,1)=\"、\",MID($G509,SUM($P509:T509)+40,1)=\"。\")),40,39)))","v":0}]
[null,null,null,null,null,null,null,"２－１ 食事","食事",1,{"$f":"VLOOKUP(DBCS(J510),調査票入力!B77:C79,2,0)","v":"支援が不要"},{"$f":"CHOOSE(J510,\"\",\"部分支援\",\"全面支援\")","v":""},{"$f":"CHOOSE(J510,\"支援不要\",\"部分支援\",\"全面支援\")","v":"支援不要"},{"$f":"IF($D77=\"\",\"\",\"　\"&SUBSTITUTE(IF(ASC(MID($D77,1,1))=\" \",MID($D77,2,300),$D77),CHAR(10),\"\"))","v":""},0,0,{"$f":"LEN(MID($N510,SUM($P510:P510)+1,IF(AND(($O510-SUM($P510:P510))>39,OR(MID($G510,SUM($P510:P510)+40,1)=\"、\",MID($G510,SUM($P510:P510)+40,1)=\"。\")),40,39)))","v":0},{"$f":"LEN(MID($N510,SUM($P510:Q510)+1,IF(AND(($O510-SUM($P510:Q510))>39,OR(MID($G510,SUM($P510:Q510)+40,1)=\"、\",MID($G510,SUM($P510:Q510)+40,1)=\"。\")),40,39)))","v":0},{"$f":"LEN(MID($N510,SUM($P510:R510)+1,IF(AND(($O510-SUM($P510:R510))>39,OR(MID($G510,SUM($P510:R510)+40,1)=\"、\",MID($G510,SUM($P510:R510)+40,1)=\"。\")),40,39)))","v":0},{"$f":"LEN(MID($N510,SUM($P510:S510)+1,IF(AND(($O510-SUM($P510:S510))>39,OR(MID($G510,SUM($P510:S510)+40,1)=\"、\",MID($G510,SUM($P510:S510)+40,1)=\"。\")),40,39)))","v":0},{"$f":"LEN(MID($N510,SUM($P510:T510)+1,IF(AND(($O510-SUM($P510:T510))>39,OR(MID($G510,SUM($P510:T510)+40,1)=\"、\",MID($G510,SUM($P510:T510)+40,1)=\"。\")),40,39)))","v":0}]
[null,null,null,null,null,null,null,"２－２ 口腔清潔","口腔清潔",1,{"$f":"VLOOKUP(DBCS(J511),調査票入力!B82:C84,2,0)","v":"支援が不要"},"","支援不要",{"$f":"IF($D82=\"\",\"\",\"　\"&SUBSTITUTE(IF(ASC(MID($D82,1,1))=\" \",MID($D82,2,300),$D82),CHAR(10),\"\"))","v":""},0,0,{"$f":"LEN(MID($N511,SUM($P511:P511)+1,IF(AND(($O511-SUM($P511:P511))>39,OR(MID($G511,SUM($P511:P511)+40,1)=\"、\",MID($G511,SUM($P511:P511)+40,1)=\"。\")),40,39)))","v":0},{"$f":"LEN(MID($N511,SUM($P511:Q511)+1,IF(AND(($O511-SUM($P511:Q511))>39,OR(MID($G511,SUM($P511:Q511)+40,1)=\"、\",MID($G511,SUM($P511:Q511)+40,1)=\"。\")),40,39)))","v":0},{"$f":"LEN(MID($N511,SUM($P511:R511)+1,IF(AND(($O511-SUM($P511:R511))>39,OR(MID($G511,SUM($P511:R511)+40,1)=\"、\",MID($G511,SUM($P511:R511)+40,1)=\"。\")),40,39)))","v":0},{"$f":"LEN(MID($N511,SUM($P511:S511)+1,IF(AND(($O511-SUM($P511:S511))>39,OR(MID($G511,SUM($P511:S511)+40,1)=\"、\",MID($G511,SUM($P511:S511)+40,1)=\"。\")),40,39)))","v":0},{"$f":"LEN(MID($N511,SUM($P511:T511)+1,IF(AND(($O511-SUM($P511:T511))>39,OR(MID($G511,SUM($P511:T511)+40,1)=\"、\",MID($G511,SUM($P511:T511)+40,1)=\"。\")),40,39)))","v":0}]
[null,null,null,null,null,null,null,"２－３ 入浴","入浴",1,{"$f":"VLOOKUP(DBCS(J512),調査票入力!B87:C89,2,0)","v":"支援が不要"},"","支援不要",{"$f":"IF($D87=\"\",\"\",\"　\"&SUBSTITUTE(IF(ASC(MID($D87,1,1))=\" \",MID($D87,2,300),$D87),CHAR(10),\"\"))","v":""},0,0,{"$f":"LEN(MID($N512,SUM($P512:P512)+1,IF(AND(($O512-SUM($P512:P512))>39,OR(MID($G512,SUM($P512:P512)+40,1)=\"、\",MID($G512,SUM($P512:P512)+40,1)=\"。\")),40,39)))","v":0},{"$f":"LEN(MID($N512,SUM($P512:Q512)+1,IF(AND(($O512-SUM($P512:Q512))>39,OR(MID($G512,SUM($P512:Q512)+40,1)=\"、\",MID($G512,SUM($P512:Q512)+40,1)=\"。\")),40,39)))","v":0},{"$f":"LEN(MID($N512,SUM($P512:R512)+1,IF(AND(($O512-SUM($P512:R512))>39,OR(MID($G512,SUM($P512:R512)+40,1)=\"、\",MID($G512,SUM($P512:R512)+40,1)=\"。\")),40,39)))","v":0},{"$f":"LEN(MID($N512,SUM($P512:S512)+1,IF(AND(($O512-SUM($P512:S512))>39,OR(MID($G512,SUM($P512:S512)+40,1)=\"、\",MID($G512,SUM($P512:S512)+40,1)=\"。\")),40,39)))","v":0},{"$f":"LEN(MID($N512,SUM($P512:T512)+1,IF(AND(($O512-SUM($P512:T512))>39,OR(MID($G512,SUM($P512:T512)+40,1)=\"、\",MID($G512,SUM($P512:T512)+40,1)=\"。\")),40,39)))","v":0}]
[null,null,null,null,null,null,null,"２－４ 排尿","排尿",1,{"$f":"VLOOKUP(DBCS(J513),調査票入力!B92:C94,2,0)","v":"支援が不要"},"","支援不要",{"$f":"IF($D92=\"\",\"\",\"　\"&SUBSTITUTE(IF(ASC(MID($D92,1,1))=\" \",MID($D92,2,300),$D92),CHAR(10),\"\"))","v":""},0,0,{"$f":"LEN(MID($N513,SUM($P513:P513)+1,IF(AND(($O513-SUM($P513:P513))>39,OR(MID($G513,SUM($P513:P513)+40,1)=\"、\",MID($G513,SUM($P513:P513)+40,1)=\"。\")),40,39)))","v":0},{"$f":"LEN(MID($N513,SUM($P513:Q513)+1,IF(AND(($O513-SUM($P513:Q513))>39,OR(MID($G513,SUM($P513:Q513)+40,1)=\"、\",MID($G513,SUM($P513:Q513)+40,1)=\"。\")),40,39)))","v":0},{"$f":"LEN(MID($N513,SUM($P513:R513)+1,IF(AND(($O513-SUM($P513:R513))>39,OR(MID($G513,SUM($P513:R513)+40,1)=\"、\",MID($G513,SUM($P513:R513)+40,1)=\"。\")),40,39)))","v":0},{"$f":"LEN(MID($N513,SUM($P513:S513)+1,IF(AND(($O513-SUM($P513:S513))>39,OR(MID($G513,SUM($P513:S513)+40,1)=\"、\",MID($G513,SUM($P513:S513)+40,1)=\"。\")),40,39)))","v":0},{"$f":"LEN(MID($N513,SUM($P513:T513)+1,IF(AND(($O513-SUM($P513:T513))>39,OR(MID($G513,SUM($P513:T513)+40,1)=\"、\",MID($G513,SUM($P513:T513)+40,1)=\"。\")),40,39)))","v":0}]
[null,null,null,null,null,null,null,"２－５ 排便","排便",1,{"$f":"VLOOKUP(DBCS(J514),調査票入力!B97:C99,2,0)","v":"支援が不要"},"","支援不要",{"$f":"IF($D97=\"\",\"\",\"　\"&SUBSTITUTE(IF(ASC(MID($D97,1,1))=\" \",MID($D97,2,300),$D97),CHAR(10),\"\"))","v":""},0,0,{"$f":"LEN(MID($N514,SUM($P514:P514)+1,IF(AND(($O514-SUM($P514:P514))>39,OR(MID($G514,SUM($P514:P514)+40,1)=\"、\",MID($G514,SUM($P514:P514)+40,1)=\"。\")),40,39)))","v":0},{"$f":"LEN(MID($N514,SUM($P514:Q514)+1,IF(AND(($O514-SUM($P514:Q514))>39,OR(MID($G514,SUM($P514:Q514)+40,1)=\"、\",MID($G514,SUM($P514:Q514)+40,1)=\"。\")),40,39)))","v":0},{"$f":"LEN(MID($N514,SUM($P514:R514)+1,IF(AND(($O514-SUM($P514:R514))>39,OR(MID($G514,SUM($P514:R514)+40,1)=\"、\",MID($G514,SUM($P514:R514)+40,1)=\"。\")),40,39)))","v":0},{"$f":"LEN(MID($N514,SUM($P514:S514)+1,IF(AND(($O514-SUM($P514:S514))>39,OR(MID($G514,SUM($P514:S514)+40,1)=\"、\",MID($G514,SUM($P514:S514)+40,1)=\"。\")),40,39)))","v":0},{"$f":"LEN(MID($N514,SUM($P514:T514)+1,IF(AND(($O514-SUM($P514:T514))>39,OR(MID($G514,SUM($P514:T514)+40,1)=\"、\",MID($G514,SUM($P514:T514)+40,1)=\"。\")),40,39)))","v":0}]
[null,null,null,null,null,null,null,"２－６ 健康・栄養管理","健康・栄養管理",1,{"$f":"VLOOKUP(DBCS(J515),調査票入力!B102:C104,2,0)","v":"支援が不要"},"","支援不要",{"$f":"IF($D102=\"\",\"\",\"　\"&SUBSTITUTE(IF(ASC(MID($D102,1,1))=\" \",MID($D102,2,300),$D102),CHAR(10),\"\"))","v":""},0,0,{"$f":"LEN(MID($N515,SUM($P515:P515)+1,IF(AND(($O515-SUM($P515:P515))>39,OR(MID($G515,SUM($P515:P515)+40,1)=\"、\",MID($G515,SUM($P515:P515)+40,1)=\"。\")),40,39)))","v":0},{"$f":"LEN(MID($N515,SUM($P515:Q515)+1,IF(AND(($O515-SUM($P515:Q515))>39,OR(MID($G515,SUM($P515:Q515)+40,1)=\"、\",MID($G515,SUM($P515:Q515)+40,1)=\"。\")),40,39)))","v":0},{"$f":"LEN(MID($N515,SUM($P515:R515)+1,IF(AND(($O515-SUM($P515:R515))>39,OR(MID($G515,SUM($P515:R515)+40,1)=\"、\",MID($G515,SUM($P515:R515)+40,1)=\"。\")),40,39)))","v":0},{"$f":"LEN(MID($N515,SUM($P515:S515)+1,IF(AND(($O515-SUM($P515:S515))>39,OR(MID($G515,SUM($P515:S515)+40,1)=\"、\",MID($G515,SUM($P515:S515)+40,1)=\"。\")),40,39)))","v":0},{"$f":"LEN(MID($N515,SUM($P515:T515)+1,IF(AND(($O515-SUM($P515:T515))>39,OR(MID($G515,SUM($P515:T515)+40,1)=\"、\",MID($G515,SUM($P515:T515)+40,1)=\"。\")),40,39)))","v":0}]
[null,null,null,null,null,null,null,"２－７ 薬の管理","薬の管理",1,{"$f":"VLOOKUP(DBCS(J516),調査票入力!B107:C109,2,0)","v":"支援が不要"},"","支援不要",{"$f":"IF($D107=\"\",\"\",\"　\"&SUBSTITUTE(IF(ASC(MID($D107,1,1))=\" \",MID($D107,2,300),$D107),CHAR(10),\"\"))","v":""},0,0,{"$f":"LEN(MID($N516,SUM($P516:P516)+1,IF(AND(($O516-SUM($P516:P516))>39,OR(MID($G516,SUM($P516:P516)+40,1)=\"、\",MID($G516,SUM($P516:P516)+40,1)=\"。\")),40,39)))","v":0},{"$f":"LEN(MID($N516,SUM($P516:Q516)+1,IF(AND(($O516-SUM($P516:Q516))>39,OR(MID($G516,SUM($P516:Q516)+40,1)=\"、\",MID($G516,SUM($P516:Q516)+40,1)=\"。\")),40,39)))","v":0},{"$f":"LEN(MID($N516,SUM($P516:R516)+1,IF(AND(($O516-SUM($P516:R516))>39,OR(MID($G516,SUM($P516:R516)+40,1)=\"、\",MID($G516,SUM($P516:R516)+40,1)=\"。\")),40,39)))","v":0},{"$f":"LEN(MID($N516,SUM($P516:S516)+1,IF(AND(($O516-SUM($P516:S516))>39,OR(MID($G516,SUM($P516:S516)+40,1)=\"、\",MID($G516,SUM($P516:S516)+40,1)=\"。\")),40,39)))","v":0},{"$f":"LEN(MID($N516,SUM($P516:T516)+1,IF(AND(($O516-SUM($P516:T516))>39,OR(MID($G516,SUM($P516:T516)+40,1)=\"、\",MID($G516,SUM($P516:T516)+40,1)=\"。\")),40,39)))","v":0}]
[null,null,null,null,null,null,null,"２－８ 金銭の管理","金銭の管理",1,{"$f":"VLOOKUP(DBCS(J517),調査票入力!B112:C114,2,0)","v":"支援が不要"},"","支援不要",{"$f":"IF($D112=\"\",\"\",\"　\"&SUBSTITUTE(IF(ASC(MID($D112,1,1))=\" \",MID($D112,2,300),$D112),CHAR(10),\"\"))","v":""},0,0,{"$f":"LEN(MID($N517,SUM($P517:P517)+1,IF(AND(($O517-SUM($P517:P517))>39,OR(MID($G517,SUM($P517:P517)+40,1)=\"、\",MID($G517,SUM($P517:P517)+40,1)=\"。\")),40,39)))","v":0},{"$f":"LEN(MID($N517,SUM($P517:Q517)+1,IF(AND(($O517-SUM($P517:Q517))>39,OR(MID($G517,SUM($P517:Q517)+40,1)=\"、\",MID($G517,SUM($P517:Q517)+40,1)=\"。\")),40,39)))","v":0},{"$f":"LEN(MID($N517,SUM($P517:R517)+1,IF(AND(($O517-SUM($P517:R517))>39,OR(MID($G517,SUM($P517:R517)+40,1)=\"、\",MID($G517,SUM($P517:R517)+40,1)=\"。\")),40,39)))","v":0},{"$f":"LEN(MID($N517,SUM($P517:S517)+1,IF(AND(($O517-SUM($P517:S517))>39,OR(MID($G517,SUM($P517:S517)+40,1)=\"、\",MID($G517,SUM($P517:S517)+40,1)=\"。\")),40,39)))","v":0},{"$f":"LEN(MID($N517,SUM($P517:T517)+1,IF(AND(($O517-SUM($P517:T517))>39,OR(MID($G517,SUM($P517:T517)+40,1)=\"、\",MID($G517,SUM($P517:T517)+40,1)=\"。\")),40,39)))","v":0}]
[null,null,null,null,null,null,null,"２－９ 電話等の利用","電話等の利用",1,{"$f":"VLOOKUP(DBCS(J518),調査票入力!B117:C119,2,0)","v":"支援が不要"},"","支援不要",{"$f":"IF($D117=\"\",\"\",\"　\"&SUBSTITUTE(IF(ASC(MID($D117,1,1))=\" \",MID($D117,2,300),$D117),CHAR(10),\"\"))","v":""},0,0,{"$f":"LEN(MID($N518,SUM($P518:P518)+1,IF(AND(($O518-SUM($P518:P518))>39,OR(MID($G518,SUM($P518:P518)+40,1)=\"、\",MID($G518,SUM($P518:P518)+40,1)=\"。\")),40,39)))","v":0},{"$f":"LEN(MID($N518,SUM($P518:Q518)+1,IF(AND(($O518-SUM($P518:Q518))>39,OR(MID($G518,SUM($P518:Q518)+40,1)=\"、\",MID($G518,SUM($P518:Q518)+40,1)=\"。\")),40,39)))","v":0},{"$f":"LEN(MID($N518,SUM($P518:R518)+1,IF(AND(($O518-SUM($P518:R518))>39,OR(MID($G518,SUM($P518:R518)+40,1)=\"、\",MID($G518,SUM($P518:R518)+40,1)=\"。\")),40,39)))","v":0},{"$f":"LEN(MID($N518,SUM($P518:S518)+1,IF(AND(($O518-SUM($P518:S518))>39,OR(MID($G518,SUM($P518:S518)+40,1)=\"、\",MID($G518,SUM($P518:S518)+40,1)=\"。\")),40,39)))","v":0},{"$f":"LEN(MID($N518,SUM($P518:T518)+1,IF(AND(($O518-SUM($P518:T518))>39,OR(MID($G518,SUM($P518:T518)+40,1)=\"、\",MID($G518,SUM($P518:T518)+40,1)=\"。\")),40,39)))","v":0}]
[null,null,null,null,null,null,null,"２－10 日常の意思決定","日常の意思決定",1,{"$f":"VLOOKUP(DBCS(J519),調査票入力!B122:C124,2,0)","v":"支援が不要"},"","支援不要",{"$f":"IF($D122=\"\",\"\",\"　\"&SUBSTITUTE(IF(ASC(MID($D122,1,1))=\" \",MID($D122,2,300),$D122),CHAR(10),\"\"))","v":""},0,0,{"$f":"LEN(MID($N519,SUM($P519:P519)+1,IF(AND(($O519-SUM($P519:P519))>39,OR(MID($G519,SUM($P519:P519)+40,1)=\"、\",MID($G519,SUM($P519:P519)+40,1)=\"。\")),40,39)))","v":0},{"$f":"LEN(MID($N519,SUM($P519:Q519)+1,IF(AND(($O519-SUM($P519:Q519))>39,OR(MID($G519,SUM($P519:Q519)+40,1)=\"、\",MID($G519,SUM($P519:Q519)+40,1)=\"。\")),40,39)))","v":0},{"$f":"LEN(MID($N519,SUM($P519:R519)+1,IF(AND(($O519-SUM($P519:R519))>39,OR(MID($G519,SUM($P519:R519)+40,1)=\"、\",MID($G519,SUM($P519:R519)+40,1)=\"。\")),40,39)))","v":0},{"$f":"LEN(MID($N519,SUM($P519:S519)+1,IF(AND(($O519-SUM($P519:S519))>39,OR(MID($G519,SUM($P519:S519)+40,1)=\"、\",MID($G519,SUM($P519:S519)+40,1)=\"。\")),40,39)))","v":0},{"$f":"LEN(MID($N519,SUM($P519:T519)+1,IF(AND(($O519-SUM($P519:T519))>39,OR(MID($G519,SUM($P519:T519)+40,1)=\"、\",MID($G519,SUM($P519:T519)+40,1)=\"。\")),40,39)))","v":0}]
[null,null,null,null,null,null,null,"２－11 危険の認識","危険の認識",1,{"$f":"VLOOKUP(DBCS(J520),調査票入力!B127:C129,2,0)","v":"支援が不要"},"","支援不要",{"$f":"IF($D127=\"\",\"\",\"　\"&SUBSTITUTE(IF(ASC(MID($D127,1,1))=\" \",MID($D127,2,300),$D127),CHAR(10),\"\"))","v":""},0,0,{"$f":"LEN(MID($N520,SUM($P520:P520)+1,IF(AND(($O520-SUM($P520:P520))>39,OR(MID($G520,SUM($P520:P520)+40,1)=\"、\",MID($G520,SUM($P520:P520)+40,1)=\"。\")),40,39)))","v":0},{"$f":"LEN(MID($N520,SUM($P520:Q520)+1,IF(AND(($O520-SUM($P520:Q520))>39,OR(MID($G520,SUM($P520:Q520)+40,1)=\"、\",MID($G520,SUM($P520:Q520)+40,1)=\"。\")),40,39)))","v":0},{"$f":"LEN(MID($N520,SUM($P520:R520)+1,IF(AND(($O520-SUM($P520:R520))>39,OR(MID($G520,SUM($P520:R520)+40,1)=\"、\",MID($G520,SUM($P520:R520)+40,1)=\"。\")),40,39)))","v":0},{"$f":"LEN(MID($N520,SUM($P520:S520)+1,IF(AND(($O520-SUM($P520:S520))>39,OR(MID($G520,SUM($P520:S520)+40,1)=\"、\",MID($G520,SUM($P520:S520)+40,1)=\"。\")),40,39)))","v":0},{"$f":"LEN(MID($N520,SUM($P520:T520)+1,IF(AND(($O520-SUM($P520:T520))>39,OR(MID($G520,SUM($P520:T520)+40,1)=\"、\",MID($G520,SUM($P520:T520)+40,1)=\"。\")),40,39)))","v":0}]
[null,null,null,null,null,null,null,"２－12 調理","調理",1,{"$f":"VLOOKUP(DBCS(J521),調査票入力!B132:C134,2,0)","v":"支援が不要"},"","支援不要",{"$f":"IF($D132=\"\",\"\",\"　\"&SUBSTITUTE(IF(ASC(MID($D132,1,1))=\" \",MID($D132,2,300),$D132),CHAR(10),\"\"))","v":""},0,0,{"$f":"LEN(MID($N521,SUM($P521:P521)+1,IF(AND(($O521-SUM($P521:P521))>39,OR(MID($G521,SUM($P521:P521)+40,1)=\"、\",MID($G521,SUM($P521:P521)+40,1)=\"。\")),40,39)))","v":0},{"$f":"LEN(MID($N521,SUM($P521:Q521)+1,IF(AND(($O521-SUM($P521:Q521))>39,OR(MID($G521,SUM($P521:Q521)+40,1)=\"、\",MID($G521,SUM($P521:Q521)+40,1)=\"。\")),40,39)))","v":0},{"$f":"LEN(MID($N521,SUM($P521:R521)+1,IF(AND(($O521-SUM($P521:R521))>39,OR(MID($G521,SUM($P521:R521)+40,1)=\"、\",MID($G521,SUM($P521:R521)+40,1)=\"。\")),40,39)))","v":0},{"$f":"LEN(MID($N521,SUM($P521:S521)+1,IF(AND(($O521-SUM($P521:S521))>39,OR(MID($G521,SUM($P521:S521)+40,1)=\"、\",MID($G521,SUM($P521:S521)+40,1)=\"。\")),40,39)))","v":0},{"$f":"LEN(MID($N521,SUM($P521:T521)+1,IF(AND(($O521-SUM($P521:T521))>39,OR(MID($G521,SUM($P521:T521)+40,1)=\"、\",MID($G521,SUM($P521:T521)+40,1)=\"。\")),40,39)))","v":0}]
[null,null,null,null,null,null,null,"２－13 掃除","掃除",1,{"$f":"VLOOKUP(DBCS(J522),調査票入力!B137:C139,2,0)","v":"支援が不要"},"","支援不要",{"$f":"IF($D137=\"\",\"\",\"　\"&SUBSTITUTE(IF(ASC(MID($D137,1,1))=\" \",MID($D137,2,300),$D137),CHAR(10),\"\"))","v":""},0,0,{"$f":"LEN(MID($N522,SUM($P522:P522)+1,IF(AND(($O522-SUM($P522:P522))>39,OR(MID($G522,SUM($P522:P522)+40,1)=\"、\",MID($G522,SUM($P522:P522)+40,1)=\"。\")),40,39)))","v":0},{"$f":"LEN(MID($N522,SUM($P522:Q522)+1,IF(AND(($O522-SUM($P522:Q522))>39,OR(MID($G522,SUM($P522:Q522)+40,1)=\"、\",MID($G522,SUM($P522:Q522)+40,1)=\"。\")),40,39)))","v":0},{"$f":"LEN(MID($N522,SUM($P522:R522)+1,IF(AND(($O522-SUM($P522:R522))>39,OR(MID($G522,SUM($P522:R522)+40,1)=\"、\",MID($G522,SUM($P522:R522)+40,1)=\"。\")),40,39)))","v":0},{"$f":"LEN(MID($N522,SUM($P522:S522)+1,IF(AND(($O522-SUM($P522:S522))>39,OR(MID($G522,SUM($P522:S522)+40,1)=\"、\",MID($G522,SUM($P522:S522)+40,1)=\"。\")),40,39)))","v":0},{"$f":"LEN(MID($N522,SUM($P522:T522)+1,IF(AND(($O522-SUM($P522:T522))>39,OR(MID($G522,SUM($P522:T522)+40,1)=\"、\",MID($G522,SUM($P522:T522)+40,1)=\"。\")),40,39)))","v":0}]
[null,null,null,null,null,null,null,"２－14 洗濯","洗濯",1,{"$f":"VLOOKUP(DBCS(J523),調査票入力!B142:C144,2,0)","v":"支援が不要"},"","支援不要",{"$f":"IF($D142=\"\",\"\",\"　\"&SUBSTITUTE(IF(ASC(MID($D142,1,1))=\" \",MID($D142,2,300),$D142),CHAR(10),\"\"))","v":""},0,0,{"$f":"LEN(MID($N523,SUM($P523:P523)+1,IF(AND(($O523-SUM($P523:P523))>39,OR(MID($G523,SUM($P523:P523)+40,1)=\"、\",MID($G523,SUM($P523:P523)+40,1)=\"。\")),40,39)))","v":0},{"$f":"LEN(MID($N523,SUM($P523:Q523)+1,IF(AND(($O523-SUM($P523:Q523))>39,OR(MID($G523,SUM($P523:Q523)+40,1)=\"、\",MID($G523,SUM($P523:Q523)+40,1)=\"。\")),40,39)))","v":0},{"$f":"LEN(MID($N523,SUM($P523:R523)+1,IF(AND(($O523-SUM($P523:R523))>39,OR(MID($G523,SUM($P523:R523)+40,1)=\"、\",MID($G523,SUM($P523:R523)+40,1)=\"。\")),40,39)))","v":0},{"$f":"LEN(MID($N523,SUM($P523:S523)+1,IF(AND(($O523-SUM($P523:S523))>39,OR(MID($G523,SUM($P523:S523)+40,1)=\"、\",MID($G523,SUM($P523:S523)+40,1)=\"。\")),40,39)))","v":0},{"$f":"LEN(MID($N523,SUM($P523:T523)+1,IF(AND(($O523-SUM($P523:T523))>39,OR(MID($G523,SUM($P523:T523)+40,1)=\"、\",MID($G523,SUM($P523:T523)+40,1)=\"。\")),40,39)))","v":0}]
[null,null,null,null,null,null,null,"２－15 買い物","買い物",1,{"$f":"VLOOKUP(DBCS(J524),調査票入力!B147:C149,2,0)","v":"支援が不要"},"","支援不要",{"$f":"IF($D147=\"\",\"\",\"　\"&SUBSTITUTE(IF(ASC(MID($D147,1,1))=\" \",MID($D147,2,300),$D147),CHAR(10),\"\"))","v":""},0,0,{"$f":"LEN(MID($N524,SUM($P524:P524)+1,IF(AND(($O524-SUM($P524:P524))>39,OR(MID($G524,SUM($P524:P524)+40,1)=\"、\",MID($G524,SUM($P524:P524)+40,1)=\"。\")),40,39)))","v":0},{"$f":"LEN(MID($N524,SUM($P524:Q524)+1,IF(AND(($O524-SUM($P524:Q524))>39,OR(MID($G524,SUM($P524:Q524)+40,1)=\"、\",MID($G524,SUM($P524:Q524)+40,1)=\"。\")),40,39)))","v":0},{"$f":"LEN(MID($N524,SUM($P524:R524)+1,IF(AND(($O524-SUM($P524:R524))>39,OR(MID($G524,SUM($P524:R524)+40,1)=\"、\",MID($G524,SUM($P524:R524)+40,1)=\"。\")),40,39)))","v":0},{"$f":"LEN(MID($N524,SUM($P524:S524)+1,IF(AND(($O524-SUM($P524:S524))>39,OR(MID($G524,SUM($P524:S524)+40,1)=\"、\",MID($G524,SUM($P524:S524)+40,1)=\"。\")),40,39)))","v":0},{"$f":"LEN(MID($N524,SUM($P524:T524)+1,IF(AND(($O524-SUM($P524:T524))>39,OR(MID($G524,SUM($P524:T524)+40,1)=\"、\",MID($G524,SUM($P524:T524)+40,1)=\"。\")),40,39)))","v":0}]
[null,null,null,null,null,null,null,"２－16 交通手段の利用","交通手段の利用",1,{"$f":"VLOOKUP(DBCS(J525),調査票入力!B152:C154,2,0)","v":"支援が不要"},"","支援不要",{"$f":"IF($D152=\"\",\"\",\"　\"&SUBSTITUTE(IF(ASC(MID($D152,1,1))=\" \",MID($D152,2,300),$D152),CHAR(10),\"\"))","v":""},0,0,{"$f":"LEN(MID($N525,SUM($P525:P525)+1,IF(AND(($O525-SUM($P525:P525))>39,OR(MID($G525,SUM($P525:P525)+40,1)=\"、\",MID($G525,SUM($P525:P525)+40,1)=\"。\")),40,39)))","v":0},{"$f":"LEN(MID($N525,SUM($P525:Q525)+1,IF(AND(($O525-SUM($P525:Q525))>39,OR(MID($G525,SUM($P525:Q525)+40,1)=\"、\",MID($G525,SUM($P525:Q525)+40,1)=\"。\")),40,39)))","v":0},{"$f":"LEN(MID($N525,SUM($P525:R525)+1,IF(AND(($O525-SUM($P525:R525))>39,OR(MID($G525,SUM($P525:R525)+40,1)=\"、\",MID($G525,SUM($P525:R525)+40,1)=\"。\")),40,39)))","v":0},{"$f":"LEN(MID($N525,SUM($P525:S525)+1,IF(AND(($O525-SUM($P525:S525))>39,OR(MID($G525,SUM($P525:S525)+40,1)=\"、\",MID($G525,SUM($P525:S525)+40,1)=\"。\")),40,39)))","v":0},{"$f":"LEN(MID($N525,SUM($P525:T525)+1,IF(AND(($O525-SUM($P525:T525))>39,OR(MID($G525,SUM($P525:T525)+40,1)=\"、\",MID($G525,SUM($P525:T525)+40,1)=\"。\")),40,39)))","v":0}]
[null,null,null,null,null,null,null,"３－１ 視力","視力",1,{"$f":"VLOOKUP(DBCS(J526),調査票入力!B159:C164,2,0)","v":"日常生活に支障がない"},{"$f":"CHOOSE(J526,\"\",\"１ｍ先が見える\",\"目の前が見える\",\"ほとんど見えず\",\"全く見えず\",\"判断不能\")","v":""},{"$f":"CHOOSE(J526,\"生活に支障なし\",\"１ｍ先が見える\",\"目の前が見える\",\"ほとんど見えず\",\"全く見えず\",\"判断不能\")","v":"生活に支障なし"},{"$f":"IF($F159=\"\",\"\",\"　\"&SUBSTITUTE(IF(ASC(MID($F159,1,1))=\" \",MID($F159,2,300),$F159),CHAR(10),\"\"))","v":""},0,0,{"$f":"LEN(MID($N526,SUM($P526:P526)+1,IF(AND(($O526-SUM($P526:P526))>39,OR(MID($G526,SUM($P526:P526)+40,1)=\"、\",MID($G526,SUM($P526:P526)+40,1)=\"。\")),40,39)))","v":0},{"$f":"LEN(MID($N526,SUM($P526:Q526)+1,IF(AND(($O526-SUM($P526:Q526))>39,OR(MID($G526,SUM($P526:Q526)+40,1)=\"、\",MID($G526,SUM($P526:Q526)+40,1)=\"。\")),40,39)))","v":0},{"$f":"LEN(MID($N526,SUM($P526:R526)+1,IF(AND(($O526-SUM($P526:R526))>39,OR(MID($G526,SUM($P526:R526)+40,1)=\"、\",MID($G526,SUM($P526:R526)+40,1)=\"。\")),40,39)))","v":0},{"$f":"LEN(MID($N526,SUM($P526:S526)+1,IF(AND(($O526-SUM($P526:S526))>39,OR(MID($G526,SUM($P526:S526)+40,1)=\"、\",MID($G526,SUM($P526:S526)+40,1)=\"。\")),40,39)))","v":0},{"$f":"LEN(MID($N526,SUM($P526:T526)+1,IF(AND(($O526-SUM($P526:T526))>39,OR(MID($G526,SUM($P526:T526)+40,1)=\"、\",MID($G526,SUM($P526:T526)+40,1)=\"。\")),40,39)))","v":0}]
[null,null,null,null,null,null,null,"３－２ 聴力","聴力",1,{"$f":"VLOOKUP(DBCS(J527),調査票入力!B167:C172,2,0)","v":"日常生活に支障がない"},{"$f":"CHOOSE(J527,\"\",\"やっと聞き取れる\",\"大声なら聞こえる\",\"ほとんど聞こえず\",\"全く聞こえず\",\"判断不能\")","v":""},{"$f":"CHOOSE(J527,\"生活に支障なし\",\"やっと聞き取れる\",\"大声なら聞こえる\",\"ほとんど聞こえず\",\"全く聞こえず\",\"判断不能\")","v":"生活に支障なし"},{"$f":"IF($F167=\"\",\"\",\"　\"&SUBSTITUTE(IF(ASC(MID($F167,1,1))=\" \",MID($F167,2,300),$F167),CHAR(10),\"\"))","v":""},0,0,{"$f":"LEN(MID($N527,SUM($P527:P527)+1,IF(AND(($O527-SUM($P527:P527))>39,OR(MID($G527,SUM($P527:P527)+40,1)=\"、\",MID($G527,SUM($P527:P527)+40,1)=\"。\")),40,39)))","v":0},{"$f":"LEN(MID($N527,SUM($P527:Q527)+1,IF(AND(($O527-SUM($P527:Q527))>39,OR(MID($G527,SUM($P527:Q527)+40,1)=\"、\",MID($G527,SUM($P527:Q527)+40,1)=\"。\")),40,39)))","v":0},{"$f":"LEN(MID($N527,SUM($P527:R527)+1,IF(AND(($O527-SUM($P527:R527))>39,OR(MID($G527,SUM($P527:R527)+40,1)=\"、\",MID($G527,SUM($P527:R527)+40,1)=\"。\")),40,39)))","v":0},{"$f":"LEN(MID($N527,SUM($P527:S527)+1,IF(AND(($O527-SUM($P527:S527))>39,OR(MID($G527,SUM($P527:S527)+40,1)=\"、\",MID($G527,SUM($P527:S527)+40,1)=\"。\")),40,39)))","v":0},{"$f":"LEN(MID($N527,SUM($P527:T527)+1,IF(AND(($O527-SUM($P527:T527))>39,OR(MID($G527,SUM($P527:T527)+40,1)=\"、\",MID($G527,SUM($P527:T527)+40,1)=\"。\")),40,39)))","v":0}]
[null,null,null,null,null,null,null,"３－３ コミュニケーション","コミュニケーション",1,{"$f":"VLOOKUP(DBCS(J528),調査票入力!B175:C179,2,0)","v":"日常生活に支障がない"},{"$f":"CHOOSE(J528,\"\",\"特定の者なら可\",\"会話以外で可\",\"独自の方法で可\",\"できない\")","v":""},{"$f":"CHOOSE(J528,\"生活に支障なし\",\"特定の者なら可\",\"会話以外で可\",\"独自の方法で可\",\"できない\")","v":"生活に支障なし"},{"$f":"IF($F175=\"\",\"\",\"　\"&SUBSTITUTE(IF(ASC(MID($F175,1,1))=\" \",MID($F175,2,300),$F175),CHAR(10),\"\"))","v":""},0,0,{"$f":"LEN(MID($N528,SUM($P528:P528)+1,IF(AND(($O528-SUM($P528:P528))>39,OR(MID($G528,SUM($P528:P528)+40,1)=\"、\",MID($G528,SUM($P528:P528)+40,1)=\"。\")),40,39)))","v":0},{"$f":"LEN(MID($N528,SUM($P528:Q528)+1,IF(AND(($O528-SUM($P528:Q528))>39,OR(MID($G528,SUM($P528:Q528)+40,1)=\"、\",MID($G528,SUM($P528:Q528)+40,1)=\"。\")),40,39)))","v":0},{"$f":"LEN(MID($N528,SUM($P528:R528)+1,IF(AND(($O528-SUM($P528:R528))>39,OR(MID($G528,SUM($P528:R528)+40,1)=\"、\",MID($G528,SUM($P528:R528)+40,1)=\"。\")),40,39)))","v":0},{"$f":"LEN(MID($N528,SUM($P528:S528)+1,IF(AND(($O528-SUM($P528:S528))>39,OR(MID($G528,SUM($P528:S528)+40,1)=\"、\",MID($G528,SUM($P528:S528)+40,1)=\"。\")),40,39)))","v":0},{"$f":"LEN(MID($N528,SUM($P528:T528)+1,IF(AND(($O528-SUM($P528:T528))>39,OR(MID($G528,SUM($P528:T528)+40,1)=\"、\",MID($G528,SUM($P528:T528)+40,1)=\"。\")),40,39)))","v":0}]
[null,null,null,null,null,null,null,"３－４ 説明の理解","説明の理解",1,{"$f":"VLOOKUP(DBCS(J529),調査票入力!B182:C184,2,0)","v":"理解できる"},{"$f":"CHOOSE(J529,\"\",\"理解できない\",\"判断不能\")","v":""},{"$f":"CHOOSE(J529,\"理解できる\",\"理解できない\",\"判断不能\")","v":"理解できる"},{"$f":"IF($F182=\"\",\"\",\"　\"&SUBSTITUTE(IF(ASC(MID($F182,1,1))=\" \",MID($F182,2,300),$F182),CHAR(10),\"\"))","v":""},0,0,{"$f":"LEN(MID($N529,SUM($P529:P529)+1,IF(AND(($O529-SUM($P529:P529))>39,OR(MID($G529,SUM($P529:P529)+40,1)=\"、\",MID($G529,SUM($P529:P529)+40,1)=\"。\")),40,39)))","v":0},{"$f":"LEN(MID($N529,SUM($P529:Q529)+1,IF(AND(($O529-SUM($P529:Q529))>39,OR(MID($G529,SUM($P529:Q529)+40,1)=\"、\",MID($G529,SUM($P529:Q529)+40,1)=\"。\")),40,39)))","v":0},{"$f":"LEN(MID($N529,SUM($P529:R529)+1,IF(AND(($O529-SUM($P529:R529))>39,OR(MID($G529,SUM($P529:R529)+40,1)=\"、\",MID($G529,SUM($P529:R529)+40,1)=\"。\")),40,39)))","v":0},{"$f":"LEN(MID($N529,SUM($P529:S529)+1,IF(AND(($O529-SUM($P529:S529))>39,OR(MID($G529,SUM($P529:S529)+40,1)=\"、\",MID($G529,SUM($P529:S529)+40,1)=\"。\")),40,39)))","v":0},{"$f":"LEN(MID($N529,SUM($P529:T529)+1,IF(AND(($O529-SUM($P529:T529))>39,OR(MID($G529,SUM($P529:T529)+40,1)=\"、\",MID($G529,SUM($P529:T529)+40,1)=\"。\")),40,39)))","v":0}]
[null,null,null,null,null,null,null,"３－５ 読み書き","読み書き",1,{"$f":"VLOOKUP(DBCS(J530),調査票入力!B187:C189,2,0)","v":"支援が不要"},{"$f":"CHOOSE(J530,\"\",\"部分支援\",\"全面支援\")","v":""},{"$f":"CHOOSE(J530,\"支援不要\",\"部分支援\",\"全面支援\")","v":"支援不要"},{"$f":"IF($F187=\"\",\"\",\"　\"&SUBSTITUTE(IF(ASC(MID($F187,1,1))=\" \",MID($F187,2,300),$F187),CHAR(10),\"\"))","v":""},0,0,{"$f":"LEN(MID($N530,SUM($P530:P530)+1,IF(AND(($O530-SUM($P530:P530))>39,OR(MID($G530,SUM($P530:P530)+40,1)=\"、\",MID($G530,SUM($P530:P530)+40,1)=\"。\")),40,39)))","v":0},{"$f":"LEN(MID($N530,SUM($P530:Q530)+1,IF(AND(($O530-SUM($P530:Q530))>39,OR(MID($G530,SUM($P530:Q530)+40,1)=\"、\",MID($G530,SUM($P530:Q530)+40,1)=\"。\")),40,39)))","v":0},{"$f":"LEN(MID($N530,SUM($P530:R530)+1,IF(AND(($O530-SUM($P530:R530))>39,OR(MID($G530,SUM($P530:R530)+40,1)=\"、\",MID($G530,SUM($P530:R530)+40,1)=\"。\")),40,39)))","v":0},{"$f":"LEN(MID($N530,SUM($P530:S530)+1,IF(AND(($O530-SUM($P530:S530))>39,OR(MID($G530,SUM($P530:S530)+40,1)=\"、\",MID($G530,SUM($P530:S530)+40,1)=\"。\")),40,39)))","v":0},{"$f":"LEN(MID($N530,SUM($P530:T530)+1,IF(AND(($O530-SUM($P530:T530))>39,OR(MID($G530,SUM($P530:T530)+40,1)=\"、\",MID($G530,SUM($P530:T530)+40,1)=\"。\")),40,39)))","v":0}]
[null,null,null,null,null,null,null,"３－６ 感覚過敏・感覚鈍麻","感覚過敏・感覚鈍麻",1,{"$f":"VLOOKUP(DBCS(J531),調査票入力!B192:C193,2,0)","v":"ない"},{"$f":"CHOOSE(J531,\"\",\"ある\")","v":""},{"$f":"CHOOSE(J531,\"ない\",\"ある\")","v":"ない"},{"$f":"IF($F192=\"\",\"\",\"　\"&SUBSTITUTE(IF(ASC(MID($F192,1,1))=\" \",MID($F192,2,300),$F192),CHAR(10),\"\"))","v":""},0,0,{"$f":"LEN(MID($N531,SUM($P531:P531)+1,IF(AND(($O531-SUM($P531:P531))>39,OR(MID($G531,SUM($P531:P531)+40,1)=\"、\",MID($G531,SUM($P531:P531)+40,1)=\"。\")),40,39)))","v":0},{"$f":"LEN(MID($N531,SUM($P531:Q531)+1,IF(AND(($O531-SUM($P531:Q531))>39,OR(MID($G531,SUM($P531:Q531)+40,1)=\"、\",MID($G531,SUM($P531:Q531)+40,1)=\"。\")),40,39)))","v":0},{"$f":"LEN(MID($N531,SUM($P531:R531)+1,IF(AND(($O531-SUM($P531:R531))>39,OR(MID($G531,SUM($P531:R531)+40,1)=\"、\",MID($G531,SUM($P531:R531)+40,1)=\"。\")),40,39)))","v":0},{"$f":"LEN(MID($N531,SUM($P531:S531)+1,IF(AND(($O531-SUM($P531:S531))>39,OR(MID($G531,SUM($P531:S531)+40,1)=\"、\",MID($G531,SUM($P531:S531)+40,1)=\"。\")),40,39)))","v":0},{"$f":"LEN(MID($N531,SUM($P531:T531)+1,IF(AND(($O531-SUM($P531:T531))>39,OR(MID($G531,SUM($P531:T531)+40,1)=\"、\",MID($G531,SUM($P531:T531)+40,1)=\"。\")),40,39)))","v":0}]
[null,null,null,null,null,null,null,"４－１ 被害的・拒否的","被害的・拒否的",1,{"$f":"VLOOKUP(DBCS(J532),調査票入力!B198:C202,2,0)","v":"支援が不要"},{"$f":"CHOOSE(J532,\"\",\"希に支援\",\"月に１回以上支援\",\"週に１回以上支援\",\"ほぼ毎日支援\")","v":""},{"$f":"CHOOSE(J532,\"支援不要\",\"希に支援\",\"月に１回以上支援\",\"週に１回以上支援\",\"ほぼ毎日支援\")","v":"支援不要"},{"$f":"IF($F198=\"\",\"\",\"　\"&SUBSTITUTE(IF(ASC(MID($F198,1,1))=\" \",MID($F198,2,300),$F198),CHAR(10),\"\"))","v":""},0,0,{"$f":"LEN(MID($N532,SUM($P532:P532)+1,IF(AND(($O532-SUM($P532:P532))>39,OR(MID($G532,SUM($P532:P532)+40,1)=\"、\",MID($G532,SUM($P532:P532)+40,1)=\"。\")),40,39)))","v":0},{"$f":"LEN(MID($N532,SUM($P532:Q532)+1,IF(AND(($O532-SUM($P532:Q532))>39,OR(MID($G532,SUM($P532:Q532)+40,1)=\"、\",MID($G532,SUM($P532:Q532)+40,1)=\"。\")),40,39)))","v":0},{"$f":"LEN(MID($N532,SUM($P532:R532)+1,IF(AND(($O532-SUM($P532:R532))>39,OR(MID($G532,SUM($P532:R532)+40,1)=\"、\",MID($G532,SUM($P532:R532)+40,1)=\"。\")),40,39)))","v":0},{"$f":"LEN(MID($N532,SUM($P532:S532)+1,IF(AND(($O532-SUM($P532:S532))>39,OR(MID($G532,SUM($P532:S532)+40,1)=\"、\",MID($G532,SUM($P532:S532)+40,1)=\"。\")),40,39)))","v":0},{"$f":"LEN(MID($N532,SUM($P532:T532)+1,IF(AND(($O532-SUM($P532:T532))>39,OR(MID($G532,SUM($P532:T532)+40,1)=\"、\",MID($G532,SUM($P532:T532)+40,1)=\"。\")),40,39)))","v":0}]
[null,null,null,null,null,null,null,"４－２ 作話","作話",1,{"$f":"VLOOKUP(DBCS(J533),調査票入力!B205:C209,2,0)","v":"支援が不要"},"","支援不要",{"$f":"IF($F205=\"\",\"\",\"　\"&SUBSTITUTE(IF(ASC(MID($F205,1,1))=\" \",MID($F205,2,300),$F205),CHAR(10),\"\"))","v":""},0,0,{"$f":"LEN(MID($N533,SUM($P533:P533)+1,IF(AND(($O533-SUM($P533:P533))>39,OR(MID($G533,SUM($P533:P533)+40,1)=\"、\",MID($G533,SUM($P533:P533)+40,1)=\"。\")),40,39)))","v":0},{"$f":"LEN(MID($N533,SUM($P533:Q533)+1,IF(AND(($O533-SUM($P533:Q533))>39,OR(MID($G533,SUM($P533:Q533)+40,1)=\"、\",MID($G533,SUM($P533:Q533)+40,1)=\"。\")),40,39)))","v":0},{"$f":"LEN(MID($N533,SUM($P533:R533)+1,IF(AND(($O533-SUM($P533:R533))>39,OR(MID($G533,SUM($P533:R533)+40,1)=\"、\",MID($G533,SUM($P533:R533)+40,1)=\"。\")),40,39)))","v":0},{"$f":"LEN(MID($N533,SUM($P533:S533)+1,IF(AND(($O533-SUM($P533:S533))>39,OR(MID($G533,SUM($P533:S533)+40,1)=\"、\",MID($G533,SUM($P533:S533)+40,1)=\"。\")),40,39)))","v":0},{"$f":"LEN(MID($N533,SUM($P533:T533)+1,IF(AND(($O533-SUM($P533:T533))>39,OR(MID($G533,SUM($P533:T533)+40,1)=\"、\",MID($G533,SUM($P533:T533)+40,1)=\"。\")),40,39)))","v":0}]
[null,null,null,null,null,null,null,"４－３ 感情が不安定","感情が不安定",1,{"$f":"VLOOKUP(DBCS(J534),調査票入力!B212:C216,2,0)","v":"支援が不要"},"","支援不要",{"$f":"IF($F212=\"\",\"\",\"　\"&SUBSTITUTE(IF(ASC(MID($F212,1,1))=\" \",MID($F212,2,300),$F212),CHAR(10),\"\"))","v":""},0,0,{"$f":"LEN(MID($N534,SUM($P534:P534)+1,IF(AND(($O534-SUM($P534:P534))>39,OR(MID($G534,SUM($P534:P534)+40,1)=\"、\",MID($G534,SUM($P534:P534)+40,1)=\"。\")),40,39)))","v":0},{"$f":"LEN(MID($N534,SUM($P534:Q534)+1,IF(AND(($O534-SUM($P534:Q534))>39,OR(MID($G534,SUM($P534:Q534)+40,1)=\"、\",MID($G534,SUM($P534:Q534)+40,1)=\"。\")),40,39)))","v":0},{"$f":"LEN(MID($N534,SUM($P534:R534)+1,IF(AND(($O534-SUM($P534:R534))>39,OR(MID($G534,SUM($P534:R534)+40,1)=\"、\",MID($G534,SUM($P534:R534)+40,1)=\"。\")),40,39)))","v":0},{"$f":"LEN(MID($N534,SUM($P534:S534)+1,IF(AND(($O534-SUM($P534:S534))>39,OR(MID($G534,SUM($P534:S534)+40,1)=\"、\",MID($G534,SUM($P534:S534)+40,1)=\"。\")),40,39)))","v":0},{"$f":"LEN(MID($N534,SUM($P534:T534)+1,IF(AND(($O534-SUM($P534:T534))>39,OR(MID($G534,SUM($P534:T534)+40,1)=\"、\",MID($G534,SUM($P534:T534)+40,1)=\"。\")),40,39)))","v":0}]
[null,null,null,null,null,null,null,"４－４ 昼夜逆転","昼夜逆転",1,{"$f":"VLOOKUP(DBCS(J535),調査票入力!B219:C223,2,0)","v":"支援が不要"},"","支援不要",{"$f":"IF($F219=\"\",\"\",\"　\"&SUBSTITUTE(IF(ASC(MID($F219,1,1))=\" \",MID($F219,2,300),$F219),CHAR(10),\"\"))","v":""},0,0,{"$f":"LEN(MID($N535,SUM($P535:P535)+1,IF(AND(($O535-SUM($P535:P535))>39,OR(MID($G535,SUM($P535:P535)+40,1)=\"、\",MID($G535,SUM($P535:P535)+40,1)=\"。\")),40,39)))","v":0},{"$f":"LEN(MID($N535,SUM($P535:Q535)+1,IF(AND(($O535-SUM($P535:Q535))>39,OR(MID($G535,SUM($P535:Q535)+40,1)=\"、\",MID($G535,SUM($P535:Q535)+40,1)=\"。\")),40,39)))","v":0},{"$f":"LEN(MID($N535,SUM($P535:R535)+1,IF(AND(($O535-SUM($P535:R535))>39,OR(MID($G535,SUM($P535:R535)+40,1)=\"、\",MID($G535,SUM($P535:R535)+40,1)=\"。\")),40,39)))","v":0},{"$f":"LEN(MID($N535,SUM($P535:S535)+1,IF(AND(($O535-SUM($P535:S535))>39,OR(MID($G535,SUM($P535:S535)+40,1)=\"、\",MID($G535,SUM($P535:S535)+40,1)=\"。\")),40,39)))","v":0},{"$f":"LEN(MID($N535,SUM($P535:T535)+1,IF(AND(($O535-SUM($P535:T535))>39,OR(MID($G535,SUM($P535:T535)+40,1)=\"、\",MID($G535,SUM($P535:T535)+40,1)=\"。\")),40,39)))","v":0}]
[null,null,null,null,null,null,null,"４－５ 暴言暴行","暴言暴行",1,{"$f":"VLOOKUP(DBCS(J536),調査票入力!B226:C230,2,0)","v":"支援が不要"},"","支援不要",{"$f":"IF($F226=\"\",\"\",\"　\"&SUBSTITUTE(IF(ASC(MID($F226,1,1))=\" \",MID($F226,2,300),$F226),CHAR(10),\"\"))","v":""},0,0,{"$f":"LEN(MID($N536,SUM($P536:P536)+1,IF(AND(($O536-SUM($P536:P536))>39,OR(MID($G536,SUM($P536:P536)+40,1)=\"、\",MID($G536,SUM($P536:P536)+40,1)=\"。\")),40,39)))","v":0},{"$f":"LEN(MID($N536,SUM($P536:Q536)+1,IF(AND(($O536-SUM($P536:Q536))>39,OR(MID($G536,SUM($P536:Q536)+40,1)=\"、\",MID($G536,SUM($P536:Q536)+40,1)=\"。\")),40,39)))","v":0},{"$f":"LEN(MID($N536,SUM($P536:R536)+1,IF(AND(($O536-SUM($P536:R536))>39,OR(MID($G536,SUM($P536:R536)+40,1)=\"、\",MID($G536,SUM($P536:R536)+40,1)=\"。\")),40,39)))","v":0},{"$f":"LEN(MID($N536,SUM($P536:S536)+1,IF(AND(($O536-SUM($P536:S536))>39,OR(MID($G536,SUM($P536:S536)+40,1)=\"、\",MID($G536,SUM($P536:S536)+40,1)=\"。\")),40,39)))","v":0},{"$f":"LEN(MID($N536,SUM($P536:T536)+1,IF(AND(($O536-SUM($P536:T536))>39,OR(MID($G536,SUM($P536:T536)+40,1)=\"、\",MID($G536,SUM($P536:T536)+40,1)=\"。\")),40,39)))","v":0}]
[null,null,null,null,null,null,null,"４－６ 同じ話をする","同じ話をする",1,{"$f":"VLOOKUP(DBCS(J537),調査票入力!B233:C237,2,0)","v":"支援が不要"},"","支援不要",{"$f":"IF($F233=\"\",\"\",\"　\"&SUBSTITUTE(IF(ASC(MID($F233,1,1))=\" \",MID($F233,2,300),$F233),CHAR(10),\"\"))","v":""},0,0,{"$f":"LEN(MID($N537,SUM($P537:P537)+1,IF(AND(($O537-SUM($P537:P537))>39,OR(MID($G537,SUM($P537:P537)+40,1)=\"、\",MID($G537,SUM($P537:P537)+40,1)=\"。\")),40,39)))","v":0},{"$f":"LEN(MID($N537,SUM($P537:Q537)+1,IF(AND(($O537-SUM($P537:Q537))>39,OR(MID($G537,SUM($P537:Q537)+40,1)=\"、\",MID($G537,SUM($P537:Q537)+40,1)=\"。\")),40,39)))","v":0},{"$f":"LEN(MID($N537,SUM($P537:R537)+1,IF(AND(($O537-SUM($P537:R537))>39,OR(MID($G537,SUM($P537:R537)+40,1)=\"、\",MID($G537,SUM($P537:R537)+40,1)=\"。\")),40,39)))","v":0},{"$f":"LEN(MID($N537,SUM($P537:S537)+1,IF(AND(($O537-SUM($P537:S537))>39,OR(MID($G537,SUM($P537:S537)+40,1)=\"、\",MID($G537,SUM($P537:S537)+40,1)=\"。\")),40,39)))","v":0},{"$f":"LEN(MID($N537,SUM($P537:T537)+1,IF(AND(($O537-SUM($P537:T537))>39,OR(MID($G537,SUM($P537:T537)+40,1)=\"、\",MID($G537,SUM($P537:T537)+40,1)=\"。\")),40,39)))","v":0}]
[null,null,null,null,null,null,null,"４－７ 大声・奇声を出す","大声・奇声を出す",1,{"$f":"VLOOKUP(DBCS(J538),調査票入力!B240:C244,2,0)","v":"支援が不要"},"","支援不要",{"$f":"IF($F240=\"\",\"\",\"　\"&SUBSTITUTE(IF(ASC(MID($F240,1,1))=\" \",MID($F240,2,300),$F240),CHAR(10),\"\"))","v":""},0,0,{"$f":"LEN(MID($N538,SUM($P538:P538)+1,IF(AND(($O538-SUM($P538:P538))>39,OR(MID($G538,SUM($P538:P538)+40,1)=\"、\",MID($G538,SUM($P538:P538)+40,1)=\"。\")),40,39)))","v":0},{"$f":"LEN(MID($N538,SUM($P538:Q538)+1,IF(AND(($O538-SUM($P538:Q538))>39,OR(MID($G538,SUM($P538:Q538)+40,1)=\"、\",MID($G538,SUM($P538:Q538)+40,1)=\"。\")),40,39)))","v":0},{"$f":"LEN(MID($N538,SUM($P538:R538)+1,IF(AND(($O538-SUM($P538:R538))>39,OR(MID($G538,SUM($P538:R538)+40,1)=\"、\",MID($G538,SUM($P538:R538)+40,1)=\"。\")),40,39)))","v":0},{"$f":"LEN(MID($N538,SUM($P538:S538)+1,IF(AND(($O538-SUM($P538:S538))>39,OR(MID($G538,SUM($P538:S538)+40,1)=\"、\",MID($G538,SUM($P538:S538)+40,1)=\"。\")),40,39)))","v":0},{"$f":"LEN(MID($N538,SUM($P538:T538)+1,IF(AND(($O538-SUM($P538:T538))>39,OR(MID($G538,SUM($P538:T538)+40,1)=\"、\",MID($G538,SUM($P538:T538)+40,1)=\"。\")),40,39)))","v":0}]
[null,null,null,null,null,null,null,"４－８ 支援の拒否","支援の拒否",1,{"$f":"VLOOKUP(DBCS(J539),調査票入力!B247:C251,2,0)","v":"支援が不要"},"","支援不要",{"$f":"IF($F247=\"\",\"\",\"　\"&SUBSTITUTE(IF(ASC(MID($F247,1,1))=\" \",MID($F247,2,300),$F247),CHAR(10),\"\"))","v":""},0,0,{"$f":"LEN(MID($N539,SUM($P539:P539)+1,IF(AND(($O539-SUM($P539:P539))>39,OR(MID($G539,SUM($P539:P539)+40,1)=\"、\",MID($G539,SUM($P539:P539)+40,1)=\"。\")),40,39)))","v":0},{"$f":"LEN(MID($N539,SUM($P539:Q539)+1,IF(AND(($O539-SUM($P539:Q539))>39,OR(MID($G539,SUM($P539:Q539)+40,1)=\"、\",MID($G539,SUM($P539:Q539)+40,1)=\"。\")),40,39)))","v":0},{"$f":"LEN(MID($N539,SUM($P539:R539)+1,IF(AND(($O539-SUM($P539:R539))>39,OR(MID($G539,SUM($P539:R539)+40,1)=\"、\",MID($G539,SUM($P539:R539)+40,1)=\"。\")),40,39)))","v":0},{"$f":"LEN(MID($N539,SUM($P539:S539)+1,IF(AND(($O539-SUM($P539:S539))>39,OR(MID($G539,SUM($P539:S539)+40,1)=\"、\",MID($G539,SUM($P539:S539)+40,1)=\"。\")),40,39)))","v":0},{"$f":"LEN(MID($N539,SUM($P539:T539)+1,IF(AND(($O539-SUM($P539:T539))>39,OR(MID($G539,SUM($P539:T539)+40,1)=\"、\",MID($G539,SUM($P539:T539)+40,1)=\"。\")),40,39)))","v":0}]
[null,null,null,null,null,null,null,"４－９ 徘徊","徘徊",1,{"$f":"VLOOKUP(DBCS(J540),調査票入力!B254:C258,2,0)","v":"支援が不要"},"","支援不要",{"$f":"IF($F254=\"\",\"\",\"　\"&SUBSTITUTE(IF(ASC(MID($F254,1,1))=\" \",MID($F254,2,300),$F254),CHAR(10),\"\"))","v":""},0,0,{"$f":"LEN(MID($N540,SUM($P540:P540)+1,IF(AND(($O540-SUM($P540:P540))>39,OR(MID($G540,SUM($P540:P540)+40,1)=\"、\",MID($G540,SUM($P540:P540)+40,1)=\"。\")),40,39)))","v":0},{"$f":"LEN(MID($N540,SUM($P540:Q540)+1,IF(AND(($O540-SUM($P540:Q540))>39,OR(MID($G540,SUM($P540:Q540)+40,1)=\"、\",MID($G540,SUM($P540:Q540)+40,1)=\"。\")),40,39)))","v":0},{"$f":"LEN(MID($N540,SUM($P540:R540)+1,IF(AND(($O540-SUM($P540:R540))>39,OR(MID($G540,SUM($P540:R540)+40,1)=\"、\",MID($G540,SUM($P540:R540)+40,1)=\"。\")),40,39)))","v":0},{"$f":"LEN(MID($N540,SUM($P540:S540)+1,IF(AND(($O540-SUM($P540:S540))>39,OR(MID($G540,SUM($P540:S540)+40,1)=\"、\",MID($G540,SUM($P540:S540)+40,1)=\"。\")),40,39)))","v":0},{"$f":"LEN(MID($N540,SUM($P540:T540)+1,IF(AND(($O540-SUM($P540:T540))>39,OR(MID($G540,SUM($P540:T540)+40,1)=\"、\",MID($G540,SUM($P540:T540)+40,1)=\"。\")),40,39)))","v":0}]
[null,null,null,null,null,null,null,"４－10 落ち着きがない","落ち着きがない",1,{"$f":"VLOOKUP(DBCS(J541),調査票入力!B261:C265,2,0)","v":"支援が不要"},"","支援不要",{"$f":"IF($F261=\"\",\"\",\"　\"&SUBSTITUTE(IF(ASC(MID($F261,1,1))=\" \",MID($F261,2,300),$F261),CHAR(10),\"\"))","v":""},0,0,{"$f":"LEN(MID($N541,SUM($P541:P541)+1,IF(AND(($O541-SUM($P541:P541))>39,OR(MID($G541,SUM($P541:P541)+40,1)=\"、\",MID($G541,SUM($P541:P541)+40,1)=\"。\")),40,39)))","v":0},{"$f":"LEN(MID($N541,SUM($P541:Q541)+1,IF(AND(($O541-SUM($P541:Q541))>39,OR(MID($G541,SUM($P541:Q541)+40,1)=\"、\",MID($G541,SUM($P541:Q541)+40,1)=\"。\")),40,39)))","v":0},{"$f":"LEN(MID($N541,SUM($P541:R541)+1,IF(AND(($O541-SUM($P541:R541))>39,OR(MID($G541,SUM($P541:R541)+40,1)=\"、\",MID($G541,SUM($P541:R541)+40,1)=\"。\")),40,39)))","v":0},{"$f":"LEN(MID($N541,SUM($P541:S541)+1,IF(AND(($O541-SUM($P541:S541))>39,OR(MID($G541,SUM($P541:S541)+40,1)=\"、\",MID($G541,SUM($P541:S541)+40,1)=\"。\")),40,39)))","v":0},{"$f":"LEN(MID($N541,SUM($P541:T541)+1,IF(AND(($O541-SUM($P541:T541))>39,OR(MID($G541,SUM($P541:T541)+40,1)=\"、\",MID($G541,SUM($P541:T541)+40,1)=\"。\")),40,39)))","v":0}]
[null,null,null,null,null,null,null,"４－11 外出して戻れない","外出して戻れない",1,{"$f":"VLOOKUP(DBCS(J542),調査票入力!B268:C272,2,0)","v":"支援が不要"},"","支援不要",{"$f":"IF($F268=\"\",\"\",\"　\"&SUBSTITUTE(IF(ASC(MID($F268,1,1))=\" \",MID($F268,2,300),$F268),CHAR(10),\"\"))","v":""},0,0,{"$f":"LEN(MID($N542,SUM($P542:P542)+1,IF(AND(($O542-SUM($P542:P542))>39,OR(MID($G542,SUM($P542:P542)+40,1)=\"、\",MID($G542,SUM($P542:P542)+40,1)=\"。\")),40,39)))","v":0},{"$f":"LEN(MID($N542,SUM($P542:Q542)+1,IF(AND(($O542-SUM($P542:Q542))>39,OR(MID($G542,SUM($P542:Q542)+40,1)=\"、\",MID($G542,SUM($P542:Q542)+40,1)=\"。\")),40,39)))","v":0},{"$f":"LEN(MID($N542,SUM($P542:R542)+1,IF(AND(($O542-SUM($P542:R542))>39,OR(MID($G542,SUM($P542:R542)+40,1)=\"、\",MID($G542,SUM($P542:R542)+40,1)=\"。\")),40,39)))","v":0},{"$f":"LEN(MID($N542,SUM($P542:S542)+1,IF(AND(($O542-SUM($P542:S542))>39,OR(MID($G542,SUM($P542:S542)+40,1)=\"、\",MID($G542,SUM($P542:S542)+40,1)=\"。\")),40,39)))","v":0},{"$f":"LEN(MID($N542,SUM($P542:T542)+1,IF(AND(($O542-SUM($P542:T542))>39,OR(MID($G542,SUM($P542:T542)+40,1)=\"、\",MID($G542,SUM($P542:T542)+40,1)=\"。\")),40,39)))","v":0}]
[null,null,null,null,null,null,null,"４－12 １人で出たがる","１人で出たがる",1,{"$f":"VLOOKUP(DBCS(J543),調査票入力!B275:C279,2,0)","v":"支援が不要"},"","支援不要",{"$f":"IF($F275=\"\",\"\",\"　\"&SUBSTITUTE(IF(ASC(MID($F275,1,1))=\" \",MID($F275,2,300),$F275),CHAR(10),\"\"))","v":""},0,0,{"$f":"LEN(MID($N543,SUM($P543:P543)+1,IF(AND(($O543-SUM($P543:P543))>39,OR(MID($G543,SUM($P543:P543)+40,1)=\"、\",MID($G543,SUM($P543:P543)+40,1)=\"。\")),40,39)))","v":0},{"$f":"LEN(MID($N543,SUM($P543:Q543)+1,IF(AND(($O543-SUM($P543:Q543))>39,OR(MID($G543,SUM($P543:Q543)+40,1)=\"、\",MID($G543,SUM($P543:Q543)+40,1)=\"。\")),40,39)))","v":0},{"$f":"LEN(MID($N543,SUM($P543:R543)+1,IF(AND(($O543-SUM($P543:R543))>39,OR(MID($G543,SUM($P543:R543)+40,1)=\"、\",MID($G543,SUM($P543:R543)+40,1)=\"。\")),40,39)))","v":0},{"$f":"LEN(MID($N543,SUM($P543:S543)+1,IF(AND(($O543-SUM($P543:S543))>39,OR(MID($G543,SUM($P543:S543)+40,1)=\"、\",MID($G543,SUM($P543:S543)+40,1)=\"。\")),40,39)))","v":0},{"$f":"LEN(MID($N543,SUM($P543:T543)+1,IF(AND(($O543-SUM($P543:T543))>39,OR(MID($G543,SUM($P543:T543)+40,1)=\"、\",MID($G543,SUM($P543:T543)+40,1)=\"。\")),40,39)))","v":0}]
[null,null,null,null,null,null,null,"４－13 収集癖","収集癖",1,{"$f":"VLOOKUP(DBCS(J544),調査票入力!B282:C286,2,0)","v":"支援が不要"},"","支援不要",{"$f":"IF($F282=\"\",\"\",\"　\"&SUBSTITUTE(IF(ASC(MID($F282,1,1))=\" \",MID($F282,2,300),$F282),CHAR(10),\"\"))","v":""},0,0,{"$f":"LEN(MID($N544,SUM($P544:P544)+1,IF(AND(($O544-SUM($P544:P544))>39,OR(MID($G544,SUM($P544:P544)+40,1)=\"、\",MID($G544,SUM($P544:P544)+40,1)=\"。\")),40,39)))","v":0},{"$f":"LEN(MID($N544,SUM($P544:Q544)+1,IF(AND(($O544-SUM($P544:Q544))>39,OR(MID($G544,SUM($P544:Q544)+40,1)=\"、\",MID($G544,SUM($P544:Q544)+40,1)=\"。\")),40,39)))","v":0},{"$f":"LEN(MID($N544,SUM($P544:R544)+1,IF(AND(($O544-SUM($P544:R544))>39,OR(MID($G544,SUM($P544:R544)+40,1)=\"、\",MID($G544,SUM($P544:R544)+40,1)=\"。\")),40,39)))","v":0},{"$f":"LEN(MID($N544,SUM($P544:S544)+1,IF(AND(($O544-SUM($P544:S544))>39,OR(MID($G544,SUM($P544:S544)+40,1)=\"、\",MID($G544,SUM($P544:S544)+40,1)=\"。\")),40,39)))","v":0},{"$f":"LEN(MID($N544,SUM($P544:T544)+1,IF(AND(($O544-SUM($P544:T544))>39,OR(MID($G544,SUM($P544:T544)+40,1)=\"、\",MID($G544,SUM($P544:T544)+40,1)=\"。\")),40,39)))","v":0}]
[null,null,null,null,null,null,null,"４－14 物や衣類を壊す","物や衣類を壊す",1,{"$f":"VLOOKUP(DBCS(J545),調査票入力!B289:C293,2,0)","v":"支援が不要"},"","支援不要",{"$f":"IF($F289=\"\",\"\",\"　\"&SUBSTITUTE(IF(ASC(MID($F289,1,1))=\" \",MID($F289,2,300),$F289),CHAR(10),\"\"))","v":""},0,0,{"$f":"LEN(MID($N545,SUM($P545:P545)+1,IF(AND(($O545-SUM($P545:P545))>39,OR(MID($G545,SUM($P545:P545)+40,1)=\"、\",MID($G545,SUM($P545:P545)+40,1)=\"。\")),40,39)))","v":0},{"$f":"LEN(MID($N545,SUM($P545:Q545)+1,IF(AND(($O545-SUM($P545:Q545))>39,OR(MID($G545,SUM($P545:Q545)+40,1)=\"、\",MID($G545,SUM($P545:Q545)+40,1)=\"。\")),40,39)))","v":0},{"$f":"LEN(MID($N545,SUM($P545:R545)+1,IF(AND(($O545-SUM($P545:R545))>39,OR(MID($G545,SUM($P545:R545)+40,1)=\"、\",MID($G545,SUM($P545:R545)+40,1)=\"。\")),40,39)))","v":0},{"$f":"LEN(MID($N545,SUM($P545:S545)+1,IF(AND(($O545-SUM($P545:S545))>39,OR(MID($G545,SUM($P545:S545)+40,1)=\"、\",MID($G545,SUM($P545:S545)+40,1)=\"。\")),40,39)))","v":0},{"$f":"LEN(MID($N545,SUM($P545:T545)+1,IF(AND(($O545-SUM($P545:T545))>39,OR(MID($G545,SUM($P545:T545)+40,1)=\"、\",MID($G545,SUM($P545:T545)+40,1)=\"。\")),40,39)))","v":0}]
[null,null,null,null,null,null,null,"４－15 不潔行為","不潔行為",1,{"$f":"VLOOKUP(DBCS(J546),調査票入力!B296:C300,2,0)","v":"支援が不要"},"","支援不要",{"$f":"IF($F296=\"\",\"\",\"　\"&SUBSTITUTE(IF(ASC(MID($F296,1,1))=\" \",MID($F296,2,300),$F296),CHAR(10),\"\"))","v":""},0,0,{"$f":"LEN(MID($N546,SUM($P546:P546)+1,IF(AND(($O546-SUM($P546:P546))>39,OR(MID($G546,SUM($P546:P546)+40,1)=\"、\",MID($G546,SUM($P546:P546)+40,1)=\"。\")),40,39)))","v":0},{"$f":"LEN(MID($N546,SUM($P546:Q546)+1,IF(AND(($O546-SUM($P546:Q546))>39,OR(MID($G546,SUM($P546:Q546)+40,1)=\"、\",MID($G546,SUM($P546:Q546)+40,1)=\"。\")),40,39)))","v":0},{"$f":"LEN(MID($N546,SUM($P546:R546)+1,IF(AND(($O546-SUM($P546:R546))>39,OR(MID($G546,SUM($P546:R546)+40,1)=\"、\",MID($G546,SUM($P546:R546)+40,1)=\"。\")),40,39)))","v":0},{"$f":"LEN(MID($N546,SUM($P546:S546)+1,IF(AND(($O546-SUM($P546:S546))>39,OR(MID($G546,SUM($P546:S546)+40,1)=\"、\",MID($G546,SUM($P546:S546)+40,1)=\"。\")),40,39)))","v":0},{"$f":"LEN(MID($N546,SUM($P546:T546)+1,IF(AND(($O546-SUM($P546:T546))>39,OR(MID($G546,SUM($P546:T546)+40,1)=\"、\",MID($G546,SUM($P546:T546)+40,1)=\"。\")),40,39)))","v":0}]
[null,null,null,null,null,null,null,"４－16 異食行動","異食行動",1,{"$f":"VLOOKUP(DBCS(J547),調査票入力!B303:C307,2,0)","v":"支援が不要"},"","支援不要",{"$f":"IF($F303=\"\",\"\",\"　\"&SUBSTITUTE(IF(ASC(MID($F303,1,1))=\" \",MID($F303,2,300),$F303),CHAR(10),\"\"))","v":""},0,0,{"$f":"LEN(MID($N547,SUM($P547:P547)+1,IF(AND(($O547-SUM($P547:P547))>39,OR(MID($G547,SUM($P547:P547)+40,1)=\"、\",MID($G547,SUM($P547:P547)+40,1)=\"。\")),40,39)))","v":0},{"$f":"LEN(MID($N547,SUM($P547:Q547)+1,IF(AND(($O547-SUM($P547:Q547))>39,OR(MID($G547,SUM($P547:Q547)+40,1)=\"、\",MID($G547,SUM($P547:Q547)+40,1)=\"。\")),40,39)))","v":0},{"$f":"LEN(MID($N547,SUM($P547:R547)+1,IF(AND(($O547-SUM($P547:R547))>39,OR(MID($G547,SUM($P547:R547)+40,1)=\"、\",MID($G547,SUM($P547:R547)+40,1)=\"。\")),40,39)))","v":0},{"$f":"LEN(MID($N547,SUM($P547:S547)+1,IF(AND(($O547-SUM($P547:S547))>39,OR(MID($G547,SUM($P547:S547)+40,1)=\"、\",MID($G547,SUM($P547:S547)+40,1)=\"。\")),40,39)))","v":0},{"$f":"LEN(MID($N547,SUM($P547:T547)+1,IF(AND(($O547-SUM($P547:T547))>39,OR(MID($G547,SUM($P547:T547)+40,1)=\"、\",MID($G547,SUM($P547:T547)+40,1)=\"。\")),40,39)))","v":0}]
[null,null,null,null,null,null,null,"４－17 ひどい物忘れ","ひどい物忘れ",1,{"$f":"VLOOKUP(DBCS(J548),調査票入力!B310:C314,2,0)","v":"支援が不要"},"","支援不要",{"$f":"IF($F310=\"\",\"\",\"　\"&SUBSTITUTE(IF(ASC(MID($F310,1,1))=\" \",MID($F310,2,300),$F310),CHAR(10),\"\"))","v":""},0,0,{"$f":"LEN(MID($N548,SUM($P548:P548)+1,IF(AND(($O548-SUM($P548:P548))>39,OR(MID($G548,SUM($P548:P548)+40,1)=\"、\",MID($G548,SUM($P548:P548)+40,1)=\"。\")),40,39)))","v":0},{"$f":"LEN(MID($N548,SUM($P548:Q548)+1,IF(AND(($O548-SUM($P548:Q548))>39,OR(MID($G548,SUM($P548:Q548)+40,1)=\"、\",MID($G548,SUM($P548:Q548)+40,1)=\"。\")),40,39)))","v":0},{"$f":"LEN(MID($N548,SUM($P548:R548)+1,IF(AND(($O548-SUM($P548:R548))>39,OR(MID($G548,SUM($P548:R548)+40,1)=\"、\",MID($G548,SUM($P548:R548)+40,1)=\"。\")),40,39)))","v":0},{"$f":"LEN(MID($N548,SUM($P548:S548)+1,IF(AND(($O548-SUM($P548:S548))>39,OR(MID($G548,SUM($P548:S548)+40,1)=\"、\",MID($G548,SUM($P548:S548)+40,1)=\"。\")),40,39)))","v":0},{"$f":"LEN(MID($N548,SUM($P548:T548)+1,IF(AND(($O548-SUM($P548:T548))>39,OR(MID($G548,SUM($P548:T548)+40,1)=\"、\",MID($G548,SUM($P548:T548)+40,1)=\"。\")),40,39)))","v":0}]
[null,null,null,null,null,null,null,"４－18 こだわり","こだわり",1,{"$f":"VLOOKUP(DBCS(J549),調査票入力!B317:C321,2,0)","v":"支援が不要"},"","支援不要",{"$f":"IF($F317=\"\",\"\",\"　\"&SUBSTITUTE(IF(ASC(MID($F317,1,1))=\" \",MID($F317,2,300),$F317),CHAR(10),\"\"))","v":""},0,0,{"$f":"LEN(MID($N549,SUM($P549:P549)+1,IF(AND(($O549-SUM($P549:P549))>39,OR(MID($G549,SUM($P549:P549)+40,1)=\"、\",MID($G549,SUM($P549:P549)+40,1)=\"。\")),40,39)))","v":0},{"$f":"LEN(MID($N549,SUM($P549:Q549)+1,IF(AND(($O549-SUM($P549:Q549))>39,OR(MID($G549,SUM($P549:Q549)+40,1)=\"、\",MID($G549,SUM($P549:Q549)+40,1)=\"。\")),40,39)))","v":0},{"$f":"LEN(MID($N549,SUM($P549:R549)+1,IF(AND(($O549-SUM($P549:R549))>39,OR(MID($G549,SUM($P549:R549)+40,1)=\"、\",MID($G549,SUM($P549:R549)+40,1)=\"。\")),40,39)))","v":0},{"$f":"LEN(MID($N549,SUM($P549:S549)+1,IF(AND(($O549-SUM($P549:S549))>39,OR(MID($G549,SUM($P549:S549)+40,1)=\"、\",MID($G549,SUM($P549:S549)+40,1)=\"。\")),40,39)))","v":0},{"$f":"LEN(MID($N549,SUM($P549:T549)+1,IF(AND(($O549-SUM($P549:T549))>39,OR(MID($G549,SUM($P549:T549)+40,1)=\"、\",MID($G549,SUM($P549:T549)+40,1)=\"。\")),40,39)))","v":0}]
[null,null,null,null,null,null,null,"４－19 多動・行動停止","多動・行動停止",1,{"$f":"VLOOKUP(DBCS(J550),調査票入力!B324:C328,2,0)","v":"支援が不要"},"","支援不要",{"$f":"IF($F324=\"\",\"\",\"　\"&SUBSTITUTE(IF(ASC(MID($F324,1,1))=\" \",MID($F324,2,300),$F324),CHAR(10),\"\"))","v":""},0,0,{"$f":"LEN(MID($N550,SUM($P550:P550)+1,IF(AND(($O550-SUM($P550:P550))>39,OR(MID($G550,SUM($P550:P550)+40,1)=\"、\",MID($G550,SUM($P550:P550)+40,1)=\"。\")),40,39)))","v":0},{"$f":"LEN(MID($N550,SUM($P550:Q550)+1,IF(AND(($O550-SUM($P550:Q550))>39,OR(MID($G550,SUM($P550:Q550)+40,1)=\"、\",MID($G550,SUM($P550:Q550)+40,1)=\"。\")),40,39)))","v":0},{"$f":"LEN(MID($N550,SUM($P550:R550)+1,IF(AND(($O550-SUM($P550:R550))>39,OR(MID($G550,SUM($P550:R550)+40,1)=\"、\",MID($G550,SUM($P550:R550)+40,1)=\"。\")),40,39)))","v":0},{"$f":"LEN(MID($N550,SUM($P550:S550)+1,IF(AND(($O550-SUM($P550:S550))>39,OR(MID($G550,SUM($P550:S550)+40,1)=\"、\",MID($G550,SUM($P550:S550)+40,1)=\"。\")),40,39)))","v":0},{"$f":"LEN(MID($N550,SUM($P550:T550)+1,IF(AND(($O550-SUM($P550:T550))>39,OR(MID($G550,SUM($P550:T550)+40,1)=\"、\",MID($G550,SUM($P550:T550)+40,1)=\"。\")),40,39)))","v":0}]
[null,null,null,null,null,null,null,"４－20 不安定な行動","不安定な行動",1,{"$f":"VLOOKUP(DBCS(J551),調査票入力!B331:C335,2,0)","v":"支援が不要"},"","支援不要",{"$f":"IF($F331=\"\",\"\",\"　\"&SUBSTITUTE(IF(ASC(MID($F331,1,1))=\" \",MID($F331,2,300),$F331),CHAR(10),\"\"))","v":""},0,0,{"$f":"LEN(MID($N551,SUM($P551:P551)+1,IF(AND(($O551-SUM($P551:P551))>39,OR(MID($G551,SUM($P551:P551)+40,1)=\"、\",MID($G551,SUM($P551:P551)+40,1)=\"。\")),40,39)))","v":0},{"$f":"LEN(MID($N551,SUM($P551:Q551)+1,IF(AND(($O551-SUM($P551:Q551))>39,OR(MID($G551,SUM($P551:Q551)+40,1)=\"、\",MID($G551,SUM($P551:Q551)+40,1)=\"。\")),40,39)))","v":0},{"$f":"LEN(MID($N551,SUM($P551:R551)+1,IF(AND(($O551-SUM($P551:R551))>39,OR(MID($G551,SUM($P551:R551)+40,1)=\"、\",MID($G551,SUM($P551:R551)+40,1)=\"。\")),40,39)))","v":0},{"$f":"LEN(MID($N551,SUM($P551:S551)+1,IF(AND(($O551-SUM($P551:S551))>39,OR(MID($G551,SUM($P551:S551)+40,1)=\"、\",MID($G551,SUM($P551:S551)+40,1)=\"。\")),40,39)))","v":0},{"$f":"LEN(MID($N551,SUM($P551:T551)+1,IF(AND(($O551-SUM($P551:T551))>39,OR(MID($G551,SUM($P551:T551)+40,1)=\"、\",MID($G551,SUM($P551:T551)+40,1)=\"。\")),40,39)))","v":0}]
[null,null,null,null,null,null,null,"４－21 自らを傷つける行為","自らを傷つける行為",1,{"$f":"VLOOKUP(DBCS(J552),調査票入力!B338:C342,2,0)","v":"支援が不要"},"","支援不要",{"$f":"IF($F338=\"\",\"\",\"　\"&SUBSTITUTE(IF(ASC(MID($F338,1,1))=\" \",MID($F338,2,300),$F338),CHAR(10),\"\"))","v":""},0,0,{"$f":"LEN(MID($N552,SUM($P552:P552)+1,IF(AND(($O552-SUM($P552:P552))>39,OR(MID($G552,SUM($P552:P552)+40,1)=\"、\",MID($G552,SUM($P552:P552)+40,1)=\"。\")),40,39)))","v":0},{"$f":"LEN(MID($N552,SUM($P552:Q552)+1,IF(AND(($O552-SUM($P552:Q552))>39,OR(MID($G552,SUM($P552:Q552)+40,1)=\"、\",MID($G552,SUM($P552:Q552)+40,1)=\"。\")),40,39)))","v":0},{"$f":"LEN(MID($N552,SUM($P552:R552)+1,IF(AND(($O552-SUM($P552:R552))>39,OR(MID($G552,SUM($P552:R552)+40,1)=\"、\",MID($G552,SUM($P552:R552)+40,1)=\"。\")),40,39)))","v":0},{"$f":"LEN(MID($N552,SUM($P552:S552)+1,IF(AND(($O552-SUM($P552:S552))>39,OR(MID($G552,SUM($P552:S552)+40,1)=\"、\",MID($G552,SUM($P552:S552)+40,1)=\"。\")),40,39)))","v":0},{"$f":"LEN(MID($N552,SUM($P552:T552)+1,IF(AND(($O552-SUM($P552:T552))>39,OR(MID($G552,SUM($P552:T552)+40,1)=\"、\",MID($G552,SUM($P552:T552)+40,1)=\"。\")),40,39)))","v":0}]
[null,null,null,null,null,null,null,"４－22 他人を傷つける行為","他人を傷つける行為",1,{"$f":"VLOOKUP(DBCS(J553),調査票入力!B345:C349,2,0)","v":"支援が不要"},"","支援不要",{"$f":"IF($F345=\"\",\"\",\"　\"&SUBSTITUTE(IF(ASC(MID($F345,1,1))=\" \",MID($F345,2,300),$F345),CHAR(10),\"\"))","v":""},0,0,{"$f":"LEN(MID($N553,SUM($P553:P553)+1,IF(AND(($O553-SUM($P553:P553))>39,OR(MID($G553,SUM($P553:P553)+40,1)=\"、\",MID($G553,SUM($P553:P553)+40,1)=\"。\")),40,39)))","v":0},{"$f":"LEN(MID($N553,SUM($P553:Q553)+1,IF(AND(($O553-SUM($P553:Q553))>39,OR(MID($G553,SUM($P553:Q553)+40,1)=\"、\",MID($G553,SUM($P553:Q553)+40,1)=\"。\")),40,39)))","v":0},{"$f":"LEN(MID($N553,SUM($P553:R553)+1,IF(AND(($O553-SUM($P553:R553))>39,OR(MID($G553,SUM($P553:R553)+40,1)=\"、\",MID($G553,SUM($P553:R553)+40,1)=\"。\")),40,39)))","v":0},{"$f":"LEN(MID($N553,SUM($P553:S553)+1,IF(AND(($O553-SUM($P553:S553))>39,OR(MID($G553,SUM($P553:S553)+40,1)=\"、\",MID($G553,SUM($P553:S553)+40,1)=\"。\")),40,39)))","v":0},{"$f":"LEN(MID($N553,SUM($P553:T553)+1,IF(AND(($O553-SUM($P553:T553))>39,OR(MID($G553,SUM($P553:T553)+40,1)=\"、\",MID($G553,SUM($P553:T553)+40,1)=\"。\")),40,39)))","v":0}]
[null,null,null,null,null,null,null,"４－23 不適切な行為","不適切な行為",1,{"$f":"VLOOKUP(DBCS(J554),調査票入力!B352:C356,2,0)","v":"支援が不要"},"","支援不要",{"$f":"IF($F352=\"\",\"\",\"　\"&SUBSTITUTE(IF(ASC(MID($F352,1,1))=\" \",MID($F352,2,300),$F352),CHAR(10),\"\"))","v":""},0,0,{"$f":"LEN(MID($N554,SUM($P554:P554)+1,IF(AND(($O554-SUM($P554:P554))>39,OR(MID($G554,SUM($P554:P554)+40,1)=\"、\",MID($G554,SUM($P554:P554)+40,1)=\"。\")),40,39)))","v":0},{"$f":"LEN(MID($N554,SUM($P554:Q554)+1,IF(AND(($O554-SUM($P554:Q554))>39,OR(MID($G554,SUM($P554:Q554)+40,1)=\"、\",MID($G554,SUM($P554:Q554)+40,1)=\"。\")),40,39)))","v":0},{"$f":"LEN(MID($N554,SUM($P554:R554)+1,IF(AND(($O554-SUM($P554:R554))>39,OR(MID($G554,SUM($P554:R554)+40,1)=\"、\",MID($G554,SUM($P554:R554)+40,1)=\"。\")),40,39)))","v":0},{"$f":"LEN(MID($N554,SUM($P554:S554)+1,IF(AND(($O554-SUM($P554:S554))>39,OR(MID($G554,SUM($P554:S554)+40,1)=\"、\",MID($G554,SUM($P554:S554)+40,1)=\"。\")),40,39)))","v":0},{"$f":"LEN(MID($N554,SUM($P554:T554)+1,IF(AND(($O554-SUM($P554:T554))>39,OR(MID($G554,SUM($P554:T554)+40,1)=\"、\",MID($G554,SUM($P554:T554)+40,1)=\"。\")),40,39)))","v":0}]
[null,null,null,null,null,null,null,"４－24 突発的な行動","突発的な行動",1,{"$f":"VLOOKUP(DBCS(J555),調査票入力!B359:C363,2,0)","v":"支援が不要"},"","支援不要",{"$f":"IF($F359=\"\",\"\",\"　\"&SUBSTITUTE(IF(ASC(MID($F359,1,1))=\" \",MID($F359,2,300),$F359),CHAR(10),\"\"))","v":""},0,0,{"$f":"LEN(MID($N555,SUM($P555:P555)+1,IF(AND(($O555-SUM($P555:P555))>39,OR(MID($G555,SUM($P555:P555)+40,1)=\"、\",MID($G555,SUM($P555:P555)+40,1)=\"。\")),40,39)))","v":0},{"$f":"LEN(MID($N555,SUM($P555:Q555)+1,IF(AND(($O555-SUM($P555:Q555))>39,OR(MID($G555,SUM($P555:Q555)+40,1)=\"、\",MID($G555,SUM($P555:Q555)+40,1)=\"。\")),40,39)))","v":0},{"$f":"LEN(MID($N555,SUM($P555:R555)+1,IF(AND(($O555-SUM($P555:R555))>39,OR(MID($G555,SUM($P555:R555)+40,1)=\"、\",MID($G555,SUM($P555:R555)+40,1)=\"。\")),40,39)))","v":0},{"$f":"LEN(MID($N555,SUM($P555:S555)+1,IF(AND(($O555-SUM($P555:S555))>39,OR(MID($G555,SUM($P555:S555)+40,1)=\"、\",MID($G555,SUM($P555:S555)+40,1)=\"。\")),40,39)))","v":0},{"$f":"LEN(MID($N555,SUM($P555:T555)+1,IF(AND(($O555-SUM($P555:T555))>39,OR(MID($G555,SUM($P555:T555)+40,1)=\"、\",MID($G555,SUM($P555:T555)+40,1)=\"。\")),40,39)))","v":0}]
[null,null,null,null,null,null,null,"４－25 過食・反すう等","過食・反すう等",1,{"$f":"VLOOKUP(DBCS(J556),調査票入力!B366:C370,2,0)","v":"支援が不要"},"","支援不要",{"$f":"IF($F366=\"\",\"\",\"　\"&SUBSTITUTE(IF(ASC(MID($F366,1,1))=\" \",MID($F366,2,300),$F366),CHAR(10),\"\"))","v":""},0,0,{"$f":"LEN(MID($N556,SUM($P556:P556)+1,IF(AND(($O556-SUM($P556:P556))>39,OR(MID($G556,SUM($P556:P556)+40,1)=\"、\",MID($G556,SUM($P556:P556)+40,1)=\"。\")),40,39)))","v":0},{"$f":"LEN(MID($N556,SUM($P556:Q556)+1,IF(AND(($O556-SUM($P556:Q556))>39,OR(MID($G556,SUM($P556:Q556)+40,1)=\"、\",MID($G556,SUM($P556:Q556)+40,1)=\"。\")),40,39)))","v":0},{"$f":"LEN(MID($N556,SUM($P556:R556)+1,IF(AND(($O556-SUM($P556:R556))>39,OR(MID($G556,SUM($P556:R556)+40,1)=\"、\",MID($G556,SUM($P556:R556)+40,1)=\"。\")),40,39)))","v":0},{"$f":"LEN(MID($N556,SUM($P556:S556)+1,IF(AND(($O556-SUM($P556:S556))>39,OR(MID($G556,SUM($P556:S556)+40,1)=\"、\",MID($G556,SUM($P556:S556)+40,1)=\"。\")),40,39)))","v":0},{"$f":"LEN(MID($N556,SUM($P556:T556)+1,IF(AND(($O556-SUM($P556:T556))>39,OR(MID($G556,SUM($P556:T556)+40,1)=\"、\",MID($G556,SUM($P556:T556)+40,1)=\"。\")),40,39)))","v":0}]
[null,null,null,null,null,null,null,"４－26 そう鬱状態","そう鬱状態",1,{"$f":"VLOOKUP(DBCS(J557),調査票入力!B373:C377,2,0)","v":"支援が不要"},"","支援不要",{"$f":"IF($F373=\"\",\"\",\"　\"&SUBSTITUTE(IF(ASC(MID($F373,1,1))=\" \",MID($F373,2,300),$F373),CHAR(10),\"\"))","v":""},0,0,{"$f":"LEN(MID($N557,SUM($P557:P557)+1,IF(AND(($O557-SUM($P557:P557))>39,OR(MID($G557,SUM($P557:P557)+40,1)=\"、\",MID($G557,SUM($P557:P557)+40,1)=\"。\")),40,39)))","v":0},{"$f":"LEN(MID($N557,SUM($P557:Q557)+1,IF(AND(($O557-SUM($P557:Q557))>39,OR(MID($G557,SUM($P557:Q557)+40,1)=\"、\",MID($G557,SUM($P557:Q557)+40,1)=\"。\")),40,39)))","v":0},{"$f":"LEN(MID($N557,SUM($P557:R557)+1,IF(AND(($O557-SUM($P557:R557))>39,OR(MID($G557,SUM($P557:R557)+40,1)=\"、\",MID($G557,SUM($P557:R557)+40,1)=\"。\")),40,39)))","v":0},{"$f":"LEN(MID($N557,SUM($P557:S557)+1,IF(AND(($O557-SUM($P557:S557))>39,OR(MID($G557,SUM($P557:S557)+40,1)=\"、\",MID($G557,SUM($P557:S557)+40,1)=\"。\")),40,39)))","v":0},{"$f":"LEN(MID($N557,SUM($P557:T557)+1,IF(AND(($O557-SUM($P557:T557))>39,OR(MID($G557,SUM($P557:T557)+40,1)=\"、\",MID($G557,SUM($P557:T557)+40,1)=\"。\")),40,39)))","v":0}]
[null,null,null,null,null,null,null,"４－27 反復的行動","反復的行動",1,{"$f":"VLOOKUP(DBCS(J558),調査票入力!B380:C384,2,0)","v":"支援が不要"},"","支援不要",{"$f":"IF($F380=\"\",\"\",\"　\"&SUBSTITUTE(IF(ASC(MID($F380,1,1))=\" \",MID($F380,2,300),$F380),CHAR(10),\"\"))","v":""},0,0,{"$f":"LEN(MID($N558,SUM($P558:P558)+1,IF(AND(($O558-SUM($P558:P558))>39,OR(MID($G558,SUM($P558:P558)+40,1)=\"、\",MID($G558,SUM($P558:P558)+40,1)=\"。\")),40,39)))","v":0},{"$f":"LEN(MID($N558,SUM($P558:Q558)+1,IF(AND(($O558-SUM($P558:Q558))>39,OR(MID($G558,SUM($P558:Q558)+40,1)=\"、\",MID($G558,SUM($P558:Q558)+40,1)=\"。\")),40,39)))","v":0},{"$f":"LEN(MID($N558,SUM($P558:R558)+1,IF(AND(($O558-SUM($P558:R558))>39,OR(MID($G558,SUM($P558:R558)+40,1)=\"、\",MID($G558,SUM($P558:R558)+40,1)=\"。\")),40,39)))","v":0},{"$f":"LEN(MID($N558,SUM($P558:S558)+1,IF(AND(($O558-SUM($P558:S558))>39,OR(MID($G558,SUM($P558:S558)+40,1)=\"、\",MID($G558,SUM($P558:S558)+40,1)=\"。\")),40,39)))","v":0},{"$f":"LEN(MID($N558,SUM($P558:T558)+1,IF(AND(($O558-SUM($P558:T558))>39,OR(MID($G558,SUM($P558:T558)+40,1)=\"、\",MID($G558,SUM($P558:T558)+40,1)=\"。\")),40,39)))","v":0}]
[null,null,null,null,null,null,null,"４－28 対人面の不安緊張","対人面の不安緊張",1,{"$f":"VLOOKUP(DBCS(J559),調査票入力!B387:C391,2,0)","v":"支援が不要"},"","支援不要",{"$f":"IF($F387=\"\",\"\",\"　\"&SUBSTITUTE(IF(ASC(MID($F387,1,1))=\" \",MID($F387,2,300),$F387),CHAR(10),\"\"))","v":""},0,0,{"$f":"LEN(MID($N559,SUM($P559:P559)+1,IF(AND(($O559-SUM($P559:P559))>39,OR(MID($G559,SUM($P559:P559)+40,1)=\"、\",MID($G559,SUM($P559:P559)+40,1)=\"。\")),40,39)))","v":0},{"$f":"LEN(MID($N559,SUM($P559:Q559)+1,IF(AND(($O559-SUM($P559:Q559))>39,OR(MID($G559,SUM($P559:Q559)+40,1)=\"、\",MID($G559,SUM($P559:Q559)+40,1)=\"。\")),40,39)))","v":0},{"$f":"LEN(MID($N559,SUM($P559:R559)+1,IF(AND(($O559-SUM($P559:R559))>39,OR(MID($G559,SUM($P559:R559)+40,1)=\"、\",MID($G559,SUM($P559:R559)+40,1)=\"。\")),40,39)))","v":0},{"$f":"LEN(MID($N559,SUM($P559:S559)+1,IF(AND(($O559-SUM($P559:S559))>39,OR(MID($G559,SUM($P559:S559)+40,1)=\"、\",MID($G559,SUM($P559:S559)+40,1)=\"。\")),40,39)))","v":0},{"$f":"LEN(MID($N559,SUM($P559:T559)+1,IF(AND(($O559-SUM($P559:T559))>39,OR(MID($G559,SUM($P559:T559)+40,1)=\"、\",MID($G559,SUM($P559:T559)+40,1)=\"。\")),40,39)))","v":0}]
[null,null,null,null,null,null,null,"４－29 意欲が乏しい","意欲が乏しい",1,{"$f":"VLOOKUP(DBCS(J560),調査票入力!B394:C398,2,0)","v":"支援が不要"},"","支援不要",{"$f":"IF($F394=\"\",\"\",\"　\"&SUBSTITUTE(IF(ASC(MID($F394,1,1))=\" \",MID($F394,2,300),$F394),CHAR(10),\"\"))","v":""},0,0,{"$f":"LEN(MID($N560,SUM($P560:P560)+1,IF(AND(($O560-SUM($P560:P560))>39,OR(MID($G560,SUM($P560:P560)+40,1)=\"、\",MID($G560,SUM($P560:P560)+40,1)=\"。\")),40,39)))","v":0},{"$f":"LEN(MID($N560,SUM($P560:Q560)+1,IF(AND(($O560-SUM($P560:Q560))>39,OR(MID($G560,SUM($P560:Q560)+40,1)=\"、\",MID($G560,SUM($P560:Q560)+40,1)=\"。\")),40,39)))","v":0},{"$f":"LEN(MID($N560,SUM($P560:R560)+1,IF(AND(($O560-SUM($P560:R560))>39,OR(MID($G560,SUM($P560:R560)+40,1)=\"、\",MID($G560,SUM($P560:R560)+40,1)=\"。\")),40,39)))","v":0},{"$f":"LEN(MID($N560,SUM($P560:S560)+1,IF(AND(($O560-SUM($P560:S560))>39,OR(MID($G560,SUM($P560:S560)+40,1)=\"、\",MID($G560,SUM($P560:S560)+40,1)=\"。\")),40,39)))","v":0},{"$f":"LEN(MID($N560,SUM($P560:T560)+1,IF(AND(($O560-SUM($P560:T560))>39,OR(MID($G560,SUM($P560:T560)+40,1)=\"、\",MID($G560,SUM($P560:T560)+40,1)=\"。\")),40,39)))","v":0}]
[null,null,null,null,null,null,null,"４－30 話がまとまらない","話がまとまらない",1,{"$f":"VLOOKUP(DBCS(J561),調査票入力!B401:C405,2,0)","v":"支援が不要"},"","支援不要",{"$f":"IF($F401=\"\",\"\",\"　\"&SUBSTITUTE(IF(ASC(MID($F401,1,1))=\" \",MID($F401,2,300),$F401),CHAR(10),\"\"))","v":""},0,0,{"$f":"LEN(MID($N561,SUM($P561:P561)+1,IF(AND(($O561-SUM($P561:P561))>39,OR(MID($G561,SUM($P561:P561)+40,1)=\"、\",MID($G561,SUM($P561:P561)+40,1)=\"。\")),40,39)))","v":0},{"$f":"LEN(MID($N561,SUM($P561:Q561)+1,IF(AND(($O561-SUM($P561:Q561))>39,OR(MID($G561,SUM($P561:Q561)+40,1)=\"、\",MID($G561,SUM($P561:Q561)+40,1)=\"。\")),40,39)))","v":0},{"$f":"LEN(MID($N561,SUM($P561:R561)+1,IF(AND(($O561-SUM($P561:R561))>39,OR(MID($G561,SUM($P561:R561)+40,1)=\"、\",MID($G561,SUM($P561:R561)+40,1)=\"。\")),40,39)))","v":0},{"$f":"LEN(MID($N561,SUM($P561:S561)+1,IF(AND(($O561-SUM($P561:S561))>39,OR(MID($G561,SUM($P561:S561)+40,1)=\"、\",MID($G561,SUM($P561:S561)+40,1)=\"。\")),40,39)))","v":0},{"$f":"LEN(MID($N561,SUM($P561:T561)+1,IF(AND(($O561-SUM($P561:T561))>39,OR(MID($G561,SUM($P561:T561)+40,1)=\"、\",MID($G561,SUM($P561:T561)+40,1)=\"。\")),40,39)))","v":0}]
[null,null,null,null,null,null,null,"４－31 集中力が続かない","集中力が続かない",1,{"$f":"VLOOKUP(DBCS(J562),調査票入力!B408:C412,2,0)","v":"支援が不要"},"","支援不要",{"$f":"IF($F408=\"\",\"\",\"　\"&SUBSTITUTE(IF(ASC(MID($F408,1,1))=\" \",MID($F408,2,300),$F408),CHAR(10),\"\"))","v":""},0,0,{"$f":"LEN(MID($N562,SUM($P562:P562)+1,IF(AND(($O562-SUM($P562:P562))>39,OR(MID($G562,SUM($P562:P562)+40,1)=\"、\",MID($G562,SUM($P562:P562)+40,1)=\"。\")),40,39)))","v":0},{"$f":"LEN(MID($N562,SUM($P562:Q562)+1,IF(AND(($O562-SUM($P562:Q562))>39,OR(MID($G562,SUM($P562:Q562)+40,1)=\"、\",MID($G562,SUM($P562:Q562)+40,1)=\"。\")),40,39)))","v":0},{"$f":"LEN(MID($N562,SUM($P562:R562)+1,IF(AND(($O562-SUM($P562:R562))>39,OR(MID($G562,SUM($P562:R562)+40,1)=\"、\",MID($G562,SUM($P562:R562)+40,1)=\"。\")),40,39)))","v":0},{"$f":"LEN(MID($N562,SUM($P562:S562)+1,IF(AND(($O562-SUM($P562:S562))>39,OR(MID($G562,SUM($P562:S562)+40,1)=\"、\",MID($G562,SUM($P562:S562)+40,1)=\"。\")),40,39)))","v":0},{"$f":"LEN(MID($N562,SUM($P562:T562)+1,IF(AND(($O562-SUM($P562:T562))>39,OR(MID($G562,SUM($P562:T562)+40,1)=\"、\",MID($G562,SUM($P562:T562)+40,1)=\"。\")),40,39)))","v":0}]
[null,null,null,null,null,null,null,"４－32 自己の過大評価","自己の過大評価",1,{"$f":"VLOOKUP(DBCS(J563),調査票入力!B415:C419,2,0)","v":"支援が不要"},"","支援不要",{"$f":"IF($F415=\"\",\"\",\"　\"&SUBSTITUTE(IF(ASC(MID($F415,1,1))=\" \",MID($F415,2,300),$F415),CHAR(10),\"\"))","v":""},{"$f":"LEN($N563)","v":0},{"$f":"IF(OR(MID($N563,40,1)=\"、\",MID($N563,40,1)=\"。\"),40,IF(LEN($N563)>39,39,LEN($N563)))","v":0},{"$f":"LEN(MID($N563,SUM($P563:P563)+1,IF(AND(($O563-SUM($P563:P563))>39,OR(MID($G563,SUM($P563:P563)+40,1)=\"、\",MID($G563,SUM($P563:P563)+40,1)=\"。\")),40,39)))","v":0},{"$f":"LEN(MID($N563,SUM($P563:Q563)+1,IF(AND(($O563-SUM($P563:Q563))>39,OR(MID($G563,SUM($P563:Q563)+40,1)=\"、\",MID($G563,SUM($P563:Q563)+40,1)=\"。\")),40,39)))","v":0},{"$f":"LEN(MID($N563,SUM($P563:R563)+1,IF(AND(($O563-SUM($P563:R563))>39,OR(MID($G563,SUM($P563:R563)+40,1)=\"、\",MID($G563,SUM($P563:R563)+40,1)=\"。\")),40,39)))","v":0},{"$f":"LEN(MID($N563,SUM($P563:S563)+1,IF(AND(($O563-SUM($P563:S563))>39,OR(MID($G563,SUM($P563:S563)+40,1)=\"、\",MID($G563,SUM($P563:S563)+40,1)=\"。\")),40,39)))","v":0},{"$f":"LEN(MID($N563,SUM($P563:T563)+1,IF(AND(($O563-SUM($P563:T563))>39,OR(MID($G563,SUM($P563:T563)+40,1)=\"、\",MID($G563,SUM($P563:T563)+40,1)=\"。\")),40,39)))","v":0}]
[null,null,null,null,null,null,null,"４－33 集団への不適応","集団への不適応",1,{"$f":"VLOOKUP(DBCS(J564),調査票入力!B422:C426,2,0)","v":"支援が不要"},"","支援不要",{"$f":"IF($F422=\"\",\"\",\"　\"&SUBSTITUTE(IF(ASC(MID($F422,1,1))=\" \",MID($F422,2,300),$F422),CHAR(10),\"\"))","v":""},0,0,{"$f":"LEN(MID($N564,SUM($P564:P564)+1,IF(AND(($O564-SUM($P564:P564))>39,OR(MID($G564,SUM($P564:P564)+40,1)=\"、\",MID($G564,SUM($P564:P564)+40,1)=\"。\")),40,39)))","v":0},{"$f":"LEN(MID($N564,SUM($P564:Q564)+1,IF(AND(($O564-SUM($P564:Q564))>39,OR(MID($G564,SUM($P564:Q564)+40,1)=\"、\",MID($G564,SUM($P564:Q564)+40,1)=\"。\")),40,39)))","v":0},{"$f":"LEN(MID($N564,SUM($P564:R564)+1,IF(AND(($O564-SUM($P564:R564))>39,OR(MID($G564,SUM($P564:R564)+40,1)=\"、\",MID($G564,SUM($P564:R564)+40,1)=\"。\")),40,39)))","v":0},{"$f":"LEN(MID($N564,SUM($P564:S564)+1,IF(AND(($O564-SUM($P564:S564))>39,OR(MID($G564,SUM($P564:S564)+40,1)=\"、\",MID($G564,SUM($P564:S564)+40,1)=\"。\")),40,39)))","v":0},{"$f":"LEN(MID($N564,SUM($P564:T564)+1,IF(AND(($O564-SUM($P564:T564))>39,OR(MID($G564,SUM($P564:T564)+40,1)=\"、\",MID($G564,SUM($P564:T564)+40,1)=\"。\")),40,39)))","v":0}]
[null,null,null,null,null,null,null,"４－34 多飲水・過飲水","多飲水・過飲水",1,{"$f":"VLOOKUP(DBCS(J565),調査票入力!B429:C433,2,0)","v":"支援が不要"},"","支援不要",{"$f":"IF($F429=\"\",\"\",\"　\"&SUBSTITUTE(IF(ASC(MID($F429,1,1))=\" \",MID($F429,2,300),$F429),CHAR(10),\"\"))","v":""},0,0,{"$f":"LEN(MID($N565,SUM($P565:P565)+1,IF(AND(($O565-SUM($P565:P565))>39,OR(MID($G565,SUM($P565:P565)+40,1)=\"、\",MID($G565,SUM($P565:P565)+40,1)=\"。\")),40,39)))","v":0},{"$f":"LEN(MID($N565,SUM($P565:Q565)+1,IF(AND(($O565-SUM($P565:Q565))>39,OR(MID($G565,SUM($P565:Q565)+40,1)=\"、\",MID($G565,SUM($P565:Q565)+40,1)=\"。\")),40,39)))","v":0},{"$f":"LEN(MID($N565,SUM($P565:R565)+1,IF(AND(($O565-SUM($P565:R565))>39,OR(MID($G565,SUM($P565:R565)+40,1)=\"、\",MID($G565,SUM($P565:R565)+40,1)=\"。\")),40,39)))","v":0},{"$f":"LEN(MID($N565,SUM($P565:S565)+1,IF(AND(($O565-SUM($P565:S565))>39,OR(MID($G565,SUM($P565:S565)+40,1)=\"、\",MID($G565,SUM($P565:S565)+40,1)=\"。\")),40,39)))","v":0},{"$f":"LEN(MID($N565,SUM($P565:T565)+1,IF(AND(($O565-SUM($P565:T565))>39,OR(MID($G565,SUM($P565:T565)+40,1)=\"、\",MID($G565,SUM($P565:T565)+40,1)=\"。\")),40,39)))","v":0}]
[null,null,null,null,null,null,null,"５－１ 点滴の管理","点滴の管理",1,{"$f":"VLOOKUP(DBCS(J566),調査票入力!B438:C439,2,0)","v":"ない"},{"$f":"CHOOSE(J566,\"\",\"ある\")","v":""},{"$f":"CHOOSE(J566,\"ない\",\"ある\")","v":"ない"},{"$f":"IF($E438=\"\",\"\",\"　\"&SUBSTITUTE(IF(ASC(MID($E438,1,1))=\" \",MID($E438,2,300),$E438),CHAR(10),\"\"))","v":""},0,0,{"$f":"LEN(MID($N566,SUM($P566:P566)+1,IF(AND(($O566-SUM($P566:P566))>39,OR(MID($G566,SUM($P566:P566)+40,1)=\"、\",MID($G566,SUM($P566:P566)+40,1)=\"。\")),40,39)))","v":0},{"$f":"LEN(MID($N566,SUM($P566:Q566)+1,IF(AND(($O566-SUM($P566:Q566))>39,OR(MID($G566,SUM($P566:Q566)+40,1)=\"、\",MID($G566,SUM($P566:Q566)+40,1)=\"。\")),40,39)))","v":0},{"$f":"LEN(MID($N566,SUM($P566:R566)+1,IF(AND(($O566-SUM($P566:R566))>39,OR(MID($G566,SUM($P566:R566)+40,1)=\"、\",MID($G566,SUM($P566:R566)+40,1)=\"。\")),40,39)))","v":0},{"$f":"LEN(MID($N566,SUM($P566:S566)+1,IF(AND(($O566-SUM($P566:S566))>39,OR(MID($G566,SUM($P566:S566)+40,1)=\"、\",MID($G566,SUM($P566:S566)+40,1)=\"。\")),40,39)))","v":0},{"$f":"LEN(MID($N566,SUM($P566:T566)+1,IF(AND(($O566-SUM($P566:T566))>39,OR(MID($G566,SUM($P566:T566)+40,1)=\"、\",MID($G566,SUM($P566:T566)+40,1)=\"。\")),40,39)))","v":0}]
[null,null,null,null,null,null,null,"５－２ 中心静脈栄養","中心静脈栄養",1,{"$f":"VLOOKUP(DBCS(J567),調査票入力!B442:C443,2,0)","v":"ない"},"","ない",{"$f":"IF($E442=\"\",\"\",\"　\"&SUBSTITUTE(IF(ASC(MID($E442,1,1))=\" \",MID($E442,2,300),$E442),CHAR(10),\"\"))","v":""},0,0,{"$f":"LEN(MID($N567,SUM($P567:P567)+1,IF(AND(($O567-SUM($P567:P567))>39,OR(MID($G567,SUM($P567:P567)+40,1)=\"、\",MID($G567,SUM($P567:P567)+40,1)=\"。\")),40,39)))","v":0},{"$f":"LEN(MID($N567,SUM($P567:Q567)+1,IF(AND(($O567-SUM($P567:Q567))>39,OR(MID($G567,SUM($P567:Q567)+40,1)=\"、\",MID($G567,SUM($P567:Q567)+40,1)=\"。\")),40,39)))","v":0},{"$f":"LEN(MID($N567,SUM($P567:R567)+1,IF(AND(($O567-SUM($P567:R567))>39,OR(MID($G567,SUM($P567:R567)+40,1)=\"、\",MID($G567,SUM($P567:R567)+40,1)=\"。\")),40,39)))","v":0},{"$f":"LEN(MID($N567,SUM($P567:S567)+1,IF(AND(($O567-SUM($P567:S567))>39,OR(MID($G567,SUM($P567:S567)+40,1)=\"、\",MID($G567,SUM($P567:S567)+40,1)=\"。\")),40,39)))","v":0},{"$f":"LEN(MID($N567,SUM($P567:T567)+1,IF(AND(($O567-SUM($P567:T567))>39,OR(MID($G567,SUM($P567:T567)+40,1)=\"、\",MID($G567,SUM($P567:T567)+40,1)=\"。\")),40,39)))","v":0}]
[null,null,null,null,null,null,null,"５－３ 透析","透析",1,{"$f":"VLOOKUP(DBCS(J568),調査票入力!B446:C447,2,0)","v":"ない"},"","ない",{"$f":"IF($E446=\"\",\"\",\"　\"&SUBSTITUTE(IF(ASC(MID($E446,1,1))=\" \",MID($E446,2,300),$E446),CHAR(10),\"\"))","v":""},0,0,{"$f":"LEN(MID($N568,SUM($P568:P568)+1,IF(AND(($O568-SUM($P568:P568))>39,OR(MID($G568,SUM($P568:P568)+40,1)=\"、\",MID($G568,SUM($P568:P568)+40,1)=\"。\")),40,39)))","v":0},{"$f":"LEN(MID($N568,SUM($P568:Q568)+1,IF(AND(($O568-SUM($P568:Q568))>39,OR(MID($G568,SUM($P568:Q568)+40,1)=\"、\",MID($G568,SUM($P568:Q568)+40,1)=\"。\")),40,39)))","v":0},{"$f":"LEN(MID($N568,SUM($P568:R568)+1,IF(AND(($O568-SUM($P568:R568))>39,OR(MID($G568,SUM($P568:R568)+40,1)=\"、\",MID($G568,SUM($P568:R568)+40,1)=\"。\")),40,39)))","v":0},{"$f":"LEN(MID($N568,SUM($P568:S568)+1,IF(AND(($O568-SUM($P568:S568))>39,OR(MID($G568,SUM($P568:S568)+40,1)=\"、\",MID($G568,SUM($P568:S568)+40,1)=\"。\")),40,39)))","v":0},{"$f":"LEN(MID($N568,SUM($P568:T568)+1,IF(AND(($O568-SUM($P568:T568))>39,OR(MID($G568,SUM($P568:T568)+40,1)=\"、\",MID($G568,SUM($P568:T568)+40,1)=\"。\")),40,39)))","v":0}]
[null,null,null,null,null,null,null,"５－４ ストーマの処置(人工肛門の処置)","ストーマの処置(人工肛門の処置)",1,{"$f":"VLOOKUP(DBCS(J569),調査票入力!B450:C451,2,0)","v":"ない"},"","ない",{"$f":"IF($E450=\"\",\"\",\"　\"&SUBSTITUTE(IF(ASC(MID($E450,1,1))=\" \",MID($E450,2,300),$E450),CHAR(10),\"\"))","v":""},0,0,{"$f":"LEN(MID($N569,SUM($P569:P569)+1,IF(AND(($O569-SUM($P569:P569))>39,OR(MID($G569,SUM($P569:P569)+40,1)=\"、\",MID($G569,SUM($P569:P569)+40,1)=\"。\")),40,39)))","v":0},{"$f":"LEN(MID($N569,SUM($P569:Q569)+1,IF(AND(($O569-SUM($P569:Q569))>39,OR(MID($G569,SUM($P569:Q569)+40,1)=\"、\",MID($G569,SUM($P569:Q569)+40,1)=\"。\")),40,39)))","v":0},{"$f":"LEN(MID($N569,SUM($P569:R569)+1,IF(AND(($O569-SUM($P569:R569))>39,OR(MID($G569,SUM($P569:R569)+40,1)=\"、\",MID($G569,SUM($P569:R569)+40,1)=\"。\")),40,39)))","v":0},{"$f":"LEN(MID($N569,SUM($P569:S569)+1,IF(AND(($O569-SUM($P569:S569))>39,OR(MID($G569,SUM($P569:S569)+40,1)=\"、\",MID($G569,SUM($P569:S569)+40,1)=\"。\")),40,39)))","v":0},{"$f":"LEN(MID($N569,SUM($P569:T569)+1,IF(AND(($O569-SUM($P569:T569))>39,OR(MID($G569,SUM($P569:T569)+40,1)=\"、\",MID($G569,SUM($P569:T569)+40,1)=\"。\")),40,39)))","v":0}]
[null,null,null,null,null,null,null,"５－５ 酸素療法","酸素療法",1,{"$f":"VLOOKUP(DBCS(J570),調査票入力!B454:C455,2,0)","v":"ない"},"","ない",{"$f":"IF($E454=\"\",\"\",\"　\"&SUBSTITUTE(IF(ASC(MID($E454,1,1))=\" \",MID($E454,2,300),$E454),CHAR(10),\"\"))","v":""},0,0,{"$f":"LEN(MID($N570,SUM($P570:P570)+1,IF(AND(($O570-SUM($P570:P570))>39,OR(MID($G570,SUM($P570:P570)+40,1)=\"、\",MID($G570,SUM($P570:P570)+40,1)=\"。\")),40,39)))","v":0},{"$f":"LEN(MID($N570,SUM($P570:Q570)+1,IF(AND(($O570-SUM($P570:Q570))>39,OR(MID($G570,SUM($P570:Q570)+40,1)=\"、\",MID($G570,SUM($P570:Q570)+40,1)=\"。\")),40,39)))","v":0},{"$f":"LEN(MID($N570,SUM($P570:R570)+1,IF(AND(($O570-SUM($P570:R570))>39,OR(MID($G570,SUM($P570:R570)+40,1)=\"、\",MID($G570,SUM($P570:R570)+40,1)=\"。\")),40,39)))","v":0},{"$f":"LEN(MID($N570,SUM($P570:S570)+1,IF(AND(($O570-SUM($P570:S570))>39,OR(MID($G570,SUM($P570:S570)+40,1)=\"、\",MID($G570,SUM($P570:S570)+40,1)=\"。\")),40,39)))","v":0},{"$f":"LEN(MID($N570,SUM($P570:T570)+1,IF(AND(($O570-SUM($P570:T570))>39,OR(MID($G570,SUM($P570:T570)+40,1)=\"、\",MID($G570,SUM($P570:T570)+40,1)=\"。\")),40,39)))","v":0}]
[null,null,null,null,null,null,null,"５－６ レスピレーター(人工呼吸器)","レスピレーター(人工呼吸器)",1,{"$f":"VLOOKUP(DBCS(J571),調査票入力!B458:C459,2,0)","v":"ない"},"","ない",{"$f":"IF($E458=\"\",\"\",\"　\"&SUBSTITUTE(IF(ASC(MID($E458,1,1))=\" \",MID($E458,2,300),$E458),CHAR(10),\"\"))","v":""},0,0,{"$f":"LEN(MID($N571,SUM($P571:P571)+1,IF(AND(($O571-SUM($P571:P571))>39,OR(MID($G571,SUM($P571:P571)+40,1)=\"、\",MID($G571,SUM($P571:P571)+40,1)=\"。\")),40,39)))","v":0},{"$f":"LEN(MID($N571,SUM($P571:Q571)+1,IF(AND(($O571-SUM($P571:Q571))>39,OR(MID($G571,SUM($P571:Q571)+40,1)=\"、\",MID($G571,SUM($P571:Q571)+40,1)=\"。\")),40,39)))","v":0},{"$f":"LEN(MID($N571,SUM($P571:R571)+1,IF(AND(($O571-SUM($P571:R571))>39,OR(MID($G571,SUM($P571:R571)+40,1)=\"、\",MID($G571,SUM($P571:R571)+40,1)=\"。\")),40,39)))","v":0},{"$f":"LEN(MID($N571,SUM($P571:S571)+1,IF(AND(($O571-SUM($P571:S571))>39,OR(MID($G571,SUM($P571:S571)+40,1)=\"、\",MID($G571,SUM($P571:S571)+40,1)=\"。\")),40,39)))","v":0},{"$f":"LEN(MID($N571,SUM($P571:T571)+1,IF(AND(($O571-SUM($P571:T571))>39,OR(MID($G571,SUM($P571:T571)+40,1)=\"、\",MID($G571,SUM($P571:T571)+40,1)=\"。\")),40,39)))","v":0}]
[null,null,null,null,null,null,null,"５－７ 気管切開の処置","気管切開の処置",1,{"$f":"VLOOKUP(DBCS(J572),調査票入力!B462:C463,2,0)","v":"ない"},"","ない",{"$f":"IF($E462=\"\",\"\",\"　\"&SUBSTITUTE(IF(ASC(MID($E462,1,1))=\" \",MID($E462,2,300),$E462),CHAR(10),\"\"))","v":""},0,0,{"$f":"LEN(MID($N572,SUM($P572:P572)+1,IF(AND(($O572-SUM($P572:P572))>39,OR(MID($G572,SUM($P572:P572)+40,1)=\"、\",MID($G572,SUM($P572:P572)+40,1)=\"。\")),40,39)))","v":0},{"$f":"LEN(MID($N572,SUM($P572:Q572)+1,IF(AND(($O572-SUM($P572:Q572))>39,OR(MID($G572,SUM($P572:Q572)+40,1)=\"、\",MID($G572,SUM($P572:Q572)+40,1)=\"。\")),40,39)))","v":0},{"$f":"LEN(MID($N572,SUM($P572:R572)+1,IF(AND(($O572-SUM($P572:R572))>39,OR(MID($G572,SUM($P572:R572)+40,1)=\"、\",MID($G572,SUM($P572:R572)+40,1)=\"。\")),40,39)))","v":0},{"$f":"LEN(MID($N572,SUM($P572:S572)+1,IF(AND(($O572-SUM($P572:S572))>39,OR(MID($G572,SUM($P572:S572)+40,1)=\"、\",MID($G572,SUM($P572:S572)+40,1)=\"。\")),40,39)))","v":0},{"$f":"LEN(MID($N572,SUM($P572:T572)+1,IF(AND(($O572-SUM($P572:T572))>39,OR(MID($G572,SUM($P572:T572)+40,1)=\"、\",MID($G572,SUM($P572:T572)+40,1)=\"。\")),40,39)))","v":0}]
[null,null,null,null,null,null,null,"５－８ 疼痛の看護","疼痛の看護",1,{"$f":"VLOOKUP(DBCS(J573),調査票入力!B466:C467,2,0)","v":"ない"},"","ない",{"$f":"IF($E466=\"\",\"\",\"　\"&SUBSTITUTE(IF(ASC(MID($E466,1,1))=\" \",MID($E466,2,300),$E466),CHAR(10),\"\"))","v":""},0,0,{"$f":"LEN(MID($N573,SUM($P573:P573)+1,IF(AND(($O573-SUM($P573:P573))>39,OR(MID($G573,SUM($P573:P573)+40,1)=\"、\",MID($G573,SUM($P573:P573)+40,1)=\"。\")),40,39)))","v":0},{"$f":"LEN(MID($N573,SUM($P573:Q573)+1,IF(AND(($O573-SUM($P573:Q573))>39,OR(MID($G573,SUM($P573:Q573)+40,1)=\"、\",MID($G573,SUM($P573:Q573)+40,1)=\"。\")),40,39)))","v":0},{"$f":"LEN(MID($N573,SUM($P573:R573)+1,IF(AND(($O573-SUM($P573:R573))>39,OR(MID($G573,SUM($P573:R573)+40,1)=\"、\",MID($G573,SUM($P573:R573)+40,1)=\"。\")),40,39)))","v":0},{"$f":"LEN(MID($N573,SUM($P573:S573)+1,IF(AND(($O573-SUM($P573:S573))>39,OR(MID($G573,SUM($P573:S573)+40,1)=\"、\",MID($G573,SUM($P573:S573)+40,1)=\"。\")),40,39)))","v":0},{"$f":"LEN(MID($N573,SUM($P573:T573)+1,IF(AND(($O573-SUM($P573:T573))>39,OR(MID($G573,SUM($P573:T573)+40,1)=\"、\",MID($G573,SUM($P573:T573)+40,1)=\"。\")),40,39)))","v":0}]
[null,null,null,null,null,null,null,"５－９ 経管栄養","経管栄養",1,{"$f":"VLOOKUP(DBCS(J574),調査票入力!B470:C471,2,0)","v":"ない"},"","ない",{"$f":"IF($E470=\"\",\"\",\"　\"&SUBSTITUTE(IF(ASC(MID($E470,1,1))=\" \",MID($E470,2,300),$E470),CHAR(10),\"\"))","v":""},0,0,{"$f":"LEN(MID($N574,SUM($P574:P574)+1,IF(AND(($O574-SUM($P574:P574))>39,OR(MID($G574,SUM($P574:P574)+40,1)=\"、\",MID($G574,SUM($P574:P574)+40,1)=\"。\")),40,39)))","v":0},{"$f":"LEN(MID($N574,SUM($P574:Q574)+1,IF(AND(($O574-SUM($P574:Q574))>39,OR(MID($G574,SUM($P574:Q574)+40,1)=\"、\",MID($G574,SUM($P574:Q574)+40,1)=\"。\")),40,39)))","v":0},{"$f":"LEN(MID($N574,SUM($P574:R574)+1,IF(AND(($O574-SUM($P574:R574))>39,OR(MID($G574,SUM($P574:R574)+40,1)=\"、\",MID($G574,SUM($P574:R574)+40,1)=\"。\")),40,39)))","v":0},{"$f":"LEN(MID($N574,SUM($P574:S574)+1,IF(AND(($O574-SUM($P574:S574))>39,OR(MID($G574,SUM($P574:S574)+40,1)=\"、\",MID($G574,SUM($P574:S574)+40,1)=\"。\")),40,39)))","v":0},{"$f":"LEN(MID($N574,SUM($P574:T574)+1,IF(AND(($O574-SUM($P574:T574))>39,OR(MID($G574,SUM($P574:T574)+40,1)=\"、\",MID($G574,SUM($P574:T574)+40,1)=\"。\")),40,39)))","v":0}]
[null,null,null,null,null,null,null,"５－10 モニター測定(血圧、心拍、酸素飽和度等)","モニター測定(血圧、心拍、酸素飽和度等)",1,{"$f":"VLOOKUP(DBCS(J575),調査票入力!B474:C475,2,0)","v":"ない"},"","ない",{"$f":"IF($E474=\"\",\"\",\"　\"&SUBSTITUTE(IF(ASC(MID($E474,1,1))=\" \",MID($E474,2,300),$E474),CHAR(10),\"\"))","v":""},0,0,{"$f":"LEN(MID($N575,SUM($P575:P575)+1,IF(AND(($O575-SUM($P575:P575))>39,OR(MID($G575,SUM($P575:P575)+40,1)=\"、\",MID($G575,SUM($P575:P575)+40,1)=\"。\")),40,39)))","v":0},{"$f":"LEN(MID($N575,SUM($P575:Q575)+1,IF(AND(($O575-SUM($P575:Q575))>39,OR(MID($G575,SUM($P575:Q575)+40,1)=\"、\",MID($G575,SUM($P575:Q575)+40,1)=\"。\")),40,39)))","v":0},{"$f":"LEN(MID($N575,SUM($P575:R575)+1,IF(AND(($O575-SUM($P575:R575))>39,OR(MID($G575,SUM($P575:R575)+40,1)=\"、\",MID($G575,SUM($P575:R575)+40,1)=\"。\")),40,39)))","v":0},{"$f":"LEN(MID($N575,SUM($P575:S575)+1,IF(AND(($O575-SUM($P575:S575))>39,OR(MID($G575,SUM($P575:S575)+40,1)=\"、\",MID($G575,SUM($P575:S575)+40,1)=\"。\")),40,39)))","v":0},{"$f":"LEN(MID($N575,SUM($P575:T575)+1,IF(AND(($O575-SUM($P575:T575))>39,OR(MID($G575,SUM($P575:T575)+40,1)=\"、\",MID($G575,SUM($P575:T575)+40,1)=\"。\")),40,39)))","v":0}]
[null,null,null,null,null,null,null,"５－11 じょくそうの処置","じょくそうの処置",1,{"$f":"VLOOKUP(DBCS(J576),調査票入力!B478:C479,2,0)","v":"ない"},"","ない",{"$f":"IF($E478=\"\",\"\",\"　\"&SUBSTITUTE(IF(ASC(MID($E478,1,1))=\" \",MID($E478,2,300),$E478),CHAR(10),\"\"))","v":""},0,0,{"$f":"LEN(MID($N576,SUM($P576:P576)+1,IF(AND(($O576-SUM($P576:P576))>39,OR(MID($G576,SUM($P576:P576)+40,1)=\"、\",MID($G576,SUM($P576:P576)+40,1)=\"。\")),40,39)))","v":0},{"$f":"LEN(MID($N576,SUM($P576:Q576)+1,IF(AND(($O576-SUM($P576:Q576))>39,OR(MID($G576,SUM($P576:Q576)+40,1)=\"、\",MID($G576,SUM($P576:Q576)+40,1)=\"。\")),40,39)))","v":0},{"$f":"LEN(MID($N576,SUM($P576:R576)+1,IF(AND(($O576-SUM($P576:R576))>39,OR(MID($G576,SUM($P576:R576)+40,1)=\"、\",MID($G576,SUM($P576:R576)+40,1)=\"。\")),40,39)))","v":0},{"$f":"LEN(MID($N576,SUM($P576:S576)+1,IF(AND(($O576-SUM($P576:S576))>39,OR(MID($G576,SUM($P576:S576)+40,1)=\"、\",MID($G576,SUM($P576:S576)+40,1)=\"。\")),40,39)))","v":0},{"$f":"LEN(MID($N576,SUM($P576:T576)+1,IF(AND(($O576-SUM($P576:T576))>39,OR(MID($G576,SUM($P576:T576)+40,1)=\"、\",MID($G576,SUM($P576:T576)+40,1)=\"。\")),40,39)))","v":0}]
[null,null,null,null,null,null,null,"５－12 カテーテル","カテーテル",1,{"$f":"VLOOKUP(DBCS(J577),調査票入力!B482:C483,2,0)","v":"ない"},"","ない",{"$f":"IF($E482=\"\",\"\",\"　\"&SUBSTITUTE(IF(ASC(MID($E482,1,1))=\" \",MID($E482,2,300),$E482),CHAR(10),\"\"))","v":""},0,0,{"$f":"LEN(MID($N577,SUM($P577:P577)+1,IF(AND(($O577-SUM($P577:P577))>39,OR(MID($G577,SUM($P577:P577)+40,1)=\"、\",MID($G577,SUM($P577:P577)+40,1)=\"。\")),40,39)))","v":0},{"$f":"LEN(MID($N577,SUM($P577:Q577)+1,IF(AND(($O577-SUM($P577:Q577))>39,OR(MID($G577,SUM($P577:Q577)+40,1)=\"、\",MID($G577,SUM($P577:Q577)+40,1)=\"。\")),40,39)))","v":0},{"$f":"LEN(MID($N577,SUM($P577:R577)+1,IF(AND(($O577-SUM($P577:R577))>39,OR(MID($G577,SUM($P577:R577)+40,1)=\"、\",MID($G577,SUM($P577:R577)+40,1)=\"。\")),40,39)))","v":0},{"$f":"LEN(MID($N577,SUM($P577:S577)+1,IF(AND(($O577-SUM($P577:S577))>39,OR(MID($G577,SUM($P577:S577)+40,1)=\"、\",MID($G577,SUM($P577:S577)+40,1)=\"。\")),40,39)))","v":0},{"$f":"LEN(MID($N577,SUM($P577:T577)+1,IF(AND(($O577-SUM($P577:T577))>39,OR(MID($G577,SUM($P577:T577)+40,1)=\"、\",MID($G577,SUM($P577:T577)+40,1)=\"。\")),40,39)))","v":0}]
[null,null,null,null,null,null,null,"その他特記",null,null,null,null,null,{"$f":"IF($A488=\"\",\"\",\"　\"&SUBSTITUTE(IF(ASC(MID($A488,1,1))=\" \",MID($A488,2,300),$A488),CHAR(10),\"\"))","v":""},0,{"$f":"IF(OR(MID($N578,54,1)=\"、\",MID($N578,54,1)=\"。\"),54,IF(LEN($N578)>53,53,LEN($N578)))","v":0},{"$f":"LEN(MID($N578,SUM($P578:P578)+1,IF(AND(($O578-SUM($P578:P578))>53,OR(MID($G578,SUM($P578:P578)+54,1)=\"、\",MID($G578,SUM($P578:P578)+54,1)=\"。\")),54,53)))","v":0},{"$f":"LEN(MID($N578,SUM($P578:Q578)+1,IF(AND(($O578-SUM($P578:Q578))>53,OR(MID($G578,SUM($P578:Q578)+54,1)=\"、\",MID($G578,SUM($P578:Q578)+54,1)=\"。\")),54,53)))","v":0},{"$f":"LEN(MID($N578,SUM($P578:R578)+1,IF(AND(($O578-SUM($P578:R578))>53,OR(MID($G578,SUM($P578:R578)+54,1)=\"、\",MID($G578,SUM($P578:R578)+54,1)=\"。\")),54,53)))","v":0},{"$f":"LEN(MID($N578,SUM($P578:S578)+1,IF(AND(($O578-SUM($P578:S578))>53,OR(MID($G578,SUM($P578:S578)+54,1)=\"、\",MID($G578,SUM($P578:S578)+54,1)=\"。\")),54,53)))","v":0},{"$f":"LEN(MID($N578,SUM($P578:T578)+1,IF(AND(($O578-SUM($P578:T578))>53,OR(MID($G578,SUM($P578:T578)+54,1)=\"、\",MID($G578,SUM($P578:T578)+54,1)=\"。\")),54,53)))","v":0}]
[null,null,null,null,null,null,null,"６　身体の状態","麻痺",{"$f":"IF(OR(COUNTIF(J585:J588,\">1\")>2,AND(J585>1,J588>1),AND(J586>1,J587>1)),5,IF(OR(AND(J585>1,J587>1),AND(J586>1,J588>1)),4,IF(AND(J587>1,J588>1),3,IF(COUNTIF(J585:J588,\">1\")>0,2,1))))","v":1},{"$f":"CHOOSE(J579,\"ない\",\"いずれか一肢のみ\",\"両下肢のみ\",\"左上下肢あるいは右上下肢のみ\",\"その他の四肢の麻痺\")","v":"ない"}]
[null,null,null,null,null,null,null,null,"関節の拘縮　肩関節",{"$f":"IF(OR(J590>1,J591>1),2,1)","v":1},{"$f":"CHOOSE(J580,\"ない\",\"ある\")","v":"ない"}]
[null,null,null,null,null,null,null,null,"関節の拘縮　肘関節",{"$f":"IF(OR(J594>1,J595>1),2,1)","v":1},{"$f":"CHOOSE(J581,\"ない\",\"ある\")","v":"ない"}]
[null,null,null,null,null,null,null,null,"関節の拘縮　股関節",{"$f":"IF(OR(J592>1,J593>1),2,1)","v":1},{"$f":"CHOOSE(J582,\"ない\",\"ある\")","v":"ない"}]
[null,null,null,null,null,null,null,null,"関節の拘縮　膝関節",{"$f":"IF(OR(J596>1,J597>1),2,1)","v":1},{"$f":"CHOOSE(J583,\"ない\",\"ある\")","v":"ない"}]
[null,null,null,null,null,null,null,null,"関節の拘縮　その他",1,{"$f":"CHOOSE(J584,\"ない\",\"ある\",\"ある\",\"ある\")","v":"ない"},{"$f":"CHOOSE(J584,\"\",\"ある（軽度）\",\"ある（中度）\",\"ある（重度）\")","v":""},{"$f":"CHOOSE(J584,\"ない\",\"ある（軽度）\",\"ある（中度）\",\"ある（重度）\")","v":"ない"}]
[null,null,null,null,null,null,null,null,"麻痺　左上肢",1,{"$f":"CHOOSE(J585,\"ない\",\"ある（軽度）\",\"ある（中度）\",\"ある（重度）\")","v":"ない"},"","ない"]
[null,null,null,null,null,null,null,null,"麻痺　右上肢",1,"ない","","ない"]
[null,null,null,null,null,null,null,null,"麻痺　左下肢",1,"ない","","ない"]
[null,null,null,null,null,null,null,null,"麻痺　右下肢",1,"ない","","ない"]
[null,null,null,null,null,null,null,null,"麻痺　その他",1,"ない","","ない"]
[null,null,null,null,null,null,null,null,"関節の拘縮　肩関節　左",1,"ない","","ない"]
[null,null,null,null,null,null,null,null,"関節の拘縮　肩関節　右",1,"ない","","ない"]
[null,null,null,null,null,null,null,null,"関節の拘縮　股関節　左",1,"ない","","ない"]
[null,null,null,null,null,null,null,null,"関節の拘縮　股関節　右",1,"ない","","ない"]
[null,null,null,null,null,null,null,null,"関節の拘縮　肘関節　左",1,"ない","","ない"]
[null,null,null,null,null,null,null,null,"関節の拘縮　肘関節　右",1,"ない","","ない"]
[null,null,null,null,null,null,null,null,"関節の拘縮　膝関節　左",1,"ない","","ない"]
[null,null,null,null,null,null,null,null,"関節の拘縮　膝関節　右",1,"ない","","ない"]
[null,null,null,null,null,null,null,null,"てんかん",1,{"$f":"CHOOSE(J598,\"ない\",\"ある（年1回以上）\",\"ある（月1回以上）\",\"ある（週1回以上）\")","v":"ない"},{"$f":"CHOOSE(J598,\"\",\"年１回以上\",\"月１回以上\",\"週１回以上\")","v":""},{"$f":"CHOOSE(J598,\"ない\",\"年１回以上\",\"月１回以上\",\"週１回以上\")","v":"ない"}]
[null,null,null,null,null,null,null,null,"二軸評価　精神症状",1,{"$f":"CHOOSE(J599,\"１\",\"２\",\"３\",\"４\",\"５\",\"６\")","v":"１"},{"$f":"CHOOSE(J599,\"\",\"２\",\"３\",\"４\",\"５\")","v":""},{"$f":"CHOOSE(J599,\"１\",\"２\",\"３\",\"４\",\"５\")","v":"１"}]
[null,null,null,null,null,null,null,null,"二軸評価　能力障害",1,{"$f":"CHOOSE(J600,\"１\",\"２\",\"３\",\"４\",\"５\",\"６\")","v":"１"},"","１"]
[null,null,null,null,null,null,null,null,"生活障害評価　食事",1,{"$f":"CHOOSE(J601,\"１\",\"２\",\"３\",\"４\",\"５\")","v":"１"},"","１"]
[null,null,null,null,null,null,null,null,"生活障害評価　生活リズム",1,"１","","１"]
[null,null,null,null,null,null,null,null,"生活障害評価　保清",1,"１","","１"]
[null,null,null,null,null,null,null,null,"生活障害評価　金銭管理",1,"１","","１"]
[null,null,null,null,null,null,null,null,"生活障害評価　服薬管理",1,"１","","１"]
[null,null,null,null,null,null,null,null,"生活障害評価　対人関係",1,"１","","１"]
[null,null,null,null,null,null,null,null,"生活障害評価　社会的適応",1,"１","","１"]

{"sheet":"特記印刷","index":1,"n_rows":509,"n_cols":6,"rows_kept":509,"cut":false,"hidden":false,"merged":[[503,2,503,4],[504,2,504,4],[505,2,505,4],[506,2,506,4],[508,2,508,4],[507,2,507,4]]}
[]
[]
[]
[]
[]
[]
[]
[]
[]
[]
[null,"特記事項"]
[null,null,null,null,null,"　"]
[null,"１．移動や動作等に関連する項目　",null,null,null,{"$f":"IF(OR(B13<>\"\",E13<>\"\"),\"表示\",\"非表示\")","v":"表示"}]
[null,null,"１.寝返り",{"$f":"調査票入力!J498&\".\"&調査票入力!M498","v":"1.支援不要"},{"$f":"MID(調査票入力!$N498,1,調査票入力!P498)","v":""},{"$f":"IF(OR(B14<>\"\",E14<>\"\"),\"表示\",\"非表示\")","v":"非表示"}]
[null,null,null,null,{"$f":"MID(調査票入力!$N498,SUM(調査票入力!$P498:P498)+1,調査票入力!Q498)","v":""},{"$f":"IF(OR(B15<>\"\",E15<>\"\"),\"表示\",\"非表示\")","v":"非表示"}]
[null,null,null,null,{"$f":"MID(調査票入力!$N498,SUM(調査票入力!$P498:Q498)+1,調査票入力!R498)","v":""},"非表示"]
[null,null,null,null,{"$f":"MID(調査票入力!$N498,SUM(調査票入力!$P498:R498)+1,調査票入力!S498)","v":""},"非表示"]
[null,null,null,null,{"$f":"MID(調査票入力!$N498,SUM(調査票入力!$P498:S498)+1,調査票入力!T498)","v":""},"非表示"]
[null,null,null,null,{"$f":"MID(調査票入力!$N498,SUM(調査票入力!$P498:T498)+1,調査票入力!U498)","v":""},"非表示"]
[null,null,"２.起き上がり",{"$f":"調査票入力!J499&\".\"&調査票入力!M499","v":"1.支援不要"},{"$f":"MID(調査票入力!$N499,1,調査票入力!P499)","v":""},"非表示"]
[null,null,null,null,{"$f":"MID(調査票入力!$N499,SUM(調査票入力!$P499:P499)+1,調査票入力!Q499)","v":""},"非表示"]
[null,null,null,null,{"$f":"MID(調査票入力!$N499,SUM(調査票入力!$P499:Q499)+1,調査票入力!R499)","v":""},"非表示"]
[null,null,null,null,{"$f":"MID(調査票入力!$N499,SUM(調査票入力!$P499:R499)+1,調査票入力!S499)","v":""},"非表示"]
[null,null,null,null,{"$f":"MID(調査票入力!$N499,SUM(調査票入力!$P499:S499)+1,調査票入力!T499)","v":""},"非表示"]
[null,null,null,null,{"$f":"MID(調査票入力!$N499,SUM(調査票入力!$P499:T499)+1,調査票入力!U499)","v":""},"非表示"]
[null,null,"３.座位保持",{"$f":"調査票入力!J500&\".\"&調査票入力!M500","v":"1.支援不要"},{"$f":"MID(調査票入力!$N500,1,調査票入力!P500)","v":""},"非表示"]
[null,null,null,null,{"$f":"MID(調査票入力!$N500,SUM(調査票入力!$P500:P500)+1,調査票入力!Q500)","v":""},"非表示"]
[null,null,null,null,{"$f":"MID(調査票入力!$N500,SUM(調査票入力!$P500:Q500)+1,調査票入力!R500)","v":""},"非表示"]
[null,null,null,null,{"$f":"MID(調査票入力!$N500,SUM(調査票入力!$P500:R500)+1,調査票入力!S500)","v":""},"非表示"]
[null,null,null,null,{"$f":"MID(調査票入力!$N500,SUM(調査票入力!$P500:S500)+1,調査票入力!T500)","v":""},"非表示"]
[null,null,null,null,{"$f":"MID(調査票入力!$N500,SUM(調査票入力!$P500:T500)+1,調査票入力!U500)","v":""},"非表示"]
[null,null,"４.移乗",{"$f":"調査票入力!J501&\".\"&調査票入力!M501","v":"1.支援不要"},{"$f":"MID(調査票入力!$N501,1,調査票入力!P501)","v":""},"非表示"]
[null,null,null,null,{"$f":"MID(調査票入力!$N501,SUM(調査票入力!$P501:P501)+1,調査票入力!Q501)","v":""},"非表示"]
[null,null,null,null,{"$f":"MID(調査票入力!$N501,SUM(調査票入力!$P501:Q501)+1,調査票入力!R501)","v":""},"非表示"]
[null,null,null,null,{"$f":"MID(調査票入力!$N501,SUM(調査票入力!$P501:R501)+1,調査票入力!S501)","v":""},"非表示"]
[null,null,null,null,{"$f":"MID(調査票入力!$N501,SUM(調査票入力!$P501:S501)+1,調査票入力!T501)","v":""},"非表示"]
[null,null,null,null,{"$f":"MID(調査票入力!$N501,SUM(調査票入力!$P501:T501)+1,調査票入力!U501)","v":""},"非表示"]
[null,null,"５.立ち上がり",{"$f":"調査票入力!J502&\".\"&調査票入力!M502","v":"1.支援不要"},{"$f":"MID(調査票入力!$N502,1,調査票入力!P502)","v":""},"非表示"]
[null,null,null,null,{"$f":"MID(調査票入力!$N502,SUM(調査票入力!$P502:P502)+1,調査票入力!Q502)","v":""},"非表示"]
[null,null,null,null,{"$f":"MID(調査票入力!$N502,SUM(調査票入力!$P502:Q502)+1,調査票入力!R502)","v":""},"非表示"]
[null,null,null,null,{"$f":"MID(調査票入力!$N502,SUM(調査票入力!$P502:R502)+1,調査票入力!S502)","v":""},"非表示"]
[null,null,null,null,{"$f":"MID(調査票入力!$N502,SUM(調査票入力!$P502:S502)+1,調査票入力!T502)","v":""},"非表示"]
[null,null,null,null,{"$f":"MID(調査票入力!$N502,SUM(調査票入力!$P502:T502)+1,調査票入力!U502)","v":""},"非表示"]
[null,null,"６.両足での立位保持",{"$f":"調査票入力!J503&\".\"&調査票入力!M503","v":"1.支援不要"},{"$f":"MID(調査票入力!$N503,1,調査票入力!P503)","v":""},"非表示"]
[null,null,null,null,{"$f":"MID(調査票入力!$N503,SUM(調査票入力!$P503:P503)+1,調査票入力!Q503)","v":""},"非表示"]
[null,null,null,null,{"$f":"MID(調査票入力!$N503,SUM(調査票入力!$P503:Q503)+1,調査票入力!R503)","v":""},"非表示"]
[null,null,null,null,{"$f":"MID(調査票入力!$N503,SUM(調査票入力!$P503:R503)+1,調査票入力!S503)","v":""},"非表示"]
[null,null,null,null,{"$f":"MID(調査票入力!$N503,SUM(調査票入力!$P503:S503)+1,調査票入力!T503)","v":""},"非表示"]
[null,null,null,null,{"$f":"MID(調査票入力!$N503,SUM(調査票入力!$P503:T503)+1,調査票入力!U503)","v":""},"非表示"]
[null,null,"７.片足での立位保持",{"$f":"調査票入力!J504&\".\"&調査票入力!M504","v":"1.支援不要"},{"$f":"MID(調査票入力!$N504,1,調査票入力!P504)","v":""},"非表示"]
[null,null,null,null,{"$f":"MID(調査票入力!$N504,SUM(調査票入力!$P504:P504)+1,調査票入力!Q504)","v":""},"非表示"]
[null,null,null,null,{"$f":"MID(調査票入力!$N504,SUM(調査票入力!$P504:Q504)+1,調査票入力!R504)","v":""},"非表示"]
[null,null,null,null,null,"非表示"]
[null,null,null,null,{"$f":"MID(調査票入力!$N504,SUM(調査票入力!$P504:S504)+1,調査票入力!T504)","v":""},"非表示"]
[null,null,null,null,{"$f":"MID(調査票入力!$N504,SUM(調査票入力!$P504:T504)+1,調査票入力!U504)","v":""},"非表示"]
[null,null,"８.歩行",{"$f":"調査票入力!J505&\".\"&調査票入力!M505","v":"1.支援不要"},{"$f":"MID(調査票入力!$N505,1,調査票入力!P505)","v":""},"非表示"]
[null,null,null,null,{"$f":"MID(調査票入力!$N505,SUM(調査票入力!$P505:P505)+1,調査票入力!Q505)","v":""},"非表示"]
[null,null,null,null,{"$f":"MID(調査票入力!$N505,SUM(調査票入力!$P505:Q505)+1,調査票入力!R505)","v":""},"非表示"]
[null,null,null,null,null,"非表示"]
[null,null,null,null,{"$f":"MID(調査票入力!$N505,SUM(調査票入力!$P505:S505)+1,調査票入力!T505)","v":""},"非表示"]
[null,null,null,null,{"$f":"MID(調査票入力!$N505,SUM(調査票入力!$P505:T505)+1,調査票入力!U505)","v":""},"非表示"]
[null,null,"９.移動",{"$f":"調査票入力!J506&\".\"&調査票入力!M506","v":"1.支援不要"},{"$f":"MID(調査票入力!$N506,1,調査票入力!P506)","v":""},"非表示"]
[null,null,null,null,{"$f":"MID(調査票入力!$N506,SUM(調査票入力!$P506:P506)+1,調査票入力!Q506)","v":""},"非表示"]
[null,null,null,null,{"$f":"MID(調査票入力!$N506,SUM(調査票入力!$P506:Q506)+1,調査票入力!R506)","v":""},"非表示"]
[null,null,null,null,{"$f":"MID(調査票入力!$N506,SUM(調査票入力!$P506:R506)+1,調査票入力!S506)","v":""},"非表示"]
[null,null,null,null,{"$f":"MID(調査票入力!$N506,SUM(調査票入力!$P506:S506)+1,調査票入力!T506)","v":""},"非表示"]
[null,null,null,null,{"$f":"MID(調査票入力!$N506,SUM(調査票入力!$P506:T506)+1,調査票入力!U506)","v":""},"非表示"]
[null,null,"10.衣服の着脱",{"$f":"調査票入力!J507&\".\"&調査票入力!M507","v":"1.支援不要"},{"$f":"MID(調査票入力!$N507,1,調査票入力!P507)","v":""},"非表示"]
[null,null,null,null,{"$f":"MID(調査票入力!$N507,SUM(調査票入力!$P507:P507)+1,調査票入力!Q507)","v":""},"非表示"]
[null,null,null,null,{"$f":"MID(調査票入力!$N507,SUM(調査票入力!$P507:Q507)+1,調査票入力!R507)","v":""},"非表示"]
[null,null,null,null,{"$f":"MID(調査票入力!$N507,SUM(調査票入力!$P507:R507)+1,調査票入力!S507)","v":""},"非表示"]
[null,null,null,null,{"$f":"MID(調査票入力!$N507,SUM(調査票入力!$P507:S507)+1,調査票入力!T507)","v":""},"非表示"]
[null,null,null,null,{"$f":"MID(調査票入力!$N507,SUM(調査票入力!$P507:T507)+1,調査票入力!U507)","v":""},"非表示"]
[null,null,"11.じょくそう",{"$f":"調査票入力!J508&\".\"&調査票入力!M508","v":"1.ない"},{"$f":"MID(調査票入力!$N508,1,調査票入力!P508)","v":""},"非表示"]
[null,null,null,null,{"$f":"MID(調査票入力!$N508,SUM(調査票入力!$P508:P508)+1,調査票入力!Q508)","v":""},"非表示"]
[null,null,null,null,{"$f":"MID(調査票入力!$N508,SUM(調査票入力!$P508:Q508)+1,調査票入力!R508)","v":""},"非表示"]
[null,null,null,null,{"$f":"MID(調査票入力!$N508,SUM(調査票入力!$P508:R508)+1,調査票入力!S508)","v":""},"非表示"]
[null,null,null,null,{"$f":"MID(調査票入力!$N508,SUM(調査票入力!$P508:S508)+1,調査票入力!T508)","v":""},"非表示"]
[null,null,null,null,{"$f":"MID(調査票入力!$N508,SUM(調査票入力!$P508:T508)+1,調査票入力!U508)","v":""},{"$f":"IF(OR(B79<>\"\",E79<>\"\"),\"表示\",\"非表示\")","v":"非表示"}]
[null,null,"12.えん下",{"$f":"調査票入力!J509&\".\"&調査票入力!M509","v":"1.支援不要"},{"$f":"MID(調査票入力!$N509,1,調査票入力!P509)","v":""},"非表示"]
[null,null,null,null,{"$f":"MID(調査票入力!$N509,SUM(調査票入力!$P509:P509)+1,調査票入力!Q509)","v":""},"非表示"]
[null,null,null,null,{"$f":"MID(調査票入力!$N509,SUM(調査票入力!$P509:Q509)+1,調査票入力!R509)","v":""},"非表示"]
[null,null,null,null,{"$f":"MID(調査票入力!$N509,SUM(調査票入力!$P509:R509)+1,調査票入力!S509)","v":""},"非表示"]
[null,null,null,null,{"$f":"MID(調査票入力!$N509,SUM(調査票入力!$P509:S509)+1,調査票入力!T509)","v":""},"非表示"]
[null,null,null,null,{"$f":"MID(調査票入力!$N509,SUM(調査票入力!$P509:T509)+1,調査票入力!U509)","v":""},"非表示"]
[null,"　",null,null,null,{"$f":"IF(OR(B86<>\"\",E86<>\"\"),\"表示\",\"非表示\")","v":"表示"}]
[null,"２．身の回りの世話や日常生活等に関連する項目　",null,null,null,{"$f":"IF(OR(B87<>\"\",E87<>\"\"),\"表示\",\"非表示\")","v":"表示"}]
[null,null,"１.食事",{"$f":"調査票入力!J510&\".\"&調査票入力!M510","v":"1.支援不要"},{"$f":"MID(調査票入力!$N510,1,調査票入力!P510)","v":""},{"$f":"IF(OR(B88<>\"\",E88<>\"\"),\"表示\",\"非表示\")","v":"非表示"}]
[null,null,null,null,{"$f":"MID(調査票入力!$N510,SUM(調査票入力!$P510:P510)+1,調査票入力!Q510)","v":""},{"$f":"IF(OR(B89<>\"\",E89<>\"\"),\"表示\",\"非表示\")","v":"非表示"}]
[null,null,null,null,{"$f":"MID(調査票入力!$N510,SUM(調査票入力!$P510:Q510)+1,調査票入力!R510)","v":""},"非表示"]
[null,null,null,null,{"$f":"MID(調査票入力!$N510,SUM(調査票入力!$P510:R510)+1,調査票入力!S510)","v":""},"非表示"]
[null,null,null,null,{"$f":"MID(調査票入力!$N510,SUM(調査票入力!$P510:S510)+1,調査票入力!T510)","v":""},"非表示"]
[null,null,null,null,{"$f":"MID(調査票入力!$N510,SUM(調査票入力!$P510:T510)+1,調査票入力!U510)","v":""},"非表示"]
[null,null,"２.口腔清潔",{"$f":"調査票入力!J511&\".\"&調査票入力!M511","v":"1.支援不要"},{"$f":"MID(調査票入力!$N511,1,調査票入力!P511)","v":""},"非表示"]
[null,null,null,null,{"$f":"MID(調査票入力!$N511,SUM(調査票入力!$P511:P511)+1,調査票入力!Q511)","v":""},"非表示"]
[null,null,null,null,{"$f":"MID(調査票入力!$N511,SUM(調査票入力!$P511:Q511)+1,調査票入力!R511)","v":""},"非表示"]
[null,null,null,null,{"$f":"MID(調査票入力!$N511,SUM(調査票入力!$P511:R511)+1,調査票入力!S511)","v":""},"非表示"]
[null,null,null,null,{"$f":"MID(調査票入力!$N511,SUM(調査票入力!$P511:S511)+1,調査票入力!T511)","v":""},"非表示"]
[null,null,null,null,{"$f":"MID(調査票入力!$N511,SUM(調査票入力!$P511:T511)+1,調査票入力!U511)","v":""},"非表示"]
[null,null,"３.入浴",{"$f":"調査票入力!J512&\".\"&調査票入力!M512","v":"1.支援不要"},{"$f":"MID(調査票入力!$N512,1,調査票入力!P512)","v":""},"非表示"]
[null,null,null,null,{"$f":"MID(調査票入力!$N512,SUM(調査票入力!$P512:P512)+1,調査票入力!Q512)","v":""},"非表示"]
[null,null,null,null,{"$f":"MID(調査票入力!$N512,SUM(調査票入力!$P512:Q512)+1,調査票入力!R512)","v":""},"非表示"]
[null,null,null,null,{"$f":"MID(調査票入力!$N512,SUM(調査票入力!$P512:R512)+1,調査票入力!S512)","v":""},"非表示"]
[null,null,null,null,{"$f":"MID(調査票入力!$N512,SUM(調査票入力!$P512:S512)+1,調査票入力!T512)","v":""},"非表示"]
[null,null,null,null,{"$f":"MID(調査票入力!$N512,SUM(調査票入力!$P512:T512)+1,調査票入力!U512)","v":""},"非表示"]
[null,null,"４.排尿",{"$f":"調査票入力!J513&\".\"&調査票入力!M513","v":"1.支援不要"},{"$f":"MID(調査票入力!$N513,1,調査票入力!P513)","v":""},"非表示"]
[null,null,null,null,{"$f":"MID(調査票入力!$N513,SUM(調査票入力!$P513:P513)+1,調査票入力!Q513)","v":""},"非表示"]
[null,null,null,null,{"$f":"MID(調査票入力!$N513,SUM(調査票入力!$P513:Q513)+1,調査票入力!R513)","v":""},"非表示"]
[null,null,null,null,{"$f":"MID(調査票入力!$N513,SUM(調査票入力!$P513:R513)+1,調査票入力!S513)","v":""},"非表示"]
[null,null,null,null,{"$f":"MID(調査票入力!$N513,SUM(調査票入力!$P513:S513)+1,調査票入力!T513)","v":""},"非表示"]
[null,null,null,null,{"$f":"MID(調査票入力!$N513,SUM(調査票入力!$P513:T513)+1,調査票入力!U513)","v":""},"非表示"]
[null,null,"５.排便",{"$f":"調査票入力!J514&\".\"&調査票入力!M514","v":"1.支援不要"},{"$f":"MID(調査票入力!$N514,1,調査票入力!P514)","v":""},"非表示"]
[null,null,null,null,{"$f":"MID(調査票入力!$N514,SUM(調査票入力!$P514:P514)+1,調査票入力!Q514)","v":""},"非表示"]
[null,null,null,null,{"$f":"MID(調査票入力!$N514,SUM(調査票入力!$P514:Q514)+1,調査票入力!R514)","v":""},"非表示"]
[null,null,null,null,{"$f":"MID(調査票入力!$N514,SUM(調査票入力!$P514:R514)+1,調査票入力!S514)","v":""},"非表示"]
[null,null,null,null,{"$f":"MID(調査票入力!$N514,SUM(調査票入力!$P514:S514)+1,調査票入力!T514)","v":""},"非表示"]
[null,null,null,null,{"$f":"MID(調査票入力!$N514,SUM(調査票入力!$P514:T514)+1,調査票入力!U514)","v":""},"非表示"]
[null,null,"６.健康・栄養管理",{"$f":"調査票入力!J515&\".\"&調査票入力!M515","v":"1.支援不要"},{"$f":"MID(調査票入力!$N515,1,調査票入力!P515)","v":""},"非表示"]
[null,null,null,null,{"$f":"MID(調査票入力!$N515,SUM(調査票入力!$P515:P515)+1,調査票入力!Q515)","v":""},"非表示"]
[null,null,null,null,{"$f":"MID(調査票入力!$N515,SUM(調査票入力!$P515:Q515)+1,調査票入力!R515)","v":""},"非表示"]
[null,null,null,null,{"$f":"MID(調査票入力!$N515,SUM(調査票入力!$P515:R515)+1,調査票入力!S515)","v":""},"非表示"]
[null,null,null,null,{"$f":"MID(調査票入力!$N515,SUM(調査票入力!$P515:S515)+1,調査票入力!T515)","v":""},"非表示"]
[null,null,null,null,{"$f":"MID(調査票入力!$N515,SUM(調査票入力!$P515:T515)+1,調査票入力!U515)","v":""},"非表示"]
[null,null,"７.薬の管理",{"$f":"調査票入力!J516&\".\"&調査票入力!M516","v":"1.支援不要"},{"$f":"MID(調査票入力!$N516,1,調査票入力!P516)","v":""},"非表示"]
[null,null,null,null,{"$f":"MID(調査票入力!$N516,SUM(調査票入力!$P516:P516)+1,調査票入力!Q516)","v":""},"非表示"]
[null,null,null,null,{"$f":"MID(調査票入力!$N516,SUM(調査票入力!$P516:Q516)+1,調査票入力!R516)","v":""},"非表示"]
[null,null,null,null,{"$f":"MID(調査票入力!$N516,SUM(調査票入力!$P516:R516)+1,調査票入力!S516)","v":""},"非表示"]
[null,null,null,null,{"$f":"MID(調査票入力!$N516,SUM(調査票入力!$P516:S516)+1,調査票入力!T516)","v":""},"非表示"]
[null,null,null,null,{"$f":"MID(調査票入力!$N516,SUM(調査票入力!$P516:T516)+1,調査票入力!U516)","v":""},"非表示"]
[null,null,"８.金銭の管理",{"$f":"調査票入力!J517&\".\"&調査票入力!M517","v":"1.支援不要"},{"$f":"MID(調査票入力!$N517,1,調査票入力!P517)","v":""},"非表示"]
[null,null,null,null,{"$f":"MID(調査票入力!$N517,SUM(調査票入力!$P517:P517)+1,調査票入力!Q517)","v":""},"非表示"]
[null,null,null,null,{"$f":"MID(調査票入力!$N517,SUM(調査票入力!$P517:Q517)+1,調査票入力!R517)","v":""},"非表示"]
[null,null,null,null,{"$f":"MID(調査票入力!$N517,SUM(調査票入力!$P517:R517)+1,調査票入力!S517)","v":""},"非表示"]
[null,null,null,null,{"$f":"MID(調査票入力!$N517,SUM(調査票入力!$P517:S517)+1,調査票入力!T517)","v":""},"非表示"]
[null,null,null,null,{"$f":"MID(調査票入力!$N517,SUM(調査票入力!$P517:T517)+1,調査票入力!U517)","v":""},"非表示"]
[null,null,"９.電話等の利用",{"$f":"調査票入力!J518&\".\"&調査票入力!M518","v":"1.支援不要"},{"$f":"MID(調査票入力!$N518,1,調査票入力!P518)","v":""},"非表示"]
[null,null,null,null,{"$f":"MID(調査票入力!$N518,SUM(調査票入力!$P518:P518)+1,調査票入力!Q518)","v":""},"非表示"]
[null,null,null,null,{"$f":"MID(調査票入力!$N518,SUM(調査票入力!$P518:Q518)+1,調査票入力!R518)","v":""},"非表示"]
[null,null,null,null,{"$f":"MID(調査票入力!$N518,SUM(調査票入力!$P518:R518)+1,調査票入力!S518)","v":""},"非表示"]
[null,null,null,null,{"$f":"MID(調査票入力!$N518,SUM(調査票入力!$P518:S518)+1,調査票入力!T518)","v":""},"非表示"]
[null,null,null,null,{"$f":"MID(調査票入力!$N518,SUM(調査票入力!$P518:T518)+1,調査票入力!U518)","v":""},"非表示"]
[null,null,"10.日常の意思決定",{"$f":"調査票入力!J519&\".\"&調査票入力!M519","v":"1.支援不要"},{"$f":"MID(調査票入力!$N519,1,調査票入力!P519)","v":""},"非表示"]
[null,null,null,null,{"$f":"MID(調査票入力!$N519,SUM(調査票入力!$P519:P519)+1,調査票入力!Q519)","v":""},"非表示"]
[null,null,null,null,{"$f":"MID(調査票入力!$N519,SUM(調査票入力!$P519:Q519)+1,調査票入力!R519)","v":""},"非表示"]
[null,null,null,null,{"$f":"MID(調査票入力!$N519,SUM(調査票入力!$P519:R519)+1,調査票入力!S519)","v":""},"非表示"]
[null,null,null,null,{"$f":"MID(調査票入力!$N519,SUM(調査票入力!$P519:S519)+1,調査票入力!T519)","v":""},"非表示"]
[null,null,null,null,{"$f":"MID(調査票入力!$N519,SUM(調査票入力!$P519:T519)+1,調査票入力!U519)","v":""},"非表示"]
[null,null,"11.危険の認識",{"$f":"調査票入力!J520&\".\"&調査票入力!M520","v":"1.支援不要"},{"$f":"MID(調査票入力!$N520,1,調査票入力!P520)","v":""},"非表示"]
[null,null,null,null,{"$f":"MID(調査票入力!$N520,SUM(調査票入力!$P520:P520)+1,調査票入力!Q520)","v":""},"非表示"]
[null,null,null,null,{"$f":"MID(調査票入力!$N520,SUM(調査票入力!$P520:Q520)+1,調査票入力!R520)","v":""},"非表示"]
[null,null,null,null,{"$f":"MID(調査票入力!$N520,SUM(調査票入力!$P520:R520)+1,調査票入力!S520)","v":""},"非表示"]
[null,null,null,null,{"$f":"MID(調査票入力!$N520,SUM(調査票入力!$P520:S520)+1,調査票入力!T520)","v":""},"非表示"]
[null,null,null,null,{"$f":"MID(調査票入力!$N520,SUM(調査票入力!$P520:T520)+1,調査票入力!U520)","v":""},{"$f":"IF(OR(B153<>\"\",E153<>\"\"),\"表示\",\"非表示\")","v":"非表示"}]
[null,null,"12.調理",{"$f":"調査票入力!J521&\".\"&調査票入力!M521","v":"1.支援不要"},{"$f":"MID(調査票入力!$N521,1,調査票入力!P521)","v":""},"非表示"]
[null,null,null,null,{"$f":"MID(調査票入力!$N521,SUM(調査票入力!$P521:P521)+1,調査票入力!Q521)","v":""},"非表示"]
[null,null,null,null,{"$f":"MID(調査票入力!$N521,SUM(調査票入力!$P521:Q521)+1,調査票入力!R521)","v":""},"非表示"]
[null,null,null,null,{"$f":"MID(調査票入力!$N521,SUM(調査票入力!$P521:R521)+1,調査票入力!S521)","v":""},"非表示"]
[null,null,null,null,{"$f":"MID(調査票入力!$N521,SUM(調査票入力!$P521:S521)+1,調査票入力!T521)","v":""},"非表示"]
[null,null,null,null,{"$f":"MID(調査票入力!$N521,SUM(調査票入力!$P521:T521)+1,調査票入力!U521)","v":""},"非表示"]
[null,null,"13.掃除",{"$f":"調査票入力!J522&\".\"&調査票入力!M522","v":"1.支援不要"},{"$f":"MID(調査票入力!$N522,1,調査票入力!P522)","v":""},"非表示"]
[null,null,null,null,{"$f":"MID(調査票入力!$N522,SUM(調査票入力!$P522:P522)+1,調査票入力!Q522)","v":""},"非表示"]
[null,null,null,null,{"$f":"MID(調査票入力!$N522,SUM(調査票入力!$P522:Q522)+1,調査票入力!R522)","v":""},"非表示"]
[null,null,null,null,null,"非表示"]
[null,null,null,null,{"$f":"MID(調査票入力!$N522,SUM(調査票入力!$P522:S522)+1,調査票入力!T522)","v":""},"非表示"]
[null,null,null,null,{"$f":"MID(調査票入力!$N522,SUM(調査票入力!$P522:T522)+1,調査票入力!U522)","v":""},"非表示"]
[null,null,"14.洗濯",{"$f":"調査票入力!J523&\".\"&調査票入力!M523","v":"1.支援不要"},{"$f":"MID(調査票入力!$N523,1,調査票入力!P523)","v":""},"非表示"]
[null,null,null,null,{"$f":"MID(調査票入力!$N523,SUM(調査票入力!$P523:P523)+1,調査票入力!Q523)","v":""},"非表示"]
[null,null,null,null,{"$f":"MID(調査票入力!$N523,SUM(調査票入力!$P523:Q523)+1,調査票入力!R523)","v":""},"非表示"]
[null,null,null,null,null,"非表示"]
[null,null,null,null,{"$f":"MID(調査票入力!$N523,SUM(調査票入力!$P523:S523)+1,調査票入力!T523)","v":""},"非表示"]
[null,null,null,null,{"$f":"MID(調査票入力!$N523,SUM(調査票入力!$P523:T523)+1,調査票入力!U523)","v":""},"非表示"]
[null,null,"15.買い物",{"$f":"調査票入力!J524&\".\"&調査票入力!M524","v":"1.支援不要"},{"$f":"MID(調査票入力!$N524,1,調査票入力!P524)","v":""},"非表示"]
[null,null,null,null,{"$f":"MID(調査票入力!$N524,SUM(調査票入力!$P524:P524)+1,調査票入力!Q524)","v":""},"非表示"]
[null,null,null,null,{"$f":"MID(調査票入力!$N524,SUM(調査票入力!$P524:Q524)+1,調査票入力!R524)","v":""},"非表示"]
[null,null,null,null,{"$f":"MID(調査票入力!$N524,SUM(調査票入力!$P524:R524)+1,調査票入力!S524)","v":""},"非表示"]
[null,null,null,null,{"$f":"MID(調査票入力!$N524,SUM(調査票入力!$P524:S524)+1,調査票入力!T524)","v":""},"非表示"]
[null,null,null,null,{"$f":"MID(調査票入力!$N524,SUM(調査票入力!$P524:T524)+1,調査票入力!U524)","v":""},"非表示"]
[null,null,"16.交通手段の利用",{"$f":"調査票入力!J525&\".\"&調査票入力!M525","v":"1.支援不要"},{"$f":"MID(調査票入力!$N525,1,調査票入力!P525)","v":""},"非表示"]
[null,null,null,null,{"$f":"MID(調査票入力!$N525,SUM(調査票入力!$P525:P525)+1,調査票入力!Q525)","v":""},"非表示"]
[null,null,null,null,{"$f":"MID(調査票入力!$N525,SUM(調査票入力!$P525:Q525)+1,調査票入力!R525)","v":""},"非表示"]
[null,null,null,null,{"$f":"MID(調査票入力!$N525,SUM(調査票入力!$P525:R525)+1,調査票入力!S525)","v":""},"非表示"]
[null,null,null,null,{"$f":"MID(調査票入力!$N525,SUM(調査票入力!$P525:S525)+1,調査票入力!T525)","v":""},"非表示"]
[null,null,null,null,{"$f":"MID(調査票入力!$N525,SUM(調査票入力!$P525:T525)+1,調査票入力!U525)","v":""},"非表示"]
[null,"　",null,null,null,"表示"]
[null,"３．意思疎通等に関連する項目　",null,null,null,"表示"]
[null,null,"１.視力",{"$f":"調査票入力!J526&\".\"&調査票入力!M526","v":"1.生活に支障なし"},{"$f":"MID(調査票入力!$N526,1,調査票入力!P526)","v":""},"非表示"]
[null,null,null,null,{"$f":"MID(調査票入力!$N526,SUM(調査票入力!$P526:P526)+1,調査票入力!Q526)","v":""},"非表示"]
[null,null,null,null,{"$f":"MID(調査票入力!$N526,SUM(調査票入力!$P526:Q526)+1,調査票入力!R526)","v":""},"非表示"]
[null,null,null,null,{"$f":"MID(調査票入力!$N526,SUM(調査票入力!$P526:R526)+1,調査票入力!S526)","v":""},"非表示"]
[null,null,null,null,{"$f":"MID(調査票入力!$N526,SUM(調査票入力!$P526:S526)+1,調査票入力!T526)","v":""},"非表示"]
[null,null,null,null,{"$f":"MID(調査票入力!$N526,SUM(調査票入力!$P526:T526)+1,調査票入力!U526)","v":""},"非表示"]
[null,null,"２.聴力",{"$f":"調査票入力!J527&\".\"&調査票入力!M527","v":"1.生活に支障なし"},{"$f":"MID(調査票入力!$N527,1,調査票入力!P527)","v":""},"非表示"]
[null,null,null,null,{"$f":"MID(調査票入力!$N527,SUM(調査票入力!$P527:P527)+1,調査票入力!Q527)","v":""},"非表示"]
[null,null,null,null,{"$f":"MID(調査票入力!$N527,SUM(調査票入力!$P527:Q527)+1,調査票入力!R527)","v":""},"非表示"]
[null,null,null,null,{"$f":"MID(調査票入力!$N527,SUM(調査票入力!$P527:R527)+1,調査票入力!S527)","v":""},"非表示"]
[null,null,null,null,{"$f":"MID(調査票入力!$N527,SUM(調査票入力!$P527:S527)+1,調査票入力!T527)","v":""},"非表示"]
[null,null,null,null,{"$f":"MID(調査票入力!$N527,SUM(調査票入力!$P527:T527)+1,調査票入力!U527)","v":""},"非表示"]
[null,null,"３.コミュニケーション",{"$f":"調査票入力!J528&\".\"&調査票入力!M528","v":"1.生活に支障なし"},{"$f":"MID(調査票入力!$N528,1,調査票入力!P528)","v":""},"非表示"]
[null,null,null,null,{"$f":"MID(調査票入力!$N528,SUM(調査票入力!$P528:P528)+1,調査票入力!Q528)","v":""},"非表示"]
[null,null,null,null,{"$f":"MID(調査票入力!$N528,SUM(調査票入力!$P528:Q528)+1,調査票入力!R528)","v":""},"非表示"]
[null,null,null,null,{"$f":"MID(調査票入力!$N528,SUM(調査票入力!$P528:R528)+1,調査票入力!S528)","v":""},"非表示"]
[null,null,null,null,{"$f":"MID(調査票入力!$N528,SUM(調査票入力!$P528:S528)+1,調査票入力!T528)","v":""},"非表示"]
[null,null,null,null,{"$f":"MID(調査票入力!$N528,SUM(調査票入力!$P528:T528)+1,調査票入力!U528)","v":""},"非表示"]
[null,null,"４.説明の理解",{"$f":"調査票入力!J529&\".\"&調査票入力!M529","v":"1.理解できる"},{"$f":"MID(調査票入力!$N529,1,調査票入力!P529)","v":""},"非表示"]
[null,null,null,null,{"$f":"MID(調査票入力!$N529,SUM(調査票入力!$P529:P529)+1,調査票入力!Q529)","v":""},"非表示"]
[null,null,null,null,{"$f":"MID(調査票入力!$N529,SUM(調査票入力!$P529:Q529)+1,調査票入力!R529)","v":""},"非表示"]
[null,null,null,null,{"$f":"MID(調査票入力!$N529,SUM(調査票入力!$P529:R529)+1,調査票入力!S529)","v":""},"非表示"]
[null,null,null,null,{"$f":"MID(調査票入力!$N529,SUM(調査票入力!$P529:S529)+1,調査票入力!T529)","v":""},"非表示"]
[null,null,null,null,{"$f":"MID(調査票入力!$N529,SUM(調査票入力!$P529:T529)+1,調査票入力!U529)","v":""},"非表示"]
[null,null,"５.読み書き",{"$f":"調査票入力!J530&\".\"&調査票入力!M530","v":"1.支援不要"},{"$f":"MID(調査票入力!$N530,1,調査票入力!P530)","v":""},"非表示"]
[null,null,null,null,{"$f":"MID(調査票入力!$N530,SUM(調査票入力!$P530:P530)+1,調査票入力!Q530)","v":""},"非表示"]
[null,null,null,null,{"$f":"MID(調査票入力!$N530,SUM(調査票入力!$P530:Q530)+1,調査票入力!R530)","v":""},"非表示"]
[null,null,null,null,null,"非表示"]
[null,null,null,null,{"$f":"MID(調査票入力!$N530,SUM(調査票入力!$P530:S530)+1,調査票入力!T530)","v":""},"非表示"]
[null,null,null,null,{"$f":"MID(調査票入力!$N530,SUM(調査票入力!$P530:T530)+1,調査票入力!U530)","v":""},"非表示"]
[null,null,"６.感覚過敏・感覚鈍麻",{"$f":"調査票入力!J531&\".\"&調査票入力!M531","v":"1.ない"},{"$f":"MID(調査票入力!$N531,1,調査票入力!P531)","v":""},"非表示"]
[null,null,null,null,{"$f":"MID(調査票入力!$N531,SUM(調査票入力!$P531:P531)+1,調査票入力!Q531)","v":""},{"$f":"IF(OR(B217<>\"\",E217<>\"\"),\"表示\",\"非表示\")","v":"非表示"}]
[null,null,null,null,{"$f":"MID(調査票入力!$N531,SUM(調査票入力!$P531:Q531)+1,調査票入力!R531)","v":""},"非表示"]
[null,null,null,null,null,"非表示"]
[null,null,null,null,{"$f":"MID(調査票入力!$N531,SUM(調査票入力!$P531:S531)+1,調査票入力!T531)","v":""},"非表示"]
[null,null,null,null,{"$f":"MID(調査票入力!$N531,SUM(調査票入力!$P531:T531)+1,調査票入力!U531)","v":""},"非表示"]
[null,"　",null,null,null,"表示"]
[null,"４．行動障害に関連する項目　",null,null,null,"表示"]
[null,null,"１.被害的・拒否的",{"$f":"調査票入力!J532&\".\"&調査票入力!M532","v":"1.支援不要"},{"$f":"MID(調査票入力!$N532,1,調査票入力!P532)","v":""},"非表示"]
[null,null,null,null,{"$f":"MID(調査票入力!$N532,SUM(調査票入力!$P532:P532)+1,調査票入力!Q532)","v":""},"非表示"]
[null,null,null,null,{"$f":"MID(調査票入力!$N532,SUM(調査票入力!$P532:Q532)+1,調査票入力!R532)","v":""},"非表示"]
[null,null,null,null,{"$f":"MID(調査票入力!$N532,SUM(調査票入力!$P532:R532)+1,調査票入力!S532)","v":""},"非表示"]
[null,null,null,null,{"$f":"MID(調査票入力!$N532,SUM(調査票入力!$P532:S532)+1,調査票入力!T532)","v":""},"非表示"]
[null,null,null,null,{"$f":"MID(調査票入力!$N532,SUM(調査票入力!$P532:T532)+1,調査票入力!U532)","v":""},"非表示"]
[null,null,"２.作話",{"$f":"調査票入力!J533&\".\"&調査票入力!M533","v":"1.支援不要"},{"$f":"MID(調査票入力!$N533,1,調査票入力!P533)","v":""},"非表示"]
[null,null,null,null,{"$f":"MID(調査票入力!$N533,SUM(調査票入力!$P533:P533)+1,調査票入力!Q533)","v":""},"非表示"]
[null,null,null,null,{"$f":"MID(調査票入力!$N533,SUM(調査票入力!$P533:Q533)+1,調査票入力!R533)","v":""},"非表示"]
[null,null,null,null,{"$f":"MID(調査票入力!$N533,SUM(調査票入力!$P533:R533)+1,調査票入力!S533)","v":""},"非表示"]
[null,null,null,null,{"$f":"MID(調査票入力!$N533,SUM(調査票入力!$P533:S533)+1,調査票入力!T533)","v":""},"非表示"]
[null,null,null,null,{"$f":"MID(調査票入力!$N533,SUM(調査票入力!$P533:T533)+1,調査票入力!U533)","v":""},"非表示"]
[null,null,"３.感情が不安定",{"$f":"調査票入力!J534&\".\"&調査票入力!M534","v":"1.支援不要"},{"$f":"MID(調査票入力!$N534,1,調査票入力!P534)","v":""},"非表示"]
[null,null,null,null,{"$f":"MID(調査票入力!$N534,SUM(調査票入力!$P534:P534)+1,調査票入力!Q534)","v":""},"非表示"]
[null,null,null,null,{"$f":"MID(調査票入力!$N534,SUM(調査票入力!$P534:Q534)+1,調査票入力!R534)","v":""},"非表示"]
[null,null,null,null,{"$f":"MID(調査票入力!$N534,SUM(調査票入力!$P534:R534)+1,調査票入力!S534)","v":""},"非表示"]
[null,null,null,null,{"$f":"MID(調査票入力!$N534,SUM(調査票入力!$P534:S534)+1,調査票入力!T534)","v":""},"非表示"]
[null,null,null,null,{"$f":"MID(調査票入力!$N534,SUM(調査票入力!$P534:T534)+1,調査票入力!U534)","v":""},"非表示"]
[null,null,"４.昼夜逆転",{"$f":"調査票入力!J535&\".\"&調査票入力!M535","v":"1.支援不要"},{"$f":"MID(調査票入力!$N535,1,調査票入力!P535)","v":""},"非表示"]
[null,null,null,null,{"$f":"MID(調査票入力!$N535,SUM(調査票入力!$P535:P535)+1,調査票入力!Q535)","v":""},"非表示"]
[null,null,null,null,{"$f":"MID(調査票入力!$N535,SUM(調査票入力!$P535:Q535)+1,調査票入力!R535)","v":""},"非表示"]
[null,null,null,null,{"$f":"MID(調査票入力!$N535,SUM(調査票入力!$P535:R535)+1,調査票入力!S535)","v":""},"非表示"]
[null,null,null,null,{"$f":"MID(調査票入力!$N535,SUM(調査票入力!$P535:S535)+1,調査票入力!T535)","v":""},"非表示"]
[null,null,null,null,{"$f":"MID(調査票入力!$N535,SUM(調査票入力!$P535:T535)+1,調査票入力!U535)","v":""},"非表示"]
[null,null,"５.暴言暴行",{"$f":"調査票入力!J536&\".\"&調査票入力!M536","v":"1.支援不要"},{"$f":"MID(調査票入力!$N536,1,調査票入力!P536)","v":""},"非表示"]
[null,null,null,null,{"$f":"MID(調査票入力!$N536,SUM(調査票入力!$P536:P536)+1,調査票入力!Q536)","v":""},"非表示"]
[null,null,null,null,{"$f":"MID(調査票入力!$N536,SUM(調査票入力!$P536:Q536)+1,調査票入力!R536)","v":""},"非表示"]
[null,null,null,null,{"$f":"MID(調査票入力!$N536,SUM(調査票入力!$P536:R536)+1,調査票入力!S536)","v":""},"非表示"]
[null,null,null,null,{"$f":"MID(調査票入力!$N536,SUM(調査票入力!$P536:S536)+1,調査票入力!T536)","v":""},"非表示"]
[null,null,null,null,{"$f":"MID(調査票入力!$N536,SUM(調査票入力!$P536:T536)+1,調査票入力!U536)","v":""},"非表示"]
[null,null,"６.同じ話をする",{"$f":"調査票入力!J537&\".\"&調査票入力!M537","v":"1.支援不要"},{"$f":"MID(調査票入力!$N537,1,調査票入力!P537)","v":""},"非表示"]
[null,null,null,null,{"$f":"MID(調査票入力!$N537,SUM(調査票入力!$P537:P537)+1,調査票入力!Q537)","v":""},"非表示"]
[null,null,null,null,{"$f":"MID(調査票入力!$N537,SUM(調査票入力!$P537:Q537)+1,調査票入力!R537)","v":""},"非表示"]
[null,null,null,null,{"$f":"MID(調査票入力!$N537,SUM(調査票入力!$P537:R537)+1,調査票入力!S537)","v":""},"非表示"]
[null,null,null,null,{"$f":"MID(調査票入力!$N537,SUM(調査票入力!$P537:S537)+1,調査票入力!T537)","v":""},"非表示"]
[null,null,null,null,{"$f":"MID(調査票入力!$N537,SUM(調査票入力!$P537:T537)+1,調査票入力!U537)","v":""},"非表示"]
[null,null,"７.大声・奇声を出す",{"$f":"調査票入力!J538&\".\"&調査票入力!M538","v":"1.支援不要"},{"$f":"MID(調査票入力!$N538,1,調査票入力!P538)","v":""},"非表示"]
[null,null,null,null,{"$f":"MID(調査票入力!$N538,SUM(調査票入力!$P538:P538)+1,調査票入力!Q538)","v":""},"非表示"]
[null,null,null,null,{"$f":"MID(調査票入力!$N538,SUM(調査票入力!$P538:Q538)+1,調査票入力!R538)","v":""},"非表示"]
[null,null,null,null,{"$f":"MID(調査票入力!$N538,SUM(調査票入力!$P538:R538)+1,調査票入力!S538)","v":""},"非表示"]
[null,null,null,null,{"$f":"MID(調査票入力!$N538,SUM(調査票入力!$P538:S538)+1,調査票入力!T538)","v":""},"非表示"]
[null,null,null,null,{"$f":"MID(調査票入力!$N538,SUM(調査票入力!$P538:T538)+1,調査票入力!U538)","v":""},"非表示"]
[null,null,"８.支援の拒否",{"$f":"調査票入力!J539&\".\"&調査票入力!M539","v":"1.支援不要"},{"$f":"MID(調査票入力!$N539,1,調査票入力!P539)","v":""},"非表示"]
[null,null,null,null,{"$f":"MID(調査票入力!$N539,SUM(調査票入力!$P539:P539)+1,調査票入力!Q539)","v":""},"非表示"]
[null,null,null,null,{"$f":"MID(調査票入力!$N539,SUM(調査票入力!$P539:Q539)+1,調査票入力!R539)","v":""},"非表示"]
[null,null,null,null,{"$f":"MID(調査票入力!$N539,SUM(調査票入力!$P539:R539)+1,調査票入力!S539)","v":""},"非表示"]
[null,null,null,null,{"$f":"MID(調査票入力!$N539,SUM(調査票入力!$P539:S539)+1,調査票入力!T539)","v":""},"非表示"]
[null,null,null,null,{"$f":"MID(調査票入力!$N539,SUM(調査票入力!$P539:T539)+1,調査票入力!U539)","v":""},"非表示"]
[null,null,"９.徘徊",{"$f":"調査票入力!J540&\".\"&調査票入力!M540","v":"1.支援不要"},{"$f":"MID(調査票入力!$N540,1,調査票入力!P540)","v":""},"非表示"]
[null,null,null,null,{"$f":"MID(調査票入力!$N540,SUM(調査票入力!$P540:P540)+1,調査票入力!Q540)","v":""},"非表示"]
[null,null,null,null,{"$f":"MID(調査票入力!$N540,SUM(調査票入力!$P540:Q540)+1,調査票入力!R540)","v":""},"非表示"]
[null,null,null,null,{"$f":"MID(調査票入力!$N540,SUM(調査票入力!$P540:R540)+1,調査票入力!S540)","v":""},"非表示"]
[null,null,null,null,{"$f":"MID(調査票入力!$N540,SUM(調査票入力!$P540:S540)+1,調査票入力!T540)","v":""},"非表示"]
[null,null,null,null,{"$f":"MID(調査票入力!$N540,SUM(調査票入力!$P540:T540)+1,調査票入力!U540)","v":""},"非表示"]
[null,null,"10.落ち着きがない",{"$f":"調査票入力!J541&\".\"&調査票入力!M541","v":"1.支援不要"},{"$f":"MID(調査票入力!$N541,1,調査票入力!P541)","v":""},"非表示"]
[null,null,null,null,{"$f":"MID(調査票入力!$N541,SUM(調査票入力!$P541:P541)+1,調査票入力!Q541)","v":""},"非表示"]
[null,null,null,null,{"$f":"MID(調査票入力!$N541,SUM(調査票入力!$P541:Q541)+1,調査票入力!R541)","v":""},"非表示"]
[null,null,null,null,{"$f":"MID(調査票入力!$N541,SUM(調査票入力!$P541:R541)+1,調査票入力!S541)","v":""},{"$f":"IF(OR(B281<>\"\",E281<>\"\"),\"表示\",\"非表示\")","v":"非表示"}]
[null,null,null,null,{"$f":"MID(調査票入力!$N541,SUM(調査票入力!$P541:S541)+1,調査票入力!T541)","v":""},"非表示"]
[null,null,null,null,{"$f":"MID(調査票入力!$N541,SUM(調査票入力!$P541:T541)+1,調査票入力!U541)","v":""},"非表示"]
[null,null,"11.外出して戻れない",{"$f":"調査票入力!J542&\".\"&調査票入力!M542","v":"1.支援不要"},{"$f":"MID(調査票入力!$N542,1,調査票入力!P542)","v":""},"非表示"]
[null,null,null,null,{"$f":"MID(調査票入力!$N542,SUM(調査票入力!$P542:P542)+1,調査票入力!Q542)","v":""},"非表示"]
[null,null,null,null,{"$f":"MID(調査票入力!$N542,SUM(調査票入力!$P542:Q542)+1,調査票入力!R542)","v":""},"非表示"]
[null,null,null,null,{"$f":"MID(調査票入力!$N542,SUM(調査票入力!$P542:R542)+1,調査票入力!S542)","v":""},"非表示"]
[null,null,null,null,{"$f":"MID(調査票入力!$N542,SUM(調査票入力!$P542:S542)+1,調査票入力!T542)","v":""},"非表示"]
[null,null,null,null,{"$f":"MID(調査票入力!$N542,SUM(調査票入力!$P542:T542)+1,調査票入力!U542)","v":""},"非表示"]
[null,null,"12.１人で出たがる",{"$f":"調査票入力!J543&\".\"&調査票入力!M543","v":"1.支援不要"},{"$f":"MID(調査票入力!$N543,1,調査票入力!P543)","v":""},"非表示"]
[null,null,null,null,{"$f":"MID(調査票入力!$N543,SUM(調査票入力!$P543:P543)+1,調査票入力!Q543)","v":""},"非表示"]
[null,null,null,null,{"$f":"MID(調査票入力!$N543,SUM(調査票入力!$P543:Q543)+1,調査票入力!R543)","v":""},"非表示"]
[null,null,null,null,{"$f":"MID(調査票入力!$N543,SUM(調査票入力!$P543:R543)+1,調査票入力!S543)","v":""},"非表示"]
[null,null,null,null,{"$f":"MID(調査票入力!$N543,SUM(調査票入力!$P543:S543)+1,調査票入力!T543)","v":""},"非表示"]
[null,null,null,null,{"$f":"MID(調査票入力!$N543,SUM(調査票入力!$P543:T543)+1,調査票入力!U543)","v":""},"非表示"]
[null,null,"13.収集癖",{"$f":"調査票入力!J544&\".\"&調査票入力!M544","v":"1.支援不要"},{"$f":"MID(調査票入力!$N544,1,調査票入力!P544)","v":""},"非表示"]
[null,null,null,null,{"$f":"MID(調査票入力!$N544,SUM(調査票入力!$P544:P544)+1,調査票入力!Q544)","v":""},"非表示"]
[null,null,null,null,{"$f":"MID(調査票入力!$N544,SUM(調査票入力!$P544:Q544)+1,調査票入力!R544)","v":""},"非表示"]
[null,null,null,null,{"$f":"MID(調査票入力!$N544,SUM(調査票入力!$P544:R544)+1,調査票入力!S544)","v":""},"非表示"]
[null,null,null,null,{"$f":"MID(調査票入力!$N544,SUM(調査票入力!$P544:S544)+1,調査票入力!T544)","v":""},"非表示"]
[null,null,null,null,{"$f":"MID(調査票入力!$N544,SUM(調査票入力!$P544:T544)+1,調査票入力!U544)","v":""},"非表示"]
[null,null,"14.物や衣類を壊す",{"$f":"調査票入力!J545&\".\"&調査票入力!M545","v":"1.支援不要"},{"$f":"MID(調査票入力!$N545,1,調査票入力!P545)","v":""},"非表示"]
[null,null,null,null,{"$f":"MID(調査票入力!$N545,SUM(調査票入力!$P545:P545)+1,調査票入力!Q545)","v":""},"非表示"]
[null,null,null,null,{"$f":"MID(調査票入力!$N545,SUM(調査票入力!$P545:Q545)+1,調査票入力!R545)","v":""},"非表示"]
[null,null,null,null,{"$f":"MID(調査票入力!$N545,SUM(調査票入力!$P545:R545)+1,調査票入力!S545)","v":""},"非表示"]
[null,null,null,null,{"$f":"MID(調査票入力!$N545,SUM(調査票入力!$P545:S545)+1,調査票入力!T545)","v":""},"非表示"]
[null,null,null,null,{"$f":"MID(調査票入力!$N545,SUM(調査票入力!$P545:T545)+1,調査票入力!U545)","v":""},"非表示"]
[null,null,"15.不潔行為",{"$f":"調査票入力!J546&\".\"&調査票入力!M546","v":"1.支援不要"},{"$f":"MID(調査票入力!$N546,1,調査票入力!P546)","v":""},"非表示"]
[null,null,null,null,{"$f":"MID(調査票入力!$N546,SUM(調査票入力!$P546:P546)+1,調査票入力!Q546)","v":""},"非表示"]
[null,null,null,null,{"$f":"MID(調査票入力!$N546,SUM(調査票入力!$P546:Q546)+1,調査票入力!R546)","v":""},"非表示"]
[null,null,null,null,{"$f":"MID(調査票入力!$N546,SUM(調査票入力!$P546:R546)+1,調査票入力!S546)","v":""},"非表示"]
[null,null,null,null,{"$f":"MID(調査票入力!$N546,SUM(調査票入力!$P546:S546)+1,調査票入力!T546)","v":""},"非表示"]
[null,null,null,null,{"$f":"MID(調査票入力!$N546,SUM(調査票入力!$P546:T546)+1,調査票入力!U546)","v":""},"非表示"]
[null,null,"16.異食行動",{"$f":"調査票入力!J547&\".\"&調査票入力!M547","v":"1.支援不要"},{"$f":"MID(調査票入力!$N547,1,調査票入力!P547)","v":""},"非表示"]
[null,null,null,null,{"$f":"MID(調査票入力!$N547,SUM(調査票入力!$P547:P547)+1,調査票入力!Q547)","v":""},"非表示"]
[null,null,null,null,{"$f":"MID(調査票入力!$N547,SUM(調査票入力!$P547:Q547)+1,調査票入力!R547)","v":""},"非表示"]
[null,null,null,null,{"$f":"MID(調査票入力!$N547,SUM(調査票入力!$P547:R547)+1,調査票入力!S547)","v":""},"非表示"]
[null,null,null,null,{"$f":"MID(調査票入力!$N547,SUM(調査票入力!$P547:S547)+1,調査票入力!T547)","v":""},"非表示"]
[null,null,null,null,{"$f":"MID(調査票入力!$N547,SUM(調査票入力!$P547:T547)+1,調査票入力!U547)","v":""},"非表示"]
[null,null,"17.ひどい物忘れ",{"$f":"調査票入力!J548&\".\"&調査票入力!M548","v":"1.支援不要"},{"$f":"MID(調査票入力!$N548,1,調査票入力!P548)","v":""},"非表示"]
[null,null,null,null,{"$f":"MID(調査票入力!$N548,SUM(調査票入力!$P548:P548)+1,調査票入力!Q548)","v":""},"非表示"]
[null,null,null,null,{"$f":"MID(調査票入力!$N548,SUM(調査票入力!$P548:Q548)+1,調査票入力!R548)","v":""},"非表示"]
[null,null,null,null,{"$f":"MID(調査票入力!$N548,SUM(調査票入力!$P548:R548)+1,調査票入力!S548)","v":""},"非表示"]
[null,null,null,null,{"$f":"MID(調査票入力!$N548,SUM(調査票入力!$P548:S548)+1,調査票入力!T548)","v":""},"非表示"]
[null,null,null,null,{"$f":"MID(調査票入力!$N548,SUM(調査票入力!$P548:T548)+1,調査票入力!U548)","v":""},"非表示"]
[null,null,"18.こだわり",{"$f":"調査票入力!J549&\".\"&調査票入力!M549","v":"1.支援不要"},{"$f":"MID(調査票入力!$N549,1,調査票入力!P549)","v":""},"非表示"]
[null,null,null,null,{"$f":"MID(調査票入力!$N549,SUM(調査票入力!$P549:P549)+1,調査票入力!Q549)","v":""},"非表示"]
[null,null,null,null,{"$f":"MID(調査票入力!$N549,SUM(調査票入力!$P549:Q549)+1,調査票入力!R549)","v":""},"非表示"]
[null,null,null,null,{"$f":"MID(調査票入力!$N549,SUM(調査票入力!$P549:R549)+1,調査票入力!S549)","v":""},"非表示"]
[null,null,null,null,{"$f":"MID(調査票入力!$N549,SUM(調査票入力!$P549:S549)+1,調査票入力!T549)","v":""},"非表示"]
[null,null,null,null,{"$f":"MID(調査票入力!$N549,SUM(調査票入力!$P549:T549)+1,調査票入力!U549)","v":""},"非表示"]
[null,null,"19.多動・行動停止",{"$f":"調査票入力!J550&\".\"&調査票入力!M550","v":"1.支援不要"},{"$f":"MID(調査票入力!$N550,1,調査票入力!P550)","v":""},"非表示"]
[null,null,null,null,{"$f":"MID(調査票入力!$N550,SUM(調査票入力!$P550:P550)+1,調査票入力!Q550)","v":""},"非表示"]
[null,null,null,null,{"$f":"MID(調査票入力!$N550,SUM(調査票入力!$P550:Q550)+1,調査票入力!R550)","v":""},"非表示"]
[null,null,null,null,{"$f":"MID(調査票入力!$N550,SUM(調査票入力!$P550:R550)+1,調査票入力!S550)","v":""},"非表示"]
[null,null,null,null,{"$f":"MID(調査票入力!$N550,SUM(調査票入力!$P550:S550)+1,調査票入力!T550)","v":""},"非表示"]
[null,null,null,null,{"$f":"MID(調査票入力!$N550,SUM(調査票入力!$P550:T550)+1,調査票入力!U550)","v":""},"非表示"]
[null,null,"20.不安定な行動",{"$f":"調査票入力!J551&\".\"&調査票入力!M551","v":"1.支援不要"},{"$f":"MID(調査票入力!$N551,1,調査票入力!P551)","v":""},"非表示"]
[null,null,null,null,{"$f":"MID(調査票入力!$N551,SUM(調査票入力!$P551:P551)+1,調査票入力!Q551)","v":""},"非表示"]
[null,null,null,null,{"$f":"MID(調査票入力!$N551,SUM(調査票入力!$P551:Q551)+1,調査票入力!R551)","v":""},"非表示"]
[null,null,null,null,{"$f":"MID(調査票入力!$N551,SUM(調査票入力!$P551:R551)+1,調査票入力!S551)","v":""},"非表示"]
[null,null,null,null,{"$f":"MID(調査票入力!$N551,SUM(調査票入力!$P551:S551)+1,調査票入力!T551)","v":""},"非表示"]
[null,null,null,null,{"$f":"MID(調査票入力!$N551,SUM(調査票入力!$P551:T551)+1,調査票入力!U551)","v":""},"非表示"]
[null,null,"21.自らを傷つける行為",{"$f":"調査票入力!J552&\".\"&調査票入力!M552","v":"1.支援不要"},{"$f":"MID(調査票入力!$N552,1,調査票入力!P552)","v":""},"非表示"]
[null,null,null,null,{"$f":"MID(調査票入力!$N552,SUM(調査票入力!$P552:P552)+1,調査票入力!Q552)","v":""},{"$f":"IF(OR(B345<>\"\",E345<>\"\"),\"表示\",\"非表示\")","v":"非表示"}]
[null,null,null,null,{"$f":"MID(調査票入力!$N552,SUM(調査票入力!$P552:Q552)+1,調査票入力!R552)","v":""},"非表示"]
[null,null,null,null,{"$f":"MID(調査票入力!$N552,SUM(調査票入力!$P552:R552)+1,調査票入力!S552)","v":""},"非表示"]
[null,null,null,null,{"$f":"MID(調査票入力!$N552,SUM(調査票入力!$P552:S552)+1,調査票入力!T552)","v":""},"非表示"]
[null,null,null,null,{"$f":"MID(調査票入力!$N552,SUM(調査票入力!$P552:T552)+1,調査票入力!U552)","v":""},"非表示"]
[null,null,"22.他人を傷つける行為",{"$f":"調査票入力!J553&\".\"&調査票入力!M553","v":"1.支援不要"},{"$f":"MID(調査票入力!$N553,1,調査票入力!P553)","v":""},"非表示"]
[null,null,null,null,{"$f":"MID(調査票入力!$N553,SUM(調査票入力!$P553:P553)+1,調査票入力!Q553)","v":""},"非表示"]
[null,null,null,null,{"$f":"MID(調査票入力!$N553,SUM(調査票入力!$P553:Q553)+1,調査票入力!R553)","v":""},"非表示"]
[null,null,null,null,{"$f":"MID(調査票入力!$N553,SUM(調査票入力!$P553:R553)+1,調査票入力!S553)","v":""},"非表示"]
[null,null,null,null,{"$f":"MID(調査票入力!$N553,SUM(調査票入力!$P553:S553)+1,調査票入力!T553)","v":""},"非表示"]
[null,null,null,null,{"$f":"MID(調査票入力!$N553,SUM(調査票入力!$P553:T553)+1,調査票入力!U553)","v":""},"非表示"]
[null,null,"23.不適切な行為",{"$f":"調査票入力!J554&\".\"&調査票入力!M554","v":"1.支援不要"},{"$f":"MID(調査票入力!$N554,1,調査票入力!P554)","v":""},"非表示"]
[null,null,null,null,{"$f":"MID(調査票入力!$N554,SUM(調査票入力!$P554:P554)+1,調査票入力!Q554)","v":""},"非表示"]
[null,null,null,null,{"$f":"MID(調査票入力!$N554,SUM(調査票入力!$P554:Q554)+1,調査票入力!R554)","v":""},"非表示"]
[null,null,null,null,{"$f":"MID(調査票入力!$N554,SUM(調査票入力!$P554:R554)+1,調査票入力!S554)","v":""},"非表示"]
[null,null,null,null,{"$f":"MID(調査票入力!$N554,SUM(調査票入力!$P554:S554)+1,調査票入力!T554)","v":""},"非表示"]
[null,null,null,null,{"$f":"MID(調査票入力!$N554,SUM(調査票入力!$P554:T554)+1,調査票入力!U554)","v":""},"非表示"]
[null,null,"24.突発的な行動",{"$f":"調査票入力!J555&\".\"&調査票入力!M555","v":"1.支援不要"},{"$f":"MID(調査票入力!$N555,1,調査票入力!P555)","v":""},"非表示"]
[null,null,null,null,{"$f":"MID(調査票入力!$N555,SUM(調査票入力!$P555:P555)+1,調査票入力!Q555)","v":""},"非表示"]
[null,null,null,null,{"$f":"MID(調査票入力!$N555,SUM(調査票入力!$P555:Q555)+1,調査票入力!R555)","v":""},"非表示"]
[null,null,null,null,{"$f":"MID(調査票入力!$N555,SUM(調査票入力!$P555:R555)+1,調査票入力!S555)","v":""},"非表示"]
[null,null,null,null,{"$f":"MID(調査票入力!$N555,SUM(調査票入力!$P555:S555)+1,調査票入力!T555)","v":""},"非表示"]
[null,null,null,null,{"$f":"MID(調査票入力!$N555,SUM(調査票入力!$P555:T555)+1,調査票入力!U555)","v":""},"非表示"]
[null,null,"25.過食・反すう等",{"$f":"調査票入力!J556&\".\"&調査票入力!M556","v":"1.支援不要"},{"$f":"MID(調査票入力!$N556,1,調査票入力!P556)","v":""},"非表示"]
[null,null,null,null,{"$f":"MID(調査票入力!$N556,SUM(調査票入力!$P556:P556)+1,調査票入力!Q556)","v":""},"非表示"]
[null,null,null,null,{"$f":"MID(調査票入力!$N556,SUM(調査票入力!$P556:Q556)+1,調査票入力!R556)","v":""},"非表示"]
[null,null,null,null,{"$f":"MID(調査票入力!$N556,SUM(調査票入力!$P556:R556)+1,調査票入力!S556)","v":""},"非表示"]
[null,null,null,null,{"$f":"MID(調査票入力!$N556,SUM(調査票入力!$P556:S556)+1,調査票入力!T556)","v":""},"非表示"]
[null,null,null,null,{"$f":"MID(調査票入力!$N556,SUM(調査票入力!$P556:T556)+1,調査票入力!U556)","v":""},"非表示"]
[null,null,"26.そう鬱状態",{"$f":"調査票入力!J557&\".\"&調査票入力!M557","v":"1.支援不要"},{"$f":"MID(調査票入力!$N557,1,調査票入力!P557)","v":""},"非表示"]
[null,null,null,null,{"$f":"MID(調査票入力!$N557,SUM(調査票入力!$P557:P557)+1,調査票入力!Q557)","v":""},"非表示"]
[null,null,null,null,{"$f":"MID(調査票入力!$N557,SUM(調査票入力!$P557:Q557)+1,調査票入力!R557)","v":""},"非表示"]
[null,null,null,null,{"$f":"MID(調査票入力!$N557,SUM(調査票入力!$P557:R557)+1,調査票入力!S557)","v":""},"非表示"]
[null,null,null,null,{"$f":"MID(調査票入力!$N557,SUM(調査票入力!$P557:S557)+1,調査票入力!T557)","v":""},"非表示"]
[null,null,null,null,{"$f":"MID(調査票入力!$N557,SUM(調査票入力!$P557:T557)+1,調査票入力!U557)","v":""},"非表示"]
[null,null,"27.反復的行動",{"$f":"調査票入力!J558&\".\"&調査票入力!M558","v":"1.支援不要"},{"$f":"MID(調査票入力!$N558,1,調査票入力!P558)","v":""},"非表示"]
[null,null,null,null,{"$f":"MID(調査票入力!$N558,SUM(調査票入力!$P558:P558)+1,調査票入力!Q558)","v":""},"非表示"]
[null,null,null,null,{"$f":"MID(調査票入力!$N558,SUM(調査票入力!$P558:Q558)+1,調査票入力!R558)","v":""},"非表示"]
[null,null,null,null,{"$f":"MID(調査票入力!$N558,SUM(調査票入力!$P558:R558)+1,調査票入力!S558)","v":""},"非表示"]
[null,null,null,null,{"$f":"MID(調査票入力!$N558,SUM(調査票入力!$P558:S558)+1,調査票入力!T558)","v":""},"非表示"]
[null,null,null,null,{"$f":"MID(調査票入力!$N558,SUM(調査票入力!$P558:T558)+1,調査票入力!U558)","v":""},"非表示"]
[null,null,"28.対人面の不安緊張",{"$f":"調査票入力!J559&\".\"&調査票入力!M559","v":"1.支援不要"},{"$f":"MID(調査票入力!$N559,1,調査票入力!P559)","v":""},"非表示"]
[null,null,null,null,{"$f":"MID(調査票入力!$N559,SUM(調査票入力!$P559:P559)+1,調査票入力!Q559)","v":""},"非表示"]
[null,null,null,null,{"$f":"MID(調査票入力!$N559,SUM(調査票入力!$P559:Q559)+1,調査票入力!R559)","v":""},"非表示"]
[null,null,null,null,{"$f":"MID(調査票入力!$N559,SUM(調査票入力!$P559:R559)+1,調査票入力!S559)","v":""},"非表示"]
[null,null,null,null,{"$f":"MID(調査票入力!$N559,SUM(調査票入力!$P559:S559)+1,調査票入力!T559)","v":""},"非表示"]
[null,null,null,null,{"$f":"MID(調査票入力!$N559,SUM(調査票入力!$P559:T559)+1,調査票入力!U559)","v":""},"非表示"]
[null,null,"29.意欲が乏しい",{"$f":"調査票入力!J560&\".\"&調査票入力!M560","v":"1.支援不要"},{"$f":"MID(調査票入力!$N560,1,調査票入力!P560)","v":""},"非表示"]
[null,null,null,null,{"$f":"MID(調査票入力!$N560,SUM(調査票入力!$P560:P560)+1,調査票入力!Q560)","v":""},"非表示"]
[null,null,null,null,{"$f":"MID(調査票入力!$N560,SUM(調査票入力!$P560:Q560)+1,調査票入力!R560)","v":""},"非表示"]
[null,null,null,null,{"$f":"MID(調査票入力!$N560,SUM(調査票入力!$P560:R560)+1,調査票入力!S560)","v":""},"非表示"]
[null,null,null,null,{"$f":"MID(調査票入力!$N560,SUM(調査票入力!$P560:S560)+1,調査票入力!T560)","v":""},"非表示"]
[null,null,null,null,{"$f":"MID(調査票入力!$N560,SUM(調査票入力!$P560:T560)+1,調査票入力!U560)","v":""},"非表示"]
[null,null,"30.話がまとまらない",{"$f":"調査票入力!J561&\".\"&調査票入力!M561","v":"1.支援不要"},{"$f":"MID(調査票入力!$N561,1,調査票入力!P561)","v":""},"非表示"]
[null,null,null,null,{"$f":"MID(調査票入力!$N561,SUM(調査票入力!$P561:P561)+1,調査票入力!Q561)","v":""},"非表示"]
[null,null,null,null,{"$f":"MID(調査票入力!$N561,SUM(調査票入力!$P561:Q561)+1,調査票入力!R561)","v":""},"非表示"]
[null,null,null,null,{"$f":"MID(調査票入力!$N561,SUM(調査票入力!$P561:R561)+1,調査票入力!S561)","v":""},"非表示"]
[null,null,null,null,{"$f":"MID(調査票入力!$N561,SUM(調査票入力!$P561:S561)+1,調査票入力!T561)","v":""},"非表示"]
[null,null,null,null,{"$f":"MID(調査票入力!$N561,SUM(調査票入力!$P561:T561)+1,調査票入力!U561)","v":""},"非表示"]
[null,null,"31.集中力が続かない",{"$f":"調査票入力!J562&\".\"&調査票入力!M562","v":"1.支援不要"},{"$f":"MID(調査票入力!$N562,1,調査票入力!P562)","v":""},"非表示"]
[null,null,null,null,{"$f":"MID(調査票入力!$N562,SUM(調査票入力!$P562:P562)+1,調査票入力!Q562)","v":""},"非表示"]
[null,null,null,null,{"$f":"MID(調査票入力!$N562,SUM(調査票入力!$P562:Q562)+1,調査票入力!R562)","v":""},"非表示"]
[null,null,null,null,{"$f":"MID(調査票入力!$N562,SUM(調査票入力!$P562:R562)+1,調査票入力!S562)","v":""},"非表示"]
[null,null,null,null,{"$f":"MID(調査票入力!$N562,SUM(調査票入力!$P562:S562)+1,調査票入力!T562)","v":""},"非表示"]
[null,null,null,null,{"$f":"MID(調査票入力!$N562,SUM(調査票入力!$P562:T562)+1,調査票入力!U562)","v":""},{"$f":"IF(OR(B409<>\"\",E409<>\"\"),\"表示\",\"非表示\")","v":"非表示"}]
[null,null,"32.自己の過大評価",{"$f":"調査票入力!J563&\".\"&調査票入力!M563","v":"1.支援不要"},{"$f":"MID(調査票入力!$N563,1,調査票入力!P563)","v":""},"非表示"]
[null,null,null,null,{"$f":"MID(調査票入力!$N563,SUM(調査票入力!$P563:P563)+1,調査票入力!Q563)","v":""},"非表示"]
[null,null,null,null,{"$f":"MID(調査票入力!$N563,SUM(調査票入力!$P563:Q563)+1,調査票入力!R563)","v":""},"非表示"]
[null,null,null,null,{"$f":"MID(調査票入力!$N563,SUM(調査票入力!$P563:R563)+1,調査票入力!S563)","v":""},"非表示"]
[null,null,null,null,{"$f":"MID(調査票入力!$N563,SUM(調査票入力!$P563:S563)+1,調査票入力!T563)","v":""},"非表示"]
[null,null,null,null,{"$f":"MID(調査票入力!$N563,SUM(調査票入力!$P563:T563)+1,調査票入力!U563)","v":""},"非表示"]
[null,null,"33.集団への不適応",{"$f":"調査票入力!J564&\".\"&調査票入力!M564","v":"1.支援不要"},{"$f":"MID(調査票入力!$N564,1,調査票入力!P564)","v":""},"非表示"]
[null,null,null,null,{"$f":"MID(調査票入力!$N564,SUM(調査票入力!$P564:P564)+1,調査票入力!Q564)","v":""},"非表示"]
[null,null,null,null,{"$f":"MID(調査票入力!$N564,SUM(調査票入力!$P564:Q564)+1,調査票入力!R564)","v":""},"非表示"]
[null,null,null,null,{"$f":"MID(調査票入力!$N564,SUM(調査票入力!$P564:R564)+1,調査票入力!S564)","v":""},"非表示"]
[null,null,null,null,{"$f":"MID(調査票入力!$N564,SUM(調査票入力!$P564:S564)+1,調査票入力!T564)","v":""},"非表示"]
[null,null,null,null,{"$f":"MID(調査票入力!$N564,SUM(調査票入力!$P564:T564)+1,調査票入力!U564)","v":""},"非表示"]
[null,null,"34.多飲水・過飲水",{"$f":"調査票入力!J565&\".\"&調査票入力!M565","v":"1.支援不要"},{"$f":"MID(調査票入力!$N565,1,調査票入力!P565)","v":""},"非表示"]
[null,null,null,null,{"$f":"MID(調査票入力!$N565,SUM(調査票入力!$P565:P565)+1,調査票入力!Q565)","v":""},"非表示"]
[null,null,null,null,{"$f":"MID(調査票入力!$N565,SUM(調査票入力!$P565:Q565)+1,調査票入力!R565)","v":""},"非表示"]
[null,null,null,null,{"$f":"MID(調査票入力!$N565,SUM(調査票入力!$P565:R565)+1,調査票入力!S565)","v":""},"非表示"]
[null,null,null,null,{"$f":"MID(調査票入力!$N565,SUM(調査票入力!$P565:S565)+1,調査票入力!T565)","v":""},"非表示"]
[null,null,null,null,{"$f":"MID(調査票入力!$N565,SUM(調査票入力!$P565:T565)+1,調査票入力!U565)","v":""},"非表示"]
[null,"　",null,null,null,"表示"]
[null,"５．特別な医療に関連する項目　",null,null,null,"表示"]
[null,null,"１.点滴の管理",{"$f":"調査票入力!J566&\".\"&調査票入力!M566","v":"1.ない"},{"$f":"MID(調査票入力!$N566,1,調査票入力!P566)","v":""},"非表示"]
[null,null,null,null,{"$f":"MID(調査票入力!$N566,SUM(調査票入力!$P566:P566)+1,調査票入力!Q566)","v":""},"非表示"]
[null,null,null,null,{"$f":"MID(調査票入力!$N566,SUM(調査票入力!$P566:Q566)+1,調査票入力!R566)","v":""},"非表示"]
[null,null,null,null,{"$f":"MID(調査票入力!$N566,SUM(調査票入力!$P566:R566)+1,調査票入力!S566)","v":""},"非表示"]
[null,null,null,null,{"$f":"MID(調査票入力!$N566,SUM(調査票入力!$P566:S566)+1,調査票入力!T566)","v":""},"非表示"]
[null,null,null,null,{"$f":"MID(調査票入力!$N566,SUM(調査票入力!$P566:T566)+1,調査票入力!U566)","v":""},"非表示"]
[null,null,"２.中心静脈栄養",{"$f":"調査票入力!J567&\".\"&調査票入力!M567","v":"1.ない"},{"$f":"MID(調査票入力!$N567,1,調査票入力!P567)","v":""},"非表示"]
[null,null,null,null,{"$f":"MID(調査票入力!$N567,SUM(調査票入力!$P567:P567)+1,調査票入力!Q567)","v":""},"非表示"]
[null,null,null,null,{"$f":"MID(調査票入力!$N567,SUM(調査票入力!$P567:Q567)+1,調査票入力!R567)","v":""},"非表示"]
[null,null,null,null,{"$f":"MID(調査票入力!$N567,SUM(調査票入力!$P567:R567)+1,調査票入力!S567)","v":""},"非表示"]
[null,null,null,null,{"$f":"MID(調査票入力!$N567,SUM(調査票入力!$P567:S567)+1,調査票入力!T567)","v":""},"非表示"]
[null,null,null,null,{"$f":"MID(調査票入力!$N567,SUM(調査票入力!$P567:T567)+1,調査票入力!U567)","v":""},"非表示"]
[null,null,"３.透析",{"$f":"調査票入力!J568&\".\"&調査票入力!M568","v":"1.ない"},{"$f":"MID(調査票入力!$N568,1,調査票入力!P568)","v":""},"非表示"]
[null,null,null,null,{"$f":"MID(調査票入力!$N568,SUM(調査票入力!$P568:P568)+1,調査票入力!Q568)","v":""},"非表示"]
[null,null,null,null,{"$f":"MID(調査票入力!$N568,SUM(調査票入力!$P568:Q568)+1,調査票入力!R568)","v":""},"非表示"]
[null,null,null,null,{"$f":"MID(調査票入力!$N568,SUM(調査票入力!$P568:R568)+1,調査票入力!S568)","v":""},"非表示"]
[null,null,null,null,{"$f":"MID(調査票入力!$N568,SUM(調査票入力!$P568:S568)+1,調査票入力!T568)","v":""},"非表示"]
[null,null,null,null,{"$f":"MID(調査票入力!$N568,SUM(調査票入力!$P568:T568)+1,調査票入力!U568)","v":""},"非表示"]
[null,null,"４.ストーマの処置",{"$f":"調査票入力!J569&\".\"&調査票入力!M569","v":"1.ない"},{"$f":"MID(調査票入力!$N569,1,調査票入力!P569)","v":""},"非表示"]
[null,null,null,null,{"$f":"MID(調査票入力!$N569,SUM(調査票入力!$P569:P569)+1,調査票入力!Q569)","v":""},"非表示"]
[null,null,null,null,{"$f":"MID(調査票入力!$N569,SUM(調査票入力!$P569:Q569)+1,調査票入力!R569)","v":""},"非表示"]
[null,null,null,null,{"$f":"MID(調査票入力!$N569,SUM(調査票入力!$P569:R569)+1,調査票入力!S569)","v":""},"非表示"]
[null,null,null,null,{"$f":"MID(調査票入力!$N569,SUM(調査票入力!$P569:S569)+1,調査票入力!T569)","v":""},"非表示"]
[null,null,null,null,{"$f":"MID(調査票入力!$N569,SUM(調査票入力!$P569:T569)+1,調査票入力!U569)","v":""},"非表示"]
[null,null,"５.酸素療法",{"$f":"調査票入力!J570&\".\"&調査票入力!M570","v":"1.ない"},{"$f":"MID(調査票入力!$N570,1,調査票入力!P570)","v":""},"非表示"]
[null,null,null,null,{"$f":"MID(調査票入力!$N570,SUM(調査票入力!$P570:P570)+1,調査票入力!Q570)","v":""},"非表示"]
[null,null,null,null,{"$f":"MID(調査票入力!$N570,SUM(調査票入力!$P570:Q570)+1,調査票入力!R570)","v":""},"非表示"]
[null,null,null,null,{"$f":"MID(調査票入力!$N570,SUM(調査票入力!$P570:R570)+1,調査票入力!S570)","v":""},"非表示"]
[null,null,null,null,{"$f":"MID(調査票入力!$N570,SUM(調査票入力!$P570:S570)+1,調査票入力!T570)","v":""},"非表示"]
[null,null,null,null,{"$f":"MID(調査票入力!$N570,SUM(調査票入力!$P570:T570)+1,調査票入力!U570)","v":""},"非表示"]
[null,null,"６.レスピレーター",{"$f":"調査票入力!J571&\".\"&調査票入力!M571","v":"1.ない"},{"$f":"MID(調査票入力!$N571,1,調査票入力!P571)","v":""},"非表示"]
[null,null,null,null,{"$f":"MID(調査票入力!$N571,SUM(調査票入力!$P571:P571)+1,調査票入力!Q571)","v":""},"非表示"]
[null,null,null,null,{"$f":"MID(調査票入力!$N571,SUM(調査票入力!$P571:Q571)+1,調査票入力!R571)","v":""},"非表示"]
[null,null,null,null,{"$f":"MID(調査票入力!$N571,SUM(調査票入力!$P571:R571)+1,調査票入力!S571)","v":""},"非表示"]
[null,null,null,null,{"$f":"MID(調査票入力!$N571,SUM(調査票入力!$P571:S571)+1,調査票入力!T571)","v":""},"非表示"]
[null,null,null,null,{"$f":"MID(調査票入力!$N571,SUM(調査票入力!$P571:T571)+1,調査票入力!U571)","v":""},"非表示"]
[null,null,"７.気管切開の処置",{"$f":"調査票入力!J572&\".\"&調査票入力!M572","v":"1.ない"},{"$f":"MID(調査票入力!$N572,1,調査票入力!P572)","v":""},"非表示"]
[null,null,null,null,{"$f":"MID(調査票入力!$N572,SUM(調査票入力!$P572:P572)+1,調査票入力!Q572)","v":""},"非表示"]
[null,null,null,null,{"$f":"MID(調査票入力!$N572,SUM(調査票入力!$P572:Q572)+1,調査票入力!R572)","v":""},"非表示"]
[null,null,null,null,{"$f":"MID(調査票入力!$N572,SUM(調査票入力!$P572:R572)+1,調査票入力!S572)","v":""},"非表示"]
[null,null,null,null,{"$f":"MID(調査票入力!$N572,SUM(調査票入力!$P572:S572)+1,調査票入力!T572)","v":""},"非表示"]
[null,null,null,null,{"$f":"MID(調査票入力!$N572,SUM(調査票入力!$P572:T572)+1,調査票入力!U572)","v":""},"非表示"]
[null,null,"８.疼痛の看護",{"$f":"調査票入力!J573&\".\"&調査票入力!M573","v":"1.ない"},{"$f":"MID(調査票入力!$N573,1,調査票入力!P573)","v":""},"非表示"]
[null,null,null,null,{"$f":"MID(調査票入力!$N573,SUM(調査票入力!$P573:P573)+1,調査票入力!Q573)","v":""},{"$f":"IF(OR(B473<>\"\",E473<>\"\"),\"表示\",\"非表示\")","v":"非表示"}]
[null,null,null,null,{"$f":"MID(調査票入力!$N573,SUM(調査票入力!$P573:Q573)+1,調査票入力!R573)","v":""},"非表示"]
[null,null,null,null,{"$f":"MID(調査票入力!$N573,SUM(調査票入力!$P573:R573)+1,調査票入力!S573)","v":""},"非表示"]
[null,null,null,null,{"$f":"MID(調査票入力!$N573,SUM(調査票入力!$P573:S573)+1,調査票入力!T573)","v":""},"非表示"]
[null,null,null,null,{"$f":"MID(調査票入力!$N573,SUM(調査票入力!$P573:T573)+1,調査票入力!U573)","v":""},"非表示"]
[null,null,"９.経管栄養",{"$f":"調査票入力!J574&\".\"&調査票入力!M574","v":"1.ない"},{"$f":"MID(調査票入力!$N574,1,調査票入力!P574)","v":""},"非表示"]
[null,null,null,null,{"$f":"MID(調査票入力!$N574,SUM(調査票入力!$P574:P574)+1,調査票入力!Q574)","v":""},"非表示"]
[null,null,null,null,{"$f":"MID(調査票入力!$N574,SUM(調査票入力!$P574:Q574)+1,調査票入力!R574)","v":""},"非表示"]
[null,null,null,null,{"$f":"MID(調査票入力!$N574,SUM(調査票入力!$P574:R574)+1,調査票入力!S574)","v":""},"非表示"]
[null,null,null,null,{"$f":"MID(調査票入力!$N574,SUM(調査票入力!$P574:S574)+1,調査票入力!T574)","v":""},"非表示"]
[null,null,null,null,{"$f":"MID(調査票入力!$N574,SUM(調査票入力!$P574:T574)+1,調査票入力!U574)","v":""},"非表示"]
[null,null,"10.モニター測定",{"$f":"調査票入力!J575&\".\"&調査票入力!M575","v":"1.ない"},{"$f":"MID(調査票入力!$N575,1,調査票入力!P575)","v":""},"非表示"]
[null,null,null,null,{"$f":"MID(調査票入力!$N575,SUM(調査票入力!$P575:P575)+1,調査票入力!Q575)","v":""},"非表示"]
[null,null,null,null,{"$f":"MID(調査票入力!$N575,SUM(調査票入力!$P575:Q575)+1,調査票入力!R575)","v":""},"非表示"]
[null,null,null,null,{"$f":"MID(調査票入力!$N575,SUM(調査票入力!$P575:R575)+1,調査票入力!S575)","v":""},"非表示"]
[null,null,null,null,{"$f":"MID(調査票入力!$N575,SUM(調査票入力!$P575:S575)+1,調査票入力!T575)","v":""},"非表示"]
[null,null,null,null,{"$f":"MID(調査票入力!$N575,SUM(調査票入力!$P575:T575)+1,調査票入力!U575)","v":""},"非表示"]
[null,null,"11.じょくそうの処置",{"$f":"調査票入力!J576&\".\"&調査票入力!M576","v":"1.ない"},{"$f":"MID(調査票入力!$N576,1,調査票入力!P576)","v":""},"非表示"]
[null,null,null,null,{"$f":"MID(調査票入力!$N576,SUM(調査票入力!$P576:P576)+1,調査票入力!Q576)","v":""},"非表示"]
[null,null,null,null,{"$f":"MID(調査票入力!$N576,SUM(調査票入力!$P576:Q576)+1,調査票入力!R576)","v":""},"非表示"]
[null,null,null,null,{"$f":"MID(調査票入力!$N576,SUM(調査票入力!$P576:R576)+1,調査票入力!S576)","v":""},"非表示"]
[null,null,null,null,{"$f":"MID(調査票入力!$N576,SUM(調査票入力!$P576:S576)+1,調査票入力!T576)","v":""},"非表示"]
[null,null,null,null,{"$f":"MID(調査票入力!$N576,SUM(調査票入力!$P576:T576)+1,調査票入力!U576)","v":""},"非表示"]
[null,null,"12.カテーテル",{"$f":"調査票入力!J577&\".\"&調査票入力!M577","v":"1.ない"},{"$f":"MID(調査票入力!$N577,1,調査票入力!P577)","v":""},"非表示"]
[null,null,null,null,{"$f":"MID(調査票入力!$N577,SUM(調査票入力!$P577:P577)+1,調査票入力!Q577)","v":""},"非表示"]
[null,null,null,null,{"$f":"MID(調査票入力!$N577,SUM(調査票入力!$P577:Q577)+1,調査票入力!R577)","v":""},"非表示"]
[null,null,null,null,{"$f":"MID(調査票入力!$N577,SUM(調査票入力!$P577:R577)+1,調査票入力!S577)","v":""},"非表示"]
[null,null,null,null,{"$f":"MID(調査票入力!$N577,SUM(調査票入力!$P577:S577)+1,調査票入力!T577)","v":""},"非表示"]
[null,null,null,null,{"$f":"MID(調査票入力!$N577,SUM(調査票入力!$P577:T577)+1,調査票入力!U577)","v":""},"非表示"]
[null,"　",null,null,null,"表示"]
[null,"６．その他（認定調査の際に「調査対象者に必要とされる支援の度合い」に関することで確認できた事項）　",null,null,null,"表示"]
[null,null,{"$f":"MID(調査票入力!$N578,1,調査票入力!P578)","v":""},null,null,{"$f":"IF(C504<>\"\",\"表示\",\"非表示\")","v":"非表示"}]
[null,null,{"$f":"MID(調査票入力!$N578,SUM(調査票入力!$P578:P578)+1,調査票入力!Q578)","v":""},null,null,{"$f":"IF(C505<>\"\",\"表示\",\"非表示\")","v":"非表示"}]
[null,null,{"$f":"MID(調査票入力!$N578,SUM(調査票入力!$P578:Q578)+1,調査票入力!R578)","v":""},null,null,"非表示"]
[null,null,{"$f":"MID(調査票入力!$N578,SUM(調査票入力!$P578:R578)+1,調査票入力!S578)","v":""},null,null,"非表示"]
[null,null,{"$f":"MID(調査票入力!$N578,SUM(調査票入力!$P578:S578)+1,調査票入力!T578)","v":""},null,null,{"$f":"IF(C508<>\"\",\"表示\",\"非表示\")","v":"非表示"}]
[null,null,{"$f":"MID(調査票入力!$N578,SUM(調査票入力!$P578:T578)+1,調査票入力!U578)","v":""},null,null,"非表示"]