Workbook
Name 管渠工種類: '単価表'!$C$40:$C$75
Name 管渠工単価: '単価表'!$C$40:$D$75

Sheet 様式オ-1（2.5m以下）
A1: 様式オ-1(要領第５条別表ア関係) | J1: 令和8年度（2026年度）単価
A2: 標準額・補助金算出調書【森林作業道整備】（基本幅員2.5ｍ以下） | I2: 申請者が入力する箇所
I3: 札幌市が入力する箇所
B4: 対象林小班
B6: 路線延長 | D6: m
A8: １ 直接工事費の計算
B10: １－１ 土工（路線長）
B11: 基本幅員 | C11: 敷砂利 | D11: 斜度 | E11: 延長 | F11: 土工単価 | G11: 小計 | H11: 合計
B12: 2.5m以下 | D12: 0°～ 14° | F12: =+'単価表'!D5 -> 2130 | G12: =ROUNDDOWN(E12*F12,0) -> 0 | H12: =+SUM(G12:G14) -> 0
C13: なし | D13: 15°～ 24° | F13: =+'単価表'!D6 -> 2440 | G13: =ROUNDDOWN(E13*F13,0) -> 0
D14: 25°～ | F14: =+'単価表'!D7 -> 3340 | G14: =ROUNDDOWN(E14*F14,0) -> 0
D15: 0°～ 14° | F15: =+'単価表'!D8 -> 310 | G15: =ROUNDDOWN(E15*F15,0) -> 0 | H15: =+SUM(G15:G17) -> 0
C16: あり | D16: 15°～ 24° | F16: =+'単価表'!D9 -> 1160 | G16: =ROUNDDOWN(E16*F16,0) -> 0
D17: 25°～ | F17: =+'単価表'!D10 -> 2020 | G17: =ROUNDDOWN(E17*F17,0) -> 0
G18: 土工費 | H18: =+H15+H12 -> 0 | I18: ①
B20: １－２ 敷砂利
B21: 延長 | C21: 敷厚 | D21: 敷幅 | E21: 数量
B22: =+SUM(E15:E17) -> 0 | C22: 0.1 | D22: 2 | E22: =+B22*C22*D22 -> 0 | F22: （補助対象上限）
E23: ↓
B24: 規格 | E24: 数量 | F24: 砂利単価 | G24: 敷均単価 | H24: 小計
B25: 購入数量 | C25: 切込砕石（札幌市） | F25: =+'単価表'!D20 -> 5535 | G25: =+'単価表'!D22 -> 350 | H25: =ROUNDDOWN(+IF(E25=0,0,MIN(E22,E25)*(F25+G25)),0) -> 0
C26: 再生骨材 | F26: =+'単価表'!D21 -> 3321 | G26: =+'単価表'!D22 -> 350 | H26: =ROUNDDOWN(+IF(E26=0,0,MIN(E23,E26)*(F26+G26)),0) -> 0
B27: ※普通購入砂利のみ対応 | G27: 合計 | H27: =+H26+H25 -> 0 | I27: ②
B29: １－３ その他施設整備
B30: 工種 | D30: 規格 | F30: 数量 | G30: 単価 | H30: 小計
B31: 素掘り側溝（排水溝） | D31: 火山灰土・砂・砂質土 | G31: =+'単価表'!D26 -> 89 | H31: =ROUNDDOWN(F31*G31,0) -> 0
B32: ※両側側溝の場合、延長は２度計上すること。 | D32: 粘性土・礫質土 | G32: =+'単価表'!D27 -> 89 | H32: =ROUNDDOWN(F32*G32,0) -> 0
D33: その他（軟岩(Ⅰ)A等） | G33: =+'単価表'!D28 -> 120 | H33: =ROUNDDOWN(F33*G33,0) -> 0
B34: 管渠工 | G34: =+IFERROR(VLOOKUP(D34,管渠工単価,2,FALSE),0) -> 0 | H34: =ROUNDDOWN(G34*F34,0) -> 0
G35: =+IFERROR(VLOOKUP(D35,管渠工単価,2,FALSE),0) -> 0 | H35: =ROUNDDOWN(G35*F35,0) -> 0
G36: =+IFERROR(VLOOKUP(D36,管渠工単価,2,FALSE),0) -> 0 | H36: =ROUNDDOWN(G36*F36,0) -> 0
G37: =+IFERROR(VLOOKUP(D37,管渠工単価,2,FALSE),0) -> 0 | H37: =ROUNDDOWN(G37*F37,0) -> 0
B38: フトン籠工 | G38: =+'単価表'!D29 -> 16567 | H38: =ROUNDDOWN(F38*G38,0) -> 0
B39: 丸太柵工 | G39: =+'単価表'!D30 -> 11150 | H39: =ROUNDDOWN(F39*G39,0) -> 0
B40: 木製路面排水溝 | G40: =+'単価表'!D31 -> 7989 | H40: =ROUNDDOWN(F40*G40,0) -> 0
B41: 横断U字溝（グレーチング蓋） | G41: =+'単価表'!D32 -> 66038 | H41: =ROUNDDOWN(F41*G41,0) -> 0
B42: 洗い越し | D42: 河床路幅４ｍ | G42: =+'単価表'!D33 -> 120495 | H42: =ROUNDDOWN(F42*G42,0) -> 0
D43: 河床路幅５ｍ | G43: =+'単価表'!D34 -> 150608 | H43: =ROUNDDOWN(F43*G43,0) -> 0
D44: 河床路幅６ｍ | G44: =+'単価表'!D35 -> 180718 | H44: =ROUNDDOWN(F44*G44,0) -> 0
B45: 待避所 | G45: =+'単価表'!D36 -> 23565 | H45: =ROUNDDOWN(F45*G45,0) -> 0
...

Sheet 様式オ-2（3.0m以下）
A1: 様式オ-2(要領第５条別表ア関係) | J1: 令和8年度（2026年度）単価
A2: 標準額・補助金算出調書【森林作業道整備】（基本幅員3.0ｍ以下） | I2: 申請者が入力する箇所
I3: 札幌市が入力する箇所
B4: 対象林小班
B6: 路線延長 | D6: m
A8: １ 直接工事費の計算
B10: １－１ 土工（路線長）
B11: 基本幅員 | C11: 敷砂利 | D11: 斜度 | E11: 延長 | F11: 土工単価 | G11: 小計 | H11: 合計
B12: 3.0m以下 | D12: 0°～ 14° | F12: =+'単価表'!D11 -> 1850 | G12: =ROUNDDOWN(E12*F12,0) -> 0 | H12: =+SUM(G12:G14) -> 0
C13: なし | D13: 15°～ 24° | F13: =+'単価表'!D12 -> 2290 | G13: =ROUNDDOWN(E13*F13,0) -> 0
D14: 25°～ | F14: =+'単価表'!D13 -> 3140 | G14: =ROUNDDOWN(E14*F14,0) -> 0
D15: 0°～ 14° | F15: =+'単価表'!D14 -> 330 | G15: =ROUNDDOWN(E15*F15,0) -> 0 | H15: =+SUM(G15:G17) -> 0
C16: あり | D16: 15°～ 24° | F16: =+'単価表'!D15 -> 1060 | G16: =ROUNDDOWN(E16*F16,0) -> 0
D17: 25°～ | F17: =+'単価表'!D16 -> 1970 | G17: =ROUNDDOWN(E17*F17,0) -> 0
G18: 土工費 | H18: =+H15+H12 -> 0 | I18: ①
B20: １－２ 敷砂利
B21: 延長 | C21: 敷厚 | D21: 敷幅 | E21: 数量
B22: =+SUM(E15:E17) -> 0 | C22: 0.1 | D22: 2.5 | E22: =+B22*C22*D22 -> 0 | F22: （補助対象上限）
E23: ↓
B24: 規格 | E24: 数量 | F24: 砂利単価 | G24: 敷均単価 | H24: 小計
B25: 購入数量 | C25: 切込砕石（札幌市 | F25: =+'単価表'!D20 -> 5535 | G25: =+'単価表'!D22 -> 350 | H25: =ROUNDDOWN(+IF(E25=0,0,MIN(E22,E25)*(F25+G25)),0) -> 0
C26: 再生骨材 | F26: =+'単価表'!D21 -> 3321 | G26: =+'単価表'!D22 -> 350 | H26: =ROUNDDOWN(+IF(E26=0,0,MIN(E23,E26)*(F26+G26)),0) -> 0
B27: ※普通購入砂利のみ対応 | G27: 合計 | H27: =+H26+H25 -> 0 | I27: ②
B29: １－３ その他施設整備
B30: 工種 | D30: 規格 | F30: 数量 | G30: 単価 | H30: 小計
B31: 素掘り側溝（排水溝） | D31: 火山灰土・砂・砂質土 | G31: =+'単価表'!D26 -> 89 | H31: =ROUNDDOWN(F31*G31,0) -> 0
B32: ※両側側溝の場合、延長は２度計上すること。 | D32: 粘性土・礫質土 | G32: =+'単価表'!D27 -> 89 | H32: =ROUNDDOWN(F32*G32,0) -> 0
D33: その他（軟岩(Ⅰ)A等） | G33: =+'単価表'!D28 -> 120 | H33: =ROUNDDOWN(F33*G33,0) -> 0
B34: 管渠工 | G34: =+IFERROR(VLOOKUP(D34,管渠工単価,2,FALSE),0) -> 0 | H34: =ROUNDDOWN(G34*F34,0) -> 0
G35: =+IFERROR(VLOOKUP(D35,管渠工単価,2,FALSE),0) -> 0 | H35: =ROUNDDOWN(G35*F35,0) -> 0
G36: =+IFERROR(VLOOKUP(D36,管渠工単価,2,FALSE),0) -> 0 | H36: =ROUNDDOWN(G36*F36,0) -> 0
G37: =+IFERROR(VLOOKUP(D37,管渠工単価,2,FALSE),0) -> 0 | H37: =ROUNDDOWN(G37*F37,0) -> 0
B38: フトン籠工 | G38: =+'単価表'!D29 -> 16567 | H38: =ROUNDDOWN(F38*G38,0) -> 0
B39: 丸太柵工 | G39: =+'単価表'!D30 -> 11150 | H39: =ROUNDDOWN(F39*G39,0) -> 0
B40: 木製路面排水溝 | G40: =+'単価表'!D31 -> 7989 | H40: =ROUNDDOWN(F40*G40,0) -> 0
B41: 横断U字溝（グレーチング蓋） | G41: =+'単価表'!D32 -> 66038 | H41: =ROUNDDOWN(F41*G41,0) -> 0
B42: 洗い越し | D42: 河床路幅４ｍ | G42: =+'単価表'!D33 -> 120495 | H42: =ROUNDDOWN(F42*G42,0) -> 0
D43: 河床路幅５ｍ | G43: =+'単価表'!D34 -> 150608 | H43: =ROUNDDOWN(F43*G43,0) -> 0
D44: 河床路幅６ｍ | G44: =+'単価表'!D35 -> 180718 | H44: =ROUNDDOWN(F44*G44,0) -> 0
B45: 待避所 | G45: =+'単価表'!D36 -> 23565 | H45: =ROUNDDOWN(F45*G45,0) -> 0
...

Sheet 単価表
A1: 単価表 | D1: 令和8年度（2026年度）単価
A3: １－１ 土工（路線長）
A4: 名称 | B4: 規格① | C4: 規格② | D4: 単価（円/ｍ） | F4: 参考／R7単価
A5: 土工（幅員2.5ｍ以下） | B5: 敷砂利なし | C5: 0°～ 14° | D5: 2130 | F5: 2110
A6: 土工（幅員2.5ｍ以下） | B6: 敷砂利なし | C6: 15°～ 24° | D6: 2440 | F6: 2420
A7: 土工（幅員2.5ｍ以下） | B7: 敷砂利なし | C7: 25°～ | D7: 3340 | F7: 3310
A8: 土工（幅員2.5ｍ以下） | B8: 敷砂利あり | C8: 0°～ 14° | D8: 310 | F8: 300
A9: 土工（幅員2.5ｍ以下） | B9: 敷砂利あり | C9: 15°～ 24° | D9: 1160 | F9: 1150
A10: 土工（幅員2.5ｍ以下） | B10: 敷砂利あり | C10: 25°～ | D10: 2020 | F10: 2000
A11: 土工（幅員3.0ｍ以下） | B11: 敷砂利なし | C11: 0°～ 14° | D11: 1850 | F11: 1550
A12: 土工（幅員3.0ｍ以下） | B12: 敷砂利なし | C12: 15°～ 24° | D12: 2290 | F12: 1910
A13: 土工（幅員3.0ｍ以下） | B13: 敷砂利なし | C13: 25°～ | D13: 3140 | F13: 2640
A14: 土工（幅員3.0ｍ以下） | B14: 敷砂利あり | C14: 0°～ 14° | D14: 330 | F14: 270
A15: 土工（幅員3.0ｍ以下） | B15: 敷砂利あり | C15: 15°～ 24° | D15: 1060 | F15: 880
A16: 土工（幅員3.0ｍ以下） | B16: 敷砂利あり | C16: 25°～ | D16: 1970 | F16: 1650
A18: １－２ 敷砂利
A19: 名称 | B19: 規格① | C19: 規格② | D19: 単価（円/㎥）
A20: 普通砂利・新材（札幌市） | D20: 5535 | F20: 4760
A21: 再生骨材 | D21: 3321 | F21: 3885
A22: 敷き均し | D22: 350 | F22: 336
A24: １－３ その他施設整備（管渠工以外）
A25: 名称 | B25: 内径cm | C25: リスト | D25: 単価（円/ｍ）
A26: 側溝（排水溝） | B26: 土質１ | D26: 89 | F26: 71
A27: 側溝（排水溝） | B27: 土質２ | D27: 89 | F27: 71
A28: 側溝（排水溝） | B28: 土質３ | D28: 120 | F28: 96
A29: フトン籠工 | D29: 16567 | F29: 20471
A30: 丸太柵工 | D30: 11150 | F30: 11017
A31: 木製路面排水溝 | D31: 7989 | F31: 7244
A32: 横断U字溝（グレーチング蓋） | D32: 66038 | F32: 65707
A33: 洗い越し | B33: 河床路幅４ｍ | D33: 120495 | F33: 116055
A34: 洗い越し | B34: 河床路幅５ｍ | D34: 150608 | F34: 145056
A35: 洗い越し | B35: 河床路幅６ｍ | D35: 180718 | F35: 174056
A36: 待避所 | D36: 23565 | F36: 20297
A38: １－３ その他施設整備（管渠工）
A39: 名称 | B39: 内径cm | C39: リスト | D39: 単価（円/ｍ）
A40: コンクリート管 | B40: 25 | C40: =A40&B40&"cm" -> コンクリート管25cm | D40: 6651 | F40: 6161
A41: コンクリート管 | B41: 30 | C41: =A41&B41&"cm" -> コンクリート管30cm | D41: 7533 | F41: 6819
A42: コンクリート管 | B42: 35 | C42: =A42&B42&"cm" -> コンクリート管35cm | D42: 9627 | F42: 8467
A43: コンクリート管 | B43: 40 | C43: =A43&B43&"cm" -> コンクリート管40cm | D43: 11285 | F43: 10199
A44: コンクリート管 | B44: 45 | C44: =A44&B44&"cm" -> コンクリート管45cm | D44: 13852 | F44: 11357
...
