Workbook
Name Africa_u: #REF!
Name Africa_u: #REF!
Name Africa_u: #REF!
Name Africa_u: #REF!
Name Asia_u: #REF!
Name Asia_u: #REF!
Name Aus_u: #REF!
Name Aus_u: #REF!
Name Cap_u: #REF!
Name Euro_u: #REF!
Name F_Othe_u: #REF!
Name F_Total_u: #REF!
Name Guest_Apr: #REF!
Name Guest_Aug: #REF!
Name Guest_Jul: #REF!
Name Guest_Jun: #REF!
Name Guest_May: #REF!
Name Guest_Sep: #REF!
Name Guest_u_Total: #REF!
Name HotelName_u: #REF!
Name JCap_u: #REF!
Name JRoomCap_u: #REF!
Name North_Amr_u: #REF!
Name Oce_u: #REF!
Name Oth_Asia_u: #REF!
Name Room_Apr: #REF!
Name Room_Aug: #REF!
Name Room_Jul: #REF!
Name Room_Jun: #REF!
Name Room_May: #REF!
Name Room_Sep: #REF!
Name Room_u_Total: #REF!
Name RoomCap_u: #REF!
Name School_u: #REF!
Name South_Amr_u: #REF!
Name WCap_u: #REF!
Name WRoomCap_u: #REF!

Sheet 宿泊調査票 （6～9月)
A1: 令和８年6～9月 宿泊施設利用状況調査票
AR3: 調査票ダウンロード用URL・QRコード
B4: 施 設 名 | Y4: ※クリーム色がついたマスに回答をご記入ください。
Y5: （グレーアウト部分の回答は不要です） | AR5: https://www.city.sapporo.jp/keizai/kanko/statistics/statistics.html
B6: 担当者名
B8: 担当部署名
B10: 電話番号
B12: FAX
B14: メールアドレス
C16: ※できるだけ組織アドレスを記載ください。
B18: 1 客室規模・環境 | AG18: 3 道外客の利用状況 | AW18: 4 修学旅行生の利用状況
B19: 客室規模 | AG19: 月 | AJ19: 人数 | AN19: 北海道民以外の 利用者数 | AW19: 月 | AZ19: 人数 | BD19: 北海道 | BG19: 東 北 | BJ19: 関 東 | BM19: 中 部 | BP19: 近 畿 | BS19: 中 国 | BV19: 四 国 | BY19: 九 州 沖 縄
C20: 客室数 | L20: 定員数
G21: 室 | P21: 名
AG22: =$I$25 -> 6月 | AJ22: 宿泊実人数 | AW22: =$I$25 -> 6月 | AZ22: 校数 | CB22: =IF(SUM(BD22:CA22)=0,"",SUM(BD22:CA22))
AJ23: 宿泊延人数 | AZ23: 宿泊延人数 | CB23: =IF(SUM(BD23:CA23)=0,"",SUM(BD23:CA23))
B24: 2 利用者数 | AG24: =$L$25 -> 7月 | AJ24: 宿泊実人数 | AW24: =$L$25 -> 7月 | AZ24: 校数 | CB24: =IF(SUM(BD24:CA24)=0,"",SUM(BD24:CA24))
B25: 区 分 | I25: 6月 | L25: 7月 | O25: 8月 | R25: 9月 | AJ25: 宿泊延人数 | AZ25: 宿泊延人数 | CB25: =IF(SUM(BD25:CA25)=0,"",SUM(BD25:CA25))
B26: 宿泊実人数 | K26: 人 | N26: 人 | Q26: 人 | T26: 人 | AG26: =$O$25 -> 8月 | AJ26: 宿泊実人数 | AW26: =$O$25 -> 8月 | AZ26: 校数 | CB26: =IF(SUM(BD26:CA26)=0,"",SUM(BD26:CA26))
B27: 宿泊延人数 | K27: 人 | N27: 人 | Q27: 人 | T27: 人 | AJ27: 宿泊延人数 | AZ27: 宿泊延人数 | CB27: =IF(SUM(BD27:CA27)=0,"",SUM(BD27:CA27))
B28: 客 室 稼 動 数 | K28: 室 | N28: 室 | Q28: 室 | T28: 室 | AG28: =$R$25 -> 9月 | AJ28: 宿泊実人数 | AW28: =$R$25 -> 9月 | AZ28: 校数
B29: 注1｢宿泊延人数｣…1か月間に宿泊した延べ人数。(1人の客でも2泊した場合には2人と数えます) | AJ29: 宿泊延人数 | AZ29: 宿泊延人数
B30: 原則、子供や乳幼児も１人と数えるものとしております。 | AG30: 注 北海道民以外の日本人及び外国人の合計の記載をお願いいたします。
B31: 2｢客室稼動数｣…1か月間に使用した延べ客室数。
AW32: 注 校数は同一校の客が何泊しても1校と数えます。(例 1校30人が2泊の場合→校数1校、延人数60名)
B33: ５ 外国人の利用状況
B34: 年 | C34: 月 | D34: 人数 | H34: アジア | AR34: 中東 | AU34: ロシア | AX34: ヨーロッパ | BM34: 北米 | BS34: 中南米 | BV34: アフリカ | BY34: オセアニア | CE34: 国籍不明 の外国人
H35: 中 国 | K35: 韓 国 | N35: 台 湾 | Q35: 香 港 | T35: シンガ ポール | W35: フィリ ピン | Z35: タイ | AC35: マレーシア | AF35: インド | AI35: インド ネシア | AL35: ベトナム | AO35: その他 | AX35: イギリス | BA35: フランス | BD35: ドイツ | BG35: 北欧 | BJ35: その他 | BM35: アメリカ | BP35: カナダ | BY35: オースト ラリア | CB35: その他
B37: 令和8年 | C37: =$I$25 -> 6月 | D37: 宿泊実人数
D38: 宿泊延人数
C39: =$L$25 -> 7月 | D39: 宿泊実人数
D40: 宿泊延人数
C41: =$O$25 -> 8月 | D41: 宿泊実人数
D42: 宿泊延人数
C43: =$R$25 -> 9月 | D43: 宿泊実人数
D44: 宿泊延人数
B45: 注1 国名は、現に居住している国とします。( 例 英国籍の香港居住者は、香港とする。) 2 宿泊延数とは，実人員に宿泊日数を乗じた人数をいう。( 例 30人が2泊の場合→宿泊人数30名、宿泊延数60となる)

Sheet （こちらは回答不要です）施設基本情報
A1: 宿泊施設 基本情報 （令和８年度は今回のみの照会です）
C2: 調査票ダウンロード用URL・QRコード
A4: ■客室数内訳 ※数字でご回答ください
B5: シングル | D5: 室
B6: ダブル | D6: 室
B7: ツイン | D7: 室
B8: スイート | D8: 室
B9: 和室 | D9: 室
B10: その他 | D10: 室
B11: ※上記のうち、バリアフリー対応部屋数 | D11: 室
A13: ■環境配慮に関する取り組みの有無 | C13: 有 ・ 無
B14: 省エネ | C14: 有 ・ 無
B15: 食品ロス削減 | C15: 有 ・ 無
B16: 使い捨てプラスチック削減 | C16: 有 ・ 無
B17: 堆肥化 | C17: 有 ・ 無
B18: その他 | C18: 有 ・ 無
B19: 具体的な内容：
A21: ■認証・資格等（例）ISO14001、サクラクオリティなど ※具体的な名称でご回答ください
B22: 第三者認証 名称：
B23: 第三者認証 名称：
B24: 第三者認証 名称：
B25: 第三者認証 名称：
A27: ■食に関する取り組みの有無 | C27: 有 ・ 無
B28: 食における選択肢の提供 （アレルギー、ハラールベジタリアンメニュー等） | C28: 有 ・ 無
B29: 地元産食材・食品の調達 | C29: 有 ・ 無
B30: 有機農産物等の調達 | C30: 有 ・ 無

Sheet （こちらは回答不要です）転記用シート（３～５月）
A1: 3月宿泊実数 | B1: 3月宿泊延べ数 | C1: 3月客室稼働数 | D1: 4月宿泊実数 | E1: 4月宿泊延べ数 | F1: 4月客室稼働数 | G1: 5月宿泊実数 | H1: 5月宿泊延べ数 | I1: 5月客室稼働数 | J1: 3月宿泊実数_道外 | K1: 3月宿泊延べ数_道外 | L1: 4月宿泊実数_道外 | M1: 4月宿泊延べ数_道外 | N1: 5月宿泊実数_道外 | O1: 5月宿泊延べ数_道外 | P1: 3月校数_北海道 | Q1: 3月宿泊延べ数_北海道 | R1: 4月校数_北海道 | S1: 4月宿泊延べ数_北海道 | T1: 5月校数_北海道 | U1: 5月宿泊延べ数_北海道 | V1: 3月校数_東北 | W1: 3月宿泊延べ数_東北 | X1: 4月校数_東北 | Y1: 4月宿泊延べ数_東北 | Z1: 5月校数_東北 | AA1: 5月宿泊延べ数_東北 | AB1: 3月校数_関東 | AC1: 3月宿泊延べ数_関東 | AD1: 4月校数_関東 | AE1: 4月宿泊延べ数_関東 | AF1: 5月校数_関東 | AG1: 5月宿泊延べ数_関東 | AH1: 3月校数_中部 | AI1: 3月宿泊延べ数_中部 | AJ1: 4月校数_中部 | AK1: 4月宿泊延べ数_中部 | AL1: 5月校数_中部 | AM1: 5月宿泊延べ数_中部 | AN1: 3月校数_近畿 | AO1: 3月宿泊延べ数_近畿 | AP1: 4月校数_近畿 | AQ1: 4月宿泊延べ数_近畿 | AR1: 5月校数_近畿 | AS1: 5月宿泊延べ数_近畿 | AT1: 3月校数_中国地方 | AU1: 3月宿泊延べ数_中国地方 | AV1: 4月校数_中国地方 | AW1: 4月宿泊延べ数_中国地方 | AX1: 5月校数_中国地方 | AY1: 5月宿泊延べ数_中国地方 | AZ1: 3月校数_四国 | BA1: 3月宿泊延べ数_四国 | BB1: 4月校数_四国 | BC1: 4月宿泊延べ数_四国 | BD1: 5月校数_四国 | BE1: 5月宿泊延べ数_四国 | BF1: 3月校数_九州沖縄 | BG1: 3月宿泊延べ数_九州沖縄 | BH1: 4月校数_九州沖縄 | BI1: 4月宿泊延べ数_九州沖縄 | BJ1: 5月校数_九州沖縄 | BK1: 5月宿泊延べ数_九州沖縄 | BL1: 3月宿泊実数_中国 | BM1: 3月宿泊延べ数_中国 | BN1: 4月宿泊実数_中国 | BO1: 4月宿泊延べ数_中国 | BP1: 5月宿泊実数_中国 | BQ1: 5月宿泊延べ数_中国 | BR1: 3月宿泊実数_韓国 | BS1: 3月宿泊延べ数_韓国 | BT1: 4月宿泊実数_韓国 | BU1: 4月宿泊延べ数_韓国 | BV1: 5月宿泊実数_韓国 | BW1: 5月宿泊延べ数_韓国 | BX1: 3月宿泊実数_台湾 | BY1: 3月宿泊延べ数_台湾 | BZ1: 4月宿泊実数_台湾 | CA1: 4月宿泊延べ数_台湾 | CB1: 5月宿泊実数_台湾 | CC1: 5月宿泊延べ数_台湾 | CD1: 3月宿泊実数_香港 | CE1: 3月宿泊延べ数_香港 | CF1: 4月宿泊実数_香港 | CG1: 4月宿泊延べ数_香港 | CH1: 5月宿泊実数_香港 | CI1: 5月宿泊延べ数_香港 | CJ1: 3月宿泊実数_シンガポール | CK1: 3月宿泊延べ数_シンガポール | CL1: 4月宿泊実数_シンガポール | CM1: 4月宿泊延べ数_シンガポール | CN1: 5月宿泊実数_シンガポール | CO1: 5月宿泊延べ数_シンガポール | CP1: 3月宿泊実数_フィリピン | CQ1: 3月宿泊延べ数_フィリピン | CR1: 4月宿泊実数_フィリピン | CS1: 4月宿泊延べ数_フィリピン | CT1: 5月宿泊実数_フィリピン | CU1: 5月宿泊延べ数_フィリピン | CV1: 3月宿泊実数_タイ | CW1: 3月宿泊延べ数_タイ | CX1: 4月宿泊実数_タイ | CY1: 4月宿泊延べ数_タイ | CZ1: 5月宿泊実数_タイ | DA1: 5月宿泊延べ数_タイ | DB1: 3月宿泊実数_マレーシア | DC1: 3月宿泊延べ数_マレーシア | DD1: 4月宿泊実数_マレーシア | DE1: 4月宿泊延べ数_マレーシア | DF1: 5月宿泊実数_マレーシア | DG1: 5月宿泊延べ数_マレーシア | DH1: 3月宿泊実数_インド | DI1: 3月宿泊延べ数_インド | DJ1: 4月宿泊実数_インド | DK1: 4月宿泊延べ数_インド | DL1: 5月宿泊実数_インド | DM1: 5月宿泊延べ数_インド | DN1: 3月宿泊実数_インドネシア | DO1: 3月宿泊延べ数_インドネシア | DP1: 4月宿泊実数_インドネシア | DQ1: 4月宿泊延べ数_インドネシア | DR1: 5月宿泊実数_インドネシア | DS1: 5月宿泊延べ数_インドネシア | DT1: 3月宿泊実数_ベトナム | DU1: 3月宿泊延べ数_ベトナム | DV1: 4月宿泊実数_ベトナム | DW1: 4月宿泊延べ数_ベトナム | DX1: 5月宿泊実数_ベトナム | DY1: 5月宿泊延べ数_ベトナム | DZ1: 3月宿泊実数_その他アジア | EA1: 3月宿泊延べ数_その他アジア | EB1: 4月宿泊実数_その他アジア | EC1: 4月宿泊延べ数_その他アジア | ED1: 5月宿泊実数_その他アジア | EE1: 5月宿泊延べ数_その他アジア | EF1: 3月宿泊実数_中東 | EG1: 3月宿泊延べ数_中東 | EH1: 4月宿泊実数_中東 | EI1: 4月宿泊延べ数_中東 | EJ1: 5月宿泊実数_中東 | EK1: 5月宿泊延べ数_中東 | EL1: 3月宿泊実数_ロシア | EM1: 3月宿泊延べ数_ロシア | EN1: 4月宿泊実数_ロシア | EO1: 4月宿泊延べ数_ロシア | EP1: 5月宿泊実数_ロシア | EQ1: 5月宿泊延べ数_ロシア | ER1: 3月宿泊実数_イギリス | ES1: 3月宿泊延べ数_イギリス | ET1: 4月宿泊実数_イギリス | EU1: 4月宿泊延べ数_イギリス | EV1: 5月宿泊実数_イギリス | EW1: 5月宿泊延べ数_イギリス | EX1: 3月宿泊実数_フランス | EY1: 3月宿泊延べ数_フランス | EZ1: 4月宿泊実数_フランス | FA1: 4月宿泊延べ数_フランス | FB1: 5月宿泊実数_フランス | FC1: 5月宿泊延べ数_フランス | FD1: 3月宿泊実数_ドイツ | FE1: 3月宿泊延べ数_ドイツ | FF1: 4月宿泊実数_ドイツ | FG1: 4月宿泊延べ数_ドイツ | FH1: 5月宿泊実数_ドイツ | FI1: 5月宿泊延べ数_ドイツ | FJ1: 3月宿泊実数_北欧 | FK1: 3月宿泊延べ数_北欧 | FL1: 4月宿泊実数_北欧 | FM1: 4月宿泊延べ数_北欧 | FN1: 5月宿泊実数_北欧 | FO1: 5月宿泊延べ数_北欧 | FP1: 3月宿泊実数_その他ヨーロッパ | FQ1: 3月宿泊延べ数_その他ヨーロッパ | FR1: 4月宿泊実数_その他ヨーロッパ | FS1: 4月宿泊延べ数_その他ヨーロッパ | FT1: 5月宿泊実数_その他ヨーロッパ | FU1: 5月宿泊延べ数_その他ヨーロッパ | FV1: 3月宿泊実数_アメリカ | FW1: 3月宿泊延べ数_アメリカ | FX1: 4月宿泊実数_アメリカ | FY1: 4月宿泊延べ数_アメリカ | FZ1: 5月宿泊実数_アメリカ | GA1: 5月宿泊延べ数_アメリカ | GB1: 3月宿泊実数_カナダ | GC1: 3月宿泊延べ数_カナダ | GD1: 4月宿泊実数_カナダ | GE1: 4月宿泊延べ数_カナダ | GF1: 5月宿泊実数_カナダ | GG1: 5月宿泊延べ数_カナダ | GH1: 3月宿泊実数_中南米 | GI1: 3月宿泊延べ数_中南米 | GJ1: 4月宿泊実数_中南米 | GK1: 4月宿泊延べ数_中南米 | GL1: 5月宿泊実数_中南米 | GM1: 5月宿泊延べ数_中南米 | GN1: 3月宿泊実数_アフリカ | GO1: 3月宿泊延べ数_アフリカ | GP1: 4月宿泊実数_アフリカ | GQ1: 4月宿泊延べ数_アフリカ | GR1: 5月宿泊実数_アフリカ | GS1: 5月宿泊延べ数_アフリカ | GT1: 3月宿泊実数_オーストラリア | GU1: 3月宿泊延べ数_オーストラリア | GV1: 4月宿泊実数_オーストラリア | GW1: 4月宿泊延べ数_オーストラリア | GX1: 5月宿泊実数_オーストラリア | GY1: 5月宿泊延べ数_オーストラリア | GZ1: 3月宿泊実数_その他オセアニア | HA1: 3月宿泊延べ数_その他オセアニア | HB1: 4月宿泊実数_その他オセアニア | HC1: 4月宿泊延べ数_その他オセアニア | HD1: 5月宿泊実数_その他オセアニア | HE1: 5月宿泊延べ数_その他オセアニア | HF1: 3月宿泊実数_不明 | HG1: 3月宿泊延べ数_不明 | HH1: 4月宿泊実数_不明 | HI1: 4月宿泊延べ数_不明 | HJ1: 5月宿泊実数_不明 | HK1: 5月宿泊延べ数_不明
A2: ='宿泊調査票 （6～9月)'!I26 -> 0 | B2: ='宿泊調査票 （6～9月)'!I27 -> 0 | C2: ='宿泊調査票 （6～9月)'!I28 -> 0 | D2: ='宿泊調査票 （6～9月)'!L26 -> 0 | E2: ='宿泊調査票 （6～9月)'!L27 -> 0 | F2: ='宿泊調査票 （6～9月)'!L28 -> 0 | G2: ='宿泊調査票 （6～9月)'!O26 -> 0 | H2: ='宿泊調査票 （6～9月)'!O27 -> 0 | I2: ='宿泊調査票 （6～9月)'!O28 -> 0 | J2: ='宿泊調査票 （6～9月)'!$AN22 -> 0 | K2: ='宿泊調査票 （6～9月)'!$AN23 -> 0 | L2: ='宿泊調査票 （6～9月)'!$AN24 -> 0 | M2: ='宿泊調査票 （6～9月)'!$AN25 -> 0 | N2: ='宿泊調査票 （6～9月)'!$AN26 -> 0 | O2: ='宿泊調査票 （6～9月)'!$AN27 -> 0 | P2: ='宿泊調査票 （6～9月)'!BD$22 -> 0 | Q2: ='宿泊調査票 （6～9月)'!BD$23 -> 0 | R2: ='宿泊調査票 （6～9月)'!BD$24 -> 0 | S2: ='宿泊調査票 （6～9月)'!BD$25 -> 0 | T2: ='宿泊調査票 （6～9月)'!BD$26 -> 0 | U2: ='宿泊調査票 （6～9月)'!BD$27 -> 0 | V2: ='宿泊調査票 （6～9月)'!BG$22 -> 0 | W2: ='宿泊調査票 （6～9月)'!BG$23 -> 0 | X2: ='宿泊調査票 （6～9月)'!BG$24 -> 0 | Y2: ='宿泊調査票 （6～9月)'!BG$25 -> 0 | Z2: ='宿泊調査票 （6～9月)'!BG$26 -> 0 | AA2: ='宿泊調査票 （6～9月)'!BG$27 -> 0 | AB2: ='宿泊調査票 （6～9月)'!BJ$22 -> 0 | AC2: ='宿泊調査票 （6～9月)'!BJ$23 -> 0 | AD2: ='宿泊調査票 （6～9月)'!BJ$24 -> 0 | AE2: ='宿泊調査票 （6～9月)'!BJ$25 -> 0 | AF2: ='宿泊調査票 （6～9月)'!BJ$26 -> 0 | AG2: ='宿泊調査票 （6～9月)'!BJ$27 -> 0 | AH2: ='宿泊調査票 （6～9月)'!BM$22 -> 0 | AI2: ='宿泊調査票 （6～9月)'!BM$23 -> 0 | AJ2: ='宿泊調査票 （6～9月)'!BM$24 -> 0 | AK2: ='宿泊調査票 （6～9月)'!BM$25 -> 0 | AL2: ='宿泊調査票 （6～9月)'!BM$26 -> 0 | AM2: ='宿泊調査票 （6～9月)'!BM$27 -> 0 | AN2: ='宿泊調査票 （6～9月)'!BP$22 -> 0 | AO2: ='宿泊調査票 （6～9月)'!BP$23 -> 0 | AP2: ='宿泊調査票 （6～9月)'!BP$24 -> 0 | AQ2: ='宿泊調査票 （6～9月)'!BP$25 -> 0 | AR2: ='宿泊調査票 （6～9月)'!BP$26 -> 0 | AS2: ='宿泊調査票 （6～9月)'!BP$27 -> 0 | AT2: ='宿泊調査票 （6～9月)'!BS$22 -> 0 | AU2: ='宿泊調査票 （6～9月)'!BS$23 -> 0 | AV2: ='宿泊調査票 （6～9月)'!BS$24 -> 0 | AW2: ='宿泊調査票 （6～9月)'!BS$25 -> 0 | AX2: ='宿泊調査票 （6～9月)'!BS$26 -> 0 | AY2: ='宿泊調査票 （6～9月)'!BS$27 -> 0 | AZ2: ='宿泊調査票 （6～9月)'!BV$22 -> 0 | BA2: ='宿泊調査票 （6～9月)'!BV$23 -> 0 | BB2: ='宿泊調査票 （6～9月)'!BV$24 -> 0 | BC2: ='宿泊調査票 （6～9月)'!BV$25 -> 0 | BD2: ='宿泊調査票 （6～9月)'!BV$26 -> 0 | BE2: ='宿泊調査票 （6～9月)'!BV$27 -> 0 | BF2: ='宿泊調査票 （6～9月)'!BY$22 -> 0 | BG2: ='宿泊調査票 （6～9月)'!BY$23 -> 0 | BH2: ='宿泊調査票 （6～9月)'!BY$24 -> 0 | BI2: ='宿泊調査票 （6～9月)'!BY$25 -> 0 | BJ2: ='宿泊調査票 （6～9月)'!BY$26 -> 0 | BK2: ='宿泊調査票 （6～9月)'!BY$27 -> 0 | BL2: ='宿泊調査票 （6～9月)'!H$37 -> 0 | BM2: ='宿泊調査票 （6～9月)'!H$38 -> 0 | BN2: ='宿泊調査票 （6～9月)'!H$39 -> 0 | BO2: ='宿泊調査票 （6～9月)'!H$40 -> 0 | BP2: ='宿泊調査票 （6～9月)'!H$41 -> 0 | BQ2: ='宿泊調査票 （6～9月)'!H$42 -> 0 | BR2: ='宿泊調査票 （6～9月)'!K$37 -> 0 | BS2: ='宿泊調査票 （6～9月)'!K$38 -> 0 | BT2: ='宿泊調査票 （6～9月)'!K$39 -> 0 | BU2: ='宿泊調査票 （6～9月)'!K$40 -> 0 | BV2: ='宿泊調査票 （6～9月)'!K$41 -> 0 | BW2: ='宿泊調査票 （6～9月)'!K$42 -> 0 | BX2: ='宿泊調査票 （6～9月)'!N$37 -> 0 | BY2: ='宿泊調査票 （6～9月)'!N$38 -> 0 | BZ2: ='宿泊調査票 （6～9月)'!N$39 -> 0 | CA2: ='宿泊調査票 （6～9月)'!N$40 -> 0 | CB2: ='宿泊調査票 （6～9月)'!N$41 -> 0 | CC2: ='宿泊調査票 （6～9月)'!N$42 -> 0 | CD2: ='宿泊調査票 （6～9月)'!Q$37 -> 0 | CE2: ='宿泊調査票 （6～9月)'!Q$38 -> 0 | CF2: ='宿泊調査票 （6～9月)'!Q$39 -> 0 | CG2: ='宿泊調査票 （6～9月)'!Q$40 -> 0 | CH2: ='宿泊調査票 （6～9月)'!Q$41 -> 0 | CI2: ='宿泊調査票 （6～9月)'!Q$42 -> 0 | CJ2: ='宿泊調査票 （6～9月)'!T$37 -> 0 | CK2: ='宿泊調査票 （6～9月)'!T$38 -> 0 | CL2: ='宿泊調査票 （6～9月)'!T$39 -> 0 | CM2: ='宿泊調査票 （6～9月)'!T$40 -> 0 | CN2: ='宿泊調査票 （6～9月)'!T$41 -> 0 | CO2: ='宿泊調査票 （6～9月)'!T$42 -> 0 | CP2: ='宿泊調査票 （6～9月)'!W$37 -> 0 | CQ2: ='宿泊調査票 （6～9月)'!W$38 -> 0 | CR2: ='宿泊調査票 （6～9月)'!W$39 -> 0 | CS2: ='宿泊調査票 （6～9月)'!W$40 -> 0 | CT2: ='宿泊調査票 （6～9月)'!W$41 -> 0 | CU2: ='宿泊調査票 （6～9月)'!W$42 -> 0 | CV2: ='宿泊調査票 （6～9月)'!Z$37 -> 0 | CW2: ='宿泊調査票 （6～9月)'!Z$38 -> 0 | CX2: ='宿泊調査票 （6～9月)'!Z$39 -> 0 | CY2: ='宿泊調査票 （6～9月)'!Z$40 -> 0 | CZ2: ='宿泊調査票 （6～9月)'!Z$41 -> 0 | DA2: ='宿泊調査票 （6～9月)'!Z$42 -> 0 | DB2: ='宿泊調査票 （6～9月)'!AC$37 -> 0 | DC2: ='宿泊調査票 （6～9月)'!AC$38 -> 0 | DD2: ='宿泊調査票 （6～9月)'!AC$39 -> 0 | DE2: ='宿泊調査票 （6～9月)'!AC$40 -> 0 | DF2: ='宿泊調査票 （6～9月)'!AC$41 -> 0 | DG2: ='宿泊調査票 （6～9月)'!AC$42 -> 0 | DH2: ='宿泊調査票 （6～9月)'!AF$37 -> 0 | DI2: ='宿泊調査票 （6～9月)'!AF$38 -> 0 | DJ2: ='宿泊調査票 （6～9月)'!AF$39 -> 0 | DK2: ='宿泊調査票 （6～9月)'!AF$40 -> 0 | DL2: ='宿泊調査票 （6～9月)'!AF$41 -> 0 | DM2: ='宿泊調査票 （6～9月)'!AF$42 -> 0 | DN2: ='宿泊調査票 （6～9月)'!AI$37 -> 0 | DO2: ='宿泊調査票 （6～9月)'!AI$38 -> 0 | DP2: ='宿泊調査票 （6～9月)'!AI$39 -> 0 | DQ2: ='宿泊調査票 （6～9月)'!AI$40 -> 0 | DR2: ='宿泊調査票 （6～9月)'!AI$41 -> 0 | DS2: ='宿泊調査票 （6～9月)'!AI$42 -> 0 | DT2: ='宿泊調査票 （6～9月)'!AL$37 -> 0 | DU2: ='宿泊調査票 （6～9月)'!AL$38 -> 0 | DV2: ='宿泊調査票 （6～9月)'!AL$39 -> 0 | DW2: ='宿泊調査票 （6～9月)'!AL$40 -> 0 | DX2: ='宿泊調査票 （6～9月)'!AL$41 -> 0 | DY2: ='宿泊調査票 （6～9月)'!AL$42 -> 0 | DZ2: ='宿泊調査票 （6～9月)'!AO$37 -> 0 | EA2: ='宿泊調査票 （6～9月)'!AO$38 -> 0 | EB2: ='宿泊調査票 （6～9月)'!AO$39 -> 0 | EC2: ='宿泊調査票 （6～9月)'!AO$40 -> 0 | ED2: ='宿泊調査票 （6～9月)'!AO$41 -> 0 | EE2: ='宿泊調査票 （6～9月)'!AO$42 -> 0 | EF2: ='宿泊調査票 （6～9月)'!AR$37 -> 0 | EG2: ='宿泊調査票 （6～9月)'!AR$38 -> 0 | EH2: ='宿泊調査票 （6～9月)'!AR$39 -> 0 | EI2: ='宿泊調査票 （6～9月)'!AR$40 -> 0 | EJ2: ='宿泊調査票 （6～9月)'!AR$41 -> 0 | EK2: ='宿泊調査票 （6～9月)'!AR$42 -> 0 | EL2: ='宿泊調査票 （6～9月)'!AU$37 -> 0 | EM2: ='宿泊調査票 （6～9月)'!AU$38 -> 0 | EN2: ='宿泊調査票 （6～9月)'!AU$39 -> 0 | EO2: ='宿泊調査票 （6～9月)'!AU$40 -> 0 | EP2: ='宿泊調査票 （6～9月)'!AU$41 -> 0 | EQ2: ='宿泊調査票 （6～9月)'!AU$42 -> 0 | ER2: ='宿泊調査票 （6～9月)'!AX$37 -> 0 | ES2: ='宿泊調査票 （6～9月)'!AX$38 -> 0 | ET2: ='宿泊調査票 （6～9月)'!AX$39 -> 0 | EU2: ='宿泊調査票 （6～9月)'!AX$40 -> 0 | EV2: ='宿泊調査票 （6～9月)'!AX$41 -> 0 | EW2: ='宿泊調査票 （6～9月)'!AX$42 -> 0 | EX2: ='宿泊調査票 （6～9月)'!BA$37 -> 0 | EY2: ='宿泊調査票 （6～9月)'!BA$38 -> 0 | EZ2: ='宿泊調査票 （6～9月)'!BA$39 -> 0 | FA2: ='宿泊調査票 （6～9月)'!BA$40 -> 0 | FB2: ='宿泊調査票 （6～9月)'!BA$41 -> 0 | FC2: ='宿泊調査票 （6～9月)'!BA$42 -> 0 | FD2: ='宿泊調査票 （6～9月)'!BD$37 -> 0 | FE2: ='宿泊調査票 （6～9月)'!BD$38 -> 0 | FF2: ='宿泊調査票 （6～9月)'!BD$39 -> 0 | FG2: ='宿泊調査票 （6～9月)'!BD$40 -> 0 | FH2: ='宿泊調査票 （6～9月)'!BD$41 -> 0 | FI2: ='宿泊調査票 （6～9月)'!BD$42 -> 0 | FJ2: ='宿泊調査票 （6～9月)'!BG$37 -> 0 | FK2: ='宿泊調査票 （6～9月)'!BG$38 -> 0 | FL2: ='宿泊調査票 （6～9月)'!BG$39 -> 0 | FM2: ='宿泊調査票 （6～9月)'!BG$40 -> 0 | FN2: ='宿泊調査票 （6～9月)'!BG$41 -> 0 | FO2: ='宿泊調査票 （6～9月)'!BG$42 -> 0 | FP2: ='宿泊調査票 （6～9月)'!BJ$37 -> 0 | FQ2: ='宿泊調査票 （6～9月)'!BJ$38 -> 0 | FR2: ='宿泊調査票 （6～9月)'!BJ$39 -> 0 | FS2: ='宿泊調査票 （6～9月)'!BJ$40 -> 0 | FT2: ='宿泊調査票 （6～9月)'!BJ$41 -> 0 | FU2: ='宿泊調査票 （6～9月)'!BJ$42 -> 0 | FV2: ='宿泊調査票 （6～9月)'!BM$37 -> 0 | FW2: ='宿泊調査票 （6～9月)'!BM$38 -> 0 | FX2: ='宿泊調査票 （6～9月)'!BM$39 -> 0 | FY2: ='宿泊調査票 （6～9月)'!BM$40 -> 0 | FZ2: ='宿泊調査票 （6～9月)'!BM$41 -> 0 | GA2: ='宿泊調査票 （6～9月)'!BM$42 -> 0 | GB2: ='宿泊調査票 （6～9月)'!BP$37 -> 0 | GC2: ='宿泊調査票 （6～9月)'!BP$38 -> 0 | GD2: ='宿泊調査票 （6～9月)'!BP$39 -> 0 | GE2: ='宿泊調査票 （6～9月)'!BP$40 -> 0 | GF2: ='宿泊調査票 （6～9月)'!BP$41 -> 0 | GG2: ='宿泊調査票 （6～9月)'!BP$42 -> 0 | GH2: ='宿泊調査票 （6～9月)'!BS$37 -> 0 | GI2: ='宿泊調査票 （6～9月)'!BS$38 -> 0 | GJ2: ='宿泊調査票 （6～9月)'!BS$39 -> 0 | GK2: ='宿泊調査票 （6～9月)'!BS$40 -> 0 | GL2: ='宿泊調査票 （6～9月)'!BS$41 -> 0 | GM2: ='宿泊調査票 （6～9月)'!BS$42 -> 0 | GN2: ='宿泊調査票 （6～9月)'!BV$37 -> 0 | GO2: ='宿泊調査票 （6～9月)'!BV$38 -> 0 | GP2: ='宿泊調査票 （6～9月)'!BV$39 -> 0 | GQ2: ='宿泊調査票 （6～9月)'!BV$40 -> 0 | GR2: ='宿泊調査票 （6～9月)'!BV$41 -> 0 | GS2: ='宿泊調査票 （6～9月)'!BV$42 -> 0 | GT2: ='宿泊調査票 （6～9月)'!BY$37 -> 0 | GU2: ='宿泊調査票 （6～9月)'!BY$38 -> 0 | GV2: ='宿泊調査票 （6～9月)'!BY$39 -> 0 | GW2: ='宿泊調査票 （6～9月)'!BY$40 -> 0 | GX2: ='宿泊調査票 （6～9月)'!BY$41 -> 0 | GY2: ='宿泊調査票 （6～9月)'!BY$42 -> 0 | GZ2: ='宿泊調査票 （6～9月)'!CB$37 -> 0 | HA2: ='宿泊調査票 （6～9月)'!CB$38 -> 0 | HB2: ='宿泊調査票 （6～9月)'!CB$39 -> 0 | HC2: ='宿泊調査票 （6～9月)'!CB$40 -> 0 | HD2: ='宿泊調査票 （6～9月)'!CB$41 -> 0 | HE2: ='宿泊調査票 （6～9月)'!CB$42 -> 0 | HF2: ='宿泊調査票 （6～9月)'!CE$37 -> 0 | HG2: ='宿泊調査票 （6～9月)'!CE$38 -> 0 | HH2: ='宿泊調査票 （6～9月)'!CE$39 -> 0 | HI2: ='宿泊調査票 （6～9月)'!CE$40 -> 0 | HJ2: ='宿泊調査票 （6～9月)'!CE$41 -> 0 | HK2: ='宿泊調査票 （6～9月)'!CE$42 -> 0

Sheet （こちらは回答不要です）転記用シート（１～２月）
A1: 1月宿泊実数 | B1: 1月宿泊延べ数 | C1: 1月客室稼働数 | D1: 2月宿泊実数 | E1: 2月宿泊延べ数 | F1: 2月客室稼働数 | G1: 3月宿泊実数 | H1: 3月宿泊延べ数 | I1: 3月客室稼働数 | J1: 1月宿泊実数_道外 | K1: 1月宿泊延べ数_道外 | L1: 2月宿泊実数_道外 | M1: 2月宿泊延べ数_道外 | N1: 3月宿泊実数_道外 | O1: 3月宿泊延べ数_道外 | P1: 1月校数_北海道 | Q1: 1月宿泊延べ数_北海道 | R1: 2月校数_北海道 | S1: 2月宿泊延べ数_北海道 | T1: 3月校数_北海道 | U1: 3月宿泊延べ数_北海道 | V1: 1月校数_東北 | W1: 1月宿泊延べ数_東北 | X1: 2月校数_東北 | Y1: 2月宿泊延べ数_東北 | Z1: 3月校数_東北 | AA1: 3月宿泊延べ数_東北 | AB1: 1月校数_関東 | AC1: 1月宿泊延べ数_関東 | AD1: 2月校数_関東 | AE1: 2月宿泊延べ数_関東 | AF1: 3月校数_関東 | AG1: 3月宿泊延べ数_関東 | AH1: 1月校数_中部 | AI1: 1月宿泊延べ数_中部 | AJ1: 2月校数_中部 | AK1: 2月宿泊延べ数_中部 | AL1: 3月校数_中部 | AM1: 3月宿泊延べ数_中部 | AN1: 1月校数_近畿 | AO1: 1月宿泊延べ数_近畿 | AP1: 2月校数_近畿 | AQ1: 2月宿泊延べ数_近畿 | AR1: 3月校数_近畿 | AS1: 3月宿泊延べ数_近畿 | AT1: 1月校数_中国地方 | AU1: 1月宿泊延べ数_中国地方 | AV1: 2月校数_中国地方 | AW1: 2月宿泊延べ数_中国地方 | AX1: 3月校数_中国地方 | AY1: 3月宿泊延べ数_中国地方 | AZ1: 1月校数_四国 | BA1: 1月宿泊延べ数_四国 | BB1: 2月校数_四国 | BC1: 2月宿泊延べ数_四国 | BD1: 3月校数_四国 | BE1: 3月宿泊延べ数_四国 | BF1: 1月校数_九州沖縄 | BG1: 1月宿泊延べ数_九州沖縄 | BH1: 2月校数_九州沖縄 | BI1: 2月宿泊延べ数_九州沖縄 | BJ1: 3月校数_九州沖縄 | BK1: 3月宿泊延べ数_九州沖縄 | BL1: 1月宿泊実数_中国 | BM1: 1月宿泊延べ数_中国 | BN1: 2月宿泊実数_中国 | BO1: 2月宿泊延べ数_中国 | BP1: 3月宿泊実数_中国 | BQ1: 3月宿泊延べ数_中国 | BR1: 1月宿泊実数_韓国 | BS1: 1月宿泊延べ数_韓国 | BT1: 2月宿泊実数_韓国 | BU1: 2月宿泊延べ数_韓国 | BV1: 3月宿泊実数_韓国 | BW1: 3月宿泊延べ数_韓国 | BX1: 1月宿泊実数_台湾 | BY1: 1月宿泊延べ数_台湾 | BZ1: 2月宿泊実数_台湾 | CA1: 2月宿泊延べ数_台湾 | CB1: 3月宿泊実数_台湾 | CC1: 3月宿泊延べ数_台湾 | CD1: 1月宿泊実数_香港 | CE1: 1月宿泊延べ数_香港 | CF1: 2月宿泊実数_香港 | CG1: 2月宿泊延べ数_香港 | CH1: 3月宿泊実数_香港 | CI1: 3月宿泊延べ数_香港 | CJ1: 1月宿泊実数_シンガポール | CK1: 1月宿泊延べ数_シンガポール | CL1: 2月宿泊実数_シンガポール | CM1: 2月宿泊延べ数_シンガポール | CN1: 3月宿泊実数_シンガポール | CO1: 3月宿泊延べ数_シンガポール | CP1: 1月宿泊実数_フィリピン | CQ1: 1月宿泊延べ数_フィリピン | CR1: 2月宿泊実数_フィリピン | CS1: 2月宿泊延べ数_フィリピン | CT1: 3月宿泊実数_フィリピン | CU1: 3月宿泊延べ数_フィリピン | CV1: 1月宿泊実数_タイ | CW1: 1月宿泊延べ数_タイ | CX1: 2月宿泊実数_タイ | CY1: 2月宿泊延べ数_タイ | CZ1: 3月宿泊実数_タイ | DA1: 3月宿泊延べ数_タイ | DB1: 1月宿泊実数_マレーシア | DC1: 1月宿泊延べ数_マレーシア | DD1: 2月宿泊実数_マレーシア | DE1: 2月宿泊延べ数_マレーシア | DF1: 3月宿泊実数_マレーシア | DG1: 3月宿泊延べ数_マレーシア | DH1: 1月宿泊実数_インド | DI1: 1月宿泊延べ数_インド | DJ1: 2月宿泊実数_インド | DK1: 2月宿泊延べ数_インド | DL1: 3月宿泊実数_インド | DM1: 3月宿泊延べ数_インド | DN1: 1月宿泊実数_インドネシア | DO1: 1月宿泊延べ数_インドネシア | DP1: 2月宿泊実数_インドネシア | DQ1: 2月宿泊延べ数_インドネシア | DR1: 3月宿泊実数_インドネシア | DS1: 3月宿泊延べ数_インドネシア | DT1: 1月宿泊実数_ベトナム | DU1: 1月宿泊延べ数_ベトナム | DV1: 2月宿泊実数_ベトナム | DW1: 2月宿泊延べ数_ベトナム | DX1: 3月宿泊実数_ベトナム | DY1: 3月宿泊延べ数_ベトナム | DZ1: 1月宿泊実数_その他アジア | EA1: 1月宿泊延べ数_その他アジア | EB1: 2月宿泊実数_その他アジア | EC1: 2月宿泊延べ数_その他アジア | ED1: 3月宿泊実数_その他アジア | EE1: 3月宿泊延べ数_その他アジア | EF1: 1月宿泊実数_中東 | EG1: 1月宿泊延べ数_中東 | EH1: 2月宿泊実数_中東 | EI1: 2月宿泊延べ数_中東 | EJ1: 3月宿泊実数_中東 | EK1: 3月宿泊延べ数_中東 | EL1: 1月宿泊実数_ロシア | EM1: 1月宿泊延べ数_ロシア | EN1: 2月宿泊実数_ロシア | EO1: 2月宿泊延べ数_ロシア | EP1: 3月宿泊実数_ロシア | EQ1: 3月宿泊延べ数_ロシア | ER1: 1月宿泊実数_イギリス | ES1: 1月宿泊延べ数_イギリス | ET1: 2月宿泊実数_イギリス | EU1: 2月宿泊延べ数_イギリス | EV1: 3月宿泊実数_イギリス | EW1: 3月宿泊延べ数_イギリス | EX1: 1月宿泊実数_フランス | EY1: 1月宿泊延べ数_フランス | EZ1: 2月宿泊実数_フランス | FA1: 2月宿泊延べ数_フランス | FB1: 3月宿泊実数_フランス | FC1: 3月宿泊延べ数_フランス | FD1: 1月宿泊実数_ドイツ | FE1: 1月宿泊延べ数_ドイツ | FF1: 2月宿泊実数_ドイツ | FG1: 2月宿泊延べ数_ドイツ | FH1: 3月宿泊実数_ドイツ | FI1: 3月宿泊延べ数_ドイツ | FJ1: 1月宿泊実数_北欧 | FK1: 1月宿泊延べ数_北欧 | FL1: 2月宿泊実数_北欧 | FM1: 2月宿泊延べ数_北欧 | FN1: 3月宿泊実数_北欧 | FO1: 3月宿泊延べ数_北欧 | FP1: 1月宿泊実数_その他ヨーロッパ | FQ1: 1月宿泊延べ数_その他ヨーロッパ | FR1: 2月宿泊実数_その他ヨーロッパ | FS1: 2月宿泊延べ数_その他ヨーロッパ | FT1: 3月宿泊実数_その他ヨーロッパ | FU1: 3月宿泊延べ数_その他ヨーロッパ | FV1: 1月宿泊実数_アメリカ | FW1: 1月宿泊延べ数_アメリカ | FX1: 2月宿泊実数_アメリカ | FY1: 2月宿泊延べ数_アメリカ | FZ1: 3月宿泊実数_アメリカ | GA1: 3月宿泊延べ数_アメリカ | GB1: 1月宿泊実数_カナダ | GC1: 1月宿泊延べ数_カナダ | GD1: 2月宿泊実数_カナダ | GE1: 2月宿泊延べ数_カナダ | GF1: 3月宿泊実数_カナダ | GG1: 3月宿泊延べ数_カナダ | GH1: 1月宿泊実数_中南米 | GI1: 1月宿泊延べ数_中南米 | GJ1: 2月宿泊実数_中南米 | GK1: 2月宿泊延べ数_中南米 | GL1: 3月宿泊実数_中南米 | GM1: 3月宿泊延べ数_中南米 | GN1: 1月宿泊実数_アフリカ | GO1: 1月宿泊延べ数_アフリカ | GP1: 2月宿泊実数_アフリカ | GQ1: 2月宿泊延べ数_アフリカ | GR1: 3月宿泊実数_アフリカ | GS1: 3月宿泊延べ数_アフリカ | GT1: 1月宿泊実数_オーストラリア | GU1: 1月宿泊延べ数_オーストラリア | GV1: 2月宿泊実数_オーストラリア | GW1: 2月宿泊延べ数_オーストラリア | GX1: 3月宿泊実数_オーストラリア | GY1: 3月宿泊延べ数_オーストラリア | GZ1: 1月宿泊実数_その他オセアニア | HA1: 1月宿泊延べ数_その他オセアニア | HB1: 2月宿泊実数_その他オセアニア | HC1: 2月宿泊延べ数_その他オセアニア | HD1: 3月宿泊実数_その他オセアニア | HE1: 3月宿泊延べ数_その他オセアニア | HF1: 1月宿泊実数_不明 | HG1: 1月宿泊延べ数_不明 | HH1: 2月宿泊実数_不明 | HI1: 2月宿泊延べ数_不明 | HJ1: 3月宿泊実数_不明 | HK1: 3月宿泊延べ数_不明
A2: =#REF! -> #REF! | B2: =#REF! -> #REF! | C2: =#REF! -> #REF! | D2: =#REF! -> #REF! | E2: =#REF! -> #REF! | F2: =#REF! -> #REF! | G2: =#REF! -> #REF! | H2: =#REF! -> #REF! | ... HK2: =#REF! -> #REF!

Sheet （こちらはは回答不要です）転記用シート（施設情報）
A1: 部屋 | H1: 環境配慮 | O1: 認証 | S1: 食
A2: シングル | B2: ダブル | C2: ツイン | D2: スイート | E2: 和室 | F2: その他 | G2: バリフリ | H2: 環境配慮 | I2: 省エネ | J2: 食品ロス削減 | K2: プラ削減 | L2: 堆肥化 | M2: 環境その他 | N2: その他内容 | O2: 認証１ | P2: 認証２ | Q2: 認証３ | R2: 認証４ | S2: 食の取組 | T2: 選択肢提供 | U2: 地元産 | V2: 有機農産物
A3: ='（こちらは回答不要です）施設基本情報'!C5 -> 0 | B3: ='（こちらは回答不要です）施設基本情報'!C6 -> 0 | C3: ='（こちらは回答不要です）施設基本情報'!C7 -> 0 | D3: ='（こちらは回答不要です）施設基本情報'!C8 -> 0 | E3: ='（こちらは回答不要です）施設基本情報'!C9 -> 0 | F3: ='（こちらは回答不要です）施設基本情報'!C10 -> 0 | G3: ='（こちらは回答不要です）施設基本情報'!C11 -> 0 | H3: ='（こちらは回答不要です）施設基本情報'!C13 -> 有 ・ 無 | I3: ='（こちらは回答不要です）施設基本情報'!C14 -> 有 ・ 無 | J3: ='（こちらは回答不要です）施設基本情報'!C15 -> 有 ・ 無 | K3: ='（こちらは回答不要です）施設基本情報'!C16 -> 有 ・ 無 | L3: ='（こちらは回答不要です）施設基本情報'!C17 -> 有 ・ 無 | M3: ='（こちらは回答不要です）施設基本情報'!C18 -> 有 ・ 無 | N3: ='（こちらは回答不要です）施設基本情報'!C19 -> 0 | O3: ='（こちらは回答不要です）施設基本情報'!C22 -> 0 | P3: ='（こちらは回答不要です）施設基本情報'!C23 -> 0 | Q3: ='（こちらは回答不要です）施設基本情報'!C24 -> 0 | R3: ='（こちらは回答不要です）施設基本情報'!C25 -> 0 | S3: ='（こちらは回答不要です）施設基本情報'!C27 -> 有 ・ 無 | T3: ='（こちらは回答不要です）施設基本情報'!C28 -> 有 ・ 無 | U3: ='（こちらは回答不要です）施設基本情報'!C29 -> 有 ・ 無 | V3: ='（こちらは回答不要です）施設基本情報'!C30 -> 有 ・ 無
