Workbook

Sheet 初めに
A2: 初めに下記水色枠を記入してください。
A4: 法人名
A5: 事業所名
A6: 事業所番号
A7: 事業所所在市町村名
A9: サービス種別 | C9: 番号 | D9: 種別
B10: =VLOOKUP(A10,$A$14:$E$28,2,FALSE()) -> #N/A
A11: ※番号欄は下記のサービス種別一覧の番号（半角数字）を入力してください。
A13: サービス種別一覧
A14: 1 | B14: 訪問介護
A15: 2 | B15: 通所介護（地域密着型含む）
A16: 3 | B16: 短期入所生活介護
A17: 4 | B17: 夜間対応型訪問介護
A18: 5 | B18: 認知症対応型通所介護
A19: 6 | B19: 小規模多機能型居宅介護
A20: 7 | B20: 複合型サービス(看護小規模多機能型居宅介護）
A21: 8 | B21: 定期巡回・随時対応型訪問介護看護
A22: 9 | B22: 地域密着型老人福祉施設入所者生活介護
A23: 10 | B23: 介護福祉施設サービス
A24: 11 | B24: 総合事業(札幌市訪問介護相当型サービス)
A25: 12 | B25: 総合事業（札幌市通所型サービス）
... A28: 15 | B28: 介護予防小規模多機能型居宅介護
A31: 注意 | B31: 各シートの名称は、計算に使用しているため変更しないでください。
B32: あらかじめ入力されている計算式などは、変更しないでください。

Sheet 利用者情報
A1: 法人名 | B1: =IF('初めに'!C4="","",'初めに'!C4) | F1: ■ 入力の際の留意点 負担限度額認定証の変更について ①8月の定期更新による変更（通常の更新） 1人1行のまま「前期（4〜7月）」と「後期（8〜3月）」の欄に分けて日付を入力してください。 各月の「別紙１」では、年間を通して同じ項番（1行）を指定すれば自動で参照されます。 ② 年度途中の世帯階層変更や、減額要件自体が変わる場合 1行のみでは月ごとの正しい計算ができないため、2行（別項番）に分けて登録してください。 1行目： 変更前の期間・区分を入力（変更前の月シートでその項番を指定） 2行目： 変更後の期間・区分を入力（変更後の月シートで新しい項番を指定）
A2: サービス種別 | B2: =IF('初めに'!B10="","",'初めに'!B10) -> #N/A
A3: 事業所名 | B3: =IF('初めに'!C5="","",'初めに'!C5)
A4: 事業所番号 | B4: =IF('初めに'!C6="","",'初めに'!C6)
A5: 事業所所在市町村名 | B5: =IF('初めに'!C7="","",'初めに'!C7)
A6: 保険者市町村名 | B6: 札幌市
A8: 下記水色枠を記入してください。
A9: 利用者情報
B10: 社会福祉法人等利用者負担減額確認証
A11: 項番 | B11: 被保険者番号 | C11: 減額対象者氏名 | D11: 前期 4～7月 適用年月日 西暦8桁（例：20250801 ） | E11: 前期 4～7月 有効期限 西暦8桁（例：20260731 ） | F11: 後期 8～3月 適用年月日 西暦8桁（例：20260801 ） | G11: 後期 8～3月 有効期限 西暦8桁（例：20270731 ） | H11: 利用者負担第2段階の該当有無 | I11: 特養旧措置入所者で利用者負担割合が5％以下の該当有無 | J11: 老齢福祉年金受給の有無 | K11: 生活扶助基準等の改正に伴い保護廃止された者が引き続き対象となっている場合 | L11: 生活保護受給者で個室又はユニット型個室に入居している場合
A12: =IF(B12="","",COUNTA($B$12:B12))
A13: =IF(B13="","",COUNTA($B$12:B13))
A14: =IF(B14="","",COUNTA($B$12:B14))
A15: =IF(B15="","",COUNTA($B$12:B15))
A16: =IF(B16="","",COUNTA($B$12:B16))
A17: =IF(B17="","",COUNTA($B$12:B17))
A18: =IF(B18="","",COUNTA($B$12:B18))
A19: =IF(B19="","",COUNTA($B$12:B19))
A20: =IF(B20="","",COUNTA($B$12:B20))
A21: =IF(B21="","",COUNTA($B$12:B21))
A22: =IF(B22="","",COUNTA($B$12:B22))
A23: =IF(B23="","",COUNTA($B$12:B23))
... A113: =IF(B113="","",COUNTA($B$12:B113))

Sheet 別紙１-4月
A1: 別紙１-４月
A2: 社会福祉法人等減額公費助成額算定表(月別・保険者別）
C4: 法人名 | D4: =IF('初めに'!C4="","",'初めに'!C4)
C5: サービス種別 | D5: =IF('初めに'!B10="","",'初めに'!B10) -> #N/A
C6: 事業所名 | D6: =IF('初めに'!C5="","",'初めに'!C5)
C7: 事業所番号 | D7: =IF('初めに'!C6="","",'初めに'!C6)
C8: 事業所所在市町村名 | D8: =IF('初めに'!C7="","",'初めに'!C7)
C9: 保険者市町村名 | D9: 札幌市
A12: ■入力の際の留意点
A13: ※１ 本表により、事業所ごとに、月別・保険者別の減額した額を集計する。
A14: ※２ 複合型サービス、定期巡回・随時対応型訪問介護看護、小規模多機能型居宅介護、地域密着型介護老人福祉施設入所者生活介護及び介護福祉施設サービスを利用する利用者負担第２段階に該当する者は、利用者負担額（a）は減額対象費用に含まない。
A15: ※３ 特養旧措置入所者のうち利用者負担割合が５％以下の者は、ユニット型個室の居住費（減額割合は25％。ただし、老福年金受給者は50％）のみ減額の対象となる。
A16: ※４ 生活保護受給者は個室及びユニット型個室の居住費（減額割合は100％）のみ減額の対象となる。
A17: ※５ 減額した額（j）は、各種サービスの利用者負担額に減額割合25％（老齢福祉年金受給者は50％）を乗じて得た額（円未満切捨て）と、食費、居住費（滞在費）及び宿泊費のそれぞれに減額割合25％（老齢福祉年金受給者は50％）を乗じて得た額を合算して算出する。
A18: ※６ 短期入所生活介護、地域密着型介護老人福祉施設入所者生活介護、介護福祉施設サービス又は介護予防短期入所生活介護に係る食費及び居住費については、介護保険制度における特定入所者生活介護サービス費又は特定入所者介護予防サービス費が支給されている場合に限り対象となる。
A19: ※７ 減額した額の合計額は、「別紙２（様式）」シートの各月の減額総額に自動反映されます。
A21: 下記水色枠を記入してください。 | U21: （単位：円）
A22: 項番（利用者情報入力分） | B22: 被保険者番号 | C22: 減額対象者氏名 | D22: 適用年月日 | E22: 有効期限 | F22: 利用者負担第2段階の該当有無 | G22: 特養旧措置入所者で利用者負担割合が5％以下の該当有無 | H22: 老齢福祉年金受給の有無 | I22: 生活扶助基準等の改正に伴い保護廃止された者が引き続き対象となっている場合 | J22: 生活保護受給者で個室又はユニット型個室に入居している場合 | K22: 利用 | L22: 利用者負担額 （食費、居住費（滞在費）及び宿泊費を除く） | O22: 食費、居住費（滞在費）及び宿泊費 | V22: 減額した額 合 計 | W22: 備 考
L23: 減額対象費用 | M23: 減額割合 | N23: 減額した額 （円未満切捨） | O23: 減額対象費用 | S23: 減額割合 h | U23: 減額した額 （円未満切捨）
K24: 日数 | O24: 食費 | P24: 居住費（滞在費）及び宿泊費 | R24: 計
P25: ユニット型 | Q25: ユニット型以外
K26: (回数） | L26: a | M26: b | N26: c（=a×b） | O26: d | P26: e | Q26: f | R26: g(=d+e+f) | S26: 食費 | T26: 居住費 | U26: i(=d×h+(e+f)×h) | V26: j(=c+i)
B27: =IFERROR(VLOOKUP($A27, '利用者情報'!$A$12:$L$113, 2, FALSE), "") | C27: =IFERROR(VLOOKUP($A27, '利用者情報'!$A$12:$L$113, 3, FALSE), "") | D27: =IFERROR(VLOOKUP($A27, '利用者情報'!$A$12:$L$113, 4, FALSE), "") | E27: =IFERROR(VLOOKUP($A27, '利用者情報'!$A$12:$L$113, 5, FALSE), "") | F27: =IFERROR(VLOOKUP($A27, '利用者情報'!$A$12:$L$113, 8, FALSE), "") | G27: =IFERROR(VLOOKUP($A27, '利用者情報'!$A$12:$L$113, 9, FALSE), "") | H27: =IFERROR(VLOOKUP($A27, '利用者情報'!$A$12:$L$113, 10, FALSE), "") | I27: =IFERROR(VLOOKUP($A27, '利用者情報'!$A$12:$L$113, 11, FALSE), "") | J27: =IFERROR(VLOOKUP($A27, '利用者情報'!$A$12:$L$113, 12, FALSE), "") | M27: =IF(L27=0,0,IF(B27="",0,IF(AND(F27="○",OR($D$5="小規模多機能型居宅介護",$D$5="複合型サービス(看護小規模多機能型居宅介護）",$D$5="定期巡回・随時対応型訪問介護看護",$D$5="地域密着型老人福祉施設入所者生活介護",$D$5="介護福祉施設サービス")),0,IF(G27="○",0,IF(J27="○",0,IF(H27="○",0.5,0.25)))))) -> 0 | N27: =ROUNDDOWN(L27*M27,0) -> 0 | R27: =Q27+O27+P27 -> 0 | S27: =IF(R27=0,0,IF(B27="",0,IF(J27="○",0,IF(H27="○",0.5,0.25)))) -> 0 | T27: =IF(R27=0,0,IF(B27="",0,IF(J27="○",1,IF(I27="○",1,IF(H27="○",0.5,0.25))))) -> 0 | U27: =IF(G27="○",ROUNDDOWN(P27*T27,0),ROUNDDOWN(O27*S27,0)+ROUNDDOWN(SUM(P27:Q27)*T27,0)) -> 0 | V27: =N27+U27 -> 0 | X27: =IF(J27="○",ROW(),"")
B28: =IFERROR(VLOOKUP($A28, '利用者情報'!$A$12:$L$113, 2, FALSE), "") | C28: =IFERROR(VLOOKUP($A28, '利用者情報'!$A$12:$L$113, 3, FALSE), "") | D28: =IFERROR(VLOOKUP($A28, '利用者情報'!$A$12:$L$113, 4, FALSE), "") | E28: =IFERROR(VLOOKUP($A28, '利用者情報'!$A$12:$L$113, 5, FALSE), "") | F28: =IFERROR(VLOOKUP($A28, '利用者情報'!$A$12:$L$113, 8, FALSE), "") | G28: =IFERROR(VLOOKUP($A28, '利用者情報'!$A$12:$L$113, 9, FALSE), "") | H28: =IFERROR(VLOOKUP($A28, '利用者情報'!$A$12:$L$113, 10, FALSE), "") | I28: =IFERROR(VLOOKUP($A28, '利用者情報'!$A$12:$L$113, 11, FALSE), "") | J28: =IFERROR(VLOOKUP($A28, '利用者情報'!$A$12:$L$113, 12, FALSE), "") | M28: =IF(L28=0,0,IF(B28="",0,IF(AND(F28="○",OR($D$5="小規模多機能型居宅介護",$D$5="複合型サービス(看護小規模多機能型居宅介護）",$D$5="定期巡回・随時対応型訪問介護看護",$D$5="地域密着型老人福祉施設入所者生活介護",$D$5="介護福祉施設サービス")),0,IF(G28="○",0,IF(J28="○",0,IF(H28="○",0.5,0.25)))))) -> 0 | N28: =ROUNDDOWN(L28*M28,0) -> 0 | R28: =Q28+O28+P28 -> 0 | S28: =IF(R28=0,0,IF(B28="",0,IF(J28="○",0,IF(H28="○",0.5,0.25)))) -> 0 | T28: =IF(R28=0,0,IF(B28="",0,IF(J28="○",1,IF(I28="○",1,IF(H28="○",0.5,0.25))))) -> 0 | U28: =IF(G28="○",ROUNDDOWN(P28*T28,0),ROUNDDOWN(O28*S28,0)+ROUNDDOWN(SUM(P28:Q28)*T28,0)) -> 0 | V28: =N28+U28 -> 0 | X28: =IF(J28="○",ROW(),"")
B29: =IFERROR(VLOOKUP($A29, '利用者情報'!$A$12:$L$113, 2, FALSE), "") | C29: =IFERROR(VLOOKUP($A29, '利用者情報'!$A$12:$L$113, 3, FALSE), "") | D29: =IFERROR(VLOOKUP($A29, '利用者情報'!$A$12:$L$113, 4, FALSE), "") | E29: =IFERROR(VLOOKUP($A29, '利用者情報'!$A$12:$L$113, 5, FALSE), "") | F29: =IFERROR(VLOOKUP($A29, '利用者情報'!$A$12:$L$113, 8, FALSE), "") | G29: =IFERROR(VLOOKUP($A29, '利用者情報'!$A$12:$L$113, 9, FALSE), "") | H29: =IFERROR(VLOOKUP($A29, '利用者情報'!$A$12:$L$113, 10, FALSE), "") | I29: =IFERROR(VLOOKUP($A29, '利用者情報'!$A$12:$L$113, 11, FALSE), "") | J29: =IFERROR(VLOOKUP($A29, '利用者情報'!$A$12:$L$113, 12, FALSE), "") | M29: =IF(L29=0,0,IF(B29="",0,IF(AND(F29="○",OR($D$5="小規模多機能型居宅介護",$D$5="複合型サービス(看護小規模多機能型居宅介護）",$D$5="定期巡回・随時対応型訪問介護看護",$D$5="地域密着型老人福祉施設入所者生活介護",$D$5="介護福祉施設サービス")),0,IF(G29="○",0,IF(J29="○",0,IF(H29="○",0.5,0.25)))))) -> 0 | N29: =ROUNDDOWN(L29*M29,0) -> 0 | R29: =Q29+O29+P29 -> 0 | S29: =IF(R29=0,0,IF(B29="",0,IF(J29="○",0,IF(H29="○",0.5,0.25)))) -> 0 | T29: =IF(R29=0,0,IF(B29="",0,IF(J29="○",1,IF(I29="○",1,IF(H29="○",0.5,0.25))))) -> 0 | U29: =IF(G29="○",ROUNDDOWN(P29*T29,0),ROUNDDOWN(O29*S29,0)+ROUNDDOWN(SUM(P29:Q29)*T29,0)) -> 0 | V29: =N29+U29 -> 0 | X29: =IF(J29="○",ROW(),"")
B30: =IFERROR(VLOOKUP($A30, '利用者情報'!$A$12:$L$113, 2, FALSE), "") | C30: =IFERROR(VLOOKUP($A30, '利用者情報'!$A$12:$L$113, 3, FALSE), "") | D30: =IFERROR(VLOOKUP($A30, '利用者情報'!$A$12:$L$113, 4, FALSE), "") | E30: =IFERROR(VLOOKUP($A30, '利用者情報'!$A$12:$L$113, 5, FALSE), "") | F30: =IFERROR(VLOOKUP($A30, '利用者情報'!$A$12:$L$113, 8, FALSE), "") | G30: =IFERROR(VLOOKUP($A30, '利用者情報'!$A$12:$L$113, 9, FALSE), "") | H30: =IFERROR(VLOOKUP($A30, '利用者情報'!$A$12:$L$113, 10, FALSE), "") | I30: =IFERROR(VLOOKUP($A30, '利用者情報'!$A$12:$L$113, 11, FALSE), "") | J30: =IFERROR(VLOOKUP($A30, '利用者情報'!$A$12:$L$113, 12, FALSE), "") | M30: =IF(L30=0,0,IF(B30="",0,IF(AND(F30="○",OR($D$5="小規模多機能型居宅介護",$D$5="複合型サービス(看護小規模多機能型居宅介護）",$D$5="定期巡回・随時対応型訪問介護看護",$D$5="地域密着型老人福祉施設入所者生活介護",$D$5="介護福祉施設サービス")),0,IF(G30="○",0,IF(J30="○",0,IF(H30="○",0.5,0.25)))))) -> 0 | N30: =ROUNDDOWN(L30*M30,0) -> 0 | R30: =Q30+O30+P30 -> 0 | S30: =IF(R30=0,0,IF(B30="",0,IF(J30="○",0,IF(H30="○",0.5,0.25)))) -> 0 | T30: =IF(R30=0,0,IF(B30="",0,IF(J30="○",1,IF(I30="○",1,IF(H30="○",0.5,0.25))))) -> 0 | U30: =IF(G30="○",ROUNDDOWN(P30*T30,0),ROUNDDOWN(O30*S30,0)+ROUNDDOWN(SUM(P30:Q30)*T30,0)) -> 0 | V30: =N30+U30 -> 0 | X30: =IF(J30="○",ROW(),"")
B31: =IFERROR(VLOOKUP($A31, '利用者情報'!$A$12:$L$113, 2, FALSE), "") | C31: =IFERROR(VLOOKUP($A31, '利用者情報'!$A$12:$L$113, 3, FALSE), "") | D31: =IFERROR(VLOOKUP($A31, '利用者情報'!$A$12:$L$113, 4, FALSE), "") | E31: =IFERROR(VLOOKUP($A31, '利用者情報'!$A$12:$L$113, 5, FALSE), "") | F31: =IFERROR(VLOOKUP($A31, '利用者情報'!$A$12:$L$113, 8, FALSE), "") | G31: =IFERROR(VLOOKUP($A31, '利用者情報'!$A$12:$L$113, 9, FALSE), "") | H31: =IFERROR(VLOOKUP($A31, '利用者情報'!$A$12:$L$113, 10, FALSE), "") | I31: =IFERROR(VLOOKUP($A31, '利用者情報'!$A$12:$L$113, 11, FALSE), "") | J31: =IFERROR(VLOOKUP($A31, '利用者情報'!$A$12:$L$113, 12, FALSE), "") | M31: =IF(L31=0,0,IF(B31="",0,IF(AND(F31="○",OR($D$5="小規模多機能型居宅介護",$D$5="複合型サービス(看護小規模多機能型居宅介護）",$D$5="定期巡回・随時対応型訪問介護看護",$D$5="地域密着型老人福祉施設入所者生活介護",$D$5="介護福祉施設サービス")),0,IF(G31="○",0,IF(J31="○",0,IF(H31="○",0.5,0.25)))))) -> 0 | N31: =ROUNDDOWN(L31*M31,0) -> 0 | R31: =Q31+O31+P31 -> 0 | S31: =IF(R31=0,0,IF(B31="",0,IF(J31="○",0,IF(H31="○",0.5,0.25)))) -> 0 | T31: =IF(R31=0,0,IF(B31="",0,IF(J31="○",1,IF(I31="○",1,IF(H31="○",0.5,0.25))))) -> 0 | U31: =IF(G31="○",ROUNDDOWN(P31*T31,0),ROUNDDOWN(O31*S31,0)+ROUNDDOWN(SUM(P31:Q31)*T31,0)) -> 0 | V31: =N31+U31 -> 0 | X31: =IF(J31="○",ROW(),"")
B32: =IFERROR(VLOOKUP($A32, '利用者情報'!$A$12:$L$113, 2, FALSE), "") | C32: =IFERROR(VLOOKUP($A32, '利用者情報'!$A$12:$L$113, 3, FALSE), "") | D32: =IFERROR(VLOOKUP($A32, '利用者情報'!$A$12:$L$113, 4, FALSE), "") | E32: =IFERROR(VLOOKUP($A32, '利用者情報'!$A$12:$L$113, 5, FALSE), "") | F32: =IFERROR(VLOOKUP($A32, '利用者情報'!$A$12:$L$113, 8, FALSE), "") | G32: =IFERROR(VLOOKUP($A32, '利用者情報'!$A$12:$L$113, 9, FALSE), "") | H32: =IFERROR(VLOOKUP($A32, '利用者情報'!$A$12:$L$113, 10, FALSE), "") | I32: =IFERROR(VLOOKUP($A32, '利用者情報'!$A$12:$L$113, 11, FALSE), "") | J32: =IFERROR(VLOOKUP($A32, '利用者情報'!$A$12:$L$113, 12, FALSE), "") | M32: =IF(L32=0,0,IF(B32="",0,IF(AND(F32="○",OR($D$5="小規模多機能型居宅介護",$D$5="複合型サービス(看護小規模多機能型居宅介護）",$D$5="定期巡回・随時対応型訪問介護看護",$D$5="地域密着型老人福祉施設入所者生活介護",$D$5="介護福祉施設サービス")),0,IF(G32="○",0,IF(J32="○",0,IF(H32="○",0.5,0.25)))))) -> 0 | N32: =ROUNDDOWN(L32*M32,0) -> 0 | R32: =Q32+O32+P32 -> 0 | S32: =IF(R32=0,0,IF(B32="",0,IF(J32="○",0,IF(H32="○",0.5,0.25)))) -> 0 | T32: =IF(R32=0,0,IF(B32="",0,IF(J32="○",1,IF(I32="○",1,IF(H32="○",0.5,0.25))))) -> 0 | U32: =IF(G32="○",ROUNDDOWN(P32*T32,0),ROUNDDOWN(O32*S32,0)+ROUNDDOWN(SUM(P32:Q32)*T32,0)) -> 0 | V32: =N32+U32 -> 0 | X32: =IF(J32="○",ROW(),"")
B33: =IFERROR(VLOOKUP($A33, '利用者情報'!$A$12:$L$113, 2, FALSE), "") | C33: =IFERROR(VLOOKUP($A33, '利用者情報'!$A$12:$L$113, 3, FALSE), "") | D33: =IFERROR(VLOOKUP($A33, '利用者情報'!$A$12:$L$113, 4, FALSE), "") | E33: =IFERROR(VLOOKUP($A33, '利用者情報'!$A$12:$L$113, 5, FALSE), "") | F33: =IFERROR(VLOOKUP($A33, '利用者情報'!$A$12:$L$113, 8, FALSE), "") | G33: =IFERROR(VLOOKUP($A33, '利用者情報'!$A$12:$L$113, 9, FALSE), "") | H33: =IFERROR(VLOOKUP($A33, '利用者情報'!$A$12:$L$113, 10, FALSE), "") | I33: =IFERROR(VLOOKUP($A33, '利用者情報'!$A$12:$L$113, 11, FALSE), "") | J33: =IFERROR(VLOOKUP($A33, '利用者情報'!$A$12:$L$113, 12, FALSE), "") | M33: =IF(L33=0,0,IF(B33="",0,IF(AND(F33="○",OR($D$5="小規模多機能型居宅介護",$D$5="複合型サービス(看護小規模多機能型居宅介護）",$D$5="定期巡回・随時対応型訪問介護看護",$D$5="地域密着型老人福祉施設入所者生活介護",$D$5="介護福祉施設サービス")),0,IF(G33="○",0,IF(J33="○",0,IF(H33="○",0.5,0.25)))))) -> 0 | N33: =ROUNDDOWN(L33*M33,0) -> 0 | R33: =Q33+O33+P33 -> 0 | S33: =IF(R33=0,0,IF(B33="",0,IF(J33="○",0,IF(H33="○",0.5,0.25)))) -> 0 | T33: =IF(R33=0,0,IF(B33="",0,IF(J33="○",1,IF(I33="○",1,IF(H33="○",0.5,0.25))))) -> 0 | U33: =IF(G33="○",ROUNDDOWN(P33*T33,0),ROUNDDOWN(O33*S33,0)+ROUNDDOWN(SUM(P33:Q33)*T33,0)) -> 0 | V33: =N33+U33 -> 0 | X33: =IF(J33="○",ROW(),"")
B34: =IFERROR(VLOOKUP($A34, '利用者情報'!$A$12:$L$113, 2, FALSE), "") | C34: =IFERROR(VLOOKUP($A34, '利用者情報'!$A$12:$L$113, 3, FALSE), "") | D34: =IFERROR(VLOOKUP($A34, '利用者情報'!$A$12:$L$113, 4, FALSE), "") | E34: =IFERROR(VLOOKUP($A34, '利用者情報'!$A$12:$L$113, 5, FALSE), "") | F34: =IFERROR(VLOOKUP($A34, '利用者情報'!$A$12:$L$113, 8, FALSE), "") | G34: =IFERROR(VLOOKUP($A34, '利用者情報'!$A$12:$L$113, 9, FALSE), "") | H34: =IFERROR(VLOOKUP($A34, '利用者情報'!$A$12:$L$113, 10, FALSE), "") | I34: =IFERROR(VLOOKUP($A34, '利用者情報'!$A$12:$L$113, 11, FALSE), "") | J34: =IFERROR(VLOOKUP($A34, '利用者情報'!$A$12:$L$113, 12, FALSE), "") | M34: =IF(L34=0,0,IF(B34="",0,IF(AND(F34="○",OR($D$5="小規模多機能型居宅介護",$D$5="複合型サービス(看護小規模多機能型居宅介護）",$D$5="定期巡回・随時対応型訪問介護看護",$D$5="地域密着型老人福祉施設入所者生活介護",$D$5="介護福祉施設サービス")),0,IF(G34="○",0,IF(J34="○",0,IF(H34="○",0.5,0.25)))))) -> 0 | N34: =ROUNDDOWN(L34*M34,0) -> 0 | R34: =Q34+O34+P34 -> 0 | S34: =IF(R34=0,0,IF(B34="",0,IF(J34="○",0,IF(H34="○",0.5,0.25)))) -> 0 | T34: =IF(R34=0,0,IF(B34="",0,IF(J34="○",1,IF(I34="○",1,IF(H34="○",0.5,0.25))))) -> 0 | U34: =IF(G34="○",ROUNDDOWN(P34*T34,0),ROUNDDOWN(O34*S34,0)+ROUNDDOWN(SUM(P34:Q34)*T34,0)) -> 0 | V34: =N34+U34 -> 0 | X34: =IF(J34="○",ROW(),"")
B35: =IFERROR(VLOOKUP($A35, '利用者情報'!$A$12:$L$113, 2, FALSE), "") | C35: =IFERROR(VLOOKUP($A35, '利用者情報'!$A$12:$L$113, 3, FALSE), "") | D35: =IFERROR(VLOOKUP($A35, '利用者情報'!$A$12:$L$113, 4, FALSE), "") | E35: =IFERROR(VLOOKUP($A35, '利用者情報'!$A$12:$L$113, 5, FALSE), "") | F35: =IFERROR(VLOOKUP($A35, '利用者情報'!$A$12:$L$113, 8, FALSE), "") | G35: =IFERROR(VLOOKUP($A35, '利用者情報'!$A$12:$L$113, 9, FALSE), "") | H35: =IFERROR(VLOOKUP($A35, '利用者情報'!$A$12:$L$113, 10, FALSE), "") | I35: =IFERROR(VLOOKUP($A35, '利用者情報'!$A$12:$L$113, 11, FALSE), "") | J35: =IFERROR(VLOOKUP($A35, '利用者情報'!$A$12:$L$113, 12, FALSE), "") | M35: =IF(L35=0,0,IF(B35="",0,IF(AND(F35="○",OR($D$5="小規模多機能型居宅介護",$D$5="複合型サービス(看護小規模多機能型居宅介護）",$D$5="定期巡回・随時対応型訪問介護看護",$D$5="地域密着型老人福祉施設入所者生活介護",$D$5="介護福祉施設サービス")),0,IF(G35="○",0,IF(J35="○",0,IF(H35="○",0.5,0.25)))))) -> 0 | N35: =ROUNDDOWN(L35*M35,0) -> 0 | R35: =Q35+O35+P35 -> 0 | S35: =IF(R35=0,0,IF(B35="",0,IF(J35="○",0,IF(H35="○",0.5,0.25)))) -> 0 | T35: =IF(R35=0,0,IF(B35="",0,IF(J35="○",1,IF(I35="○",1,IF(H35="○",0.5,0.25))))) -> 0 | U35: =IF(G35="○",ROUNDDOWN(P35*T35,0),ROUNDDOWN(O35*S35,0)+ROUNDDOWN(SUM(P35:Q35)*T35,0)) -> 0 | V35: =N35+U35 -> 0 | X35: =IF(J35="○",ROW(),"")
B36: =IFERROR(VLOOKUP($A36, '利用者情報'!$A$12:$L$113, 2, FALSE), "") | C36: =IFERROR(VLOOKUP($A36, '利用者情報'!$A$12:$L$113, 3, FALSE), "") | D36: =IFERROR(VLOOKUP($A36, '利用者情報'!$A$12:$L$113, 4, FALSE), "") | E36: =IFERROR(VLOOKUP($A36, '利用者情報'!$A$12:$L$113, 5, FALSE), "") | F36: =IFERROR(VLOOKUP($A36, '利用者情報'!$A$12:$L$113, 8, FALSE), "") | G36: =IFERROR(VLOOKUP($A36, '利用者情報'!$A$12:$L$113, 9, FALSE), "") | H36: =IFERROR(VLOOKUP($A36, '利用者情報'!$A$12:$L$113, 10, FALSE), "") | I36: =IFERROR(VLOOKUP($A36, '利用者情報'!$A$12:$L$113, 11, FALSE), "") | J36: =IFERROR(VLOOKUP($A36, '利用者情報'!$A$12:$L$113, 12, FALSE), "") | M36: =IF(L36=0,0,IF(B36="",0,IF(AND(F36="○",OR($D$5="小規模多機能型居宅介護",$D$5="複合型サービス(看護小規模多機能型居宅介護）",$D$5="定期巡回・随時対応型訪問介護看護",$D$5="地域密着型老人福祉施設入所者生活介護",$D$5="介護福祉施設サービス")),0,IF(G36="○",0,IF(J36="○",0,IF(H36="○",0.5,0.25)))))) -> 0 | N36: =ROUNDDOWN(L36*M36,0) -> 0 | R36: =Q36+O36+P36 -> 0 | S36: =IF(R36=0,0,IF(B36="",0,IF(J36="○",0,IF(H36="○",0.5,0.25)))) -> 0 | T36: =IF(R36=0,0,IF(B36="",0,IF(J36="○",1,IF(I36="○",1,IF(H36="○",0.5,0.25))))) -> 0 | U36: =IF(G36="○",ROUNDDOWN(P36*T36,0),ROUNDDOWN(O36*S36,0)+ROUNDDOWN(SUM(P36:Q36)*T36,0)) -> 0 | V36: =N36+U36 -> 0 | X36: =IF(J36="○",ROW(),"")
B37: =IFERROR(VLOOKUP($A37, '利用者情報'!$A$12:$L$113, 2, FALSE), "") | C37: =IFERROR(VLOOKUP($A37, '利用者情報'!$A$12:$L$113, 3, FALSE), "") | D37: =IFERROR(VLOOKUP($A37, '利用者情報'!$A$12:$L$113, 4, FALSE), "") | E37: =IFERROR(VLOOKUP($A37, '利用者情報'!$A$12:$L$113, 5, FALSE), "") | F37: =IFERROR(VLOOKUP($A37, '利用者情報'!$A$12:$L$113, 8, FALSE), "") | G37: =IFERROR(VLOOKUP($A37, '利用者情報'!$A$12:$L$113, 9, FALSE), "") | H37: =IFERROR(VLOOKUP($A37, '利用者情報'!$A$12:$L$113, 10, FALSE), "") | I37: =IFERROR(VLOOKUP($A37, '利用者情報'!$A$12:$L$113, 11, FALSE), "") | J37: =IFERROR(VLOOKUP($A37, '利用者情報'!$A$12:$L$113, 12, FALSE), "") | M37: =IF(L37=0,0,IF(B37="",0,IF(AND(F37="○",OR($D$5="小規模多機能型居宅介護",$D$5="複合型サービス(看護小規模多機能型居宅介護）",$D$5="定期巡回・随時対応型訪問介護看護",$D$5="地域密着型老人福祉施設入所者生活介護",$D$5="介護福祉施設サービス")),0,IF(G37="○",0,IF(J37="○",0,IF(H37="○",0.5,0.25)))))) -> 0 | N37: =ROUNDDOWN(L37*M37,0) -> 0 | R37: =Q37+O37+P37 -> 0 | S37: =IF(R37=0,0,IF(B37="",0,IF(J37="○",0,IF(H37="○",0.5,0.25)))) -> 0 | T37: =IF(R37=0,0,IF(B37="",0,IF(J37="○",1,IF(I37="○",1,IF(H37="○",0.5,0.25))))) -> 0 | U37: =IF(G37="○",ROUNDDOWN(P37*T37,0),ROUNDDOWN(O37*S37,0)+ROUNDDOWN(SUM(P37:Q37)*T37,0)) -> 0 | V37: =N37+U37 -> 0 | X37: =IF(J37="○",ROW(),"")
B38: =IFERROR(VLOOKUP($A38, '利用者情報'!$A$12:$L$113, 2, FALSE), "") | C38: =IFERROR(VLOOKUP($A38, '利用者情報'!$A$12:$L$113, 3, FALSE), "") | D38: =IFERROR(VLOOKUP($A38, '利用者情報'!$A$12:$L$113, 4, FALSE), "") | E38: =IFERROR(VLOOKUP($A38, '利用者情報'!$A$12:$L$113, 5, FALSE), "") | F38: =IFERROR(VLOOKUP($A38, '利用者情報'!$A$12:$L$113, 8, FALSE), "") | G38: =IFERROR(VLOOKUP($A38, '利用者情報'!$A$12:$L$113, 9, FALSE), "") | H38: =IFERROR(VLOOKUP($A38, '利用者情報'!$A$12:$L$113, 10, FALSE), "") | I38: =IFERROR(VLOOKUP($A38, '利用者情報'!$A$12:$L$113, 11, FALSE), "") | J38: =IFERROR(VLOOKUP($A38, '利用者情報'!$A$12:$L$113, 12, FALSE), "") | M38: =IF(L38=0,0,IF(B38="",0,IF(AND(F38="○",OR($D$5="小規模多機能型居宅介護",$D$5="複合型サービス(看護小規模多機能型居宅介護）",$D$5="定期巡回・随時対応型訪問介護看護",$D$5="地域密着型老人福祉施設入所者生活介護",$D$5="介護福祉施設サービス")),0,IF(G38="○",0,IF(J38="○",0,IF(H38="○",0.5,0.25)))))) -> 0 | N38: =ROUNDDOWN(L38*M38,0) -> 0 | R38: =Q38+O38+P38 -> 0 | S38: =IF(R38=0,0,IF(B38="",0,IF(J38="○",0,IF(H38="○",0.5,0.25)))) -> 0 | T38: =IF(R38=0,0,IF(B38="",0,IF(J38="○",1,IF(I38="○",1,IF(H38="○",0.5,0.25))))) -> 0 | U38: =IF(G38="○",ROUNDDOWN(P38*T38,0),ROUNDDOWN(O38*S38,0)+ROUNDDOWN(SUM(P38:Q38)*T38,0)) -> 0 | V38: =N38+U38 -> 0 | X38: =IF(J38="○",ROW(),"")
... B76: =IFERROR(VLOOKUP($A76, '利用者情報'!$A$12:$L$113, 2, FALSE), "") | C76: =IFERROR(VLOOKUP($A76, '利用者情報'!$A$12:$L$113, 3, FALSE), "") | D76: =IFERROR(VLOOKUP($A76, '利用者情報'!$A$12:$L$113, 4, FALSE), "") | E76: =IFERROR(VLOOKUP($A76, '利用者情報'!$A$12:$L$113, 5, FALSE), "") | F76: =IFERROR(VLOOKUP($A76, '利用者情報'!$A$12:$L$113, 8, FALSE), "") | G76: =IFERROR(VLOOKUP($A76, '利用者情報'!$A$12:$L$113, 9, FALSE), "") | H76: =IFERROR(VLOOKUP($A76, '利用者情報'!$A$12:$L$113, 10, FALSE), "") | I76: =IFERROR(VLOOKUP($A76, '利用者情報'!$A$12:$L$113, 11, FALSE), "") | J76: =IFERROR(VLOOKUP($A76, '利用者情報'!$A$12:$L$113, 12, FALSE), "") | M76: =IF(L76=0,0,IF(B76="",0,IF(AND(F76="○",OR($D$5="小規模多機能型居宅介護",$D$5="複合型サービス(看護小規模多機能型居宅介護）",$D$5="定期巡回・随時対応型訪問介護看護",$D$5="地域密着型老人福祉施設入所者生活介護",$D$5="介護福祉施設サービス")),0,IF(G76="○",0,IF(J76="○",0,IF(H76="○",0.5,0.25)))))) -> 0 | N76: =ROUNDDOWN(L76*M76,0) -> 0 | R76: =Q76+O76+P76 -> 0 | S76: =IF(R76=0,0,IF(B76="",0,IF(J76="○",0,IF(H76="○",0.5,0.25)))) -> 0 | T76: =IF(R76=0,0,IF(B76="",0,IF(J76="○",1,IF(I76="○",1,IF(H76="○",0.5,0.25))))) -> 0 | U76: =IF(G76="○",ROUNDDOWN(P76*T76,0),ROUNDDOWN(O76*S76,0)+ROUNDDOWN(SUM(P76:Q76)*T76,0)) -> 0 | V76: =N76+U76 -> 0 | X76: =IF(J76="○",ROW(),"")
B77: =IFERROR(VLOOKUP($A77, '利用者情報'!$A$12:$L$113, 2, FALSE), "") | C77: =IFERROR(VLOOKUP($A77, '利用者情報'!$A$12:$L$113, 3, FALSE), "") | D77: =IFERROR(VLOOKUP($A77, '利用者情報'!$A$12:$L$113, 4, FALSE), "") | E77: =IFERROR(VLOOKUP($A77, '利用者情報'!$A$12:$L$113, 5, FALSE), "") | F77: =IFERROR(VLOOKUP($A77, '利用者情報'!$A$12:$L$113, 8, FALSE), "") | G77: =IFERROR(VLOOKUP($A77, '利用者情報'!$A$12:$L$113, 9, FALSE), "") | H77: =IFERROR(VLOOKUP($A77, '利用者情報'!$A$12:$L$113, 10, FALSE), "") | I77: =IFERROR(VLOOKUP($A77, '利用者情報'!$A$12:$L$113, 11, FALSE), "") | J77: =IFERROR(VLOOKUP($A77, '利用者情報'!$A$12:$L$113, 12, FALSE), "") | M77: =IF(L77=0,0,IF(B77="",0,IF(AND(F77="○",OR($D$5="小規模多機能型居宅介護",$D$5="複合型サービス(看護小規模多機能型居宅介護）",$D$5="定期巡回・随時対応型訪問介護看護",$D$5="地域密着型老人福祉施設入所者生活介護",$D$5="介護福祉施設サービス")),0,IF(G77="○",0,IF(J77="○",0,IF(H77="○",0.5,0.25)))))) -> 0 | N77: =ROUNDDOWN(L77*M77,0) -> 0 | R77: =Q77+O77+P77 -> 0 | S77: =IF(R77=0,0,IF(B77="",0,IF(J77="○",0,IF(H77="○",0.5,0.25)))) -> 0 | T77: =IF(R77=0,0,IF(B77="",0,IF(J77="○",1,IF(I77="○",1,IF(H77="○",0.5,0.25))))) -> 0 | U77: =IF(G77="○",ROUNDDOWN(P77*T77,0),ROUNDDOWN(O77*S77,0)+ROUNDDOWN(SUM(P77:Q77)*T77,0)) -> 0 | V77: =N77+U77 -> 0
B78: =IFERROR(VLOOKUP($A78, '利用者情報'!$A$12:$L$113, 2, FALSE), "") | C78: =IFERROR(VLOOKUP($A78, '利用者情報'!$A$12:$L$113, 3, FALSE), "") | D78: =IFERROR(VLOOKUP($A78, '利用者情報'!$A$12:$L$113, 4, FALSE), "") | E78: =IFERROR(VLOOKUP($A78, '利用者情報'!$A$12:$L$113, 5, FALSE), "") | F78: =IFERROR(VLOOKUP($A78, '利用者情報'!$A$12:$L$113, 8, FALSE), "") | G78: =IFERROR(VLOOKUP($A78, '利用者情報'!$A$12:$L$113, 9, FALSE), "") | H78: =IFERROR(VLOOKUP($A78, '利用者情報'!$A$12:$L$113, 10, FALSE), "") | I78: =IFERROR(VLOOKUP($A78, '利用者情報'!$A$12:$L$113, 11, FALSE), "") | J78: =IFERROR(VLOOKUP($A78, '利用者情報'!$A$12:$L$113, 12, FALSE), "") | M78: =IF(L78=0,0,IF(B78="",0,IF(AND(F78="○",OR($D$5="小規模多機能型居宅介護",$D$5="複合型サービス(看護小規模多機能型居宅介護）",$D$5="定期巡回・随時対応型訪問介護看護",$D$5="地域密着型老人福祉施設入所者生活介護",$D$5="介護福祉施設サービス")),0,IF(G78="○",0,IF(J78="○",0,IF(H78="○",0.5,0.25)))))) -> 0 | N78: =ROUNDDOWN(L78*M78,0) -> 0 | R78: =Q78+O78+P78 -> 0 | S78: =IF(R78=0,0,IF(B78="",0,IF(J78="○",0,IF(H78="○",0.5,0.25)))) -> 0 | T78: =IF(R78=0,0,IF(B78="",0,IF(J78="○",1,IF(I78="○",1,IF(H78="○",0.5,0.25))))) -> 0 | U78: =IF(G78="○",ROUNDDOWN(P78*T78,0),ROUNDDOWN(O78*S78,0)+ROUNDDOWN(SUM(P78:Q78)*T78,0)) -> 0 | V78: =N78+U78 -> 0
B79: =IFERROR(VLOOKUP($A79, '利用者情報'!$A$12:$L$113, 2, FALSE), "") | C79: =IFERROR(VLOOKUP($A79, '利用者情報'!$A$12:$L$113, 3, FALSE), "") | D79: =IFERROR(VLOOKUP($A79, '利用者情報'!$A$12:$L$113, 4, FALSE), "") | E79: =IFERROR(VLOOKUP($A79, '利用者情報'!$A$12:$L$113, 5, FALSE), "") | F79: =IFERROR(VLOOKUP($A79, '利用者情報'!$A$12:$L$113, 8, FALSE), "") | G79: =IFERROR(VLOOKUP($A79, '利用者情報'!$A$12:$L$113, 9, FALSE), "") | H79: =IFERROR(VLOOKUP($A79, '利用者情報'!$A$12:$L$113, 10, FALSE), "") | I79: =IFERROR(VLOOKUP($A79, '利用者情報'!$A$12:$L$113, 11, FALSE), "") | J79: =IFERROR(VLOOKUP($A79, '利用者情報'!$A$12:$L$113, 12, FALSE), "") | M79: =IF(L79=0,0,IF(B79="",0,IF(AND(F79="○",OR($D$5="小規模多機能型居宅介護",$D$5="複合型サービス(看護小規模多機能型居宅介護）",$D$5="定期巡回・随時対応型訪問介護看護",$D$5="地域密着型老人福祉施設入所者生活介護",$D$5="介護福祉施設サービス")),0,IF(G79="○",0,IF(J79="○",0,IF(H79="○",0.5,0.25)))))) -> 0 | N79: =ROUNDDOWN(L79*M79,0) -> 0 | R79: =Q79+O79+P79 -> 0 | S79: =IF(R79=0,0,IF(B79="",0,IF(J79="○",0,IF(H79="○",0.5,0.25)))) -> 0 | T79: =IF(R79=0,0,IF(B79="",0,IF(J79="○",1,IF(I79="○",1,IF(H79="○",0.5,0.25))))) -> 0 | U79: =IF(G79="○",ROUNDDOWN(P79*T79,0),ROUNDDOWN(O79*S79,0)+ROUNDDOWN(SUM(P79:Q79)*T79,0)) -> 0 | V79: =N79+U79 -> 0
B80: =IFERROR(VLOOKUP($A80, '利用者情報'!$A$12:$L$113, 2, FALSE), "") | C80: =IFERROR(VLOOKUP($A80, '利用者情報'!$A$12:$L$113, 3, FALSE), "") | D80: =IFERROR(VLOOKUP($A80, '利用者情報'!$A$12:$L$113, 4, FALSE), "") | E80: =IFERROR(VLOOKUP($A80, '利用者情報'!$A$12:$L$113, 5, FALSE), "") | F80: =IFERROR(VLOOKUP($A80, '利用者情報'!$A$12:$L$113, 8, FALSE), "") | G80: =IFERROR(VLOOKUP($A80, '利用者情報'!$A$12:$L$113, 9, FALSE), "") | H80: =IFERROR(VLOOKUP($A80, '利用者情報'!$A$12:$L$113, 10, FALSE), "") | I80: =IFERROR(VLOOKUP($A80, '利用者情報'!$A$12:$L$113, 11, FALSE), "") | J80: =IFERROR(VLOOKUP($A80, '利用者情報'!$A$12:$L$113, 12, FALSE), "") | M80: =IF(L80=0,0,IF(B80="",0,IF(AND(F80="○",OR($D$5="小規模多機能型居宅介護",$D$5="複合型サービス(看護小規模多機能型居宅介護）",$D$5="定期巡回・随時対応型訪問介護看護",$D$5="地域密着型老人福祉施設入所者生活介護",$D$5="介護福祉施設サービス")),0,IF(G80="○",0,IF(J80="○",0,IF(H80="○",0.5,0.25)))))) -> 0 | N80: =ROUNDDOWN(L80*M80,0) -> 0 | R80: =Q80+O80+P80 -> 0 | S80: =IF(R80=0,0,IF(B80="",0,IF(J80="○",0,IF(H80="○",0.5,0.25)))) -> 0 | T80: =IF(R80=0,0,IF(B80="",0,IF(J80="○",1,IF(I80="○",1,IF(H80="○",0.5,0.25))))) -> 0 | U80: =IF(G80="○",ROUNDDOWN(P80*T80,0),ROUNDDOWN(O80*S80,0)+ROUNDDOWN(SUM(P80:Q80)*T80,0)) -> 0 | V80: =N80+U80 -> 0
B81: =IFERROR(VLOOKUP($A81, '利用者情報'!$A$12:$L$113, 2, FALSE), "") | C81: =IFERROR(VLOOKUP($A81, '利用者情報'!$A$12:$L$113, 3, FALSE), "") | D81: =IFERROR(VLOOKUP($A81, '利用者情報'!$A$12:$L$113, 4, FALSE), "") | E81: =IFERROR(VLOOKUP($A81, '利用者情報'!$A$12:$L$113, 5, FALSE), "") | F81: =IFERROR(VLOOKUP($A81, '利用者情報'!$A$12:$L$113, 8, FALSE), "") | G81: =IFERROR(VLOOKUP($A81, '利用者情報'!$A$12:$L$113, 9, FALSE), "") | H81: =IFERROR(VLOOKUP($A81, '利用者情報'!$A$12:$L$113, 10, FALSE), "") | I81: =IFERROR(VLOOKUP($A81, '利用者情報'!$A$12:$L$113, 11, FALSE), "") | J81: =IFERROR(VLOOKUP($A81, '利用者情報'!$A$12:$L$113, 12, FALSE), "") | M81: =IF(L81=0,0,IF(B81="",0,IF(AND(F81="○",OR($D$5="小規模多機能型居宅介護",$D$5="複合型サービス(看護小規模多機能型居宅介護）",$D$5="定期巡回・随時対応型訪問介護看護",$D$5="地域密着型老人福祉施設入所者生活介護",$D$5="介護福祉施設サービス")),0,IF(G81="○",0,IF(J81="○",0,IF(H81="○",0.5,0.25)))))) -> 0 | N81: =ROUNDDOWN(L81*M81,0) -> 0 | R81: =Q81+O81+P81 -> 0 | S81: =IF(R81=0,0,IF(B81="",0,IF(J81="○",0,IF(H81="○",0.5,0.25)))) -> 0 | T81: =IF(R81=0,0,IF(B81="",0,IF(J81="○",1,IF(I81="○",1,IF(H81="○",0.5,0.25))))) -> 0 | U81: =IF(G81="○",ROUNDDOWN(P81*T81,0),ROUNDDOWN(O81*S81,0)+ROUNDDOWN(SUM(P81:Q81)*T81,0)) -> 0 | V81: =N81+U81 -> 0
...

Sheet 別紙１-5月
A1: 別紙１-５月
A2: 社会福祉法人等減額公費助成額算定表(月別・保険者別）
C4: 法人名 | D4: =IF('初めに'!C4="","",'初めに'!C4)
C5: サービス種別 | D5: =IF('初めに'!B10="","",'初めに'!B10) -> #N/A
C6: 事業所名 | D6: =IF('初めに'!C5="","",'初めに'!C5)
C7: 事業所番号 | D7: =IF('初めに'!C6="","",'初めに'!C6)
C8: 事業所所在市町村名 | D8: =IF('初めに'!C7="","",'初めに'!C7)
C9: 保険者市町村名 | D9: 札幌市
A12: ■入力の際の留意点
A13: ※１ 本表により、事業所ごとに、月別・保険者別の減額した額を集計する。
A14: ※２ 複合型サービス、定期巡回・随時対応型訪問介護看護、小規模多機能型居宅介護、地域密着型介護老人福祉施設入所者生活介護及び介護福祉施設サービスを利用する利用者負担第２段階に該当する者は、利用者負担額（a）は減額対象費用に含まない。
A15: ※３ 特養旧措置入所者のうち利用者負担割合が５％以下の者は、ユニット型個室の居住費（減額割合は25％。ただし、老福年金受給者は50％）のみ減額の対象となる。
A16: ※４ 生活保護受給者は個室及びユニット型個室の居住費（減額割合は100％）のみ減額の対象となる。
A17: ※５ 減額した額（j）は、各種サービスの利用者負担額に減額割合25％（老齢福祉年金受給者は50％）を乗じて得た額（円未満切捨て）と、食費、居住費（滞在費）及び宿泊費のそれぞれに減額割合25％（老齢福祉年金受給者は50％）を乗じて得た額を合算して算出する。
A18: ※６ 短期入所生活介護、地域密着型介護老人福祉施設入所者生活介護、介護福祉施設サービス又は介護予防短期入所生活介護に係る食費及び居住費については、介護保険制度における特定入所者生活介護サービス費又は特定入所者介護予防サービス費が支給されている場合に限り対象となる。
A19: ※７ 減額した額の合計額は、「別紙２（様式）」シートの各月の減額総額に自動反映されます。
A21: 下記水色枠を記入してください。 | U21: （単位：円）
A22: 項番（利用者情報入力分） | B22: 被保険者番号 | C22: 減額対象者氏名 | D22: 適用年月日 | E22: 有効期限 | F22: 利用者負担第2段階の該当有無 | G22: 特養旧措置入所者で利用者負担割合が5％以下の該当有無 | H22: 老齢福祉年金受給の有無 | I22: 生活扶助基準等の改正に伴い保護廃止された者が引き続き対象となっている場合 | J22: 生活保護受給者で個室又はユニット型個室に入居している場合 | K22: 利用 | L22: 利用者負担額 （食費、居住費（滞在費）及び宿泊費を除く） | O22: 食費、居住費（滞在費）及び宿泊費 | V22: 減額した額 合 計 | W22: 備 考
L23: 減額対象費用 | M23: 減額割合 | N23: 減額した額 （円未満切捨） | O23: 減額対象費用 | S23: 減額割合 h | U23: 減額した額 （円未満切捨）
K24: 日数 | O24: 食費 | P24: 居住費（滞在費）及び宿泊費 | R24: 計
P25: ユニット型 | Q25: ユニット型以外
K26: (回数） | L26: a | M26: b | N26: c（=a×b） | O26: d | P26: e | Q26: f | R26: g(=d+e+f) | S26: 食費 | T26: 居住費 | U26: i(=d×h+(e+f)×h) | V26: j(=c+i)
B27: =IFERROR(VLOOKUP($A27, '利用者情報'!$A$12:$L$113, 2, FALSE), "") | C27: =IFERROR(VLOOKUP($A27, '利用者情報'!$A$12:$L$113, 3, FALSE), "") | D27: =IFERROR(VLOOKUP($A27, '利用者情報'!$A$12:$L$113, 4, FALSE), "") | E27: =IFERROR(VLOOKUP($A27, '利用者情報'!$A$12:$L$113, 5, FALSE), "") | F27: =IFERROR(VLOOKUP($A27, '利用者情報'!$A$12:$L$113, 8, FALSE), "") | G27: =IFERROR(VLOOKUP($A27, '利用者情報'!$A$12:$L$113, 9, FALSE), "") | H27: =IFERROR(VLOOKUP($A27, '利用者情報'!$A$12:$L$113, 10, FALSE), "") | I27: =IFERROR(VLOOKUP($A27, '利用者情報'!$A$12:$L$113, 11, FALSE), "") | J27: =IFERROR(VLOOKUP($A27, '利用者情報'!$A$12:$L$113, 12, FALSE), "") | M27: =IF(L27=0,0,IF(B27="",0,IF(AND(F27="○",OR($D$5="小規模多機能型居宅介護",$D$5="複合型サービス(看護小規模多機能型居宅介護）",$D$5="定期巡回・随時対応型訪問介護看護",$D$5="地域密着型老人福祉施設入所者生活介護",$D$5="介護福祉施設サービス")),0,IF(G27="○",0,IF(J27="○",0,IF(H27="○",0.5,0.25)))))) -> 0 | N27: =ROUNDDOWN(L27*M27,0) -> 0 | R27: =Q27+O27+P27 -> 0 | S27: =IF(R27=0,0,IF(B27="",0,IF(J27="○",0,IF(H27="○",0.5,0.25)))) -> 0 | T27: =IF(R27=0,0,IF(B27="",0,IF(J27="○",1,IF(I27="○",1,IF(H27="○",0.5,0.25))))) -> 0 | U27: =IF(G27="○",ROUNDDOWN(P27*T27,0),ROUNDDOWN(O27*S27,0)+ROUNDDOWN(SUM(P27:Q27)*T27,0)) -> 0 | V27: =N27+U27 -> 0 | X27: =IF(J27="○",ROW(),"")
B28: =IFERROR(VLOOKUP($A28, '利用者情報'!$A$12:$L$113, 2, FALSE), "") | C28: =IFERROR(VLOOKUP($A28, '利用者情報'!$A$12:$L$113, 3, FALSE), "") | D28: =IFERROR(VLOOKUP($A28, '利用者情報'!$A$12:$L$113, 4, FALSE), "") | E28: =IFERROR(VLOOKUP($A28, '利用者情報'!$A$12:$L$113, 5, FALSE), "") | F28: =IFERROR(VLOOKUP($A28, '利用者情報'!$A$12:$L$113, 8, FALSE), "") | G28: =IFERROR(VLOOKUP($A28, '利用者情報'!$A$12:$L$113, 9, FALSE), "") | H28: =IFERROR(VLOOKUP($A28, '利用者情報'!$A$12:$L$113, 10, FALSE), "") | I28: =IFERROR(VLOOKUP($A28, '利用者情報'!$A$12:$L$113, 11, FALSE), "") | J28: =IFERROR(VLOOKUP($A28, '利用者情報'!$A$12:$L$113, 12, FALSE), "") | M28: =IF(L28=0,0,IF(B28="",0,IF(AND(F28="○",OR($D$5="小規模多機能型居宅介護",$D$5="複合型サービス(看護小規模多機能型居宅介護）",$D$5="定期巡回・随時対応型訪問介護看護",$D$5="地域密着型老人福祉施設入所者生活介護",$D$5="介護福祉施設サービス")),0,IF(G28="○",0,IF(J28="○",0,IF(H28="○",0.5,0.25)))))) -> 0 | N28: =ROUNDDOWN(L28*M28,0) -> 0 | R28: =Q28+O28+P28 -> 0 | S28: =IF(R28=0,0,IF(B28="",0,IF(J28="○",0,IF(H28="○",0.5,0.25)))) -> 0 | T28: =IF(R28=0,0,IF(B28="",0,IF(J28="○",1,IF(I28="○",1,IF(H28="○",0.5,0.25))))) -> 0 | U28: =IF(G28="○",ROUNDDOWN(P28*T28,0),ROUNDDOWN(O28*S28,0)+ROUNDDOWN(SUM(P28:Q28)*T28,0)) -> 0 | V28: =N28+U28 -> 0 | X28: =IF(J28="○",ROW(),"")
B29: =IFERROR(VLOOKUP($A29, '利用者情報'!$A$12:$L$113, 2, FALSE), "") | C29: =IFERROR(VLOOKUP($A29, '利用者情報'!$A$12:$L$113, 3, FALSE), "") | D29: =IFERROR(VLOOKUP($A29, '利用者情報'!$A$12:$L$113, 4, FALSE), "") | E29: =IFERROR(VLOOKUP($A29, '利用者情報'!$A$12:$L$113, 5, FALSE), "") | F29: =IFERROR(VLOOKUP($A29, '利用者情報'!$A$12:$L$113, 8, FALSE), "") | G29: =IFERROR(VLOOKUP($A29, '利用者情報'!$A$12:$L$113, 9, FALSE), "") | H29: =IFERROR(VLOOKUP($A29, '利用者情報'!$A$12:$L$113, 10, FALSE), "") | I29: =IFERROR(VLOOKUP($A29, '利用者情報'!$A$12:$L$113, 11, FALSE), "") | J29: =IFERROR(VLOOKUP($A29, '利用者情報'!$A$12:$L$113, 12, FALSE), "") | M29: =IF(L29=0,0,IF(B29="",0,IF(AND(F29="○",OR($D$5="小規模多機能型居宅介護",$D$5="複合型サービス(看護小規模多機能型居宅介護）",$D$5="定期巡回・随時対応型訪問介護看護",$D$5="地域密着型老人福祉施設入所者生活介護",$D$5="介護福祉施設サービス")),0,IF(G29="○",0,IF(J29="○",0,IF(H29="○",0.5,0.25)))))) -> 0 | N29: =ROUNDDOWN(L29*M29,0) -> 0 | R29: =Q29+O29+P29 -> 0 | S29: =IF(R29=0,0,IF(B29="",0,IF(J29="○",0,IF(H29="○",0.5,0.25)))) -> 0 | T29: =IF(R29=0,0,IF(B29="",0,IF(J29="○",1,IF(I29="○",1,IF(H29="○",0.5,0.25))))) -> 0 | U29: =IF(G29="○",ROUNDDOWN(P29*T29,0),ROUNDDOWN(O29*S29,0)+ROUNDDOWN(SUM(P29:Q29)*T29,0)) -> 0 | V29: =N29+U29 -> 0 | X29: =IF(J29="○",ROW(),"")
B30: =IFERROR(VLOOKUP($A30, '利用者情報'!$A$12:$L$113, 2, FALSE), "") | C30: =IFERROR(VLOOKUP($A30, '利用者情報'!$A$12:$L$113, 3, FALSE), "") | D30: =IFERROR(VLOOKUP($A30, '利用者情報'!$A$12:$L$113, 4, FALSE), "") | E30: =IFERROR(VLOOKUP($A30, '利用者情報'!$A$12:$L$113, 5, FALSE), "") | F30: =IFERROR(VLOOKUP($A30, '利用者情報'!$A$12:$L$113, 8, FALSE), "") | G30: =IFERROR(VLOOKUP($A30, '利用者情報'!$A$12:$L$113, 9, FALSE), "") | H30: =IFERROR(VLOOKUP($A30, '利用者情報'!$A$12:$L$113, 10, FALSE), "") | I30: =IFERROR(VLOOKUP($A30, '利用者情報'!$A$12:$L$113, 11, FALSE), "") | J30: =IFERROR(VLOOKUP($A30, '利用者情報'!$A$12:$L$113, 12, FALSE), "") | M30: =IF(L30=0,0,IF(B30="",0,IF(AND(F30="○",OR($D$5="小規模多機能型居宅介護",$D$5="複合型サービス(看護小規模多機能型居宅介護）",$D$5="定期巡回・随時対応型訪問介護看護",$D$5="地域密着型老人福祉施設入所者生活介護",$D$5="介護福祉施設サービス")),0,IF(G30="○",0,IF(J30="○",0,IF(H30="○",0.5,0.25)))))) -> 0 | N30: =ROUNDDOWN(L30*M30,0) -> 0 | R30: =Q30+O30+P30 -> 0 | S30: =IF(R30=0,0,IF(B30="",0,IF(J30="○",0,IF(H30="○",0.5,0.25)))) -> 0 | T30: =IF(R30=0,0,IF(B30="",0,IF(J30="○",1,IF(I30="○",1,IF(H30="○",0.5,0.25))))) -> 0 | U30: =IF(G30="○",ROUNDDOWN(P30*T30,0),ROUNDDOWN(O30*S30,0)+ROUNDDOWN(SUM(P30:Q30)*T30,0)) -> 0 | V30: =N30+U30 -> 0 | X30: =IF(J30="○",ROW(),"")
B31: =IFERROR(VLOOKUP($A31, '利用者情報'!$A$12:$L$113, 2, FALSE), "") | C31: =IFERROR(VLOOKUP($A31, '利用者情報'!$A$12:$L$113, 3, FALSE), "") | D31: =IFERROR(VLOOKUP($A31, '利用者情報'!$A$12:$L$113, 4, FALSE), "") | E31: =IFERROR(VLOOKUP($A31, '利用者情報'!$A$12:$L$113, 5, FALSE), "") | F31: =IFERROR(VLOOKUP($A31, '利用者情報'!$A$12:$L$113, 8, FALSE), "") | G31: =IFERROR(VLOOKUP($A31, '利用者情報'!$A$12:$L$113, 9, FALSE), "") | H31: =IFERROR(VLOOKUP($A31, '利用者情報'!$A$12:$L$113, 10, FALSE), "") | I31: =IFERROR(VLOOKUP($A31, '利用者情報'!$A$12:$L$113, 11, FALSE), "") | J31: =IFERROR(VLOOKUP($A31, '利用者情報'!$A$12:$L$113, 12, FALSE), "") | M31: =IF(L31=0,0,IF(B31="",0,IF(AND(F31="○",OR($D$5="小規模多機能型居宅介護",$D$5="複合型サービス(看護小規模多機能型居宅介護）",$D$5="定期巡回・随時対応型訪問介護看護",$D$5="地域密着型老人福祉施設入所者生活介護",$D$5="介護福祉施設サービス")),0,IF(G31="○",0,IF(J31="○",0,IF(H31="○",0.5,0.25)))))) -> 0 | N31: =ROUNDDOWN(L31*M31,0) -> 0 | R31: =Q31+O31+P31 -> 0 | S31: =IF(R31=0,0,IF(B31="",0,IF(J31="○",0,IF(H31="○",0.5,0.25)))) -> 0 | T31: =IF(R31=0,0,IF(B31="",0,IF(J31="○",1,IF(I31="○",1,IF(H31="○",0.5,0.25))))) -> 0 | U31: =IF(G31="○",ROUNDDOWN(P31*T31,0),ROUNDDOWN(O31*S31,0)+ROUNDDOWN(SUM(P31:Q31)*T31,0)) -> 0 | V31: =N31+U31 -> 0 | X31: =IF(J31="○",ROW(),"")
B32: =IFERROR(VLOOKUP($A32, '利用者情報'!$A$12:$L$113, 2, FALSE), "") | C32: =IFERROR(VLOOKUP($A32, '利用者情報'!$A$12:$L$113, 3, FALSE), "") | D32: =IFERROR(VLOOKUP($A32, '利用者情報'!$A$12:$L$113, 4, FALSE), "") | E32: =IFERROR(VLOOKUP($A32, '利用者情報'!$A$12:$L$113, 5, FALSE), "") | F32: =IFERROR(VLOOKUP($A32, '利用者情報'!$A$12:$L$113, 8, FALSE), "") | G32: =IFERROR(VLOOKUP($A32, '利用者情報'!$A$12:$L$113, 9, FALSE), "") | H32: =IFERROR(VLOOKUP($A32, '利用者情報'!$A$12:$L$113, 10, FALSE), "") | I32: =IFERROR(VLOOKUP($A32, '利用者情報'!$A$12:$L$113, 11, FALSE), "") | J32: =IFERROR(VLOOKUP($A32, '利用者情報'!$A$12:$L$113, 12, FALSE), "") | M32: =IF(L32=0,0,IF(B32="",0,IF(AND(F32="○",OR($D$5="小規模多機能型居宅介護",$D$5="複合型サービス(看護小規模多機能型居宅介護）",$D$5="定期巡回・随時対応型訪問介護看護",$D$5="地域密着型老人福祉施設入所者生活介護",$D$5="介護福祉施設サービス")),0,IF(G32="○",0,IF(J32="○",0,IF(H32="○",0.5,0.25)))))) -> 0 | N32: =ROUNDDOWN(L32*M32,0) -> 0 | R32: =Q32+O32+P32 -> 0 | S32: =IF(R32=0,0,IF(B32="",0,IF(J32="○",0,IF(H32="○",0.5,0.25)))) -> 0 | T32: =IF(R32=0,0,IF(B32="",0,IF(J32="○",1,IF(I32="○",1,IF(H32="○",0.5,0.25))))) -> 0 | U32: =IF(G32="○",ROUNDDOWN(P32*T32,0),ROUNDDOWN(O32*S32,0)+ROUNDDOWN(SUM(P32:Q32)*T32,0)) -> 0 | V32: =N32+U32 -> 0 | X32: =IF(J32="○",ROW(),"")
B33: =IFERROR(VLOOKUP($A33, '利用者情報'!$A$12:$L$113, 2, FALSE), "") | C33: =IFERROR(VLOOKUP($A33, '利用者情報'!$A$12:$L$113, 3, FALSE), "") | D33: =IFERROR(VLOOKUP($A33, '利用者情報'!$A$12:$L$113, 4, FALSE), "") | E33: =IFERROR(VLOOKUP($A33, '利用者情報'!$A$12:$L$113, 5, FALSE), "") | F33: =IFERROR(VLOOKUP($A33, '利用者情報'!$A$12:$L$113, 8, FALSE), "") | G33: =IFERROR(VLOOKUP($A33, '利用者情報'!$A$12:$L$113, 9, FALSE), "") | H33: =IFERROR(VLOOKUP($A33, '利用者情報'!$A$12:$L$113, 10, FALSE), "") | I33: =IFERROR(VLOOKUP($A33, '利用者情報'!$A$12:$L$113, 11, FALSE), "") | J33: =IFERROR(VLOOKUP($A33, '利用者情報'!$A$12:$L$113, 12, FALSE), "") | M33: =IF(L33=0,0,IF(B33="",0,IF(AND(F33="○",OR($D$5="小規模多機能型居宅介護",$D$5="複合型サービス(看護小規模多機能型居宅介護）",$D$5="定期巡回・随時対応型訪問介護看護",$D$5="地域密着型老人福祉施設入所者生活介護",$D$5="介護福祉施設サービス")),0,IF(G33="○",0,IF(J33="○",0,IF(H33="○",0.5,0.25)))))) -> 0 | N33: =ROUNDDOWN(L33*M33,0) -> 0 | R33: =Q33+O33+P33 -> 0 | S33: =IF(R33=0,0,IF(B33="",0,IF(J33="○",0,IF(H33="○",0.5,0.25)))) -> 0 | T33: =IF(R33=0,0,IF(B33="",0,IF(J33="○",1,IF(I33="○",1,IF(H33="○",0.5,0.25))))) -> 0 | U33: =IF(G33="○",ROUNDDOWN(P33*T33,0),ROUNDDOWN(O33*S33,0)+ROUNDDOWN(SUM(P33:Q33)*T33,0)) -> 0 | V33: =N33+U33 -> 0 | X33: =IF(J33="○",ROW(),"")
B34: =IFERROR(VLOOKUP($A34, '利用者情報'!$A$12:$L$113, 2, FALSE), "") | C34: =IFERROR(VLOOKUP($A34, '利用者情報'!$A$12:$L$113, 3, FALSE), "") | D34: =IFERROR(VLOOKUP($A34, '利用者情報'!$A$12:$L$113, 4, FALSE), "") | E34: =IFERROR(VLOOKUP($A34, '利用者情報'!$A$12:$L$113, 5, FALSE), "") | F34: =IFERROR(VLOOKUP($A34, '利用者情報'!$A$12:$L$113, 8, FALSE), "") | G34: =IFERROR(VLOOKUP($A34, '利用者情報'!$A$12:$L$113, 9, FALSE), "") | H34: =IFERROR(VLOOKUP($A34, '利用者情報'!$A$12:$L$113, 10, FALSE), "") | I34: =IFERROR(VLOOKUP($A34, '利用者情報'!$A$12:$L$113, 11, FALSE), "") | J34: =IFERROR(VLOOKUP($A34, '利用者情報'!$A$12:$L$113, 12, FALSE), "") | M34: =IF(L34=0,0,IF(B34="",0,IF(AND(F34="○",OR($D$5="小規模多機能型居宅介護",$D$5="複合型サービス(看護小規模多機能型居宅介護）",$D$5="定期巡回・随時対応型訪問介護看護",$D$5="地域密着型老人福祉施設入所者生活介護",$D$5="介護福祉施設サービス")),0,IF(G34="○",0,IF(J34="○",0,IF(H34="○",0.5,0.25)))))) -> 0 | N34: =ROUNDDOWN(L34*M34,0) -> 0 | R34: =Q34+O34+P34 -> 0 | S34: =IF(R34=0,0,IF(B34="",0,IF(J34="○",0,IF(H34="○",0.5,0.25)))) -> 0 | T34: =IF(R34=0,0,IF(B34="",0,IF(J34="○",1,IF(I34="○",1,IF(H34="○",0.5,0.25))))) -> 0 | U34: =IF(G34="○",ROUNDDOWN(P34*T34,0),ROUNDDOWN(O34*S34,0)+ROUNDDOWN(SUM(P34:Q34)*T34,0)) -> 0 | V34: =N34+U34 -> 0 | X34: =IF(J34="○",ROW(),"")
B35: =IFERROR(VLOOKUP($A35, '利用者情報'!$A$12:$L$113, 2, FALSE), "") | C35: =IFERROR(VLOOKUP($A35, '利用者情報'!$A$12:$L$113, 3, FALSE), "") | D35: =IFERROR(VLOOKUP($A35, '利用者情報'!$A$12:$L$113, 4, FALSE), "") | E35: =IFERROR(VLOOKUP($A35, '利用者情報'!$A$12:$L$113, 5, FALSE), "") | F35: =IFERROR(VLOOKUP($A35, '利用者情報'!$A$12:$L$113, 8, FALSE), "") | G35: =IFERROR(VLOOKUP($A35, '利用者情報'!$A$12:$L$113, 9, FALSE), "") | H35: =IFERROR(VLOOKUP($A35, '利用者情報'!$A$12:$L$113, 10, FALSE), "") | I35: =IFERROR(VLOOKUP($A35, '利用者情報'!$A$12:$L$113, 11, FALSE), "") | J35: =IFERROR(VLOOKUP($A35, '利用者情報'!$A$12:$L$113, 12, FALSE), "") | M35: =IF(L35=0,0,IF(B35="",0,IF(AND(F35="○",OR($D$5="小規模多機能型居宅介護",$D$5="複合型サービス(看護小規模多機能型居宅介護）",$D$5="定期巡回・随時対応型訪問介護看護",$D$5="地域密着型老人福祉施設入所者生活介護",$D$5="介護福祉施設サービス")),0,IF(G35="○",0,IF(J35="○",0,IF(H35="○",0.5,0.25)))))) -> 0 | N35: =ROUNDDOWN(L35*M35,0) -> 0 | R35: =Q35+O35+P35 -> 0 | S35: =IF(R35=0,0,IF(B35="",0,IF(J35="○",0,IF(H35="○",0.5,0.25)))) -> 0 | T35: =IF(R35=0,0,IF(B35="",0,IF(J35="○",1,IF(I35="○",1,IF(H35="○",0.5,0.25))))) -> 0 | U35: =IF(G35="○",ROUNDDOWN(P35*T35,0),ROUNDDOWN(O35*S35,0)+ROUNDDOWN(SUM(P35:Q35)*T35,0)) -> 0 | V35: =N35+U35 -> 0 | X35: =IF(J35="○",ROW(),"")
B36: =IFERROR(VLOOKUP($A36, '利用者情報'!$A$12:$L$113, 2, FALSE), "") | C36: =IFERROR(VLOOKUP($A36, '利用者情報'!$A$12:$L$113, 3, FALSE), "") | D36: =IFERROR(VLOOKUP($A36, '利用者情報'!$A$12:$L$113, 4, FALSE), "") | E36: =IFERROR(VLOOKUP($A36, '利用者情報'!$A$12:$L$113, 5, FALSE), "") | F36: =IFERROR(VLOOKUP($A36, '利用者情報'!$A$12:$L$113, 8, FALSE), "") | G36: =IFERROR(VLOOKUP($A36, '利用者情報'!$A$12:$L$113, 9, FALSE), "") | H36: =IFERROR(VLOOKUP($A36, '利用者情報'!$A$12:$L$113, 10, FALSE), "") | I36: =IFERROR(VLOOKUP($A36, '利用者情報'!$A$12:$L$113, 11, FALSE), "") | J36: =IFERROR(VLOOKUP($A36, '利用者情報'!$A$12:$L$113, 12, FALSE), "") | M36: =IF(L36=0,0,IF(B36="",0,IF(AND(F36="○",OR($D$5="小規模多機能型居宅介護",$D$5="複合型サービス(看護小規模多機能型居宅介護）",$D$5="定期巡回・随時対応型訪問介護看護",$D$5="地域密着型老人福祉施設入所者生活介護",$D$5="介護福祉施設サービス")),0,IF(G36="○",0,IF(J36="○",0,IF(H36="○",0.5,0.25)))))) -> 0 | N36: =ROUNDDOWN(L36*M36,0) -> 0 | R36: =Q36+O36+P36 -> 0 | S36: =IF(R36=0,0,IF(B36="",0,IF(J36="○",0,IF(H36="○",0.5,0.25)))) -> 0 | T36: =IF(R36=0,0,IF(B36="",0,IF(J36="○",1,IF(I36="○",1,IF(H36="○",0.5,0.25))))) -> 0 | U36: =IF(G36="○",ROUNDDOWN(P36*T36,0),ROUNDDOWN(O36*S36,0)+ROUNDDOWN(SUM(P36:Q36)*T36,0)) -> 0 | V36: =N36+U36 -> 0 | X36: =IF(J36="○",ROW(),"")
B37: =IFERROR(VLOOKUP($A37, '利用者情報'!$A$12:$L$113, 2, FALSE), "") | C37: =IFERROR(VLOOKUP($A37, '利用者情報'!$A$12:$L$113, 3, FALSE), "") | D37: =IFERROR(VLOOKUP($A37, '利用者情報'!$A$12:$L$113, 4, FALSE), "") | E37: =IFERROR(VLOOKUP($A37, '利用者情報'!$A$12:$L$113, 5, FALSE), "") | F37: =IFERROR(VLOOKUP($A37, '利用者情報'!$A$12:$L$113, 8, FALSE), "") | G37: =IFERROR(VLOOKUP($A37, '利用者情報'!$A$12:$L$113, 9, FALSE), "") | H37: =IFERROR(VLOOKUP($A37, '利用者情報'!$A$12:$L$113, 10, FALSE), "") | I37: =IFERROR(VLOOKUP($A37, '利用者情報'!$A$12:$L$113, 11, FALSE), "") | J37: =IFERROR(VLOOKUP($A37, '利用者情報'!$A$12:$L$113, 12, FALSE), "") | M37: =IF(L37=0,0,IF(B37="",0,IF(AND(F37="○",OR($D$5="小規模多機能型居宅介護",$D$5="複合型サービス(看護小規模多機能型居宅介護）",$D$5="定期巡回・随時対応型訪問介護看護",$D$5="地域密着型老人福祉施設入所者生活介護",$D$5="介護福祉施設サービス")),0,IF(G37="○",0,IF(J37="○",0,IF(H37="○",0.5,0.25)))))) -> 0 | N37: =ROUNDDOWN(L37*M37,0) -> 0 | R37: =Q37+O37+P37 -> 0 | S37: =IF(R37=0,0,IF(B37="",0,IF(J37="○",0,IF(H37="○",0.5,0.25)))) -> 0 | T37: =IF(R37=0,0,IF(B37="",0,IF(J37="○",1,IF(I37="○",1,IF(H37="○",0.5,0.25))))) -> 0 | U37: =IF(G37="○",ROUNDDOWN(P37*T37,0),ROUNDDOWN(O37*S37,0)+ROUNDDOWN(SUM(P37:Q37)*T37,0)) -> 0 | V37: =N37+U37 -> 0 | X37: =IF(J37="○",ROW(),"")
B38: =IFERROR(VLOOKUP($A38, '利用者情報'!$A$12:$L$113, 2, FALSE), "") | C38: =IFERROR(VLOOKUP($A38, '利用者情報'!$A$12:$L$113, 3, FALSE), "") | D38: =IFERROR(VLOOKUP($A38, '利用者情報'!$A$12:$L$113, 4, FALSE), "") | E38: =IFERROR(VLOOKUP($A38, '利用者情報'!$A$12:$L$113, 5, FALSE), "") | F38: =IFERROR(VLOOKUP($A38, '利用者情報'!$A$12:$L$113, 8, FALSE), "") | G38: =IFERROR(VLOOKUP($A38, '利用者情報'!$A$12:$L$113, 9, FALSE), "") | H38: =IFERROR(VLOOKUP($A38, '利用者情報'!$A$12:$L$113, 10, FALSE), "") | I38: =IFERROR(VLOOKUP($A38, '利用者情報'!$A$12:$L$113, 11, FALSE), "") | J38: =IFERROR(VLOOKUP($A38, '利用者情報'!$A$12:$L$113, 12, FALSE), "") | M38: =IF(L38=0,0,IF(B38="",0,IF(AND(F38="○",OR($D$5="小規模多機能型居宅介護",$D$5="複合型サービス(看護小規模多機能型居宅介護）",$D$5="定期巡回・随時対応型訪問介護看護",$D$5="地域密着型老人福祉施設入所者生活介護",$D$5="介護福祉施設サービス")),0,IF(G38="○",0,IF(J38="○",0,IF(H38="○",0.5,0.25)))))) -> 0 | N38: =ROUNDDOWN(L38*M38,0) -> 0 | R38: =Q38+O38+P38 -> 0 | S38: =IF(R38=0,0,IF(B38="",0,IF(J38="○",0,IF(H38="○",0.5,0.25)))) -> 0 | T38: =IF(R38=0,0,IF(B38="",0,IF(J38="○",1,IF(I38="○",1,IF(H38="○",0.5,0.25))))) -> 0 | U38: =IF(G38="○",ROUNDDOWN(P38*T38,0),ROUNDDOWN(O38*S38,0)+ROUNDDOWN(SUM(P38:Q38)*T38,0)) -> 0 | V38: =N38+U38 -> 0 | X38: =IF(J38="○",ROW(),"")
... B77: =IFERROR(VLOOKUP($A77, '利用者情報'!$A$12:$L$113, 2, FALSE), "") | C77: =IFERROR(VLOOKUP($A77, '利用者情報'!$A$12:$L$113, 3, FALSE), "") | D77: =IFERROR(VLOOKUP($A77, '利用者情報'!$A$12:$L$113, 4, FALSE), "") | E77: =IFERROR(VLOOKUP($A77, '利用者情報'!$A$12:$L$113, 5, FALSE), "") | F77: =IFERROR(VLOOKUP($A77, '利用者情報'!$A$12:$L$113, 8, FALSE), "") | G77: =IFERROR(VLOOKUP($A77, '利用者情報'!$A$12:$L$113, 9, FALSE), "") | H77: =IFERROR(VLOOKUP($A77, '利用者情報'!$A$12:$L$113, 10, FALSE), "") | I77: =IFERROR(VLOOKUP($A77, '利用者情報'!$A$12:$L$113, 11, FALSE), "") | J77: =IFERROR(VLOOKUP($A77, '利用者情報'!$A$12:$L$113, 12, FALSE), "") | M77: =IF(L77=0,0,IF(B77="",0,IF(AND(F77="○",OR($D$5="小規模多機能型居宅介護",$D$5="複合型サービス(看護小規模多機能型居宅介護）",$D$5="定期巡回・随時対応型訪問介護看護",$D$5="地域密着型老人福祉施設入所者生活介護",$D$5="介護福祉施設サービス")),0,IF(G77="○",0,IF(J77="○",0,IF(H77="○",0.5,0.25)))))) -> 0 | N77: =ROUNDDOWN(L77*M77,0) -> 0 | R77: =Q77+O77+P77 -> 0 | S77: =IF(R77=0,0,IF(B77="",0,IF(J77="○",0,IF(H77="○",0.5,0.25)))) -> 0 | T77: =IF(R77=0,0,IF(B77="",0,IF(J77="○",1,IF(I77="○",1,IF(H77="○",0.5,0.25))))) -> 0 | U77: =IF(G77="○",ROUNDDOWN(P77*T77,0),ROUNDDOWN(O77*S77,0)+ROUNDDOWN(SUM(P77:Q77)*T77,0)) -> 0 | V77: =N77+U77 -> 0 | X77: =IF(J77="○",ROW(),"")
B78: =IFERROR(VLOOKUP($A78, '利用者情報'!$A$12:$L$113, 2, FALSE), "") | C78: =IFERROR(VLOOKUP($A78, '利用者情報'!$A$12:$L$113, 3, FALSE), "") | D78: =IFERROR(VLOOKUP($A78, '利用者情報'!$A$12:$L$113, 4, FALSE), "") | E78: =IFERROR(VLOOKUP($A78, '利用者情報'!$A$12:$L$113, 5, FALSE), "") | F78: =IFERROR(VLOOKUP($A78, '利用者情報'!$A$12:$L$113, 8, FALSE), "") | G78: =IFERROR(VLOOKUP($A78, '利用者情報'!$A$12:$L$113, 9, FALSE), "") | H78: =IFERROR(VLOOKUP($A78, '利用者情報'!$A$12:$L$113, 10, FALSE), "") | I78: =IFERROR(VLOOKUP($A78, '利用者情報'!$A$12:$L$113, 11, FALSE), "") | J78: =IFERROR(VLOOKUP($A78, '利用者情報'!$A$12:$L$113, 12, FALSE), "") | M78: =IF(L78=0,0,IF(B78="",0,IF(AND(F78="○",OR($D$5="小規模多機能型居宅介護",$D$5="複合型サービス(看護小規模多機能型居宅介護）",$D$5="定期巡回・随時対応型訪問介護看護",$D$5="地域密着型老人福祉施設入所者生活介護",$D$5="介護福祉施設サービス")),0,IF(G78="○",0,IF(J78="○",0,IF(H78="○",0.5,0.25)))))) -> 0 | N78: =ROUNDDOWN(L78*M78,0) -> 0 | R78: =Q78+O78+P78 -> 0 | S78: =IF(R78=0,0,IF(B78="",0,IF(J78="○",0,IF(H78="○",0.5,0.25)))) -> 0 | T78: =IF(R78=0,0,IF(B78="",0,IF(J78="○",1,IF(I78="○",1,IF(H78="○",0.5,0.25))))) -> 0 | U78: =IF(G78="○",ROUNDDOWN(P78*T78,0),ROUNDDOWN(O78*S78,0)+ROUNDDOWN(SUM(P78:Q78)*T78,0)) -> 0 | V78: =N78+U78 -> 0
B79: =IFERROR(VLOOKUP($A79, '利用者情報'!$A$12:$L$113, 2, FALSE), "") | C79: =IFERROR(VLOOKUP($A79, '利用者情報'!$A$12:$L$113, 3, FALSE), "") | D79: =IFERROR(VLOOKUP($A79, '利用者情報'!$A$12:$L$113, 4, FALSE), "") | E79: =IFERROR(VLOOKUP($A79, '利用者情報'!$A$12:$L$113, 5, FALSE), "") | F79: =IFERROR(VLOOKUP($A79, '利用者情報'!$A$12:$L$113, 8, FALSE), "") | G79: =IFERROR(VLOOKUP($A79, '利用者情報'!$A$12:$L$113, 9, FALSE), "") | H79: =IFERROR(VLOOKUP($A79, '利用者情報'!$A$12:$L$113, 10, FALSE), "") | I79: =IFERROR(VLOOKUP($A79, '利用者情報'!$A$12:$L$113, 11, FALSE), "") | J79: =IFERROR(VLOOKUP($A79, '利用者情報'!$A$12:$L$113, 12, FALSE), "") | M79: =IF(L79=0,0,IF(B79="",0,IF(AND(F79="○",OR($D$5="小規模多機能型居宅介護",$D$5="複合型サービス(看護小規模多機能型居宅介護）",$D$5="定期巡回・随時対応型訪問介護看護",$D$5="地域密着型老人福祉施設入所者生活介護",$D$5="介護福祉施設サービス")),0,IF(G79="○",0,IF(J79="○",0,IF(H79="○",0.5,0.25)))))) -> 0 | N79: =ROUNDDOWN(L79*M79,0) -> 0 | R79: =Q79+O79+P79 -> 0 | S79: =IF(R79=0,0,IF(B79="",0,IF(J79="○",0,IF(H79="○",0.5,0.25)))) -> 0 | T79: =IF(R79=0,0,IF(B79="",0,IF(J79="○",1,IF(I79="○",1,IF(H79="○",0.5,0.25))))) -> 0 | U79: =IF(G79="○",ROUNDDOWN(P79*T79,0),ROUNDDOWN(O79*S79,0)+ROUNDDOWN(SUM(P79:Q79)*T79,0)) -> 0 | V79: =N79+U79 -> 0
B80: =IFERROR(VLOOKUP($A80, '利用者情報'!$A$12:$L$113, 2, FALSE), "") | C80: =IFERROR(VLOOKUP($A80, '利用者情報'!$A$12:$L$113, 3, FALSE), "") | D80: =IFERROR(VLOOKUP($A80, '利用者情報'!$A$12:$L$113, 4, FALSE), "") | E80: =IFERROR(VLOOKUP($A80, '利用者情報'!$A$12:$L$113, 5, FALSE), "") | F80: =IFERROR(VLOOKUP($A80, '利用者情報'!$A$12:$L$113, 8, FALSE), "") | G80: =IFERROR(VLOOKUP($A80, '利用者情報'!$A$12:$L$113, 9, FALSE), "") | H80: =IFERROR(VLOOKUP($A80, '利用者情報'!$A$12:$L$113, 10, FALSE), "") | I80: =IFERROR(VLOOKUP($A80, '利用者情報'!$A$12:$L$113, 11, FALSE), "") | J80: =IFERROR(VLOOKUP($A80, '利用者情報'!$A$12:$L$113, 12, FALSE), "") | M80: =IF(L80=0,0,IF(B80="",0,IF(AND(F80="○",OR($D$5="小規模多機能型居宅介護",$D$5="複合型サービス(看護小規模多機能型居宅介護）",$D$5="定期巡回・随時対応型訪問介護看護",$D$5="地域密着型老人福祉施設入所者生活介護",$D$5="介護福祉施設サービス")),0,IF(G80="○",0,IF(J80="○",0,IF(H80="○",0.5,0.25)))))) -> 0 | N80: =ROUNDDOWN(L80*M80,0) -> 0 | R80: =Q80+O80+P80 -> 0 | S80: =IF(R80=0,0,IF(B80="",0,IF(J80="○",0,IF(H80="○",0.5,0.25)))) -> 0 | T80: =IF(R80=0,0,IF(B80="",0,IF(J80="○",1,IF(I80="○",1,IF(H80="○",0.5,0.25))))) -> 0 | U80: =IF(G80="○",ROUNDDOWN(P80*T80,0),ROUNDDOWN(O80*S80,0)+ROUNDDOWN(SUM(P80:Q80)*T80,0)) -> 0 | V80: =N80+U80 -> 0
B81: =IFERROR(VLOOKUP($A81, '利用者情報'!$A$12:$L$113, 2, FALSE), "") | C81: =IFERROR(VLOOKUP($A81, '利用者情報'!$A$12:$L$113, 3, FALSE), "") | D81: =IFERROR(VLOOKUP($A81, '利用者情報'!$A$12:$L$113, 4, FALSE), "") | E81: =IFERROR(VLOOKUP($A81, '利用者情報'!$A$12:$L$113, 5, FALSE), "") | F81: =IFERROR(VLOOKUP($A81, '利用者情報'!$A$12:$L$113, 8, FALSE), "") | G81: =IFERROR(VLOOKUP($A81, '利用者情報'!$A$12:$L$113, 9, FALSE), "") | H81: =IFERROR(VLOOKUP($A81, '利用者情報'!$A$12:$L$113, 10, FALSE), "") | I81: =IFERROR(VLOOKUP($A81, '利用者情報'!$A$12:$L$113, 11, FALSE), "") | J81: =IFERROR(VLOOKUP($A81, '利用者情報'!$A$12:$L$113, 12, FALSE), "") | M81: =IF(L81=0,0,IF(B81="",0,IF(AND(F81="○",OR($D$5="小規模多機能型居宅介護",$D$5="複合型サービス(看護小規模多機能型居宅介護）",$D$5="定期巡回・随時対応型訪問介護看護",$D$5="地域密着型老人福祉施設入所者生活介護",$D$5="介護福祉施設サービス")),0,IF(G81="○",0,IF(J81="○",0,IF(H81="○",0.5,0.25)))))) -> 0 | N81: =ROUNDDOWN(L81*M81,0) -> 0 | R81: =Q81+O81+P81 -> 0 | S81: =IF(R81=0,0,IF(B81="",0,IF(J81="○",0,IF(H81="○",0.5,0.25)))) -> 0 | T81: =IF(R81=0,0,IF(B81="",0,IF(J81="○",1,IF(I81="○",1,IF(H81="○",0.5,0.25))))) -> 0 | U81: =IF(G81="○",ROUNDDOWN(P81*T81,0),ROUNDDOWN(O81*S81,0)+ROUNDDOWN(SUM(P81:Q81)*T81,0)) -> 0 | V81: =N81+U81 -> 0
B82: =IFERROR(VLOOKUP($A82, '利用者情報'!$A$12:$L$113, 2, FALSE), "") | C82: =IFERROR(VLOOKUP($A82, '利用者情報'!$A$12:$L$113, 3, FALSE), "") | D82: =IFERROR(VLOOKUP($A82, '利用者情報'!$A$12:$L$113, 4, FALSE), "") | E82: =IFERROR(VLOOKUP($A82, '利用者情報'!$A$12:$L$113, 5, FALSE), "") | F82: =IFERROR(VLOOKUP($A82, '利用者情報'!$A$12:$L$113, 8, FALSE), "") | G82: =IFERROR(VLOOKUP($A82, '利用者情報'!$A$12:$L$113, 9, FALSE), "") | H82: =IFERROR(VLOOKUP($A82, '利用者情報'!$A$12:$L$113, 10, FALSE), "") | I82: =IFERROR(VLOOKUP($A82, '利用者情報'!$A$12:$L$113, 11, FALSE), "") | J82: =IFERROR(VLOOKUP($A82, '利用者情報'!$A$12:$L$113, 12, FALSE), "") | M82: =IF(L82=0,0,IF(B82="",0,IF(AND(F82="○",OR($D$5="小規模多機能型居宅介護",$D$5="複合型サービス(看護小規模多機能型居宅介護）",$D$5="定期巡回・随時対応型訪問介護看護",$D$5="地域密着型老人福祉施設入所者生活介護",$D$5="介護福祉施設サービス")),0,IF(G82="○",0,IF(J82="○",0,IF(H82="○",0.5,0.25)))))) -> 0 | N82: =ROUNDDOWN(L82*M82,0) -> 0 | R82: =Q82+O82+P82 -> 0 | S82: =IF(R82=0,0,IF(B82="",0,IF(J82="○",0,IF(H82="○",0.5,0.25)))) -> 0 | T82: =IF(R82=0,0,IF(B82="",0,IF(J82="○",1,IF(I82="○",1,IF(H82="○",0.5,0.25))))) -> 0 | U82: =IF(G82="○",ROUNDDOWN(P82*T82,0),ROUNDDOWN(O82*S82,0)+ROUNDDOWN(SUM(P82:Q82)*T82,0)) -> 0 | V82: =N82+U82 -> 0
...

Sheet 別紙１-6月
A1: 別紙１-６月
A2: 社会福祉法人等減額公費助成額算定表(月別・保険者別）
C4: 法人名 | D4: =IF('初めに'!C4="","",'初めに'!C4)
C5: サービス種別 | D5: =IF('初めに'!B10="","",'初めに'!B10) -> #N/A
C6: 事業所名 | D6: =IF('初めに'!C5="","",'初めに'!C5)
C7: 事業所番号 | D7: =IF('初めに'!C6="","",'初めに'!C6)
C8: 事業所所在市町村名 | D8: =IF('初めに'!C7="","",'初めに'!C7)
C9: 保険者市町村名 | D9: 札幌市
A12: ■入力の際の留意点
A13: ※１ 本表により、事業所ごとに、月別・保険者別の減額した額を集計する。
A14: ※２ 複合型サービス、定期巡回・随時対応型訪問介護看護、小規模多機能型居宅介護、地域密着型介護老人福祉施設入所者生活介護及び介護福祉施設サービスを利用する利用者負担第２段階に該当する者は、利用者負担額（a）は減額対象費用に含まない。
A15: ※３ 特養旧措置入所者のうち利用者負担割合が５％以下の者は、ユニット型個室の居住費（減額割合は25％。ただし、老福年金受給者は50％）のみ減額の対象となる。
A16: ※４ 生活保護受給者は個室及びユニット型個室の居住費（減額割合は100％）のみ減額の対象となる。
A17: ※５ 減額した額（j）は、各種サービスの利用者負担額に減額割合25％（老齢福祉年金受給者は50％）を乗じて得た額（円未満切捨て）と、食費、居住費（滞在費）及び宿泊費のそれぞれに減額割合25％（老齢福祉年金受給者は50％）を乗じて得た額を合算して算出する。
A18: ※６ 短期入所生活介護、地域密着型介護老人福祉施設入所者生活介護、介護福祉施設サービス又は介護予防短期入所生活介護に係る食費及び居住費については、介護保険制度における特定入所者生活介護サービス費又は特定入所者介護予防サービス費が支給されている場合に限り対象となる。
A19: ※７ 減額した額の合計額は、「別紙２（様式）」シートの各月の減額総額に自動反映されます。
A21: 下記水色枠を記入してください。 | U21: （単位：円）
A22: 項番（利用者情報入力分） | B22: 被保険者番号 | C22: 減額対象者氏名 | D22: 適用年月日 | E22: 有効期限 | F22: 利用者負担第2段階の該当有無 | G22: 特養旧措置入所者で利用者負担割合が5％以下の該当有無 | H22: 老齢福祉年金受給の有無 | I22: 生活扶助基準等の改正に伴い保護廃止された者が引き続き対象となっている場合 | J22: 生活保護受給者で個室又はユニット型個室に入居している場合 | K22: 利用 | L22: 利用者負担額 （食費、居住費（滞在費）及び宿泊費を除く） | O22: 食費、居住費（滞在費）及び宿泊費 | V22: 減額した額 合 計 | W22: 備 考
L23: 減額対象費用 | M23: 減額割合 | N23: 減額した額 （円未満切捨） | O23: 減額対象費用 | S23: 減額割合 h | U23: 減額した額 （円未満切捨）
K24: 日数 | O24: 食費 | P24: 居住費（滞在費）及び宿泊費 | R24: 計
P25: ユニット型 | Q25: ユニット型以外
K26: (回数） | L26: a | M26: b | N26: c（=a×b） | O26: d | P26: e | Q26: f | R26: g(=d+e+f) | S26: 食費 | T26: 居住費 | U26: i(=d×h+(e+f)×h) | V26: j(=c+i)
B27: =IFERROR(VLOOKUP($A27, '利用者情報'!$A$12:$L$113, 2, FALSE), "") | C27: =IFERROR(VLOOKUP($A27, '利用者情報'!$A$12:$L$113, 3, FALSE), "") | D27: =IFERROR(VLOOKUP($A27, '利用者情報'!$A$12:$L$113, 4, FALSE), "") | E27: =IFERROR(VLOOKUP($A27, '利用者情報'!$A$12:$L$113, 5, FALSE), "") | F27: =IFERROR(VLOOKUP($A27, '利用者情報'!$A$12:$L$113, 8, FALSE), "") | G27: =IFERROR(VLOOKUP($A27, '利用者情報'!$A$12:$L$113, 9, FALSE), "") | H27: =IFERROR(VLOOKUP($A27, '利用者情報'!$A$12:$L$113, 10, FALSE), "") | I27: =IFERROR(VLOOKUP($A27, '利用者情報'!$A$12:$L$113, 11, FALSE), "") | J27: =IFERROR(VLOOKUP($A27, '利用者情報'!$A$12:$L$113, 12, FALSE), "") | M27: =IF(L27=0,0,IF(B27="",0,IF(AND(F27="○",OR($D$5="小規模多機能型居宅介護",$D$5="複合型サービス(看護小規模多機能型居宅介護）",$D$5="定期巡回・随時対応型訪問介護看護",$D$5="地域密着型老人福祉施設入所者生活介護",$D$5="介護福祉施設サービス")),0,IF(G27="○",0,IF(J27="○",0,IF(H27="○",0.5,0.25)))))) -> 0 | N27: =ROUNDDOWN(L27*M27,0) -> 0 | R27: =Q27+O27+P27 -> 0 | S27: =IF(R27=0,0,IF(B27="",0,IF(J27="○",0,IF(H27="○",0.5,0.25)))) -> 0 | T27: =IF(R27=0,0,IF(B27="",0,IF(J27="○",1,IF(I27="○",1,IF(H27="○",0.5,0.25))))) -> 0 | U27: =IF(G27="○",ROUNDDOWN(P27*T27,0),ROUNDDOWN(O27*S27,0)+ROUNDDOWN(SUM(P27:Q27)*T27,0)) -> 0 | V27: =N27+U27 -> 0 | X27: =IF(J27="○",ROW(),"")
B28: =IFERROR(VLOOKUP($A28, '利用者情報'!$A$12:$L$113, 2, FALSE), "") | C28: =IFERROR(VLOOKUP($A28, '利用者情報'!$A$12:$L$113, 3, FALSE), "") | D28: =IFERROR(VLOOKUP($A28, '利用者情報'!$A$12:$L$113, 4, FALSE), "") | E28: =IFERROR(VLOOKUP($A28, '利用者情報'!$A$12:$L$113, 5, FALSE), "") | F28: =IFERROR(VLOOKUP($A28, '利用者情報'!$A$12:$L$113, 8, FALSE), "") | G28: =IFERROR(VLOOKUP($A28, '利用者情報'!$A$12:$L$113, 9, FALSE), "") | H28: =IFERROR(VLOOKUP($A28, '利用者情報'!$A$12:$L$113, 10, FALSE), "") | I28: =IFERROR(VLOOKUP($A28, '利用者情報'!$A$12:$L$113, 11, FALSE), "") | J28: =IFERROR(VLOOKUP($A28, '利用者情報'!$A$12:$L$113, 12, FALSE), "") | M28: =IF(L28=0,0,IF(B28="",0,IF(AND(F28="○",OR($D$5="小規模多機能型居宅介護",$D$5="複合型サービス(看護小規模多機能型居宅介護）",$D$5="定期巡回・随時対応型訪問介護看護",$D$5="地域密着型老人福祉施設入所者生活介護",$D$5="介護福祉施設サービス")),0,IF(G28="○",0,IF(J28="○",0,IF(H28="○",0.5,0.25)))))) -> 0 | N28: =ROUNDDOWN(L28*M28,0) -> 0 | R28: =Q28+O28+P28 -> 0 | S28: =IF(R28=0,0,IF(B28="",0,IF(J28="○",0,IF(H28="○",0.5,0.25)))) -> 0 | T28: =IF(R28=0,0,IF(B28="",0,IF(J28="○",1,IF(I28="○",1,IF(H28="○",0.5,0.25))))) -> 0 | U28: =IF(G28="○",ROUNDDOWN(P28*T28,0),ROUNDDOWN(O28*S28,0)+ROUNDDOWN(SUM(P28:Q28)*T28,0)) -> 0 | V28: =N28+U28 -> 0 | X28: =IF(J28="○",ROW(),"")
B29: =IFERROR(VLOOKUP($A29, '利用者情報'!$A$12:$L$113, 2, FALSE), "") | C29: =IFERROR(VLOOKUP($A29, '利用者情報'!$A$12:$L$113, 3, FALSE), "") | D29: =IFERROR(VLOOKUP($A29, '利用者情報'!$A$12:$L$113, 4, FALSE), "") | E29: =IFERROR(VLOOKUP($A29, '利用者情報'!$A$12:$L$113, 5, FALSE), "") | F29: =IFERROR(VLOOKUP($A29, '利用者情報'!$A$12:$L$113, 8, FALSE), "") | G29: =IFERROR(VLOOKUP($A29, '利用者情報'!$A$12:$L$113, 9, FALSE), "") | H29: =IFERROR(VLOOKUP($A29, '利用者情報'!$A$12:$L$113, 10, FALSE), "") | I29: =IFERROR(VLOOKUP($A29, '利用者情報'!$A$12:$L$113, 11, FALSE), "") | J29: =IFERROR(VLOOKUP($A29, '利用者情報'!$A$12:$L$113, 12, FALSE), "") | M29: =IF(L29=0,0,IF(B29="",0,IF(AND(F29="○",OR($D$5="小規模多機能型居宅介護",$D$5="複合型サービス(看護小規模多機能型居宅介護）",$D$5="定期巡回・随時対応型訪問介護看護",$D$5="地域密着型老人福祉施設入所者生活介護",$D$5="介護福祉施設サービス")),0,IF(G29="○",0,IF(J29="○",0,IF(H29="○",0.5,0.25)))))) -> 0 | N29: =ROUNDDOWN(L29*M29,0) -> 0 | R29: =Q29+O29+P29 -> 0 | S29: =IF(R29=0,0,IF(B29="",0,IF(J29="○",0,IF(H29="○",0.5,0.25)))) -> 0 | T29: =IF(R29=0,0,IF(B29="",0,IF(J29="○",1,IF(I29="○",1,IF(H29="○",0.5,0.25))))) -> 0 | U29: =IF(G29="○",ROUNDDOWN(P29*T29,0),ROUNDDOWN(O29*S29,0)+ROUNDDOWN(SUM(P29:Q29)*T29,0)) -> 0 | V29: =N29+U29 -> 0 | X29: =IF(J29="○",ROW(),"")
B30: =IFERROR(VLOOKUP($A30, '利用者情報'!$A$12:$L$113, 2, FALSE), "") | C30: =IFERROR(VLOOKUP($A30, '利用者情報'!$A$12:$L$113, 3, FALSE), "") | D30: =IFERROR(VLOOKUP($A30, '利用者情報'!$A$12:$L$113, 4, FALSE), "") | E30: =IFERROR(VLOOKUP($A30, '利用者情報'!$A$12:$L$113, 5, FALSE), "") | F30: =IFERROR(VLOOKUP($A30, '利用者情報'!$A$12:$L$113, 8, FALSE), "") | G30: =IFERROR(VLOOKUP($A30, '利用者情報'!$A$12:$L$113, 9, FALSE), "") | H30: =IFERROR(VLOOKUP($A30, '利用者情報'!$A$12:$L$113, 10, FALSE), "") | I30: =IFERROR(VLOOKUP($A30, '利用者情報'!$A$12:$L$113, 11, FALSE), "") | J30: =IFERROR(VLOOKUP($A30, '利用者情報'!$A$12:$L$113, 12, FALSE), "") | M30: =IF(L30=0,0,IF(B30="",0,IF(AND(F30="○",OR($D$5="小規模多機能型居宅介護",$D$5="複合型サービス(看護小規模多機能型居宅介護）",$D$5="定期巡回・随時対応型訪問介護看護",$D$5="地域密着型老人福祉施設入所者生活介護",$D$5="介護福祉施設サービス")),0,IF(G30="○",0,IF(J30="○",0,IF(H30="○",0.5,0.25)))))) -> 0 | N30: =ROUNDDOWN(L30*M30,0) -> 0 | R30: =Q30+O30+P30 -> 0 | S30: =IF(R30=0,0,IF(B30="",0,IF(J30="○",0,IF(H30="○",0.5,0.25)))) -> 0 | T30: =IF(R30=0,0,IF(B30="",0,IF(J30="○",1,IF(I30="○",1,IF(H30="○",0.5,0.25))))) -> 0 | U30: =IF(G30="○",ROUNDDOWN(P30*T30,0),ROUNDDOWN(O30*S30,0)+ROUNDDOWN(SUM(P30:Q30)*T30,0)) -> 0 | V30: =N30+U30 -> 0 | X30: =IF(J30="○",ROW(),"")
B31: =IFERROR(VLOOKUP($A31, '利用者情報'!$A$12:$L$113, 2, FALSE), "") | C31: =IFERROR(VLOOKUP($A31, '利用者情報'!$A$12:$L$113, 3, FALSE), "") | D31: =IFERROR(VLOOKUP($A31, '利用者情報'!$A$12:$L$113, 4, FALSE), "") | E31: =IFERROR(VLOOKUP($A31, '利用者情報'!$A$12:$L$113, 5, FALSE), "") | F31: =IFERROR(VLOOKUP($A31, '利用者情報'!$A$12:$L$113, 8, FALSE), "") | G31: =IFERROR(VLOOKUP($A31, '利用者情報'!$A$12:$L$113, 9, FALSE), "") | H31: =IFERROR(VLOOKUP($A31, '利用者情報'!$A$12:$L$113, 10, FALSE), "") | I31: =IFERROR(VLOOKUP($A31, '利用者情報'!$A$12:$L$113, 11, FALSE), "") | J31: =IFERROR(VLOOKUP($A31, '利用者情報'!$A$12:$L$113, 12, FALSE), "") | M31: =IF(L31=0,0,IF(B31="",0,IF(AND(F31="○",OR($D$5="小規模多機能型居宅介護",$D$5="複合型サービス(看護小規模多機能型居宅介護）",$D$5="定期巡回・随時対応型訪問介護看護",$D$5="地域密着型老人福祉施設入所者生活介護",$D$5="介護福祉施設サービス")),0,IF(G31="○",0,IF(J31="○",0,IF(H31="○",0.5,0.25)))))) -> 0 | N31: =ROUNDDOWN(L31*M31,0) -> 0 | R31: =Q31+O31+P31 -> 0 | S31: =IF(R31=0,0,IF(B31="",0,IF(J31="○",0,IF(H31="○",0.5,0.25)))) -> 0 | T31: =IF(R31=0,0,IF(B31="",0,IF(J31="○",1,IF(I31="○",1,IF(H31="○",0.5,0.25))))) -> 0 | U31: =IF(G31="○",ROUNDDOWN(P31*T31,0),ROUNDDOWN(O31*S31,0)+ROUNDDOWN(SUM(P31:Q31)*T31,0)) -> 0 | V31: =N31+U31 -> 0 | X31: =IF(J31="○",ROW(),"")
B32: =IFERROR(VLOOKUP($A32, '利用者情報'!$A$12:$L$113, 2, FALSE), "") | C32: =IFERROR(VLOOKUP($A32, '利用者情報'!$A$12:$L$113, 3, FALSE), "") | D32: =IFERROR(VLOOKUP($A32, '利用者情報'!$A$12:$L$113, 4, FALSE), "") | E32: =IFERROR(VLOOKUP($A32, '利用者情報'!$A$12:$L$113, 5, FALSE), "") | F32: =IFERROR(VLOOKUP($A32, '利用者情報'!$A$12:$L$113, 8, FALSE), "") | G32: =IFERROR(VLOOKUP($A32, '利用者情報'!$A$12:$L$113, 9, FALSE), "") | H32: =IFERROR(VLOOKUP($A32, '利用者情報'!$A$12:$L$113, 10, FALSE), "") | I32: =IFERROR(VLOOKUP($A32, '利用者情報'!$A$12:$L$113, 11, FALSE), "") | J32: =IFERROR(VLOOKUP($A32, '利用者情報'!$A$12:$L$113, 12, FALSE), "") | M32: =IF(L32=0,0,IF(B32="",0,IF(AND(F32="○",OR($D$5="小規模多機能型居宅介護",$D$5="複合型サービス(看護小規模多機能型居宅介護）",$D$5="定期巡回・随時対応型訪問介護看護",$D$5="地域密着型老人福祉施設入所者生活介護",$D$5="介護福祉施設サービス")),0,IF(G32="○",0,IF(J32="○",0,IF(H32="○",0.5,0.25)))))) -> 0 | N32: =ROUNDDOWN(L32*M32,0) -> 0 | R32: =Q32+O32+P32 -> 0 | S32: =IF(R32=0,0,IF(B32="",0,IF(J32="○",0,IF(H32="○",0.5,0.25)))) -> 0 | T32: =IF(R32=0,0,IF(B32="",0,IF(J32="○",1,IF(I32="○",1,IF(H32="○",0.5,0.25))))) -> 0 | U32: =IF(G32="○",ROUNDDOWN(P32*T32,0),ROUNDDOWN(O32*S32,0)+ROUNDDOWN(SUM(P32:Q32)*T32,0)) -> 0 | V32: =N32+U32 -> 0 | X32: =IF(J32="○",ROW(),"")
B33: =IFERROR(VLOOKUP($A33, '利用者情報'!$A$12:$L$113, 2, FALSE), "") | C33: =IFERROR(VLOOKUP($A33, '利用者情報'!$A$12:$L$113, 3, FALSE), "") | D33: =IFERROR(VLOOKUP($A33, '利用者情報'!$A$12:$L$113, 4, FALSE), "") | E33: =IFERROR(VLOOKUP($A33, '利用者情報'!$A$12:$L$113, 5, FALSE), "") | F33: =IFERROR(VLOOKUP($A33, '利用者情報'!$A$12:$L$113, 8, FALSE), "") | G33: =IFERROR(VLOOKUP($A33, '利用者情報'!$A$12:$L$113, 9, FALSE), "") | H33: =IFERROR(VLOOKUP($A33, '利用者情報'!$A$12:$L$113, 10, FALSE), "") | I33: =IFERROR(VLOOKUP($A33, '利用者情報'!$A$12:$L$113, 11, FALSE), "") | J33: =IFERROR(VLOOKUP($A33, '利用者情報'!$A$12:$L$113, 12, FALSE), "") | M33: =IF(L33=0,0,IF(B33="",0,IF(AND(F33="○",OR($D$5="小規模多機能型居宅介護",$D$5="複合型サービス(看護小規模多機能型居宅介護）",$D$5="定期巡回・随時対応型訪問介護看護",$D$5="地域密着型老人福祉施設入所者生活介護",$D$5="介護福祉施設サービス")),0,IF(G33="○",0,IF(J33="○",0,IF(H33="○",0.5,0.25)))))) -> 0 | N33: =ROUNDDOWN(L33*M33,0) -> 0 | R33: =Q33+O33+P33 -> 0 | S33: =IF(R33=0,0,IF(B33="",0,IF(J33="○",0,IF(H33="○",0.5,0.25)))) -> 0 | T33: =IF(R33=0,0,IF(B33="",0,IF(J33="○",1,IF(I33="○",1,IF(H33="○",0.5,0.25))))) -> 0 | U33: =IF(G33="○",ROUNDDOWN(P33*T33,0),ROUNDDOWN(O33*S33,0)+ROUNDDOWN(SUM(P33:Q33)*T33,0)) -> 0 | V33: =N33+U33 -> 0 | X33: =IF(J33="○",ROW(),"")
B34: =IFERROR(VLOOKUP($A34, '利用者情報'!$A$12:$L$113, 2, FALSE), "") | C34: =IFERROR(VLOOKUP($A34, '利用者情報'!$A$12:$L$113, 3, FALSE), "") | D34: =IFERROR(VLOOKUP($A34, '利用者情報'!$A$12:$L$113, 4, FALSE), "") | E34: =IFERROR(VLOOKUP($A34, '利用者情報'!$A$12:$L$113, 5, FALSE), "") | F34: =IFERROR(VLOOKUP($A34, '利用者情報'!$A$12:$L$113, 8, FALSE), "") | G34: =IFERROR(VLOOKUP($A34, '利用者情報'!$A$12:$L$113, 9, FALSE), "") | H34: =IFERROR(VLOOKUP($A34, '利用者情報'!$A$12:$L$113, 10, FALSE), "") | I34: =IFERROR(VLOOKUP($A34, '利用者情報'!$A$12:$L$113, 11, FALSE), "") | J34: =IFERROR(VLOOKUP($A34, '利用者情報'!$A$12:$L$113, 12, FALSE), "") | M34: =IF(L34=0,0,IF(B34="",0,IF(AND(F34="○",OR($D$5="小規模多機能型居宅介護",$D$5="複合型サービス(看護小規模多機能型居宅介護）",$D$5="定期巡回・随時対応型訪問介護看護",$D$5="地域密着型老人福祉施設入所者生活介護",$D$5="介護福祉施設サービス")),0,IF(G34="○",0,IF(J34="○",0,IF(H34="○",0.5,0.25)))))) -> 0 | N34: =ROUNDDOWN(L34*M34,0) -> 0 | R34: =Q34+O34+P34 -> 0 | S34: =IF(R34=0,0,IF(B34="",0,IF(J34="○",0,IF(H34="○",0.5,0.25)))) -> 0 | T34: =IF(R34=0,0,IF(B34="",0,IF(J34="○",1,IF(I34="○",1,IF(H34="○",0.5,0.25))))) -> 0 | U34: =IF(G34="○",ROUNDDOWN(P34*T34,0),ROUNDDOWN(O34*S34,0)+ROUNDDOWN(SUM(P34:Q34)*T34,0)) -> 0 | V34: =N34+U34 -> 0 | X34: =IF(J34="○",ROW(),"")
