{"text_format":"1","workbook":"xlsx","n_sheets":6,"sheets":["1 年次別，性・22週以後－早期新生児別周産期死亡数・率","2　区・性別，22週以後－早期新生児別周産期死亡数・率","3 母の年齢階級別，22週以後－早期新生児別周産期死亡数・率","4 性・出産時の体重別，22週以後－早期新生児別周産期死亡数","月・区別，22週以後－早期新生児別周産期死亡数","月・区別，22週以後－早期新生児別周産期死亡率"],"not_rendered":{"charts":0,"images":0,"macros":1,"external_links":1,"defined_names":6,"comments":0,"pivot_tables":1},"unopened":[],"bounds":{"document_bytes":16777216,"sheet_cells":100000,"rows_first":2000,"rows_last":500,"rows_between":2000,"halvings":0,"cell_chars":16384,"cell_head_chars":4096},"cells_cut":0,"cells_raw":0,"read":"whole","date_system":"1900"}

{"sheet":"1 年次別，性・22週以後－早期新生児別周産期死亡数・率","index":0,"n_rows":58,"n_cols":26,"rows_kept":58,"cut":false,"hidden":false,"merged":[[0,0,0,11],[3,0,4,0],[3,21,4,21],[3,1,3,4],[3,5,3,8],[3,9,3,11],[3,12,3,14],[3,15,3,17],[3,18,3,20]]}
["第6章　周  産  期  死  亡"]
["1　年次別にみた性・妊娠満22週以後の死産-早期新生児死亡別周産期死亡数・率及び周産期死　亡中妊娠満22週以後の死産の占める割合"]
[]
["年次","周産期死亡数",null,null,null,"妊娠満22週以後の死産数  1)",null,null,null,"早期新生児死亡数",null,null,"周 産 期 死 亡 率  \n　　　　　　(出産千対） 　　　  2)",null,null,"妊娠満22週以後の死産率  1) \n　　　　　(出産千対）  　　　   2)  ",null,null,"早期新生児死亡率\n(出生千対）",null,null," 周産期死亡中\n 妊娠満22週以\n 後の死産の占\n める割合　　1)\n (％)"]
[null,"総数","男","女","不詳","総数","男","女","不詳","総数","男","女","総数","男","女","総数","男","女","総数","男","女"]
["1950  昭和25年　","…","…","…","…","…","…","…","…","…","…","…","・","・","・","・","・","・","・","・","・","・",null,8178,4205,3973]
["  55      30","…","…","…","…","…","…","…","…","…","…","…","・","・","・","・","・","・","・","・","・","・",null,7551,3928,3623]
["  60      35","…","…","…","…","…","…","…","…","…","…","…","・","・","・","・","・","・","・","・","・","・",null,9392,4911,4481]
["  65      40","…","…","…","…","…","…","…","…",104,"…","…","・","・","・","・","・","・",6.353084911423335,"・","・","・",null,16370,8442,7928]
["  70      45","…","…","…","…","…","…","…","…",93,58,35,"・","・","・","・","・","・",4.5563666650335604,5.5227575699866698,3.5321424967201533,"・",null,20411,10502,9909]
["  72      47",315,206,108,1,202,138,63,1,113,68,45,14.307126311486577,18.140190207819654,10.130381765312823,9.1747286187945676,12.152166255723845,5.9093893630991463,5.1323976926920105,5.9880239520958085,4.2209924022136764,64.126984126984127,null,22017,11356,10661]
["  73      48",377,217,155,5,271,155,111,5,106,62,44,15.867671198282755,17.78834330682843,13.408304498269898,11.406203964813333,12.705959504877448,9.6020761245674731,4.4614672334694223,5.0823838019509795,3.8062283737024223,71.883289124668437,null,23759,12199,11560]
["  74      49",355,201,153,1,237,132,104,1,118,69,49,14.475025484199795,15.940994527718296,12.839879154078551,9.6636085626911328,10.46871282417321,8.7277609936220202,4.8114169215086644,5.4722817035450868,4.1121181604565287,66.760563380281695,null,24525,12609,11916]
["  75      50",329,172,155,2,204,97,105,2,125,75,50,14.057426081011792,14.213701346996116,13.713173493762719,8.7164587250042729,8.0158664573175784,9.2895691409360346,5.3409673560075195,6.1978348896785391,4.4236043528266826,62.006079027355618,null,23404,12101,11303]
["  76      51",279,143,132,4,187,87,96,4,92,56,36,12.178088171104323,12.025901942645698,11.979308467193031,8.1623745089480568,7.3164578252459842,8.7122243397767498,4.0157136621562639,4.7094441173997144,3.2670841274162812,67.025089605734763,null,22910,11891,11019]
["  77      52",279,143,133,3,189,93,93,3,90,50,40,12.519070268329893,12.574744987689062,12.1861828843687,8.4806605043525085,8.1779810059795999,8.5211654755360087,4.0384097639773842,4.3967639817094621,3.6650174088326919,67.741935483870961,null,22286,11372,10914]
["  78      53",260,137,121,2,170,89,79,2,90,48,42,11.684868095815919,11.993346756543815,11.174732175840413,7.6401060626488695,7.7912982579007259,7.2958995197635756,4.0447620331670482,4.2020484986430882,3.8788326560768378,65.384615384615387,null,22251,11423,10828]
["  79      54",211,128,83,0,147,91,56,0,64,37,27,9.7789312694072397,11.583710407239819,7.8844875083119597,6.8128099365064649,8.2352941176470598,5.3196542224755392,2.9661213329007743,3.3484162895927603,2.5648332858364209,69.66824644549763,null,21577,11050,10527]
["  80      55",207,112,94,1,132,73,58,1,75,39,36,9.8896373799627355,10.303587856485741,9.3430076533147801,6.3064354307008745,6.7157313707451696,5.7648345094920987,3.5832019492618605,3.5878564857405704,3.5781731438226818,63.768115942028977,null,20931,10870,10061]
["  81      56",198,106,91,1,133,69,63,1,65,37,28,9.9277978339350188,10.411550928199587,9.3209054593874843,6.6686722823906939,6.7773303211865246,6.4529345488067191,3.259125551544324,3.6342206070130634,2.8679709105807643,67.171717171717177,null,19944,10181,9763]
["  82      57",176,85,90,1,118,54,63,1,58,31,27,8.4913397983306798,8.0309901738473162,8.8731144631765755,5.6930573647898868,5.1020408163265305,6.2111801242236018,2.7982824335407921,2.9289493575207861,2.6619343389529724,67.045454545454547,null,20727,10584,10143]
["  83      58",147,76,69,2,95,42,51,2,52,34,18,7.133152173913043,7.1928828317243987,6.8711412069308899,4.6098602484472053,3.9750141964792727,5.078669587731528,2.5232919254658386,3.217868635245126,1.7924716191993626,64.625850340136054,null,20608,10566,10042]
["  84      59",152,90,62,0,94,56,38,0,58,34,24,7.4972871658281539,8.6671802773497681,6.268958543983822,4.6364802209726745,5.3929121725731894,3.8422649140546006,2.8608069448554798,3.2742681047765791,2.4266936299292214,61.842105263157897,null,20274,10384,9890]
["  85      60",147,79,67,1,101,56,44,1,46,23,23,7.6110593351972664,8.0423495877023328,7.05931935517859,5.2293672983328152,5.7009060368522855,4.6359709198187753,2.3816920368644507,2.3414435508500455,2.4233484353598147,68.707482993197274,null,19314,9823,9491]
["1986  昭和61年",110,53,56,1,77,33,43,1,33,20,13,5.7501306847882905,5.3074304025635897,6.1242344706911629,4.0250914793518033,3.3046264770678948,4.7025371828521436,1.7250392054364871,2.002803925495694,1.4216972878390202,70,null,19130,9986,9144]
["  87      62",116,56,57,3,78,43,32,3,38,13,25,6.2591053795931586,5.8001035732780943,6.4203649470601487,4.2087087897264341,4.4536509580528216,3.6044154088758731,2.0503965898667245,1.3464526152252718,2.8159495381842756,67.241379310344826,null,18533,9655,8878]
["  88      63",99,50,49,0,60,31,29,0,39,19,20,5.4347826086956523,5.3538922796873329,5.5198828433029172,3.2938076416337285,3.3194132134061465,3.2668694378731553,2.1409749670619234,2.0344790662811865,2.2530134054297619,60.606060606060609,null,18216,9339,8877]
["  89  平成元年　",107,68,39,0,71,42,29,0,36,26,10,6.1216316722924651,7.5229560792123022,4.62085308056872,4.0620172778763086,4.646531695984069,3.4360189573459716,2.0596143944161565,2.8764243832282332,1.1848341232227488,66.355140186915889,null,17479,9039,8440]
["  90       2",100,50,47,3,67,33,31,3,33,17,16,5.7388809182209473,5.5413942147844404,5.5939062128064752,3.8450502152080346,3.6573201817577301,3.6895977148298025,1.8938307030129125,1.8840740330267096,1.9043084979766722,67,null,17425,9023,8402]
["  91       3",85,46,38,1,54,29,24,1,31,17,14,4.8688280444495362,5.1477170993733212,4.459047172025346,3.0931378164738228,3.2452999104744853,2.8162403191739029,1.7756902279757132,1.9024171888988362,1.6428068528514432,63.529411764705877,null,17458,8936,8522]
["  92       4",81,48,30,3,58,32,23,3,23,16,7,4.6753246753246751,5.4477357848144363,3.5236081747709656,3.3477633477633479,3.6318238565429577,2.7014329339910734,1.3275613275613276,1.8159119282714788,0.82217524077989201,71.604938271604937,null,17325,8811,8514]
["  93       5",62,28,34,0,43,19,24,0,19,9,10,3.7871846557937814,3.325810666349923,4.2756539235412481,2.6265958096634292,2.2568000950231619,3.0181086519114686,1.1605888461303524,1.0690105713267608,1.2575452716297786,69.354838709677423,null,16371,8419,7952]
["  94       6",74,42,29,3,51,27,21,3,23,15,8,4.3383947939262475,4.8109965635738838,3.4826468115767981,2.9899747904086298,3.0927835051546388,2.521916656659061,1.3484200035176173,1.7182130584192439,0.9607301549177375,68.918918918918919,null,17057,8730,8327]
["  95       7",84,42,40,2,69,34,33,2,15,8,7,5.1546391752577323,5.0915262456055279,4.9720323182100676,4.2341678939617085,4.1217117226330462,4.1019266625233071,0.92438528378628215,0.9738283627510651,0.87368946580129803,82.142857142857139,null,16227,8215,8012]
["  96       8",94,49,41,4,72,35,33,4,22,14,8,5.7278654560965201,5.8167141500474839,5.13591381686083,4.3873012004143561,4.1547958214624883,4.1337842916196914,1.3464716322908379,1.6688520681845274,1.0062893081761006,76.59574468085107,null,16339,8389,7950]
["  97       9",92,57,35,0,73,46,27,0,19,11,8,5.7694719678916337,7.0127952755905509,4.4768482987976466,4.577950583218362,5.659448818897638,3.4535686876438985,1.1970011970011971,1.3610492452363276,1.0268258246694904,79.347826086956516,null,15873,8082,7791]
["  98      10",97,45,51,1,76,34,41,1,21,11,10,5.9725386367834492,5.4125571325475104,6.4345193035579111,4.679514808201465,4.0894876112581189,5.1728488518798894,1.2991030003093103,1.3285024154589373,1.2682308180088777,78.350515463917532,null,16165,8280,7885]
["  99      11",67,34,32,1,53,27,25,1,14,7,7,4.3475439621049903,4.3361816094885857,4.2277711718853217,3.4391019401726037,3.443438336946818,3.3029462280354074,0.91157702825888787,0.89582800102380344,0.92788971367974549,79.104477611940297,null,15358,7814,7544]
["2000      12",65,38,26,1,55,32,22,1,10,6,4,4.224345226489894,4.8272357723577235,3.4602076124567476,3.5744459608760644,4.0650406504065044,2.927867979771094,0.65223062875032611,0.76530612244897955,0.53390282968499725,84.615384615384613,null,15332,7840,7492]
["  01      13",87,42,42,3,77,39,35,3,10,3,7,5.6533887841965038,5.3866871873797608,5.5343259981552251,5.0035739814152969,5.0019238168526359,4.6119383317960203,0.65308254963427381,0.38669760247486468,0.92666137145882976,88.505747126436788,null,15312,7758,7554]
["  02      14",54,31,23,0,43,28,15,0,11,3,8,3.4571062740076828,3.8394847659152838,3.0479724357275377,2.7528809218950068,3.4679217240525144,1.9878081102570897,0.70616935225011235,0.37285607755406408,1.0622759261718231,79.629629629629633,null,15577,8046,7531]
["  03      15",75,39,34,2,60,31,27,2,15,8,7,4.9804103858157909,5.0721810378462742,4.6145494028230187,3.9843283086526324,4.0317336454675505,3.6644951140065145,1.0000666711114075,1.0446591799425438,0.95354856286609457,80,null,14999,7658,7341]
["  04      16",63,38,25,0,47,27,20,0,16,11,5,4.2579075425790753,5.0324460336379291,3.4506556245686681,3.1765341984320088,3.5756853396901072,2.7605244996549345,1.0848193097837142,1.4619883040935671,0.69204152249134943,74.603174603174608,null,14749,7524,7225]
["  05      17",63,41,22,0,47,29,18,0,16,12,4,4.426955238563699,5.6653309382340753,3.145553331426937,3.3026491462300611,4.0071852977753215,2.5736345438947668,1.1280315848843769,1.664816870144284,0.57339449541284404,74.603174603174608,null,14184,7208,6976]
["  06      18",68,32,33,3,55,24,28,3,13,8,5,4.5992560027054443,4.1994750656167978,4.6076514939960909,3.7199864727764629,3.1496062992125982,3.9095224797542585,0.88255261371350979,1.05318588730911,0.7008690776562938,80.882352941176478,null,14730,7596,7134]
["  07      19",53,24,27,2,40,18,20,2,13,6,7,3.6456183794194525,3.259540947983159,3.7641154328732749,2.7514100976750582,2.4446557109873694,2.7882336539802037,0.89667540350393149,0.81688223281143635,0.97861037326995659,75.471698113207552,null,14498,7345,7153]
["  08      20",70,35,35,0,56,29,27,0,14,6,8,4.6976712972283741,4.6247357293868925,4.7729442247374889,3.7581370377826993,3.8319238900634249,3.6819855447974912,0.94307847760188623,0.79586152009550337,1.0949904188338351,80,null,14845,7539,7306]
["  09      21",59,31,26,2,50,26,22,2,9,5,4,4.0533113492717776,4.1739598761276424,3.6480987792900237,3.4350096180269305,3.5007405412683452,3.0868528132454047,0.62043292430718333,0.67558438048912306,0.56298381421534127,84.745762711864401,null,14506,7401,7105]
["  10      22",60,30,30,0,49,22,27,0,11,8,3,4.0573437922639979,3.9562178557299226,4.1637751561415683,3.3134974303489315,2.9012264275352759,3.7473976405274114,0.74631928896125932,1.0580611030286999,0.41794371691278903,81.666666666666671,null,14739,7561,7178]
["  11      23",70,43,27,0,56,34,22,0,14,9,5,4.8119887261978409,5.8014031300593638,3.7841625788367206,3.8495909809582733,4.5871559633027523,3.0833917309039944,0.96611690014491758,1.2198427758200054,0.70293828201883879,80,null,14491,7378,7113]
["  12      24",66,30,36,0,55,26,29,0,11,4,7,4.5385779122541603,4.0317161671818305,5.0697084917617232,3.7821482602118004,3.4941540115575864,4.0839318405858327,0.75930144267274113,0.5394470667565745,0.9898190045248868,83.333333333333343,null,14487,7415,7072]
["  13      25",47,24,23,0,34,17,17,0,13,7,6,3.2136752136752138,3.1906407870247273,3.2380684217936087,2.3247863247863245,2.2600372241425153,2.3933549204561451,0.89096018093345208,0.93271152564956694,0.84674005080440307,72.340425531914903,null,14591,7505,7086]
["  14      26",74,32,42,0,61,25,36,0,13,7,6,5.0584455533529296,4.257017427165092,5.9055118110236222,4.1697997128990361,3.3257948649727282,5.0618672665916762,0.89236683141131246,0.93432995194874535,0.84793668739400796,82.432432432432435,null,14568,7492,7076]
["  15      27",63,35,27,1,54,27,26,1,9,8,1,4.3023970497848802,4.6235138705416121,3.8178733031674206,3.6877688998156115,3.5667107001321008,3.6764705882352939,0.61690314620604569,1.060585973750497,0.14192449616803859,85.714285714285708,null,14589,7543,7046]
["  16      28",47,26,21,0,38,21,17,0,9,5,4,3.3,3.6,3,2.7,2.9,2.5,2.6,0.7,0.6,80.900000000000006,null,14021,7144,6877]
["  17      29",58,35,23,0,45,28,17,0,13,7,6,4.1828934083369393,4.8396017699115044,3.4669882423876994,3.2453483340545217,3.8716814159292037,2.5625565269822128,0.94059764127053036,0.97168239866740702,0.90675532718754726,77.58620689655173,null,13821,7204,6617]
["  18      30",{"$f":"SUM(F57,J57)","v":47},{"$f":"SUM(G57,K57)","v":22},{"$f":"SUM(H57,L57)","v":25},{"$f":"I57","v":0},{"$f":"SUM(G57:I57)","v":32},{"$f":"'2　区・性別，22週以後－早期新生児別周産期死亡数・率'!$G$5","v":14},{"$f":"'2　区・性別，22週以後－早期新生児別周産期死亡数・率'!$H$5","v":18},{"$f":"'2　区・性別，22週以後－早期新生児別周産期死亡数・率'!$I$5","v":0},{"$f":"SUM(K57:L57)","v":15},{"$f":"'2　区・性別，22週以後－早期新生児別周産期死亡数・率'!$K$5","v":8},{"$f":"'2　区・性別，22週以後－早期新生児別周産期死亡数・率'!$L$5","v":7},{"$f":"B57/(F57+X57)*1000","v":3.5391566265060241},{"$f":"C57/(G57+Y57)*1000","v":3.2554010062148566},{"$f":"D57/(H57+Z57)*1000","v":3.8331800061330878},{"$f":"F57/(F57+X57)*1000","v":2.4096385542168677},{"$f":"G57/(G57+Y57)*1000","v":2.0716188221367267},{"$f":"H57/(H57+Z57)*1000","v":2.7598896044158234},{"$f":"J57/X57*1000","v":1.1322463768115942},{"$f":"K57/Y57*1000","v":1.1862396204033216},{"$f":"L57/Z57*1000","v":1.0762607626076259},{"$f":"F57/B57*100","v":68.085106382978722},null,{"$f":"[1]出生数!B55","v":13248},{"$f":"[1]出生数!C55","v":6744},{"$f":"[1]出生数!D55","v":6504}]
["1)　平成6年までは、「妊娠満28週以後の死産」である。",null,null,null,null,null,null,"2)　平成6年までは、出生千対である。",null,null,null,null,"3)　本市の集計による。"]

{"sheet":"2　区・性別，22週以後－早期新生児別周産期死亡数・率","index":1,"n_rows":28,"n_cols":17,"rows_kept":28,"cut":false,"hidden":false,"merged":[[2,1,2,4],[2,5,2,8],[2,9,2,11],[2,0,3,0],[15,0,16,0],[15,1,15,4],[15,5,15,8],[15,9,15,11]]}
["2　区・性別にみた妊娠満22週以後の死産-早期新生児死亡別周産期死亡数及び率"]
[null,null,null,null,null,null,null,null,null,null,null,"平成30年"]
["区","周　産　期　死　亡　数",null,null,null,"妊娠満22週以後の死産数",null,null,null,"早期新生児死亡数"]
[null,"総数","男","女","不詳","総数","男","女","不詳","総数","男","女"]
["総数",{"$f":"SUM(F5,J5)","v":47},{"$f":"SUM(G5,K5)","v":22},{"$f":"SUM(H5,L5)","v":25},{"$f":"I5","v":0},{"$f":"SUM(F6:F15)","v":32},14,18,0,15,8,7]
["中央",6,2,4,0,{"$f":"SUM(G6:I6)","v":4},1,3,0,{"$f":"SUM(K6:L6)","v":2},1,1]
["北",8,4,4,0,7,3,4,0,1,1,0]
["東",5,3,2,0,2,1,1,0,3,2,1]
["白石",4,1,3,0,3,1,2,0,1,0,1]
["厚別",4,4,0,0,2,2,0,0,{"$f":"SUM(K10:L10)","v":2},2,0]
["豊平",7,4,3,0,5,3,2,0,2,1,1]
["清田",1,0,1,0,0,0,0,0,1,0,1]
["南",3,1,2,0,3,1,2,0,0,0,0]
["西",7,2,5,0,5,1,4,0,2,1,1]
["手稲",2,1,1,0,1,1,0,0,1,0,1]
["区","周　産　期　死　亡　率\n(出産千対)",null,null,null,"妊娠満22週以後の死産率\n(出産千対)",null,null,null,"早期新生児死亡率\n(出生千対)"]
[null,"総数","男","女","不詳","総数","男","女","不詳","総数","男","女"]
["総数",{"$f":"B5/(F5+O18)*1000","v":3.5391566265060241},{"$f":"C5/(G5+P18)*1000","v":3.2554010062148566},{"$f":"D5/(H5+Q18)*1000","v":3.8331800061330878},"・",{"$f":"F5/(F5+O18)*1000","v":2.4096385542168677},{"$f":"G5/(G5+P18)*1000","v":2.0716188221367267},{"$f":"H5/(H5+Q18)*1000","v":2.7598896044158234},"・",{"$f":"J5/O18*1000","v":1.1322463768115942},{"$f":"K5/P18*1000","v":1.1862396204033216},{"$f":"L5/Q18*1000","v":1.0762607626076259},null,null,{"$f":"[1]出生数!G4","v":13248},{"$f":"[1]出生数!H4","v":6744},{"$f":"[1]出生数!I4","v":6504}]
["中央",{"$f":"B6/(F6+O19)*1000","v":3.432494279176201},{"$f":"C6/(G6+P19)*1000","v":2.1762785636561479},{"$f":"D6/(H6+Q19)*1000","v":4.8250904704463204},"・",2.2883295194508011,1.088139281828074,3.6188178528347406,"・",1.1467889908256881,1.0893246187363836,1.2106537530266344,null,null,{"$f":"[1]出生数!G5","v":1744},{"$f":"[1]出生数!H5","v":918},{"$f":"[1]出生数!I5","v":826}]
["北",4.3149946062567421,4.3243243243243246,4.3057050592034445,"・",3.7756202804746497,3.243243243243243,4.3057050592034445,"・",0.54141851651326478,1.0845986984815619,0,null,null,{"$f":"[1]出生数!G6","v":1847},{"$f":"[1]出生数!H6","v":922},{"$f":"[1]出生数!I6","v":925}]
["東",2.5252525252525255,3.0120481927710845,2.0325203252032522,"・",1.0101010101010102,1.0040160642570279,1.0162601626016261,"・",1.5166835187057635,2.0100502512562817,1.0172939979654119,null,null,{"$f":"[1]出生数!G7","v":1978},{"$f":"[1]出生数!H7","v":995},{"$f":"[1]出生数!I7","v":983}]
["白石",2.3337222870478409,1.1325028312570782,3.6101083032490977,"・",1.750291715285881,1.1325028312570782,2.4067388688327318,"・",0.58445353594389238,0,1.2062726176115801,null,null,{"$f":"[1]出生数!G8","v":1711},{"$f":"[1]出生数!H8","v":882},{"$f":"[1]出生数!I8","v":829}]
["厚別",6.0331825037707389,11.049723756906078,0,"・",3.0165912518853695,5.5248618784530388,0,"・",3.0257186081694405,5.5555555555555554,0,null,null,{"$f":"[1]出生数!G9","v":661},{"$f":"[1]出生数!H9","v":360},{"$f":"[1]出生数!I9","v":301}]
["豊平",4.1493775933609962,4.6620046620046622,3.6188178528347406,"・",2.9638411381149967,3.4965034965034967,2.4125452352231602,"・",1.1890606420927465,1.1695906432748537,1.2091898428053203,null,null,{"$f":"[1]出生数!G10","v":1682},{"$f":"[1]出生数!H10","v":855},{"$f":"[1]出生数!I10","v":827}]
["清田",1.5527950310559004,0,3.0769230769230771,"・",0,0,0,"・",1.5527950310559004,0,3.0769230769230771,null,null,{"$f":"[1]出生数!G11","v":644},{"$f":"[1]出生数!H11","v":319},{"$f":"[1]出生数!I11","v":325}]
["南",4.6511627906976747,3.0581039755351682,6.2893081761006293,"・",4.6511627906976747,3.0581039755351682,6.2893081761006293,"・",0,0,0,null,null,{"$f":"[1]出生数!G12","v":642},{"$f":"[1]出生数!H12","v":326},{"$f":"[1]出生数!I12","v":316}]
["西",4.5602605863192176,2.58732212160414,6.5616797900262469,"・",3.2573289902280131,1.29366106080207,5.2493438320209975,"・",1.3071895424836601,1.2953367875647668,1.3192612137203166,null,null,{"$f":"[1]出生数!G13","v":1530},{"$f":"[1]出生数!H13","v":772},{"$f":"[1]出生数!I13","v":758}]
["手稲",2.4691358024691357,2.5252525252525255,2.4154589371980677,"・",1.2345679012345678,2.5252525252525255,0,"・",1.2360939431396785,0,2.4154589371980677,null,null,{"$f":"[1]出生数!G14","v":809},{"$f":"[1]出生数!H14","v":395},{"$f":"[1]出生数!I14","v":414}]

{"sheet":"3 母の年齢階級別，22週以後－早期新生児別周産期死亡数・率","index":2,"n_rows":27,"n_cols":16,"rows_kept":27,"cut":false,"hidden":false,"merged":[[15,5,15,8],[15,9,15,11],[0,0,0,11],[2,9,2,11],[2,0,3,0],[15,0,16,0],[2,1,2,4],[2,5,2,8],[15,1,15,4]]}
["3　母の年齢（5歳階級）・性別にみた妊娠満22週以後の死産-早期新生児死亡別周産期死亡数\n　 及び率"]
[null,null,null,null,null,null,null,null,null,null,null,{"$f":"'2　区・性別，22週以後－早期新生児別周産期死亡数・率'!$L$2","v":"平成30年"}]
["母の年齢","周　産　期　死　亡　数",null,null,null,"妊娠満22週以後の死産数",null,null,null,"早期新生児死亡数"]
[null,"総数","男","女","不詳","総数","男","女","不詳","総数","男","女"]
["総数",{"$f":"SUM(F5,J5)","v":47},{"$f":"SUM(G5,K5)","v":22},25,{"$f":"I5","v":0},{"$f":"SUM(F7:F15)","v":32},14,18,0,15,8,7]
["14歳以下",{"$f":"SUM(F6,J6)","v":0},{"$f":"SUM(G6,K6)","v":0},{"$f":"SUM(H6,L6)","v":0},{"$f":"I6","v":0},{"$f":"SUM(G6:I6)","v":0},0,0,0,{"$f":"SUM(K6:L6)","v":0},0,0]
["15～19",{"$f":"SUM(F7,J7)","v":1},1,0,{"$f":"I7","v":0},{"$f":"SUM(G7:I7)","v":1},1,0,0,{"$f":"SUM(K7:L7)","v":0},0,0]
["20～24",5,4,1,0,{"$f":"SUM(G8:I8)","v":4},3,1,0,{"$f":"SUM(K8:L8)","v":1},1,0]
["25～29",15,4,11,0,12,3,9,0,3,1,2]
["30～34",10,4,6,0,8,2,6,0,2,2,0]
["35～39",13,7,6,0,5,3,2,0,8,4,4]
["40～44",3,2,1,0,2,2,0,0,1,0,1]
["45～49",{"$f":"SUM(F13,J13)","v":0},0,0,{"$f":"I13","v":0},{"$f":"SUM(G13:I13)","v":0},0,0,0,{"$f":"SUM(K13:L13)","v":0},0,0]
["50歳～",0,0,0,0,0,0,0,0,{"$f":"SUM(K14:L14)","v":0},0,0]
["不詳",0,0,0,0,0,0,0,0,0,0,0]
["母の年齢","周　産　期　死　亡　率\n(出産千対)",null,null,null,"妊娠満22週以後の死産率\n(出産千対)",null,null,null,"早期新生児死亡率\n(出生千対)"]
[null,"総数","男","女","不詳","総数","男","女","不詳","総数","男","女"]
["総数",{"$f":"IF(B5=0,0,B5/(F5+N18)*1000)","v":3.5391566265060241},{"$f":"IF(C5=0,0,C5/(G5+O18)*1000)","v":3.2554010062148566},{"$f":"IF(D5=0,0,D5/(H5+P18)*1000)","v":3.8331800061330878},"・",{"$f":"IF(F5=0,0,F5/(F5+N18)*1000)","v":2.4096385542168677},{"$f":"IF(G5=0,0,G5/(G5+O18)*1000)","v":2.0716188221367267},{"$f":"IF(H5=0,0,H5/(H5+P18)*1000)","v":2.7598896044158234},"・",{"$f":"IF(J5=0,0,J5/N18*1000)","v":1.1322463768115942},{"$f":"IF(K5=0,0,K5/O18*1000)","v":1.1862396204033216},{"$f":"IF(L5=0,0,L5/P18*1000)","v":1.0762607626076259},null,{"$f":"[1]出生数!G22","v":13248},{"$f":"[1]出生数!H22","v":6744},{"$f":"[1]出生数!I22","v":6504}]
["14歳以下",{"$f":"IF(B6=0,0,B6/(F6+N19)*1000)","v":0},0,{"$f":"IF(D6=0,0,D6/(H6+P19)*1000)","v":0},"・",0,0,0,"・",0,0,0,null,{"$f":"[1]出生数!G23","v":3},{"$f":"[1]出生数!H23","v":0},{"$f":"[1]出生数!I23","v":3}]
["15～19",9.7087378640776691,16.393442622950822,0,"・",9.7087378640776691,16.393442622950822,0,"・",0,0,0,null,{"$f":"[1]出生数!G24","v":102},{"$f":"[1]出生数!H24","v":60},{"$f":"[1]出生数!I24","v":42}]
["20～24",4.4286979627989371,7.0796460176991154,{"$f":"IF(D8=0,0,D8/(H8+P21)*1000)","v":1.7730496453900708},"・",3.5429583702391496,5.3097345132743365,1.7730496453900708,"・",0.88888888888888895,1.779359430604982,0,null,{"$f":"[1]出生数!G25","v":1125},{"$f":"[1]出生数!H25","v":562},{"$f":"[1]出生数!I25","v":563}]
["25～29",4.6040515653775325,2.466091245376079,6.7237163814180922,"・",3.6832412523020257,1.8495684340320593,5.5012224938875312,"・",0.92421441774491686,0.61766522544780733,1.229256299938537,null,{"$f":"[1]出生数!G26","v":3246},{"$f":"[1]出生数!H26","v":1619},{"$f":"[1]出生数!I26","v":1627}]
["30～34",2.0872469213107911,1.6333197223356473,2.5619128949615715,"・",1.6697975370486329,0.81665986116782363,2.5619128949615715,"・",0.41814760610495505,0.81732733959950965,0,null,{"$f":"[1]出生数!G27","v":4783},{"$f":"[1]出生数!H27","v":2447},{"$f":"[1]出生数!I27","v":2336}]
["35～39",4.01854714064915,4.1941282204913115,3.8314176245210727,"・",1.5455950540958268,1.7974835230677051,1.277139208173691,"・",2.4767801857585141,2.4009603841536613,2.5575447570332481,null,{"$f":"[1]出生数!G28","v":3230},{"$f":"[1]出生数!H28","v":1666},{"$f":"[1]出生数!I28","v":1564}]
["40～44",4.048582995951417,5.2631578947368416,2.770083102493075,"・",2.6990553306342777,5.2631578947368416,0,"・",1.3531799729364007,0,2.770083102493075,null,{"$f":"[1]出生数!G29","v":739},{"$f":"[1]出生数!H29","v":378},{"$f":"[1]出生数!I29","v":361}]
["45～49",0,0,0,"・",0,0,0,"・",0,0,0,null,{"$f":"[1]出生数!G30","v":20},{"$f":"[1]出生数!H30","v":12},{"$f":"[1]出生数!I30","v":8}]
["50歳～",0,0,0,"・",0,0,0,"・",0,0,0,null,{"$f":"[1]出生数!G31","v":0},{"$f":"[1]出生数!H31","v":0},{"$f":"[1]出生数!I31","v":0}]

{"sheet":"4 性・出産時の体重別，22週以後－早期新生児別周産期死亡数","index":3,"n_rows":32,"n_cols":16,"rows_kept":32,"cut":false,"hidden":false,"merged":[[2,9,2,11],[18,9,18,11],[2,0,3,0],[18,0,19,0],[2,1,2,4],[2,5,2,8],[18,1,18,4],[18,5,18,8]]}
["4　出産時の体重・性別にみた妊娠満22週以後の死産-早期新生児死亡別周産期死亡数及び率"]
[null,null,null,null,null,null,null,null,null,null,null,{"$f":"'2　区・性別，22週以後－早期新生児別周産期死亡数・率'!$L$2","v":"平成30年"}]
["出産時の体重","周　産　期　死　亡　数",null,null,null,"妊娠満22週以後の死産数",null,null,null,"早期新生児死亡数"]
[null,"総数","男","女","不詳","総数","男","女","不詳","総数","男","女"]
["総数",{"$f":"SUM(F5,J5)","v":47},{"$f":"SUM(G5,K5)","v":22},{"$f":"SUM(H5,L5)","v":25},{"$f":"I5","v":0},{"$f":"SUM(F6:F17)","v":32},14,18,0,15,8,7]
["0.5㎏未満",{"$f":"SUM(F6,J6)","v":11},{"$f":"SUM(G6,K6)","v":5},{"$f":"SUM(H6,L6)","v":6},{"$f":"I6","v":0},{"$f":"SUM(G6:I6)","v":9},4,5,0,{"$f":"SUM(K6:L6)","v":2},1,1]
["0.5㎏以上\n    1.0㎏未満",10,5,5,0,{"$f":"SUM(G7:I7)","v":6},2,4,0,{"$f":"SUM(K7:L7)","v":4},3,1]
["1.0～1.5㎏",6,3,3,0,3,2,1,0,3,1,2]
["1.5～2.0㎏",3,1,2,0,3,1,2,0,0,0,0]
["2.0～2.5㎏",8,5,3,0,6,3,3,0,2,2,0]
["2.5～3.0㎏",4,2,2,0,3,1,2,0,1,1,0]
["3.0～3.5㎏",4,0,4,0,1,0,1,0,3,0,3]
["3.5～4.0㎏",1,1,0,0,1,1,0,0,0,0,0]
["4.0～4.5㎏",0,0,0,0,0,0,0,0,0,0,0]
["4.5～5.0㎏",0,0,0,0,0,0,0,0,0,0,0]
["5.0㎏以上",{"$f":"SUM(F16,J16)","v":0},{"$f":"SUM(G16,K16)","v":0},{"$f":"SUM(H16,L16)","v":0},{"$f":"I16","v":0},{"$f":"SUM(G16:I16)","v":0},0,0,0,{"$f":"SUM(K16:L16)","v":0},0,0]
["不詳",0,0,0,0,0,0,0,0,0,0,0]
["出産時の\n平均体重(㎏)",1.4757021276595701,1.43081818181818,1.5152000000000001,0,1.3976875,1.4539285714285699,1.35394444444444,0,1.6421333333333299,1.3903749999999999,1.9298571428571401]
["出産時の体重","周　産　期　死　亡　率\n(出産千対)",null,null,null,"妊娠満22週以後の死産率\n(出産千対)",null,null,null,"早期新生児死亡率\n(出生千対)"]
[null,"総数","男","女","不詳","総数","男","女","不詳","総数","男","女"]
["総数",{"$f":"IF(B5=0,0,B5/(F5+N21)*1000)","v":3.5391566265060241},{"$f":"IF(C5=0,0,C5/(G5+O21)*1000)","v":3.2554010062148566},{"$f":"IF(D5=0,0,D5/(H5+P21)*1000)","v":3.8331800061330878},"・",{"$f":"IF(F5=0,0,F5/(F5+N21)*1000)","v":2.4096385542168677},{"$f":"IF(G5=0,0,G5/(G5+O21)*1000)","v":2.0716188221367267},{"$f":"IF(H5=0,0,H5/(H5+P21)*1000)","v":2.7598896044158234},"・",{"$f":"IF(J5=0,0,J5/N21*1000)","v":1.1322463768115942},{"$f":"IF(K5=0,0,K5/O21*1000)","v":1.1862396204033216},{"$f":"IF(L5=0,0,L5/P21*1000)","v":1.0762607626076259},null,{"$f":"[1]出生数!G35","v":13248},{"$f":"[1]出生数!H35","v":6744},{"$f":"[1]出生数!I35","v":6504}]
["0.5㎏未満",{"$f":"IF(B6=0,0,B6/(F6+N22)*1000)","v":687.5},{"$f":"IF(C6=0,0,C6/(G6+O22)*1000)","v":714.28571428571433},{"$f":"IF(D6=0,0,D6/(H6+P22)*1000)","v":666.66666666666663},"・",{"$f":"IF(F6=0,0,F6/(F6+N22)*1000)","v":562.5},571.42857142857144,555.55555555555554,"・",{"$f":"IF(J6=0,0,J6/N22*1000)","v":285.71428571428572},333.33333333333331,250,null,{"$f":"[1]出生数!G36","v":7},{"$f":"[1]出生数!H36","v":3},{"$f":"[1]出生数!I36","v":4}]
["0.5㎏以上\n    1.0㎏未満",303.03030303030306,{"$f":"IF(C7=0,0,C7/(G7+O23)*1000)","v":294.11764705882354},312.5,"・",181.81818181818181,117.64705882352941,250,"・",148.14814814814815,200,83.333333333333329,null,{"$f":"[1]出生数!G37","v":27},{"$f":"[1]出生数!H37","v":15},{"$f":"[1]出生数!I37","v":12}]
["1.0～1.5㎏",109.09090909090908,{"$f":"IF(C8=0,0,C8/(G8+O24)*1000)","v":120},100,"・",54.54545454545454,80,33.333333333333336,"・",57.692307692307693,43.478260869565219,68.965517241379303,null,{"$f":"[1]出生数!G38","v":52},{"$f":"[1]出生数!H38","v":23},{"$f":"[1]出生数!I38","v":29}]
["1.5～2.0㎏",19.35483870967742,{"$f":"IF(C9=0,0,C9/(G9+O25)*1000)","v":11.76470588235294},28.571428571428569,"・",19.35483870967742,11.76470588235294,28.571428571428569,"・",0,0,0,null,{"$f":"[1]出生数!G39","v":152},{"$f":"[1]出生数!H39","v":84},{"$f":"[1]出生数!I39","v":68}]
["2.0～2.5㎏",8.4210526315789469,12.254901960784313,5.5350553505535052,"・",6.3157894736842106,7.3529411764705879,5.5350553505535052,"・",2.1186440677966103,4.9382716049382713,0,null,{"$f":"[1]出生数!G40","v":944},{"$f":"[1]出生数!H40","v":405},{"$f":"[1]出生数!I40","v":539}]
["2.5～3.0㎏",0.79984003199360121,0.86244070720137989,0.74571215510812816,"・",0.59988002399520091,0.43122035360068994,0.74571215510812816,"・",0.20008003201280514,0.43140638481449528,0,null,{"$f":"[1]出生数!G41","v":4998},{"$f":"[1]出生数!H41","v":2318},{"$f":"[1]出生数!I41","v":2680}]
["3.0～3.5㎏",0.71748878923766812,0,1.5485869144405731,"・",0.17937219730941703,0,0.38714672861014326,"・",0.53821313240043056,0,1.1618900077459333,null,{"$f":"[1]出生数!G42","v":5574},{"$f":"[1]出生数!H42","v":2992},{"$f":"[1]出生数!I42","v":2582}]
["3.5～4.0㎏",0.72306579898770784,1.199040767386091,0,"・",0.72306579898770784,1.199040767386091,0,"・",0,0,0,null,{"$f":"[1]出生数!G43","v":1382},{"$f":"[1]出生数!H43","v":833},{"$f":"[1]出生数!I43","v":549}]
["4.0～4.5㎏",0,0,0,"・",0,0,0,"・",0,0,0,null,{"$f":"[1]出生数!G44","v":106},{"$f":"[1]出生数!H44","v":67},{"$f":"[1]出生数!I44","v":39}]
["4.5～5.0㎏",0,0,0,"・",0,0,0,"・",0,0,0,null,{"$f":"[1]出生数!G45","v":2},{"$f":"[1]出生数!H45","v":1},{"$f":"[1]出生数!I45","v":1}]
["5.0㎏以上",0,0,0,"・",0,0,0,"・",0,0,0,null,{"$f":"[1]出生数!G46","v":1},{"$f":"[1]出生数!H46","v":1},{"$f":"[1]出生数!I46","v":0}]

{"sheet":"月・区別，22週以後－早期新生児別周産期死亡数","index":4,"n_rows":39,"n_cols":31,"rows_kept":39,"cut":false,"hidden":false,"merged":[[3,1,3,13],[15,1,15,13],[27,1,27,13]]}
["区・月別にみた妊娠満22週以後の死産-早期新生児死亡別周産期死亡数"]
[]
["区","総数","１月","２月","３月","４月","５月","６月","７月","８月","９月","１０月","１１月","１２月",null,null,"データの個数 : 客体区分",null,"発生月"]
[null,"周産期死亡数",null,null,null,null,null,null,null,null,null,null,null,null,null,null,"時期区分","区コード",1,2,3,4,5,6,7,8,9,10,11,12,"総計"]
["総数",{"$f":"SUM(B17,B29)","v":0},{"$f":"SUM(C17,C29)","v":0},0,0,0,0,0,0,0,0,0,0,0,null,null,"死産","10　中央区",0,1,0,1,1,0,0,0,0,0,0,1,4]
["中央",{"$f":"SUM(B18,B30)","v":0},0,0,0,0,0,0,0,0,0,0,0,0,null,null,null,"20　北区",1,0,2,0,0,0,1,1,2,1,0,0,8]
["北",{"$f":"SUM(B19,B31)","v":0},0,0,0,0,0,0,0,0,0,0,0,0,null,null,null,"30　東区",1,1,1,1,1,1,1,2,2,1,1,5,18]
["東",{"$f":"SUM(B20,B32)","v":0},0,0,0,0,0,0,0,0,0,0,0,0,null,null,null,"40　白石区",0,0,3,0,0,0,1,0,0,0,0,1,5]
["白石",{"$f":"SUM(B21,B33)","v":0},0,0,0,0,0,0,0,0,0,0,0,0,null,null,null,"45　厚別区",0,1,0,0,0,0,0,0,1,1,0,2,5]
["厚別",{"$f":"SUM(B22,B34)","v":0},0,0,0,0,0,0,0,0,0,0,0,0,null,null,null,"50　豊平区",0,1,0,0,0,2,1,3,2,1,0,2,12]
["豊平",{"$f":"SUM(B23,B35)","v":0},0,0,0,0,0,0,0,0,0,0,0,0,null,null,null,"55　清田区",2,0,2,0,0,0,1,0,0,1,1,0,7]
["清田",{"$f":"SUM(B24,B36)","v":0},0,0,0,0,0,0,0,0,0,0,0,0,null,null,null,"60　南区",0,0,2,0,0,0,0,0,0,2,0,0,4]
["南",{"$f":"SUM(B25,B37)","v":0},0,0,0,0,0,0,0,0,0,0,0,0,null,null,null,"70　西区",0,0,0,0,1,1,1,0,3,1,1,0,8]
["西",{"$f":"SUM(B26,B38)","v":0},0,0,0,0,0,0,0,0,0,0,0,0,null,null,null,"75　手稲区",1,0,0,1,1,1,1,0,1,0,0,0,6]
["手稲",{"$f":"SUM(B27,B39)","v":0},0,0,0,0,0,0,0,0,0,0,0,0,null,null,"死産 計",null,5,4,10,3,4,5,7,6,11,8,3,11,77]
[null,"妊娠満22週以後の死産数",null,null,null,null,null,null,null,null,null,null,null,null,null,null,"死亡","10　中央区",0,0,0,0,0,0,0,0,0,1,0,0,1]
["総数",{"$f":"SUM(C17:N17)","v":0},{"$f":"SUM(C18:C27)","v":0},{"$f":"SUM(D18:D27)","v":0},0,0,0,0,0,0,0,0,0,0,null,null,null,"20　北区",0,0,0,0,0,0,0,0,0,1,0,0,1]
["中央",{"$f":"SUM(C18:N18)","v":0},null,null,null,null,null,null,null,null,null,null,null,null,null,null,null,"30　東区",0,0,0,0,0,2,0,0,0,1,0,0,3]
["北",{"$f":"SUM(C19:N19)","v":0},null,null,null,null,null,null,null,null,null,null,null,null,null,null,null,"40　白石区",0,0,0,0,0,1,0,0,0,0,0,0,1]
["東",0,null,null,null,null,null,null,null,null,null,null,null,null,null,null,null,"50　豊平区",0,1,0,0,0,0,0,0,1,0,0,0,2]
["白石",0,null,null,null,null,null,null,null,null,null,null,null,null,null,null,null,"70　西区",1,0,0,0,0,0,0,0,0,1,0,0,2]
["厚別",0,null,null,null,null,null,null,null,null,null,null,null,null,null,null,"死亡 計",null,1,1,0,0,0,3,0,0,1,4,0,0,10]
["豊平",0,null,null,null,null,null,null,null,null,null,null,null,null,null,null,"総計",null,6,5,10,3,4,8,7,6,12,12,3,11,87]
["清田",0]
["南",0]
["西",0]
["手稲",0]
[null,"早期新生児死亡数"]
["総数",{"$f":"SUM(C29:N29)","v":0},{"$f":"SUM(C30:C39)","v":0},0,0,0,0,0,0,0,0,0,0,0]
["中央",{"$f":"SUM(C30:N30)","v":0}]
["北",{"$f":"SUM(C31:N31)","v":0}]
["東",0]
["白石",0]
["厚別",0]
["豊平",0]
["清田",0]
["南",0]
["西",0]
["手稲",0]

{"sheet":"月・区別，22週以後－早期新生児別周産期死亡率","index":5,"n_rows":39,"n_cols":30,"rows_kept":39,"cut":false,"hidden":false,"merged":[[3,1,3,13],[15,1,15,13],[27,1,27,13]]}
["区・月別にみた妊娠満22週以後の死産-早期新生児死亡別周産期死亡率"]
[]
["区","総数","１月","２月","３月","４月","５月","６月","７月","８月","９月","１０月","１１月","１２月"]
[null,"周産期死亡率(出産千対）",null,null,null,null,null,null,null,null,null,null,null,null,null,null,{"$f":"[1]出生数!G3","v":"総数"},{"$f":"[1]出生数!U3","v":"１２月"},{"$f":"[1]出生数!V3","v":"１月"},{"$f":"[1]出生数!W3","v":"２月"},{"$f":"[1]出生数!X3","v":"３月"},{"$f":"[1]出生数!Y3","v":"４月"},{"$f":"[1]出生数!Z3","v":"５月"},{"$f":"[1]出生数!AA3","v":"６月"},{"$f":"[1]出生数!AB3","v":"７月"},{"$f":"[1]出生数!AC3","v":"８月"},{"$f":"[1]出生数!AD3","v":"９月"},{"$f":"[1]出生数!AE3","v":"１０月"},{"$f":"[1]出生数!AF3","v":"１１月"},{"$f":"[1]出生数!AG3","v":"１２月"}]
["総数",{"$f":"'月・区別，22週以後－早期新生児別周産期死亡数'!B5/('月・区別，22週以後－早期新生児別周産期死亡数'!B17+'月・区別，22週以後－早期新生児別周産期死亡率'!Q5)*1000","v":0},{"$f":"'月・区別，22週以後－早期新生児別周産期死亡数'!C5/('月・区別，22週以後－早期新生児別周産期死亡数'!C17+'月・区別，22週以後－早期新生児別周産期死亡率'!R5)*1000","v":0},{"$f":"'月・区別，22週以後－早期新生児別周産期死亡数'!D5/('月・区別，22週以後－早期新生児別周産期死亡数'!D17+'月・区別，22週以後－早期新生児別周産期死亡率'!S5)*1000","v":0},{"$f":"'月・区別，22週以後－早期新生児別周産期死亡数'!E5/('月・区別，22週以後－早期新生児別周産期死亡数'!E17+'月・区別，22週以後－早期新生児別周産期死亡率'!T5)*1000","v":0},{"$f":"'月・区別，22週以後－早期新生児別周産期死亡数'!F5/('月・区別，22週以後－早期新生児別周産期死亡数'!F17+'月・区別，22週以後－早期新生児別周産期死亡率'!U5)*1000","v":0},{"$f":"'月・区別，22週以後－早期新生児別周産期死亡数'!G5/('月・区別，22週以後－早期新生児別周産期死亡数'!G17+'月・区別，22週以後－早期新生児別周産期死亡率'!V5)*1000","v":0},{"$f":"'月・区別，22週以後－早期新生児別周産期死亡数'!H5/('月・区別，22週以後－早期新生児別周産期死亡数'!H17+'月・区別，22週以後－早期新生児別周産期死亡率'!W5)*1000","v":0},{"$f":"'月・区別，22週以後－早期新生児別周産期死亡数'!I5/('月・区別，22週以後－早期新生児別周産期死亡数'!I17+'月・区別，22週以後－早期新生児別周産期死亡率'!X5)*1000","v":0},{"$f":"'月・区別，22週以後－早期新生児別周産期死亡数'!J5/('月・区別，22週以後－早期新生児別周産期死亡数'!J17+'月・区別，22週以後－早期新生児別周産期死亡率'!Y5)*1000","v":0},{"$f":"'月・区別，22週以後－早期新生児別周産期死亡数'!K5/('月・区別，22週以後－早期新生児別周産期死亡数'!K17+'月・区別，22週以後－早期新生児別周産期死亡率'!Z5)*1000","v":0},{"$f":"'月・区別，22週以後－早期新生児別周産期死亡数'!L5/('月・区別，22週以後－早期新生児別周産期死亡数'!L17+'月・区別，22週以後－早期新生児別周産期死亡率'!AA5)*1000","v":0},{"$f":"'月・区別，22週以後－早期新生児別周産期死亡数'!M5/('月・区別，22週以後－早期新生児別周産期死亡数'!M17+'月・区別，22週以後－早期新生児別周産期死亡率'!AB5)*1000","v":0},{"$f":"'月・区別，22週以後－早期新生児別周産期死亡数'!N5/('月・区別，22週以後－早期新生児別周産期死亡数'!N17+'月・区別，22週以後－早期新生児別周産期死亡率'!AC5)*1000","v":0},null,null,{"$f":"[1]出生数!G4","v":13248},{"$f":"[1]出生数!U4","v":1081},{"$f":"[1]出生数!V4","v":1135},{"$f":"[1]出生数!W4","v":1067},{"$f":"[1]出生数!X4","v":1078},{"$f":"[1]出生数!Y4","v":1067},{"$f":"[1]出生数!Z4","v":1128},{"$f":"[1]出生数!AA4","v":1110},{"$f":"[1]出生数!AB4","v":1127},{"$f":"[1]出生数!AC4","v":1218},{"$f":"[1]出生数!AD4","v":1087},{"$f":"[1]出生数!AE4","v":1179},{"$f":"[1]出生数!AF4","v":1035},{"$f":"[1]出生数!AG4","v":1017}]
["中央",{"$f":"'月・区別，22週以後－早期新生児別周産期死亡数'!B6/('月・区別，22週以後－早期新生児別周産期死亡数'!B18+'月・区別，22週以後－早期新生児別周産期死亡率'!Q6)*1000","v":0},{"$f":"'月・区別，22週以後－早期新生児別周産期死亡数'!C6/('月・区別，22週以後－早期新生児別周産期死亡数'!C18+'月・区別，22週以後－早期新生児別周産期死亡率'!R6)*1000","v":0},{"$f":"'月・区別，22週以後－早期新生児別周産期死亡数'!D6/('月・区別，22週以後－早期新生児別周産期死亡数'!D18+'月・区別，22週以後－早期新生児別周産期死亡率'!S6)*1000","v":0},{"$f":"'月・区別，22週以後－早期新生児別周産期死亡数'!E6/('月・区別，22週以後－早期新生児別周産期死亡数'!E18+'月・区別，22週以後－早期新生児別周産期死亡率'!T6)*1000","v":0},{"$f":"'月・区別，22週以後－早期新生児別周産期死亡数'!F6/('月・区別，22週以後－早期新生児別周産期死亡数'!F18+'月・区別，22週以後－早期新生児別周産期死亡率'!U6)*1000","v":0},{"$f":"'月・区別，22週以後－早期新生児別周産期死亡数'!G6/('月・区別，22週以後－早期新生児別周産期死亡数'!G18+'月・区別，22週以後－早期新生児別周産期死亡率'!V6)*1000","v":0},{"$f":"'月・区別，22週以後－早期新生児別周産期死亡数'!H6/('月・区別，22週以後－早期新生児別周産期死亡数'!H18+'月・区別，22週以後－早期新生児別周産期死亡率'!W6)*1000","v":0},{"$f":"'月・区別，22週以後－早期新生児別周産期死亡数'!I6/('月・区別，22週以後－早期新生児別周産期死亡数'!I18+'月・区別，22週以後－早期新生児別周産期死亡率'!X6)*1000","v":0},{"$f":"'月・区別，22週以後－早期新生児別周産期死亡数'!J6/('月・区別，22週以後－早期新生児別周産期死亡数'!J18+'月・区別，22週以後－早期新生児別周産期死亡率'!Y6)*1000","v":0},{"$f":"'月・区別，22週以後－早期新生児別周産期死亡数'!K6/('月・区別，22週以後－早期新生児別周産期死亡数'!K18+'月・区別，22週以後－早期新生児別周産期死亡率'!Z6)*1000","v":0},{"$f":"'月・区別，22週以後－早期新生児別周産期死亡数'!L6/('月・区別，22週以後－早期新生児別周産期死亡数'!L18+'月・区別，22週以後－早期新生児別周産期死亡率'!AA6)*1000","v":0},{"$f":"'月・区別，22週以後－早期新生児別周産期死亡数'!M6/('月・区別，22週以後－早期新生児別周産期死亡数'!M18+'月・区別，22週以後－早期新生児別周産期死亡率'!AB6)*1000","v":0},{"$f":"'月・区別，22週以後－早期新生児別周産期死亡数'!N6/('月・区別，22週以後－早期新生児別周産期死亡数'!N18+'月・区別，22週以後－早期新生児別周産期死亡率'!AC6)*1000","v":0},null,null,{"$f":"[1]出生数!G5","v":1744},{"$f":"[1]出生数!U5","v":138},{"$f":"[1]出生数!V5","v":137},{"$f":"[1]出生数!W5","v":152},{"$f":"[1]出生数!X5","v":150},{"$f":"[1]出生数!Y5","v":133},{"$f":"[1]出生数!Z5","v":155},{"$f":"[1]出生数!AA5","v":145},{"$f":"[1]出生数!AB5","v":133},{"$f":"[1]出生数!AC5","v":167},{"$f":"[1]出生数!AD5","v":133},{"$f":"[1]出生数!AE5","v":165},{"$f":"[1]出生数!AF5","v":127},{"$f":"[1]出生数!AG5","v":147}]
["北",{"$f":"'月・区別，22週以後－早期新生児別周産期死亡数'!B7/('月・区別，22週以後－早期新生児別周産期死亡数'!B19+'月・区別，22週以後－早期新生児別周産期死亡率'!Q7)*1000","v":0},{"$f":"'月・区別，22週以後－早期新生児別周産期死亡数'!C7/('月・区別，22週以後－早期新生児別周産期死亡数'!C19+'月・区別，22週以後－早期新生児別周産期死亡率'!R7)*1000","v":0},{"$f":"'月・区別，22週以後－早期新生児別周産期死亡数'!D7/('月・区別，22週以後－早期新生児別周産期死亡数'!D19+'月・区別，22週以後－早期新生児別周産期死亡率'!S7)*1000","v":0},{"$f":"'月・区別，22週以後－早期新生児別周産期死亡数'!E7/('月・区別，22週以後－早期新生児別周産期死亡数'!E19+'月・区別，22週以後－早期新生児別周産期死亡率'!T7)*1000","v":0},{"$f":"'月・区別，22週以後－早期新生児別周産期死亡数'!F7/('月・区別，22週以後－早期新生児別周産期死亡数'!F19+'月・区別，22週以後－早期新生児別周産期死亡率'!U7)*1000","v":0},{"$f":"'月・区別，22週以後－早期新生児別周産期死亡数'!G7/('月・区別，22週以後－早期新生児別周産期死亡数'!G19+'月・区別，22週以後－早期新生児別周産期死亡率'!V7)*1000","v":0},{"$f":"'月・区別，22週以後－早期新生児別周産期死亡数'!H7/('月・区別，22週以後－早期新生児別周産期死亡数'!H19+'月・区別，22週以後－早期新生児別周産期死亡率'!W7)*1000","v":0},{"$f":"'月・区別，22週以後－早期新生児別周産期死亡数'!I7/('月・区別，22週以後－早期新生児別周産期死亡数'!I19+'月・区別，22週以後－早期新生児別周産期死亡率'!X7)*1000","v":0},{"$f":"'月・区別，22週以後－早期新生児別周産期死亡数'!J7/('月・区別，22週以後－早期新生児別周産期死亡数'!J19+'月・区別，22週以後－早期新生児別周産期死亡率'!Y7)*1000","v":0},{"$f":"'月・区別，22週以後－早期新生児別周産期死亡数'!K7/('月・区別，22週以後－早期新生児別周産期死亡数'!K19+'月・区別，22週以後－早期新生児別周産期死亡率'!Z7)*1000","v":0},{"$f":"'月・区別，22週以後－早期新生児別周産期死亡数'!L7/('月・区別，22週以後－早期新生児別周産期死亡数'!L19+'月・区別，22週以後－早期新生児別周産期死亡率'!AA7)*1000","v":0},{"$f":"'月・区別，22週以後－早期新生児別周産期死亡数'!M7/('月・区別，22週以後－早期新生児別周産期死亡数'!M19+'月・区別，22週以後－早期新生児別周産期死亡率'!AB7)*1000","v":0},{"$f":"'月・区別，22週以後－早期新生児別周産期死亡数'!N7/('月・区別，22週以後－早期新生児別周産期死亡数'!N19+'月・区別，22週以後－早期新生児別周産期死亡率'!AC7)*1000","v":0},null,null,{"$f":"[1]出生数!G6","v":1847},{"$f":"[1]出生数!U6","v":92},{"$f":"[1]出生数!V6","v":169},{"$f":"[1]出生数!W6","v":139},{"$f":"[1]出生数!X6","v":137},{"$f":"[1]出生数!Y6","v":137},{"$f":"[1]出生数!Z6","v":174},{"$f":"[1]出生数!AA6","v":164},{"$f":"[1]出生数!AB6","v":166},{"$f":"[1]出生数!AC6","v":183},{"$f":"[1]出生数!AD6","v":138},{"$f":"[1]出生数!AE6","v":168},{"$f":"[1]出生数!AF6","v":138},{"$f":"[1]出生数!AG6","v":134}]
["東",{"$f":"'月・区別，22週以後－早期新生児別周産期死亡数'!B8/('月・区別，22週以後－早期新生児別周産期死亡数'!B20+'月・区別，22週以後－早期新生児別周産期死亡率'!Q8)*1000","v":0},{"$f":"'月・区別，22週以後－早期新生児別周産期死亡数'!C8/('月・区別，22週以後－早期新生児別周産期死亡数'!C20+'月・区別，22週以後－早期新生児別周産期死亡率'!R8)*1000","v":0},{"$f":"'月・区別，22週以後－早期新生児別周産期死亡数'!D8/('月・区別，22週以後－早期新生児別周産期死亡数'!D20+'月・区別，22週以後－早期新生児別周産期死亡率'!S8)*1000","v":0},{"$f":"'月・区別，22週以後－早期新生児別周産期死亡数'!E8/('月・区別，22週以後－早期新生児別周産期死亡数'!E20+'月・区別，22週以後－早期新生児別周産期死亡率'!T8)*1000","v":0},{"$f":"'月・区別，22週以後－早期新生児別周産期死亡数'!F8/('月・区別，22週以後－早期新生児別周産期死亡数'!F20+'月・区別，22週以後－早期新生児別周産期死亡率'!U8)*1000","v":0},{"$f":"'月・区別，22週以後－早期新生児別周産期死亡数'!G8/('月・区別，22週以後－早期新生児別周産期死亡数'!G20+'月・区別，22週以後－早期新生児別周産期死亡率'!V8)*1000","v":0},{"$f":"'月・区別，22週以後－早期新生児別周産期死亡数'!H8/('月・区別，22週以後－早期新生児別周産期死亡数'!H20+'月・区別，22週以後－早期新生児別周産期死亡率'!W8)*1000","v":0},{"$f":"'月・区別，22週以後－早期新生児別周産期死亡数'!I8/('月・区別，22週以後－早期新生児別周産期死亡数'!I20+'月・区別，22週以後－早期新生児別周産期死亡率'!X8)*1000","v":0},{"$f":"'月・区別，22週以後－早期新生児別周産期死亡数'!J8/('月・区別，22週以後－早期新生児別周産期死亡数'!J20+'月・区別，22週以後－早期新生児別周産期死亡率'!Y8)*1000","v":0},{"$f":"'月・区別，22週以後－早期新生児別周産期死亡数'!K8/('月・区別，22週以後－早期新生児別周産期死亡数'!K20+'月・区別，22週以後－早期新生児別周産期死亡率'!Z8)*1000","v":0},{"$f":"'月・区別，22週以後－早期新生児別周産期死亡数'!L8/('月・区別，22週以後－早期新生児別周産期死亡数'!L20+'月・区別，22週以後－早期新生児別周産期死亡率'!AA8)*1000","v":0},{"$f":"'月・区別，22週以後－早期新生児別周産期死亡数'!M8/('月・区別，22週以後－早期新生児別周産期死亡数'!M20+'月・区別，22週以後－早期新生児別周産期死亡率'!AB8)*1000","v":0},{"$f":"'月・区別，22週以後－早期新生児別周産期死亡数'!N8/('月・区別，22週以後－早期新生児別周産期死亡数'!N20+'月・区別，22週以後－早期新生児別周産期死亡率'!AC8)*1000","v":0},null,null,{"$f":"[1]出生数!G7","v":1978},{"$f":"[1]出生数!U7","v":175},{"$f":"[1]出生数!V7","v":167},{"$f":"[1]出生数!W7","v":132},{"$f":"[1]出生数!X7","v":161},{"$f":"[1]出生数!Y7","v":171},{"$f":"[1]出生数!Z7","v":162},{"$f":"[1]出生数!AA7","v":165},{"$f":"[1]出生数!AB7","v":179},{"$f":"[1]出生数!AC7","v":171},{"$f":"[1]出生数!AD7","v":191},{"$f":"[1]出生数!AE7","v":184},{"$f":"[1]出生数!AF7","v":149},{"$f":"[1]出生数!AG7","v":146}]
["白石",{"$f":"'月・区別，22週以後－早期新生児別周産期死亡数'!B9/('月・区別，22週以後－早期新生児別周産期死亡数'!B21+'月・区別，22週以後－早期新生児別周産期死亡率'!Q9)*1000","v":0},{"$f":"'月・区別，22週以後－早期新生児別周産期死亡数'!C9/('月・区別，22週以後－早期新生児別周産期死亡数'!C21+'月・区別，22週以後－早期新生児別周産期死亡率'!R9)*1000","v":0},{"$f":"'月・区別，22週以後－早期新生児別周産期死亡数'!D9/('月・区別，22週以後－早期新生児別周産期死亡数'!D21+'月・区別，22週以後－早期新生児別周産期死亡率'!S9)*1000","v":0},{"$f":"'月・区別，22週以後－早期新生児別周産期死亡数'!E9/('月・区別，22週以後－早期新生児別周産期死亡数'!E21+'月・区別，22週以後－早期新生児別周産期死亡率'!T9)*1000","v":0},{"$f":"'月・区別，22週以後－早期新生児別周産期死亡数'!F9/('月・区別，22週以後－早期新生児別周産期死亡数'!F21+'月・区別，22週以後－早期新生児別周産期死亡率'!U9)*1000","v":0},{"$f":"'月・区別，22週以後－早期新生児別周産期死亡数'!G9/('月・区別，22週以後－早期新生児別周産期死亡数'!G21+'月・区別，22週以後－早期新生児別周産期死亡率'!V9)*1000","v":0},{"$f":"'月・区別，22週以後－早期新生児別周産期死亡数'!H9/('月・区別，22週以後－早期新生児別周産期死亡数'!H21+'月・区別，22週以後－早期新生児別周産期死亡率'!W9)*1000","v":0},{"$f":"'月・区別，22週以後－早期新生児別周産期死亡数'!I9/('月・区別，22週以後－早期新生児別周産期死亡数'!I21+'月・区別，22週以後－早期新生児別周産期死亡率'!X9)*1000","v":0},{"$f":"'月・区別，22週以後－早期新生児別周産期死亡数'!J9/('月・区別，22週以後－早期新生児別周産期死亡数'!J21+'月・区別，22週以後－早期新生児別周産期死亡率'!Y9)*1000","v":0},{"$f":"'月・区別，22週以後－早期新生児別周産期死亡数'!K9/('月・区別，22週以後－早期新生児別周産期死亡数'!K21+'月・区別，22週以後－早期新生児別周産期死亡率'!Z9)*1000","v":0},{"$f":"'月・区別，22週以後－早期新生児別周産期死亡数'!L9/('月・区別，22週以後－早期新生児別周産期死亡数'!L21+'月・区別，22週以後－早期新生児別周産期死亡率'!AA9)*1000","v":0},{"$f":"'月・区別，22週以後－早期新生児別周産期死亡数'!M9/('月・区別，22週以後－早期新生児別周産期死亡数'!M21+'月・区別，22週以後－早期新生児別周産期死亡率'!AB9)*1000","v":0},{"$f":"'月・区別，22週以後－早期新生児別周産期死亡数'!N9/('月・区別，22週以後－早期新生児別周産期死亡数'!N21+'月・区別，22週以後－早期新生児別周産期死亡率'!AC9)*1000","v":0},null,null,{"$f":"[1]出生数!G8","v":1711},{"$f":"[1]出生数!U8","v":133},{"$f":"[1]出生数!V8","v":144},{"$f":"[1]出生数!W8","v":148},{"$f":"[1]出生数!X8","v":123},{"$f":"[1]出生数!Y8","v":138},{"$f":"[1]出生数!Z8","v":139},{"$f":"[1]出生数!AA8","v":138},{"$f":"[1]出生数!AB8","v":143},{"$f":"[1]出生数!AC8","v":145},{"$f":"[1]出生数!AD8","v":138},{"$f":"[1]出生数!AE8","v":168},{"$f":"[1]出生数!AF8","v":155},{"$f":"[1]出生数!AG8","v":132}]
["厚別",{"$f":"'月・区別，22週以後－早期新生児別周産期死亡数'!B10/('月・区別，22週以後－早期新生児別周産期死亡数'!B22+'月・区別，22週以後－早期新生児別周産期死亡率'!Q10)*1000","v":0},{"$f":"'月・区別，22週以後－早期新生児別周産期死亡数'!C10/('月・区別，22週以後－早期新生児別周産期死亡数'!C22+'月・区別，22週以後－早期新生児別周産期死亡率'!R10)*1000","v":0},{"$f":"'月・区別，22週以後－早期新生児別周産期死亡数'!D10/('月・区別，22週以後－早期新生児別周産期死亡数'!D22+'月・区別，22週以後－早期新生児別周産期死亡率'!S10)*1000","v":0},{"$f":"'月・区別，22週以後－早期新生児別周産期死亡数'!E10/('月・区別，22週以後－早期新生児別周産期死亡数'!E22+'月・区別，22週以後－早期新生児別周産期死亡率'!T10)*1000","v":0},{"$f":"'月・区別，22週以後－早期新生児別周産期死亡数'!F10/('月・区別，22週以後－早期新生児別周産期死亡数'!F22+'月・区別，22週以後－早期新生児別周産期死亡率'!U10)*1000","v":0},{"$f":"'月・区別，22週以後－早期新生児別周産期死亡数'!G10/('月・区別，22週以後－早期新生児別周産期死亡数'!G22+'月・区別，22週以後－早期新生児別周産期死亡率'!V10)*1000","v":0},{"$f":"'月・区別，22週以後－早期新生児別周産期死亡数'!H10/('月・区別，22週以後－早期新生児別周産期死亡数'!H22+'月・区別，22週以後－早期新生児別周産期死亡率'!W10)*1000","v":0},{"$f":"'月・区別，22週以後－早期新生児別周産期死亡数'!I10/('月・区別，22週以後－早期新生児別周産期死亡数'!I22+'月・区別，22週以後－早期新生児別周産期死亡率'!X10)*1000","v":0},{"$f":"'月・区別，22週以後－早期新生児別周産期死亡数'!J10/('月・区別，22週以後－早期新生児別周産期死亡数'!J22+'月・区別，22週以後－早期新生児別周産期死亡率'!Y10)*1000","v":0},{"$f":"'月・区別，22週以後－早期新生児別周産期死亡数'!K10/('月・区別，22週以後－早期新生児別周産期死亡数'!K22+'月・区別，22週以後－早期新生児別周産期死亡率'!Z10)*1000","v":0},{"$f":"'月・区別，22週以後－早期新生児別周産期死亡数'!L10/('月・区別，22週以後－早期新生児別周産期死亡数'!L22+'月・区別，22週以後－早期新生児別周産期死亡率'!AA10)*1000","v":0},{"$f":"'月・区別，22週以後－早期新生児別周産期死亡数'!M10/('月・区別，22週以後－早期新生児別周産期死亡数'!M22+'月・区別，22週以後－早期新生児別周産期死亡率'!AB10)*1000","v":0},{"$f":"'月・区別，22週以後－早期新生児別周産期死亡数'!N10/('月・区別，22週以後－早期新生児別周産期死亡数'!N22+'月・区別，22週以後－早期新生児別周産期死亡率'!AC10)*1000","v":0},null,null,{"$f":"[1]出生数!G9","v":661},{"$f":"[1]出生数!U9","v":55},{"$f":"[1]出生数!V9","v":53},{"$f":"[1]出生数!W9","v":53},{"$f":"[1]出生数!X9","v":50},{"$f":"[1]出生数!Y9","v":60},{"$f":"[1]出生数!Z9","v":41},{"$f":"[1]出生数!AA9","v":50},{"$f":"[1]出生数!AB9","v":48},{"$f":"[1]出生数!AC9","v":81},{"$f":"[1]出生数!AD9","v":67},{"$f":"[1]出生数!AE9","v":52},{"$f":"[1]出生数!AF9","v":52},{"$f":"[1]出生数!AG9","v":54}]
["豊平",{"$f":"'月・区別，22週以後－早期新生児別周産期死亡数'!B11/('月・区別，22週以後－早期新生児別周産期死亡数'!B23+'月・区別，22週以後－早期新生児別周産期死亡率'!Q11)*1000","v":0},{"$f":"'月・区別，22週以後－早期新生児別周産期死亡数'!C11/('月・区別，22週以後－早期新生児別周産期死亡数'!C23+'月・区別，22週以後－早期新生児別周産期死亡率'!R11)*1000","v":0},{"$f":"'月・区別，22週以後－早期新生児別周産期死亡数'!D11/('月・区別，22週以後－早期新生児別周産期死亡数'!D23+'月・区別，22週以後－早期新生児別周産期死亡率'!S11)*1000","v":0},{"$f":"'月・区別，22週以後－早期新生児別周産期死亡数'!E11/('月・区別，22週以後－早期新生児別周産期死亡数'!E23+'月・区別，22週以後－早期新生児別周産期死亡率'!T11)*1000","v":0},{"$f":"'月・区別，22週以後－早期新生児別周産期死亡数'!F11/('月・区別，22週以後－早期新生児別周産期死亡数'!F23+'月・区別，22週以後－早期新生児別周産期死亡率'!U11)*1000","v":0},{"$f":"'月・区別，22週以後－早期新生児別周産期死亡数'!G11/('月・区別，22週以後－早期新生児別周産期死亡数'!G23+'月・区別，22週以後－早期新生児別周産期死亡率'!V11)*1000","v":0},{"$f":"'月・区別，22週以後－早期新生児別周産期死亡数'!H11/('月・区別，22週以後－早期新生児別周産期死亡数'!H23+'月・区別，22週以後－早期新生児別周産期死亡率'!W11)*1000","v":0},{"$f":"'月・区別，22週以後－早期新生児別周産期死亡数'!I11/('月・区別，22週以後－早期新生児別周産期死亡数'!I23+'月・区別，22週以後－早期新生児別周産期死亡率'!X11)*1000","v":0},{"$f":"'月・区別，22週以後－早期新生児別周産期死亡数'!J11/('月・区別，22週以後－早期新生児別周産期死亡数'!J23+'月・区別，22週以後－早期新生児別周産期死亡率'!Y11)*1000","v":0},{"$f":"'月・区別，22週以後－早期新生児別周産期死亡数'!K11/('月・区別，22週以後－早期新生児別周産期死亡数'!K23+'月・区別，22週以後－早期新生児別周産期死亡率'!Z11)*1000","v":0},{"$f":"'月・区別，22週以後－早期新生児別周産期死亡数'!L11/('月・区別，22週以後－早期新生児別周産期死亡数'!L23+'月・区別，22週以後－早期新生児別周産期死亡率'!AA11)*1000","v":0},{"$f":"'月・区別，22週以後－早期新生児別周産期死亡数'!M11/('月・区別，22週以後－早期新生児別周産期死亡数'!M23+'月・区別，22週以後－早期新生児別周産期死亡率'!AB11)*1000","v":0},{"$f":"'月・区別，22週以後－早期新生児別周産期死亡数'!N11/('月・区別，22週以後－早期新生児別周産期死亡数'!N23+'月・区別，22週以後－早期新生児別周産期死亡率'!AC11)*1000","v":0},null,null,{"$f":"[1]出生数!G10","v":1682},{"$f":"[1]出生数!U10","v":154},{"$f":"[1]出生数!V10","v":169},{"$f":"[1]出生数!W10","v":154},{"$f":"[1]出生数!X10","v":141},{"$f":"[1]出生数!Y10","v":134},{"$f":"[1]出生数!Z10","v":132},{"$f":"[1]出生数!AA10","v":142},{"$f":"[1]出生数!AB10","v":143},{"$f":"[1]出生数!AC10","v":153},{"$f":"[1]出生数!AD10","v":121},{"$f":"[1]出生数!AE10","v":142},{"$f":"[1]出生数!AF10","v":127},{"$f":"[1]出生数!AG10","v":124}]
["清田",{"$f":"'月・区別，22週以後－早期新生児別周産期死亡数'!B12/('月・区別，22週以後－早期新生児別周産期死亡数'!B24+'月・区別，22週以後－早期新生児別周産期死亡率'!Q12)*1000","v":0},{"$f":"'月・区別，22週以後－早期新生児別周産期死亡数'!C12/('月・区別，22週以後－早期新生児別周産期死亡数'!C24+'月・区別，22週以後－早期新生児別周産期死亡率'!R12)*1000","v":0},{"$f":"'月・区別，22週以後－早期新生児別周産期死亡数'!D12/('月・区別，22週以後－早期新生児別周産期死亡数'!D24+'月・区別，22週以後－早期新生児別周産期死亡率'!S12)*1000","v":0},{"$f":"'月・区別，22週以後－早期新生児別周産期死亡数'!E12/('月・区別，22週以後－早期新生児別周産期死亡数'!E24+'月・区別，22週以後－早期新生児別周産期死亡率'!T12)*1000","v":0},{"$f":"'月・区別，22週以後－早期新生児別周産期死亡数'!F12/('月・区別，22週以後－早期新生児別周産期死亡数'!F24+'月・区別，22週以後－早期新生児別周産期死亡率'!U12)*1000","v":0},{"$f":"'月・区別，22週以後－早期新生児別周産期死亡数'!G12/('月・区別，22週以後－早期新生児別周産期死亡数'!G24+'月・区別，22週以後－早期新生児別周産期死亡率'!V12)*1000","v":0},{"$f":"'月・区別，22週以後－早期新生児別周産期死亡数'!H12/('月・区別，22週以後－早期新生児別周産期死亡数'!H24+'月・区別，22週以後－早期新生児別周産期死亡率'!W12)*1000","v":0},{"$f":"'月・区別，22週以後－早期新生児別周産期死亡数'!I12/('月・区別，22週以後－早期新生児別周産期死亡数'!I24+'月・区別，22週以後－早期新生児別周産期死亡率'!X12)*1000","v":0},{"$f":"'月・区別，22週以後－早期新生児別周産期死亡数'!J12/('月・区別，22週以後－早期新生児別周産期死亡数'!J24+'月・区別，22週以後－早期新生児別周産期死亡率'!Y12)*1000","v":0},{"$f":"'月・区別，22週以後－早期新生児別周産期死亡数'!K12/('月・区別，22週以後－早期新生児別周産期死亡数'!K24+'月・区別，22週以後－早期新生児別周産期死亡率'!Z12)*1000","v":0},{"$f":"'月・区別，22週以後－早期新生児別周産期死亡数'!L12/('月・区別，22週以後－早期新生児別周産期死亡数'!L24+'月・区別，22週以後－早期新生児別周産期死亡率'!AA12)*1000","v":0},{"$f":"'月・区別，22週以後－早期新生児別周産期死亡数'!M12/('月・区別，22週以後－早期新生児別周産期死亡数'!M24+'月・区別，22週以後－早期新生児別周産期死亡率'!AB12)*1000","v":0},{"$f":"'月・区別，22週以後－早期新生児別周産期死亡数'!N12/('月・区別，22週以後－早期新生児別周産期死亡数'!N24+'月・区別，22週以後－早期新生児別周産期死亡率'!AC12)*1000","v":0},null,null,{"$f":"[1]出生数!G11","v":644},{"$f":"[1]出生数!U11","v":44},{"$f":"[1]出生数!V11","v":52},{"$f":"[1]出生数!W11","v":61},{"$f":"[1]出生数!X11","v":57},{"$f":"[1]出生数!Y11","v":49},{"$f":"[1]出生数!Z11","v":56},{"$f":"[1]出生数!AA11","v":67},{"$f":"[1]出生数!AB11","v":42},{"$f":"[1]出生数!AC11","v":62},{"$f":"[1]出生数!AD11","v":40},{"$f":"[1]出生数!AE11","v":52},{"$f":"[1]出生数!AF11","v":52},{"$f":"[1]出生数!AG11","v":54}]
["南",{"$f":"'月・区別，22週以後－早期新生児別周産期死亡数'!B13/('月・区別，22週以後－早期新生児別周産期死亡数'!B25+'月・区別，22週以後－早期新生児別周産期死亡率'!Q13)*1000","v":0},{"$f":"'月・区別，22週以後－早期新生児別周産期死亡数'!C13/('月・区別，22週以後－早期新生児別周産期死亡数'!C25+'月・区別，22週以後－早期新生児別周産期死亡率'!R13)*1000","v":0},{"$f":"'月・区別，22週以後－早期新生児別周産期死亡数'!D13/('月・区別，22週以後－早期新生児別周産期死亡数'!D25+'月・区別，22週以後－早期新生児別周産期死亡率'!S13)*1000","v":0},{"$f":"'月・区別，22週以後－早期新生児別周産期死亡数'!E13/('月・区別，22週以後－早期新生児別周産期死亡数'!E25+'月・区別，22週以後－早期新生児別周産期死亡率'!T13)*1000","v":0},{"$f":"'月・区別，22週以後－早期新生児別周産期死亡数'!F13/('月・区別，22週以後－早期新生児別周産期死亡数'!F25+'月・区別，22週以後－早期新生児別周産期死亡率'!U13)*1000","v":0},{"$f":"'月・区別，22週以後－早期新生児別周産期死亡数'!G13/('月・区別，22週以後－早期新生児別周産期死亡数'!G25+'月・区別，22週以後－早期新生児別周産期死亡率'!V13)*1000","v":0},{"$f":"'月・区別，22週以後－早期新生児別周産期死亡数'!H13/('月・区別，22週以後－早期新生児別周産期死亡数'!H25+'月・区別，22週以後－早期新生児別周産期死亡率'!W13)*1000","v":0},{"$f":"'月・区別，22週以後－早期新生児別周産期死亡数'!I13/('月・区別，22週以後－早期新生児別周産期死亡数'!I25+'月・区別，22週以後－早期新生児別周産期死亡率'!X13)*1000","v":0},{"$f":"'月・区別，22週以後－早期新生児別周産期死亡数'!J13/('月・区別，22週以後－早期新生児別周産期死亡数'!J25+'月・区別，22週以後－早期新生児別周産期死亡率'!Y13)*1000","v":0},{"$f":"'月・区別，22週以後－早期新生児別周産期死亡数'!K13/('月・区別，22週以後－早期新生児別周産期死亡数'!K25+'月・区別，22週以後－早期新生児別周産期死亡率'!Z13)*1000","v":0},{"$f":"'月・区別，22週以後－早期新生児別周産期死亡数'!L13/('月・区別，22週以後－早期新生児別周産期死亡数'!L25+'月・区別，22週以後－早期新生児別周産期死亡率'!AA13)*1000","v":0},{"$f":"'月・区別，22週以後－早期新生児別周産期死亡数'!M13/('月・区別，22週以後－早期新生児別周産期死亡数'!M25+'月・区別，22週以後－早期新生児別周産期死亡率'!AB13)*1000","v":0},{"$f":"'月・区別，22週以後－早期新生児別周産期死亡数'!N13/('月・区別，22週以後－早期新生児別周産期死亡数'!N25+'月・区別，22週以後－早期新生児別周産期死亡率'!AC13)*1000","v":0},null,null,{"$f":"[1]出生数!G12","v":642},{"$f":"[1]出生数!U12","v":70},{"$f":"[1]出生数!V12","v":44},{"$f":"[1]出生数!W12","v":44},{"$f":"[1]出生数!X12","v":62},{"$f":"[1]出生数!Y12","v":47},{"$f":"[1]出生数!Z12","v":53},{"$f":"[1]出生数!AA12","v":57},{"$f":"[1]出生数!AB12","v":64},{"$f":"[1]出生数!AC12","v":46},{"$f":"[1]出生数!AD12","v":61},{"$f":"[1]出生数!AE12","v":57},{"$f":"[1]出生数!AF12","v":46},{"$f":"[1]出生数!AG12","v":61}]
["西",{"$f":"'月・区別，22週以後－早期新生児別周産期死亡数'!B14/('月・区別，22週以後－早期新生児別周産期死亡数'!B26+'月・区別，22週以後－早期新生児別周産期死亡率'!Q14)*1000","v":0},{"$f":"'月・区別，22週以後－早期新生児別周産期死亡数'!C14/('月・区別，22週以後－早期新生児別周産期死亡数'!C26+'月・区別，22週以後－早期新生児別周産期死亡率'!R14)*1000","v":0},{"$f":"'月・区別，22週以後－早期新生児別周産期死亡数'!D14/('月・区別，22週以後－早期新生児別周産期死亡数'!D26+'月・区別，22週以後－早期新生児別周産期死亡率'!S14)*1000","v":0},{"$f":"'月・区別，22週以後－早期新生児別周産期死亡数'!E14/('月・区別，22週以後－早期新生児別周産期死亡数'!E26+'月・区別，22週以後－早期新生児別周産期死亡率'!T14)*1000","v":0},{"$f":"'月・区別，22週以後－早期新生児別周産期死亡数'!F14/('月・区別，22週以後－早期新生児別周産期死亡数'!F26+'月・区別，22週以後－早期新生児別周産期死亡率'!U14)*1000","v":0},{"$f":"'月・区別，22週以後－早期新生児別周産期死亡数'!G14/('月・区別，22週以後－早期新生児別周産期死亡数'!G26+'月・区別，22週以後－早期新生児別周産期死亡率'!V14)*1000","v":0},{"$f":"'月・区別，22週以後－早期新生児別周産期死亡数'!H14/('月・区別，22週以後－早期新生児別周産期死亡数'!H26+'月・区別，22週以後－早期新生児別周産期死亡率'!W14)*1000","v":0},{"$f":"'月・区別，22週以後－早期新生児別周産期死亡数'!I14/('月・区別，22週以後－早期新生児別周産期死亡数'!I26+'月・区別，22週以後－早期新生児別周産期死亡率'!X14)*1000","v":0},{"$f":"'月・区別，22週以後－早期新生児別周産期死亡数'!J14/('月・区別，22週以後－早期新生児別周産期死亡数'!J26+'月・区別，22週以後－早期新生児別周産期死亡率'!Y14)*1000","v":0},{"$f":"'月・区別，22週以後－早期新生児別周産期死亡数'!K14/('月・区別，22週以後－早期新生児別周産期死亡数'!K26+'月・区別，22週以後－早期新生児別周産期死亡率'!Z14)*1000","v":0},{"$f":"'月・区別，22週以後－早期新生児別周産期死亡数'!L14/('月・区別，22週以後－早期新生児別周産期死亡数'!L26+'月・区別，22週以後－早期新生児別周産期死亡率'!AA14)*1000","v":0},{"$f":"'月・区別，22週以後－早期新生児別周産期死亡数'!M14/('月・区別，22週以後－早期新生児別周産期死亡数'!M26+'月・区別，22週以後－早期新生児別周産期死亡率'!AB14)*1000","v":0},{"$f":"'月・区別，22週以後－早期新生児別周産期死亡数'!N14/('月・区別，22週以後－早期新生児別周産期死亡数'!N26+'月・区別，22週以後－早期新生児別周産期死亡率'!AC14)*1000","v":0},null,null,{"$f":"[1]出生数!G13","v":1530},{"$f":"[1]出生数!U13","v":145},{"$f":"[1]出生数!V13","v":133},{"$f":"[1]出生数!W13","v":113},{"$f":"[1]出生数!X13","v":120},{"$f":"[1]出生数!Y13","v":123},{"$f":"[1]出生数!Z13","v":143},{"$f":"[1]出生数!AA13","v":134},{"$f":"[1]出生数!AB13","v":145},{"$f":"[1]出生数!AC13","v":133},{"$f":"[1]出生数!AD13","v":142},{"$f":"[1]出生数!AE13","v":119},{"$f":"[1]出生数!AF13","v":112},{"$f":"[1]出生数!AG13","v":113}]
["手稲",{"$f":"'月・区別，22週以後－早期新生児別周産期死亡数'!B15/('月・区別，22週以後－早期新生児別周産期死亡数'!B27+'月・区別，22週以後－早期新生児別周産期死亡率'!Q15)*1000","v":0},{"$f":"'月・区別，22週以後－早期新生児別周産期死亡数'!C15/('月・区別，22週以後－早期新生児別周産期死亡数'!C27+'月・区別，22週以後－早期新生児別周産期死亡率'!R15)*1000","v":0},{"$f":"'月・区別，22週以後－早期新生児別周産期死亡数'!D15/('月・区別，22週以後－早期新生児別周産期死亡数'!D27+'月・区別，22週以後－早期新生児別周産期死亡率'!S15)*1000","v":0},{"$f":"'月・区別，22週以後－早期新生児別周産期死亡数'!E15/('月・区別，22週以後－早期新生児別周産期死亡数'!E27+'月・区別，22週以後－早期新生児別周産期死亡率'!T15)*1000","v":0},{"$f":"'月・区別，22週以後－早期新生児別周産期死亡数'!F15/('月・区別，22週以後－早期新生児別周産期死亡数'!F27+'月・区別，22週以後－早期新生児別周産期死亡率'!U15)*1000","v":0},{"$f":"'月・区別，22週以後－早期新生児別周産期死亡数'!G15/('月・区別，22週以後－早期新生児別周産期死亡数'!G27+'月・区別，22週以後－早期新生児別周産期死亡率'!V15)*1000","v":0},{"$f":"'月・区別，22週以後－早期新生児別周産期死亡数'!H15/('月・区別，22週以後－早期新生児別周産期死亡数'!H27+'月・区別，22週以後－早期新生児別周産期死亡率'!W15)*1000","v":0},{"$f":"'月・区別，22週以後－早期新生児別周産期死亡数'!I15/('月・区別，22週以後－早期新生児別周産期死亡数'!I27+'月・区別，22週以後－早期新生児別周産期死亡率'!X15)*1000","v":0},{"$f":"'月・区別，22週以後－早期新生児別周産期死亡数'!J15/('月・区別，22週以後－早期新生児別周産期死亡数'!J27+'月・区別，22週以後－早期新生児別周産期死亡率'!Y15)*1000","v":0},{"$f":"'月・区別，22週以後－早期新生児別周産期死亡数'!K15/('月・区別，22週以後－早期新生児別周産期死亡数'!K27+'月・区別，22週以後－早期新生児別周産期死亡率'!Z15)*1000","v":0},{"$f":"'月・区別，22週以後－早期新生児別周産期死亡数'!L15/('月・区別，22週以後－早期新生児別周産期死亡数'!L27+'月・区別，22週以後－早期新生児別周産期死亡率'!AA15)*1000","v":0},{"$f":"'月・区別，22週以後－早期新生児別周産期死亡数'!M15/('月・区別，22週以後－早期新生児別周産期死亡数'!M27+'月・区別，22週以後－早期新生児別周産期死亡率'!AB15)*1000","v":0},{"$f":"'月・区別，22週以後－早期新生児別周産期死亡数'!N15/('月・区別，22週以後－早期新生児別周産期死亡数'!N27+'月・区別，22週以後－早期新生児別周産期死亡率'!AC15)*1000","v":0},null,null,{"$f":"[1]出生数!G14","v":809},{"$f":"[1]出生数!U14","v":75},{"$f":"[1]出生数!V14","v":67},{"$f":"[1]出生数!W14","v":71},{"$f":"[1]出生数!X14","v":77},{"$f":"[1]出生数!Y14","v":75},{"$f":"[1]出生数!Z14","v":73},{"$f":"[1]出生数!AA14","v":48},{"$f":"[1]出生数!AB14","v":64},{"$f":"[1]出生数!AC14","v":77},{"$f":"[1]出生数!AD14","v":56},{"$f":"[1]出生数!AE14","v":72},{"$f":"[1]出生数!AF14","v":77},{"$f":"[1]出生数!AG14","v":52}]
[null,"妊娠満22週以後の死産率(出産千対）"]
["総数",{"$f":"'月・区別，22週以後－早期新生児別周産期死亡数'!B17/('月・区別，22週以後－早期新生児別周産期死亡数'!B17+'月・区別，22週以後－早期新生児別周産期死亡率'!Q5)*1000","v":0},{"$f":"'月・区別，22週以後－早期新生児別周産期死亡数'!C17/('月・区別，22週以後－早期新生児別周産期死亡数'!C17+'月・区別，22週以後－早期新生児別周産期死亡率'!R5)*1000","v":0},{"$f":"'月・区別，22週以後－早期新生児別周産期死亡数'!D17/('月・区別，22週以後－早期新生児別周産期死亡数'!D17+'月・区別，22週以後－早期新生児別周産期死亡率'!S5)*1000","v":0},{"$f":"'月・区別，22週以後－早期新生児別周産期死亡数'!E17/('月・区別，22週以後－早期新生児別周産期死亡数'!E17+'月・区別，22週以後－早期新生児別周産期死亡率'!T5)*1000","v":0},{"$f":"'月・区別，22週以後－早期新生児別周産期死亡数'!F17/('月・区別，22週以後－早期新生児別周産期死亡数'!F17+'月・区別，22週以後－早期新生児別周産期死亡率'!U5)*1000","v":0},{"$f":"'月・区別，22週以後－早期新生児別周産期死亡数'!G17/('月・区別，22週以後－早期新生児別周産期死亡数'!G17+'月・区別，22週以後－早期新生児別周産期死亡率'!V5)*1000","v":0},{"$f":"'月・区別，22週以後－早期新生児別周産期死亡数'!H17/('月・区別，22週以後－早期新生児別周産期死亡数'!H17+'月・区別，22週以後－早期新生児別周産期死亡率'!W5)*1000","v":0},{"$f":"'月・区別，22週以後－早期新生児別周産期死亡数'!I17/('月・区別，22週以後－早期新生児別周産期死亡数'!I17+'月・区別，22週以後－早期新生児別周産期死亡率'!X5)*1000","v":0},{"$f":"'月・区別，22週以後－早期新生児別周産期死亡数'!J17/('月・区別，22週以後－早期新生児別周産期死亡数'!J17+'月・区別，22週以後－早期新生児別周産期死亡率'!Y5)*1000","v":0},{"$f":"'月・区別，22週以後－早期新生児別周産期死亡数'!K17/('月・区別，22週以後－早期新生児別周産期死亡数'!K17+'月・区別，22週以後－早期新生児別周産期死亡率'!Z5)*1000","v":0},{"$f":"'月・区別，22週以後－早期新生児別周産期死亡数'!L17/('月・区別，22週以後－早期新生児別周産期死亡数'!L17+'月・区別，22週以後－早期新生児別周産期死亡率'!AA5)*1000","v":0},{"$f":"'月・区別，22週以後－早期新生児別周産期死亡数'!M17/('月・区別，22週以後－早期新生児別周産期死亡数'!M17+'月・区別，22週以後－早期新生児別周産期死亡率'!AB5)*1000","v":0},{"$f":"'月・区別，22週以後－早期新生児別周産期死亡数'!N17/('月・区別，22週以後－早期新生児別周産期死亡数'!N17+'月・区別，22週以後－早期新生児別周産期死亡率'!AC5)*1000","v":0}]
["中央",{"$f":"'月・区別，22週以後－早期新生児別周産期死亡数'!B18/('月・区別，22週以後－早期新生児別周産期死亡数'!B18+'月・区別，22週以後－早期新生児別周産期死亡率'!Q6)*1000","v":0},{"$f":"'月・区別，22週以後－早期新生児別周産期死亡数'!C18/('月・区別，22週以後－早期新生児別周産期死亡数'!C18+'月・区別，22週以後－早期新生児別周産期死亡率'!R6)*1000","v":0},{"$f":"'月・区別，22週以後－早期新生児別周産期死亡数'!D18/('月・区別，22週以後－早期新生児別周産期死亡数'!D18+'月・区別，22週以後－早期新生児別周産期死亡率'!S6)*1000","v":0},{"$f":"'月・区別，22週以後－早期新生児別周産期死亡数'!E18/('月・区別，22週以後－早期新生児別周産期死亡数'!E18+'月・区別，22週以後－早期新生児別周産期死亡率'!T6)*1000","v":0},{"$f":"'月・区別，22週以後－早期新生児別周産期死亡数'!F18/('月・区別，22週以後－早期新生児別周産期死亡数'!F18+'月・区別，22週以後－早期新生児別周産期死亡率'!U6)*1000","v":0},{"$f":"'月・区別，22週以後－早期新生児別周産期死亡数'!G18/('月・区別，22週以後－早期新生児別周産期死亡数'!G18+'月・区別，22週以後－早期新生児別周産期死亡率'!V6)*1000","v":0},{"$f":"'月・区別，22週以後－早期新生児別周産期死亡数'!H18/('月・区別，22週以後－早期新生児別周産期死亡数'!H18+'月・区別，22週以後－早期新生児別周産期死亡率'!W6)*1000","v":0},{"$f":"'月・区別，22週以後－早期新生児別周産期死亡数'!I18/('月・区別，22週以後－早期新生児別周産期死亡数'!I18+'月・区別，22週以後－早期新生児別周産期死亡率'!X6)*1000","v":0},{"$f":"'月・区別，22週以後－早期新生児別周産期死亡数'!J18/('月・区別，22週以後－早期新生児別周産期死亡数'!J18+'月・区別，22週以後－早期新生児別周産期死亡率'!Y6)*1000","v":0},{"$f":"'月・区別，22週以後－早期新生児別周産期死亡数'!K18/('月・区別，22週以後－早期新生児別周産期死亡数'!K18+'月・区別，22週以後－早期新生児別周産期死亡率'!Z6)*1000","v":0},{"$f":"'月・区別，22週以後－早期新生児別周産期死亡数'!L18/('月・区別，22週以後－早期新生児別周産期死亡数'!L18+'月・区別，22週以後－早期新生児別周産期死亡率'!AA6)*1000","v":0},{"$f":"'月・区別，22週以後－早期新生児別周産期死亡数'!M18/('月・区別，22週以後－早期新生児別周産期死亡数'!M18+'月・区別，22週以後－早期新生児別周産期死亡率'!AB6)*1000","v":0},{"$f":"'月・区別，22週以後－早期新生児別周産期死亡数'!N18/('月・区別，22週以後－早期新生児別周産期死亡数'!N18+'月・区別，22週以後－早期新生児別周産期死亡率'!AC6)*1000","v":0}]
["北",{"$f":"'月・区別，22週以後－早期新生児別周産期死亡数'!B19/('月・区別，22週以後－早期新生児別周産期死亡数'!B19+'月・区別，22週以後－早期新生児別周産期死亡率'!Q7)*1000","v":0},{"$f":"'月・区別，22週以後－早期新生児別周産期死亡数'!C19/('月・区別，22週以後－早期新生児別周産期死亡数'!C19+'月・区別，22週以後－早期新生児別周産期死亡率'!R7)*1000","v":0},{"$f":"'月・区別，22週以後－早期新生児別周産期死亡数'!D19/('月・区別，22週以後－早期新生児別周産期死亡数'!D19+'月・区別，22週以後－早期新生児別周産期死亡率'!S7)*1000","v":0},{"$f":"'月・区別，22週以後－早期新生児別周産期死亡数'!E19/('月・区別，22週以後－早期新生児別周産期死亡数'!E19+'月・区別，22週以後－早期新生児別周産期死亡率'!T7)*1000","v":0},{"$f":"'月・区別，22週以後－早期新生児別周産期死亡数'!F19/('月・区別，22週以後－早期新生児別周産期死亡数'!F19+'月・区別，22週以後－早期新生児別周産期死亡率'!U7)*1000","v":0},{"$f":"'月・区別，22週以後－早期新生児別周産期死亡数'!G19/('月・区別，22週以後－早期新生児別周産期死亡数'!G19+'月・区別，22週以後－早期新生児別周産期死亡率'!V7)*1000","v":0},{"$f":"'月・区別，22週以後－早期新生児別周産期死亡数'!H19/('月・区別，22週以後－早期新生児別周産期死亡数'!H19+'月・区別，22週以後－早期新生児別周産期死亡率'!W7)*1000","v":0},{"$f":"'月・区別，22週以後－早期新生児別周産期死亡数'!I19/('月・区別，22週以後－早期新生児別周産期死亡数'!I19+'月・区別，22週以後－早期新生児別周産期死亡率'!X7)*1000","v":0},{"$f":"'月・区別，22週以後－早期新生児別周産期死亡数'!J19/('月・区別，22週以後－早期新生児別周産期死亡数'!J19+'月・区別，22週以後－早期新生児別周産期死亡率'!Y7)*1000","v":0},{"$f":"'月・区別，22週以後－早期新生児別周産期死亡数'!K19/('月・区別，22週以後－早期新生児別周産期死亡数'!K19+'月・区別，22週以後－早期新生児別周産期死亡率'!Z7)*1000","v":0},{"$f":"'月・区別，22週以後－早期新生児別周産期死亡数'!L19/('月・区別，22週以後－早期新生児別周産期死亡数'!L19+'月・区別，22週以後－早期新生児別周産期死亡率'!AA7)*1000","v":0},{"$f":"'月・区別，22週以後－早期新生児別周産期死亡数'!M19/('月・区別，22週以後－早期新生児別周産期死亡数'!M19+'月・区別，22週以後－早期新生児別周産期死亡率'!AB7)*1000","v":0},{"$f":"'月・区別，22週以後－早期新生児別周産期死亡数'!N19/('月・区別，22週以後－早期新生児別周産期死亡数'!N19+'月・区別，22週以後－早期新生児別周産期死亡率'!AC7)*1000","v":0}]
["東",{"$f":"'月・区別，22週以後－早期新生児別周産期死亡数'!B20/('月・区別，22週以後－早期新生児別周産期死亡数'!B20+'月・区別，22週以後－早期新生児別周産期死亡率'!Q8)*1000","v":0},{"$f":"'月・区別，22週以後－早期新生児別周産期死亡数'!C20/('月・区別，22週以後－早期新生児別周産期死亡数'!C20+'月・区別，22週以後－早期新生児別周産期死亡率'!R8)*1000","v":0},{"$f":"'月・区別，22週以後－早期新生児別周産期死亡数'!D20/('月・区別，22週以後－早期新生児別周産期死亡数'!D20+'月・区別，22週以後－早期新生児別周産期死亡率'!S8)*1000","v":0},{"$f":"'月・区別，22週以後－早期新生児別周産期死亡数'!E20/('月・区別，22週以後－早期新生児別周産期死亡数'!E20+'月・区別，22週以後－早期新生児別周産期死亡率'!T8)*1000","v":0},{"$f":"'月・区別，22週以後－早期新生児別周産期死亡数'!F20/('月・区別，22週以後－早期新生児別周産期死亡数'!F20+'月・区別，22週以後－早期新生児別周産期死亡率'!U8)*1000","v":0},{"$f":"'月・区別，22週以後－早期新生児別周産期死亡数'!G20/('月・区別，22週以後－早期新生児別周産期死亡数'!G20+'月・区別，22週以後－早期新生児別周産期死亡率'!V8)*1000","v":0},{"$f":"'月・区別，22週以後－早期新生児別周産期死亡数'!H20/('月・区別，22週以後－早期新生児別周産期死亡数'!H20+'月・区別，22週以後－早期新生児別周産期死亡率'!W8)*1000","v":0},{"$f":"'月・区別，22週以後－早期新生児別周産期死亡数'!I20/('月・区別，22週以後－早期新生児別周産期死亡数'!I20+'月・区別，22週以後－早期新生児別周産期死亡率'!X8)*1000","v":0},{"$f":"'月・区別，22週以後－早期新生児別周産期死亡数'!J20/('月・区別，22週以後－早期新生児別周産期死亡数'!J20+'月・区別，22週以後－早期新生児別周産期死亡率'!Y8)*1000","v":0},{"$f":"'月・区別，22週以後－早期新生児別周産期死亡数'!K20/('月・区別，22週以後－早期新生児別周産期死亡数'!K20+'月・区別，22週以後－早期新生児別周産期死亡率'!Z8)*1000","v":0},{"$f":"'月・区別，22週以後－早期新生児別周産期死亡数'!L20/('月・区別，22週以後－早期新生児別周産期死亡数'!L20+'月・区別，22週以後－早期新生児別周産期死亡率'!AA8)*1000","v":0},{"$f":"'月・区別，22週以後－早期新生児別周産期死亡数'!M20/('月・区別，22週以後－早期新生児別周産期死亡数'!M20+'月・区別，22週以後－早期新生児別周産期死亡率'!AB8)*1000","v":0},{"$f":"'月・区別，22週以後－早期新生児別周産期死亡数'!N20/('月・区別，22週以後－早期新生児別周産期死亡数'!N20+'月・区別，22週以後－早期新生児別周産期死亡率'!AC8)*1000","v":0}]
["白石",{"$f":"'月・区別，22週以後－早期新生児別周産期死亡数'!B21/('月・区別，22週以後－早期新生児別周産期死亡数'!B21+'月・区別，22週以後－早期新生児別周産期死亡率'!Q9)*1000","v":0},{"$f":"'月・区別，22週以後－早期新生児別周産期死亡数'!C21/('月・区別，22週以後－早期新生児別周産期死亡数'!C21+'月・区別，22週以後－早期新生児別周産期死亡率'!R9)*1000","v":0},{"$f":"'月・区別，22週以後－早期新生児別周産期死亡数'!D21/('月・区別，22週以後－早期新生児別周産期死亡数'!D21+'月・区別，22週以後－早期新生児別周産期死亡率'!S9)*1000","v":0},{"$f":"'月・区別，22週以後－早期新生児別周産期死亡数'!E21/('月・区別，22週以後－早期新生児別周産期死亡数'!E21+'月・区別，22週以後－早期新生児別周産期死亡率'!T9)*1000","v":0},{"$f":"'月・区別，22週以後－早期新生児別周産期死亡数'!F21/('月・区別，22週以後－早期新生児別周産期死亡数'!F21+'月・区別，22週以後－早期新生児別周産期死亡率'!U9)*1000","v":0},{"$f":"'月・区別，22週以後－早期新生児別周産期死亡数'!G21/('月・区別，22週以後－早期新生児別周産期死亡数'!G21+'月・区別，22週以後－早期新生児別周産期死亡率'!V9)*1000","v":0},{"$f":"'月・区別，22週以後－早期新生児別周産期死亡数'!H21/('月・区別，22週以後－早期新生児別周産期死亡数'!H21+'月・区別，22週以後－早期新生児別周産期死亡率'!W9)*1000","v":0},{"$f":"'月・区別，22週以後－早期新生児別周産期死亡数'!I21/('月・区別，22週以後－早期新生児別周産期死亡数'!I21+'月・区別，22週以後－早期新生児別周産期死亡率'!X9)*1000","v":0},{"$f":"'月・区別，22週以後－早期新生児別周産期死亡数'!J21/('月・区別，22週以後－早期新生児別周産期死亡数'!J21+'月・区別，22週以後－早期新生児別周産期死亡率'!Y9)*1000","v":0},{"$f":"'月・区別，22週以後－早期新生児別周産期死亡数'!K21/('月・区別，22週以後－早期新生児別周産期死亡数'!K21+'月・区別，22週以後－早期新生児別周産期死亡率'!Z9)*1000","v":0},{"$f":"'月・区別，22週以後－早期新生児別周産期死亡数'!L21/('月・区別，22週以後－早期新生児別周産期死亡数'!L21+'月・区別，22週以後－早期新生児別周産期死亡率'!AA9)*1000","v":0},{"$f":"'月・区別，22週以後－早期新生児別周産期死亡数'!M21/('月・区別，22週以後－早期新生児別周産期死亡数'!M21+'月・区別，22週以後－早期新生児別周産期死亡率'!AB9)*1000","v":0},{"$f":"'月・区別，22週以後－早期新生児別周産期死亡数'!N21/('月・区別，22週以後－早期新生児別周産期死亡数'!N21+'月・区別，22週以後－早期新生児別周産期死亡率'!AC9)*1000","v":0}]
["厚別",{"$f":"'月・区別，22週以後－早期新生児別周産期死亡数'!B22/('月・区別，22週以後－早期新生児別周産期死亡数'!B22+'月・区別，22週以後－早期新生児別周産期死亡率'!Q10)*1000","v":0},{"$f":"'月・区別，22週以後－早期新生児別周産期死亡数'!C22/('月・区別，22週以後－早期新生児別周産期死亡数'!C22+'月・区別，22週以後－早期新生児別周産期死亡率'!R10)*1000","v":0},{"$f":"'月・区別，22週以後－早期新生児別周産期死亡数'!D22/('月・区別，22週以後－早期新生児別周産期死亡数'!D22+'月・区別，22週以後－早期新生児別周産期死亡率'!S10)*1000","v":0},{"$f":"'月・区別，22週以後－早期新生児別周産期死亡数'!E22/('月・区別，22週以後－早期新生児別周産期死亡数'!E22+'月・区別，22週以後－早期新生児別周産期死亡率'!T10)*1000","v":0},{"$f":"'月・区別，22週以後－早期新生児別周産期死亡数'!F22/('月・区別，22週以後－早期新生児別周産期死亡数'!F22+'月・区別，22週以後－早期新生児別周産期死亡率'!U10)*1000","v":0},{"$f":"'月・区別，22週以後－早期新生児別周産期死亡数'!G22/('月・区別，22週以後－早期新生児別周産期死亡数'!G22+'月・区別，22週以後－早期新生児別周産期死亡率'!V10)*1000","v":0},{"$f":"'月・区別，22週以後－早期新生児別周産期死亡数'!H22/('月・区別，22週以後－早期新生児別周産期死亡数'!H22+'月・区別，22週以後－早期新生児別周産期死亡率'!W10)*1000","v":0},{"$f":"'月・区別，22週以後－早期新生児別周産期死亡数'!I22/('月・区別，22週以後－早期新生児別周産期死亡数'!I22+'月・区別，22週以後－早期新生児別周産期死亡率'!X10)*1000","v":0},{"$f":"'月・区別，22週以後－早期新生児別周産期死亡数'!J22/('月・区別，22週以後－早期新生児別周産期死亡数'!J22+'月・区別，22週以後－早期新生児別周産期死亡率'!Y10)*1000","v":0},{"$f":"'月・区別，22週以後－早期新生児別周産期死亡数'!K22/('月・区別，22週以後－早期新生児別周産期死亡数'!K22+'月・区別，22週以後－早期新生児別周産期死亡率'!Z10)*1000","v":0},{"$f":"'月・区別，22週以後－早期新生児別周産期死亡数'!L22/('月・区別，22週以後－早期新生児別周産期死亡数'!L22+'月・区別，22週以後－早期新生児別周産期死亡率'!AA10)*1000","v":0},{"$f":"'月・区別，22週以後－早期新生児別周産期死亡数'!M22/('月・区別，22週以後－早期新生児別周産期死亡数'!M22+'月・区別，22週以後－早期新生児別周産期死亡率'!AB10)*1000","v":0},{"$f":"'月・区別，22週以後－早期新生児別周産期死亡数'!N22/('月・区別，22週以後－早期新生児別周産期死亡数'!N22+'月・区別，22週以後－早期新生児別周産期死亡率'!AC10)*1000","v":0}]
["豊平",{"$f":"'月・区別，22週以後－早期新生児別周産期死亡数'!B23/('月・区別，22週以後－早期新生児別周産期死亡数'!B23+'月・区別，22週以後－早期新生児別周産期死亡率'!Q11)*1000","v":0},{"$f":"'月・区別，22週以後－早期新生児別周産期死亡数'!C23/('月・区別，22週以後－早期新生児別周産期死亡数'!C23+'月・区別，22週以後－早期新生児別周産期死亡率'!R11)*1000","v":0},{"$f":"'月・区別，22週以後－早期新生児別周産期死亡数'!D23/('月・区別，22週以後－早期新生児別周産期死亡数'!D23+'月・区別，22週以後－早期新生児別周産期死亡率'!S11)*1000","v":0},{"$f":"'月・区別，22週以後－早期新生児別周産期死亡数'!E23/('月・区別，22週以後－早期新生児別周産期死亡数'!E23+'月・区別，22週以後－早期新生児別周産期死亡率'!T11)*1000","v":0},{"$f":"'月・区別，22週以後－早期新生児別周産期死亡数'!F23/('月・区別，22週以後－早期新生児別周産期死亡数'!F23+'月・区別，22週以後－早期新生児別周産期死亡率'!U11)*1000","v":0},{"$f":"'月・区別，22週以後－早期新生児別周産期死亡数'!G23/('月・区別，22週以後－早期新生児別周産期死亡数'!G23+'月・区別，22週以後－早期新生児別周産期死亡率'!V11)*1000","v":0},{"$f":"'月・区別，22週以後－早期新生児別周産期死亡数'!H23/('月・区別，22週以後－早期新生児別周産期死亡数'!H23+'月・区別，22週以後－早期新生児別周産期死亡率'!W11)*1000","v":0},{"$f":"'月・区別，22週以後－早期新生児別周産期死亡数'!I23/('月・区別，22週以後－早期新生児別周産期死亡数'!I23+'月・区別，22週以後－早期新生児別周産期死亡率'!X11)*1000","v":0},{"$f":"'月・区別，22週以後－早期新生児別周産期死亡数'!J23/('月・区別，22週以後－早期新生児別周産期死亡数'!J23+'月・区別，22週以後－早期新生児別周産期死亡率'!Y11)*1000","v":0},{"$f":"'月・区別，22週以後－早期新生児別周産期死亡数'!K23/('月・区別，22週以後－早期新生児別周産期死亡数'!K23+'月・区別，22週以後－早期新生児別周産期死亡率'!Z11)*1000","v":0},{"$f":"'月・区別，22週以後－早期新生児別周産期死亡数'!L23/('月・区別，22週以後－早期新生児別周産期死亡数'!L23+'月・区別，22週以後－早期新生児別周産期死亡率'!AA11)*1000","v":0},{"$f":"'月・区別，22週以後－早期新生児別周産期死亡数'!M23/('月・区別，22週以後－早期新生児別周産期死亡数'!M23+'月・区別，22週以後－早期新生児別周産期死亡率'!AB11)*1000","v":0},{"$f":"'月・区別，22週以後－早期新生児別周産期死亡数'!N23/('月・区別，22週以後－早期新生児別周産期死亡数'!N23+'月・区別，22週以後－早期新生児別周産期死亡率'!AC11)*1000","v":0}]
["清田",{"$f":"'月・区別，22週以後－早期新生児別周産期死亡数'!B24/('月・区別，22週以後－早期新生児別周産期死亡数'!B24+'月・区別，22週以後－早期新生児別周産期死亡率'!Q12)*1000","v":0},{"$f":"'月・区別，22週以後－早期新生児別周産期死亡数'!C24/('月・区別，22週以後－早期新生児別周産期死亡数'!C24+'月・区別，22週以後－早期新生児別周産期死亡率'!R12)*1000","v":0},{"$f":"'月・区別，22週以後－早期新生児別周産期死亡数'!D24/('月・区別，22週以後－早期新生児別周産期死亡数'!D24+'月・区別，22週以後－早期新生児別周産期死亡率'!S12)*1000","v":0},{"$f":"'月・区別，22週以後－早期新生児別周産期死亡数'!E24/('月・区別，22週以後－早期新生児別周産期死亡数'!E24+'月・区別，22週以後－早期新生児別周産期死亡率'!T12)*1000","v":0},{"$f":"'月・区別，22週以後－早期新生児別周産期死亡数'!F24/('月・区別，22週以後－早期新生児別周産期死亡数'!F24+'月・区別，22週以後－早期新生児別周産期死亡率'!U12)*1000","v":0},{"$f":"'月・区別，22週以後－早期新生児別周産期死亡数'!G24/('月・区別，22週以後－早期新生児別周産期死亡数'!G24+'月・区別，22週以後－早期新生児別周産期死亡率'!V12)*1000","v":0},{"$f":"'月・区別，22週以後－早期新生児別周産期死亡数'!H24/('月・区別，22週以後－早期新生児別周産期死亡数'!H24+'月・区別，22週以後－早期新生児別周産期死亡率'!W12)*1000","v":0},{"$f":"'月・区別，22週以後－早期新生児別周産期死亡数'!I24/('月・区別，22週以後－早期新生児別周産期死亡数'!I24+'月・区別，22週以後－早期新生児別周産期死亡率'!X12)*1000","v":0},{"$f":"'月・区別，22週以後－早期新生児別周産期死亡数'!J24/('月・区別，22週以後－早期新生児別周産期死亡数'!J24+'月・区別，22週以後－早期新生児別周産期死亡率'!Y12)*1000","v":0},{"$f":"'月・区別，22週以後－早期新生児別周産期死亡数'!K24/('月・区別，22週以後－早期新生児別周産期死亡数'!K24+'月・区別，22週以後－早期新生児別周産期死亡率'!Z12)*1000","v":0},{"$f":"'月・区別，22週以後－早期新生児別周産期死亡数'!L24/('月・区別，22週以後－早期新生児別周産期死亡数'!L24+'月・区別，22週以後－早期新生児別周産期死亡率'!AA12)*1000","v":0},{"$f":"'月・区別，22週以後－早期新生児別周産期死亡数'!M24/('月・区別，22週以後－早期新生児別周産期死亡数'!M24+'月・区別，22週以後－早期新生児別周産期死亡率'!AB12)*1000","v":0},{"$f":"'月・区別，22週以後－早期新生児別周産期死亡数'!N24/('月・区別，22週以後－早期新生児別周産期死亡数'!N24+'月・区別，22週以後－早期新生児別周産期死亡率'!AC12)*1000","v":0}]
["南",{"$f":"'月・区別，22週以後－早期新生児別周産期死亡数'!B25/('月・区別，22週以後－早期新生児別周産期死亡数'!B25+'月・区別，22週以後－早期新生児別周産期死亡率'!Q13)*1000","v":0},{"$f":"'月・区別，22週以後－早期新生児別周産期死亡数'!C25/('月・区別，22週以後－早期新生児別周産期死亡数'!C25+'月・区別，22週以後－早期新生児別周産期死亡率'!R13)*1000","v":0},{"$f":"'月・区別，22週以後－早期新生児別周産期死亡数'!D25/('月・区別，22週以後－早期新生児別周産期死亡数'!D25+'月・区別，22週以後－早期新生児別周産期死亡率'!S13)*1000","v":0},{"$f":"'月・区別，22週以後－早期新生児別周産期死亡数'!E25/('月・区別，22週以後－早期新生児別周産期死亡数'!E25+'月・区別，22週以後－早期新生児別周産期死亡率'!T13)*1000","v":0},{"$f":"'月・区別，22週以後－早期新生児別周産期死亡数'!F25/('月・区別，22週以後－早期新生児別周産期死亡数'!F25+'月・区別，22週以後－早期新生児別周産期死亡率'!U13)*1000","v":0},{"$f":"'月・区別，22週以後－早期新生児別周産期死亡数'!G25/('月・区別，22週以後－早期新生児別周産期死亡数'!G25+'月・区別，22週以後－早期新生児別周産期死亡率'!V13)*1000","v":0},{"$f":"'月・区別，22週以後－早期新生児別周産期死亡数'!H25/('月・区別，22週以後－早期新生児別周産期死亡数'!H25+'月・区別，22週以後－早期新生児別周産期死亡率'!W13)*1000","v":0},{"$f":"'月・区別，22週以後－早期新生児別周産期死亡数'!I25/('月・区別，22週以後－早期新生児別周産期死亡数'!I25+'月・区別，22週以後－早期新生児別周産期死亡率'!X13)*1000","v":0},{"$f":"'月・区別，22週以後－早期新生児別周産期死亡数'!J25/('月・区別，22週以後－早期新生児別周産期死亡数'!J25+'月・区別，22週以後－早期新生児別周産期死亡率'!Y13)*1000","v":0},{"$f":"'月・区別，22週以後－早期新生児別周産期死亡数'!K25/('月・区別，22週以後－早期新生児別周産期死亡数'!K25+'月・区別，22週以後－早期新生児別周産期死亡率'!Z13)*1000","v":0},{"$f":"'月・区別，22週以後－早期新生児別周産期死亡数'!L25/('月・区別，22週以後－早期新生児別周産期死亡数'!L25+'月・区別，22週以後－早期新生児別周産期死亡率'!AA13)*1000","v":0},{"$f":"'月・区別，22週以後－早期新生児別周産期死亡数'!M25/('月・区別，22週以後－早期新生児別周産期死亡数'!M25+'月・区別，22週以後－早期新生児別周産期死亡率'!AB13)*1000","v":0},{"$f":"'月・区別，22週以後－早期新生児別周産期死亡数'!N25/('月・区別，22週以後－早期新生児別周産期死亡数'!N25+'月・区別，22週以後－早期新生児別周産期死亡率'!AC13)*1000","v":0}]
["西",{"$f":"'月・区別，22週以後－早期新生児別周産期死亡数'!B26/('月・区別，22週以後－早期新生児別周産期死亡数'!B26+'月・区別，22週以後－早期新生児別周産期死亡率'!Q14)*1000","v":0},{"$f":"'月・区別，22週以後－早期新生児別周産期死亡数'!C26/('月・区別，22週以後－早期新生児別周産期死亡数'!C26+'月・区別，22週以後－早期新生児別周産期死亡率'!R14)*1000","v":0},{"$f":"'月・区別，22週以後－早期新生児別周産期死亡数'!D26/('月・区別，22週以後－早期新生児別周産期死亡数'!D26+'月・区別，22週以後－早期新生児別周産期死亡率'!S14)*1000","v":0},{"$f":"'月・区別，22週以後－早期新生児別周産期死亡数'!E26/('月・区別，22週以後－早期新生児別周産期死亡数'!E26+'月・区別，22週以後－早期新生児別周産期死亡率'!T14)*1000","v":0},{"$f":"'月・区別，22週以後－早期新生児別周産期死亡数'!F26/('月・区別，22週以後－早期新生児別周産期死亡数'!F26+'月・区別，22週以後－早期新生児別周産期死亡率'!U14)*1000","v":0},{"$f":"'月・区別，22週以後－早期新生児別周産期死亡数'!G26/('月・区別，22週以後－早期新生児別周産期死亡数'!G26+'月・区別，22週以後－早期新生児別周産期死亡率'!V14)*1000","v":0},{"$f":"'月・区別，22週以後－早期新生児別周産期死亡数'!H26/('月・区別，22週以後－早期新生児別周産期死亡数'!H26+'月・区別，22週以後－早期新生児別周産期死亡率'!W14)*1000","v":0},{"$f":"'月・区別，22週以後－早期新生児別周産期死亡数'!I26/('月・区別，22週以後－早期新生児別周産期死亡数'!I26+'月・区別，22週以後－早期新生児別周産期死亡率'!X14)*1000","v":0},{"$f":"'月・区別，22週以後－早期新生児別周産期死亡数'!J26/('月・区別，22週以後－早期新生児別周産期死亡数'!J26+'月・区別，22週以後－早期新生児別周産期死亡率'!Y14)*1000","v":0},{"$f":"'月・区別，22週以後－早期新生児別周産期死亡数'!K26/('月・区別，22週以後－早期新生児別周産期死亡数'!K26+'月・区別，22週以後－早期新生児別周産期死亡率'!Z14)*1000","v":0},{"$f":"'月・区別，22週以後－早期新生児別周産期死亡数'!L26/('月・区別，22週以後－早期新生児別周産期死亡数'!L26+'月・区別，22週以後－早期新生児別周産期死亡率'!AA14)*1000","v":0},{"$f":"'月・区別，22週以後－早期新生児別周産期死亡数'!M26/('月・区別，22週以後－早期新生児別周産期死亡数'!M26+'月・区別，22週以後－早期新生児別周産期死亡率'!AB14)*1000","v":0},{"$f":"'月・区別，22週以後－早期新生児別周産期死亡数'!N26/('月・区別，22週以後－早期新生児別周産期死亡数'!N26+'月・区別，22週以後－早期新生児別周産期死亡率'!AC14)*1000","v":0}]
["手稲",{"$f":"'月・区別，22週以後－早期新生児別周産期死亡数'!B27/('月・区別，22週以後－早期新生児別周産期死亡数'!B27+'月・区別，22週以後－早期新生児別周産期死亡率'!Q15)*1000","v":0},{"$f":"'月・区別，22週以後－早期新生児別周産期死亡数'!C27/('月・区別，22週以後－早期新生児別周産期死亡数'!C27+'月・区別，22週以後－早期新生児別周産期死亡率'!R15)*1000","v":0},{"$f":"'月・区別，22週以後－早期新生児別周産期死亡数'!D27/('月・区別，22週以後－早期新生児別周産期死亡数'!D27+'月・区別，22週以後－早期新生児別周産期死亡率'!S15)*1000","v":0},{"$f":"'月・区別，22週以後－早期新生児別周産期死亡数'!E27/('月・区別，22週以後－早期新生児別周産期死亡数'!E27+'月・区別，22週以後－早期新生児別周産期死亡率'!T15)*1000","v":0},{"$f":"'月・区別，22週以後－早期新生児別周産期死亡数'!F27/('月・区別，22週以後－早期新生児別周産期死亡数'!F27+'月・区別，22週以後－早期新生児別周産期死亡率'!U15)*1000","v":0},{"$f":"'月・区別，22週以後－早期新生児別周産期死亡数'!G27/('月・区別，22週以後－早期新生児別周産期死亡数'!G27+'月・区別，22週以後－早期新生児別周産期死亡率'!V15)*1000","v":0},{"$f":"'月・区別，22週以後－早期新生児別周産期死亡数'!H27/('月・区別，22週以後－早期新生児別周産期死亡数'!H27+'月・区別，22週以後－早期新生児別周産期死亡率'!W15)*1000","v":0},{"$f":"'月・区別，22週以後－早期新生児別周産期死亡数'!I27/('月・区別，22週以後－早期新生児別周産期死亡数'!I27+'月・区別，22週以後－早期新生児別周産期死亡率'!X15)*1000","v":0},{"$f":"'月・区別，22週以後－早期新生児別周産期死亡数'!J27/('月・区別，22週以後－早期新生児別周産期死亡数'!J27+'月・区別，22週以後－早期新生児別周産期死亡率'!Y15)*1000","v":0},{"$f":"'月・区別，22週以後－早期新生児別周産期死亡数'!K27/('月・区別，22週以後－早期新生児別周産期死亡数'!K27+'月・区別，22週以後－早期新生児別周産期死亡率'!Z15)*1000","v":0},{"$f":"'月・区別，22週以後－早期新生児別周産期死亡数'!L27/('月・区別，22週以後－早期新生児別周産期死亡数'!L27+'月・区別，22週以後－早期新生児別周産期死亡率'!AA15)*1000","v":0},{"$f":"'月・区別，22週以後－早期新生児別周産期死亡数'!M27/('月・区別，22週以後－早期新生児別周産期死亡数'!M27+'月・区別，22週以後－早期新生児別周産期死亡率'!AB15)*1000","v":0},{"$f":"'月・区別，22週以後－早期新生児別周産期死亡数'!N27/('月・区別，22週以後－早期新生児別周産期死亡数'!N27+'月・区別，22週以後－早期新生児別周産期死亡率'!AC15)*1000","v":0}]
[null,"早期新生児死亡率(出生千対)"]
["総数",{"$f":"'月・区別，22週以後－早期新生児別周産期死亡数'!B29/'月・区別，22週以後－早期新生児別周産期死亡率'!Q5*1000","v":0},{"$f":"'月・区別，22週以後－早期新生児別周産期死亡数'!C29/'月・区別，22週以後－早期新生児別周産期死亡率'!R5*1000","v":0},{"$f":"'月・区別，22週以後－早期新生児別周産期死亡数'!D29/'月・区別，22週以後－早期新生児別周産期死亡率'!S5*1000","v":0},{"$f":"'月・区別，22週以後－早期新生児別周産期死亡数'!E29/'月・区別，22週以後－早期新生児別周産期死亡率'!T5*1000","v":0},{"$f":"'月・区別，22週以後－早期新生児別周産期死亡数'!F29/'月・区別，22週以後－早期新生児別周産期死亡率'!U5*1000","v":0},{"$f":"'月・区別，22週以後－早期新生児別周産期死亡数'!G29/'月・区別，22週以後－早期新生児別周産期死亡率'!V5*1000","v":0},{"$f":"'月・区別，22週以後－早期新生児別周産期死亡数'!H29/'月・区別，22週以後－早期新生児別周産期死亡率'!W5*1000","v":0},{"$f":"'月・区別，22週以後－早期新生児別周産期死亡数'!I29/'月・区別，22週以後－早期新生児別周産期死亡率'!X5*1000","v":0},{"$f":"'月・区別，22週以後－早期新生児別周産期死亡数'!J29/'月・区別，22週以後－早期新生児別周産期死亡率'!Y5*1000","v":0},{"$f":"'月・区別，22週以後－早期新生児別周産期死亡数'!K29/'月・区別，22週以後－早期新生児別周産期死亡率'!Z5*1000","v":0},{"$f":"'月・区別，22週以後－早期新生児別周産期死亡数'!L29/'月・区別，22週以後－早期新生児別周産期死亡率'!AA5*1000","v":0},{"$f":"'月・区別，22週以後－早期新生児別周産期死亡数'!M29/'月・区別，22週以後－早期新生児別周産期死亡率'!AB5*1000","v":0},{"$f":"'月・区別，22週以後－早期新生児別周産期死亡数'!N29/'月・区別，22週以後－早期新生児別周産期死亡率'!AC5*1000","v":0}]
["中央",{"$f":"'月・区別，22週以後－早期新生児別周産期死亡数'!B30/'月・区別，22週以後－早期新生児別周産期死亡率'!Q6*1000","v":0},{"$f":"'月・区別，22週以後－早期新生児別周産期死亡数'!C30/'月・区別，22週以後－早期新生児別周産期死亡率'!R6*1000","v":0},{"$f":"'月・区別，22週以後－早期新生児別周産期死亡数'!D30/'月・区別，22週以後－早期新生児別周産期死亡率'!S6*1000","v":0},{"$f":"'月・区別，22週以後－早期新生児別周産期死亡数'!E30/'月・区別，22週以後－早期新生児別周産期死亡率'!T6*1000","v":0},{"$f":"'月・区別，22週以後－早期新生児別周産期死亡数'!F30/'月・区別，22週以後－早期新生児別周産期死亡率'!U6*1000","v":0},{"$f":"'月・区別，22週以後－早期新生児別周産期死亡数'!G30/'月・区別，22週以後－早期新生児別周産期死亡率'!V6*1000","v":0},{"$f":"'月・区別，22週以後－早期新生児別周産期死亡数'!H30/'月・区別，22週以後－早期新生児別周産期死亡率'!W6*1000","v":0},{"$f":"'月・区別，22週以後－早期新生児別周産期死亡数'!I30/'月・区別，22週以後－早期新生児別周産期死亡率'!X6*1000","v":0},{"$f":"'月・区別，22週以後－早期新生児別周産期死亡数'!J30/'月・区別，22週以後－早期新生児別周産期死亡率'!Y6*1000","v":0},{"$f":"'月・区別，22週以後－早期新生児別周産期死亡数'!K30/'月・区別，22週以後－早期新生児別周産期死亡率'!Z6*1000","v":0},{"$f":"'月・区別，22週以後－早期新生児別周産期死亡数'!L30/'月・区別，22週以後－早期新生児別周産期死亡率'!AA6*1000","v":0},{"$f":"'月・区別，22週以後－早期新生児別周産期死亡数'!M30/'月・区別，22週以後－早期新生児別周産期死亡率'!AB6*1000","v":0},{"$f":"'月・区別，22週以後－早期新生児別周産期死亡数'!N30/'月・区別，22週以後－早期新生児別周産期死亡率'!AC6*1000","v":0}]
["北",{"$f":"'月・区別，22週以後－早期新生児別周産期死亡数'!B31/'月・区別，22週以後－早期新生児別周産期死亡率'!Q7*1000","v":0},{"$f":"'月・区別，22週以後－早期新生児別周産期死亡数'!C31/'月・区別，22週以後－早期新生児別周産期死亡率'!R7*1000","v":0},{"$f":"'月・区別，22週以後－早期新生児別周産期死亡数'!D31/'月・区別，22週以後－早期新生児別周産期死亡率'!S7*1000","v":0},{"$f":"'月・区別，22週以後－早期新生児別周産期死亡数'!E31/'月・区別，22週以後－早期新生児別周産期死亡率'!T7*1000","v":0},{"$f":"'月・区別，22週以後－早期新生児別周産期死亡数'!F31/'月・区別，22週以後－早期新生児別周産期死亡率'!U7*1000","v":0},{"$f":"'月・区別，22週以後－早期新生児別周産期死亡数'!G31/'月・区別，22週以後－早期新生児別周産期死亡率'!V7*1000","v":0},{"$f":"'月・区別，22週以後－早期新生児別周産期死亡数'!H31/'月・区別，22週以後－早期新生児別周産期死亡率'!W7*1000","v":0},{"$f":"'月・区別，22週以後－早期新生児別周産期死亡数'!I31/'月・区別，22週以後－早期新生児別周産期死亡率'!X7*1000","v":0},{"$f":"'月・区別，22週以後－早期新生児別周産期死亡数'!J31/'月・区別，22週以後－早期新生児別周産期死亡率'!Y7*1000","v":0},{"$f":"'月・区別，22週以後－早期新生児別周産期死亡数'!K31/'月・区別，22週以後－早期新生児別周産期死亡率'!Z7*1000","v":0},{"$f":"'月・区別，22週以後－早期新生児別周産期死亡数'!L31/'月・区別，22週以後－早期新生児別周産期死亡率'!AA7*1000","v":0},{"$f":"'月・区別，22週以後－早期新生児別周産期死亡数'!M31/'月・区別，22週以後－早期新生児別周産期死亡率'!AB7*1000","v":0},{"$f":"'月・区別，22週以後－早期新生児別周産期死亡数'!N31/'月・区別，22週以後－早期新生児別周産期死亡率'!AC7*1000","v":0}]
["東",{"$f":"'月・区別，22週以後－早期新生児別周産期死亡数'!B32/'月・区別，22週以後－早期新生児別周産期死亡率'!Q8*1000","v":0},{"$f":"'月・区別，22週以後－早期新生児別周産期死亡数'!C32/'月・区別，22週以後－早期新生児別周産期死亡率'!R8*1000","v":0},{"$f":"'月・区別，22週以後－早期新生児別周産期死亡数'!D32/'月・区別，22週以後－早期新生児別周産期死亡率'!S8*1000","v":0},{"$f":"'月・区別，22週以後－早期新生児別周産期死亡数'!E32/'月・区別，22週以後－早期新生児別周産期死亡率'!T8*1000","v":0},{"$f":"'月・区別，22週以後－早期新生児別周産期死亡数'!F32/'月・区別，22週以後－早期新生児別周産期死亡率'!U8*1000","v":0},{"$f":"'月・区別，22週以後－早期新生児別周産期死亡数'!G32/'月・区別，22週以後－早期新生児別周産期死亡率'!V8*1000","v":0},{"$f":"'月・区別，22週以後－早期新生児別周産期死亡数'!H32/'月・区別，22週以後－早期新生児別周産期死亡率'!W8*1000","v":0},{"$f":"'月・区別，22週以後－早期新生児別周産期死亡数'!I32/'月・区別，22週以後－早期新生児別周産期死亡率'!X8*1000","v":0},{"$f":"'月・区別，22週以後－早期新生児別周産期死亡数'!J32/'月・区別，22週以後－早期新生児別周産期死亡率'!Y8*1000","v":0},{"$f":"'月・区別，22週以後－早期新生児別周産期死亡数'!K32/'月・区別，22週以後－早期新生児別周産期死亡率'!Z8*1000","v":0},{"$f":"'月・区別，22週以後－早期新生児別周産期死亡数'!L32/'月・区別，22週以後－早期新生児別周産期死亡率'!AA8*1000","v":0},{"$f":"'月・区別，22週以後－早期新生児別周産期死亡数'!M32/'月・区別，22週以後－早期新生児別周産期死亡率'!AB8*1000","v":0},{"$f":"'月・区別，22週以後－早期新生児別周産期死亡数'!N32/'月・区別，22週以後－早期新生児別周産期死亡率'!AC8*1000","v":0}]
["白石",{"$f":"'月・区別，22週以後－早期新生児別周産期死亡数'!B33/'月・区別，22週以後－早期新生児別周産期死亡率'!Q9*1000","v":0},{"$f":"'月・区別，22週以後－早期新生児別周産期死亡数'!C33/'月・区別，22週以後－早期新生児別周産期死亡率'!R9*1000","v":0},{"$f":"'月・区別，22週以後－早期新生児別周産期死亡数'!D33/'月・区別，22週以後－早期新生児別周産期死亡率'!S9*1000","v":0},{"$f":"'月・区別，22週以後－早期新生児別周産期死亡数'!E33/'月・区別，22週以後－早期新生児別周産期死亡率'!T9*1000","v":0},{"$f":"'月・区別，22週以後－早期新生児別周産期死亡数'!F33/'月・区別，22週以後－早期新生児別周産期死亡率'!U9*1000","v":0},{"$f":"'月・区別，22週以後－早期新生児別周産期死亡数'!G33/'月・区別，22週以後－早期新生児別周産期死亡率'!V9*1000","v":0},{"$f":"'月・区別，22週以後－早期新生児別周産期死亡数'!H33/'月・区別，22週以後－早期新生児別周産期死亡率'!W9*1000","v":0},{"$f":"'月・区別，22週以後－早期新生児別周産期死亡数'!I33/'月・区別，22週以後－早期新生児別周産期死亡率'!X9*1000","v":0},{"$f":"'月・区別，22週以後－早期新生児別周産期死亡数'!J33/'月・区別，22週以後－早期新生児別周産期死亡率'!Y9*1000","v":0},{"$f":"'月・区別，22週以後－早期新生児別周産期死亡数'!K33/'月・区別，22週以後－早期新生児別周産期死亡率'!Z9*1000","v":0},{"$f":"'月・区別，22週以後－早期新生児別周産期死亡数'!L33/'月・区別，22週以後－早期新生児別周産期死亡率'!AA9*1000","v":0},{"$f":"'月・区別，22週以後－早期新生児別周産期死亡数'!M33/'月・区別，22週以後－早期新生児別周産期死亡率'!AB9*1000","v":0},{"$f":"'月・区別，22週以後－早期新生児別周産期死亡数'!N33/'月・区別，22週以後－早期新生児別周産期死亡率'!AC9*1000","v":0}]
["厚別",{"$f":"'月・区別，22週以後－早期新生児別周産期死亡数'!B34/'月・区別，22週以後－早期新生児別周産期死亡率'!Q10*1000","v":0},{"$f":"'月・区別，22週以後－早期新生児別周産期死亡数'!C34/'月・区別，22週以後－早期新生児別周産期死亡率'!R10*1000","v":0},{"$f":"'月・区別，22週以後－早期新生児別周産期死亡数'!D34/'月・区別，22週以後－早期新生児別周産期死亡率'!S10*1000","v":0},{"$f":"'月・区別，22週以後－早期新生児別周産期死亡数'!E34/'月・区別，22週以後－早期新生児別周産期死亡率'!T10*1000","v":0},{"$f":"'月・区別，22週以後－早期新生児別周産期死亡数'!F34/'月・区別，22週以後－早期新生児別周産期死亡率'!U10*1000","v":0},{"$f":"'月・区別，22週以後－早期新生児別周産期死亡数'!G34/'月・区別，22週以後－早期新生児別周産期死亡率'!V10*1000","v":0},{"$f":"'月・区別，22週以後－早期新生児別周産期死亡数'!H34/'月・区別，22週以後－早期新生児別周産期死亡率'!W10*1000","v":0},{"$f":"'月・区別，22週以後－早期新生児別周産期死亡数'!I34/'月・区別，22週以後－早期新生児別周産期死亡率'!X10*1000","v":0},{"$f":"'月・区別，22週以後－早期新生児別周産期死亡数'!J34/'月・区別，22週以後－早期新生児別周産期死亡率'!Y10*1000","v":0},{"$f":"'月・区別，22週以後－早期新生児別周産期死亡数'!K34/'月・区別，22週以後－早期新生児別周産期死亡率'!Z10*1000","v":0},{"$f":"'月・区別，22週以後－早期新生児別周産期死亡数'!L34/'月・区別，22週以後－早期新生児別周産期死亡率'!AA10*1000","v":0},{"$f":"'月・区別，22週以後－早期新生児別周産期死亡数'!M34/'月・区別，22週以後－早期新生児別周産期死亡率'!AB10*1000","v":0},{"$f":"'月・区別，22週以後－早期新生児別周産期死亡数'!N34/'月・区別，22週以後－早期新生児別周産期死亡率'!AC10*1000","v":0}]
["豊平",{"$f":"'月・区別，22週以後－早期新生児別周産期死亡数'!B35/'月・区別，22週以後－早期新生児別周産期死亡率'!Q11*1000","v":0},{"$f":"'月・区別，22週以後－早期新生児別周産期死亡数'!C35/'月・区別，22週以後－早期新生児別周産期死亡率'!R11*1000","v":0},{"$f":"'月・区別，22週以後－早期新生児別周産期死亡数'!D35/'月・区別，22週以後－早期新生児別周産期死亡率'!S11*1000","v":0},{"$f":"'月・区別，22週以後－早期新生児別周産期死亡数'!E35/'月・区別，22週以後－早期新生児別周産期死亡率'!T11*1000","v":0},{"$f":"'月・区別，22週以後－早期新生児別周産期死亡数'!F35/'月・区別，22週以後－早期新生児別周産期死亡率'!U11*1000","v":0},{"$f":"'月・区別，22週以後－早期新生児別周産期死亡数'!G35/'月・区別，22週以後－早期新生児別周産期死亡率'!V11*1000","v":0},{"$f":"'月・区別，22週以後－早期新生児別周産期死亡数'!H35/'月・区別，22週以後－早期新生児別周産期死亡率'!W11*1000","v":0},{"$f":"'月・区別，22週以後－早期新生児別周産期死亡数'!I35/'月・区別，22週以後－早期新生児別周産期死亡率'!X11*1000","v":0},{"$f":"'月・区別，22週以後－早期新生児別周産期死亡数'!J35/'月・区別，22週以後－早期新生児別周産期死亡率'!Y11*1000","v":0},{"$f":"'月・区別，22週以後－早期新生児別周産期死亡数'!K35/'月・区別，22週以後－早期新生児別周産期死亡率'!Z11*1000","v":0},{"$f":"'月・区別，22週以後－早期新生児別周産期死亡数'!L35/'月・区別，22週以後－早期新生児別周産期死亡率'!AA11*1000","v":0},{"$f":"'月・区別，22週以後－早期新生児別周産期死亡数'!M35/'月・区別，22週以後－早期新生児別周産期死亡率'!AB11*1000","v":0},{"$f":"'月・区別，22週以後－早期新生児別周産期死亡数'!N35/'月・区別，22週以後－早期新生児別周産期死亡率'!AC11*1000","v":0}]
["清田",{"$f":"'月・区別，22週以後－早期新生児別周産期死亡数'!B36/'月・区別，22週以後－早期新生児別周産期死亡率'!Q12*1000","v":0},{"$f":"'月・区別，22週以後－早期新生児別周産期死亡数'!C36/'月・区別，22週以後－早期新生児別周産期死亡率'!R12*1000","v":0},{"$f":"'月・区別，22週以後－早期新生児別周産期死亡数'!D36/'月・区別，22週以後－早期新生児別周産期死亡率'!S12*1000","v":0},{"$f":"'月・区別，22週以後－早期新生児別周産期死亡数'!E36/'月・区別，22週以後－早期新生児別周産期死亡率'!T12*1000","v":0},{"$f":"'月・区別，22週以後－早期新生児別周産期死亡数'!F36/'月・区別，22週以後－早期新生児別周産期死亡率'!U12*1000","v":0},{"$f":"'月・区別，22週以後－早期新生児別周産期死亡数'!G36/'月・区別，22週以後－早期新生児別周産期死亡率'!V12*1000","v":0},{"$f":"'月・区別，22週以後－早期新生児別周産期死亡数'!H36/'月・区別，22週以後－早期新生児別周産期死亡率'!W12*1000","v":0},{"$f":"'月・区別，22週以後－早期新生児別周産期死亡数'!I36/'月・区別，22週以後－早期新生児別周産期死亡率'!X12*1000","v":0},{"$f":"'月・区別，22週以後－早期新生児別周産期死亡数'!J36/'月・区別，22週以後－早期新生児別周産期死亡率'!Y12*1000","v":0},{"$f":"'月・区別，22週以後－早期新生児別周産期死亡数'!K36/'月・区別，22週以後－早期新生児別周産期死亡率'!Z12*1000","v":0},{"$f":"'月・区別，22週以後－早期新生児別周産期死亡数'!L36/'月・区別，22週以後－早期新生児別周産期死亡率'!AA12*1000","v":0},{"$f":"'月・区別，22週以後－早期新生児別周産期死亡数'!M36/'月・区別，22週以後－早期新生児別周産期死亡率'!AB12*1000","v":0},{"$f":"'月・区別，22週以後－早期新生児別周産期死亡数'!N36/'月・区別，22週以後－早期新生児別周産期死亡率'!AC12*1000","v":0}]
["南",{"$f":"'月・区別，22週以後－早期新生児別周産期死亡数'!B37/'月・区別，22週以後－早期新生児別周産期死亡率'!Q13*1000","v":0},{"$f":"'月・区別，22週以後－早期新生児別周産期死亡数'!C37/'月・区別，22週以後－早期新生児別周産期死亡率'!R13*1000","v":0},{"$f":"'月・区別，22週以後－早期新生児別周産期死亡数'!D37/'月・区別，22週以後－早期新生児別周産期死亡率'!S13*1000","v":0},{"$f":"'月・区別，22週以後－早期新生児別周産期死亡数'!E37/'月・区別，22週以後－早期新生児別周産期死亡率'!T13*1000","v":0},{"$f":"'月・区別，22週以後－早期新生児別周産期死亡数'!F37/'月・区別，22週以後－早期新生児別周産期死亡率'!U13*1000","v":0},{"$f":"'月・区別，22週以後－早期新生児別周産期死亡数'!G37/'月・区別，22週以後－早期新生児別周産期死亡率'!V13*1000","v":0},{"$f":"'月・区別，22週以後－早期新生児別周産期死亡数'!H37/'月・区別，22週以後－早期新生児別周産期死亡率'!W13*1000","v":0},{"$f":"'月・区別，22週以後－早期新生児別周産期死亡数'!I37/'月・区別，22週以後－早期新生児別周産期死亡率'!X13*1000","v":0},{"$f":"'月・区別，22週以後－早期新生児別周産期死亡数'!J37/'月・区別，22週以後－早期新生児別周産期死亡率'!Y13*1000","v":0},{"$f":"'月・区別，22週以後－早期新生児別周産期死亡数'!K37/'月・区別，22週以後－早期新生児別周産期死亡率'!Z13*1000","v":0},{"$f":"'月・区別，22週以後－早期新生児別周産期死亡数'!L37/'月・区別，22週以後－早期新生児別周産期死亡率'!AA13*1000","v":0},{"$f":"'月・区別，22週以後－早期新生児別周産期死亡数'!M37/'月・区別，22週以後－早期新生児別周産期死亡率'!AB13*1000","v":0},{"$f":"'月・区別，22週以後－早期新生児別周産期死亡数'!N37/'月・区別，22週以後－早期新生児別周産期死亡率'!AC13*1000","v":0}]
["西",{"$f":"'月・区別，22週以後－早期新生児別周産期死亡数'!B38/'月・区別，22週以後－早期新生児別周産期死亡率'!Q14*1000","v":0},{"$f":"'月・区別，22週以後－早期新生児別周産期死亡数'!C38/'月・区別，22週以後－早期新生児別周産期死亡率'!R14*1000","v":0},{"$f":"'月・区別，22週以後－早期新生児別周産期死亡数'!D38/'月・区別，22週以後－早期新生児別周産期死亡率'!S14*1000","v":0},{"$f":"'月・区別，22週以後－早期新生児別周産期死亡数'!E38/'月・区別，22週以後－早期新生児別周産期死亡率'!T14*1000","v":0},{"$f":"'月・区別，22週以後－早期新生児別周産期死亡数'!F38/'月・区別，22週以後－早期新生児別周産期死亡率'!U14*1000","v":0},{"$f":"'月・区別，22週以後－早期新生児別周産期死亡数'!G38/'月・区別，22週以後－早期新生児別周産期死亡率'!V14*1000","v":0},{"$f":"'月・区別，22週以後－早期新生児別周産期死亡数'!H38/'月・区別，22週以後－早期新生児別周産期死亡率'!W14*1000","v":0},{"$f":"'月・区別，22週以後－早期新生児別周産期死亡数'!I38/'月・区別，22週以後－早期新生児別周産期死亡率'!X14*1000","v":0},{"$f":"'月・区別，22週以後－早期新生児別周産期死亡数'!J38/'月・区別，22週以後－早期新生児別周産期死亡率'!Y14*1000","v":0},{"$f":"'月・区別，22週以後－早期新生児別周産期死亡数'!K38/'月・区別，22週以後－早期新生児別周産期死亡率'!Z14*1000","v":0},{"$f":"'月・区別，22週以後－早期新生児別周産期死亡数'!L38/'月・区別，22週以後－早期新生児別周産期死亡率'!AA14*1000","v":0},{"$f":"'月・区別，22週以後－早期新生児別周産期死亡数'!M38/'月・区別，22週以後－早期新生児別周産期死亡率'!AB14*1000","v":0},{"$f":"'月・区別，22週以後－早期新生児別周産期死亡数'!N38/'月・区別，22週以後－早期新生児別周産期死亡率'!AC14*1000","v":0}]
["手稲",{"$f":"'月・区別，22週以後－早期新生児別周産期死亡数'!B39/'月・区別，22週以後－早期新生児別周産期死亡率'!Q15*1000","v":0},{"$f":"'月・区別，22週以後－早期新生児別周産期死亡数'!C39/'月・区別，22週以後－早期新生児別周産期死亡率'!R15*1000","v":0},{"$f":"'月・区別，22週以後－早期新生児別周産期死亡数'!D39/'月・区別，22週以後－早期新生児別周産期死亡率'!S15*1000","v":0},{"$f":"'月・区別，22週以後－早期新生児別周産期死亡数'!E39/'月・区別，22週以後－早期新生児別周産期死亡率'!T15*1000","v":0},{"$f":"'月・区別，22週以後－早期新生児別周産期死亡数'!F39/'月・区別，22週以後－早期新生児別周産期死亡率'!U15*1000","v":0},{"$f":"'月・区別，22週以後－早期新生児別周産期死亡数'!G39/'月・区別，22週以後－早期新生児別周産期死亡率'!V15*1000","v":0},{"$f":"'月・区別，22週以後－早期新生児別周産期死亡数'!H39/'月・区別，22週以後－早期新生児別周産期死亡率'!W15*1000","v":0},{"$f":"'月・区別，22週以後－早期新生児別周産期死亡数'!I39/'月・区別，22週以後－早期新生児別周産期死亡率'!X15*1000","v":0},{"$f":"'月・区別，22週以後－早期新生児別周産期死亡数'!J39/'月・区別，22週以後－早期新生児別周産期死亡率'!Y15*1000","v":0},{"$f":"'月・区別，22週以後－早期新生児別周産期死亡数'!K39/'月・区別，22週以後－早期新生児別周産期死亡率'!Z15*1000","v":0},{"$f":"'月・区別，22週以後－早期新生児別周産期死亡数'!L39/'月・区別，22週以後－早期新生児別周産期死亡率'!AA15*1000","v":0},{"$f":"'月・区別，22週以後－早期新生児別周産期死亡数'!M39/'月・区別，22週以後－早期新生児別周産期死亡率'!AB15*1000","v":0},{"$f":"'月・区別，22週以後－早期新生児別周産期死亡数'!N39/'月・区別，22週以後－早期新生児別周産期死亡率'!AC15*1000","v":0}]