{"text_format":"1","workbook":"xlsx","n_sheets":29,"sheets":["1　年次別，出生数・率・性比・合計特殊出生率","2　区別，年次別出生数・出生率","3 月・性別，区別出生数・出生率","4　出生の場所別，年次別出生数・百分率","5　出生の場所・出産時の立会者別，区別出生数　","6　母の年齢階級，年次別出生数・百分率","7　母の年齢階級・性別，区別出生数・百分率","8出生順位，年次別出生数・百分率","9　区・出生順位別，出生数","10　出生順位別，母の年齢別出生数","11　出生順位別，母の年齢別出生率","12　出生順位別，母の年齢別百分率","13　母の年齢別，出生順位別百分率","14　出生順位別，年次別父母の平均年齢","15　出生順位別，区別父母の平均年齢","16　出生順位別，同居期間別嫡出子出生数・百分率・平均期間","17　妊娠期間別にみた区別出生数","18　出生時の体重別，年次別出生数","19 体重・性別，区別出生数・百分率","20　体重・性別,区別低体重児出生数，百分率，割合","21 出生時の身長別，年次別出生数・百分率・平均身長","22　単産-複産別，年次別出生数","23　単産-複産別，区別出生数","24　出生時の体重別，年次別複産出生数・平均体重","25　出生時の体重別，単産-複産別出生数・平均体重","26 　妊娠期間・性別，体重別出生数・平均体重","27　母の年齢・性別，出生順位別出生数","区・母の年齢階級，非嫡出子出生数","区別合計特殊出生率"],"not_rendered":{"charts":0,"images":0,"macros":1,"external_links":2,"defined_names":46,"comments":0,"pivot_tables":1},"unopened":[],"bounds":{"document_bytes":16777216,"sheet_cells":100000,"rows_first":2000,"rows_last":500,"rows_between":2000,"halvings":0,"cell_chars":16384,"cell_head_chars":4096},"cells_cut":0,"cells_raw":0,"read":"whole","date_system":"1900"}

{"sheet":"1　年次別，出生数・率・性比・合計特殊出生率","index":0,"n_rows":59,"n_cols":9,"rows_kept":59,"cut":false,"hidden":false,"merged":[[3,0,4,0],[3,6,4,6],[3,1,3,3],[3,4,4,4],[3,5,4,5]]}
["第2章　出　　　　　生"]
["1　年次別にみた出生数・出生率(人口千対)・出生性比及び合計特殊出生率"]
[]
["年次","出生数",null,null,"出生率","出生性比","合計特殊出生率  2)"]
[null,"総　数","男","女"]
["1950  昭和25年　",8178,4205,3973,26.057033614784135,105.83941605839415,"…",null,313850]
["  55      30",7551,3928,3623,17.69959214289063,108.41843775876345,"…",null,426620]
["  60      35",9392,4911,4481,17.929172894725287,109.596072305289,1.7534696051055825,null,523839]
["  65      40",16370,8442,7928,20.593578124764125,106.48335015136226,1.9272503689130978,null,794908]
["  70      45",20411,10502,9909,20.206450105581201,105.98445857301444,1.8440916117355752,null,1010123]
["  72      47  4)",{"$f":"SUM(C11:D11)","v":22017},11356,10661,{"$f":"B11/I11*1000","v":20.031807784900764},{"$f":"C11/D11*100","v":106.51908826564112},"…",null,1099102]
["  73      48",{"$f":"SUM(C12:D12)","v":23759},12199,11560,{"$f":"B12/I12*1000","v":20.617384762104763},{"$f":"C12/D12*100","v":105.52768166089965},"…",null,1152377]
["  74      49",{"$f":"SUM(C13:D13)","v":24525},12609,11916,{"$f":"B13/I13*1000","v":20.412018996286303},{"$f":"C13/D13*100","v":105.81570996978853},1.8876314857694614,null,1201498]
["  75      50",23404,12101,11303,18.864867609802573,107.06007254711139,1.7347379968309964,null,1240613]
["  76      51",22910,11891,11019,17.960907782380591,107.91360377529722,1.6563181531077924,null,1275548]
["  77      52",22286,11372,10914,17.068343836065473,104.19644493311344,1.6100991111067351,null,1305692]
["  78      53",22251,11423,10828,16.683499373553381,105.49501292944218,1.627734110078328,null,1333713]
["  79      54",21577,11050,10527,15.782767327616222,104.96817706849055,1.5896141345157633,null,1367124]
["  80      55",20931,10870,10061,14.931974657519099,108.04095020375708,1.5455651124779886,null,1401757]
["  81      56",19944,10181,9763,13.923543382616794,104.28147085936699,1.4789919072871536,null,1432394]
["  82      57",20727,10584,10143,14.16672818090106,104.34782608695652,1.5538154669010975,null,1463076]
["  83      58",20608,10566,10042,13.799688890942415,105.21808404700259,1.5635537352578286,null,1493367]
["  84      59",20274,10384,9890,13.340229140840288,104.99494438827097,1.5533871028783455,null,1519764]
["  85      60",19314,9823,9491,12.543122259398574,103.49805078495417,1.4890656826979205,null,1539808]
["  86      61",19130,9986,9144,12.209045926563194,109.20822397200349,1.4855787653530981,null,1566871]
["  87      62",18533,9655,8878,11.632526887625886,108.75197116467672,1.4434517958679682,null,1593205]
["  88      63",18216,9339,8877,11.252355823013835,105.20446096654274,1.40969533313861,null,1618861]
["  89    平成元年　",17479,9039,8440,10.624918317787118,107.09715639810426,1.3359612086984818,null,1645095]
["  90       2",17425,9023,8402,10.446742894416253,107.39109735777197,1.3120215122078183,null,1667984]
["  91       3",17458,8936,8522,10.299777933531093,104.85801455057498,1.306059605412849,null,1694988]
["  92       4",17325,8811,8514,10.105057603202821,103.48837209302326,1.2744509558723827,null,1714488]
["  93       5",16371,8419,7952,9.4714041236564679,105.87273641851107,1.1895688881748807,null,1728466]
["  94       6",17057,8730,8327,9.7998660181300679,104.8396781553981,1.2305106076630707,null,1740534]
["  95       7",16227,8215,8012,9.2619387229175203,102.53369945082376,1.1547751757787703,null,1752009]
["  96       8",16339,8389,7950,9.2074565802968653,105.52201257861635,1.148573507450469,null,1774540]
["  97       9",15873,8082,7791,8.8615530970215293,103.73507893723529,1.0981064433767083,null,1791221]
["  98      10",16165,8280,7885,8.9628986452244632,105.00951173113506,1.1116471376408363,null,1803546]
["  99      11",15358,7814,7544,8.47558179256513,103.57900318133618,1.0517907335753016,null,1812029]
["2000      12",15332,7840,7492,8.4395850225439091,104.64495461825946,1.0475196521704493,null,1816677]
["  01      13",15312,7758,7554,8.3458513836715209,102.70055599682289,1.03969898027757,null,1834684]
["  02      14",15577,8046,7531,8.43808486838007,106.83840127473113,1.0632284334648949,null,1848276]
["  03      15",14999,7658,7341,8.0537554212099582,104.31821277755074,1.0241598754199679,null,1862361]
["  04      16",14749,7524,7225,7.8757816909568685,104.13840830449827,1.0105204277895727,null,1872703]
["  05      17",14184,7208,6976,7.541219110589128,103.3256880733945,0.9807537752562675,null,1880863]
["  06      18",14730,7596,7134,{"$f":"B45/I45*1000","v":7.7958781874186274},106.47603027754415,1.0254621530185422,null,1889460]
["  07      19",14498,7345,7153,{"$f":"B46/I46*1000","v":7.6470237633716112},102.68418845239759,1.024198126195655,null,1895901]
["  08      20",14845,7539,7306,{"$f":"B47/I47*1000","v":7.809807898191039},103.2,1.07,null,1900815]
["  09      21",14506,7401,7105,{"$f":"B48/I48*1000","v":7.6051009644522081},104.16608022519354,1.06,null,1907404]
["  10      22",14739,7561,7178,7.730215023648511,105.33574811925328,1.0900000000000001,null,1906674]
["  11      23",14491,7378,7113,7.5397971315367069,103.72557289469984,1.0922999364694397,null,1921935]
["  12      24",14487,7415,7072,7.5109810574167239,104.85011312217193,1.1074470829888161,null,1928776]
["  13      25",14591,7505,7086,7.5359378655699416,105.91306802145075,1.1350486739302361,null,1936189]
["  14      26",14568,7492,7076,7.4990425439915001,105.87902769926512,1.1569371082316242,null,1942648]
["  15      27",14589,7543,7046,7.5064560461470302,107.05364745955153,1.1817229156793745,null,1943527]
["  16      28",14021,7144,6877,7.1593975709825086,103.88250690708159,1.157407063877635,null,1958405]
["  17      29",13821,7204,6617,7.0410480723086746,108.87108961765151,1.1608072273710901,null,1962918]
["  18      30",{"$f":"SUM(C57:D57)","v":13248},{"$f":"'3 月・性別，区別出生数・出生率'!$C$6","v":6744},{"$f":"'3 月・性別，区別出生数・出生率'!$C$7","v":6504},{"$f":"B57/I57*1000","v":6.7387611015595592},{"$f":"C57/D57*100","v":103.69003690036899},{"$f":"'11　出生順位別，母の年齢別出生率'!$C$4","v":1.137415445058547},null,{"$f":"[1]人口!$B$42","v":1965940}]
["1)　本市の集計による。"]
["2)　昭和49年以降は住民基本台帳の人口により算出した率である。"]

{"sheet":"2　区別，年次別出生数・出生率","index":1,"n_rows":74,"n_cols":24,"rows_kept":74,"cut":false,"hidden":false,"merged":[[3,1,3,11],[38,1,38,11]]}
["2　区別にみた年次別出生数及び出生率（人口千対）"]
[]
["年次","総数","中央区","北区","東区","白石区","厚別区","豊平区","清田区","南区","西区","手稲区"]
[null,"出生数",null,null,null,null,null,null,null,null,null,null,null,{"$f":"[1]年次別人口!C3","v":"総数"},{"$f":"[1]年次別人口!D3","v":"中央区"},{"$f":"[1]年次別人口!E3","v":"北区"},{"$f":"[1]年次別人口!F3","v":"東区"},{"$f":"[1]年次別人口!G3","v":"白石区"},{"$f":"[1]年次別人口!H3","v":"厚別区"},{"$f":"[1]年次別人口!I3","v":"豊平区"},{"$f":"[1]年次別人口!J3","v":"清田区"},{"$f":"[1]年次別人口!K3","v":"南区"},{"$f":"[1]年次別人口!L3","v":"西区"},{"$f":"[1]年次別人口!M3","v":"手稲区"}]
["  85      60",{"$f":"SUM(C5:L5)","v":19314},1919,2426,3145,3665,"…",3127,"…",1708,3324,"…",null,{"$f":"[1]年次別人口!C4","v":1539808},{"$f":"[1]年次別人口!D4","v":180845},{"$f":"[1]年次別人口!E4","v":212508},{"$f":"[1]年次別人口!F4","v":224539},{"$f":"[1]年次別人口!G4","v":263938},{"$f":"[1]年次別人口!H4","v":0},{"$f":"[1]年次別人口!I4","v":249956},{"$f":"[1]年次別人口!J4","v":0},{"$f":"[1]年次別人口!K4","v":141743},{"$f":"[1]年次別人口!L4","v":269450},{"$f":"[1]年次別人口!M4","v":0}]
["1986  昭和61年",{"$f":"SUM(C6:L6)","v":19130},1932,2350,3024,3855,"…",3137,"…",1658,3174,"…",null,{"$f":"[1]年次別人口!C5","v":1566871},{"$f":"[1]年次別人口!D5","v":182427},{"$f":"[1]年次別人口!E5","v":214728},{"$f":"[1]年次別人口!F5","v":224730},{"$f":"[1]年次別人口!G5","v":272037},{"$f":"[1]年次別人口!H5","v":0},{"$f":"[1]年次別人口!I5","v":255105},{"$f":"[1]年次別人口!J5","v":0},{"$f":"[1]年次別人口!K5","v":142892},{"$f":"[1]年次別人口!L5","v":274952},{"$f":"[1]年次別人口!M5","v":0}]
["1987  昭和62年",{"$f":"SUM(C7:L7)","v":18533},1851,2207,2824,3715,"…",3092,"…",1555,3289,"…",null,{"$f":"[1]年次別人口!C6","v":1593205},{"$f":"[1]年次別人口!D6","v":182818},{"$f":"[1]年次別人口!E6","v":217384},{"$f":"[1]年次別人口!F6","v":225693},{"$f":"[1]年次別人口!G6","v":280378},{"$f":"[1]年次別人口!H6","v":0},{"$f":"[1]年次別人口!I6","v":260488},{"$f":"[1]年次別人口!J6","v":0},{"$f":"[1]年次別人口!K6","v":144547},{"$f":"[1]年次別人口!L6","v":281897},{"$f":"[1]年次別人口!M6","v":0}]
["1988  昭和63年",18216,1785,2148,2770,3741,"…",3034,"…",1615,3123,"…",null,1618861,182735,220308,227252,287265,0,266739,0,145661,288901,0]
["  89    平成元年　",17479,1583,1999,2667,3699,"…",2929,"…",1516,3086,"…",null,1645095,181535,224721,230623,294751,0,272011,0,146535,294919,0]
["  90       2",17425,1593,1993,2703,2288,1392,2945,"…",1521,1917,1073,null,1667984,179184,230918,232999,188043,112623,277801,0,148393,190807,110974]
["  91       3",17458,1496,2066,2850,2341,1314,2819,"…",1461,1992,1119,null,1694988,177997,234595,236454,190543,115650,281463,0,150378,192601,115307]
["  92       4",17325,1455,2102,2694,2359,1330,2879,"…",1380,1949,1177,null,1714488,176981,239907,237749,191928,117351,285597,0,152014,193258,119703]
["1993   平成5年",16371,1309,2004,2610,2079,1256,2747,"…",1383,1826,1157,null,1728466,174994,243771,238168,191918,119386,288941,0,153020,194009,124259]
["  94       6",17057,1404,2196,2624,2183,1333,2832,"…",1399,1892,1194,null,1740534,173594,247942,238547,191099,121427,292470,0,154474,193597,127384]
["  95       7",16227,1324,2048,2568,2042,1185,2769,"…",1379,1826,1086,null,1752009,173358,251419,241319,192102,122738,296647,0,155650,194308,129484]
["  96       8",16339,1350,2162,2605,2085,1266,2747,"…",1325,1749,1050,null,1774540,175812,253271,243767,193494,124213,300609,0,156831,194629,131914]
["  97       9",15873,1369,2055,2557,1990,1124,2704,"…",1264,1704,1106,null,1791221,178405,255530,245544,194555,124531,305192,0,157297,196727,133440]
["1998  平成10年",16165,1382,2047,2645,2091,1137,1889,808,1219,1859,1088,null,1803546,179801,257132,247420,194903,125679,202316,106984,157438,197627,134246]
["  99      11",15358,1336,1979,2463,1951,1100,1869,807,1118,1751,984,null,1812029,180515,258640,247756,195162,126780,203514,108731,157152,198486,135293]
["2000      12",15332,1319,1947,2569,1967,1065,1823,784,1109,1724,1025,null,1816677,180488,259139,248140,196793,127325,203918,109635,156441,199013,135785]
["  01      13",15312,1380,1982,2494,1997,1034,1773,824,1085,1789,954,null,1834684,185064,262443,249707,198580,128443,205066,110759,156589,201453,136580]
["  02      14",15577,1463,2094,2457,2013,1024,1898,819,1010,1781,1018,null,1848276,190254,265023,251256,199164,129105,205981,111613,155571,203048,137261]
["  03      15",14999,1408,2007,2414,1893,945,1770,820,1026,1749,967,null,1862361,194901,268387,252494,200077,129660,207859,112333,155234,203782,137634]
["  04      16",14749,1475,2028,2295,1884,977,1781,724,952,1747,886,null,1872703,198946,271222,253520,200856,129645,208605,112473,154348,205526,137562]
["  05      17",14184,1405,1962,2263,1868,852,1687,698,879,1667,903,null,1874479,201612,271750,253138,200866,129346,208576,112398,152505,206905,137383]
["  06      18",14730,1552,1995,2312,1907,847,1783,789,851,1746,948,null,1889460,206768,273792,254899,202638,129500,209102,113572,151858,208975,138356]
["  07      19",14498,1523,2016,2245,1850,856,1722,729,875,1712,970,null,1895901,210166,276240,255210,203006,128963,209334,114646,150261,209532,138543]
["  08      20",14845,1638,2101,2297,1933,839,1766,807,880,1691,893,null,1900815,213591,276624,255365,203180,129034,209789,115606,148867,210231,138528]
["  09      21",14506,1580,2052,2221,1831,819,1721,773,871,1685,953,null,1907404,216780,278310,255376,203764,128668,211014,116022,147757,210564,139149]
["  10      22",14739,1751,2006,2237,1955,865,1751,752,834,1672,916,null,1906674,218964,277240,254909,203771,128133,211221,116261,145958,210771,139446]
["  11      23",14491,1706,1920,2141,1887,780,1824,763,804,1739,927,null,1921935,223614,280423,256523,205395,128630,213788,116589,145217,211671,140085]
["  12      24",14487,1750,1933,2151,1921,727,1836,754,822,1666,927,null,1928776,226938,281330,257367,206800,128739,215694,116655,144080,210751,140422]
["  13      25",14591,1897,1979,2110,1872,801,1790,705,778,1715,944,null,1936189,230015,281985,258747,208404,128663,217208,116279,143100,211268,140520]
["  14      26",14568,1845,1952,2171,1939,776,1879,660,789,1611,946,null,1942648,233080,283513,259508,209064,128133,218136,116199,141960,212322,140733]
["  15      27",14589,1874,2041,2128,1891,746,1888,645,769,1657,950,null,1943527,235736,283298,260791,208989,127359,217532,115326,140753,213012,140740]
["  16      28",14021,1722,1848,2204,1849,713,1837,655,727,1572,894,null,1958405,239820,286905,263476,210171,126906,219660,115905,140184,214169,141209]
["  17      29",13821,1772,1877,2137,1737,696,1743,621,718,1652,868,null,1962918,241267,287761,264312,210686,126421,220905,115746,139157,214973,141690]
["  18      30",{"$f":"SUM(C38:L38)","v":13248},{"$f":"'3 月・性別，区別出生数・出生率'!$C$8","v":1744},{"$f":"'3 月・性別，区別出生数・出生率'!$C$11","v":1847},{"$f":"'3 月・性別，区別出生数・出生率'!$C$14","v":1978},{"$f":"'3 月・性別，区別出生数・出生率'!$C$17","v":1711},{"$f":"'3 月・性別，区別出生数・出生率'!$C$20","v":661},{"$f":"'3 月・性別，区別出生数・出生率'!$C$23","v":1682},{"$f":"'3 月・性別，区別出生数・出生率'!$C$26","v":644},{"$f":"'3 月・性別，区別出生数・出生率'!$C$29","v":642},{"$f":"'3 月・性別，区別出生数・出生率'!$C$32","v":1530},{"$f":"'3 月・性別，区別出生数・出生率'!$C$35","v":809},null,{"$f":"[1]年次別人口!C37","v":1965940},{"$f":"[1]年次別人口!D37","v":242916},{"$f":"[1]年次別人口!E37","v":288114},{"$f":"[1]年次別人口!F37","v":264183},{"$f":"[1]年次別人口!G37","v":211496},{"$f":"[1]年次別人口!H37","v":126230},{"$f":"[1]年次別人口!I37","v":222042},{"$f":"[1]年次別人口!J37","v":115272},{"$f":"[1]年次別人口!K37","v":137851},{"$f":"[1]年次別人口!L37","v":215942},{"$f":"[1]年次別人口!M37","v":141894}]
[null,"出生率"]
["  85      60",{"$f":"B5/N5*1000","v":12.543122259398574},10.611296967015953,11.416040807875468,14.006475489781286,13.885836825315035,"・",{"$f":"H5/T5*1000","v":12.510201795516011},"・",{"$f":"J5/V5*1000","v":12.049977776680329},12.336240489886807,"・"]
["1986  昭和61年",12.209045926563194,10.590537584896971,10.94407808948996,13.456147376852224,14.1708664630179,"・",{"$f":"H6/T6*1000","v":12.296897355990671},"・",11.603168826806259,11.543833105414764,"・"]
["1987  昭和62年",11.632526887625886,10.124823595050815,10.152541125381813,12.512572388155592,13.249969683784036,"・",{"$f":"H7/T7*1000","v":11.870028561776358},"・",10.757746615287759,11.667382057985717,"・"]
["1988  昭和63年",11.252355823013835,9.7682436314882199,9.7499863827005839,12.1891116469822,13.022818651767533,"・",11.374414690015334,"・",11.087387838886182,10.809931429797752,"・"]
["  89    平成元年　",10.624918317787118,8.7200815269782694,8.8954748332376603,11.564327929131093,12.549575743593746,"・",10.767946884500994,"・",10.345651209608626,10.463890085074206,"・"]
["  90       2",10.446742894416253,8.8903027055987138,8.6307693640166647,11.600908158404113,12.167429789994841,12.359819930209637,10.601113746890761,"・",10.249809627138745,10.046801217984664,9.6689314614233961]
["  91       3",10.299777933531093,8.4046360331915704,8.8066668087555158,12.053084320840417,12.285940706297266,11.361867704280156,10.015526019405748,"・",9.7155168974185049,10.342625427697675,9.7045279124424368]
["  92       4",10.105057603202821,8.2212214870522828,8.7617285031282961,11.331277944386727,12.291067483639699,11.333520805106049,10.080638101940847,"・",9.0781112265975494,10.084964141199848,9.8326691895775387]
["1993   平成5年",9.4714041236564679,7.4802564659359749,8.2208302053976894,10.958651036243324,10.832751487614502,10.520496540632905,9.50713121363877,"・",9.0380342438896886,9.4119344978841202,9.3111967744791126]
["  94       6",9.7998660181300679,8.0878371372282452,8.8569100838099235,10.999928735217797,11.423398343267102,10.977789124329846,9.6830444148117749,"・",9.0565402592021957,9.7728787119635108,9.3732336871192601]
["  95       7",9.2619387229175203,7.6373746812953538,8.1457646399039056,10.641516001640982,10.629769601565835,9.6547116622398939,9.3343266576098873,"・",8.8596209444265988,9.3974514688021085,8.3871366346421183]
["  96       8",9.2074565802968653,7.678656746979728,8.5363109080786987,10.686434176898432,10.775527923346461,10.19216990170111,9.1381162905967557,"・",8.4485847823453284,8.9863278339815746,7.959731340115531]
["  97       9",8.8615530970215293,7.6735517502312156,8.0421085586819565,10.413612224285668,10.228470098429751,9.0258650456512832,8.859996330179035,"・",8.0357540194663599,8.6617495310760599,8.2883693045563547]
["1998  平成10年",8.9628986452244632,7.6862753822281293,7.9608916820932443,10.69032414517824,10.728413621134615,9.0468574702217559,9.3368789418533389,7.5525312196216259,7.7427304716777403,9.4066094207775262,8.104524529594924]
["  99      11",8.47558179256513,7.4010470044040666,7.6515620167027523,9.9412325029464483,9.9968231520480426,8.6764473891781027,9.1836433857130224,7.4219863700324655,7.1141315414375894,8.8217808812712235,7.2731035604207159]
["2000      12",8.4395850225439091,7.3079650724701919,7.5133422603313278,10.353026517288628,9.9952742221522097,8.3644217553504809,8.9398679861512971,7.151001048935103,7.0889344864837218,8.6627506745790477,7.5486983098280369]
["  01      13",8.3458513836715209,7.4568797821294259,7.5521160785389583,9.9877055909525971,10.056400443146339,8.0502635410259806,8.6459968985594884,7.439576016395959,6.9289669133847198,8.8804832889060972,6.9849172646068238]
["  02      14",8.4278538486676222,7.68972005844818,7.9012010278353193,9.7788709523354651,10.10724829788516,7.9315286007513253,9.2144421087381847,7.3378549093743555,6.4922125588959378,8.7713250068949229,7.4165276371292643]
["  03      15",8.0537554212099582,7.2241804813725938,7.478007504089244,9.5606232227300456,9.4613573774096977,7.2882924571957428,8.5153878350227785,7.2997249249997775,6.6093768117809235,8.5827011217870073,7.0258802330819421]
["  04      16",7.8757816909568685,7.4140721602847002,7.47726954303117,9.0525402335121488,9.3798542239216154,7.5359635928882724,8.5376668823853681,6.4371004596658752,6.1678803742192967,8.5001411013691701,6.4407321789447662]
["  05      17",7.5669025899996747,6.9688312203638665,7.2198712051517937,8.9397877837385149,9.2997321597482898,6.586983749014272,8.088178889229825,6.2100749123649885,5.7637454509688215,8.0568376791281011,6.5728656383977642]
["  06      18",7.7958781874186274,7.5059970595063064,7.2865532959326789,9.070259200703024,9.4108706165674736,6.5405405405405403,8.5269390058440386,6.9471348571831077,5.6039194510661279,8.3550663955018543,6.8518893289774203]
["  07      19",7.6470237633716112,7.2466526460036356,7.2980017376194617,8.7966772461894127,9.1130311419366929,6.6375627117855514,8.2260884519476054,6.3587041850566086,5.8232009636565714,8.1705896951301007,7.001436377153663]
["  08      20",7.809807898191039,7.6688624520696091,7.5951472034241423,8.9949679869990007,9.5137316665026095,6.5021622208100194,8.4179818770288239,6.980606542912998,5.9113168129941496,8.0435330660083437,6.4463501963501963]
["  09      21",7.6051009644522081,7.2884952486391734,7.3730731917645791,8.69698013908903,8.985885632398265,6.3652190132744737,8.1558569573582798,6.6625295202633987,5.8948137820881588,8.0023175851522588,6.8487736167705124]
["  10      22",7.730215023648511,7.9967483239253951,7.2356081373539176,8.7756807331243696,9.5941031844570617,6.7507979989542113,8.2898954175957886,6.4682051590817213,5.7139725126406233,7.9327801262982103,6.5688510247694447]
["  11      23",7.5397971315367069,7.6292182063734826,6.8467992996294882,8.3462301625975055,9.1871759293069442,6.0639042214102465,8.5318165659438332,6.5443566717271784,5.5365418649331692,8.2155798385229915,6.6174108576935433]
["  12      24",7.5109810574167239,7.7113572870123122,6.8709344897451388,8.3577148585482988,9.2891682785299814,5.6470844110953164,8.5120587498956848,6.4635034932064634,5.7051637978900613,7.9050633211704815,6.601529674837276]
["  13      25",7.5359378655699416,8.2472882203334557,7.01810379984751,8.1546839190406075,8.9825531179823805,6.2255660135392459,8.2409487680011786,6.0630036378021828,5.4367575122292102,8.1176515137171741,6.7179049245658984]
["  14      26",7.4990425439915001,7.915737085979063,6.8850458356406943,8.3658307258350426,9.2746718708146787,6.0562072221831995,8.6138922507059821,5.6799111868432606,5.5579036348267117,7.5875321445728661,6.7219486545444216]
["  15   2) 27",7.5064560461470302,7.9495707062137315,7.2044278462961264,8.1597907903263529,9.048323117484653,5.8574580516492745,8.6791828328705662,5.592841163310962,5.4634714713007897,7.778904474865266,6.7500355265027707]
["  16      28",7.1593975709825086,7.1803852889667246,6.4411564803680665,8.3650882812855816,8.7975981462713708,5.6183316785652364,8.3629245197122835,5.6511798455631768,5.1860412029903555,7.3399978521634788,6.3310412225849628]
["  17      29",7.0410480723086746,7.3445601760704937,6.5227741076796368,8.0851418021126538,8.2444965493673052,5.5054144485488958,7.8902695728933248,5.3651962054844233,5.1596398312697165,7.6846859838212245,6.1260498270873027]
["  18      30",{"$f":"B38/N38*1000","v":6.7387611015595592},{"$f":"C38/O38*1000","v":7.1794365130333118},{"$f":"D38/P38*1000","v":6.4106568927577277},7.4872342277890702,8.0899875174944196,5.2364731046502415,7.5751434413309191,5.5867860365049617,4.6572023416587474,7.0852358503672281,5.7014391024285738]
["1)　分区後の清田区分を含む。"]

{"sheet":"3 月・性別，区別出生数・出生率","index":2,"n_rows":50,"n_cols":30,"rows_kept":50,"cut":false,"hidden":false,"merged":[[2,0,2,1],[38,0,38,1],[39,0,39,1],[40,0,40,1],[28,0,28,1],[25,0,25,1],[22,0,22,1],[19,0,19,1],[16,0,16,1],[47,0,47,1],[48,0,48,1],[41,0,41,1],[42,0,42,1],[43,0,43,1],[44,0,44,1],[3,2,3,14],[37,2,37,14],[45,0,45,1],[46,0,46,1],[4,0,4,1],[7,0,7,1],[10,0,10,1],[13,0,13,1],[34,0,34,1],[31,0,31,1]]}
["3　月・性別にみた区別出生数及び出生率（人口千対）"]
[null,null,null,null,null,null,null,null,null,null,null,null,null,null,"平成30年"]
["区 ・ 性",null,"総数","1 月","2 月","3 月","4 月","5 月","6 月","7 月","8 月","9 月","10月","11月","12月"]
[null,null,"出生数"]
["総数",null,{"$f":"SUM(C8,C11,C14,C17,C20,C23,C26,C29,C32,C35)","v":13248},1135,1067,1078,1067,1128,1110,1127,1218,1087,1179,1035,1017]
[null,"男",6744,597,533,525,544,602,583,575,614,526,617,525,503]
[null,"女",6504,538,534,553,523,526,527,552,604,561,562,510,514]
["中央",null,{"$f":"SUM(D8:O8)","v":1744},{"$f":"SUM(D9:D10)","v":137},152,150,133,155,145,133,167,133,165,127,147]
[null,"男",{"$f":"SUM(D9:O9)","v":918},68,79,65,77,78,79,78,76,70,95,73,80]
[null,"女",826,69,73,85,56,77,66,55,91,63,70,54,67]
["北",null,1847,{"$f":"SUM(D12:D13)","v":169},139,137,137,174,164,166,183,138,168,138,134]
[null,"男",922,90,80,71,59,95,85,78,92,58,88,66,60]
[null,"女",925,79,59,66,78,79,79,88,91,80,80,72,74]
["東",null,1978,{"$f":"SUM(D15:D16)","v":167},132,161,171,162,165,179,171,191,184,149,146]
[null,"男",995,91,61,82,90,92,85,79,86,90,92,77,70]
[null,"女",983,76,71,79,81,70,80,100,85,101,92,72,76]
["白石",null,1711,{"$f":"SUM(D18:D19)","v":144},148,123,138,139,138,143,145,138,168,155,132]
[null,"男",882,68,79,66,72,72,71,75,72,70,84,74,79]
[null,"女",829,76,69,57,66,67,67,68,73,68,84,81,53]
["厚別",null,661,{"$f":"SUM(D21:D22)","v":53},53,50,60,41,50,48,81,67,52,52,54]
[null,"男",360,23,19,27,39,25,31,29,43,44,26,26,28]
[null,"女",301,30,34,23,21,16,19,19,38,23,26,26,26]
["豊平",null,1682,{"$f":"SUM(D24:D25)","v":169},154,141,134,132,142,143,153,121,142,127,124]
[null,"男",855,84,78,61,65,63,79,66,89,60,79,63,68]
[null,"女",827,85,76,80,69,69,63,77,64,61,63,64,56]
["清田",null,644,{"$f":"SUM(D27:D28)","v":52},61,57,49,56,67,42,62,40,52,52,54]
[null,"男",319,32,28,27,24,41,28,19,28,17,27,27,21]
[null,"女",325,20,33,30,25,15,39,23,34,23,25,25,33]
["南",null,642,{"$f":"SUM(D30:D31)","v":44},44,62,47,53,57,64,46,61,57,46,61]
[null,"男",326,25,20,24,22,28,30,35,22,31,36,26,27]
[null,"女",316,19,24,38,25,25,27,29,24,30,21,20,34]
["西",null,1530,{"$f":"SUM(D33:D34)","v":133},113,120,123,143,134,145,133,142,119,112,113]
[null,"男",772,79,53,70,64,70,70,76,66,63,54,59,48]
[null,"女",758,54,60,50,59,73,64,69,67,79,65,53,65]
["手稲",null,809,{"$f":"SUM(D36:D37)","v":67},71,77,75,73,48,64,77,56,72,77,52]
[null,"男",395,37,36,32,32,38,25,40,40,23,36,34,22]
[null,"女",414,30,35,45,43,35,23,24,37,33,36,43,30]
[null,null,"出生率",null,null,null,null,null,null,null,null,null,null,null,null,null,null,{"$f":"[1]人口!B9","v":"(国調年)日本人推計人口\n(国調年以外)国調ベース人口"},{"$f":"[1]人口!C9","v":"１月"},{"$f":"[1]人口!D9","v":"２月"},{"$f":"[1]人口!E9","v":"３月"},{"$f":"[1]人口!F9","v":"４月"},{"$f":"[1]人口!G9","v":"５月"},{"$f":"[1]人口!H9","v":"６月"},{"$f":"[1]人口!I9","v":"７月"},{"$f":"[1]人口!J9","v":"８月"},{"$f":"[1]人口!K9","v":"９月"},{"$f":"[1]人口!L9","v":"１０月"},{"$f":"[1]人口!M9","v":"１１月"},{"$f":"[1]人口!N9","v":"１２月"}]
["総数",null,{"$f":"C5/R39*1000","v":6.7387611015595592},{"$f":"D5/(S39/$R$50*S$50)*1000","v":6.8056288098748716},7.0856847971265937,6.4673263349390293,6.6192473241638936,6.757746776303498,6.8696655813222414,6.750241190808481,7.2942193610997581,6.7263460236310051,7.0611382817117452,6.4034338779663393,6.0884991784327278,null,null,{"$f":"[1]人口!B10","v":1965940},{"$f":"[1]人口!C10","v":1963626},{"$f":"[1]人口!D10","v":1962987},{"$f":"[1]人口!E10","v":1962570},{"$f":"[1]人口!F10","v":1961225},{"$f":"[1]人口!G10","v":1965343},{"$f":"[1]人口!H10","v":1965889},{"$f":"[1]人口!I10","v":1965784},{"$f":"[1]人口!J10","v":1966073},{"$f":"[1]人口!K10","v":1966174},{"$f":"[1]人口!L10","v":1965940},{"$f":"[1]人口!M10","v":1966523},{"$f":"[1]人口!N10","v":1966717}]
["中央",null,{"$f":"C8/R40*1000","v":7.1794365130333118},{"$f":"D8/(S40/$R$50*S$50)*1000","v":6.6772824842348433},{"$f":"E8/(T40/$R$50*T$50)*1000","v":8.2026012950292948},{"$f":"F8/(U40/$R$50*U$50)*1000","v":7.3118920612484146},6.7013710581388279,7.5310216191902812,7.2720352630161527,6.4527294533835668,8.0943279018806233,6.6576426089126972,7.9975873778749484,6.3559641581483994,7.1199939595168198,null,null,{"$f":"[1]人口!B11","v":242916},{"$f":"[1]人口!C11","v":241575},{"$f":"[1]人口!D11","v":241561},{"$f":"[1]人口!E11","v":241542},{"$f":"[1]人口!F11","v":241468},{"$f":"[1]人口!G11","v":242331},{"$f":"[1]人口!H11","v":242596},{"$f":"[1]人口!I11","v":242683},{"$f":"[1]人口!J11","v":242922},{"$f":"[1]人口!K11","v":243054},{"$f":"[1]人口!L11","v":242916},{"$f":"[1]人口!M11","v":243105},{"$f":"[1]人口!N11","v":243091}]
["北",null,{"$f":"C11/R41*1000","v":6.4106568927577277},{"$f":"D11/(S41/$R$50*S$50)*1000","v":6.9123543500207365},6.2933126529137908,5.6034867235296462,5.8058194036626416,7.1222059976129222,6.9348866738031356,6.7931895891874934,7.4839355047110301,5.8324127917074842,6.8655619516199566,5.8262399411476888,5.4717159495877192,null,null,{"$f":"[1]人口!B12","v":288114},{"$f":"[1]人口!C12","v":287867},{"$f":"[1]人口!D12","v":287919},{"$f":"[1]人口!E12","v":287868},{"$f":"[1]人口!F12","v":287097},{"$f":"[1]人口!G12","v":287651},{"$f":"[1]人口!H12","v":287724},{"$f":"[1]人口!I12","v":287717},{"$f":"[1]人口!J12","v":287907},{"$f":"[1]人口!K12","v":287874},{"$f":"[1]人口!L12","v":288114},{"$f":"[1]人口!M12","v":288179},{"$f":"[1]人口!N12","v":288345}]
["東",null,{"$f":"C14/R42*1000","v":7.4872342277890702},{"$f":"D14/(S42/$R$50*S$50)*1000","v":7.437307844636341},6.5124054700961906,7.1816166257144038,7.8853114517993523,7.2182378612628568,7.5944722078256168,7.9747717208626057,7.6197124396337852,8.7961350755270225,8.2005716223346159,6.8635431456065623,6.5086259751946711,null,null,{"$f":"[1]人口!B13","v":264183},{"$f":"[1]人口!C13","v":264382},{"$f":"[1]人口!D13","v":264221},{"$f":"[1]人口!E13","v":263958},{"$f":"[1]人口!F13","v":263845},{"$f":"[1]人口!G13","v":264250},{"$f":"[1]人口!H13","v":264337},{"$f":"[1]人口!I13","v":264281},{"$f":"[1]人口!J13","v":264234},{"$f":"[1]人口!K13","v":264188},{"$f":"[1]人口!L13","v":264183},{"$f":"[1]人口!M13","v":264125},{"$f":"[1]人口!N13","v":264116}]
["白石",null,{"$f":"C17/R43*1000","v":8.0899875174944196},{"$f":"D17/(S43/$R$50*S$50)*1000","v":8.0448478841101103},9.156161883382838,6.872717035566521,7.969054060467986,7.754584926040657,7.9505635003314712,7.9713553518575653,8.076686478520438,7.9388345658464621,9.352727787424028,8.9088455427427764,7.3406583494884705,null,null,{"$f":"[1]人口!B14","v":211496},{"$f":"[1]人口!C14","v":210754},{"$f":"[1]人口!D14","v":210709},{"$f":"[1]人口!E14","v":210721},{"$f":"[1]人口!F14","v":210690},{"$f":"[1]人口!G14","v":211051},{"$f":"[1]人口!H14","v":211180},{"$f":"[1]人口!I14","v":211220},{"$f":"[1]人口!J14","v":211381},{"$f":"[1]人口!K14","v":211492},{"$f":"[1]人口!L14","v":211496},{"$f":"[1]人口!M14","v":211681},{"$f":"[1]人口!N14","v":211724}]
["厚別",null,{"$f":"C20/R44*1000","v":5.2364731046502415},{"$f":"D20/(S44/$R$50*S$50)*1000","v":4.9387223146255872},5.4716385556345006,4.6614223749295673,5.7833234303822545,3.8193723978691145,4.8131825818175109,4.4745403252623053,7.5529395534913668,6.4573282952706119,4.850337198099731,5.0127696212427333,5.0396833514022132,null,null,{"$f":"[1]人口!B15","v":126230},{"$f":"[1]人口!C15","v":126355},{"$f":"[1]人口!D15","v":126268},{"$f":"[1]人口!E15","v":126294},{"$f":"[1]人口!F15","v":126225},{"$f":"[1]人口!G15","v":126393},{"$f":"[1]人口!H15","v":126389},{"$f":"[1]人口!I15","v":126306},{"$f":"[1]人口!J15","v":126270},{"$f":"[1]人口!K15","v":126239},{"$f":"[1]人口!L15","v":126230},{"$f":"[1]人口!M15","v":126211},{"$f":"[1]人口!N15","v":126160}]
["豊平",null,{"$f":"C23/R45*1000","v":7.5751434413309191},{"$f":"D23/(S45/$R$50*S$50)*1000","v":8.9925238939312226},9.072626203281061,7.5084067457049333,7.3643778523601089,7.0050369967146979,7.7851929625340404,7.5861572795933885,8.1174624212146824,6.6331741311465562,7.5298163584860864,6.9575149566684384,6.5685877536329684,null,null,{"$f":"[1]人口!B16","v":222042},{"$f":"[1]人口!C16","v":221277},{"$f":"[1]人口!D16","v":221270},{"$f":"[1]人口!E16","v":221107},{"$f":"[1]人口!F16","v":221381},{"$f":"[1]人口!G16","v":221868},{"$f":"[1]人口!H16","v":221917},{"$f":"[1]人口!I16","v":221945},{"$f":"[1]人口!J16","v":221923},{"$f":"[1]人口!K16","v":221940},{"$f":"[1]人口!L16","v":222042},{"$f":"[1]人口!M16","v":222086},{"$f":"[1]人口!N16","v":222270}]
["清田",null,{"$f":"C26/R46*1000","v":5.5867860365049617},{"$f":"D26/(S46/$R$50*S$50)*1000","v":5.2930533276517133},6.875436180265198,5.8023017330768285,5.1629124773031041,5.7129042040434728,7.0672654552180143,4.287538617214258,6.3279069364262064,4.2203606384885326,5.3114205055532047,5.4895155459146787,5.5198719591344645,null,null,{"$f":"[1]人口!B17","v":115272},{"$f":"[1]人口!C17","v":115672},{"$f":"[1]人口!D17","v":115655},{"$f":"[1]人口!E17","v":115666},{"$f":"[1]人口!F17","v":115471},{"$f":"[1]人口!G17","v":115415},{"$f":"[1]人口!H17","v":115344},{"$f":"[1]人口!I17","v":115338},{"$f":"[1]人口!J17","v":115362},{"$f":"[1]人口!K17","v":115314},{"$f":"[1]人口!L17","v":115272},{"$f":"[1]人口!M17","v":115250},{"$f":"[1]人口!N17","v":115185}]
["南",null,{"$f":"C29/R47*1000","v":4.6572023416587474},{"$f":"D29/(S47/$R$50*S$50)*1000","v":3.7307061975950186},{"$f":"E29/(T47/$R$50*T$50)*1000","v":4.1406522326520587},5.2739186660598047,4.1413790273130644,4.4937081117645254,4.9972977841830293,5.4304705656174495,3.9159628312387942,5.3700420872375574,4.8685104370520671,4.0600274698701959,5.2133748998418543,null,null,{"$f":"[1]人口!B18","v":137851},{"$f":"[1]人口!C18","v":138865},{"$f":"[1]人口!D18","v":138522},{"$f":"[1]人口!E18","v":138417},{"$f":"[1]人口!F18","v":138078},{"$f":"[1]人口!G18","v":138868},{"$f":"[1]人口!H18","v":138775},{"$f":"[1]人口!I18","v":138763},{"$f":"[1]人口!J18","v":138309},{"$f":"[1]人口!K18","v":138205},{"$f":"[1]人口!L18","v":137851},{"$f":"[1]人口!M18","v":137848},{"$f":"[1]人口!N18","v":137766}]
["西",null,{"$f":"C32/R48*1000","v":7.0852358503672281},{"$f":"D32/(S48/$R$50*S$50)*1000","v":7.2850617890893208},{"$f":"E32/(T48/$R$50*T$50)*1000","v":6.8515519774397964},6.5695040024478146,6.9537377792647117,7.8077844486046741,7.5567957084940183,7.9137914844164481,7.2546871151855132,8.0011979412700036,6.4884507518595935,6.305022425397766,6.1563413674496186,null,null,{"$f":"[1]人口!B19","v":215942},{"$f":"[1]人口!C19","v":214956},{"$f":"[1]人口!D19","v":214993},{"$f":"[1]人口!E19","v":215070},{"$f":"[1]人口!F19","v":215208},{"$f":"[1]人口!G19","v":215645},{"$f":"[1]人口!H19","v":215744},{"$f":"[1]人口!I19","v":215732},{"$f":"[1]人口!J19","v":215856},{"$f":"[1]人口!K19","v":215926},{"$f":"[1]人口!L19","v":215942},{"$f":"[1]人口!M19","v":216124},{"$f":"[1]人口!N19","v":216116}]
["手稲",null,{"$f":"C35/R49*1000","v":5.7014391024285738},{"$f":"D35/(S49/$R$50*S$50)*1000","v":5.5584434358203776},{"$f":"E35/(T49/$R$50*T$50)*1000","v":6.5238756478562214},{"$f":"F35/(U49/$R$50*U$50)*1000","v":6.3878818211179444},6.4368448526403403,6.0584342750263138,4.116067464037271,5.3142009964581849,6.3886920718615903,4.8000826628716888,5.974473448376048,6.6014158809795607,4.3133775609827048,null,null,{"$f":"[1]人口!B20","v":141894},{"$f":"[1]人口!C20","v":141923},{"$f":"[1]人口!D20","v":141869},{"$f":"[1]人口!E20","v":141927},{"$f":"[1]人口!F20","v":141762},{"$f":"[1]人口!G20","v":141871},{"$f":"[1]人口!H20","v":141883},{"$f":"[1]人口!I20","v":141799},{"$f":"[1]人口!J20","v":141909},{"$f":"[1]人口!K20","v":141942},{"$f":"[1]人口!L20","v":141894},{"$f":"[1]人口!M20","v":141914},{"$f":"[1]人口!N20","v":141944}]
[null,null,null,null,null,null,null,null,null,null,null,null,null,null,null,null,null,{"$f":"[1]人口!B21","v":365},{"$f":"[1]人口!C21","v":31},{"$f":"[1]人口!D21","v":28},{"$f":"[1]人口!E21","v":31},{"$f":"[1]人口!F21","v":30},{"$f":"[1]人口!G21","v":31},{"$f":"[1]人口!H21","v":30},{"$f":"[1]人口!I21","v":31},{"$f":"[1]人口!J21","v":31},{"$f":"[1]人口!K21","v":30},{"$f":"[1]人口!L21","v":31},{"$f":"[1]人口!M21","v":30},{"$f":"[1]人口!N21","v":31}]

{"sheet":"4　出生の場所別，年次別出生数・百分率","index":3,"n_rows":74,"n_cols":9,"rows_kept":74,"cut":false,"hidden":false,"merged":[[2,0,3,0],[4,1,4,8],[39,1,39,8],[2,2,2,5],[2,6,2,8],[2,1,3,1]]}
["4　出生の場所別にみた年次別出生数及び百分率"]
[]
["年次","総数","施設内",null,null,null,"施設外"]
[null,null,"総  数","病院","診療所","助産所","総  数","自宅","その他"]
[null,"出生数"]
["  85      60",{"$f":"SUM(C6,G6)","v":19314},{"$f":"SUM(D6:F6)","v":19238},11970,6993,275,{"$f":"SUM(H6:I6)","v":76},62,14]
["1986  昭和61年",{"$f":"SUM(C7,G7)","v":19130},{"$f":"SUM(D7:F7)","v":19060},12102,6720,238,{"$f":"SUM(H7:I7)","v":70},60,10]
["1987  昭和62年",{"$f":"SUM(C8,G8)","v":18533},{"$f":"SUM(D8:F8)","v":18465},11818,6439,208,{"$f":"SUM(H8:I8)","v":68},63,5]
["1988  昭和63年",18216,18165,12235,5779,151,51,42,9]
["  89    平成元年　",17479,17429,12244,5031,154,50,45,5]
["  90       2",17425,17382,12413,4883,86,43,39,4]
["  91       3",17458,17412,12811,4535,66,46,41,5]
["  92       4",17325,17285,12932,4260,93,40,33,7]
["1993   平成5年",16371,16352,12306,3971,75,19,18,1]
["  94       6",17057,17015,12902,4020,93,42,37,5]
["  95       7",16227,16186,11791,4305,90,41,36,5]
["  96       8",16339,16297,11255,4953,89,42,40,2]
["  97       9",15873,15822,10697,5036,89,51,48,3]
["1998  平成10年",16165,16090,10765,5249,76,75,70,5]
["  99      11",15358,15256,10020,5171,65,102,92,10]
["2000      12",15332,15236,9868,5307,61,96,86,10]
["  01      13",15312,15228,9971,5205,52,84,78,6]
["  02      14",15577,15487,9866,5575,46,90,83,7]
["  03      15",14999,14903,8954,5889,60,96,89,7]
["  04      16",14749,14662,8568,6046,48,87,76,11]
["  05      17",14184,14091,8076,5979,36,93,83,10]
["  06      18",14730,14655,8119,6495,41,75,68,7]
["  07      19",14498,14435,7691,6715,29,63,61,2]
["  08      20",14845,14778,7821,6923,34,67,60,7]
["  09      21",14506,14444,7887,6525,32,62,55,7]
["  10      22",14739,14681,7940,6714,27,58,52,6]
["  11      23",14491,14442,8108,6300,34,49,45,4]
["  12      24",14487,14446,8381,6025,40,41,34,7]
["  13      25",14591,14547,8628,5876,43,44,39,5]
["  14      26",14568,14538,8842,5660,36,30,24,6]
["  15      27",14589,14564,8942,5582,40,25,23,2]
["  16      28",14021,13991,8563,5403,25,30,27,3]
["  17      29",13821,13798,8325,5440,33,23,19,4]
["  18      30",{"$f":"SUM(C39,G39)","v":13248},{"$f":"SUM(D39:F39)","v":13214},{"$f":"'5　出生の場所・出産時の立会者別，区別出生数　'!$F$6","v":8305},{"$f":"'5　出生の場所・出産時の立会者別，区別出生数　'!$I$6","v":4884},{"$f":"'5　出生の場所・出産時の立会者別，区別出生数　'!$L$6","v":25},{"$f":"SUM(H39:I39)","v":34},{"$f":"'5　出生の場所・出産時の立会者別，区別出生数　'!$O$6","v":26},{"$f":"'5　出生の場所・出産時の立会者別，区別出生数　'!$S$6","v":8}]
[null,"百分率"]
["  85      60",{"$f":"SUM(C41,G41)","v":100},{"$f":"C6/$B6*100","v":99.606503054778912},61.975768872320593,36.206896551724135,1.4238376307341825,0.39349694522108314,0.32101066583825205,7.2486279382831115E-2]
["1986  昭和61年",{"$f":"SUM(C42,G42)","v":100},99.6340825927862,63.26189231573445,35.128071092524834,1.2441191845269211,0.36591740721380034,0.31364349189754315,5.2273915316257184E-2]
["1987  昭和62年",{"$f":"SUM(C43,G43)","v":100},99.63308692602385,63.767333944855118,34.74343063724168,1.1223223439270491,0.36691307397615064,0.33993417147790428,2.6978902498246374E-2]
["1988  昭和63年",100,99.720026350461126,67.166227492314448,31.724857268335526,0.82894158981115496,0.27997364953886694,0.23056653491436099,4.9407114624505928E-2]
["  89    平成元年　",100,99.713942445219985,70.049774014531721,28.783111161965785,0.88105726872246704,0.28605755478002171,0.25745179930201956,2.8605755478002173E-2]
["  90       2",100,99.753228120516496,71.236728837876612,28.022955523672881,0.49354375896700142,0.24677187948350071,0.22381635581061693,2.2955523672883789E-2]
["  91       3",100,99.736510482300375,73.381830679344716,25.976629625386643,0.37805017756902282,0.26348951769962198,0.23484935273227173,2.864016496735021E-2]
["  92       4",100,99.769119769119769,74.64357864357865,24.588744588744589,0.53679653679653683,0.23088023088023088,0.19047619047619047,4.0404040404040401E-2]
["1993   平成5年",100,99.883941115386961,75.169507055158519,24.256306884124363,0.45812717610408654,0.11605888461303523,0.10995052226498077,6.1083623480544863E-3]
["  94       6",100,99.753766781966348,75.64049950167086,23.568036583220962,0.54523069707451488,0.24623321803365186,0.21691973969631237,2.9313478337339507E-2]
["  95       7",100,99.747334689098423,72.662845874160354,26.529857644666301,0.55463117027176934,0.25266531090158378,0.22185246810870773,3.081284279287607E-2]
["  96       8",100,99.74294632474448,68.884264642879003,30.313972703347819,0.54470897851765721,0.25705367525552358,0.24481302405287964,1.2240651202643981E-2]
["  97       9",100,99.678699678699672,67.3911673911674,31.726831726831726,0.56070056070056074,0.32130032130032132,0.30240030240030241,1.8900018900018901E-2]
["1998  平成10年",100,99.536034642746671,66.594494277760603,32.471388802969379,0.47015156201670277,0.46396535725332505,0.43303433343643671,3.093102381688834E-2]
["  99      11",100,99.335851022268528,65.242870165386108,33.669748665190781,0.42323219169162651,0.66414897773147552,0.59903633285584068,6.5112644875634854E-2]
["2000      12",100,99.373858596399685,64.362118445082189,34.61387946777981,0.39786068353769888,0.62614140360031312,0.56091834072528046,6.52230628750326E-2]
["  01      13",100,99.451410658307211,65.118861024033436,33.992946708463947,0.33960292580982232,0.54858934169278994,0.50940438871473348,3.9184952978056423E-2]
["  02      14",100,99.422225075431726,63.336971175450984,35.789946716312507,0.29530718366822878,0.57777492456827373,0.53283687487963016,4.4938049688643511E-2]
["  03      15",100,99.359957330488697,59.697313154210285,39.262617507833859,0.40002666844456303,0.64004266951130073,0.59337289152610173,4.6669777985199015E-2]
["  04      16",100,99.410129500305104,58.092074038917893,40.992609668452097,0.32544579293511428,0.58987049969489458,0.51528917214726422,7.4581327547630347E-2]
["  05      17",100,99.344331641285947,56.937394247038917,42.153130287648054,0.25380710659898476,0.65566835871404405,0.58516638465877047,7.0501974055273545E-2]
["  06      18",100,99.490835030549903,55.118805159538354,44.093686354378818,0.27834351663272233,0.50916496945010181,0.46164290563475896,4.7522063815342838E-2]
["  07      19",100,99.565457304455791,53.048696371913366,46.31673334253,0.20002759001241549,0.43454269554421304,0.42074768933646017,1.3795006207752793E-2]
["  08      20",100,99.548669585719097,52.684405523745369,46.635230717413272,0.2290333445604581,0.4513304142809027,0.40417649040080833,4.715392388009431E-2]
["  09      21",100,99.572590652143944,54.370605266786157,44.981387012270787,0.22059837308699848,0.42740934785605955,0.37915345374327863,4.8255894112780917E-2]
["  10      22",100,99.606486193093161,53.870683221385441,45.552615509871771,0.18318746183594548,0.39351380690684579,0.35280548205441342,4.0708324852432323E-2]
["  11      23",100,99.661859084949285,55.951970188392799,43.475260506521288,0.23462839003519426,0.33814091505072114,0.31053757504658064,2.7603340004140501E-2]
["  12      24",100,99.716987644094701,57.851867191274941,41.589010837302411,0.27610961551736035,0.28301235590529439,0.23469317318975635,4.8319182715538068E-2]
["  13      25",100,99.698444246453292,59.132341854567883,40.271400178192032,0.29470221369337263,0.30155575354670683,0.2672880542800356,3.4267699266671239E-2]
["  14      26",100,99.794069192751238,60.694673256452504,38.85227896760022,0.24711696869851729,0.20593080724876442,0.16474464579901155,4.1186161449752887E-2]
["  15      27",99.999999999999986,99.828638014942754,61.292754815271778,38.261704023579405,0.27417917609157583,0.17136198505723491,0.15765302625265612,1.3708958804578791E-2]
["  16      28",100,99.78603523286499,61.072676699236858,38.53505456101562,0.17830397261250983,0.21396476713501175,0.19256829042151061,2.1396476713501176E-2]
["  17      29",100,99.833586571159827,60.234425873670503,39.360393603936039,0.23876709355328848,0.16641342884017074,0.13747196295492367,2.894146588524709E-2]
["  18      30",{"$f":"SUM(C74,G74)","v":100},{"$f":"C39/$B39*100","v":99.743357487922708},62.688707729468597,36.865942028985508,{"$f":"F39/$B39*100","v":0.18870772946859904},0.25664251207729472,0.19625603864734301,6.0386473429951688E-2]

{"sheet":"5　出生の場所・出産時の立会者別，区別出生数　","index":4,"n_rows":16,"n_cols":22,"rows_kept":16,"cut":false,"hidden":false,"merged":[[2,0,4,0],[2,1,3,4],[2,5,2,13],[2,14,2,21],[3,18,3,21],[3,11,3,13],[3,14,3,17],[3,5,3,7],[3,8,3,10]]}
["5　出生の場所・出産時の立会者別にみた区別出生数"]
[null,null,null,null,null,null,null,null,null,null,null,null,null,null,null,null,null,null,null,null,null,{"$f":"'3 月・性別，区別出生数・出生率'!$O$2","v":"平成30年"}]
["区","総　　　　　数",null,null,null,"施設内",null,null,null,null,null,null,null,null,"施設外"]
[null,null,null,null,null,"病　　　　　院",null,null,"診　　療　　所",null,null,"助産所",null,null,"自　　　宅",null,null,null,"そ   の   他"]
[null,"総数","医師","助産師","その他","総数","医師","助産師","総数","医師","助産師","総数","医師","助産師","総数","医師","助産師","その他","総数","医師","助産師","その他"]
["総数",{"$f":"SUM(F6,I6,L6,O6,S6)","v":13248},{"$f":"SUM(G6,J6,M6,P6,T6)","v":12144},1096,{"$f":"SUM(R6,V6)","v":8},{"$f":"SUM(F7:F16)","v":8305},{"$f":"SUM(G7:G16)","v":7689},616,4884,4445,439,25,1,24,26,6,15,5,{"$f":"SUM(S7:S16)","v":8},3,2,3]
["中央",1744,1474,267,{"$f":"SUM(R7,V7)","v":3},{"$f":"SUM(G7:H7)","v":1227},991,236,{"$f":"SUM(J7:K7)","v":508},482,26,{"$f":"SUM(M7:N7)","v":3},0,3,{"$f":"SUM(P7:R7)","v":5},1,2,2,{"$f":"SUM(T7:V7)","v":1},0,0,1]
["北",{"$f":"SUM(F8,I8,L8,O8,S8)","v":1847},1688,{"$f":"SUM(H8,K8,N8,Q8,U8)","v":159},{"$f":"SUM(R8,V8)","v":0},{"$f":"SUM(G8:H8)","v":1127},1065,62,{"$f":"SUM(J8:K8)","v":710},621,89,{"$f":"SUM(M8:N8)","v":8},0,8,{"$f":"SUM(P8:R8)","v":2},2,0,0,{"$f":"SUM(T8:V8)","v":0},0,0,0]
["東",1978,1916,59,3,1695,1650,45,275,264,11,3,0,3,4,2,0,2,1,0,0,1]
["白石",1711,1635,75,1,1437,1370,67,271,265,6,0,0,0,2,0,2,0,1,0,0,1]
["厚別",661,637,24,0,346,324,22,314,313,1,0,0,0,0,0,0,0,1,0,1,0]
["豊平",1682,1600,82,0,994,924,70,685,675,10,1,0,1,1,0,1,0,1,1,0,0]
["清田",644,622,22,0,198,179,19,444,443,1,0,0,0,1,0,1,0,1,0,1,0]
["南",642,626,16,0,359,348,11,278,277,1,1,0,1,3,0,3,0,1,1,0,0]
["西",1530,1219,310,1,665,596,69,852,621,231,8,1,7,4,0,3,1,1,1,0,0]
["手稲",809,727,82,0,257,242,15,547,484,63,1,0,1,4,1,3,0,0,0,0,0]

{"sheet":"6　母の年齢階級，年次別出生数・百分率","index":5,"n_rows":73,"n_cols":12,"rows_kept":73,"cut":false,"hidden":false,"merged":[[3,1,3,11],[38,1,38,11]]}
["6　母の年齢(5歳階級)別にみた年次別出生数及び百分率"]
[]
["年次","総数","14歳以下","15～19","20～24","25～29","30～34","35～39","40～44","45～49","50～　","不詳"]
[null,"出生数"]
["  85      60",{"$f":"SUM(C5:L5)","v":19314},1,248,3111,8471,5770,1584,123,4,0,2]
["1986  昭和61年",{"$f":"SUM(C6:L6)","v":19130},1,232,3128,8352,5706,1598,107,4,0,2]
["1987  昭和62年",{"$f":"SUM(C7:L7)","v":18533},0,229,2825,8121,5577,1635,140,5,0,1]
["1988  昭和63年",18216,0,271,2939,7803,5497,1563,141,2,0,0]
["  89    平成元年　",17479,1,235,2789,7339,5316,1610,187,1,0,1]
["  90       2",17425,0,280,2703,7330,5256,1658,195,3,0,0]
["  91       3",17458,0,260,2858,7149,5439,1542,208,2,0,0]
["  92       4",17325,0,288,2818,6963,5428,1598,224,4,0,2]
["1993   平成5年",16371,0,253,2630,6609,5169,1477,228,5,0,0]
["  94       6",17057,0,235,2724,6763,5492,1645,188,9,0,1]
["  95       7",16227,0,237,2672,6369,5216,1548,179,6,0,0]
["  96       8",16339,0,217,2550,6288,5364,1715,197,8,0,0]
["  97       9",15873,1,225,2428,6157,5175,1663,216,8,0,0]
["1998  平成10年",16165,2,254,2393,6075,5378,1831,225,7,0,0]
["  99      11",15358,1,251,2217,5790,5103,1782,209,4,0,1]
["2000      12",15332,0,257,2200,5697,5130,1824,218,6,0,0]
["  01      13",15312,0,246,2144,5675,5129,1893,218,7,0,0]
["  02      14",15577,0,281,2165,5454,5448,1948,271,8,1,1]
["  03      15",14999,0,266,1947,5041,5338,2111,291,4,0,1]
["  04      16",14749,1,227,1787,4835,5455,2120,320,4,0,0]
["  05      17",14184,0,203,1673,4545,5341,2115,295,11,0,1]
["  06      18",14730,0,223,1710,4458,5567,2410,357,5,0,0]
["  07      19",14498,1,195,1707,4301,5414,2532,343,5,0,0]
["  08      20",14845,0,222,1699,4252,5544,2723,397,7,0,1]
["  09      21",14506,3,205,1572,4172,5233,2900,407,14,0,0]
["  10      22",14739,1,168,1477,4211,5302,3117,456,7,0,0]
["  11      23",14491,1,152,1446,4071,5201,3116,496,8,0,0]
["  12      24",14487,2,157,1281,4025,5214,3200,597,10,0,1]
["  13      25",14591,0,161,1259,3890,5145,3389,734,13,0,0]
["  14      26",14568,0,137,1248,3766,5250,3438,711,18,0,0]
["  15      27",14589,0,149,1225,3622,5313,3548,717,15,0,0]
["  16      28",14021,1,164,1171,3417,5197,3256,792,23,0,0]
["  17      29",13821,0,121,1144,3423,5100,3212,798,23,0,0]
["  18      30",{"$f":"SUM(C38:L38)","v":13248},{"$f":"'7　母の年齢階級・性別，区別出生数・百分率'!D5","v":3},{"$f":"'7　母の年齢階級・性別，区別出生数・百分率'!E5","v":102},{"$f":"'7　母の年齢階級・性別，区別出生数・百分率'!F5","v":1125},{"$f":"'7　母の年齢階級・性別，区別出生数・百分率'!G5","v":3246},{"$f":"'7　母の年齢階級・性別，区別出生数・百分率'!H5","v":4783},{"$f":"'7　母の年齢階級・性別，区別出生数・百分率'!I5","v":3230},{"$f":"'7　母の年齢階級・性別，区別出生数・百分率'!J5","v":739},{"$f":"'7　母の年齢階級・性別，区別出生数・百分率'!K5","v":20},{"$f":"'7　母の年齢階級・性別，区別出生数・百分率'!L5","v":0},{"$f":"'7　母の年齢階級・性別，区別出生数・百分率'!M5","v":0}]
[null,"百分率"]
["  85      60",{"$f":"SUM(C40:L40)","v":100.00000000000001},{"$f":"C5/$B5*100","v":5.1775913844879368E-3},1.2840426633530082,16.10748679714197,43.859376617997306,29.874702288495392,8.2013047530288912,0.63684374029201618,2.0710365537951747E-2,0,1.0355182768975874E-2]
["1986  昭和61年",{"$f":"SUM(C41:L41)","v":100},{"$f":"C6/$B6*100","v":5.2273915316257188E-3},1.2127548353371667,16.351280710925248,43.659174072138001,29.827496079456349,8.3533716675378979,0.55933089388395196,2.0909566126502875E-2,0,1.0454783063251438E-2]
["1987  昭和62年",{"$f":"SUM(C42:L42)","v":100},{"$f":"C7/$B7*100","v":0},1.2356337344196837,15.2430799115092,43.819133437651757,30.092267846544001,8.8221011169265626,0.75540926995089841,2.6978902498246374E-2,0,5.3957804996492744E-3]
["1988  昭和63年",100,0,1.4877031181379008,16.134167764602548,42.835968379446641,30.176767676767675,8.5803689064558633,0.77404479578392615,1.0979358805445762E-2,0,0]
["  89    平成元年　",100,5.7211510956004345E-3,1.3444705074661021,15.956290405629614,41.987527890611595,30.413639224211913,9.2110532639166998,1.0698552548772813,5.7211510956004345E-3,0,5.7211510956004345E-3]
["  90       2",100,0,1.606886657101865,15.512195121951219,42.065997130559538,30.163558106169297,9.5150645624103305,1.1190817790530847,1.721664275466284E-2,0,0]
["  91       3",100,0,1.489288578302211,16.37071829533738,40.949707870317333,31.154771451483558,8.8326268759308064,1.1914308626417689,1.1456065986940085E-2,0,0]
["  92       4",100,0,1.6623376623376624,16.265512265512267,40.19047619047619,31.330447330447331,9.2236652236652237,1.2929292929292928,2.3088023088023088E-2,0,1.1544011544011544E-2]
["1993   平成5年",100,0,1.5454156740577851,16.064992975383298,40.3701667582921,31.574124977093643,9.0220511880764764,1.3927066153564229,3.0541811740272432E-2,0,0]
["  94       6",100,0,1.3777334818549569,15.969982998182564,39.649410799085423,32.197924605733718,9.6441343729846984,1.1021867854839655,5.2764261007211113E-2,0,5.8626956674679015E-3]
["  95       7",100,0,1.4605287483823257,16.466383188512975,39.249399149565541,32.143957601528314,9.5396561286744319,1.1030997719849633,3.6975411351451284E-2,0,0]
["  96       8",100,0,1.328110655486872,15.606830283371076,38.484607381112674,32.829426525491158,10.496358406267213,1.2057041434604321,4.8962604810575926E-2,0,0]
["  97       9",100,6.3000063000062997E-3,1.4175014175014176,15.296415296415297,38.789138789138789,32.602532602532605,10.476910476910477,1.3608013608013609,5.0400050400050397E-2,0,0]
["1998  平成10年",100,1.2372409526755336E-2,1.5712960098979278,14.80358799876276,37.58119393751933,33.269409217445094,11.326940921744509,1.3918960717599753,4.3303433343643671E-2,0,0]
["  99      11",100,6.5112644875634845E-3,1.6343273863784349,14.435473368928244,37.700221382992574,33.226982680036464,11.603073316838131,1.3608542779007682,2.6045057950253938E-2,0,6.5112644875634845E-3]
["2000      12",100,0,1.6762327158883383,14.349073832507175,37.157578919906079,33.459431254891733,11.896686668405948,1.4218627706757108,3.913383772501957E-2,0,0]
["  01      13",100,0,1.6065830721003136,14.00208986415883,37.06243469174504,33.496603970741901,12.362852664576803,1.4237199582027169,4.5715778474399164E-2,0,0]
["  02      14",100,0,1.8039417089298324,13.89869679655903,35.013160428837388,34.97464210053284,12.50561725621108,1.7397444950889134,5.1357771072735446E-2,6.4197213840919308E-3,6.4197213840919308E-3]
["  03      15",100,0,1.7734515634375625,12.98086539102607,33.608907260484031,35.589039269284619,14.074271618107872,1.9401293419561303,2.6668444562970864E-2,0,6.667111140742716E-3]
["  04      16",100,6.7801206861482135E-3,1.5390873957556446,12.116075666146857,32.781883517526609,36.985558342938504,14.373855854634213,2.1696386195674284,2.7120482744592854E-2,0,0]
["  05      17",100,0,1.4311900733220531,11.794980259447264,32.043147208121823,37.655104342921604,14.911167512690355,2.0798082346305695,7.7552171460800901E-2,0,7.0501974055273559E-3]
["  06      18",100,0,1.5139171758316361,11.608961303462321,30.264765784114051,37.793618465716229,16.361167684996605,2.4236252545824848,3.3944331296673451E-2,0,0]
["  07      19",100,6.8975031038763963E-3,1.3450131052558973,11.774037798317009,29.666160849772382,37.343081804386813,17.464477859015037,2.3658435646296039,3.4487515519381985E-2,0,0]
["  08      20",99.999999999999986,0,1.4954530144829909,11.44493095318289,28.642640619737286,37.345907713034691,18.342876389356686,2.6743011114853483,4.715392388009431E-2,0,6.7362748400134724E-3]
["  09      21",100,2.0681097476906107E-2,1.4132083275885841,10.8368950778988,28.760512891217427,36.074727698883216,19.991727561009238,2.8057355577002618,9.6511788225561834E-2,0,0]
["  10      22",100.00000000000001,6.7847208087387211E-3,1.1398330958681051,10.02103263450709,28.570459325598751,35.9725897279327,21.147974760838594,3.0938326887848566,4.7493045661171046E-2,0,0]
["  11      23",100,6.9008350010351252E-3,1.048926920157339,9.9786074114967906,28.093299289213995,35.891242840383683,21.503001863225453,3.4228141605134224,5.5206680008281002E-2,0,0]
["  12      24",100,1.3805480775868021E-2,1.0837302409056395,8.8424104369434673,27.783530061434391,35.990888382687928,22.088769241388832,4.1209360115966032,6.9027403879340088E-2,0,6.9027403879340105E-3]
["  13      25",100.00000000000001,0,1.1034199163868137,8.6286066753478181,26.660270029470222,35.261462545404704,23.226646562949764,5.0304982523473374,8.9096018093345219E-2,0,0]
["  14      26",100,0,0.94041735310269081,8.5667215815486006,25.851180669961561,36.03789126853377,23.5996705107084,4.8805601317957166,0.12355848434925865,0,0]
["  15      27",100.00000000000001,0,1.0213174309411199,8.3967372678045109,24.826924395092192,36.417849064363558,24.319692919322776,4.9146617314414973,0.10281719103434094,0,0]
["  16      28",100,7.1321589045003925E-3,1.1696740603380642,8.3517580771699595,24.370586976677842,37.065829826688542,23.22230939305328,5.6486698523643106,0.16403965480350904,0,0]
["  17      29",100,0,0.87547934302872432,8.2772592431806657,24.766659431300194,36.900369003690038,23.239997105853412,5.773822444106794,0.16641342884017074,0,0]
["  18      30",{"$f":"SUM(C73:L73)","v":99.999999999999986},{"$f":"C38/$B38*100","v":2.2644927536231884E-2},0.76992753623188415,8.491847826086957,24.501811594202898,36.103562801932362,24.381038647342994,5.5782004830917868,0.15096618357487923,{"$f":"K38/$B38*100","v":0},0]

{"sheet":"7　母の年齢階級・性別，区別出生数・百分率","index":6,"n_rows":49,"n_cols":13,"rows_kept":49,"cut":false,"hidden":false,"merged":[[2,0,2,1],[3,2,3,12],[37,2,37,12],[38,0,38,1],[4,0,4,1],[7,0,7,1],[10,0,10,1],[13,0,13,1],[16,0,16,1],[19,0,19,1],[40,0,40,1],[41,0,41,1],[48,0,48,1],[46,0,46,1],[47,0,47,1],[42,0,42,1],[43,0,43,1],[44,0,44,1],[45,0,45,1],[39,0,39,1],[34,0,34,1],[22,0,22,1],[25,0,25,1],[28,0,28,1],[31,0,31,1]]}
["7　母の年齢(5歳階級)・性別にみた区別出生数及び百分率"]
[null,null,null,null,null,null,null,null,null,null,null,null,{"$f":"'3 月・性別，区別出生数・出生率'!$O$2","v":"平成30年"}]
["区・性",null,"総数","14歳以下","15～19","20～24","25～29","30～34","35～39","40～44","45～49","50～　","不詳"]
[null,null,"出生数"]
["総数",null,{"$f":"SUM(C8,C11,C14,C17,C20,C23,C26,C29,C32,C35)","v":13248},3,102,1125,3246,4783,3230,739,{"$f":"SUM(K8,K11,K14,K17,K20,K23,K26,K29,K32,K35)","v":20},0,0]
[null,"男",{"$f":"SUM(C9,C12,C15,C18,C21,C24,C27,C30,C33,C36)","v":6744},0,60,562,1619,2447,1666,378,{"$f":"SUM(K9,K12,K15,K18,K21,K24,K27,K30,K33,K36)","v":12},0,0]
[null,"女",{"$f":"SUM(C10,C13,C16,C19,C22,C25,C28,C31,C34,C37)","v":6504},3,42,563,1627,2336,1564,361,{"$f":"SUM(K10,K13,K16,K19,K22,K25,K28,K31,K34,K37)","v":8},0,0]
["中央",null,{"$f":"SUM(D8:M8)","v":1744},{"$f":"SUM(D9:D10)","v":0},{"$f":"SUM(E9:E10)","v":9},126,383,615,465,144,{"$f":"SUM(K9:K10)","v":2},0,0]
[null,"男",{"$f":"SUM(D9:M9)","v":918},0,6,60,207,316,254,74,1,0,0]
[null,"女",{"$f":"SUM(D10:M10)","v":826},0,3,66,176,299,211,70,1,0,0]
["北",null,{"$f":"SUM(D11:M11)","v":1847},{"$f":"SUM(D12:D13)","v":1},{"$f":"SUM(E12:E13)","v":13},159,457,651,459,105,{"$f":"SUM(K12:K13)","v":2},0,0]
[null,"男",922,0,3,85,215,331,227,59,2,0,0]
[null,"女",925,1,10,74,242,320,232,46,0,0,0]
["東",null,1978,{"$f":"SUM(D15:D16)","v":1},{"$f":"SUM(E15:E16)","v":27},173,521,719,433,100,{"$f":"SUM(K15:K16)","v":4},0,0]
[null,"男",995,0,19,78,268,375,205,50,0,0,0]
[null,"女",983,1,8,95,253,344,228,50,4,0,0]
["白石",null,1711,{"$f":"SUM(D18:D19)","v":0},{"$f":"SUM(E18:E19)","v":10},184,440,620,380,76,{"$f":"SUM(K18:K19)","v":1},0,0]
[null,"男",882,0,5,98,214,317,211,36,1,0,0]
[null,"女",829,0,5,86,226,303,169,40,0,0,0]
["厚別",null,661,{"$f":"SUM(D21:D22)","v":0},{"$f":"SUM(E21:E22)","v":6},45,145,247,175,43,{"$f":"SUM(K21:K22)","v":0},0,0]
[null,"男",360,0,5,27,78,131,94,25,0,0,0]
[null,"女",301,0,1,18,67,116,81,18,0,0,0]
["豊平",null,1682,{"$f":"SUM(D24:D25)","v":0},{"$f":"SUM(E24:E25)","v":18},145,457,630,352,79,{"$f":"SUM(K24:K25)","v":1},0,0]
[null,"男",855,0,13,64,241,319,178,39,1,0,0]
[null,"女",827,0,5,81,216,311,174,40,0,0,0]
["清田",null,644,{"$f":"SUM(D27:D28)","v":0},{"$f":"SUM(E27:E28)","v":3},57,136,214,192,39,{"$f":"SUM(K27:K28)","v":3},0,0]
[null,"男",319,0,2,30,71,99,98,16,3,0,0]
[null,"女",325,0,1,27,65,115,94,23,0,0,0]
["南",null,642,{"$f":"SUM(D30:D31)","v":0},{"$f":"SUM(E30:E31)","v":5},49,158,235,157,36,{"$f":"SUM(K30:K31)","v":2},0,0]
[null,"男",326,0,3,25,68,125,84,20,1,0,0]
[null,"女",316,0,2,24,90,110,73,16,1,0,0]
["西",null,1530,{"$f":"SUM(D33:D34)","v":1},{"$f":"SUM(E33:E34)","v":6},108,377,549,413,73,{"$f":"SUM(K33:K34)","v":3},0,0]
[null,"男",772,0,3,54,182,283,213,35,2,0,0]
[null,"女",758,1,3,54,195,266,200,38,1,0,0]
["手稲",null,809,{"$f":"SUM(D36:D37)","v":0},{"$f":"SUM(E36:E37)","v":5},79,172,303,204,44,{"$f":"SUM(K36:K37)","v":2},0,0]
[null,"男",395,0,1,41,75,151,102,24,1,0,0]
[null,"女",414,0,4,38,97,152,102,20,1,0,0]
[null,null,"百分率"]
["総数",null,{"$f":"C5/$C5*100","v":100},{"$f":"D5/$C5*100","v":2.2644927536231884E-2},0.76992753623188415,8.491847826086957,24.501811594202898,36.103562801932362,24.381038647342994,5.5782004830917868,0.15096618357487923,0,0]
["中央",null,{"$f":"C8/$C8*100","v":100},{"$f":"D8/$C8*100","v":0},0.5160550458715597,7.2247706422018343,21.961009174311926,35.263761467889907,26.662844036697248,8.2568807339449553,0.11467889908256881,0,0]
["北",null,{"$f":"C11/$C11*100","v":100},{"$f":"D11/$C11*100","v":5.4141851651326477E-2},0.70384407146724415,8.6085544125609097,24.742826204656197,35.246345425013537,24.85110990795885,5.68489442338928,0.10828370330265295,0,0]
["東",null,{"$f":"C14/$C14*100","v":100},{"$f":"D14/$C14*100","v":5.0556117290192118E-2},1.3650151668351871,8.7462082912032368,26.339737108190093,36.349848331648126,21.890798786653185,5.0556117290192111,0.20222446916076847,0,0]
["白石",null,{"$f":"C17/$C17*100","v":100},{"$f":"D17/$C17*100","v":0},0.58445353594389249,10.753945061367622,25.715955581531269,36.236119228521332,22.209234365867914,4.4418468731735832,5.8445353594389245E-2,0,0]
["厚別",null,{"$f":"C20/$C20*100","v":100},{"$f":"D20/$C20*100","v":0},0.90771558245083206,6.8078668683812404,21.936459909228443,37.367624810892586,26.475037821482601,6.5052950075642961,0,0,0]
["豊平",null,{"$f":"C23/$C23*100","v":100},{"$f":"D23/$C23*100","v":0},1.070154577883472,8.6206896551724146,27.170035671819264,37.455410225921518,20.92746730083234,4.6967895362663503,5.9453032104637329E-2,0,0]
["清田",null,{"$f":"C26/$C26*100","v":100},{"$f":"D26/$C26*100","v":0},0.46583850931677018,8.8509316770186341,21.118012422360248,33.229813664596278,29.813664596273291,6.0559006211180124,0.46583850931677018,0,0]
["南",null,{"$f":"C29/$C29*100","v":100},{"$f":"D29/$C29*100","v":0},0.77881619937694702,7.6323987538940807,24.610591900311526,36.604361370716511,24.454828660436139,5.6074766355140184,0.3115264797507788,0,0]
["西",null,{"$f":"C32/$C32*100","v":100},{"$f":"D32/$C32*100","v":6.5359477124182996E-2},0.39215686274509803,7.0588235294117645,24.640522875816995,35.882352941176471,26.993464052287582,4.7712418300653594,0.19607843137254902,0,0]
["手稲",null,{"$f":"C35/$C35*100","v":100},{"$f":"D35/$C35*100","v":0},0.61804697156983934,9.7651421508034613,21.260815822002471,37.45364647713226,25.21631644004944,5.4388133498145859,0.2472187886279357,0,0]

{"sheet":"8出生順位，年次別出生数・百分率","index":7,"n_rows":73,"n_cols":8,"rows_kept":73,"cut":false,"hidden":false,"merged":[[3,1,3,7],[38,1,38,7]]}
["8　出生順位別にみた年次別出生数及び百分率"]
[]
["年次","総数","第1子","第2子","第3子","第4子","第5子以上","不詳"]
[null,"出生数"]
["  85      60",{"$f":"SUM(C5:H5)","v":19314},8813,7402,2574,397,128,0]
["1986  昭和61年",{"$f":"SUM(C6:H6)","v":19130},8707,7360,2519,438,106,0]
["1987  昭和62年",{"$f":"SUM(C7:H7)","v":18533},8440,7071,2547,379,96,0]
["1988  昭和63年",18216,8247,7039,2442,409,79,0]
["  89    平成元年　",17479,8068,6558,2343,405,105,0]
["  90       2",17425,8151,6509,2265,400,100,0]
["  91       3",17458,8473,6332,2225,338,90,0]
["  92       4",17325,8611,6055,2151,385,123,0]
["1993   平成5年",16371,8292,5780,1891,319,89,0]
["  94       6",17057,8701,6017,1931,324,84,0]
["  95       7",16227,8331,5674,1803,335,84,0]
["  96       8",16339,8468,5704,1765,310,92,0]
["  97       9",15873,8245,5666,1605,275,82,0]
["1998  平成10年",16165,8476,5687,1612,300,90,0]
["  99      11",15358,8177,5381,1459,251,90,0]
["2000      12",15332,8258,5301,1471,242,60,0]
["  01      13",15312,8180,5337,1446,280,69,0]
["  02      14",15577,8418,5397,1413,274,75,0]
["  03      15",14999,7878,5367,1399,271,84,0]
["  04      16",14749,7817,5202,1402,266,62,0]
["  05      17",14184,7512,5006,1336,240,90,0]
["  06      18",14730,7801,5185,1381,273,90,0]
["  07      19",14498,7609,5077,1464,279,69,0]
["  08      20",14845,7686,5286,1511,270,92,0]
["  09      21",14506,7622,5040,1445,295,104,0]
["  10      22",14739,7678,5067,1576,313,105,0]
["  11      23",14491,7499,5057,1554,292,89,0]
["  12      24",14487,7318,5148,1561,328,132,0]
["  13      25",14591,7561,5088,1520,318,104,0]
["  14      26",14568,7441,5142,1562,325,98,0]
["  15      27",14589,7550,5136,1494,305,104,0]
["  16      28",14021,7222,4939,1468,276,116,0]
["  17      29",13821,7001,4932,1449,312,127,0]
["  18      30",{"$f":"SUM(C38:H38)","v":13248},{"$f":"'9　区・出生順位別，出生数'!$D$5","v":6691},{"$f":"'9　区・出生順位別，出生数'!$E$5","v":4753},{"$f":"'9　区・出生順位別，出生数'!$F$5","v":1413},{"$f":"'9　区・出生順位別，出生数'!$G$5","v":287},{"$f":"'9　区・出生順位別，出生数'!$H$5","v":104},{"$f":"'9　区・出生順位別，出生数'!$I$5","v":0}]
[null,"百分率"]
["  85      60",{"$f":"SUM(C40:H40)","v":100},{"$f":"C5/$B5*100","v":45.630112871492187},38.3245314279797,13.327120223671947,2.0555037796417106,0.66273169721445591,0]
["1986  昭和61年",{"$f":"SUM(C41:H41)","v":99.999999999999986},45.514898065865133,38.473601672765291,13.167799268165187,2.2895974908520649,0.55410350235232619,0]
["1987  昭和62年",{"$f":"SUM(C42:H42)","v":100},45.540387417039874,38.153563913020015,13.7430529326067,2.0450008093670751,0.5179949279663304,0]
["1988  昭和63年",100,45.273386034255594,38.641853315766362,13.405797101449277,2.2452788757136584,0.43368467281510759,0]
["  89    平成元年　",100,46.158247039304307,37.519308884947648,13.40465701699182,2.3170661937181762,0.60072086503804567,0]
["  90       2",100,46.777618364418942,37.354375896700141,12.998565279770444,2.2955523672883791,0.57388809182209477,0]
["  91       3",100,48.533623553671667,36.269904914652308,12.744873410470845,1.9360751517928745,0.5155229694123038,0]
["  92       4",100,49.702741702741704,34.949494949494948,12.415584415584416,2.2222222222222223,0.70995670995671001,0]
["1993   平成5年",100,50.650540590067806,35.306334371754936,11.550913200171035,1.9485675890293812,0.54364424897684926,0]
["  94       6",100,51.011315002638213,35.275839831154364,11.320865333880519,1.8995133962596,0.49246643606730373,0]
["  95       7",100,51.340358661490107,34.966414001355766,11.111111111111111,2.0644604671226965,0.51765575892031801,0]
["  96       8",100,51.826917191994617,34.910337229940637,10.802374686333312,1.897300936409817,0.56306995532162307,0]
["  97       9",100,51.943551943551945,35.695835695835697,10.111510111510112,1.7325017325017324,0.51660051660051653,0]
["1998  平成10年",100,52.434271574389115,35.180946489328797,9.9721620785648,1.8558614290133002,0.55675842870399006,0]
["  99      11",100,53.242609714806612,35.037114207579108,9.4999348873551241,1.6343273863784349,0.58601380388071367,0]
["2000      12",100,53.861205322201933,34.574745630054785,9.5943125489172978,1.5783981215757894,0.39133837725019566,0]
["  01      13",100,53.422152560083589,34.855015673981192,9.4435736677115987,1.8286311389759664,0.45062695924764889,0]
["  02      14",100,54.041214611285874,34.647236309944148,9.0710663157218967,1.7590036592411891,0.48147910380689479,0]
["  03      15",100,52.523501566771117,35.78238549236616,9.3272884858990608,1.8067871191412759,0.56003733582238813,0]
["  04      16",100,53.000203403620581,35.270187809343007,9.5057292019797952,1.8035121025154248,0.42036748254118927,0]
["  05      17",100,52.961082910321487,35.293288212069939,9.4190637337845455,1.6920473773265652,0.63451776649746194,0]
["  06      18",100,52.959945689069919,35.200271554650378,9.3754243041412089,1.8533604887983706,0.61099796334012213,0]
["  07      19",100.00000000000001,52.483101117395506,35.018623258380465,10.097944544075045,1.9244033659815147,0.47592771416747137,0]
["  08      20",100,51.775008420343546,35.607948804311221,10.178511283260356,1.8187942068036378,0.6197372852812395,0]
["  09      21",100.00000000000001,52.543774989659454,34.744243761202256,9.9613952847097753,2.0336412518957672,0.71694471253274505,0]
["  10      22",100.00000000000001,52.0930863694959,34.378180337879094,10.692719994572224,2.1236176131352194,0.71239568491756566,0]
["  11      23",100,51.749361672762404,34.897522600234623,10.723897591608585,2.0150438203022567,0.61417431509212617,0]
["  12      24",99.999999999999986,50.514254158901082,35.535307517084277,10.77517774556499,2.2640988472423551,0.91116173120728927,0]
["  13      25",100,51.819614831060242,34.870810773764646,10.417380577068055,2.1794256733602904,0.71276814474676176,0]
["  14      26",100.00000000000001,51.077704557935199,35.296540362438222,10.722130697419001,2.230917078528281,0.6727073036792971,0]
["  15      27",100,51.751319487284938,35.204606210158339,10.240592227020358,2.0906162176982654,0.71286585783809719,0]
["  16      28",99.999999999999986,51.508451608301833,35.225732829327441,10.470009271806575,1.9684758576421082,0.82733043292204556,0]
["  17      29",100,50.654800665653724,35.684827436509657,10.484046016930758,2.257434339049273,0.91889154185659494,0]
["  18      30",{"$f":"SUM(C73:H73)","v":100},{"$f":"C38/$B38*100","v":50.505736714975846},35.877113526570049,10.665760869565217,2.1663647342995169,0.78502415458937203,0]

{"sheet":"9　区・出生順位別，出生数","index":8,"n_rows":49,"n_cols":9,"rows_kept":49,"cut":false,"hidden":false,"merged":[[47,0,47,1],[48,0,48,1],[42,0,42,1],[43,0,43,1],[44,0,44,1],[45,0,45,1],[46,0,46,1],[3,2,3,8],[37,2,37,8],[38,0,38,1],[4,0,4,1],[7,0,7,1],[10,0,10,1],[13,0,13,1],[2,0,2,1],[22,0,22,1],[25,0,25,1],[34,0,34,1],[41,0,41,1],[31,0,31,1],[16,0,16,1],[28,0,28,1],[19,0,19,1],[39,0,39,1],[40,0,40,1]]}
["9　出生順位・性別にみた区別出生数及び百分率"]
[null,null,null,null,null,null,null,null,{"$f":"'3 月・性別，区別出生数・出生率'!$O$2","v":"平成30年"}]
["区・性",null,"総数","第1子","第2子","第3子","第4子","第5子～","不詳"]
[null,null,"出生数"]
["総数",null,{"$f":"SUM(C8,C11,C14,C17,C20,C23,C26,C29,C32,C35)","v":13248},{"$f":"SUM(D8,D11,D14,D17,D20,D23,D26,D29,D32,D35)","v":6691},4753,1413,287,104,0]
[null,"男",6744,3415,2398,739,140,52,0]
[null,"女",6504,3276,2355,674,147,52,0]
["中央",null,{"$f":"SUM(D8:J8)","v":1744},{"$f":"SUM(D9:D10)","v":985},582,153,14,10,0]
[null,"男",918,527,297,79,10,5,0]
[null,"女",826,458,285,74,4,5,0]
["北",null,1847,{"$f":"SUM(D12:D13)","v":853},{"$f":"SUM(E12:E13)","v":723},202,51,18,0]
[null,"男",922,414,365,109,27,7,0]
[null,"女",925,439,358,93,24,11,0]
["東",null,1978,{"$f":"SUM(D15:D16)","v":972},{"$f":"SUM(E15:E16)","v":721},215,54,16,0]
[null,"男",995,488,347,120,29,11,0]
[null,"女",983,484,374,95,25,5,0]
["白石",null,1711,{"$f":"SUM(D18:D19)","v":945},{"$f":"SUM(E18:E19)","v":556},166,30,14,0]
[null,"男",882,492,281,88,15,6,0]
[null,"女",829,453,275,78,15,8,0]
["厚別",null,661,{"$f":"SUM(D21:D22)","v":320},{"$f":"SUM(E21:E22)","v":234},80,18,9,0]
[null,"男",360,171,125,50,10,4,0]
[null,"女",301,149,109,30,8,5,0]
["豊平",null,1682,{"$f":"SUM(D24:D25)","v":957},{"$f":"SUM(E24:E25)","v":550},145,23,7,0]
[null,"男",855,497,274,69,13,2,0]
[null,"女",827,460,276,76,10,5,0]
["清田",null,644,{"$f":"SUM(D27:D28)","v":230},{"$f":"SUM(E27:E28)","v":271},103,30,10,0]
[null,"男",319,111,140,49,11,8,0]
[null,"女",325,119,131,54,19,2,0]
["南",null,642,{"$f":"SUM(D30:D31)","v":274},{"$f":"SUM(E30:E31)","v":255},91,17,5,0]
[null,"男",326,135,126,52,10,3,0]
[null,"女",316,139,129,39,7,2,0]
["西",null,1530,{"$f":"SUM(D33:D34)","v":804},{"$f":"SUM(E33:E34)","v":539},149,29,9,0]
[null,"男",772,415,276,69,8,4,0]
[null,"女",758,389,263,80,21,5,0]
["手稲",null,809,{"$f":"SUM(D36:D37)","v":351},{"$f":"SUM(E36:E37)","v":322},109,21,6,0]
[null,"男",395,165,167,54,7,2,0]
[null,"女",414,186,155,55,14,4,0]
[null,null,"百分率"]
["総数",null,{"$f":"'9　区・出生順位別，出生数'!C5/'9　区・出生順位別，出生数'!$C$5*100","v":100},{"$f":"'9　区・出生順位別，出生数'!D5/'9　区・出生順位別，出生数'!$C$5*100","v":50.505736714975846},{"$f":"'9　区・出生順位別，出生数'!E5/'9　区・出生順位別，出生数'!$C$5*100","v":35.877113526570049},{"$f":"'9　区・出生順位別，出生数'!F5/'9　区・出生順位別，出生数'!$C$5*100","v":10.665760869565217},{"$f":"'9　区・出生順位別，出生数'!G5/'9　区・出生順位別，出生数'!$C$5*100","v":2.1663647342995169},{"$f":"'9　区・出生順位別，出生数'!H5/'9　区・出生順位別，出生数'!$C$5*100","v":0.78502415458937203},{"$f":"'9　区・出生順位別，出生数'!I5/'9　区・出生順位別，出生数'!$C$5*100","v":0}]
["中央",null,{"$f":"'9　区・出生順位別，出生数'!C8/'9　区・出生順位別，出生数'!$C$8*100","v":100},{"$f":"'9　区・出生順位別，出生数'!D8/'9　区・出生順位別，出生数'!$C$8*100","v":56.47935779816514},{"$f":"'9　区・出生順位別，出生数'!E8/'9　区・出生順位別，出生数'!$C$8*100","v":33.371559633027523},{"$f":"'9　区・出生順位別，出生数'!F8/'9　区・出生順位別，出生数'!$C$8*100","v":8.772935779816514},{"$f":"'9　区・出生順位別，出生数'!G8/'9　区・出生順位別，出生数'!$C$8*100","v":0.80275229357798172},{"$f":"'9　区・出生順位別，出生数'!H8/'9　区・出生順位別，出生数'!$C$8*100","v":0.57339449541284404},{"$f":"'9　区・出生順位別，出生数'!I8/'9　区・出生順位別，出生数'!$C$8*100","v":0}]
["北",null,{"$f":"'9　区・出生順位別，出生数'!C11/'9　区・出生順位別，出生数'!$C$11*100","v":100},{"$f":"'9　区・出生順位別，出生数'!D11/'9　区・出生順位別，出生数'!$C$11*100","v":46.182999458581484},{"$f":"'9　区・出生順位別，出生数'!E11/'9　区・出生順位別，出生数'!$C$11*100","v":39.144558743909045},{"$f":"'9　区・出生順位別，出生数'!F11/'9　区・出生順位別，出生数'!$C$11*100","v":10.936654033567947},{"$f":"'9　区・出生順位別，出生数'!G11/'9　区・出生順位別，出生数'!$C$11*100","v":2.7612344342176502},{"$f":"'9　区・出生順位別，出生数'!H11/'9　区・出生順位別，出生数'!$C$11*100","v":0.97455332972387654},{"$f":"'9　区・出生順位別，出生数'!I11/'9　区・出生順位別，出生数'!$C$11*100","v":0}]
["東",null,{"$f":"'9　区・出生順位別，出生数'!C14/'9　区・出生順位別，出生数'!$C$14*100","v":100},{"$f":"'9　区・出生順位別，出生数'!D14/'9　区・出生順位別，出生数'!$C$14*100","v":49.140546006066735},{"$f":"'9　区・出生順位別，出生数'!E14/'9　区・出生順位別，出生数'!$C$14*100","v":36.45096056622851},{"$f":"'9　区・出生順位別，出生数'!F14/'9　区・出生順位別，出生数'!$C$14*100","v":10.869565217391305},{"$f":"'9　区・出生順位別，出生数'!G14/'9　区・出生順位別，出生数'!$C$14*100","v":2.7300303336703742},{"$f":"'9　区・出生順位別，出生数'!H14/'9　区・出生順位別，出生数'!$C$14*100","v":0.80889787664307389},{"$f":"'9　区・出生順位別，出生数'!I14/'9　区・出生順位別，出生数'!$C$14*100","v":0}]
["白石",null,{"$f":"'9　区・出生順位別，出生数'!C17/'9　区・出生順位別，出生数'!$C$17*100","v":100},{"$f":"'9　区・出生順位別，出生数'!D17/'9　区・出生順位別，出生数'!$C$17*100","v":55.230859146697838},{"$f":"'9　区・出生順位別，出生数'!E17/'9　区・出生順位別，出生数'!$C$17*100","v":32.495616598480417},{"$f":"'9　区・出生順位別，出生数'!F17/'9　区・出生順位別，出生数'!$C$17*100","v":9.7019286966686149},{"$f":"'9　区・出生順位別，出生数'!G17/'9　区・出生順位別，出生数'!$C$17*100","v":1.7533606078316772},{"$f":"'9　区・出生順位別，出生数'!H17/'9　区・出生順位別，出生数'!$C$17*100","v":0.81823495032144944},{"$f":"'9　区・出生順位別，出生数'!I17/'9　区・出生順位別，出生数'!$C$17*100","v":0}]
["厚別",null,{"$f":"'9　区・出生順位別，出生数'!C20/'9　区・出生順位別，出生数'!$C$20*100","v":100},{"$f":"'9　区・出生順位別，出生数'!D20/'9　区・出生順位別，出生数'!$C$20*100","v":48.411497730711048},{"$f":"'9　区・出生順位別，出生数'!E20/'9　区・出生順位別，出生数'!$C$20*100","v":35.400907715582456},{"$f":"'9　区・出生順位別，出生数'!F20/'9　区・出生順位別，出生数'!$C$20*100","v":12.102874432677762},{"$f":"'9　区・出生順位別，出生数'!G20/'9　区・出生順位別，出生数'!$C$20*100","v":2.7231467473524962},{"$f":"'9　区・出生順位別，出生数'!H20/'9　区・出生順位別，出生数'!$C$20*100","v":1.3615733736762481},{"$f":"'9　区・出生順位別，出生数'!I20/'9　区・出生順位別，出生数'!$C$20*100","v":0}]
["豊平",null,{"$f":"'9　区・出生順位別，出生数'!C23/'9　区・出生順位別，出生数'!$C$23*100","v":100},{"$f":"'9　区・出生順位別，出生数'!D23/'9　区・出生順位別，出生数'!$C$23*100","v":56.896551724137936},{"$f":"'9　区・出生順位別，出生数'!E23/'9　区・出生順位別，出生数'!$C$23*100","v":32.699167657550539},{"$f":"'9　区・出生順位別，出生数'!F23/'9　区・出生順位別，出生数'!$C$23*100","v":8.6206896551724146},{"$f":"'9　区・出生順位別，出生数'!G23/'9　区・出生順位別，出生数'!$C$23*100","v":1.3674197384066586},{"$f":"'9　区・出生順位別，出生数'!H23/'9　区・出生順位別，出生数'!$C$23*100","v":0.41617122473246138},{"$f":"'9　区・出生順位別，出生数'!I23/'9　区・出生順位別，出生数'!$C$23*100","v":0}]
["清田",null,{"$f":"'9　区・出生順位別，出生数'!C26/'9　区・出生順位別，出生数'!$C$26*100","v":100},{"$f":"'9　区・出生順位別，出生数'!D26/'9　区・出生順位別，出生数'!$C$26*100","v":35.714285714285715},{"$f":"'9　区・出生順位別，出生数'!E26/'9　区・出生順位別，出生数'!$C$26*100","v":42.080745341614907},{"$f":"'9　区・出生順位別，出生数'!F26/'9　区・出生順位別，出生数'!$C$26*100","v":15.993788819875776},{"$f":"'9　区・出生順位別，出生数'!G26/'9　区・出生順位別，出生数'!$C$26*100","v":4.658385093167702},{"$f":"'9　区・出生順位別，出生数'!H26/'9　区・出生順位別，出生数'!$C$26*100","v":1.5527950310559007},{"$f":"'9　区・出生順位別，出生数'!I26/'9　区・出生順位別，出生数'!$C$26*100","v":0}]
["南",null,{"$f":"'9　区・出生順位別，出生数'!C29/'9　区・出生順位別，出生数'!$C$29*100","v":100},{"$f":"'9　区・出生順位別，出生数'!D29/'9　区・出生順位別，出生数'!$C$29*100","v":42.679127725856695},{"$f":"'9　区・出生順位別，出生数'!E29/'9　区・出生順位別，出生数'!$C$29*100","v":39.719626168224295},{"$f":"'9　区・出生順位別，出生数'!F29/'9　区・出生順位別，出生数'!$C$29*100","v":14.174454828660435},{"$f":"'9　区・出生順位別，出生数'!G29/'9　区・出生順位別，出生数'!$C$29*100","v":2.64797507788162},{"$f":"'9　区・出生順位別，出生数'!H29/'9　区・出生順位別，出生数'!$C$29*100","v":0.77881619937694702},{"$f":"'9　区・出生順位別，出生数'!I29/'9　区・出生順位別，出生数'!$C$29*100","v":0}]
["西",null,{"$f":"'9　区・出生順位別，出生数'!C32/'9　区・出生順位別，出生数'!$C$32*100","v":100},{"$f":"'9　区・出生順位別，出生数'!D32/'9　区・出生順位別，出生数'!$C$32*100","v":52.549019607843142},{"$f":"'9　区・出生順位別，出生数'!E32/'9　区・出生順位別，出生数'!$C$32*100","v":35.228758169934643},{"$f":"'9　区・出生順位別，出生数'!F32/'9　区・出生順位別，出生数'!$C$32*100","v":9.7385620915032689},{"$f":"'9　区・出生順位別，出生数'!G32/'9　区・出生順位別，出生数'!$C$32*100","v":1.8954248366013071},{"$f":"'9　区・出生順位別，出生数'!H32/'9　区・出生順位別，出生数'!$C$32*100","v":0.58823529411764708},{"$f":"'9　区・出生順位別，出生数'!I32/'9　区・出生順位別，出生数'!$C$32*100","v":0}]
["手稲",null,{"$f":"'9　区・出生順位別，出生数'!C35/'9　区・出生順位別，出生数'!$C$35*100","v":100},{"$f":"'9　区・出生順位別，出生数'!D35/'9　区・出生順位別，出生数'!$C$35*100","v":43.38689740420272},{"$f":"'9　区・出生順位別，出生数'!E35/'9　区・出生順位別，出生数'!$C$35*100","v":39.802224969097651},{"$f":"'9　区・出生順位別，出生数'!F35/'9　区・出生順位別，出生数'!$C$35*100","v":13.473423980222496},{"$f":"'9　区・出生順位別，出生数'!G35/'9　区・出生順位別，出生数'!$C$35*100","v":2.5957972805933252},{"$f":"'9　区・出生順位別，出生数'!H35/'9　区・出生順位別，出生数'!$C$35*100","v":0.74165636588380723},{"$f":"'9　区・出生順位別，出生数'!I35/'9　区・出生順位別，出生数'!$C$35*100","v":0}]

{"sheet":"10　出生順位別，母の年齢別出生数","index":9,"n_rows":12,"n_cols":8,"rows_kept":12,"cut":false,"hidden":false,"merged":[]}
["10　出生順位別にみた母の年齢（5歳階級）別出生数"]
[null,null,null,null,null,null,null,{"$f":"'3 月・性別，区別出生数・出生率'!$O$2","v":"平成30年"}]
["母の年齢","総数","第1子","第2子","第3子","第4子","第5子～","不　詳"]
["　 15～49歳",{"$f":"SUM(C4:H4)","v":13245},{"$f":"SUM(C5:C11)","v":6688},4753,1413,287,104,0]
["　 15～19歳",{"$f":"SUM(C5:H5)","v":102},95,6,1,0,0,0]
["　 20～24",{"$f":"SUM(C6:H6)","v":1125},801,283,38,3,0,0]
["　 25～29",3246,2086,921,196,35,8,0]
["　 30～34",4783,2236,1859,547,101,40,0]
["　 35～39",3230,1195,1364,521,111,39,0]
["　 40～44",739,265,314,107,37,16,0]
[" 　45～49",20,10,6,3,0,1,0]
["注）　算出に用いた出生数には14歳以下での出生は含まない。"]

{"sheet":"11　出生順位別，母の年齢別出生率","index":10,"n_rows":14,"n_cols":8,"rows_kept":14,"cut":false,"hidden":false,"merged":[]}
["11　出生順位別にみた母の年齢（5歳階級）別出生率"]
[null,null,null,null,null,null,null,{"$f":"'3 月・性別，区別出生数・出生率'!$O$2","v":"平成30年"}]
["母の年齢","女子人口1)","総数","第1子","第2子","第3子","第4子","第5子～"]
["　　15～49歳",{"$f":"[1]女子人口!$B$3","v":421881},{"$f":"SUM(C6:C12)","v":1.137415445058547},0.59041123029779286,0.39971721166063751,0.11594941008345758,2.3096822953997308E-2,8.2407700626617036E-3]
[null,null,"(合計特殊出生率)"]
["　　15～19歳",{"$f":"[1]女子人口!$B$4","v":40422},{"$f":"'10　出生順位別，母の年齢別出生数'!B5/$B6*5","v":1.2616891791598635E-2},{"$f":"'10　出生順位別，母の年齢別出生数'!C5/$B6*5","v":1.1751026668645786E-2},{"$f":"'10　出生順位別，母の年齢別出生数'!D5/$B6*5","v":7.4217010538815491E-4},{"$f":"'10　出生順位別，母の年齢別出生数'!E5/$B6*5","v":1.2369501756469251E-4},{"$f":"'10　出生順位別，母の年齢別出生数'!F5/$B6*5","v":0},{"$f":"'10　出生順位別，母の年齢別出生数'!G5/$B6*5","v":0}]
["　　20～24",{"$f":"[1]女子人口!$B$5","v":49026},{"$f":"'10　出生順位別，母の年齢別出生数'!B6/$B7*5","v":0.11473503855097295},{"$f":"'10　出生順位別，母の年齢別出生数'!C6/$B7*5","v":8.1691347448292748E-2},{"$f":"'10　出生順位別，母の年齢別出生数'!D6/$B7*5","v":2.8862236364378086E-2},{"$f":"'10　出生順位別，母の年齢別出生数'!E6/$B7*5","v":3.8754946354995308E-3},{"$f":"'10　出生順位別，母の年齢別出生数'!F6/$B7*5","v":3.0596010280259454E-4},{"$f":"'10　出生順位別，母の年齢別出生数'!G6/$B7*5","v":0}]
["　　25～29",{"$f":"[1]女子人口!$B$6","v":52531},{"$f":"'10　出生順位別，母の年齢別出生数'!B7/$B8*5","v":0.30896042336905827},{"$f":"'10　出生順位別，母の年齢別出生数'!C7/$B8*5","v":0.19854942795682548},{"$f":"'10　出生順位別，母の年齢別出生数'!D7/$B8*5","v":8.7662523081608948E-2},{"$f":"'10　出生順位別，母の年齢別出生数'!E7/$B8*5","v":1.865565094896347E-2},{"$f":"'10　出生順位別，母の年齢別出生数'!F7/$B8*5","v":3.3313662408863336E-3},{"$f":"'10　出生順位別，母の年齢別出生数'!G7/$B8*5","v":7.6145514077401914E-4}]
["　　30～34",{"$f":"[1]女子人口!$B$7","v":59157},{"$f":"'10　出生順位別，母の年齢別出生数'!B8/$B9*5","v":0.40426323173927003},{"$f":"'10　出生順位別，母の年齢別出生数'!C8/$B9*5","v":0.18898862349341583},{"$f":"'10　出生順位別，母の年齢別出生数'!D8/$B9*5","v":0.15712426255557246},{"$f":"'10　出生順位別，母の年齢別出生数'!E8/$B9*5","v":4.6232905657825785E-2},{"$f":"'10　出生順位別，母の年齢別出生数'!F8/$B9*5","v":8.5366059806954372E-3},{"$f":"'10　出生順位別，母の年齢別出生数'!G8/$B9*5","v":3.380834051760569E-3}]
["　　35～39",{"$f":"[1]女子人口!$B$8","v":65423},{"$f":"'10　出生順位別，母の年齢別出生数'!B9/$B10*5","v":0.24685508154624519},{"$f":"'10　出生順位別，母の年齢別出生数'!C9/$B10*5","v":9.1328737599926643E-2},{"$f":"'10　出生順位別，母の年齢別出生数'!D9/$B10*5","v":0.10424468459104595},{"$f":"'10　出生順位別，母の年齢別出生数'!E9/$B10*5","v":3.9817801079131195E-2},{"$f":"'10　出生順位別，母の年齢別出生数'!F9/$B10*5","v":8.4832551243446495E-3},{"$f":"'10　出生順位別，母の年齢別出生数'!G9/$B10*5","v":2.9806031517967684E-3}]
["　　40～44",{"$f":"[1]女子人口!$B$9","v":75831},{"$f":"'10　出生順位別，母の年齢別出生数'!B10/$B11*5","v":4.8726774010628901E-2},{"$f":"'10　出生順位別，母の年齢別出生数'!C10/$B11*5","v":1.7473065105299942E-2},{"$f":"'10　出生順位別，母の年齢別出生数'!D10/$B11*5","v":2.0703933747412008E-2},{"$f":"'10　出生順位別，母の年齢別出生数'!E10/$B11*5","v":7.0551621368569583E-3},{"$f":"'10　出生順位別，母の年齢別出生数'!F10/$B11*5","v":2.4396355052682941E-3},{"$f":"'10　出生順位別，母の年齢別出生数'!G10/$B11*5","v":1.0549775157916949E-3}]
["　　45～49",{"$f":"[1]女子人口!$B$10","v":79491},{"$f":"'10　出生順位別，母の年齢別出生数'!B11/$B12*5","v":1.2580040507730434E-3},{"$f":"'10　出生順位別，母の年齢別出生数'!C11/$B12*5","v":6.2900202538652169E-4},{"$f":"'10　出生順位別，母の年齢別出生数'!D11/$B12*5","v":3.7740121523191305E-4},{"$f":"'10　出生順位別，母の年齢別出生数'!E11/$B12*5","v":1.8870060761595652E-4},{"$f":"'10　出生順位別，母の年齢別出生数'!F11/$B12*5","v":0},{"$f":"'10　出生順位別，母の年齢別出生数'!G11/$B12*5","v":6.2900202538652175E-5}]
["注）　算出に用いた出生数には14歳以下での出生は含まない。"]
["1)　10月1日現在、住民基本台帳による。"]

{"sheet":"12　出生順位別，母の年齢別百分率","index":11,"n_rows":12,"n_cols":7,"rows_kept":12,"cut":false,"hidden":false,"merged":[]}
["12　出生順位別にみた母の年齢（5歳階級）別出生数の百分率"]
[null,null,null,null,null,null,{"$f":"'3 月・性別，区別出生数・出生率'!$O$2","v":"平成30年"}]
["母の年齢","総数","第1子","第2子","第3子","第4子","第5子～"]
["　　 15～49歳",{"$f":"SUM(B5:B11)","v":100.00000000000001},{"$f":"SUM(C5:C11)","v":99.999999999999986},100,99.999999999999986,100,100.00000000000001]
["　　 15～19歳",{"$f":"'10　出生順位別，母の年齢別出生数'!B5/'10　出生順位別，母の年齢別出生数'!B$4*100","v":0.77010192525481314},{"$f":"'10　出生順位別，母の年齢別出生数'!C5/'10　出生順位別，母の年齢別出生数'!C$4*100","v":1.4204545454545454},{"$f":"'10　出生順位別，母の年齢別出生数'!D5/'10　出生順位別，母の年齢別出生数'!D$4*100","v":0.12623606143488322},{"$f":"'10　出生順位別，母の年齢別出生数'!E5/'10　出生順位別，母の年齢別出生数'!E$4*100","v":7.0771408351026188E-2},{"$f":"'10　出生順位別，母の年齢別出生数'!F5/'10　出生順位別，母の年齢別出生数'!F$4*100","v":0},{"$f":"'10　出生順位別，母の年齢別出生数'!G5/'10　出生順位別，母の年齢別出生数'!G$4*100","v":0}]
["　　 20～24",{"$f":"'10　出生順位別，母の年齢別出生数'!B6/'10　出生順位別，母の年齢別出生数'!B$4*100","v":8.4937712344280865},{"$f":"'10　出生順位別，母の年齢別出生数'!C6/'10　出生順位別，母の年齢別出生数'!C$4*100","v":11.976674641148326},{"$f":"'10　出生順位別，母の年齢別出生数'!D6/'10　出生順位別，母の年齢別出生数'!D$4*100","v":5.9541342310119925},{"$f":"'10　出生順位別，母の年齢別出生数'!E6/'10　出生順位別，母の年齢別出生数'!E$4*100","v":2.689313517338995},{"$f":"'10　出生順位別，母の年齢別出生数'!F6/'10　出生順位別，母の年齢別出生数'!F$4*100","v":1.0452961672473868},{"$f":"'10　出生順位別，母の年齢別出生数'!G6/'10　出生順位別，母の年齢別出生数'!G$4*100","v":0}]
["　　 25～29",{"$f":"'10　出生順位別，母の年齢別出生数'!B7/'10　出生順位別，母の年齢別出生数'!B$4*100","v":24.507361268403173},{"$f":"'10　出生順位別，母の年齢別出生数'!C7/'10　出生順位別，母の年齢別出生数'!C$4*100","v":31.190191387559807},{"$f":"'10　出生順位別，母の年齢別出生数'!D7/'10　出生順位別，母の年齢別出生数'!D$4*100","v":19.377235430254576},{"$f":"'10　出生順位別，母の年齢別出生数'!E7/'10　出生順位別，母の年齢別出生数'!E$4*100","v":13.87119603680113},{"$f":"'10　出生順位別，母の年齢別出生数'!F7/'10　出生順位別，母の年齢別出生数'!F$4*100","v":12.195121951219512},{"$f":"'10　出生順位別，母の年齢別出生数'!G7/'10　出生順位別，母の年齢別出生数'!G$4*100","v":7.6923076923076925}]
["　　 30～34",{"$f":"'10　出生順位別，母の年齢別出生数'!B8/'10　出生順位別，母の年齢別出生数'!B$4*100","v":36.111740279350698},{"$f":"'10　出生順位別，母の年齢別出生数'!C8/'10　出生順位別，母の年齢別出生数'!C$4*100","v":33.433014354066984},{"$f":"'10　出生順位別，母の年齢別出生数'!D8/'10　出生順位別，母の年齢別出生数'!D$4*100","v":39.112139701241318},{"$f":"'10　出生順位別，母の年齢別出生数'!E8/'10　出生順位別，母の年齢別出生数'!E$4*100","v":38.711960368011319},{"$f":"'10　出生順位別，母の年齢別出生数'!F8/'10　出生順位別，母の年齢別出生数'!F$4*100","v":35.191637630662022},{"$f":"'10　出生順位別，母の年齢別出生数'!G8/'10　出生順位別，母の年齢別出生数'!G$4*100","v":38.461538461538467}]
["　　 35～39",{"$f":"'10　出生順位別，母の年齢別出生数'!B9/'10　出生順位別，母の年齢別出生数'!B$4*100","v":24.386560966402413},{"$f":"'10　出生順位別，母の年齢別出生数'!C9/'10　出生順位別，母の年齢別出生数'!C$4*100","v":17.867822966507177},{"$f":"'10　出生順位別，母の年齢別出生数'!D9/'10　出生順位別，母の年齢別出生数'!D$4*100","v":28.697664632863457},{"$f":"'10　出生順位別，母の年齢別出生数'!E9/'10　出生順位別，母の年齢別出生数'!E$4*100","v":36.871903750884641},{"$f":"'10　出生順位別，母の年齢別出生数'!F9/'10　出生順位別，母の年齢別出生数'!F$4*100","v":38.675958188153309},{"$f":"'10　出生順位別，母の年齢別出生数'!G9/'10　出生順位別，母の年齢別出生数'!G$4*100","v":37.5}]
["　　 40～44",{"$f":"'10　出生順位別，母の年齢別出生数'!B10/'10　出生順位別，母の年齢別出生数'!B$4*100","v":5.5794639486598721},{"$f":"'10　出生順位別，母の年齢別出生数'!C10/'10　出生順位別，母の年齢別出生数'!C$4*100","v":3.9623205741626797},{"$f":"'10　出生順位別，母の年齢別出生数'!D10/'10　出生順位別，母の年齢別出生数'!D$4*100","v":6.6063538817588894},{"$f":"'10　出生順位別，母の年齢別出生数'!E10/'10　出生順位別，母の年齢別出生数'!E$4*100","v":7.5725406935598025},{"$f":"'10　出生順位別，母の年齢別出生数'!F10/'10　出生順位別，母の年齢別出生数'!F$4*100","v":12.89198606271777},{"$f":"'10　出生順位別，母の年齢別出生数'!G10/'10　出生順位別，母の年齢別出生数'!G$4*100","v":15.384615384615385}]
[" 　　45～49",{"$f":"'10　出生順位別，母の年齢別出生数'!B11/'10　出生順位別，母の年齢別出生数'!B$4*100","v":0.15100037750094375},{"$f":"'10　出生順位別，母の年齢別出生数'!C11/'10　出生順位別，母の年齢別出生数'!C$4*100","v":0.14952153110047847},{"$f":"'10　出生順位別，母の年齢別出生数'!D11/'10　出生順位別，母の年齢別出生数'!D$4*100","v":0.12623606143488322},{"$f":"'10　出生順位別，母の年齢別出生数'!E11/'10　出生順位別，母の年齢別出生数'!E$4*100","v":0.21231422505307856},{"$f":"'10　出生順位別，母の年齢別出生数'!F11/'10　出生順位別，母の年齢別出生数'!F$4*100","v":0},{"$f":"'10　出生順位別，母の年齢別出生数'!G11/'10　出生順位別，母の年齢別出生数'!G$4*100","v":0.96153846153846156}]
["注）　算出に用いた出生数には14歳以下での出生は含まない。"]

{"sheet":"13　母の年齢別，出生順位別百分率","index":12,"n_rows":12,"n_cols":7,"rows_kept":12,"cut":false,"hidden":false,"merged":[]}
["13　母の年齢（5歳階級）別にみた出生順位別出生数の百分率"]
[null,null,null,null,null,null,{"$f":"'3 月・性別，区別出生数・出生率'!$O$2","v":"平成30年"}]
["母の年齢","総数","第1子","第2子","第3子","第4子","第5子～"]
["　　 15～49歳",{"$f":"SUM(C4:G4)","v":100.00000000000001},{"$f":"'10　出生順位別，母の年齢別出生数'!C4/'10　出生順位別，母の年齢別出生数'!$B4*100","v":50.494526236315593},{"$f":"'10　出生順位別，母の年齢別出生数'!D4/'10　出生順位別，母の年齢別出生数'!$B4*100","v":35.885239713099281},{"$f":"'10　出生順位別，母の年齢別出生数'!E4/'10　出生順位別，母の年齢別出生数'!$B4*100","v":10.668176670441676},{"$f":"'10　出生順位別，母の年齢別出生数'!F4/'10　出生順位別，母の年齢別出生数'!$B4*100","v":2.1668554171385428},{"$f":"'10　出生順位別，母の年齢別出生数'!G4/'10　出生順位別，母の年齢別出生数'!$B4*100","v":0.78520196300490752}]
["　　 15～19歳",100,{"$f":"'10　出生順位別，母の年齢別出生数'!C5/'10　出生順位別，母の年齢別出生数'!$B5*100","v":93.137254901960787},{"$f":"'10　出生順位別，母の年齢別出生数'!D5/'10　出生順位別，母の年齢別出生数'!$B5*100","v":5.8823529411764701},{"$f":"'10　出生順位別，母の年齢別出生数'!E5/'10　出生順位別，母の年齢別出生数'!$B5*100","v":0.98039215686274506},{"$f":"'10　出生順位別，母の年齢別出生数'!F5/'10　出生順位別，母の年齢別出生数'!$B5*100","v":0},{"$f":"'10　出生順位別，母の年齢別出生数'!G5/'10　出生順位別，母の年齢別出生数'!$B5*100","v":0}]
["　　 20～24",100,{"$f":"'10　出生順位別，母の年齢別出生数'!C6/'10　出生順位別，母の年齢別出生数'!$B6*100","v":71.2},{"$f":"'10　出生順位別，母の年齢別出生数'!D6/'10　出生順位別，母の年齢別出生数'!$B6*100","v":25.155555555555551},{"$f":"'10　出生順位別，母の年齢別出生数'!E6/'10　出生順位別，母の年齢別出生数'!$B6*100","v":3.3777777777777773},{"$f":"'10　出生順位別，母の年齢別出生数'!F6/'10　出生順位別，母の年齢別出生数'!$B6*100","v":0.26666666666666666},{"$f":"'10　出生順位別，母の年齢別出生数'!G6/'10　出生順位別，母の年齢別出生数'!$B6*100","v":0}]
["　　 25～29",100.00000000000001,{"$f":"'10　出生順位別，母の年齢別出生数'!C7/'10　出生順位別，母の年齢別出生数'!$B7*100","v":64.263709180529887},{"$f":"'10　出生順位別，母の年齢別出生数'!D7/'10　出生順位別，母の年齢別出生数'!$B7*100","v":28.373382624768944},{"$f":"'10　出生順位別，母の年齢別出生数'!E7/'10　出生順位別，母の年齢別出生数'!$B7*100","v":6.0382008626001227},{"$f":"'10　出生順位別，母の年齢別出生数'!F7/'10　出生順位別，母の年齢別出生数'!$B7*100","v":1.0782501540357363},{"$f":"'10　出生順位別，母の年齢別出生数'!G7/'10　出生順位別，母の年齢別出生数'!$B7*100","v":0.24645717806531117}]
["　　 30～34",99.999999999999986,{"$f":"'10　出生順位別，母の年齢別出生数'!C8/'10　出生順位別，母の年齢別出生数'!$B8*100","v":46.748902362533975},{"$f":"'10　出生順位別，母の年齢別出生数'!D8/'10　出生順位別，母の年齢別出生数'!$B8*100","v":38.866819987455571},{"$f":"'10　出生順位別，母の年齢別出生数'!E8/'10　出生順位別，母の年齢別出生数'!$B8*100","v":11.43633702697052},{"$f":"'10　出生順位別，母の年齢別出生数'!F8/'10　出生順位別，母の年齢別出生数'!$B8*100","v":2.1116454108300231},{"$f":"'10　出生順位別，母の年齢別出生数'!G8/'10　出生順位別，母の年齢別出生数'!$B8*100","v":0.8362952122099101}]
["　　 35～39",100,{"$f":"'10　出生順位別，母の年齢別出生数'!C9/'10　出生順位別，母の年齢別出生数'!$B9*100","v":36.996904024767801},{"$f":"'10　出生順位別，母の年齢別出生数'!D9/'10　出生順位別，母の年齢別出生数'!$B9*100","v":42.229102167182667},{"$f":"'10　出生順位別，母の年齢別出生数'!E9/'10　出生順位別，母の年齢別出生数'!$B9*100","v":16.130030959752322},{"$f":"'10　出生順位別，母の年齢別出生数'!F9/'10　出生順位別，母の年齢別出生数'!$B9*100","v":3.4365325077399382},{"$f":"'10　出生順位別，母の年齢別出生数'!G9/'10　出生順位別，母の年齢別出生数'!$B9*100","v":1.2074303405572755}]
["　　 40～44",100,{"$f":"'10　出生順位別，母の年齢別出生数'!C10/'10　出生順位別，母の年齢別出生数'!$B10*100","v":35.859269282814616},{"$f":"'10　出生順位別，母の年齢別出生数'!D10/'10　出生順位別，母の年齢別出生数'!$B10*100","v":42.489851150202981},{"$f":"'10　出生順位別，母の年齢別出生数'!E10/'10　出生順位別，母の年齢別出生数'!$B10*100","v":14.479025710419485},{"$f":"'10　出生順位別，母の年齢別出生数'!F10/'10　出生順位別，母の年齢別出生数'!$B10*100","v":5.006765899864682},{"$f":"'10　出生順位別，母の年齢別出生数'!G10/'10　出生順位別，母の年齢別出生数'!$B10*100","v":2.1650879566982408}]
[" 　　45～49",100,{"$f":"'10　出生順位別，母の年齢別出生数'!C11/'10　出生順位別，母の年齢別出生数'!$B11*100","v":50},{"$f":"'10　出生順位別，母の年齢別出生数'!D11/'10　出生順位別，母の年齢別出生数'!$B11*100","v":30},{"$f":"'10　出生順位別，母の年齢別出生数'!E11/'10　出生順位別，母の年齢別出生数'!$B11*100","v":15},{"$f":"'10　出生順位別，母の年齢別出生数'!F11/'10　出生順位別，母の年齢別出生数'!$B11*100","v":0},{"$f":"'10　出生順位別，母の年齢別出生数'!G11/'10　出生順位別，母の年齢別出生数'!$B11*100","v":5}]
["注）　算出に用いた出生数には14歳以下での出生は含まない。"]

{"sheet":"14　出生順位別，年次別父母の平均年齢","index":13,"n_rows":30,"n_cols":13,"rows_kept":30,"cut":false,"hidden":false,"merged":[[2,1,2,6],[2,7,2,12],[2,0,3,0]]}
["14　出生順位別にみた年次別父・母の平均年齢"]
[]
["年次","父",null,null,null,null,null,"母"]
[null,"総数","第1子","第2子","第3子","第4子","第5子～","総数","第1子","第2子","第3子","第4子","第5子～"]
["1993  平成 5 年",31.8,30.1,32.700000000000003,34.9,"…","…",29.2,27.6,30.1,32.4,"…","…"]
["1994  平成 6 年",31.8,30.1,32.700000000000003,35.200000000000003,"… ","… ",29.3,27.7,30.2,32.5,"… ","… "]
["  95       7",31.7,30.1,32.6,35,"… ","… ",29.2,27.7,30,32.4,"… ","… "]
["  96       8",31.8,30.3,32.799999999999997,34.9,"… ","… ",29.5,28,30.4,32.4,"… ","… "]
["  97       9",31.8,30.3,32.700000000000003,34.9,"… ","… ",29.5,28.1,30.4,32.4,"… ","… "]
["1998  平成10年",31.8,30.2,32.700000000000003,35,"… ","… ",29.6,28.2,30.6,32.6,"… ","… "]
["  99      11",31.8,30.3,32.9,34.9,"… ","… ",29.6,28.2,30.7,32.6,"… ","… "]
["2000      12",31.835810737686096,30.429637799415804,32.798788530672589,35.062568101715371,37.633322955583239,38.536860954427432,29.679546449542187,28.289377589851252,30.731232971464713,32.707145606535931,34.282571040416634,35.304444444444442]
["  01      13",31.780312158333899,30.3969134369264,32.805104699528897,34.599334772894402,36.895555909525299,37.8221156773212,29.785527392489801,28.430556820846601,30.817246618976998,32.434006580899997,34.575272341813402,35.677473363774702]
["  02      14",31.926331539574001,30.583523461355799,32.839341008763498,35.110068931560598,37.140097821574898,39.707252663622498,29.976978160929701,28.6881011932471,30.926829635608499,32.7867119409784,34.657959204079603,36.252648401826498]
["2003  平成15年",32.111400324285398,30.8743078183969,32.934613817974402,34.716415355995103,36.771326996551998,37.558277798346303,30.203557147342099,28.954013112059901,31.033505874305401,32.937390699814699,34.346341977118399,35.468381713416001]
["  04      16",32.282144073913003,31.106770084991201,33.0783073686096,34.873895935091298,36.401491503855098,38.865560927567401,30.340833570948401,29.116037053068801,31.219018194617799,32.884546863905904,34.522962371682603,35.618021799970499]
["  05      17",32.400491162202101,31.333237730859299,33.130680360632702,34.633014727535198,36.355388969551598,38.410763209393302,30.5019297742401,29.451090431869702,31.230682085606801,32.722485337543901,33.890017123287699,35.679350583460199]
["  06      18",32.537812938975101,31.446560034524001,33.2558689018243,34.9712366646691,36.344016247638997,37.662735755409997,30.6520430302532,29.5399337340553,31.414844057542201,33.028995433789802,34.236287989027701,35.756166920345002]
["  07      19",32.666381140729897,31.510728458418701,33.526970311392603,34.842279393968603,36.157856081861702,37.985540334855401,30.771917729481601,29.540324573579799,31.7149014761711,33.091819653416998,33.887891360206901,35.3801899278671]
["  08      20",32.799999999999997,31.6,33.700000000000003,34.9,36,37.799999999999997,31,29.8,31.8,33.1,34.1,36.1]
["  09      21",33,31.9,33.799999999999997,35,36,38.700000000000003,31,29.8,32,33.4,34.200000000000003,35.9]
["  10      22",33.136812784115698,32.021436811666497,33.951163800973198,35.2045885317415,35.981745610650201,36.549915624379601,31.2655713989639,30.126429631718299,32.0574531416013,33.320191717080199,34.615238449530999,35.525936073059398]
["  11      23",33.294520775444298,32.281067316853203,34.004355179082403,35.002978951772597,36.6143173600856,37.507444656378198,31.368022334128302,30.231967489120802,32.189722957372702,33.265374523250998,34.888249827985199,35.7224436919604]
["  12      24",33.487500227531498,32.387644982155798,34.196653089247597,35.5061113910903,36.412599788774003,36.5407113674597,31.5941362215897,30.411317111649499,32.358984692375202,33.6937504936244,34.6183323588373,34.986661131866597]
["  13      25",33.7441935630576,32.677714879737103,34.506998377673902,35.702283416072397,36.151399173145698,37.975643420506401,31.813944512615802,30.7112598657258,32.652260534232298,33.6202218517181,34.537121277390099,36.242164998243801]
["  14      26",33.799669453458399,32.796144455516099,34.543543002010303,35.396953853285098,36.465015629309598,36.761220223359203,31.883099318204199,30.812392894116201,32.662925518027699,33.632519045363701,34.502462943449203,35.693031870282397]
["  15      27",33.963190024340399,32.994014036053997,34.630485410336,35.612727759407797,37.077818453786797,38.104855403348601,31.974837800796202,30.8877674559259,32.826351592839302,33.618355461419299,35.034929261172302,36.256212680014002]
["  16      28",33.969007189389004,32.998370404301497,34.642162862748101,35.769929364439598,36.319572274543397,37.348627783269798,32.027841994348002,30.938439022571099,32.808495008972599,33.998334328692302,34.554659684997702,35.665243662415399]
["  17      29",34.1165506802311,33.023974495189499,34.8361052853434,36.032229941759297,37.123021701266303,37.273488752042198,32.106488422258401,30.916144073352001,32.9827699174527,33.954297563112199,34.740497307106899,36.141876101103797]
["  18      30",{"$f":"'15　出生順位別，区別父母の平均年齢'!$B$5","v":34.070170985098997},{"$f":"'15　出生順位別，区別父母の平均年齢'!$C$5","v":32.927214358428898},{"$f":"'15　出生順位別，区別父母の平均年齢'!$D$5","v":34.881469286033898},{"$f":"'15　出生順位別，区別父母の平均年齢'!$E$5","v":35.831577239506103},{"$f":"'15　出生順位別，区別父母の平均年齢'!$F$5","v":37.136086391360799},{"$f":"'15　出生順位別，区別父母の平均年齢'!$G$5","v":37.947811619547302},{"$f":"'15　出生順位別，区別父母の平均年齢'!$H$5","v":32.112629079534699},{"$f":"'15　出生順位別，区別父母の平均年齢'!$I$5","v":30.8329970948507},{"$f":"'15　出生順位別，区別父母の平均年齢'!$J$5","v":33.049687291948203},{"$f":"'15　出生順位別，区別父母の平均年齢'!$K$5","v":34.170381196133597},{"$f":"'15　出生順位別，区別父母の平均年齢'!$L$5","v":35.030020046775803},{"$f":"'15　出生順位別，区別父母の平均年齢'!$M$5","v":35.605753863716203}]

{"sheet":"15　出生順位別，区別父母の平均年齢","index":14,"n_rows":15,"n_cols":13,"rows_kept":15,"cut":false,"hidden":false,"merged":[[2,1,2,6],[2,0,3,0],[2,7,2,12]]}
["15　出生順位別にみた区別父・母の平均年齢"]
[null,null,null,null,null,null,null,null,null,null,null,null,{"$f":"'3 月・性別，区別出生数・出生率'!$O$2","v":"平成30年"}]
["区","父",null,null,null,null,null,"母"]
[null,"総数","第1子","第2子","第3子","第4子","第5子～","総数","第1子","第2子","第3子","第4子","第5子～"]
["総数",34.070170985098997,32.927214358428898,34.881469286033898,35.831577239506103,37.136086391360799,37.947811619547302,32.112629079534699,30.8329970948507,33.049687291948203,34.170381196133597,35.030020046775803,35.605753863716203]
["中央",35.187881305557603,34.075252823840401,36.027880438229303,38.410846356678903,41.1462002609263,39.197888127853901,32.767693147542801,31.588539276359999,33.904023286102003,35.452150296952901,36.428392041748197,36.582762557077601]
["北",34.174849167852997,33.2114724652033,34.547198830636297,35.742621784722701,37.241696446297397,38.822742262810799,32.115682224414002,30.976555482396201,32.684787510184002,33.880716804557203,34.897072253559003,35.550355149670203]
["東",33.619908106209202,32.493923633905702,34.501937277053003,34.928085468965101,36.353120243531201,34.920719178082201,31.713279637657799,30.406734924929999,32.6730878599611,33.490058405012199,34.443628445797401,34.744121004566203]
["白石",33.517954902169997,32.577779507402802,34.314691047714803,35.496031469039899,36.250978473581199,37.165507551808901,31.607054540990202,30.719877509603599,32.269036004073499,33.661170710238203,33.792975646879803,36.161317677756003]
["厚別",34.203179303635203,33.032477354870402,34.873381565162397,35.5091851071303,36.411288685946197,41.200329781836601,32.546722483576197,31.067858875570799,33.4876858681653,34.331207191780798,36.382343987823397,37.130162354135003]
["豊平",33.543022348031499,32.349831119563397,34.758290896437003,35.607620276619699,39.110772104607697,40.026826484018301,31.656259807035401,30.327976982865898,33.106442507264397,33.960511730436203,36.900218383958702,34.347488584474902]
["清田",34.764465622127901,33.662160375214398,35.015186081642497,35.473954696033701,37.042001259644202,39.577140410958897,32.7000503417567,30.9485785189597,33.063250433874202,34.6616105865142,34.717762557077599,36.883972602739703]
["南",34.2013335078382,32.762620208938699,34.897756758715701,35.791955859969597,36.628270212194501,38.182876712328799,32.186095108038501,30.593751458187501,33.065335303071002,33.9248733002158,34.9169352672576,33.674657534246599]
["西",34.096099506461798,32.839226634298598,35.345200758746202,35.611610125340903,36.981428121555702,36.1985540334855,32.411107828214803,31.161701765146901,33.5246067044502,34.470471330942999,35.000220437726298,34.901902587518997]
["手稲",33.975117921794897,32.495765143249699,34.681223454374098,36.033684255031297,36.594303652968001,34.703196347031998,32.242939025009697,30.369749183676099,33.282031538047001,34.517133760630003,35.067047184170498,34.860996955860003]

{"sheet":"16　出生順位別，同居期間別嫡出子出生数・百分率・平均期間","index":15,"n_rows":37,"n_cols":9,"rows_kept":37,"cut":false,"hidden":false,"merged":[[3,1,3,6],[19,1,19,6]]}
["16　出生順位別にみた出生までの同居期間別嫡出子出生数・百分率及び平均期間"]
[null,null,null,null,null,null,{"$f":"'3 月・性別，区別出生数・出生率'!$O$2","v":"平成30年"}]
["同居期間","総数","第1子","第2子","第3子","第4子","第5子～"]
[null,"出生数"]
["総　　　数",{"$f":"SUM(C5:G5)","v":12900},{"$f":"SUM(C6:C19)","v":6486},{"$f":"SUM(D6:D19)","v":4674},{"$f":"SUM(E6:E19)","v":1372},{"$f":"SUM(F6:F19)","v":274},{"$f":"SUM(G6:G19)","v":94}]
["1年未満",{"$f":"SUM(C6:G6)","v":1938},1596,226,83,27,6,null,"※嫡出子"]
["1年以上2年未満",{"$f":"SUM(C7:G7)","v":1722},1482,179,47,11,3,null,{"$f":"SUM(B6:B19)","v":12900}]
[" 2～ 3",1689,1167,450,45,21,6]
[" 3～ 4",1475,690,719,48,14,4]
[" 4～ 5",1252,436,716,89,7,4]
[" 5～ 6",1067,274,627,148,11,7]
[" 6～ 7",826,164,467,174,16,5]
[" 7～ 8",631,140,306,162,19,4]
[" 8～ 9",499,78,245,152,20,4]
["  9～10",351,62,151,107,23,8]
["10～15",684,118,277,197,71,21]
["15～20",109,20,44,21,13,11]
["20～　 ",9,2,3,1,1,2]
["不　  詳",648,257,264,98,20,9]
[null,"百分率"]
["総　　　数",{"$f":"SUM(B22:B35)","v":99.999999999999986},100.00000000000003,99.999999999999986,99.999999999999986,99.999999999999986,100]
["1年未満",{"$f":"B6/B$5*100","v":15.023255813953487},24.606845513413507,4.8352588789045781,6.0495626822157433,9.8540145985401466,6.3829787234042552]
["1年以上2年未満",{"$f":"B7/B$5*100","v":13.348837209302324},{"$f":"C7/C$5*100","v":22.849213691026826},3.8296961916987593,3.4256559766763846,4.0145985401459852,3.1914893617021276]
[" 2～ 3",13.093023255813954,17.992599444958373,9.6277278562259294,3.2798833819241979,7.664233576642336,6.3829787234042552]
[" 3～ 4",11.434108527131782,10.638297872340425,15.382969619169875,3.4985422740524781,5.1094890510948909,4.2553191489361701]
[" 4～ 5",9.7054263565891468,6.7221708294788778,15.318784766795037,6.4868804664723028,2.5547445255474455,4.2553191489361701]
[" 5～ 6",8.2713178294573648,4.2244835029293863,13.414634146341465,10.787172011661808,4.0145985401459852,7.4468085106382977]
[" 6～ 7",6.4031007751937983,2.5285229725562752,9.9914420196833547,12.682215743440233,5.8394160583941606,5.3191489361702127]
[" 7～ 8",4.8914728682170541,2.1584952204748689,6.5468549422336331,11.807580174927114,6.9343065693430654,4.2553191489361701]
[" 8～ 9",3.8682170542635661,1.2025901942645698,5.2417629439452291,11.078717201166182,7.2992700729926998,4.2553191489361701]
["  9～10",2.7209302325581395,0.95590502621029916,3.2306375695335898,7.7988338192419819,8.3941605839416056,8.5106382978723403]
["10～15",5.3023255813953485,1.8193031144002467,5.9264013692768502,14.358600583090379,25.912408759124091,22.340425531914892]
["15～20",0.84496124031007758,0.3083564600678384,0.94137783483097992,1.5306122448979591,4.7445255474452548,11.702127659574469]
["20～　 ",6.9767441860465115E-2,3.0835646006783839E-2,6.4184852374839535E-2,7.2886297376093298E-2,0.36496350364963503,2.1276595744680851]
["不　  詳",5.0232558139534884,{"$f":"C19/C$5*100","v":3.9623805118717237},{"$f":"D19/D$5*100","v":5.6482670089858793},7.1428571428571423,7.2992700729926998,9.5744680851063837]
[]
["平均期間(年)",3.99,2.57,4.99,6.45,7.01,7.94]

{"sheet":"17　妊娠期間別にみた区別出生数","index":16,"n_rows":29,"n_cols":15,"rows_kept":29,"cut":false,"hidden":false,"merged":[[2,0,4,0],[5,1,5,14],[17,1,17,14],[3,10,3,12],[2,10,2,14],[2,8,4,8],[2,9,4,9],[2,4,4,4],[2,5,4,5],[2,6,4,6],[2,7,4,7],[2,1,4,1],[2,3,4,3],[2,2,4,2]]}
["17　妊娠期間別にみた区別出生数及び百分率"]
[null,null,null,null,null,null,null,null,null,null,null,null,null,null,{"$f":"'3 月・性別，区別出生数・出生率'!$O$2","v":"平成30年"}]
["区","総　数","満22週\n未満","22～\n　23週","24～\n　27週","28～\n　31週","32～\n　35週","36～\n　39週","40週\n　　～","不詳","(再　　掲）"]
[null,null,null,null,null,null,null,null,null,null,"早期(満37週未満)",null,null,"正期","過期"]
[null,null,null,null,null,null,null,null,null,null,"28週\n未満","28～\n　31週","32～\n　36週","37～\n　41週","42週 \n　～"]
[null,"出生数"]
["総数",{"$f":"SUM(C7:J7)","v":13248},{"$f":"SUM(C8:C17)","v":0},4,30,42,283,8711,4171,7,{"$f":"SUM(K8:K17)","v":34},{"$f":"SUM(L8:L17)","v":42},{"$f":"SUM(M8:M17)","v":709},{"$f":"SUM(N8:N17)","v":12445},{"$f":"SUM(O8:O17)","v":11}]
["中央",{"$f":"SUM(C8:J8)","v":1744},0,0,4,5,38,1166,528,3,4,5,86,1642,4]
["北",1847,0,0,2,10,46,1186,603,0,2,10,102,1733,0]
["東",1978,0,0,5,2,41,1245,683,2,5,2,105,1863,1]
["白石",1711,0,0,6,8,36,1061,599,1,6,8,86,1608,2]
["厚別",661,0,2,1,2,13,436,207,0,3,2,40,615,1]
["豊平",1682,0,0,1,4,30,1138,508,1,1,4,87,1588,1]
["清田",644,0,2,2,2,10,462,166,0,4,2,38,600,0]
["南",642,0,0,4,2,12,437,187,0,4,2,25,611,0]
["西",1530,0,0,3,6,44,997,480,0,3,6,91,1428,2]
["手稲",809,0,0,2,1,13,583,210,0,2,1,49,757,0]
[null,"百分率"]
["総数",{"$f":"SUM(C19:J19)","v":100},{"$f":"C7/$B7*100","v":0},{"$f":"D7/$B7*100","v":3.0193236714975844E-2},0.22644927536231885,0.3170289855072464,2.1361714975845412,65.753321256038646,31.483997584541061,5.2838164251207728E-2,0.25664251207729472,0.3170289855072464,5.3517512077294684,93.938707729468589,8.3031400966183569E-2]
["中央",{"$f":"SUM(C20:J20)","v":100},0,{"$f":"D8/$B8*100","v":0},0.22935779816513763,0.28669724770642202,2.1788990825688073,66.857798165137609,30.275229357798167,0.17201834862385323,0.22935779816513763,0.28669724770642202,4.931192660550459,94.151376146788991,0.22935779816513763]
["北",100,0,{"$f":"D9/$B9*100","v":0},0.10828370330265295,0.54141851651326478,2.4905251759610181,64.212236058473209,32.647536545749865,0,0.10828370330265295,0.54141851651326478,5.5224688684353005,93.827828911748782,0]
["東",100,0,{"$f":"D10/$B10*100","v":0},0.25278058645096058,0.10111223458038424,2.0728008088978767,62.942366026289179,34.529828109201219,0.10111223458038424,0.25278058645096058,0.10111223458038424,5.3083923154701722,94.186046511627907,5.0556117290192118E-2]
["白石",100.00000000000001,0,{"$f":"D11/$B11*100","v":0},0.35067212156633548,0.46756282875511396,2.1040327293980128,62.010520163646987,35.008766803039158,5.8445353594389245E-2,0.35067212156633548,0.46756282875511396,5.026300409117475,93.980128579777912,0.11689070718877849]
["厚別",100.00000000000001,0,{"$f":"D12/$B12*100","v":0.30257186081694404},0.15128593040847202,0.30257186081694404,1.9667170953101363,65.960665658093802,31.316187594553707,0,0.45385779122541603,0.30257186081694404,6.051437216338881,93.040847201210283,0.15128593040847202]
["豊平",100,0,{"$f":"D13/$B13*100","v":0},5.9453032104637329E-2,0.23781212841854932,1.78359096313912,67.657550535077291,30.202140309155766,5.9453032104637329E-2,5.9453032104637329E-2,0.23781212841854932,5.1724137931034484,94.411414982164089,5.9453032104637329E-2]
["清田",100,0,{"$f":"D14/$B14*100","v":0.3105590062111801},0.3105590062111801,0.3105590062111801,1.5527950310559007,71.739130434782609,25.77639751552795,0,0.6211180124223602,0.3105590062111801,5.9006211180124222,93.16770186335404,0]
["南",100,0,{"$f":"D15/$B15*100","v":0},0.62305295950155759,0.3115264797507788,1.8691588785046727,68.068535825545169,29.127725856697818,0,0.62305295950155759,0.3115264797507788,3.894080996884735,95.171339563862929,0]
["西",100,{"$f":"C16/$B16*100","v":0},0,0.19607843137254902,0.39215686274509803,2.8758169934640523,65.16339869281046,31.372549019607842,0,0.19607843137254902,0.39215686274509803,5.9477124183006529,93.333333333333329,0.13071895424836599]
["手稲",100.00000000000001,{"$f":"C17/$B17*100","v":0},0,0.2472187886279357,0.12360939431396785,1.6069221260815822,72.06427688504327,25.957972805933249,0,0.2472187886279357,0.12360939431396785,6.0568603213844252,93.572311495673659,0]

{"sheet":"18　出生時の体重別，年次別出生数","index":17,"n_rows":73,"n_cols":16,"rows_kept":73,"cut":false,"hidden":false,"merged":[[3,1,3,15],[38,1,38,15]]}
["18　出生時の体重別にみた年次別出生数・百分率及び平均体重"]
[]
["年次","総数","0.5kｇ未満","0.5㎏以上\n1.0㎏未満","1.0～1.5㎏","1.5～2.0㎏","2.0～2.5㎏","2.5～3.0㎏","3.0～3.5㎏","3.5～4.0㎏","4.0～4.5㎏","4.5～5.0㎏","5.0㎏以上","不詳","(再掲)\n2.5㎏未満","出生時の\n平均体重(㎏)"]
[null,"出生数"]
["  85      60",{"$f":"SUM(C5:N5)","v":19314},0,38,58,161,818,5563,8787,3385,464,31,3,6,{"$f":"SUM(C5:G5)","v":1075},3.15]
["1986  昭和61年",{"$f":"SUM(C6:N6)","v":19130},0,37,68,190,811,5360,8926,3285,413,30,3,7,{"$f":"SUM(C6:G6)","v":1106},3.15]
["1987  昭和62年",{"$f":"SUM(C7:N7)","v":18533},1,34,61,169,846,5374,8601,3028,383,28,3,5,{"$f":"SUM(C7:G7)","v":1111},3.14]
["1988  昭和63年",18216,3,30,67,173,835,5570,8286,2891,328,30,1,2,1108,3.12]
["  89  平成元年　",17479,1,40,76,167,861,5481,7887,2623,305,33,1,4,1145,3.11]
["  90       2",17425,1,48,65,168,881,5574,7802,2571,287,24,1,3,1163,3.1]
["  91       3",17458,1,41,77,160,892,5628,7984,2411,237,18,2,7,1171,3.09]
["  92       4",17325,2,27,63,171,930,5768,7736,2344,254,20,2,8,1193,3.09]
["1993   平成5年",16371,1,49,56,166,948,5411,7283,2199,238,14,4,2,1220,3.08]
["  94       6",17057,6,40,73,187,1014,5934,7434,2160,194,10,1,4,1320,3.06]
["  95       7",16227,1,41,76,184,938,5652,7157,1972,186,17,0,3,1240,3.06]
["  96       8",16339,1,26,76,158,1062,5627,7169,2015,188,15,0,2,1323,3.06]
["  97       9",15873,2,40,59,179,988,5583,6902,1947,161,7,2,3,1268,3.05]
["1998  平成10年",16165,3,44,50,183,1125,5678,6958,1944,161,14,0,5,1405,3.04]
["  99      11",15358,1,40,81,192,1004,5453,6618,1818,140,9,0,2,1318,3.04]
["2000      12",15332,1,24,71,155,1125,5484,6552,1763,147,7,0,3,1376,3.0339999999999998]
["  01      13",15312,3,32,61,172,970,5625,6543,1749,149,6,0,2,1238,3.0364757674722487]
["  02      14",15577,4,29,75,192,1083,5686,6556,1770,171,8,0,3,1383,3.030826698343406]
["  03      15",14999,1,55,63,158,1075,5424,6391,1679,142,6,1,4,1352,3.0280793597865907]
["  04      16",14749,2,35,76,196,1058,5378,6192,1655,144,9,1,3,1367,3.0218959717889544]
["  05      17",14184,5,35,75,170,1026,5275,5930,1518,139,7,0,4,1311,3.0187553596615038]
["  06      18",14730,1,51,77,206,1089,5540,6111,1520,127,5,0,3,1424,3.0090904461193584]
["  07      19",14498,1,43,69,179,1051,5365,6118,1531,132,6,0,3,1343,3.0187477061055339]
["  08      20",14845,3,40,69,163,1109,5561,6138,1613,141,3,1,4,1384,3.0150470318711675]
["  09      21",14506,3,37,74,162,1015,5559,5961,1551,136,4,0,4,1291,3.02]
["  10      22",14739,6,28,46,153,1140,5753,5947,1517,135,10,1,3,1373,3.0109757736156402]
["  11      23",14491,6,35,89,201,1061,5571,5944,1477,97,6,1,3,1392,3.0009234538928746]
["  12      24",14487,0,45,56,177,1101,5599,5889,1484,133,1,0,2,1379,3.0049003106662098]
["  13      25",14591,2,36,69,207,1121,5542,6032,1467,108,3,2,2,1435,3.0022656110768486]
["  14      26",14568,6,46,76,181,1088,5528,6017,1476,141,8,0,1,1397,3.0064858241230397]
["  15      27",14589,6,28,54,172,1076,5589,6116,1429,108,7,0,4,1336,3.0096959204662421]
["  16      28",14021,2,33,54,160,1067,5322,5865,1422,90,4,0,2,1316,3.0110117697410481]
["  17      29",13821,5,27,64,182,1026,5280,5700,1418,117,1,0,1,1304,3.0090537626628047]
["  18      30",{"$f":"SUM(C38:N38)","v":13248},{"$f":"'25　出生時の体重別，単産-複産別出生数・平均体重'!D$4","v":7},{"$f":"'25　出生時の体重別，単産-複産別出生数・平均体重'!E$4","v":27},{"$f":"'25　出生時の体重別，単産-複産別出生数・平均体重'!F$4","v":52},{"$f":"'25　出生時の体重別，単産-複産別出生数・平均体重'!G$4","v":152},{"$f":"'25　出生時の体重別，単産-複産別出生数・平均体重'!H$4","v":944},{"$f":"'25　出生時の体重別，単産-複産別出生数・平均体重'!I$4","v":4998},{"$f":"'25　出生時の体重別，単産-複産別出生数・平均体重'!J$4","v":5574},{"$f":"'25　出生時の体重別，単産-複産別出生数・平均体重'!K$4","v":1382},{"$f":"'25　出生時の体重別，単産-複産別出生数・平均体重'!L$4","v":106},{"$f":"'25　出生時の体重別，単産-複産別出生数・平均体重'!M$4","v":2},{"$f":"'25　出生時の体重別，単産-複産別出生数・平均体重'!N$4","v":1},{"$f":"'25　出生時の体重別，単産-複産別出生数・平均体重'!O$4","v":3},{"$f":"SUM(C38:G38)","v":1182},{"$f":"'25　出生時の体重別，単産-複産別出生数・平均体重'!Q$4","v":3.0172847112117926}]
[null,"百分率"]
["  85      60",{"$f":"SUM(C40:N40)","v":100},{"$f":"C5/$B5*100","v":0},0.19674847261054157,0.3003003003003003,0.83359221290255769,4.2352697525111314,28.80294087190639,45.495495495495497,17.526146836491662,2.4024024024024024,0.16050533291912603,1.5532774153463809E-2,3.1065548306927617E-2,5.5659107383245319]
["1986  昭和61年",{"$f":"SUM(C41:N41)","v":100},{"$f":"C6/$B6*100","v":0},0.1934134866701516,0.35546262415054886,0.99320439100888647,4.2394145321484578,28.018818609513851,46.65969681129117,17.171981181390485,2.1589127025614219,0.15682174594877157,1.5682174594877155E-2,3.6591740721380037E-2,5.7814950339780449]
["1987  昭和62年",{"$f":"SUM(C42:N42)","v":99.999999999999986},{"$f":"C7/$B7*100","v":5.3957804996492744E-3},0.18345653698807532,0.32914261047860577,0.91188690444072729,4.5648303027032862,28.996924405115198,46.40910807748341,16.338423352938001,2.0665839313656722,0.15108185399017968,1.6187341498947825E-2,2.6978902498246374E-2,5.9947121351103441]
["1988  昭和63年",100,1.6469038208168644E-2,0.16469038208168643,0.36780851998243302,0.94971453667105843,4.5838823012736052,30.577514273166447,45.487483530961789,15.870663153271849,1.8006148440931049,0.16469038208168643,5.489679402722881E-3,1.0979358805445762E-2,6.0825647782169519]
["  89  平成元年　",100,5.7211510956004345E-3,0.22884604382401738,0.43480748326563307,0.95543223296527258,4.9259110933119743,31.357629154985982,45.122718691000628,15.006579323759942,1.7449510841581326,0.18879798615481436,5.7211510956004345E-3,2.2884604382401738E-2,6.5507180044624986]
["  90       2",100,5.7388809182209472E-3,0.27546628407460544,0.37302725968436157,0.96413199426111906,5.055954088952654,31.988522238163558,44.774748923959827,14.754662840746056,1.6470588235294119,0.13773314203730272,5.7388809182209472E-3,1.721664275466284E-2,6.6743185078909608]
["  91       3",100,5.7280329934700424E-3,0.23484935273227173,0.44105854049719329,0.91648527895520671,5.1094054301752774,32.237369687249398,45.732615419864821,13.810287547256273,1.3575438194523999,0.10310459388246077,1.1456065986940085E-2,4.0096230954290296E-2,6.7075266353534193]
["  92       4",100,1.1544011544011544E-2,0.15584415584415584,0.36363636363636365,0.98701298701298712,5.3679653679653683,33.292929292929294,44.652236652236653,13.529581529581531,1.4660894660894661,0.11544011544011544,1.1544011544011544E-2,4.6176046176046176E-2,6.8860028860028857]
["1993   平成5年",100,6.1083623480544863E-3,0.29930975505466983,0.34206829149105122,1.0139881497770449,5.7907275059556538,33.052348665322825,44.487202980880824,13.432288803371817,1.4537902388369679,8.5517072872762806E-2,2.4433449392217945E-2,1.2216724696108973E-2,7.4522020646264728]
["  94       6",100,3.5176174004807409E-2,0.23450782669871606,0.4279767837251568,1.0963240898164976,5.9447734068124518,34.789236090754528,43.583279591956384,12.663422641730667,1.1373629594887729,5.8626956674679015E-2,5.8626956674679015E-3,2.3450782669871606E-2,7.7387582810576294]
["  95       7",100,6.1625685585752141E-3,0.25266531090158378,0.4683552104517163,1.1339126147778393,5.7804893079435509,34.830837493067115,44.105503173722809,12.152585197510323,1.1462377518949898,0.10476366549577863,0,1.8487705675725642E-2,7.6415850126332661]
["  96       8",100,6.1203256013219907E-3,0.15912846563437175,0.46514474570047121,0.96701144500887448,6.4997857886039538,34.439072158638837,43.876614235877348,12.332456086663811,1.150621213048534,9.1804884019829849E-2,0,1.2240651202643981E-2,8.0971907705489929]
["  97       9",100,1.2600012600012599E-2,0.252000252000252,0.37170037170037168,1.1277011277011277,6.2244062244062244,35.172935172935169,43.482643482643482,12.266112266112266,1.0143010143010143,4.4100044100044103E-2,1.2600012600012599E-2,1.8900018900018901E-2,7.9884079884079888]
["1998  平成10年",100,1.8558614290133005E-2,0.27219300958861742,0.30931023816888342,1.1320754716981132,6.9594803587998761,35.125270646458397,43.043612743581811,12.025982060006186,0.99597896690380461,8.6606866687287343E-2,0,3.093102381688834E-2,8.6916176925456234]
["  99      11",100,6.5112644875634845E-3,0.26045057950253941,0.52741242349264228,1.250162781612189,6.5373095455137396,35.505925250683681,43.091548378695144,11.837478838390416,0.91157702825888776,5.8601380388071368E-2,0,1.3022528975126969E-2,8.5818465946086739]
["2000      12",100,6.5223062875032611E-3,0.15653535090007828,0.46308374641273153,1.0109574745630057,7.3375945734411685,35.76832768066788,42.734150795721362,11.498825984868249,0.95877902426297934,4.5656144012522826E-2,0,1.9566918862509785E-2,8.9746934516044874]
["  01      13",100,1.9592476489028211E-2,0.20898641588296762,0.39838035527690702,1.1233019853709509,6.3349007314524561,36.735893416927901,42.73119122257053,11.422413793103448,0.97309299895506784,3.9184952978056423E-2,0,1.3061650992685477E-2,8.0851619644723094]
["  02      14",100,2.5678885536367723E-2,0.18617192013866599,0.48147910380689479,1.2325865057456507,6.9525582589715613,36.50253578994672,42.087693394106694,11.362906849842718,1.0977723566797202,5.1357771072735446E-2,0,1.9259164152275791E-2,8.8784746741991398]
["  03      15",100,6.667111140742716E-3,0.36669111274084942,0.42002800186679107,1.0534035602373493,7.1671444762984207,36.162410827388491,42.609507300486698,11.194079605307021,0.94672978198546576,4.0002666844456296E-2,6.667111140742716E-3,2.6668444562970864E-2,9.0139342622841525]
["  04      16",100,1.3560241372296427E-2,0.23730422401518747,0.51528917214726422,1.3289036544850499,7.1733676859448092,36.463489050105089,41.982507288629741,11.221099735575294,0.97633737880534266,6.1021086175333916E-2,6.7801206861482135E-3,2.0340362058444642E-2,9.2684249779646084]
["  05      17",100,3.5250987027636772E-2,0.24675690919345744,0.52876480541455162,1.1985335589396504,7.2335025380710656,37.189791314156793,41.807670614777216,10.702199661590525,0.97997743936830228,4.9351381838691491E-2,0,2.8200789622109423E-2,9.2428087986463616]
["  06      18",100,6.788866259334691E-3,0.34623217922606925,0.52274270196877126,1.3985064494229462,7.3930753564154781,37.610319076714191,41.486761710794298,10.31907671418873,0.86218601493550584,3.3944331296673451E-2,0,2.0366598778004074E-2,9.6673455532926003]
["  07      19",99.999999999999986,6.8975031038763963E-3,0.29659263346668507,0.47592771416747137,1.2346530555938751,7.2492757621740926,37.005104152296866,42.198923989515798,10.560077252034764,0.91047040971168436,4.1385018623258385E-2,0,2.0692509311629192E-2,9.2633466685060011]
["  08      20",99.999999999999986,2.0208824520040417E-2,0.26945099360053892,0.46480296396092957,1.0980127989221962,7.470528797574941,37.460424385314923,41.347254968002694,10.865611316941731,0.94981475244189961,2.0208824520040417E-2,6.7362748400134724E-3,2.694509936005389E-2,9.3230043785786467]
["  09      21",100,2.0681097476906107E-2,0.25506686888184199,0.51013373776368398,1.1167792637529297,6.9971046463532334,38.322073624707023,41.093340686612436,10.692127395560458,0.93754308561974342,2.757479663587481E-2,0,2.757479663587481E-2,8.8997656142285955]
["  10      22",100,4.0708324852432323E-2,0.18997218264468418,0.31209715720198117,1.0380622837370241,7.734581721962142,39.032498812673857,40.348734649569167,10.292421466856638,0.91593730917972727,6.7847208087387201E-2,6.7847208087387211E-3,2.0354162426216162E-2,9.3154216703982637]
["  11      23",100,4.1405010006210753E-2,0.24152922503622937,0.61417431509212617,1.3870678352080601,7.3217859360982684,38.444551790766681,41.01856324615278,10.192533296528881,0.66938099510040716,4.1405010006210753E-2,6.9008350010351252E-3,2.0702505003105377E-2,9.6059623214408951]
["  12      24",100.00000000000001,0,0.31062331745703042,0.38655346172430455,1.2217850486643196,7.5999171671153443,38.648443432042527,40.65023814454338,10.24366673569407,0.91806447159522331,6.9027403879340105E-3,0,1.3805480775868021E-2,9.5188789949609998]
["  13      25",100,1.3707079706668493E-2,0.24672743472003289,0.47289424988006307,1.418682749640189,7.6828181755876912,37.982317867178402,41.34055239531218,10.054142964841342,0.74018230416009867,2.0560619560002741E-2,1.3707079706668493E-2,1.3707079706668493E-2,9.8348296895346454]
["  14      26",99.999999999999986,4.1186161449752887E-2,0.31576057111477207,0.52169137836353652,1.2424492037342119,7.4684239428885233,37.946183415705661,41.302855573860512,10.131795716639209,0.96787479406919263,5.4914881933003847E-2,0,6.8643602416254808E-3,9.5895112575507966]
["  15      27",100,4.1126876413736371E-2,0.19192542326410311,0.37014188772362738,1.178970457193776,7.375419836863391,38.309685379395439,41.921996024401949,9.7950510658715473,0.74028377544725477,4.7981355816025778E-2,0,2.7417917609157582E-2,9.1575844814586329]
["  16      28",99.999999999999972,1.4264317809000785E-2,0.23536124384851295,0.38513658084302121,1.1411454247200628,7.6100135511019182,37.957349689751084,41.830111974894798,10.141929962199558,0.64189430140503523,2.852863561800157E-2,0,1.4264317809000785E-2,9.3859211183225177]
["  17      29",99.999999999999986,3.6176832356558858E-2,0.19535489472541787,0.46306345416395345,1.3168366977787425,7.4234859995658775,38.202734968526158,41.241588886477096,10.259749656320093,0.84653787714347728,7.2353664713117726E-3,0,7.2353664713117726E-3,9.4349178785905501]
["  18      30",{"$f":"SUM(C73:N73)","v":100.00000000000001},{"$f":"C38/$B38*100","v":5.2838164251207728E-2},0.20380434782608695,0.39251207729468601,1.1473429951690821,7.1256038647342992,37.72644927536232,42.074275362318843,10.431763285024156,0.80012077294686001,1.5096618357487922E-2,7.548309178743961E-3,2.2644927536231884E-2,8.9221014492753614]

{"sheet":"19 体重・性別，区別出生数・百分率","index":18,"n_rows":49,"n_cols":11,"rows_kept":49,"cut":false,"hidden":false,"merged":[[2,0,2,1],[4,0,4,1],[7,0,7,1],[10,0,10,1],[3,2,3,10],[37,2,37,10],[44,0,44,1],[45,0,45,1],[34,0,34,1],[22,0,22,1],[25,0,25,1],[28,0,28,1],[31,0,31,1],[19,0,19,1],[13,0,13,1],[16,0,16,1],[48,0,48,1],[38,0,38,1],[39,0,39,1],[46,0,46,1],[47,0,47,1],[40,0,40,1],[41,0,41,1],[42,0,42,1],[43,0,43,1]]}
["19　出生時の体重・性別にみた区別出生数及び百分率"]
[null,null,null,null,null,null,null,null,null,null,{"$f":"'3 月・性別，区別出生数・出生率'!$O$2","v":"平成30年"}]
["区・性",null,"総数","2.5kｇ未満","2.5㎏以上\n3.0㎏未満","3.0～3.5㎏","3.5～4.0㎏","4.0～4.5㎏","4.5～5.0㎏","5.0㎏以上","不詳"]
[null,null,"出生数"]
["総数",null,{"$f":"SUM(D5:K5)","v":13248},{"$f":"'20　体重・性別,区別低体重児出生数，百分率，割合'!C5","v":1182},{"$f":"SUM(E8,E11,E14,E17,E20,E23,E26,E29,E32,E35)","v":4998},5574,1382,106,2,1,3]
[null,"男",{"$f":"SUM(D6:K6)","v":6744},{"$f":"'20　体重・性別,区別低体重児出生数，百分率，割合'!C6","v":530},{"$f":"SUM(E9,E12,E15,E18,E21,E24,E27,E30,E33,E36)","v":2318},2992,833,{"$f":"SUM(H9,H12,H15,H18,H21,H24,H27,H30,H33,H36)","v":67},1,1,2]
[null,"女",6504,{"$f":"'20　体重・性別,区別低体重児出生数，百分率，割合'!C7","v":652},2680,2582,549,39,1,0,1]
["中央",null,1744,{"$f":"'20　体重・性別,区別低体重児出生数，百分率，割合'!C8","v":170},{"$f":"SUM(E9:E10)","v":643},{"$f":"SUM(F9:F10)","v":750},168,12,0,0,1]
[null,"男",918,{"$f":"'20　体重・性別,区別低体重児出生数，百分率，割合'!C9","v":83},300,421,107,6,0,0,1]
[null,"女",826,{"$f":"'20　体重・性別,区別低体重児出生数，百分率，割合'!C10","v":87},343,329,61,6,0,0,0]
["北",null,1847,{"$f":"'20　体重・性別,区別低体重児出生数，百分率，割合'!C11","v":163},{"$f":"SUM(E12:E13)","v":653},{"$f":"SUM(F12:F13)","v":821},193,14,1,1,1]
[null,"男",922,{"$f":"'20　体重・性別,区別低体重児出生数，百分率，割合'!C12","v":76},301,426,109,8,0,1,1]
[null,"女",925,{"$f":"'20　体重・性別,区別低体重児出生数，百分率，割合'!C13","v":87},352,395,84,6,1,0,0]
["東",null,1978,{"$f":"'20　体重・性別,区別低体重児出生数，百分率，割合'!C14","v":163},{"$f":"SUM(E15:E16)","v":743},{"$f":"SUM(F15:F16)","v":814},231,26,0,0,1]
[null,"男",995,{"$f":"'20　体重・性別,区別低体重児出生数，百分率，割合'!C15","v":70},351,433,128,13,0,0,0]
[null,"女",983,{"$f":"'20　体重・性別,区別低体重児出生数，百分率，割合'!C16","v":93},392,381,103,13,0,0,1]
["白石",null,1711,{"$f":"'20　体重・性別,区別低体重児出生数，百分率，割合'!C17","v":163},{"$f":"SUM(E18:E19)","v":660},{"$f":"SUM(F18:F19)","v":705},169,13,1,0,0]
[null,"男",882,{"$f":"'20　体重・性別,区別低体重児出生数，百分率，割合'!C18","v":75},297,389,111,9,1,0,0]
[null,"女",829,{"$f":"'20　体重・性別,区別低体重児出生数，百分率，割合'!C19","v":88},363,316,58,4,0,0,0]
["厚別",null,661,{"$f":"'20　体重・性別,区別低体重児出生数，百分率，割合'!C20","v":60},{"$f":"SUM(E21:E22)","v":255},{"$f":"SUM(F21:F22)","v":265},74,7,0,0,0]
[null,"男",360,{"$f":"'20　体重・性別,区別低体重児出生数，百分率，割合'!C21","v":31},137,145,43,4,0,0,0]
[null,"女",301,{"$f":"'20　体重・性別,区別低体重児出生数，百分率，割合'!C22","v":29},118,120,31,3,0,0,0]
["豊平",null,1682,{"$f":"'20　体重・性別,区別低体重児出生数，百分率，割合'!C23","v":130},{"$f":"SUM(E24:E25)","v":653},{"$f":"SUM(F24:F25)","v":724},161,14,0,0,0]
[null,"男",855,{"$f":"'20　体重・性別,区別低体重児出生数，百分率，割合'!C24","v":49},303,386,105,12,0,0,0]
[null,"女",827,{"$f":"'20　体重・性別,区別低体重児出生数，百分率，割合'!C25","v":81},350,338,56,2,0,0,0]
["清田",null,644,{"$f":"'20　体重・性別,区別低体重児出生数，百分率，割合'!C26","v":56},{"$f":"SUM(E27:E28)","v":230},{"$f":"SUM(F27:F28)","v":277},79,2,0,0,0]
[null,"男",319,{"$f":"'20　体重・性別,区別低体重児出生数，百分率，割合'!C27","v":22},102,143,51,1,0,0,0]
[null,"女",325,{"$f":"'20　体重・性別,区別低体重児出生数，百分率，割合'!C28","v":34},128,134,28,1,0,0,0]
["南",null,642,{"$f":"'20　体重・性別,区別低体重児出生数，百分率，割合'!C29","v":57},{"$f":"SUM(E30:E31)","v":225},{"$f":"SUM(F30:F31)","v":283},73,4,0,0,0]
[null,"男",326,{"$f":"'20　体重・性別,区別低体重児出生数，百分率，割合'!C30","v":24},103,154,42,3,0,0,0]
[null,"女",316,{"$f":"'20　体重・性別,区別低体重児出生数，百分率，割合'!C31","v":33},122,129,31,1,0,0,0]
["西",null,1530,{"$f":"'20　体重・性別,区別低体重児出生数，百分率，割合'!C32","v":145},{"$f":"SUM(E33:E34)","v":598},{"$f":"SUM(F33:F34)","v":616},164,7,0,0,0]
[null,"男",772,{"$f":"'20　体重・性別,区別低体重児出生数，百分率，割合'!C33","v":70},266,328,101,7,0,0,0]
[null,"女",758,{"$f":"'20　体重・性別,区別低体重児出生数，百分率，割合'!C34","v":75},332,288,63,0,0,0,0]
["手稲",null,809,{"$f":"'20　体重・性別,区別低体重児出生数，百分率，割合'!C35","v":75},{"$f":"SUM(E36:E37)","v":338},{"$f":"SUM(F36:F37)","v":319},70,7,0,0,0]
[null,"男",395,{"$f":"'20　体重・性別,区別低体重児出生数，百分率，割合'!C36","v":30},158,167,36,4,0,0,0]
[null,"女",414,{"$f":"'20　体重・性別,区別低体重児出生数，百分率，割合'!C37","v":45},180,152,34,3,0,0,0]
[null,null,"百分率"]
["総数",null,{"$f":"SUM(D39:K39)","v":100.00000000000001},{"$f":"D5/$C5*100","v":8.9221014492753614},{"$f":"E5/$C5*100","v":37.72644927536232},42.074275362318843,10.431763285024156,0.80012077294686001,1.5096618357487922E-2,7.548309178743961E-3,{"$f":"K5/$C5*100","v":2.2644927536231884E-2}]
["中央",null,{"$f":"SUM(D40:K40)","v":100},{"$f":"D8/$C8*100","v":9.7477064220183482},{"$f":"E8/$C8*100","v":36.869266055045877},43.0045871559633,9.6330275229357802,0.68807339449541294,0,0,5.7339449541284407E-2]
["北",null,{"$f":"SUM(D41:K41)","v":99.999999999999986},{"$f":"D11/$C11*100","v":8.8251218191662151},{"$f":"E11/$C11*100","v":35.354629128316191},44.450460205739034,10.44937736870601,0.7579859231185706,5.4141851651326477E-2,5.4141851651326477E-2,5.4141851651326477E-2]
["東",null,100.00000000000001,{"$f":"D14/$C14*100","v":8.2406471183013146},{"$f":"E14/$C14*100","v":37.563195146612735},41.152679474216377,11.678463094034377,1.314459049544995,0,0,5.0556117290192118E-2]
["白石",null,100.00000000000001,{"$f":"D17/$C17*100","v":9.5265926358854482},{"$f":"E17/$C17*100","v":38.573933372296906},41.203974284044421,9.8772647574517833,0.75978959672706015,5.8445353594389245E-2,0,0]
["厚別",null,100,{"$f":"D20/$C20*100","v":9.0771558245083206},{"$f":"E20/$C20*100","v":38.57791225416036},40.090771558245081,{"$f":"G20/$C20*100","v":11.195158850226928},1.059001512859304,0,0,0]
["豊平",null,100,{"$f":"D23/$C23*100","v":7.7288941736028542},{"$f":"E23/$C23*100","v":38.822829964328179},43.043995243757429,9.5719381688466108,0.83234244946492275,0,0,0]
["清田",null,100,{"$f":"D26/$C26*100","v":8.695652173913043},{"$f":"E26/$C26*100","v":35.714285714285715},43.012422360248451,12.267080745341614,0.3105590062111801,0,0,0]
["南",null,99.999999999999986,{"$f":"D29/$C29*100","v":8.8785046728971952},{"$f":"E29/$C29*100","v":35.046728971962615},44.0809968847352,11.370716510903426,0.62305295950155759,0,0,0]
["西",null,100.00000000000001,{"$f":"D32/$C32*100","v":9.477124183006536},{"$f":"E32/$C32*100","v":39.084967320261441},40.261437908496731,10.718954248366012,0.45751633986928109,0,0,0]
["手稲",null,100,{"$f":"D35/$C35*100","v":9.2707045735475884},{"$f":"E35/$C35*100","v":41.779975278121142},39.431396786155744,8.6526576019777508,0.86526576019777501,0,0,0]

{"sheet":"20　体重・性別,区別低体重児出生数，百分率，割合","index":19,"n_rows":49,"n_cols":8,"rows_kept":49,"cut":false,"hidden":false,"merged":[[2,0,2,1],[28,0,28,1],[31,0,31,1],[37,2,37,7],[4,0,4,1],[7,0,7,1],[10,0,10,1],[13,0,13,1],[16,0,16,1],[19,0,19,1],[34,0,34,1],[22,0,22,1],[47,0,47,1],[38,0,38,1],[48,0,48,1],[3,2,3,7],[43,0,43,1],[44,0,44,1],[45,0,45,1],[46,0,46,1],[39,0,39,1],[40,0,40,1],[41,0,41,1],[42,0,42,1],[25,0,25,1]]}
["20　出生時の体重・性別にみた区別低体重児出生数及び割合"]
[null,null,null,null,null,null,null,{"$f":"'3 月・性別，区別出生数・出生率'!$O$2","v":"平成30年"}]
["区・性",null,"総数","0.5kｇ未満","0.5㎏以上\n1.0㎏未満","1.0～1.5㎏","1.5～2.0㎏","2.0～2.5㎏"]
[null,null,"出生数"]
["総数",null,{"$f":"SUM(D5:H5)","v":1182},{"$f":"SUM(D8,D11,D14,D17,D20,D23,D26,D29,D32,D35)","v":7},27,52,152,944]
[null,"男",{"$f":"SUM(D6:H6)","v":530},3,15,23,84,405]
[null,"女",652,4,12,29,68,539]
["中央",null,170,{"$f":"SUM(D9:D10)","v":1},{"$f":"SUM(E9:E10)","v":2},{"$f":"SUM(F9:F10)","v":4},{"$f":"SUM(G9:G10)","v":20},{"$f":"SUM(H9:H10)","v":143}]
[null,"男",83,0,2,2,12,67]
[null,"女",87,1,0,2,8,76]
["北",null,163,{"$f":"SUM(D12:D13)","v":0},{"$f":"SUM(E12:E13)","v":3},{"$f":"SUM(F12:F13)","v":9},{"$f":"SUM(G12:G13)","v":27},{"$f":"SUM(H12:H13)","v":124}]
[null,"男",76,0,2,2,18,54]
[null,"女",87,0,1,7,9,70]
["東",null,163,{"$f":"SUM(D15:D16)","v":2},{"$f":"SUM(E15:E16)","v":5},{"$f":"SUM(F15:F16)","v":3},{"$f":"SUM(G15:G16)","v":15},{"$f":"SUM(H15:H16)","v":138}]
[null,"男",70,1,3,1,7,58]
[null,"女",93,1,2,2,8,80]
["白石",null,163,{"$f":"SUM(D18:D19)","v":0},{"$f":"SUM(E18:E19)","v":6},{"$f":"SUM(F18:F19)","v":11},{"$f":"SUM(G18:G19)","v":20},{"$f":"SUM(H18:H19)","v":126}]
[null,"男",75,0,2,6,8,59]
[null,"女",88,0,4,5,12,67]
["厚別",null,60,{"$f":"SUM(D21:D22)","v":1},{"$f":"SUM(E21:E22)","v":2},{"$f":"SUM(F21:F22)","v":2},{"$f":"SUM(G21:G22)","v":10},{"$f":"SUM(H21:H22)","v":45}]
[null,"男",31,1,1,2,6,21]
[null,"女",29,0,1,0,4,24]
["豊平",null,130,{"$f":"SUM(D24:D25)","v":0},{"$f":"SUM(E24:E25)","v":1},{"$f":"SUM(F24:F25)","v":5},{"$f":"SUM(G24:G25)","v":15},{"$f":"SUM(H24:H25)","v":109}]
[null,"男",49,0,0,2,9,38]
[null,"女",81,0,1,3,6,71]
["清田",null,56,{"$f":"SUM(D27:D28)","v":2},{"$f":"SUM(E27:E28)","v":1},{"$f":"SUM(F27:F28)","v":4},{"$f":"SUM(G27:G28)","v":6},{"$f":"SUM(H27:H28)","v":43}]
[null,"男",22,0,0,1,4,17]
[null,"女",34,2,1,3,2,26]
["南",null,57,{"$f":"SUM(D30:D31)","v":0},{"$f":"SUM(E30:E31)","v":3},{"$f":"SUM(F30:F31)","v":4},{"$f":"SUM(G30:G31)","v":8},{"$f":"SUM(H30:H31)","v":42}]
[null,"男",24,0,1,3,3,17]
[null,"女",33,0,2,1,5,25]
["西",null,145,{"$f":"SUM(D33:D34)","v":1},{"$f":"SUM(E33:E34)","v":2},{"$f":"SUM(F33:F34)","v":7},{"$f":"SUM(G33:G34)","v":22},{"$f":"SUM(H33:H34)","v":113}]
[null,"男",70,1,2,3,14,50]
[null,"女",75,0,0,4,8,63]
["手稲",null,75,{"$f":"SUM(D36:D37)","v":0},{"$f":"SUM(E36:E37)","v":2},{"$f":"SUM(F36:F37)","v":3},{"$f":"SUM(G36:G37)","v":9},{"$f":"SUM(H36:H37)","v":61}]
[null,"男",30,0,2,1,3,24]
[null,"女",45,0,0,2,6,37]
[null,null,"出　　生　　数　　に　　対　　す　　る　　割　　合　　(％)"]
["総数",null,{"$f":"SUM(D39:H39)","v":8.9221014492753614},{"$f":"D5/'19 体重・性別，区別出生数・百分率'!$C5*100","v":5.2838164251207728E-2},{"$f":"E5/'19 体重・性別，区別出生数・百分率'!$C5*100","v":0.20380434782608695},{"$f":"F5/'19 体重・性別，区別出生数・百分率'!$C5*100","v":0.39251207729468601},{"$f":"G5/'19 体重・性別，区別出生数・百分率'!$C5*100","v":1.1473429951690821},{"$f":"H5/'19 体重・性別，区別出生数・百分率'!$C5*100","v":7.1256038647342992}]
["中央",null,{"$f":"SUM(D40:H40)","v":9.7477064220183482},{"$f":"D8/'19 体重・性別，区別出生数・百分率'!$C8*100","v":5.7339449541284407E-2},{"$f":"E8/'19 体重・性別，区別出生数・百分率'!$C8*100","v":0.11467889908256881},{"$f":"F8/'19 体重・性別，区別出生数・百分率'!$C8*100","v":0.22935779816513763},{"$f":"G8/'19 体重・性別，区別出生数・百分率'!$C8*100","v":1.1467889908256881},{"$f":"H8/'19 体重・性別，区別出生数・百分率'!$C8*100","v":8.1995412844036686}]
["北",null,{"$f":"SUM(D41:H41)","v":8.8251218191662169},{"$f":"D11/'19 体重・性別，区別出生数・百分率'!$C11*100","v":0},{"$f":"E11/'19 体重・性別，区別出生数・百分率'!$C11*100","v":0.16242555495397942},{"$f":"F11/'19 体重・性別，区別出生数・百分率'!$C11*100","v":0.48727666486193827},{"$f":"G11/'19 体重・性別，区別出生数・百分率'!$C11*100","v":1.4618299945858149},{"$f":"H11/'19 体重・性別，区別出生数・百分率'!$C11*100","v":6.7135896047644836}]
["東",null,8.2406471183013146,{"$f":"D14/'19 体重・性別，区別出生数・百分率'!$C14*100","v":0.10111223458038424},{"$f":"E14/'19 体重・性別，区別出生数・百分率'!$C14*100","v":0.25278058645096058},{"$f":"F14/'19 体重・性別，区別出生数・百分率'!$C14*100","v":0.15166835187057634},{"$f":"G14/'19 体重・性別，区別出生数・百分率'!$C14*100","v":0.75834175935288162},{"$f":"H14/'19 体重・性別，区別出生数・百分率'!$C14*100","v":6.9767441860465116}]
["白石",null,9.5265926358854465,{"$f":"D17/'19 体重・性別，区別出生数・百分率'!$C17*100","v":0},{"$f":"E17/'19 体重・性別，区別出生数・百分率'!$C17*100","v":0.35067212156633548},{"$f":"F17/'19 体重・性別，区別出生数・百分率'!$C17*100","v":0.64289888953828178},{"$f":"G17/'19 体重・性別，区別出生数・百分率'!$C17*100","v":1.168907071887785},{"$f":"H17/'19 体重・性別，区別出生数・百分率'!$C17*100","v":7.364114552893045}]
["厚別",null,9.0771558245083206,{"$f":"D20/'19 体重・性別，区別出生数・百分率'!$C20*100","v":0.15128593040847202},{"$f":"E20/'19 体重・性別，区別出生数・百分率'!$C20*100","v":0.30257186081694404},{"$f":"F20/'19 体重・性別，区別出生数・百分率'!$C20*100","v":0.30257186081694404},{"$f":"G20/'19 体重・性別，区別出生数・百分率'!$C20*100","v":1.5128593040847202},{"$f":"H20/'19 体重・性別，区別出生数・百分率'!$C20*100","v":6.8078668683812404}]
["豊平",null,7.7288941736028534,{"$f":"D23/'19 体重・性別，区別出生数・百分率'!$C23*100","v":0},{"$f":"E23/'19 体重・性別，区別出生数・百分率'!$C23*100","v":5.9453032104637329E-2},{"$f":"F23/'19 体重・性別，区別出生数・百分率'!$C23*100","v":0.29726516052318669},{"$f":"G23/'19 体重・性別，区別出生数・百分率'!$C23*100","v":0.89179548156956001},{"$f":"H23/'19 体重・性別，区別出生数・百分率'!$C23*100","v":6.4803804994054692}]
["清田",null,8.695652173913043,{"$f":"D26/'19 体重・性別，区別出生数・百分率'!$C26*100","v":0.3105590062111801},{"$f":"E26/'19 体重・性別，区別出生数・百分率'!$C26*100","v":0.15527950310559005},{"$f":"F26/'19 体重・性別，区別出生数・百分率'!$C26*100","v":0.6211180124223602},{"$f":"G26/'19 体重・性別，区別出生数・百分率'!$C26*100","v":0.93167701863354035},{"$f":"H26/'19 体重・性別，区別出生数・百分率'!$C26*100","v":6.6770186335403725}]
["南",null,8.8785046728971952,{"$f":"D29/'19 体重・性別，区別出生数・百分率'!$C29*100","v":0},{"$f":"E29/'19 体重・性別，区別出生数・百分率'!$C29*100","v":0.46728971962616817},{"$f":"F29/'19 体重・性別，区別出生数・百分率'!$C29*100","v":0.62305295950155759},{"$f":"G29/'19 体重・性別，区別出生数・百分率'!$C29*100","v":1.2461059190031152},{"$f":"H29/'19 体重・性別，区別出生数・百分率'!$C29*100","v":6.5420560747663545}]
["西",null,9.477124183006536,{"$f":"D32/'19 体重・性別，区別出生数・百分率'!$C32*100","v":6.5359477124182996E-2},{"$f":"E32/'19 体重・性別，区別出生数・百分率'!$C32*100","v":0.13071895424836599},{"$f":"F32/'19 体重・性別，区別出生数・百分率'!$C32*100","v":0.45751633986928109},{"$f":"G32/'19 体重・性別，区別出生数・百分率'!$C32*100","v":1.4379084967320261},{"$f":"H32/'19 体重・性別，区別出生数・百分率'!$C32*100","v":7.3856209150326801}]
["手稲",null,9.2707045735475901,{"$f":"D35/'19 体重・性別，区別出生数・百分率'!$C35*100","v":0},{"$f":"E35/'19 体重・性別，区別出生数・百分率'!$C35*100","v":0.2472187886279357},{"$f":"F35/'19 体重・性別，区別出生数・百分率'!$C35*100","v":0.37082818294190362},{"$f":"G35/'19 体重・性別，区別出生数・百分率'!$C35*100","v":1.1124845488257107},{"$f":"H35/'19 体重・性別，区別出生数・百分率'!$C35*100","v":7.5401730531520395}]

{"sheet":"21 出生時の身長別，年次別出生数・百分率・平均身長","index":20,"n_rows":53,"n_cols":21,"rows_kept":53,"cut":false,"hidden":false,"merged":[[3,1,3,20],[28,1,28,20]]}
["21　出生時の身長別にみた年次別出生数・百分率及び平均身長"]
[]
["年次","総　数","40cm\n未満","40cm","41cm","42cm","43cm","44cm","45cm","46cm","47cm","48cm","49cm","50cm","51cm","52cm","53cm","54cm","55cm～","不詳","出 生 時 の\n平均身長(cm)"]
[null,"出生数"]
["1995　 平成 7 年",{"$f":"SUM(C5:T5)","v":16227},93,22,37,65,97,170,553,1046,1997,2826,3202,2950,1728,835,280,81,63,182,48.7]
["1996  平成 8年",16339,78,30,32,69,107,178,567,983,1949,2838,3209,3138,1848,827,269,96,41,80,48.7]
["  97       9",15873,82,26,43,67,73,185,491,973,1799,2752,3051,3139,1847,872,280,89,36,68,48.8]
["  98      10",16165,84,22,41,68,104,215,518,987,1931,2754,3182,3047,1856,878,290,92,32,64,48.7]
["  99      11",15358,103,36,45,55,125,207,441,935,1724,2615,3110,2955,1761,802,273,87,36,48,48.7]
["2000    平成12年",15332,61,19,44,64,99,180,486,983,1751,2626,3003,2993,1816,754,281,77,37,58,48.761228230980748]
["  01      13",15312,68,28,44,45,114,200,479,1022,1797,2774,3046,2827,1676,781,247,95,29,40,48.692640125720274]
["  02      14",15577,67,29,39,61,103,189,510,962,1777,2745,2992,3079,1745,812,285,67,32,83,48.742029172582939]
["  03      15",14999,65,27,24,57,91,191,506,974,1783,2602,2969,2811,1600,819,274,84,25,97,48.717554690645549]
["  04      16",14749,59,19,29,69,99,216,485,953,1743,2598,2883,2745,1611,736,277,80,27,120,48.702166928703264]
["2005  平成17年",14184,67,18,38,50,98,151,467,912,1647,2457,2789,2754,1560,724,250,74,20,108,48.726911054276783]
["  06      18",14730,77,30,49,67,119,199,464,920,1677,2560,2904,2785,1658,737,259,76,28,121,48.695256348826064]
["  07      19",14498,61,19,30,59,101,151,470,891,1574,2598,2862,2800,1643,756,262,82,26,113,48.769482099409103]
["  08      20",14845,68,27,33,65,103,171,498,912,1687,2492,2895,2828,1810,790,271,89,19,87,48.765279848217915]
["  09      21",14506,61,25,26,52,93,183,448,878,1572,2534,2903,2834,1700,729,267,80,40,81,48.8]
["  10      22",14739,51,15,36,58,88,217,399,849,1722,2539,2909,2778,1797,813,277,82,30,79,48.811800818553891]
["  11      23",14491,80,27,26,68,94,172,418,894,1712,2346,2903,2781,1774,775,236,72,17,96,48.758666203542894]
["  12      24",14487,67,29,36,55,96,194,476,836,1682,2406,2839,2841,1725,751,266,84,32,72,48.770031217481787]
["  13      25",14591,68,28,49,72,94,207,484,934,1627,2453,2907,2831,1649,754,280,78,27,49,48.721152523724385]
["  14      26",14568,100,22,47,58,131,200,455,877,1570,2339,2865,2917,1761,798,269,94,28,37,48.757346362948176]
["  15      27",14589,68,25,26,58,107,178,514,936,1604,2364,2858,2860,1808,772,259,78,28,46,48.772330330743316]
["  16      28",14021,65,24,37,52,95,160,439,829,1517,2245,2865,2907,1658,730,244,77,25,52,48.806571694466321]
["  17      29",13821,71,18,37,61,102,190,393,758,1479,2196,2693,2815,1739,790,299,89,32,59,48.864409242842612]
["  18      30",{"$f":"SUM(C28:T28)","v":13248},{"$f":"'[2]■21 出生時の身長別，年次別出生数・百分率・平均身長'!$C$5","v":67},{"$f":"'[2]■21 出生時の身長別，年次別出生数・百分率・平均身長'!$D$5","v":19},{"$f":"'[2]■21 出生時の身長別，年次別出生数・百分率・平均身長'!$E$5","v":27},{"$f":"'[2]■21 出生時の身長別，年次別出生数・百分率・平均身長'!$F$5","v":52},{"$f":"'[2]■21 出生時の身長別，年次別出生数・百分率・平均身長'!$G$5","v":82},{"$f":"'[2]■21 出生時の身長別，年次別出生数・百分率・平均身長'!$H$5","v":152},{"$f":"'[2]■21 出生時の身長別，年次別出生数・百分率・平均身長'!$I$5","v":379},{"$f":"'[2]■21 出生時の身長別，年次別出生数・百分率・平均身長'!$J$5","v":690},{"$f":"'[2]■21 出生時の身長別，年次別出生数・百分率・平均身長'!$K$5","v":1438},{"$f":"'[2]■21 出生時の身長別，年次別出生数・百分率・平均身長'!$L$5","v":2165},{"$f":"'[2]■21 出生時の身長別，年次別出生数・百分率・平均身長'!$M$5","v":2584},{"$f":"'[2]■21 出生時の身長別，年次別出生数・百分率・平均身長'!$N$5","v":2653},{"$f":"'[2]■21 出生時の身長別，年次別出生数・百分率・平均身長'!$O$5","v":1679},{"$f":"'[2]■21 出生時の身長別，年次別出生数・百分率・平均身長'!$P$5","v":809},{"$f":"'[2]■21 出生時の身長別，年次別出生数・百分率・平均身長'!$Q$5","v":271},{"$f":"'[2]■21 出生時の身長別，年次別出生数・百分率・平均身長'!$R$5","v":93},{"$f":"'[2]■21 出生時の身長別，年次別出生数・百分率・平均身長'!$S$5","v":35},{"$f":"'[2]■21 出生時の身長別，年次別出生数・百分率・平均身長'!$T$5","v":53},{"$f":"'[2]■21 出生時の身長別，年次別出生数・百分率・平均身長'!$U$5","v":48.899962106858659}]
[null,"百分率"]
["1995　　平成7 年",{"$f":"SUM(C30:T30)","v":100.00000000000001},{"$f":"C5/$B5*100","v":0.57311887594749489},0.13557650828865472,0.2280150366672829,0.40056695630738892,0.59776915018179577,1.0476366549577862,3.4079004128920931,6.4460467122696734,12.306649411474703,17.415418746533557,19.732544524557834,18.179577247796882,10.648918469217969,5.1457447464103039,1.7255191964010601,0.49916805324459235,0.38824181919023848,1.1215874776606891]
["1996  平成 8年",100,0.47738539690311527,0.1836097680396597,0.1958504192423037,0.42230246649121739,0.65487483934145296,1.0894179570353144,3.4702246159495687,6.0162800660995162,11.92851459697656,17.369484056551808,19.640124854642266,19.205581736948403,11.310361711243038,5.0615092722932857,1.6463675867556153,0.58755125772691108,0.25093334965420161,0.48962604810575927]
["  97　　　　　9",100,0.51660051660051653,0.16380016380016382,0.27090027090027086,0.42210042210042215,0.45990045990045986,1.1655011655011656,3.0933030933030934,6.1299061299061295,11.333711333711333,17.337617337617335,19.22131922131922,19.775719775719775,11.636111636111636,5.493605493605493,1.764001764001764,0.56070056070056074,0.22680022680022677,0.42840042840042836]
["  98      10",100,0.51964120012372417,0.13609650479430871,0.25363439529848436,0.42066192390968143,0.64336529539127751,1.3300340241261985,3.2044540674296318,6.1057841014537582,11.945561398082276,17.036807918342099,19.684503557067739,18.849365914011752,11.481596040828951,5.4314877822455916,1.7939993813795236,0.56913083823074551,0.19795855242808538,0.39591710485617077]
["  99      11",100,0.67066024221903897,0.23440552155228547,0.29300690194035683,0.35811954681599167,0.81390806094543566,1.3478317489256413,2.871467639015497,6.0880322958718587,11.225419976559447,17.026956634978514,20.250032556322438,19.240786560750099,11.466336762599298,5.2220341190259143,1.7775752051048315,0.56648001041802321,0.23440552155228547,0.31254069540304724]
["2000    平成12年",100,0.39786068353769888,0.12392381946256195,0.28698147665014351,0.41742760240020871,0.64570832246282295,1.1740151317505869,3.1698408557265849,6.4114270806157059,11.42055830941821,17.127576310983564,19.586485781372293,19.521262718497258,11.844508218105922,4.9178189407774591,1.8327680667884163,0.50221758413775108,0.24132533263762065,0.3782937646751891]
["  01      13",100,0.44409613375130619,0.18286311389759666,0.28735632183908044,0.2938871473354232,0.74451410658307204,1.3061650992685474,3.1282654127481715,6.674503657262278,11.735893416927899,18.116509926854754,19.892894461859978,18.462643678160919,10.945663531870428,5.1005747126436782,1.6131138975966561,0.62042842215256011,0.18939393939393939,0.2612330198537095]
["  02      14",100,0.43012133273415931,0.18617192013866599,0.25036913397958532,0.39160300442960772,0.66123130256146878,1.213327341593375,3.2740579058868846,6.1757719714964372,11.40784489953136,17.622135199332348,19.207806381203056,19.766322141619053,11.202413815240417,5.2128137638826475,1.8296205944662001,0.43012133273415931,0.20543108429094178,0.53283687487963016]
["  03      15",100,0.43336222414827658,0.18001200080005333,0.16001066737782518,0.38002533502233482,0.60670711380758713,1.2734182278818589,3.3735582372158146,6.4937662510834047,11.887459163944262,17.347823188212548,19.794652976865123,18.741249416627774,10.667377825188346,5.4603640242682845,1.8267884525635043,0.56003733582238813,0.16667777851856791,0.64670978065204343]
["  04      16",100,0.40002712048274464,0.12882229303681605,0.19662349989829817,0.46782832734422675,0.67123194792867313,1.464506068208014,3.2883585327818836,6.4614550138992479,11.817750355956335,17.614753542613059,19.547087938165301,18.611431283476847,10.922774425384771,4.9901688250050844,1.8780934300630552,0.54240965489185711,0.18306325852600175,0.81361448233778566]
["2005  平成17年",100,0.47236322617033277,0.12690355329949238,0.26790750141003949,0.35250987027636776,0.69091934574168079,1.0645798082346305,3.2924421883812749,6.429780033840947,11.611675126903553,17.32233502538071,19.663000564015793,19.416243654822335,10.998307952622675,5.1043429216018055,1.7625493513818387,0.52171460800902425,0.14100394811054709,0.76142131979695438]
["  06      18",100,0.52274270196877126,0.20366598778004072,0.33265444670739985,0.45485403937542429,0.80787508486082815,1.3509843856076036,3.1500339443312964,6.2457569585879158,11.384928716904277,17.379497623896807,19.714867617107942,18.906992532247116,11.255940257976919,5.0033944331296674,1.7583163611676851,0.51595383570943654,0.19008825526137135,0.82145281737949749]
["  07      19",99.999999999999986,0.42074768933646017,0.13105255897365153,0.20692509311629187,0.40695268312870742,0.69664781349151605,1.0415229686853358,3.2418264588219068,6.1456752655538693,10.856669885501448,17.91971306387088,19.74065388329425,19.313008690853913,11.332597599668921,5.2145123465305563,1.807145813215616,0.56559525451786452,0.1793350807007863,0.77941785073803282]
["  08      20",100.00000000000001,0.45806668912091619,0.18187942068036378,0.22229706972044461,0.43785786460087572,0.69383630852138767,1.1519029976423039,3.3546648703267095,6.1434826540922867,11.364095655102728,16.786796901313576,19.501515661839004,19.050185247558098,12.192657460424385,5.3216571236106427,1.8255304816436513,0.59952846076119903,0.12798922196025597,0.58605591108117217]
["  09      21",100,0.42051564869709085,0.17234247897421756,0.17923617813318626,0.35847235626637253,0.64111402178408938,1.2615469460912725,3.0883772232179787,6.0526678615745215,10.8368950778988,17.468633668826691,20.012408658486144,19.536743416517304,11.719288570246794,5.0255066868881846,1.8406176754446435,0.5514959327174962,0.2757479663587481,0.55838963187646484]
["  10      22",100,0.34602076124567477,0.10177081213108082,0.24424994911459394,0.39351380690684579,0.59705543116900739,1.4722844154963024,2.7071036026867494,5.7602279666191736,11.683289232648077,17.226406133387613,19.736752832620937,18.847954406676166,12.192143293303481,5.5159780175045796,1.8793676640206254,0.55634710631657502,0.20354162426216163,0.5359929438903589]
["  11      23",100.00000000000001,0.55206680008280995,0.1863225450279484,0.17942171002691326,0.46925678007038851,0.64867849009730172,1.1869436201780417,2.8845490304326824,6.1693464909254025,11.814229521772134,16.189358912428403,20.033124008004968,19.191222137878682,12.242081291836312,5.348147125802222,1.6285970602442894,0.49686012007452895,0.11731419501759713,0.66248016009937205]
["  12      24",99.999999999999986,0.46248360599157867,0.20017947125008628,0.24849865396562434,0.37965072133637051,0.66266307724166496,1.3391316352591978,3.285704424656589,5.7706909643128323,11.610409332505006,16.607993373369229,19.596879961344655,19.61068544212052,11.907227169186168,5.1839580313384408,1.8361289431904466,0.57983019258645674,0.22088769241388834,0.49699730793124869]
["  13      25",100,0.46604071002672887,0.19189911589335892,0.33582345281337811,0.49345486944006578,0.64423274621341919,1.418682749640189,3.3171132890137756,6.4012062230141868,11.150709341374821,16.811733260228909,19.923240353642658,19.402371324789254,11.301487218148173,5.1675690494140225,1.9189911589335893,0.53457610856007121,0.18504557604002467,0.33582345281337811]
["  14      26",100,0.68643602416254812,0.15101592531576055,0.32262493135639758,0.39813289401427787,0.89923119165293797,1.3728720483250962,3.1232839099395937,6.0200439319055468,10.777045579352004,16.055738605161999,19.666392092257002,20.023338824821526,12.088138385502472,5.4777594728171337,1.8465129049972544,0.64524986271279516,0.19220208676551345,0.2539813289401428]
["  15      27",100,0.46610459935567899,0.17136198505723491,0.1782164644595243,0.39755980533278495,0.73342929604496543,1.2200973336075125,3.5232024127767501,6.4157927205428749,10.994584961272192,16.203989307012133,19.590102131743095,19.603811090547673,12.392898759339229,5.2916580985674138,1.7753101651929535,0.53464939337857287,0.19192542326410311,0.31530605250531224]
["  16      28",100,0.46359032879252549,0.17117181370800941,0.26388987946651449,0.37087226303402038,0.67755509592753727,1.1411454247200628,3.1310177590756725,5.9125597318308252,10.819485058127096,16.01169674060338,20.433635261393622,20.73318593538264,11.82511946366165,5.2064760002852868,1.7402467726980957,0.54917623564653029,0.17830397261250983,0.37087226303402038]
["  17      29",100,0.5137110194631358,0.13023659648361191,0.26770855943853555,0.44135735475001814,0.73800738007380073,1.3747196295492365,2.8434990232255264,5.4844077852543229,10.701107011070111,15.888864771000652,19.4848419072426,20.36755661674264,12.582302293611173,5.7159395123362993,2.1633745749222197,0.64394761594674765,0.23153172708197672,0.42688662180739456]
["  18      30",{"$f":"SUM(C53:T53)","v":100},{"$f":"C28/$B28*100","v":0.50573671497584538},0.14341787439613526,0.20380434782608695,0.39251207729468601,0.6189613526570048,1.1473429951690821,2.8608091787439611,5.2083333333333339,10.854468599033815,16.342089371980677,19.504830917874397,20.025664251207729,12.673611111111111,6.1065821256038646,2.0455917874396135,0.70199275362318836,0.26419082125603865,0.40006038647343001]

{"sheet":"22　単産-複産別，年次別出生数","index":21,"n_rows":28,"n_cols":8,"rows_kept":28,"cut":false,"hidden":false,"merged":[[2,3,2,7],[2,2,3,2],[2,0,3,0],[2,1,3,1]]}
["22　単産-複産（複産の種類）別にみた年次別出生数"]
[]
["年次","総　　数","単　　産","複　　　　　　　　　　　　　　　　　　　　　　　　　産"]
[null,null,null,"総　数","双　子","三つ児","四つ児","五つ児以上"]
["1995  平成 7 年",{"$f":"SUM(C5:D5)","v":16227},16003,{"$f":"SUM(E5:H5)","v":224},218,6,0,0]
["1996  平成 8年",16339,16076,263,251,12,0,0]
["  97       9",15873,15596,277,271,6,0,0]
["  98      10",16165,15896,269,266,3,0,0]
["  99      11",15358,15135,223,211,12,0,0]
["2000    平成12年",15332,15102,230,222,8,0,0]
["  01      13",15312,15067,245,233,12,0,0]
["  02      14",15577,15306,271,265,6,0,0]
["  03      15",14999,14755,244,238,6,0,0]
["  04      16",14749,14468,281,259,22,0,0]
["2005  平成17年",14184,13859,325,307,18,0,0]
["  06      18",14730,14379,351,345,6,0,0]
["  07      19",14498,14219,279,273,6,0,0]
["  08      20",14845,14582,263,263,0,0,0]
["  09      21",14506,14248,258,255,3,0,0]
["  10      22",14739,14485,254,254,0,0,0]
["  11      23",14491,14202,289,280,9,0,0]
["  12      24",14487,14188,299,292,7,0,0]
["  13      25",14591,14290,301,301,0,0,0]
["  14      26",14568,14254,314,308,6,0,0]
["  15      27",14589,14326,263,263,0,0,0]
["  16      28",14021,13779,242,239,3,0,0]
["  17      29",13821,13534,287,281,6,0,0]
["  18      30",{"$f":"SUM(C28:D28)","v":13248},{"$f":"'23　単産-複産別，区別出生数'!C$5","v":12993},{"$f":"SUM(E28:H28)","v":255},{"$f":"'23　単産-複産別，区別出生数'!E$5","v":255},{"$f":"'23　単産-複産別，区別出生数'!F$5","v":0},{"$f":"'23　単産-複産別，区別出生数'!G$5","v":0},{"$f":"'23　単産-複産別，区別出生数'!H$5","v":0}]

{"sheet":"23　単産-複産別，区別出生数","index":22,"n_rows":15,"n_cols":8,"rows_kept":15,"cut":false,"hidden":false,"merged":[[2,3,2,7],[2,2,3,2],[2,0,3,0],[2,1,3,1]]}
["23　単産-複産（複産の種類）別にみた区別出生数"]
[null,null,null,null,null,null,null,{"$f":"'3 月・性別，区別出生数・出生率'!$O$2","v":"平成30年"}]
["区","総　　数","単　　産","複　　　　　　　　　　　　　　　　　　　　　　　　　産"]
[null,null,null,"総　数","双　子","三つ児","四つ児","五つ児以上"]
["総数",{"$f":"SUM(C5:D5)","v":13248},{"$f":"SUM(C6:C15)","v":12993},{"$f":"SUM(E5:H5)","v":255},{"$f":"SUM(E6:E15)","v":255},{"$f":"SUM(F6:F15)","v":0},{"$f":"SUM(G6:G15)","v":0},{"$f":"SUM(H6:H15)","v":0}]
["中央",{"$f":"SUM(C6:D6)","v":1744},1706,{"$f":"SUM(E6:H6)","v":38},38,0,0,0]
["北",1847,1808,39,39,0,0,0]
["東",1978,1946,32,32,0,0,0]
["白石",1711,1676,35,35,0,0,0]
["厚別",661,647,14,14,0,0,0]
["豊平",1682,1658,24,24,0,0,0]
["清田",644,634,10,10,0,0,0]
["南",642,635,7,7,0,0,0]
["西",1530,1490,40,40,0,0,0]
["手稲",809,793,16,16,0,0,0]

{"sheet":"24　出生時の体重別，年次別複産出生数・平均体重","index":23,"n_rows":37,"n_cols":16,"rows_kept":37,"cut":false,"hidden":false,"merged":[]}
["24　出生時の体重別にみた年次別複産出生数及び平均体重"]
[]
["年次","総　　　数","0.5kｇ未満","0.5㎏以上\n1.0㎏未満","1.0～1.5kｇ","1.5～2.0kｇ","2.0～2.5kｇ","2.5～3.0kｇ","3.0～3.5kｇ","3.5～4.0kｇ","4.0～4.5kｇ","4.5～5.0kｇ","5.0kｇ以上","不詳","（再掲）\n2.5㎏未満","出生時の\n平均体重(kｇ)"]
["  85      60",{"$f":"SUM(C4:N4)","v":277},0,3,8,23,109,109,24,1,0,0,0,0,{"$f":"SUM(C4:G4)","v":143},2.46]
["1986  昭和61年",{"$f":"SUM(C5:N5)","v":261},0,7,12,45,79,83,30,5,0,0,0,0,{"$f":"SUM(C5:G5)","v":143},2.38]
["1987  昭和62年",{"$f":"SUM(C6:N6)","v":270},0,5,8,34,109,91,22,1,0,0,0,0,{"$f":"SUM(C6:G6)","v":156},2.37]
["1988  昭和63年",248,1,1,12,28,93,91,19,3,0,0,0,0,135,2.42]
["  89    平成元年　",240,0,3,11,39,88,83,16,0,0,0,0,0,141,2.36]
["  90       2",298,0,13,13,47,116,91,16,1,0,0,0,1,189,2.27]
["  91       3",277,0,7,16,38,101,98,17,0,0,0,0,0,162,2.33]
["  92       4",259,1,1,12,38,98,96,12,1,0,0,0,0,150,2.35]
["1993   平成5年",251,0,6,9,43,108,81,4,0,0,0,0,0,166,2.2599999999999998]
["  94       6",289,0,5,13,42,132,85,11,1,0,0,0,0,192,2.2999999999999998]
["  95       7",224,1,9,6,43,94,62,9,0,0,0,0,0,153,2.23]
["  96       8",263,0,5,21,32,133,64,8,0,0,0,0,0,191,2.23]
["  97       9",277,2,7,19,56,111,77,5,0,0,0,0,0,195,2.17]
["1998  平成10年",269,1,4,10,49,135,61,8,1,0,0,0,0,199,2.21]
["  99      11",223,0,4,24,49,99,45,2,0,0,0,0,0,176,2.12]
["2000      12",230,0,4,19,42,119,41,5,0,0,0,0,0,184,2.1587000000000001]
["  01      13",245,0,8,14,59,103,52,9,0,0,0,0,0,184,2.1725469387755107]
["  02      14",271,0,6,13,60,120,65,6,1,0,0,0,0,199,2.204487084870848]
["  03      15",244,0,7,12,32,125,65,3,0,0,0,0,0,176,2.225450819672131]
["  04      16",281,0,9,18,56,148,45,4,1,0,0,0,0,231,2.1474911032028485]
["  05      17",325,0,3,26,57,159,73,7,0,0,0,0,0,245,2.1933784615384626]
["  06      18",351,0,7,26,78,163,70,7,0,0,0,0,0,274,2.1450712250712254]
["  07      19",279,0,4,10,63,138,59,4,0,0,0,0,1,215,2.1884532374100725]
["  08      20",263,0,6,8,53,143,51,2,0,0,0,0,0,210,2.1902547528517116]
["  09      21",258,0,5,11,48,126,65,2,1,0,0,0,0,190,2.23]
["  10      22",254,1,1,9,46,147,46,4,0,0,0,0,0,204,2.7800294117647102]
["  11      23",289,0,10,27,55,138,53,6,0,0,0,0,0,230,2.1221384083044983]
["  12      24",299,0,9,11,57,151,63,7,1,0,0,0,0,228,2.2051036789297656]
["  13      25",301,0,8,14,64,152,60,2,1,0,0,0,0,238,2.1777076411960126]
["  14      26",314,0,9,19,59,154,70,3,0,0,0,0,0,241,2.1707961783439496]
["  15      27",263,0,5,16,46,143,52,1,0,0,0,0,0,210,2.1954524714828896]
["  16      28",242,0,4,15,49,120,52,2,0,0,0,0,0,188,2.1753801652892562]
["  17      29",287,1,7,16,40,154,66,3,0,0,0,0,0,218,2.2009233449477357]
["  18      30",{"$f":"SUM(C37:N37)","v":255},{"$f":"'25　出生時の体重別，単産-複産別出生数・平均体重'!D$6","v":1},{"$f":"'25　出生時の体重別，単産-複産別出生数・平均体重'!E$6","v":5},{"$f":"'25　出生時の体重別，単産-複産別出生数・平均体重'!F$6","v":9},{"$f":"'25　出生時の体重別，単産-複産別出生数・平均体重'!G$6","v":47},{"$f":"'25　出生時の体重別，単産-複産別出生数・平均体重'!H$6","v":139},{"$f":"'25　出生時の体重別，単産-複産別出生数・平均体重'!I$6","v":50},{"$f":"'25　出生時の体重別，単産-複産別出生数・平均体重'!J$6","v":4},{"$f":"'25　出生時の体重別，単産-複産別出生数・平均体重'!K$6","v":0},{"$f":"'25　出生時の体重別，単産-複産別出生数・平均体重'!L$6","v":0},{"$f":"'25　出生時の体重別，単産-複産別出生数・平均体重'!M$6","v":0},{"$f":"'25　出生時の体重別，単産-複産別出生数・平均体重'!N$6","v":0},{"$f":"'25　出生時の体重別，単産-複産別出生数・平均体重'!O$6","v":0},{"$f":"SUM(C37:G37)","v":201},{"$f":"'25　出生時の体重別，単産-複産別出生数・平均体重'!Q$6","v":2.2067215686274517}]

{"sheet":"25　出生時の体重別，単産-複産別出生数・平均体重","index":24,"n_rows":10,"n_cols":17,"rows_kept":10,"cut":false,"hidden":false,"merged":[[8,0,8,1],[9,0,9,1],[4,0,4,1],[2,0,2,1],[5,0,5,1],[3,0,3,1],[6,0,6,1],[7,0,7,1]]}
["25　出生時の体重別にみた単産-複産（複産の種類）別出生数及び平均体重"]
[null,null,null,null,null,null,null,null,null,null,null,null,null,null,null,null,{"$f":"'3 月・性別，区別出生数・出生率'!$O$2","v":"平成30年"}]
["単産-複産",null,"総数","0.5kｇ未満","0.5㎏以上\n1.0㎏未満","1.0～1.5kｇ","1.5～2.0kｇ","2.0～2.5kｇ","2.5～3.0kｇ","3.0～3.5kｇ","3.5～4.0kｇ","4.0～4.5kｇ","4.5～5.0kｇ","5.0kｇ以上","不詳","（再掲）\n2.5㎏未満","出生時の\n平均体重(kｇ)"]
["　　総　　　数",null,{"$f":"SUM(C5:C6)","v":13248},{"$f":"SUM(D5:D6)","v":7},27,52,152,944,4998,5574,1382,106,2,1,3,{"$f":"SUM(D4:H4)","v":1182},3.0172847112117926]
["　　単　　　産",null,{"$f":"SUM(D5:O5)","v":12993},6,22,43,105,805,4948,5570,1382,106,2,1,3,981,3.03319645881448]
["　　複　　　産",null,255,{"$f":"SUM(D7:D10)","v":1},{"$f":"SUM(E7:E10)","v":5},9,47,139,50,4,0,0,0,0,{"$f":"SUM(O7:O10)","v":0},{"$f":"SUM(D6:H6)","v":201},2.2067215686274517]
["　　　　双　　　子",null,255,1,5,9,47,139,50,4,0,0,0,0,0,201,2.2067215686274499]
["　　　　三　つ　児",null,0,0,0,0,0,0,0,0,0,0,0,0,0,0,0]
["　　　　四　つ　児",null,0,0,0,0,0,0,0,0,0,0,0,0,0,0,0]
["　　　　五つ児以上",null,0,0,0,0,0,0,0,0,0,0,0,0,0,0,0]

{"sheet":"26 　妊娠期間・性別，体重別出生数・平均体重","index":25,"n_rows":48,"n_cols":26,"rows_kept":48,"cut":false,"hidden":false,"merged":[]}
["26　妊娠期間・性別にみた出生時の体重別出生数及び平均体重"]
[null,null,null,null,null,null,null,null,null,null,null,null,null,null,null,null,null,null,null,null,null,null,null,null,null,{"$f":"'3 月・性別，区別出生数・出生率'!$O$2","v":"平成30年"}]
["出生時の体重","総数","22週\n未満","22週","23週","24週","25週","26週","27週","28週","29週","30週","31週","32週","33週","34週","35週","36週","37週","38週","39週","40週","41週","42週","43週～","不詳"]
[null,"総数"]
["総　数",{"$f":"SUM(B20,B35)","v":13248},{"$f":"SUM(C20,C35)","v":0},1,3,5,7,6,12,3,9,13,17,27,41,87,128,426,1553,3099,3633,3159,1001,11,0,7]
["0.5㎏未満",7,{"$f":"SUM(C21,C36)","v":0},1,2,2,1,0,0,1,0,0,0,0,0,0,0,0,0,0,0,0,0,0,0,0]
["0.5㎏以上1.0㎏未満",27,0,0,1,3,5,4,8,0,1,2,1,1,0,0,1,0,0,0,0,0,0,0,0,0]
["1.0～1.5㎏",52,0,0,0,0,1,2,4,2,6,8,4,8,8,5,2,1,0,1,0,0,0,0,0,0]
["1.5～2.0㎏",152,0,0,0,0,0,0,0,0,0,3,12,13,25,25,17,31,18,7,1,0,0,0,0,0]
["2.0～2.5㎏",944,0,0,0,0,0,0,0,0,0,0,0,4,8,46,73,174,281,209,100,45,4,0,0,0]
["2.5～3.0㎏",4998,0,0,0,0,0,0,0,0,1,0,0,1,0,11,34,185,872,1509,1347,862,172,1,0,3]
["3.0～3.5㎏",5574,0,0,0,0,0,0,0,0,1,0,0,0,0,0,1,31,351,1219,1761,1672,532,5,0,1]
["3.5～4.0㎏",1382,0,0,0,0,0,0,0,0,0,0,0,0,0,0,0,3,31,146,398,543,257,3,0,1]
["4.0～4.5㎏",106,0,0,0,0,0,0,0,0,0,0,0,0,0,0,0,0,0,7,25,36,36,2,0,0]
["4.5～5.0㎏",2,0,0,0,0,0,0,0,0,0,0,0,0,0,0,0,0,0,1,0,1,0,0,0,0]
["5.0㎏以上",1,0,0,0,0,0,0,{"$f":"SUM(I31,I46)","v":0},0,0,0,0,0,0,0,0,0,0,0,1,0,0,0,0,0]
["不詳",3,0,0,0,0,0,0,0,0,0,0,0,0,0,0,0,1,0,0,0,0,0,0,0,2]
["平均体重(㎏)",3.0172847112117926,null,0.41599999999999998,0.5,0.50160000000000005,0.71242857142857097,0.914333333333333,0.97458333333333302,0.99866666666666704,1.5266666666666699,1.29015384615385,1.5651764705882401,1.6438518518518499,1.7710975609756101,2.1039195402298798,2.3033046874999998,2.52093176470588,2.7778956857694799,2.9610606647305602,3.09782080924855,3.1966574865463802,3.3115814185814201,3.4563636363636401,0,3.0066000000000002]
[null,"男"]
["総　数",{"$f":"SUM(C20:Z20)","v":6744},{"$f":"SUM(C21:C32)","v":0},0,2,4,3,3,6,1,5,7,9,17,19,49,66,221,841,1646,1838,1533,464,5,0,5]
["0.5㎏未満",{"$f":"SUM(C21:Z21)","v":3},null,0,1,2,0,0,0,0,0,0,0,0,0,0,0,0,0,0,0,0,0,0,0,0]
["0.5㎏以上1.0㎏未満",15,null,0,1,2,2,1,4,0,1,2,0,1,0,0,1,0,0,0,0,0,0,0,0,0]
["1.0～1.5㎏",23,null,0,0,0,1,2,2,1,3,2,1,4,2,3,1,1,0,0,0,0,0,0,0,0]
["1.5～2.0㎏",84,null,0,0,0,0,0,0,0,0,3,8,9,11,13,8,16,10,6,0,0,0,0,0,0]
["2.0～2.5㎏",405,null,0,0,0,0,0,0,0,0,0,0,2,6,23,32,82,128,79,31,21,1,0,0,0]
["2.5～3.0㎏",2318,null,0,0,0,0,0,0,0,0,0,0,1,0,10,24,103,472,713,585,339,68,1,0,2]
["3.0～3.5㎏",2992,null,0,0,0,0,0,0,0,1,0,0,0,0,0,0,17,209,743,957,830,232,2,0,1]
["3.5～4.0㎏",833,null,0,0,0,0,0,0,0,0,0,0,0,0,0,0,1,22,100,249,319,139,2,0,1]
["4.0～4.5㎏",67,null,0,0,0,0,0,0,0,0,0,0,0,0,0,0,0,0,5,15,23,24,0,0,0]
["4.5～5.0㎏",1,null,0,0,0,0,0,0,0,0,0,0,0,0,0,0,0,0,0,0,1,0,0,0,0]
["5.0㎏以上",1,null,0,0,0,0,0,0,0,0,0,0,0,0,0,0,0,0,0,1,0,0,0,0,0]
["不詳",2,null,0,0,0,0,0,0,0,0,0,0,0,0,0,0,1,0,0,0,0,0,0,0,1]
["平均体重(㎏)",3.055806288935043,null,0,0.502,0.47799999999999998,0.86566666666666703,1.0476666666666701,0.95450000000000002,1.3280000000000001,1.4632000000000001,1.2524285714285699,1.6244444444444399,1.6549411764705899,1.89863157894737,2.1388775510204101,2.3405606060606101,2.5493000000000001,2.8114328180737198,3.00887788578371,3.1514352557127299,3.24364318330072,3.3637133620689701,3.3188,0,3.0670000000000002]
[null,"女"]
["総　数",{"$f":"SUM(C35:Z35)","v":6504},{"$f":"SUM(C36:C47)","v":0},{"$f":"SUM(D36:D47)","v":1},1,1,4,3,6,2,4,6,8,10,22,38,62,205,712,1453,1795,1626,537,6,0,2]
["0.5㎏未満",{"$f":"SUM(C36:Z36)","v":4},null,1,1,0,1,0,0,1,0,0,0,0,0,0,0,0,0,0,0,0,0,0,0,0]
["0.5㎏以上1.0㎏未満",12,null,0,0,1,3,3,4,0,0,0,1,0,0,0,0,0,0,0,0,0,0,0,0,0]
["1.0～1.5㎏",29,null,0,0,0,0,0,2,1,3,6,3,4,6,2,1,0,0,1,0,0,0,0,0,0]
["1.5～2.0㎏",68,null,0,0,0,0,0,0,0,0,0,4,4,14,12,9,15,8,1,1,0,0,0,0,0]
["2.0～2.5㎏",539,null,0,0,0,0,0,0,0,0,0,0,2,2,23,41,92,153,130,69,24,3,0,0,0]
["2.5～3.0㎏",2680,null,0,0,0,0,0,0,0,1,0,0,0,0,1,10,82,400,796,762,523,104,0,0,1]
["3.0～3.5㎏",2582,null,0,0,0,0,0,0,0,0,0,0,0,0,0,1,14,142,476,804,842,300,3,0,0]
["3.5～4.0㎏",549,null,0,0,0,0,0,0,0,0,0,0,0,0,0,0,2,9,46,149,224,118,1,0,0]
["4.0～4.5㎏",39,null,0,0,0,0,0,0,0,0,0,0,0,0,0,0,0,0,2,10,13,12,2,0,0]
["4.5～5.0㎏",1,null,0,0,0,0,0,0,0,0,0,0,0,0,0,0,0,0,1,0,0,0,0,0,0]
["5.0㎏以上",0,null,0,0,0,0,0,0,0,0,0,0,0,0,0,0,0,0,0,0,0,0,0,0,0]
["不詳",1,null,0,0,0,0,0,0,0,0,0,0,0,0,0,0,0,0,0,0,0,0,0,0,1]
["平均体重(㎏)",2.9773473781331679,null,0.41599999999999998,0.496,0.59599999999999997,0.59750000000000003,0.78100000000000003,0.99466666666666603,0.83399999999999996,1.6060000000000001,1.3341666666666701,1.4984999999999999,1.625,1.66095454545455,2.0588421052631598,2.2636451612903201,2.4904878048780499,2.7382823033707799,2.9068919476944202,3.0429220055710302,3.1523591635916399,3.2665363128491598,3.5710000000000002,0,2.7650000000000001]

{"sheet":"27　母の年齢・性別，出生順位別出生数","index":26,"n_rows":48,"n_cols":45,"rows_kept":48,"cut":false,"hidden":false,"merged":[]}
["27　母の年齢（各歳）・性別にみた出生順位別出生数"]
[null,null,null,null,null,null,null,null,null,null,null,null,null,null,null,null,null,null,null,null,null,null,null,null,null,null,null,null,null,null,null,null,null,null,null,null,null,null,null,null,null,null,null,null,{"$f":"'3 月・性別，区別出生数・出生率'!$O$2","v":"平成30年"}]
["出生順位","総数","14歳以下","15\n歳","16\n歳","17\n歳","18\n歳","19\n歳","20\n歳","21\n歳","22\n歳","23\n歳","24\n歳","25\n歳","26\n歳","27\n歳","28\n歳","29\n歳","30\n歳","31\n歳","32\n歳","33\n歳","34\n歳","35\n歳","36\n歳","37\n歳","38\n歳","39\n歳","40\n歳","41\n歳","42\n歳","43\n歳","44\n歳","45\n歳","46\n歳","47\n歳","48\n歳","49\n歳","50\n歳","51\n歳","52\n歳","53\n歳","54\n歳","55歳～","不詳"]
[null,"総数"]
["総　　　数",{"$f":"SUM(B13,B21)","v":13248},{"$f":"SUM(C13,C21)","v":3},0,7,13,24,58,125,177,229,277,317,391,516,654,808,877,926,1003,926,956,972,844,768,655,529,434,312,214,116,60,37,11,8,1,0,0,0,0,0,0,0,0,0]
["第　1　子",{"$f":"SUM(B14,B22)","v":6691},3,0,7,13,22,53,104,137,168,177,215,256,355,440,497,538,509,523,437,378,389,343,279,230,184,159,110,72,39,25,19,5,5,0,0,0,0,0,0,0,0,0,0]
["第　2　子",{"$f":"SUM(B15,B23)","v":4753},0,0,0,0,2,4,21,38,56,82,86,104,{"$f":"SUM(O15,O23)","v":124},160,259,274,328,367,347,407,410,361,314,277,237,175,131,90,55,26,12,3,2,1,0,0,0,0,0,0,0,0,0]
["第　3　子",{"$f":"SUM(B16,B24)","v":1413},0,0,0,0,0,1,0,2,5,17,14,28,33,40,42,53,70,97,118,127,135,105,139,118,84,75,46,35,17,5,4,3,0,0,0,0,0,0,0,0,0,0,0]
["第　4　子",{"$f":"SUM(B17,B25)","v":287},0,0,0,0,0,0,0,0,0,1,2,2,3,11,9,10,14,12,17,31,27,26,30,17,20,18,17,11,4,4,1,0,0,0,0,0,0,0,0,0,0,0,0]
[" 第 5 子 ～",{"$f":"SUM(B18,B26)","v":52},0,0,0,0,0,0,0,0,0,0,0,1,1,3,1,2,5,4,7,13,11,9,6,13,4,7,8,6,1,0,1,0,1,0,0,0,0,0,0,0,0,0,0]
["不　　　詳",{"$f":"SUM(B19,B27)","v":0},0,0,0,0,0,0,0,0,0,0,0,0,0,0,0,0,0,0,0,0,0,0,0,0,0,0,0,0,0,0,0,0,0,0,0,0,0,0,0,0,0,0,0]
[null,"男"]
["総　　　数",{"$f":"SUM(C13:AS13)","v":6744},{"$f":"SUM(C14:C19)","v":0},0,3,11,12,34,66,92,105,142,157,205,242,317,406,449,489,496,500,464,498,434,388,331,279,234,158,117,52,23,28,6,5,1,0,0,0,0,0,0,0,0,0]
["第　1　子",{"$f":"SUM(C14:AS14)","v":3415},0,0,3,11,11,30,54,72,81,85,104,135,166,213,246,279,261,260,246,181,200,183,142,119,99,82,61,48,13,11,14,2,3,0,0,0,0,0,0,0,0,0,0]
["第　2　子",2398,0,0,0,0,1,3,12,19,22,46,43,58,54,80,134,135,174,179,177,212,211,188,149,135,127,95,59,42,22,7,10,2,1,1,0,0,0,0,0,0,0,0,0]
["第　3　子",739,0,0,0,0,0,1,0,1,2,10,9,12,19,19,22,30,43,50,65,54,69,49,80,63,37,43,23,19,13,2,2,2,0,0,0,0,0,0,0,0,0,0,0]
["第　4　子",140,0,0,0,0,0,0,0,0,0,1,1,0,2,5,3,4,8,5,9,10,13,10,14,7,15,10,12,4,3,3,1,0,0,0,0,0,0,0,0,0,0,0,0]
[" 第 5 子 ～",0,0,0,0,0,0,0,0,0,0,0,0,0,1,0,1,1,3,2,3,7,5,4,3,7,1,4,3,4,1,0,1,0,1,0,0,0,0,0,0,0,0,0,0]
["不　　　詳",0,0,0,0,0,0,0,0,0,0,0,0,0,0,0,0,0,0,0,0,0,0,0,0,0,0,0,0,0,0,0,0,0,0,0,0,0,0,0,0,0,0,0,0]
[null,"女"]
["総　　　数",{"$f":"SUM(C21:AS21)","v":6504},{"$f":"SUM(C22:C27)","v":3},0,4,2,12,24,59,85,124,135,160,186,274,337,402,428,437,507,426,492,474,410,380,324,250,200,154,97,64,37,9,5,3,0,0,0,0,0,0,0,0,0,0]
["第　1　子",{"$f":"SUM(C22:AS22)","v":3276},3,0,4,2,11,23,50,65,87,92,111,121,189,227,251,259,248,263,191,197,189,160,137,111,85,77,49,24,26,14,5,3,2,0,0,0,0,0,0,0,0,0,0]
["第　2　子",2355,0,0,0,0,1,1,9,19,34,36,43,46,70,80,125,139,154,188,170,195,199,173,165,142,110,80,72,48,33,19,2,1,1,0,0,0,0,0,0,0,0,0,0]
["第　3　子",674,0,0,0,0,0,0,0,1,3,7,5,16,14,21,20,23,27,47,53,73,66,56,59,55,47,32,23,16,4,3,2,1,0,0,0,0,0,0,0,0,0,0,0]
["第　4　子",147,0,0,0,0,0,0,0,0,0,0,1,2,1,6,6,6,6,7,8,21,14,16,16,10,5,8,5,7,1,1,0,0,0,0,0,0,0,0,0,0,0,0,0]
[" 第 5 子 ～",52,0,0,0,0,0,0,0,0,0,0,0,1,0,3,0,1,2,2,4,6,6,5,3,6,3,3,5,2,0,0,0,0,0,0,0,0,0,0,0,0,0,0,0]
["不　　　詳",0,0,0,0,0,0,0,0,0,0,0,0,0,0,0,0,0,0,0,0,0,0,0,0,0,0,0,0,0,0,0,0,0,0,0,0,0,0,0,0,0,0,0,0]
[]
[]
[]
[]
[]
[]
[]
[]
[]
[]
[]
[]
[]
[]
[]
[]
[]
[]
[]
[]
[null,0]

{"sheet":"区・母の年齢階級，非嫡出子出生数","index":27,"n_rows":50,"n_cols":45,"rows_kept":50,"cut":false,"hidden":false,"merged":[[41,0,41,1],[41,13,41,14],[39,0,39,1],[39,13,39,14],[40,0,40,1],[40,13,40,14],[49,0,49,1],[49,13,49,14],[46,0,46,1],[46,13,46,14],[47,0,47,1],[47,13,47,14],[48,0,48,1],[48,13,48,14],[45,0,45,1],[45,13,45,14],[42,0,42,1],[42,13,42,14],[43,0,43,1],[44,0,44,1],[43,13,43,14],[44,13,44,14],[38,2,38,11],[4,2,4,11],[4,15,4,24],[3,0,3,1],[3,13,3,14],[38,15,38,24]]}
["＊　嫡出子-嫡出子でない子・母の年齢（５歳階級）･性別にみた区別出生数及び割合"]
[]
["嫡出子",null,null,null,null,null,null,null,null,null,null,null,null,"嫡出子でない子"]
["区・性",null,"総数","～14歳","15～19","20～24","25～29","30～34","35～39","40～44","45～","不詳",null,"区・性",null,"総数","～14歳","15～19","20～24","25～29","30～34","35～39","40～44","45～","不詳"]
[null,null,"実数",null,null,null,null,null,null,null,null,null,null,null,null,"実数"]
["総　 　数",null,{"$f":"SUM(C9,C12,C15,C18,C21,C24,C27,C30,C33,C36)","v":0},0,0,0,0,0,0,0,0,0,null,"総　 　数",null,{"$f":"SUM(P9,P12,P15,P18,P21,P24,P27,P30,P33,P36)","v":0},0,0,0,0,0,0,0,0,0]
[null,"男",{"$f":"SUM(C10,C13,C16,C19,C22,C25,C28,C31,C34,C37)","v":0},0,0,0,0,0,0,0,0,0,null,null,"男",{"$f":"SUM(P10,P13,P16,P19,P22,P25,P28,P31,P34,P37)","v":0},0,0,0,0,0,0,0,0,0,null,"データの個数 : 客体区分",null,"嫡否区分","母の年齢区分"]
[null,"女",{"$f":"SUM(C11,C14,C17,C20,C23,C26,C29,C32,C35,C38)","v":0},0,0,0,0,0,0,0,0,0,null,null,"女",{"$f":"SUM(P11,P14,P17,P20,P23,P26,P29,P32,P35,P38)","v":0},0,0,0,0,0,0,0,0,0,null,null,null,"嫡出子",null,null,null,null,null,null,"嫡出子 計","嫡出でない子",null,null,null,null,null,null,"嫡出でない子 計","総計"]
["中　　 央",null,{"$f":"SUM(D9:L9)","v":0},{"$f":"SUM(D10:D11)","v":0},0,0,0,0,0,0,0,0,null,"中　　 央",null,{"$f":"SUM(Q9:Y9)","v":0},{"$f":"SUM(Q10:Q11)","v":0},0,0,0,0,0,0,0,0,null,"区コード","性別区分","15～19","20～24","25～29","30～34","35～39","40～44","45～49",null,"15～19","20～24","25～29","30～34","35～39","40～44","45～49"]
[null,"男",0,null,null,null,null,null,null,null,null,null,null,null,"男",0,null,null,null,null,null,null,null,null,null,null,"10　中央区","1男",8,69,205,257,94,14,0,647,0,6,5,10,6,0,0,27,674]
[null,"女",0,null,null,null,null,null,null,null,null,null,null,null,"女",0,null,null,null,null,null,null,null,null,null,null,null,"2女",10,82,228,241,105,9,1,676,1,8,8,5,7,0,1,30,706]
["北",null,0,{"$f":"SUM(D13:D14)","v":0},0,0,0,0,0,0,0,0,null,"北",null,0,null,null,null,null,null,null,null,null,null,null,"10　中央区 計",null,18,151,433,498,199,23,1,1323,1,14,13,15,13,0,1,57,1380]
[null,"男",0,null,null,null,null,null,null,null,null,null,null,null,"男",0,null,null,null,null,null,null,null,null,null,null,"20　北区","1男",16,157,360,360,110,10,0,1013,2,5,6,7,3,1,0,24,1037]
[null,"女",0,null,null,null,null,null,null,null,null,null,null,null,"女",0,null,null,null,null,null,null,null,null,null,null,null,"2女",17,127,338,303,126,14,0,925,6,1,5,3,3,2,0,20,945]
["東",null,0,{"$f":"SUM(D16:D17)","v":0},0,0,0,0,0,0,0,0,null,"東",null,0,{"$f":"SUM(Q16:Q17)","v":0},0,0,0,0,0,0,0,0,null,"20　北区 計",null,33,284,698,663,236,24,0,1938,8,6,11,10,6,3,0,44,1982]
[null,"男",0,null,null,null,null,null,null,null,null,null,null,null,"男",0,null,null,null,null,null,null,null,null,null,null,"30　東区","1男",17,176,496,395,128,9,0,1221,0,2,10,6,7,1,0,26,1247]
[null,"女",0,null,null,null,null,null,null,null,null,null,null,null,"女",0,null,null,null,null,null,null,null,null,null,null,null,"2女",16,152,487,399,141,14,0,1209,8,6,10,9,5,0,0,38,1247]
["白　 　石",null,0,{"$f":"SUM(D19:D20)","v":0},0,0,0,0,0,0,0,0,null,"白　　 石",null,0,{"$f":"SUM(Q19:Q20)","v":0},0,0,0,0,0,0,0,0,null,"30　東区 計",null,33,328,983,794,269,23,0,2430,8,8,20,15,12,1,0,64,2494]
[null,"男",0,null,null,null,null,null,null,null,null,null,null,null,"男",0,null,null,null,null,null,null,null,null,null,null,"40　白石区","1男",15,164,386,322,94,11,1,993,3,6,9,7,2,1,0,28,1021]
[null,"女",0,null,null,null,null,null,null,null,null,null,null,null,"女",0,null,null,null,null,null,null,null,null,null,null,null,"2女",17,148,378,302,85,15,0,945,2,7,13,5,4,0,0,31,976]
["厚　　 別",null,0,{"$f":"SUM(D22:D23)","v":0},0,0,0,0,0,0,0,0,null,"厚　 　別",null,0,{"$f":"SUM(Q22:Q23)","v":0},0,0,0,0,0,0,0,0,null,"40　白石区 計",null,32,312,764,624,179,26,1,1938,5,13,22,12,6,1,0,59,1997]
[null,"男",0,null,null,null,null,null,null,null,null,null,null,null,"男",0,null,null,null,null,null,null,null,null,null,null,"45　厚別区","1男",3,64,181,162,58,7,0,475,2,3,3,2,1,1,0,12,487]
[null,"女",0,null,null,null,null,null,null,null,null,null,null,null,"女",0,null,null,null,null,null,null,null,null,null,null,null,"2女",2,67,204,181,67,12,0,533,2,3,1,7,1,0,0,14,547]
["豊　 　平",null,0,{"$f":"SUM(D25:D26)","v":0},0,0,0,0,0,0,0,0,null,"豊　 　平",null,0,{"$f":"SUM(Q25:Q26)","v":0},0,0,0,0,0,0,0,0,null,"45　厚別区 計",null,5,131,385,343,125,19,0,1008,4,6,4,9,2,1,0,26,1034]
[null,"男",0,null,null,null,null,null,null,null,null,null,null,null,"男",0,null,null,null,null,null,null,null,null,null,null,"50　豊平区","1男",14,143,331,292,106,13,0,899,2,4,5,7,5,1,0,24,923]
[null,"女",0,null,null,null,null,null,null,null,null,null,null,null,"女",0,null,null,null,null,null,null,null,null,null,null,null,"2女",8,101,317,283,105,12,0,826,4,4,5,4,6,1,0,24,850]
["清　 　田",null,0,{"$f":"SUM(D28:D29)","v":0},0,0,0,0,0,0,0,0,null,"清 　　田",null,0,{"$f":"SUM(Q28:Q29)","v":0},0,0,0,0,0,0,0,0,null,"50　豊平区 計",null,22,244,648,575,211,25,0,1725,6,8,10,11,11,2,0,48,1773]
[null,"男",0,null,null,null,null,null,null,null,null,null,null,null,"男",0,null,null,null,null,null,null,null,null,null,null,"55　清田区","1男",3,54,142,135,70,6,0,410,1,2,0,1,0,0,0,4,414]
[null,"女",0,null,null,null,null,null,null,null,null,null,null,null,"女",0,null,null,null,null,null,null,null,null,null,null,null,"2女",7,52,142,140,63,4,0,408,0,0,2,0,0,0,0,2,410]
["南",null,0,{"$f":"SUM(D31:D32)","v":0},0,0,0,0,0,0,0,0,null,"南",null,0,{"$f":"SUM(Q31:Q32)","v":0},0,0,0,0,0,0,0,0,null,"55　清田区 計",null,10,106,284,275,133,10,0,818,1,2,2,1,0,0,0,6,824]
[null,"男",0,null,null,null,null,null,null,null,null,null,null,null,"男",0,null,null,null,null,null,null,null,null,null,null,"60　南区","1男",8,85,182,186,79,9,0,549,1,2,3,3,1,0,1,11,560]
[null,"女",0,null,null,null,null,null,null,null,null,null,null,null,"女",0,null,null,null,null,null,null,null,null,null,null,null,"2女",5,74,180,178,66,9,1,513,2,2,2,4,2,0,0,12,525]
["西",null,0,{"$f":"SUM(D34:D35)","v":0},0,0,0,0,0,0,0,0,null,"西",null,0,{"$f":"SUM(Q34:Q35)","v":0},0,0,0,0,0,0,0,0,null,"60　南区 計",null,13,159,362,364,145,18,1,1062,3,4,5,7,3,0,1,23,1085]
[null,"男",0,null,null,null,null,null,null,null,null,null,null,null,"男",0,null,null,null,null,null,null,null,null,null,null,"70　西区","1男",11,116,360,304,98,12,0,901,2,2,2,2,4,1,0,13,914]
[null,"女",0,null,null,null,null,null,null,null,null,null,null,null,"女",0,null,null,null,null,null,null,null,null,null,null,null,"2女",10,99,317,299,118,13,1,857,3,5,3,4,1,2,0,18,875]
["手 　　稲",null,0,{"$f":"SUM(D37:D38)","v":0},0,0,0,0,0,0,0,0,null,"手　 　稲",null,0,{"$f":"SUM(Q37:Q38)","v":0},0,0,0,0,0,0,0,0,null,"70　西区 計",null,21,215,677,603,216,25,1,1758,5,7,5,6,5,3,0,31,1789]
[null,"男",0,null,null,null,null,null,null,null,null,null,null,null,"男",0,null,null,null,null,null,null,null,null,null,null,"75　手稲区","1男",7,74,177,154,51,9,0,472,0,3,3,2,0,0,1,9,481]
[null,"女",0,null,null,null,null,null,null,null,null,null,null,null,"女",0,null,null,null,null,null,null,null,null,null,null,null,"2女",10,67,169,147,69,5,0,467,1,2,0,1,2,0,0,6,473]
[null,null,"出　生　数　に　対　す　る　割　合　（％)",null,null,null,null,null,null,null,null,null,null,null,null,"出　生　数　に　対　す　る　割　合　（％)",null,null,null,null,null,null,null,null,null,null,"75　手稲区 計",null,17,141,346,301,120,14,0,939,1,5,3,3,2,0,1,15,954]
["総数",null,{"$f":"SUM(D40:L40)","v":{"$error":"#DIV/0!"}},{"$f":"D6/$C6*100","v":{"$error":"#DIV/0!"}},{"$f":"E6/$C6*100","v":{"$error":"#DIV/0!"}},{"$error":"#DIV/0!"},{"$error":"#DIV/0!"},{"$error":"#DIV/0!"},{"$error":"#DIV/0!"},{"$error":"#DIV/0!"},{"$error":"#DIV/0!"},{"$error":"#DIV/0!"},null,"総数",null,{"$f":"SUM(Q40:Y40)","v":{"$error":"#DIV/0!"}},{"$f":"Q6/$P6*100","v":{"$error":"#DIV/0!"}},{"$error":"#DIV/0!"},{"$error":"#DIV/0!"},{"$error":"#DIV/0!"},{"$error":"#DIV/0!"},{"$error":"#DIV/0!"},{"$error":"#DIV/0!"},{"$error":"#DIV/0!"},{"$error":"#DIV/0!"},null,"総計",null,204,2071,5580,5040,1833,207,4,14939,42,73,95,89,60,11,3,373,15312]
["中央",null,{"$f":"SUM(D41:L41)","v":{"$error":"#DIV/0!"}},{"$f":"D7/$C7*100","v":{"$error":"#DIV/0!"}},{"$error":"#DIV/0!"},{"$error":"#DIV/0!"},{"$error":"#DIV/0!"},{"$error":"#DIV/0!"},{"$error":"#DIV/0!"},{"$error":"#DIV/0!"},{"$error":"#DIV/0!"},{"$error":"#DIV/0!"},null,"中央",null,{"$f":"SUM(Q41:Y41)","v":{"$error":"#DIV/0!"}},{"$f":"Q7/$P7*100","v":{"$error":"#DIV/0!"}},{"$error":"#DIV/0!"},{"$error":"#DIV/0!"},{"$error":"#DIV/0!"},{"$error":"#DIV/0!"},{"$error":"#DIV/0!"},{"$error":"#DIV/0!"},{"$error":"#DIV/0!"},{"$error":"#DIV/0!"}]
["北",null,{"$error":"#DIV/0!"},{"$error":"#DIV/0!"},{"$error":"#DIV/0!"},{"$error":"#DIV/0!"},{"$error":"#DIV/0!"},{"$error":"#DIV/0!"},{"$error":"#DIV/0!"},{"$error":"#DIV/0!"},{"$error":"#DIV/0!"},{"$error":"#DIV/0!"},null,"北",null,{"$error":"#DIV/0!"},{"$f":"Q8/$P8*100","v":{"$error":"#DIV/0!"}},{"$error":"#DIV/0!"},{"$error":"#DIV/0!"},{"$error":"#DIV/0!"},{"$error":"#DIV/0!"},{"$error":"#DIV/0!"},{"$error":"#DIV/0!"},{"$error":"#DIV/0!"},{"$error":"#DIV/0!"}]
["東",null,{"$error":"#DIV/0!"},{"$error":"#DIV/0!"},{"$error":"#DIV/0!"},{"$error":"#DIV/0!"},{"$error":"#DIV/0!"},{"$error":"#DIV/0!"},{"$error":"#DIV/0!"},{"$error":"#DIV/0!"},{"$error":"#DIV/0!"},{"$error":"#DIV/0!"},null,"東",null,{"$error":"#DIV/0!"},{"$f":"Q9/$P9*100","v":{"$error":"#DIV/0!"}},{"$error":"#DIV/0!"},{"$error":"#DIV/0!"},{"$error":"#DIV/0!"},{"$error":"#DIV/0!"},{"$error":"#DIV/0!"},{"$error":"#DIV/0!"},{"$error":"#DIV/0!"},{"$error":"#DIV/0!"}]
["白石",null,{"$error":"#DIV/0!"},{"$error":"#DIV/0!"},{"$error":"#DIV/0!"},{"$error":"#DIV/0!"},{"$error":"#DIV/0!"},{"$error":"#DIV/0!"},{"$error":"#DIV/0!"},{"$error":"#DIV/0!"},{"$error":"#DIV/0!"},{"$error":"#DIV/0!"},null,"白石",null,{"$error":"#DIV/0!"},{"$f":"Q10/$P10*100","v":{"$error":"#DIV/0!"}},{"$error":"#DIV/0!"},{"$error":"#DIV/0!"},{"$error":"#DIV/0!"},{"$error":"#DIV/0!"},{"$error":"#DIV/0!"},{"$error":"#DIV/0!"},{"$error":"#DIV/0!"},{"$error":"#DIV/0!"}]
["厚別",null,{"$error":"#DIV/0!"},{"$error":"#DIV/0!"},{"$error":"#DIV/0!"},{"$error":"#DIV/0!"},{"$error":"#DIV/0!"},{"$error":"#DIV/0!"},{"$error":"#DIV/0!"},{"$error":"#DIV/0!"},{"$error":"#DIV/0!"},{"$error":"#DIV/0!"},null,"厚別",null,{"$error":"#DIV/0!"},{"$f":"Q11/$P11*100","v":{"$error":"#DIV/0!"}},{"$error":"#DIV/0!"},{"$error":"#DIV/0!"},{"$error":"#DIV/0!"},{"$error":"#DIV/0!"},{"$error":"#DIV/0!"},{"$error":"#DIV/0!"},{"$error":"#DIV/0!"},{"$error":"#DIV/0!"}]
["豊平",null,{"$error":"#DIV/0!"},{"$error":"#DIV/0!"},{"$error":"#DIV/0!"},{"$error":"#DIV/0!"},{"$error":"#DIV/0!"},{"$error":"#DIV/0!"},{"$error":"#DIV/0!"},{"$error":"#DIV/0!"},{"$error":"#DIV/0!"},{"$error":"#DIV/0!"},null,"豊平",null,{"$error":"#DIV/0!"},{"$f":"Q12/$P12*100","v":{"$error":"#DIV/0!"}},{"$error":"#DIV/0!"},{"$error":"#DIV/0!"},{"$error":"#DIV/0!"},{"$error":"#DIV/0!"},{"$error":"#DIV/0!"},{"$error":"#DIV/0!"},{"$error":"#DIV/0!"},{"$error":"#DIV/0!"}]
["清田",null,{"$error":"#DIV/0!"},{"$error":"#DIV/0!"},{"$error":"#DIV/0!"},{"$error":"#DIV/0!"},{"$error":"#DIV/0!"},{"$error":"#DIV/0!"},{"$error":"#DIV/0!"},{"$error":"#DIV/0!"},{"$error":"#DIV/0!"},{"$error":"#DIV/0!"},null,"清田",null,{"$error":"#DIV/0!"},{"$f":"Q13/$P13*100","v":{"$error":"#DIV/0!"}},{"$error":"#DIV/0!"},{"$error":"#DIV/0!"},{"$error":"#DIV/0!"},{"$error":"#DIV/0!"},{"$error":"#DIV/0!"},{"$error":"#DIV/0!"},{"$error":"#DIV/0!"},{"$error":"#DIV/0!"}]
["南",null,{"$error":"#DIV/0!"},{"$error":"#DIV/0!"},{"$error":"#DIV/0!"},{"$error":"#DIV/0!"},{"$error":"#DIV/0!"},{"$error":"#DIV/0!"},{"$error":"#DIV/0!"},{"$error":"#DIV/0!"},{"$error":"#DIV/0!"},{"$error":"#DIV/0!"},null,"南",null,{"$error":"#DIV/0!"},{"$f":"Q14/$P14*100","v":{"$error":"#DIV/0!"}},{"$error":"#DIV/0!"},{"$error":"#DIV/0!"},{"$error":"#DIV/0!"},{"$error":"#DIV/0!"},{"$error":"#DIV/0!"},{"$error":"#DIV/0!"},{"$error":"#DIV/0!"},{"$error":"#DIV/0!"}]
["西",null,{"$error":"#DIV/0!"},{"$error":"#DIV/0!"},{"$error":"#DIV/0!"},{"$error":"#DIV/0!"},{"$error":"#DIV/0!"},{"$error":"#DIV/0!"},{"$error":"#DIV/0!"},{"$error":"#DIV/0!"},{"$error":"#DIV/0!"},{"$error":"#DIV/0!"},null,"西",null,{"$error":"#DIV/0!"},{"$f":"Q15/$P15*100","v":{"$error":"#DIV/0!"}},{"$error":"#DIV/0!"},{"$error":"#DIV/0!"},{"$error":"#DIV/0!"},{"$error":"#DIV/0!"},{"$error":"#DIV/0!"},{"$error":"#DIV/0!"},{"$error":"#DIV/0!"},{"$error":"#DIV/0!"}]
["手稲",null,{"$error":"#DIV/0!"},{"$error":"#DIV/0!"},{"$error":"#DIV/0!"},{"$error":"#DIV/0!"},{"$error":"#DIV/0!"},{"$error":"#DIV/0!"},{"$error":"#DIV/0!"},{"$error":"#DIV/0!"},{"$error":"#DIV/0!"},{"$error":"#DIV/0!"},null,"手稲",null,{"$error":"#DIV/0!"},{"$f":"Q16/$P16*100","v":{"$error":"#DIV/0!"}},{"$error":"#DIV/0!"},{"$error":"#DIV/0!"},{"$error":"#DIV/0!"},{"$error":"#DIV/0!"},{"$error":"#DIV/0!"},{"$error":"#DIV/0!"},{"$error":"#DIV/0!"},{"$error":"#DIV/0!"}]

{"sheet":"区別合計特殊出生率","index":28,"n_rows":40,"n_cols":27,"rows_kept":40,"cut":false,"hidden":false,"merged":[]}
["区別合計特殊出生率"]
[]
["区","合計特殊\n出生率",null,null,{"$f":"[1]人口!B9","v":"(国調年)日本人推計人口\n(国調年以外)国調ベース人口"},{"$f":"[1]人口!C9","v":"１月"},{"$f":"[1]人口!D9","v":"２月"},{"$f":"[1]人口!E9","v":"３月"},{"$f":"[1]人口!F9","v":"４月"},{"$f":"[1]人口!G9","v":"５月"},{"$f":"[1]人口!H9","v":"６月"},{"$f":"[1]人口!I9","v":"７月"},{"$f":"[1]人口!J9","v":"８月"},{"$f":"[1]人口!K9","v":"９月"},{"$f":"[1]人口!L9","v":"１０月"},{"$f":"[1]人口!M9","v":"１１月"},{"$f":"[1]人口!N9","v":"１２月"},null,"区","総数","15～19","20～24","25～29","30～34","35～39","40～44","45～49"]
["総数",{"$f":"T4","v":1.137415445058547},null,null,{"$f":"[1]人口!B10","v":1965940},{"$f":"[1]人口!C10","v":1963626},{"$f":"[1]人口!D10","v":1962987},{"$f":"[1]人口!E10","v":1962570},{"$f":"[1]人口!F10","v":1961225},{"$f":"[1]人口!G10","v":1965343},{"$f":"[1]人口!H10","v":1965889},{"$f":"[1]人口!I10","v":1965784},{"$f":"[1]人口!J10","v":1966073},{"$f":"[1]人口!K10","v":1966174},{"$f":"[1]人口!L10","v":1965940},{"$f":"[1]人口!M10","v":1966523},{"$f":"[1]人口!N10","v":1966717},null,"総数",{"$f":"SUM(U4:AA4)","v":1.137415445058547},{"$f":"U17/U30*5","v":1.2616891791598635E-2},{"$f":"V17/V30*5","v":0.11473503855097295},0.30896042336905827,0.40426323173927003,0.24685508154624519,4.8726774010628901E-2,1.2580040507730434E-3]
["中央",{"$f":"T5","v":1.0343977873390569},null,null,{"$f":"[1]人口!B11","v":242916},{"$f":"[1]人口!C11","v":241575},{"$f":"[1]人口!D11","v":241561},{"$f":"[1]人口!E11","v":241542},{"$f":"[1]人口!F11","v":241468},{"$f":"[1]人口!G11","v":242331},{"$f":"[1]人口!H11","v":242596},{"$f":"[1]人口!I11","v":242683},{"$f":"[1]人口!J11","v":242922},{"$f":"[1]人口!K11","v":243054},{"$f":"[1]人口!L11","v":242916},{"$f":"[1]人口!M11","v":243105},{"$f":"[1]人口!N11","v":243091},null,"中央",{"$f":"SUM(U5:AA5)","v":1.0343977873390569},1.025524156791249E-2,9.0374408262803033E-2,0.23703428642158683,0.36330340264650285,0.26059179556153328,7.1928071928071935E-2,9.1058095064651238E-4]
["北",1.1384407103328884,null,null,{"$f":"[1]人口!B12","v":288114},{"$f":"[1]人口!C12","v":287867},{"$f":"[1]人口!D12","v":287919},{"$f":"[1]人口!E12","v":287868},{"$f":"[1]人口!F12","v":287097},{"$f":"[1]人口!G12","v":287651},{"$f":"[1]人口!H12","v":287724},{"$f":"[1]人口!I12","v":287717},{"$f":"[1]人口!J12","v":287907},{"$f":"[1]人口!K12","v":287874},{"$f":"[1]人口!L12","v":288114},{"$f":"[1]人口!M12","v":288179},{"$f":"[1]人口!N12","v":288345},null,"北",1.1384407103328884,1.015625E-2,0.10715729882733521,0.32351691915616593,0.39782449278904908,0.25147928994082841,4.7421190497696691E-2,8.8526912181303118E-4]
["東",1.2184032818374555,null,null,{"$f":"[1]人口!B13","v":264183},{"$f":"[1]人口!C13","v":264382},{"$f":"[1]人口!D13","v":264221},{"$f":"[1]人口!E13","v":263958},{"$f":"[1]人口!F13","v":263845},{"$f":"[1]人口!G13","v":264250},{"$f":"[1]人口!H13","v":264337},{"$f":"[1]人口!I13","v":264281},{"$f":"[1]人口!J13","v":264234},{"$f":"[1]人口!K13","v":264188},{"$f":"[1]人口!L13","v":264183},{"$f":"[1]人口!M13","v":264125},{"$f":"[1]人口!N13","v":264116},null,"東",1.2184032818374555,2.4857300681274168E-2,0.13139905818016101,0.34344100197758737,0.43318472105072897,0.23504505482575183,4.8586143231950242E-2,1.89000189000189E-3]
["白石",1.2376665192030247,null,null,{"$f":"[1]人口!B14","v":211496},{"$f":"[1]人口!C14","v":210754},{"$f":"[1]人口!D14","v":210709},{"$f":"[1]人口!E14","v":210721},{"$f":"[1]人口!F14","v":210690},{"$f":"[1]人口!G14","v":211051},{"$f":"[1]人口!H14","v":211180},{"$f":"[1]人口!I14","v":211220},{"$f":"[1]人口!J14","v":211381},{"$f":"[1]人口!K14","v":211492},{"$f":"[1]人口!L14","v":211496},{"$f":"[1]人口!M14","v":211681},{"$f":"[1]人口!N14","v":211724},null,"白石",1.2376665192030247,1.2521913348359628E-2,0.16660630206446939,0.33541698429638667,0.42535675082327112,0.25309710936459306,4.4109112013929197E-2,5.5834729201563373E-4]
["厚別",1.0463892763776905,null,null,{"$f":"[1]人口!B15","v":126230},{"$f":"[1]人口!C15","v":126355},{"$f":"[1]人口!D15","v":126268},{"$f":"[1]人口!E15","v":126294},{"$f":"[1]人口!F15","v":126225},{"$f":"[1]人口!G15","v":126393},{"$f":"[1]人口!H15","v":126389},{"$f":"[1]人口!I15","v":126306},{"$f":"[1]人口!J15","v":126270},{"$f":"[1]人口!K15","v":126239},{"$f":"[1]人口!L15","v":126230},{"$f":"[1]人口!M15","v":126211},{"$f":"[1]人口!N15","v":126160},null,"厚別",1.0463892763776905,1.0355540214014497E-2,7.4527989400463734E-2,0.26752767527675275,0.3982586262495969,0.248015873015873,4.7703572220989574E-2,0]
["豊平",1.1050630513320499,null,null,{"$f":"[1]人口!B16","v":222042},{"$f":"[1]人口!C16","v":221277},{"$f":"[1]人口!D16","v":221270},{"$f":"[1]人口!E16","v":221107},{"$f":"[1]人口!F16","v":221381},{"$f":"[1]人口!G16","v":221868},{"$f":"[1]人口!H16","v":221917},{"$f":"[1]人口!I16","v":221945},{"$f":"[1]人口!J16","v":221923},{"$f":"[1]人口!K16","v":221940},{"$f":"[1]人口!L16","v":222042},{"$f":"[1]人口!M16","v":222086},{"$f":"[1]人口!N16","v":222270},null,"豊平",1.1050630513320499,2.1226415094339621E-2,0.11916502301117685,0.30377559159797929,0.39868371092266808,0.21706956092747903,4.4597493507959808E-2,5.4525627044711017E-4]
["清田",1.191998278144442,null,null,{"$f":"[1]人口!B17","v":115272},{"$f":"[1]人口!C17","v":115672},{"$f":"[1]人口!D17","v":115655},{"$f":"[1]人口!E17","v":115666},{"$f":"[1]人口!F17","v":115471},{"$f":"[1]人口!G17","v":115415},{"$f":"[1]人口!H17","v":115344},{"$f":"[1]人口!I17","v":115338},{"$f":"[1]人口!J17","v":115362},{"$f":"[1]人口!K17","v":115314},{"$f":"[1]人口!L17","v":115272},{"$f":"[1]人口!M17","v":115250},{"$f":"[1]人口!N17","v":115185},null,"清田",1.191998278144442,5.2650052650052648E-3,0.11580658268996344,0.33415233415233414,0.40917782026768645,0.27826086956521739,4.5958048550553854E-2,3.3776176536816035E-3]
["南",1.0259412132870365,null,null,{"$f":"[1]人口!B18","v":137851},{"$f":"[1]人口!C18","v":138865},{"$f":"[1]人口!D18","v":138522},{"$f":"[1]人口!E18","v":138417},{"$f":"[1]人口!F18","v":138078},{"$f":"[1]人口!G18","v":138868},{"$f":"[1]人口!H18","v":138775},{"$f":"[1]人口!I18","v":138763},{"$f":"[1]人口!J18","v":138309},{"$f":"[1]人口!K18","v":138205},{"$f":"[1]人口!L18","v":137851},{"$f":"[1]人口!M18","v":137848},{"$f":"[1]人口!N18","v":137766},null,"南",1.0259412132870365,8.7997184090109117E-3,8.2408341742347804E-2,0.30279800689919512,0.37696503047802371,0.21210483653066739,4.0779338468509285E-2,2.0859407592824365E-3]
["西",1.1927759177592938,null,null,{"$f":"[1]人口!B19","v":215942},{"$f":"[1]人口!C19","v":214956},{"$f":"[1]人口!D19","v":214993},{"$f":"[1]人口!E19","v":215070},{"$f":"[1]人口!F19","v":215208},{"$f":"[1]人口!G19","v":215645},{"$f":"[1]人口!H19","v":215744},{"$f":"[1]人口!I19","v":215732},{"$f":"[1]人口!J19","v":215856},{"$f":"[1]人口!K19","v":215926},{"$f":"[1]人口!L19","v":215942},{"$f":"[1]人口!M19","v":216124},{"$f":"[1]人口!N19","v":216116},null,"西",1.1927759177592938,7.0455612963832778E-3,0.10971149939049168,0.33552865788536845,0.42023882424984693,0.27577457264957261,4.2785136560778342E-2,1.691665726852374E-3]
["手稲",1.1396337851138483,null,null,{"$f":"[1]人口!B20","v":141894},{"$f":"[1]人口!C20","v":141923},{"$f":"[1]人口!D20","v":141869},{"$f":"[1]人口!E20","v":141927},{"$f":"[1]人口!F20","v":141762},{"$f":"[1]人口!G20","v":141871},{"$f":"[1]人口!H20","v":141883},{"$f":"[1]人口!I20","v":141799},{"$f":"[1]人口!J20","v":141909},{"$f":"[1]人口!K20","v":141942},{"$f":"[1]人口!L20","v":141894},{"$f":"[1]人口!M20","v":141914},{"$f":"[1]人口!N20","v":141944},null,"手稲",1.1396337851138483,8.0000000000000002E-3,0.12858072916666666,0.31261359505634312,0.41416074357572441,0.23277042446371521,4.1572184429327287E-2,1.9361084220716361E-3]
[null,null,null,null,{"$f":"[1]人口!B21","v":365},{"$f":"[1]人口!C21","v":31},{"$f":"[1]人口!D21","v":28},{"$f":"[1]人口!E21","v":31},{"$f":"[1]人口!F21","v":30},{"$f":"[1]人口!G21","v":31},{"$f":"[1]人口!H21","v":30},{"$f":"[1]人口!I21","v":31},{"$f":"[1]人口!J21","v":31},{"$f":"[1]人口!K21","v":30},{"$f":"[1]人口!L21","v":31},{"$f":"[1]人口!M21","v":30},{"$f":"[1]人口!N21","v":31}]
[null,null,null,null,null,null,null,null,null,null,null,null,null,null,null,null,null,null,{"$f":"'7　母の年齢階級・性別，区別出生数・百分率'!A3","v":"区・性"},{"$f":"'7　母の年齢階級・性別，区別出生数・百分率'!C3","v":"総数"},{"$f":"'7　母の年齢階級・性別，区別出生数・百分率'!E3","v":"15～19"},{"$f":"'7　母の年齢階級・性別，区別出生数・百分率'!F3","v":"20～24"},{"$f":"'7　母の年齢階級・性別，区別出生数・百分率'!G3","v":"25～29"},{"$f":"'7　母の年齢階級・性別，区別出生数・百分率'!H3","v":"30～34"},{"$f":"'7　母の年齢階級・性別，区別出生数・百分率'!I3","v":"35～39"},{"$f":"'7　母の年齢階級・性別，区別出生数・百分率'!J3","v":"40～44"},{"$f":"'7　母の年齢階級・性別，区別出生数・百分率'!K3","v":"45～49"}]
[null,null,null,null,null,null,null,null,null,null,null,null,null,null,null,null,null,null,{"$f":"'7　母の年齢階級・性別，区別出生数・百分率'!A5","v":"総数"},{"$f":"'7　母の年齢階級・性別，区別出生数・百分率'!C5","v":13248},{"$f":"'7　母の年齢階級・性別，区別出生数・百分率'!E5","v":102},{"$f":"'7　母の年齢階級・性別，区別出生数・百分率'!F5","v":1125},{"$f":"'7　母の年齢階級・性別，区別出生数・百分率'!G5","v":3246},{"$f":"'7　母の年齢階級・性別，区別出生数・百分率'!H5","v":4783},{"$f":"'7　母の年齢階級・性別，区別出生数・百分率'!I5","v":3230},{"$f":"'7　母の年齢階級・性別，区別出生数・百分率'!J5","v":739},{"$f":"'7　母の年齢階級・性別，区別出生数・百分率'!K5","v":20}]
[null,null,null,null,null,null,null,null,null,null,null,null,null,null,null,null,null,null,{"$f":"'7　母の年齢階級・性別，区別出生数・百分率'!A8","v":"中央"},{"$f":"'7　母の年齢階級・性別，区別出生数・百分率'!C8","v":1744},{"$f":"'7　母の年齢階級・性別，区別出生数・百分率'!E8","v":9},{"$f":"'7　母の年齢階級・性別，区別出生数・百分率'!F8","v":126},{"$f":"'7　母の年齢階級・性別，区別出生数・百分率'!G8","v":383},{"$f":"'7　母の年齢階級・性別，区別出生数・百分率'!H8","v":615},{"$f":"'7　母の年齢階級・性別，区別出生数・百分率'!I8","v":465},{"$f":"'7　母の年齢階級・性別，区別出生数・百分率'!J8","v":144},{"$f":"'7　母の年齢階級・性別，区別出生数・百分率'!K8","v":2}]
[null,null,null,null,null,null,null,null,null,null,null,null,null,null,null,null,null,null,{"$f":"'7　母の年齢階級・性別，区別出生数・百分率'!A11","v":"北"},{"$f":"'7　母の年齢階級・性別，区別出生数・百分率'!C11","v":1847},{"$f":"'7　母の年齢階級・性別，区別出生数・百分率'!E11","v":13},{"$f":"'7　母の年齢階級・性別，区別出生数・百分率'!F11","v":159},{"$f":"'7　母の年齢階級・性別，区別出生数・百分率'!G11","v":457},{"$f":"'7　母の年齢階級・性別，区別出生数・百分率'!H11","v":651},{"$f":"'7　母の年齢階級・性別，区別出生数・百分率'!I11","v":459},{"$f":"'7　母の年齢階級・性別，区別出生数・百分率'!J11","v":105},{"$f":"'7　母の年齢階級・性別，区別出生数・百分率'!K11","v":2}]
[null,null,null,null,null,null,null,null,null,null,null,null,null,null,null,null,null,null,{"$f":"'7　母の年齢階級・性別，区別出生数・百分率'!A14","v":"東"},{"$f":"'7　母の年齢階級・性別，区別出生数・百分率'!C14","v":1978},{"$f":"'7　母の年齢階級・性別，区別出生数・百分率'!E14","v":27},{"$f":"'7　母の年齢階級・性別，区別出生数・百分率'!F14","v":173},{"$f":"'7　母の年齢階級・性別，区別出生数・百分率'!G14","v":521},{"$f":"'7　母の年齢階級・性別，区別出生数・百分率'!H14","v":719},{"$f":"'7　母の年齢階級・性別，区別出生数・百分率'!I14","v":433},{"$f":"'7　母の年齢階級・性別，区別出生数・百分率'!J14","v":100},{"$f":"'7　母の年齢階級・性別，区別出生数・百分率'!K14","v":4}]
[null,null,null,null,null,null,null,null,null,null,null,null,null,null,null,null,null,null,{"$f":"'7　母の年齢階級・性別，区別出生数・百分率'!A17","v":"白石"},{"$f":"'7　母の年齢階級・性別，区別出生数・百分率'!C17","v":1711},{"$f":"'7　母の年齢階級・性別，区別出生数・百分率'!E17","v":10},{"$f":"'7　母の年齢階級・性別，区別出生数・百分率'!F17","v":184},{"$f":"'7　母の年齢階級・性別，区別出生数・百分率'!G17","v":440},{"$f":"'7　母の年齢階級・性別，区別出生数・百分率'!H17","v":620},{"$f":"'7　母の年齢階級・性別，区別出生数・百分率'!I17","v":380},{"$f":"'7　母の年齢階級・性別，区別出生数・百分率'!J17","v":76},{"$f":"'7　母の年齢階級・性別，区別出生数・百分率'!K17","v":1}]
[null,null,null,null,null,null,null,null,null,null,null,null,null,null,null,null,null,null,{"$f":"'7　母の年齢階級・性別，区別出生数・百分率'!A20","v":"厚別"},{"$f":"'7　母の年齢階級・性別，区別出生数・百分率'!C20","v":661},{"$f":"'7　母の年齢階級・性別，区別出生数・百分率'!E20","v":6},{"$f":"'7　母の年齢階級・性別，区別出生数・百分率'!F20","v":45},{"$f":"'7　母の年齢階級・性別，区別出生数・百分率'!G20","v":145},{"$f":"'7　母の年齢階級・性別，区別出生数・百分率'!H20","v":247},{"$f":"'7　母の年齢階級・性別，区別出生数・百分率'!I20","v":175},{"$f":"'7　母の年齢階級・性別，区別出生数・百分率'!J20","v":43},{"$f":"'7　母の年齢階級・性別，区別出生数・百分率'!K20","v":0}]
[null,null,null,null,null,null,null,null,null,null,null,null,null,null,null,null,null,null,{"$f":"'7　母の年齢階級・性別，区別出生数・百分率'!A23","v":"豊平"},{"$f":"'7　母の年齢階級・性別，区別出生数・百分率'!C23","v":1682},{"$f":"'7　母の年齢階級・性別，区別出生数・百分率'!E23","v":18},{"$f":"'7　母の年齢階級・性別，区別出生数・百分率'!F23","v":145},{"$f":"'7　母の年齢階級・性別，区別出生数・百分率'!G23","v":457},{"$f":"'7　母の年齢階級・性別，区別出生数・百分率'!H23","v":630},{"$f":"'7　母の年齢階級・性別，区別出生数・百分率'!I23","v":352},{"$f":"'7　母の年齢階級・性別，区別出生数・百分率'!J23","v":79},{"$f":"'7　母の年齢階級・性別，区別出生数・百分率'!K23","v":1}]
[null,null,null,null,null,null,null,null,null,null,null,null,null,null,null,null,null,null,{"$f":"'7　母の年齢階級・性別，区別出生数・百分率'!A26","v":"清田"},{"$f":"'7　母の年齢階級・性別，区別出生数・百分率'!C26","v":644},{"$f":"'7　母の年齢階級・性別，区別出生数・百分率'!E26","v":3},{"$f":"'7　母の年齢階級・性別，区別出生数・百分率'!F26","v":57},{"$f":"'7　母の年齢階級・性別，区別出生数・百分率'!G26","v":136},{"$f":"'7　母の年齢階級・性別，区別出生数・百分率'!H26","v":214},{"$f":"'7　母の年齢階級・性別，区別出生数・百分率'!I26","v":192},{"$f":"'7　母の年齢階級・性別，区別出生数・百分率'!J26","v":39},{"$f":"'7　母の年齢階級・性別，区別出生数・百分率'!K26","v":3}]
[null,null,null,null,null,null,null,null,null,null,null,null,null,null,null,null,null,null,{"$f":"'7　母の年齢階級・性別，区別出生数・百分率'!A29","v":"南"},{"$f":"'7　母の年齢階級・性別，区別出生数・百分率'!C29","v":642},{"$f":"'7　母の年齢階級・性別，区別出生数・百分率'!E29","v":5},{"$f":"'7　母の年齢階級・性別，区別出生数・百分率'!F29","v":49},{"$f":"'7　母の年齢階級・性別，区別出生数・百分率'!G29","v":158},{"$f":"'7　母の年齢階級・性別，区別出生数・百分率'!H29","v":235},{"$f":"'7　母の年齢階級・性別，区別出生数・百分率'!I29","v":157},{"$f":"'7　母の年齢階級・性別，区別出生数・百分率'!J29","v":36},{"$f":"'7　母の年齢階級・性別，区別出生数・百分率'!K29","v":2}]
[null,null,null,null,null,null,null,null,null,null,null,null,null,null,null,null,null,null,{"$f":"'7　母の年齢階級・性別，区別出生数・百分率'!A32","v":"西"},{"$f":"'7　母の年齢階級・性別，区別出生数・百分率'!C32","v":1530},{"$f":"'7　母の年齢階級・性別，区別出生数・百分率'!E32","v":6},{"$f":"'7　母の年齢階級・性別，区別出生数・百分率'!F32","v":108},{"$f":"'7　母の年齢階級・性別，区別出生数・百分率'!G32","v":377},{"$f":"'7　母の年齢階級・性別，区別出生数・百分率'!H32","v":549},{"$f":"'7　母の年齢階級・性別，区別出生数・百分率'!I32","v":413},{"$f":"'7　母の年齢階級・性別，区別出生数・百分率'!J32","v":73},{"$f":"'7　母の年齢階級・性別，区別出生数・百分率'!K32","v":3}]
[null,null,null,null,null,null,null,null,null,null,null,null,null,null,null,null,null,null,{"$f":"'7　母の年齢階級・性別，区別出生数・百分率'!A35","v":"手稲"},{"$f":"'7　母の年齢階級・性別，区別出生数・百分率'!C35","v":809},{"$f":"'7　母の年齢階級・性別，区別出生数・百分率'!E35","v":5},{"$f":"'7　母の年齢階級・性別，区別出生数・百分率'!F35","v":79},{"$f":"'7　母の年齢階級・性別，区別出生数・百分率'!G35","v":172},{"$f":"'7　母の年齢階級・性別，区別出生数・百分率'!H35","v":303},{"$f":"'7　母の年齢階級・性別，区別出生数・百分率'!I35","v":204},{"$f":"'7　母の年齢階級・性別，区別出生数・百分率'!J35","v":44},{"$f":"'7　母の年齢階級・性別，区別出生数・百分率'!K35","v":2}]
[]
[null,null,null,null,null,null,null,null,null,null,null,null,null,null,null,null,null,null,{"$f":"[1]女子人口!A12","v":"区"},{"$f":"[1]女子人口!B12","v":"15～49歳"},{"$f":"[1]女子人口!C12","v":"15～19歳"},{"$f":"[1]女子人口!D12","v":"20～24"},{"$f":"[1]女子人口!E12","v":"25～29"},{"$f":"[1]女子人口!F12","v":"30～34"},{"$f":"[1]女子人口!G12","v":"35～39"},{"$f":"[1]女子人口!H12","v":"40～44"},{"$f":"[1]女子人口!I12","v":"45～49"}]
[null,null,null,null,null,null,null,null,null,null,null,null,null,null,null,null,null,null,{"$f":"[1]女子人口!A13","v":"総数"},{"$f":"[1]女子人口!B13","v":421881},{"$f":"[1]女子人口!C13","v":40422},{"$f":"[1]女子人口!D13","v":49026},{"$f":"[1]女子人口!E13","v":52531},{"$f":"[1]女子人口!F13","v":59157},{"$f":"[1]女子人口!G13","v":65423},{"$f":"[1]女子人口!H13","v":75831},{"$f":"[1]女子人口!I13","v":79491}]
[null,null,null,null,null,null,null,null,null,null,null,null,null,null,null,null,null,null,{"$f":"[1]女子人口!A14","v":"中央区"},{"$f":"[1]女子人口!B14","v":57816},{"$f":"[1]女子人口!C14","v":4388},{"$f":"[1]女子人口!D14","v":6971},{"$f":"[1]女子人口!E14","v":8079},{"$f":"[1]女子人口!F14","v":8464},{"$f":"[1]女子人口!G14","v":8922},{"$f":"[1]女子人口!H14","v":10010},{"$f":"[1]女子人口!I14","v":10982}]
[null,null,null,null,null,null,null,null,null,null,null,null,null,null,null,null,null,null,{"$f":"[1]女子人口!A15","v":"北区"},{"$f":"[1]女子人口!B15","v":60557},{"$f":"[1]女子人口!C15","v":6400},{"$f":"[1]女子人口!D15","v":7419},{"$f":"[1]女子人口!E15","v":7063},{"$f":"[1]女子人口!F15","v":8182},{"$f":"[1]女子人口!G15","v":9126},{"$f":"[1]女子人口!H15","v":11071},{"$f":"[1]女子人口!I15","v":11296}]
[null,null,null,null,null,null,null,null,null,null,null,null,null,null,null,null,null,null,{"$f":"[1]女子人口!A16","v":"東区"},{"$f":"[1]女子人口!B16","v":57982},{"$f":"[1]女子人口!C16","v":5431},{"$f":"[1]女子人口!D16","v":6583},{"$f":"[1]女子人口!E16","v":7585},{"$f":"[1]女子人口!F16","v":8299},{"$f":"[1]女子人口!G16","v":9211},{"$f":"[1]女子人口!H16","v":10291},{"$f":"[1]女子人口!I16","v":10582}]
[null,null,null,null,null,null,null,null,null,null,null,null,null,null,null,null,null,null,{"$f":"[1]女子人口!A17","v":"白石区"},{"$f":"[1]女子人口!B17","v":48439},{"$f":"[1]女子人口!C17","v":3993},{"$f":"[1]女子人口!D17","v":5522},{"$f":"[1]女子人口!E17","v":6559},{"$f":"[1]女子人口!F17","v":7288},{"$f":"[1]女子人口!G17","v":7507},{"$f":"[1]女子人口!H17","v":8615},{"$f":"[1]女子人口!I17","v":8955}]
[null,null,null,null,null,null,null,null,null,null,null,null,null,null,null,null,null,null,{"$f":"[1]女子人口!A18","v":"厚別区"},{"$f":"[1]女子人口!B18","v":25001},{"$f":"[1]女子人口!C18","v":2897},{"$f":"[1]女子人口!D18","v":3019},{"$f":"[1]女子人口!E18","v":2710},{"$f":"[1]女子人口!F18","v":3101},{"$f":"[1]女子人口!G18","v":3528},{"$f":"[1]女子人口!H18","v":4507},{"$f":"[1]女子人口!I18","v":5239}]
[null,null,null,null,null,null,null,null,null,null,null,null,null,null,null,null,null,null,{"$f":"[1]女子人口!A19","v":"豊平区"},{"$f":"[1]女子人口!B19","v":51882},{"$f":"[1]女子人口!C19","v":4240},{"$f":"[1]女子人口!D19","v":6084},{"$f":"[1]女子人口!E19","v":7522},{"$f":"[1]女子人口!F19","v":7901},{"$f":"[1]女子人口!G19","v":8108},{"$f":"[1]女子人口!H19","v":8857},{"$f":"[1]女子人口!I19","v":9170}]
[null,null,null,null,null,null,null,null,null,null,null,null,null,null,null,null,null,null,{"$f":"[1]女子人口!A20","v":"清田区"},{"$f":"[1]女子人口!B20","v":22094},{"$f":"[1]女子人口!C20","v":2849},{"$f":"[1]女子人口!D20","v":2461},{"$f":"[1]女子人口!E20","v":2035},{"$f":"[1]女子人口!F20","v":2615},{"$f":"[1]女子人口!G20","v":3450},{"$f":"[1]女子人口!H20","v":4243},{"$f":"[1]女子人口!I20","v":4441}]
[null,null,null,null,null,null,null,null,null,null,null,null,null,null,null,null,null,null,{"$f":"[1]女子人口!A21","v":"南区"},{"$f":"[1]女子人口!B21","v":24449},{"$f":"[1]女子人口!C21","v":2841},{"$f":"[1]女子人口!D21","v":2973},{"$f":"[1]女子人口!E21","v":2609},{"$f":"[1]女子人口!F21","v":3117},{"$f":"[1]女子人口!G21","v":3701},{"$f":"[1]女子人口!H21","v":4414},{"$f":"[1]女子人口!I21","v":4794}]
[null,null,null,null,null,null,null,null,null,null,null,null,null,null,null,null,null,null,{"$f":"[1]女子人口!A22","v":"西区"},{"$f":"[1]女子人口!B22","v":46216},{"$f":"[1]女子人口!C22","v":4258},{"$f":"[1]女子人口!D22","v":4922},{"$f":"[1]女子人口!E22","v":5618},{"$f":"[1]女子人口!F22","v":6532},{"$f":"[1]女子人口!G22","v":7488},{"$f":"[1]女子人口!H22","v":8531},{"$f":"[1]女子人口!I22","v":8867}]
[null,null,null,null,null,null,null,null,null,null,null,null,null,null,null,null,null,null,{"$f":"[1]女子人口!A23","v":"手稲区"},{"$f":"[1]女子人口!B23","v":27445},{"$f":"[1]女子人口!C23","v":3125},{"$f":"[1]女子人口!D23","v":3072},{"$f":"[1]女子人口!E23","v":2751},{"$f":"[1]女子人口!F23","v":3658},{"$f":"[1]女子人口!G23","v":4382},{"$f":"[1]女子人口!H23","v":5292},{"$f":"[1]女子人口!I23","v":5165}]