{"text_format":"1","workbook":"xlsx","n_sheets":13,"sheets":["1　年次別，乳児死亡数・新生児死亡数・率・死亡性比・割合","2　区別，年次別乳児死亡数・率","3　乳児死亡数，月・性・区別","4 年次別，乳児死因順位","5 生存期間別，乳児死亡数・率","6　生存期間・性別，区別乳児死亡数","7　月・性別，乳児死因簡単分類別死亡数","8 死亡の場所別，年次別死亡数・百分率","9 生存期間・性別，乳児簡単死因分類別死亡数","10　体重別，病死乳児死亡数","体重別，単産-複産・母の年齢階級別乳児死亡数","月・性別，区別死亡率","死亡の場所別，区別死亡数"],"not_rendered":{"charts":0,"images":0,"macros":1,"external_links":3,"defined_names":17,"comments":0,"pivot_tables":2},"unopened":[],"bounds":{"document_bytes":16777216,"sheet_cells":100000,"rows_first":2000,"rows_last":500,"rows_between":2000,"halvings":0,"cell_chars":16384,"cell_head_chars":4096},"cells_cut":0,"cells_raw":0,"read":"whole","date_system":"1900"}

{"sheet":"1　年次別，乳児死亡数・新生児死亡数・率・死亡性比・割合","index":0,"n_rows":58,"n_cols":16,"rows_kept":58,"cut":false,"hidden":false,"merged":[[3,5,4,5],[3,0,4,0],[3,2,3,4],[3,11,4,11],[0,0,0,6],[1,0,1,13],[3,13,4,13],[3,1,4,1],[3,6,4,6],[3,7,4,7],[3,12,4,12],[3,8,3,10]]}
["第4章　　　乳　　児　　死　　亡"]
["1　年次別にみた乳児死亡数・乳児死亡率(出生千対)・乳児死亡性比・総死亡中乳児死亡の占め　 る割合・新生児死亡数・新生児死亡率（出生千対）・新生児死亡性比及び乳児\n 　死亡中新生児死亡の占める割合"]
[]
["年次","出生数","乳児死亡数",null,null,"乳児死亡率\n(出生千対)","乳児死亡\n性　　　比","総死亡中乳児\n死亡の占める\n割合　　（％）","新生児死亡数",null,null,"新生児死亡率\n(出生千対)","新生児死亡\n性　　　 　比","乳児死亡中新\n生児死亡の占\nめる割合(％)"]
[null,null,"総数","男","女",null,null,null,"総　数","男","女"]
["1950  昭和25年　",8178,342,"…","…",41.819515774027877,"・",13.317757009345794,"…","…","…","・","・","・",null,2568]
["  55      30",7551,178,100,78,23.573036683882929,128.2051282051282,6.9395711500974659,78,46,32,10.329757647993643,143.75,43.820224719101127,null,2565]
["  60      35",9392,194,102,92,20.7,110.86956521739131,6.6279467031089849,92,"…","…",9.8000000000000007,"・",47.422680412371129,null,2927]
["  65      40",16370,222,"…","…",13.56139279169212,"・",5.702543025944002,159,"…","…",9.7128894318876,"・",71.621621621621628,null,3893]
["  70      45",20411,195,113,82,9.5536720395864982,137.80487804878047,4.1845493562231759,128,81,47,6.2711283131644704,172.34042553191489,65.641025641025635,null,4660]
["  72      47",22017,207,131,76,9.4018258618340376,172.36842105263156,4.3350785340314131,149,91,58,6.7674978425761907,156.89655172413794,71.980676328502412,null,4775]
["  73      48",23759,237,139,98,9.9751673050212553,141.83673469387753,4.5814807655132421,136,81,55,5.7241466391683149,147.27272727272725,57.383966244725734,null,5173]
["  74      49",24525,246,144,102,10.030581039755353,141.1764705882353,4.7711404189294022,155,93,62,6.3200815494393474,150,63.00813008130082,null,5156]
["  75      50",23404,214,116,98,9.1437361134848736,118.36734693877551,3.9592969472710453,150,86,64,6.4091608272090239,134.375,70.09345794392523,null,5405]
["  76      51",22910,191,105,86,8.336970755128764,122.09302325581395,3.4981684981684982,132,76,56,5.7616761239633343,135.71428571428572,69.109947643979055,null,5460]
["  77      52",22286,170,91,79,7.6281073319572821,115.18987341772151,3.0232971723279389,119,64,55,5.3396751323700977,116.36363636363636,70,null,5623]
["  78      53",22251,163,89,74,7.3255134600692102,120.27027027027026,2.85114570578975,116,62,54,5.2132488427486399,114.81481481481481,71.165644171779135,null,5717]
["  79      54",21577,142,83,59,6.5810817073735919,140.67796610169492,2.4335904027420736,92,56,36,4.2637994160448622,155.55555555555557,64.788732394366207,null,5835]
["  80      55",20931,156,77,79,7.4530600544646699,97.468354430379748,2.459791863765374,97,48,49,4.6342745210453398,97.959183673469383,62.179487179487182,null,6342]
["  81      56",19944,129,70,59,6.4681107099879656,118.64406779661016,2.0040391486717413,79,46,33,3.9610910549538714,139.39393939393941,61.240310077519375,null,6437]
["  82      57",20727,120,63,57,5.7895498624981903,110.5263157894737,1.7974835230677051,71,39,32,3.4254836686447629,121.875,59.166666666666664,null,6676]
["  83      58",20608,107,61,46,5.1921583850931681,132.60869565217391,1.5547805870386515,62,39,23,3.0085403726708075,169.56521739130434,57.943925233644855,null,6882]
["  84      59",20274,111,66,45,5.4749926013613495,146.66666666666666,1.6190198366394399,72,44,28,3.551346552234389,157.14285714285714,64.86486486486487,null,6856]
["  85      60",19314,101,48,53,5.2293672983328152,90.566037735849065,1.3977304179352339,63,29,34,3.2618825722273996,85.294117647058826,62.376237623762378,null,7226]
["1986  昭和61年",19130,86,49,37,4.4955567171981183,132.43243243243242,1.206678826995931,48,28,20,2.5091479351803447,140,55.813953488372093,null,7127]
["  87      62",18533,88,42,46,4.748286839691362,91.304347826086953,1.2439920836867402,52,21,31,2.8058058598176228,67.741935483870961,59.090909090909093,null,7074]
["  88      63",18216,80,41,39,4.391743522178305,105.12820512820514,1.030795000644247,44,20,24,2.4154589371980677,83.333333333333343,55,null,7761]
["  89  平成元年　",17479,75,50,25,4.2908633217003258,200,0.92558311736393939,40,28,12,2.2884604382401736,233.33333333333334,53.333333333333336,null,8103]
["  90       2",17425,85,45,40,4.8780487804878048,112.5,1.0268180719980673,47,23,24,2.697274031563845,95.833333333333343,55.294117647058826,null,8278]
["  91       3",17458,63,36,27,3.6086607858861268,133.33333333333331,0.7552145768400863,36,20,16,2.0620918776492152,125,57.142857142857139,null,8342]
["  92       4",17325,57,33,24,3.2900432900432901,137.5,0.64713896457765674,29,17,12,1.673881673881674,141.66666666666669,50.877192982456144,null,8808]
["  93       5",16371,51,29,22,3.1152647975077881,131.81818181818181,0.54094187526516757,20,10,10,1.2216724696108974,100,39.215686274509807,null,9428]
["  94       6",17057,65,40,25,3.8107521838541363,160,0.72755764495186925,33,21,12,1.9346895702644076,175,50.769230769230766,null,8934]
["  95       7",16227,53,26,27,3.2661613360448634,96.296296296296291,0.56394977654820178,25,14,11,1.5406421396438035,127.27272727272727,47.169811320754718,null,9398]
["  96       8",16339,55,35,20,3.3661790807270946,175,0.57821698906644237,31,22,9,1.897300936409817,244.44444444444446,56.36363636363636,null,9512]
["  97       9",15873,52,29,23,3.276003276003276,126.08695652173914,0.52845528455284552,30,14,16,1.89000189000189,87.5,57.692307692307686,null,9840]
["  98      10",16165,45,25,20,2.7837921435199506,125,0.45022511255627812,24,12,12,1.4846891432106404,100,53.333333333333336,null,9995]
["  99      11",15358,32,18,14,2.0836046360203153,128.57142857142858,0.29613177864149548,20,11,9,1.302252897512697,122.22222222222223,62.5,null,10806]
["2000      12",15332,34,23,11,2.2175841377511092,209.09090909090909,0.31481481481481483,13,7,6,0.84789981737542386,116.66666666666667,38.235294117647058,null,10800]
["  01      13",15312,33,15,18,2.1551724137931032,83.333333333333343,0.30547070258261594,19,7,12,1.2408568443051202,58.333333333333336,57.575757575757578,null,10803]
["  02      14",15577,31,18,13,1.9901136290684986,138.46153846153845,0.27800197291722717,15,6,9,0.96295820761378947,66.666666666666657,48.387096774193552,null,11151]
["  03      15",14999,40,20,20,2.6668444562970861,100,0.33987594527997284,20,10,10,1.3334222281485431,100,50,null,11769]
["  04      16",14749,45,26,19,3.0510543087666959,136.84210526315789,0.36443148688046645,23,14,9,1.5594277578140889,155.55555555555557,51.111111111111107,null,12348]
["  05      17",14184,38,21,17,2.6790750141003947,123.52941176470588,0.28996566196108359,25,15,10,1.7625493513818387,150,65.789473684210535,null,13105]
["  06      18",14730,34,13,21,2.3082145281737949,61.904761904761905,0.25625565269822126,16,8,8,1.0862186014935507,100,47.058823529411761,null,13268]
["  07      19",14498,34,19,15,2.3451510553179746,126.66666666666666,0.24209626886926802,17,9,8,1.1725755276589873,112.5,50,null,14044]
["  08      20",14845,34,16,18,2.2903334456045807,88.888888888888886,0.23666991507726576,18,7,11,1.212529471202425,63.636363636363633,52.941176470588239,null,14366]
["  09      21",14506,33,19,14,2.2749207224596715,135.71428571428572,0.22749207224596718,14,7,7,0.96511788225561834,100,42.424242424242422,null,14506]
["  10      22",14739,26,16,10,1.7640274102720672,160,0.16793695904921843,15,10,5,1.0177081213108081,200,57.692307692307686,null,15482]
["  11      23",14491,40,20,20,2.76033400041405,100,0.25116162250408136,20,11,9,1.380167000207025,122.22222222222223,50,null,15926]
["  12      24",14487,34,18,16,2.3469317318975635,112.5,0.20951441952181413,13,5,8,0.8973562504314212,62.5,38.235294117647058,null,16228]
["  13      25",14591,35,17,18,2.3987389486669866,94.444444444444443,0.2077891237235811,17,9,8,1.1651017750668222,112.5,48.571428571428569,null,16844]
["  14      26",14568,26,12,14,1.7847336628226249,85.714285714285708,0.14715870500339598,15,7,8,1.029654036243822,87.5,57.692307692307686,null,17668]
["  15      27",14589,27,19,8,1.8507094386181369,237.5,0.15408320493066258,10,9,1,0.68544794022893962,900,37.037037037037038,null,17523]
["  16      28",14021,29,14,15,2.0683260823051137,93.333333333333329,0.15672287073065283,12,6,6,0.85585906854004701,100,41.379310344827587,null,18504]
["  17      29",13821,25,9,16,1.8088416178279429,56.25,0.13391900578530105,14,7,7,1.0129513059836481,100,56.000000000000007,null,18668]
["  18      30",{"$f":"[1]出生数!$G$4","v":13248},{"$f":"SUM(D57:E57)","v":34},{"$f":"'3　乳児死亡数，月・性・区別'!$C$5","v":16},{"$f":"'3　乳児死亡数，月・性・区別'!$C$6","v":18},{"$f":"C57/B57*1000","v":2.5664251207729469},{"$f":"D57/E57*100","v":88.888888888888886},{"$f":"C57/P57*100","v":0.17577418187457997},{"$f":"SUM(J57:K57)","v":20},{"$f":"'6　生存期間・性別，区別乳児死亡数'!$O$7","v":11},{"$f":"'6　生存期間・性別，区別乳児死亡数'!$O$8","v":9},{"$f":"I57/B57*1000","v":1.5096618357487923},{"$f":"J57/K57*100","v":122.22222222222223},{"$f":"I57/C57*100","v":58.82352941176471},null,{"$f":"'[2]1　年次別，死亡数・粗死亡率・年齢調整死亡率・死亡性比'!B57","v":19343}]
["1)　本市の集計による。"]

{"sheet":"2　区別，年次別乳児死亡数・率","index":1,"n_rows":74,"n_cols":12,"rows_kept":74,"cut":false,"hidden":false,"merged":[[3,1,3,11],[38,1,38,11]]}
["2　区別にみた年次別乳児死亡数及び乳児死亡率（出生千対）"]
[]
["年次","総数","中央区","北区","東区","白石区","厚別区","豊平区","清田区","南区","西区","手稲区"]
[null,"乳児死亡数"]
["  85      60",{"$f":"SUM(C5:L5)","v":101},12,11,20,17,"…",13,"…",7,21,"…"]
["1986  昭和61年",{"$f":"SUM(C6:L6)","v":86},12,15,19,11,"…",14,"…",5,10,"…"]
["1987  昭和62年",{"$f":"SUM(C7:L7)","v":88},6,7,19,14,"…",22,"…",8,12,"…"]
["1988  昭和63年",80,7,12,16,20,"…",11,"…",2,12,"…"]
["  89  平成元年　",75,4,10,7,14,"…",15,"…",11,14,"…"]
["  90       2",85,10,8,10,15,5,13,"…",7,14,3]
["  91       3",63,5,8,9,12,3,11,"…",4,7,4]
["  93       4",57,5,7,10,11,4,9,"…",2,5,4]
["1993   平成5年",51,10,7,10,6,1,6,"…",4,6,1]
["  94       6",65,6,11,14,6,1,11,"…",6,9,1]
["  95       7",53,5,3,9,6,7,11,"…",4,6,2]
["  96       8",55,3,7,5,4,2,15,"…",6,5,8]
["  97       9",52,3,4,8,6,2,12,"…",5,8,4]
["1998  平成10年",45,5,5,3,4,4,12,1,3,7,1]
["  99      11",32,1,7,4,4,2,3,3,1,5,2]
["2000      12",34,4,3,10,0,3,1,4,6,3,0]
["  01      13",33,5,5,7,4,0,5,0,0,6,1]
["  02      14",31,3,4,5,6,1,3,1,1,6,1]
["  03      15",40,3,4,3,10,5,6,1,2,4,2]
["  04      16",45,6,9,10,5,2,6,1,3,1,2]
["  05      17",38,2,4,8,3,6,6,2,1,5,1]
["  06      18",34,1,8,4,7,1,1,2,1,6,3]
["  07      19",34,6,4,4,3,2,7,2,0,4,2]
["  08      20",34,4,6,3,4,1,4,3,2,6,1]
["  09      21",33,2,3,6,8,2,1,2,4,3,2]
["  10      22",26,2,2,8,5,1,1,3,0,2,2]
["  11      23",40,5,6,6,3,2,5,3,3,6,1]
["  12      24",34,3,4,5,6,3,7,1,2,1,2]
["  13      25",35,3,4,6,7,2,2,3,1,4,3]
["  14      26",26,4,4,7,0,2,2,2,0,3,2]
["  15      27",27,6,3,4,5,2,1,0,1,3,2]
["  16      28",29,3,4,3,3,2,9,0,2,1,2]
["  17      29",25,1,1,6,4,0,4,2,2,4,1]
["  18      30",{"$f":"SUM(C38:L38)","v":34},{"$f":"'3　乳児死亡数，月・性・区別'!$C$7","v":6},{"$f":"'3　乳児死亡数，月・性・区別'!$C$10","v":3},{"$f":"'3　乳児死亡数，月・性・区別'!$C$13","v":5},{"$f":"'3　乳児死亡数，月・性・区別'!$C$16","v":4},{"$f":"'3　乳児死亡数，月・性・区別'!$C$19","v":3},{"$f":"'3　乳児死亡数，月・性・区別'!$C$22","v":4},{"$f":"'3　乳児死亡数，月・性・区別'!$C$25","v":2},{"$f":"'3　乳児死亡数，月・性・区別'!$C$28","v":2},{"$f":"'3　乳児死亡数，月・性・区別'!$C$31","v":3},{"$f":"'3　乳児死亡数，月・性・区別'!$C$34","v":2}]
[null,"乳児死亡率"]
["  85      60",5.2293672983328152,6.2532569046378317,4.5342126957955484,6.3593004769475359,4.6384720327421558,"・",4.1573393028461778,"・",4.0983606557377055,6.3176895306859198,"・"]
["1986  昭和61年",4.4955567171981183,6.2111801242236018,6.3829787234042552,6.2830687830687824,2.8534370946822305,"・",4.4628626075868665,"・",3.0156815440289506,3.15059861373661,"・"]
["1987  昭和62年",4.748286839691362,3.2414910858995136,3.1717263253285002,6.7280453257790365,3.768506056527591,"・",7.1151358344113849,"・",5.144694533762058,3.6485253876558223,"・"]
["1988  昭和63年",4.391743522178305,3.9215686274509802,5.5865921787709496,5.7761732851985554,5.3461641272387066,"・",3.6255767963085037,"・",1.2383900928792571,3.8424591738712777,"・"]
["  89  平成元年　",4.2908633217003258,2.5268477574226149,5.0025012506253121,2.6246719160104988,3.7848067045147338,"・",5.1212017753499488,"・",7.2559366754617418,4.5366169799092679,"・"]
["  90       2",4.8780487804878048,6.2774639045825484,4.0140491721023581,3.6995930447650758,6.5559440559440558,3.5919540229885056,4.4142614601018675,"・",4.6022353714661408,7.3030777256129369,2.7958993476234855]
["  91       3",3.6086607858861268,3.3422459893048129,3.8722168441432721,3.1578947368421053,5.1260145237078172,2.2831050228310499,3.9020929407591343,"・",2.7378507871321012,3.5140562248995981,3.5746201966041107]
["  93       4",3.2900432900432901,3.4364261168384878,3.3301617507136063,3.7119524870081659,4.6629927935565911,3.0075187969924815,3.1260854463355332,"・",1.4492753623188406,2.565418163160595,3.3984706881903146]
["1993   平成5年",3.1152647975077881,7.6394194041252872,3.4930139720558881,3.8314176245210727,2.8860028860028861,0.79617834394904463,2.1842009464870769,"・",2.8922631959508314,3.2858707557502735,0.86430423509075194]
["  94       6",3.8107521838541363,4.2735042735042743,5.0091074681238617,5.3353658536585371,2.748511223087494,0.75018754688672173,3.884180790960452,"・",4.2887776983559682,4.7568710359408035,0.83752093802345062]
["  95       7",3.2661613360448634,3.7764350453172209,1.46484375,3.5046728971962615,2.9382957884427032,5.9071729957805905,3.9725532683279163,"・",2.9006526468455403,3.2858707557502735,1.8416206261510129]
["  96       8",3.3661790807270946,2.2222222222222223,3.2377428307123033,1.9193857965451055,1.9184652278177459,1.5797788309636651,5.4605023662176926,"・",4.5283018867924527,2.8587764436821042,7.6190476190476186]
["1998  平成10年",3.276003276003276,2.1913805697589481,1.9464720194647203,3.128666405944466,3.0150753768844218,1.779359430604982,4.0680473372781067,"・",3.9556962025316458,4.694835680751174,3.6166365280289328]
["  98      10",2.7837921435199506,3.6179450072358899,2.4425989252564726,1.1342155009451795,1.9129603060736491,3.518029903254178,6.3525674960296454,1.2376237623762376,2.4610336341263332,3.7654653039268422,0.91911764705882348]
["  99      11",2.0836046360203153,0.74850299401197606,3.5371399696816574,1.6240357287860332,2.0502306509482318,1.8181818181818181,1.6051364365971108,3.7174721189591078,0.89445438282647582,2.8555111364934325,2.0325203252032522]
["2000      12",2.2175841377511092,3.0326004548900682,1.5408320493066257,3.8925652004671081,0,2.8169014084507045,0.54854635216675807,5.1020408163265305,5.4102795311091079,1.740139211136891,0]
["  01      13",2.1551724137931032,3.6231884057971016,2.5227043390514634,2.8067361668003206,2.0030045067601399,0,2.8200789622109417,0,0,3.3538289547233093,1.0482180293501049]
["  02      14",1.9901136290684986,2.0505809979494192,1.9102196752626552,2.035002035002035,2.9806259314456036,0.9765625,1.5806111696522656,1.2210012210012211,0.99009900990099009,3.3688938798427848,0.98231827111984271]
["  03      15",2.6668444562970861,2.1306818181818179,1.9930244145490781,1.2427506213753108,5.2826201796090864,5.2910052910052912,3.3898305084745761,1.2195121951219512,1.9493177387914229,2.2870211549456831,2.0682523267838677]
["  04      16",3.0510543087666959,4.0677966101694913,4.4378698224852071,4.3572984749455346,2.6539278131634818,2.0470829068577276,3.3688938798427848,1.3812154696132597,3.1512605042016806,0.5724098454493417,2.2573363431151239]
["  05      17",2.6790750141003947,1.4234875444839858,2.0387359836901124,3.5351303579319491,1.6059957173447537,7.042253521126761,3.5566093657379962,2.8653295128939829,1.1376564277588168,2.9994001199760052,1.1074197120708749]
["  06      18",2.3082145281737949,0.64432989690721654,4.0100250626566414,1.7301038062283738,3.6706869428421607,1.1806375442739079,0.5608524957936063,2.5348542458808616,1.1750881316098707,3.4364261168384878,3.1645569620253164]
["  07      19",2.3451510553179746,3.9395929087327639,1.984126984126984,1.7817371937639199,1.6216216216216215,2.3364485981308412,4.0650406504065044,2.7434842249657061,0,2.3364485981308412,2.061855670103093]
["  08      20",2.2903334456045807,2.4420024420024422,2.8557829604950022,1.3060513713539399,2.0693222969477496,1.1918951132300357,2.2650056625141564,3.7174721189591078,2.2727272727272725,3.5481963335304556,1.1198208286674132]
["  09      21",2.2749207224596715,1.2658227848101267,1.4619883040935671,2.7014858171994596,4.3691971600218453,2.4420024420024422,0.58105752469494476,2.58732212160414,4.5924225028702645,1.7804154302670623,2.0986358866736623]
["  10      22",1.7640274102720672,1.1422044545973729,0.99700897308075764,3.5762181493071079,2.5575447570332481,1.1560693641618498,0.57110222729868643,3.9893617021276593,0,1.1961722488038278,2.1834061135371177]
["  11      23",2.76033400041405,2.9308323563892147,3.125,2.8024287716020555,1.589825119236884,2.5641025641025643,2.7412280701754383,3.9318479685452159,3.7313432835820897,3.4502587694077054,1.0787486515641855]
["  12      24",2.3469317318975635,1.7142857142857142,2.0693222969477496,2.3245002324500232,3.1233732431025505,4.1265474552957357,3.812636165577342,1.3262599469496021,2.4330900243309004,0.60024009603841533,2.1574973031283711]
["  13      25",2.3987389486669866,1.5814443858724301,2.02122283981809,2.8436018957345972,3.7393162393162394,2.4968789013732833,1.1173184357541899,4.2553191489361701,1.2853470437017993,2.3323615160349855,3.1779661016949157]
["  14      26",1.7847336628226249,2.168021680216802,2.0491803278688527,3.2243205895900506,0,2.5773195876288661,1.0643959552953699,3.0303030303030303,0,1.8621973929236499,2.1141649048625792]
["  15      27",1.8507094386181369,3.2017075773746,1.4698677119059285,1.8796992481203008,2.6441036488630356,2.6809651474530831,0.52966101694915257,0,1.3003901170351106,1.8105009052504526,2.1052631578947367]
["  16      28",2.0683260823051137,1.7421602787456445,2.1645021645021645,1.3611615245009074,1.6224986479177934,2.8050490883590462,4.8992923244420252,0,2.7510316368638241,0.63613231552162852,2.2371364653243848]
["  17      29",1.8088416178279429,0.56433408577878097,0.53276505061267976,2.8076743097800652,2.3028209556706969,0,2.2948938611589211,3.2206119162640903,2.785515320334262,2.4213075060532687,1.1520737327188939]
["  18      30",{"$f":"B38/[1]出生数!G$19*1000","v":2.5664251207729469},{"$f":"C38/[1]出生数!H$19*1000","v":3.4403669724770642},{"$f":"D38/[1]出生数!I$19*1000","v":1.6242555495397943},{"$f":"E38/[1]出生数!J$19*1000","v":2.5278058645096055},{"$f":"F38/[1]出生数!K$19*1000","v":2.3378141437755695},{"$f":"G38/[1]出生数!L$19*1000","v":4.5385779122541603},{"$f":"H38/[1]出生数!M$19*1000","v":2.3781212841854931},{"$f":"I38/[1]出生数!N$19*1000","v":3.1055900621118009},{"$f":"J38/[1]出生数!O$19*1000","v":3.1152647975077881},{"$f":"K38/[1]出生数!P$19*1000","v":1.9607843137254901},{"$f":"L38/[1]出生数!Q$19*1000","v":2.4721878862793569}]
["1)　分区後の清田区分を含む。"]

{"sheet":"3　乳児死亡数，月・性・区別","index":2,"n_rows":36,"n_cols":15,"rows_kept":36,"cut":false,"hidden":false,"merged":[[2,0,2,1]]}
["3　月・性別にみた区別乳児死亡数"]
[null,null,null,null,null,null,null,null,null,null,null,null,null,null,"平成30年"]
["区 ・ 性",null,"総数","1 月","2 月","3 月","4 月","5 月","6 月","7 月","8 月","9 月","10月","11月","12月"]
["総数",null,{"$f":"SUM(C7,C10,C13,C16,C19,C22,C25,C28,C31,C34)","v":34},2,0,{"$f":"SUM(F7,F10,F13,F16,F19,F22,F25,F28,F31,F34)","v":3},3,3,5,1,6,4,1,3,3]
[null,"男",16,1,{"$f":"SUM(E8,E11,E14,E17,E20,E23,E26,E29,E32,E35)","v":0},1,0,2,5,0,2,2,0,1,2]
[null,"女",18,1,0,2,3,1,0,1,4,2,1,2,1]
["中央",null,{"$f":"SUM(D7:O7)","v":6},{"$f":"SUM(D8:D9)","v":0},{"$f":"SUM(E8:E9)","v":0},0,1,2,1,0,{"$f":"SUM(K8:K9)","v":0},{"$f":"SUM(L8:L9)","v":1},{"$f":"SUM(M8:M9)","v":0},{"$f":"SUM(N8:N9)","v":1},0]
[null,"男",3,0,0,0,0,2,1,0,0,0,0,0,0]
[null,"女",3,0,0,0,1,0,0,0,0,1,0,1,0]
["北",null,3,{"$f":"SUM(D11:D12)","v":0},{"$f":"SUM(E11:E12)","v":0},0,0,0,{"$f":"SUM(I11:I12)","v":0},0,{"$f":"SUM(K11:K12)","v":1},{"$f":"SUM(L11:L12)","v":2},{"$f":"SUM(M11:M12)","v":0},{"$f":"SUM(N11:N12)","v":0},0]
[null,"男",2,0,0,0,0,0,0,0,0,2,0,0,0]
[null,"女",1,0,0,0,0,0,0,0,1,0,0,0,0]
["東",null,5,{"$f":"SUM(D14:D15)","v":0},0,0,0,0,0,1,{"$f":"SUM(K14:K15)","v":0},{"$f":"SUM(L14:L15)","v":0},{"$f":"SUM(M14:M15)","v":0},{"$f":"SUM(N14:N15)","v":2},2]
[null,"男",3,0,0,0,0,0,0,0,0,0,0,1,2]
[null,"女",2,0,0,0,0,0,0,1,0,0,0,1,0]
["白石",null,4,{"$f":"SUM(D17:D18)","v":0},0,1,2,0,0,0,{"$f":"SUM(K17:K18)","v":1},{"$f":"SUM(L17:L18)","v":0},{"$f":"SUM(M17:M18)","v":0},{"$f":"SUM(N17:N18)","v":0},0]
[null,"男",1,0,0,1,0,0,0,0,0,0,0,0,0]
[null,"女",3,0,0,0,2,0,0,0,1,0,0,0,0]
["厚別",null,3,{"$f":"SUM(D20:D21)","v":0},0,0,0,0,2,0,{"$f":"SUM(K20:K21)","v":0},{"$f":"SUM(L20:L21)","v":0},{"$f":"SUM(M20:M21)","v":1},{"$f":"SUM(N20:N21)","v":0},0]
[null,"男",2,0,0,0,0,0,2,0,0,0,0,0,0]
[null,"女",1,0,0,0,0,0,0,0,0,0,1,0,0]
["豊平",null,4,{"$f":"SUM(D23:D24)","v":0},0,2,0,0,1,0,{"$f":"SUM(K23:K24)","v":1},{"$f":"SUM(L23:L24)","v":0},{"$f":"SUM(M23:M24)","v":0},{"$f":"SUM(N23:N24)","v":0},0]
[null,"男",2,0,0,0,0,0,1,0,1,0,0,0,0]
[null,"女",2,0,0,2,0,0,0,0,0,0,0,0,0]
["清田",null,2,{"$f":"SUM(D26:D27)","v":1},0,0,0,0,0,0,{"$f":"SUM(K26:K27)","v":1},{"$f":"SUM(L26:L27)","v":0},{"$f":"SUM(M26:M27)","v":0},{"$f":"SUM(N26:N27)","v":0},0]
[null,"男",1,0,0,0,0,0,0,0,1,0,0,0,0]
[null,"女",1,1,0,0,0,0,0,0,0,0,0,0,0]
["南",null,2,{"$f":"SUM(D29:D30)","v":0},0,0,0,0,1,0,{"$f":"SUM(K29:K30)","v":0},{"$f":"SUM(L29:L30)","v":1},{"$f":"SUM(M29:M30)","v":0},{"$f":"SUM(N29:N30)","v":0},0]
[null,"男",1,0,0,0,0,0,1,0,0,0,0,0,0]
[null,"女",1,0,0,0,0,0,0,0,0,1,0,0,0]
["西",null,3,{"$f":"SUM(D32:D33)","v":1},0,0,0,1,0,0,{"$f":"SUM(K32:K33)","v":0},{"$f":"SUM(L32:L33)","v":0},{"$f":"SUM(M32:M33)","v":0},{"$f":"SUM(N32:N33)","v":0},1]
[null,"男",1,1,0,0,0,0,0,0,0,0,0,0,0]
[null,"女",2,0,0,0,0,1,0,0,0,0,0,0,1]
["手稲",null,2,{"$f":"SUM(D35:D36)","v":0},0,0,0,0,0,0,{"$f":"SUM(K35:K36)","v":2},{"$f":"SUM(L35:L36)","v":0},{"$f":"SUM(M35:M36)","v":0},{"$f":"SUM(N35:N36)","v":0},0]
[null,"男",0,0,0,0,0,0,0,0,0,0,0,0,0]
[null,"女",2,0,0,0,0,0,0,0,2,0,0,0,0]

{"sheet":"4 年次別，乳児死因順位","index":3,"n_rows":41,"n_cols":12,"rows_kept":41,"cut":false,"hidden":false,"merged":[]}
["4　年次別にみた乳児死因順位"]
[]
["年次","乳児死\n亡総数","第　　1　　位 ","乳　  児\n死亡数","第　　2　　位","乳     児\n死亡数","第　　3　　位","乳　児\n死亡数","第　　4　　位","乳　児\n死亡数","第　　5　　位","乳　児\n死亡数"]
["1965  昭和40年",222,"その他の新生児固有疾患","…","先天異常","…","出生時の損傷","…","新生児の感染","…","肺炎","…"]
["  70      45",195,"詳細不明の未熟児","…","先天異常","…","肺炎及び気管支炎","…","出生時損傷、難産及び\nその他の無酸素症、低酸素症","…","不慮の事故","…"]
["1975  昭和50年",214,"先天異常",55,"出生時損傷、難産及び\nその他の無酸素症、低酸素症",51,"肺炎及び気管支炎",16,null,11]
["  80      55",156,"出生時外傷、低酸素症、分娩\n仮死及びその他の呼吸器病態",57,"先天異常",43,"不慮の事故及び有害作用",10,null,5]
["  85      60",101,"先天異常",38,"出生時外傷、低酸素症、分娩\n仮死及びその他の呼吸器病態",25,"不慮の事故及び有害作用",8,"心疾患",6,"その他の外因",5]
["  86      61",86,"先天異常",29,"出生時外傷、低酸素症、分娩\n仮死及びその他の呼吸器病態",18,"不慮の事故及び有害作用",9,"その他の外因",5,"心疾患",3]
["  87      62",88,"先天異常",34,"出生時外傷、低酸素症、分娩\n仮死及びその他の呼吸器病態",15,"不慮の事故及び有害作用",12,null,4]
["  88      63",80,"先天異常",24,"出生時外傷、低酸素症、分娩\n仮死及びその他の呼吸器病態",20,null,4,null,null,"その他の外因",3]
["  89  平成元年　",75,"先天異常",26,"出生時外傷、低酸素症、分娩\n仮死及びその他の呼吸器病態",21,"不慮の事故及び有害作用",6,null,2]
["1990   平成2年",85,"先天異常",41,"出生時外傷、低酸素症、分娩\n仮死及びその他の呼吸器病態",11,"不慮の事故及び有害作用",4,null,3]
["  91       3",63,"先天異常",26,"出生時外傷、低酸素症、分娩\n仮死及びその他の呼吸器病態",9,null,3]
["  92       4",57,"先天異常",22,"出生時外傷、低酸素症、分娩\n仮死及びその他の呼吸器病態",8,"心疾患",4,"その他の外因",4,"敗血症\n(新生児敗血症を含む）",3]
["  93       5",51,"先天異常",21,"出生時外傷、低酸素症、分娩\n仮死及びその他の呼吸器病態",8,"不慮の事故及び有害作用",7,"心疾患",2,null,1]
["  94       6",65,"先天異常",25,"出生時外傷、低酸素症、分娩\n仮死及びその他の呼吸器病態",8,"敗血症(新生児敗血症を含む）",3,null,2]
["  95       7",53,"先天奇形、変形及び染色体異常",18,"乳幼児突然死症候群",6,null,4,null,null,"不慮の事故",3]
["  96       8",55,"先天奇形、変形及び染色体異常",25,"周産期に特異的な呼吸\n障害及び心血管障害",10,"乳幼児突然死症候群",5,"不慮の事故",3,"胎児及び新生児の出血\n性障害及び血液障害",2]
["  97       9",52,"先天奇形、変形及び染色体異常",16,null,6,null,null,"不慮の事故",5,"乳幼児突然死症候群",3]
["  98      10",45,"先天奇形、変形及び染色体異常",16,"周産期に特異的な呼吸\n障害及び心血管障害",11,"心疾患（高血圧性を除く）",4,"胎児及び新生児の出血\n性障害及び血液障害",3,"不慮の事故",2]
["  99      11",32,"先天奇形、変形及び染色体異常",14,null,3,null,null,null,null,"胎児及び新生児の出血\n性障害及び血液障害",2]
["2000      12",34,"先天奇形、変形及び染色体異常",11,"不慮の事故",6,"心疾患（高血圧性を除く）",3,null,2]
["  01      13",33,"先天奇形、変形及び染色体異常",13,"乳幼児突然死症候群",6,"周産期に特異的な呼吸障害　　　　及び心血管障害",4,"不慮の事故",3,null,1]
["  02      14",31,"先天奇形、変形及び染色体異常",10,"周産期に特異的な呼吸障害　　　　　　　及び心血管障害",6,"不慮の事故",5,null,2]
["  03      15",40,"先天奇形、変形及び染色体異常",11,"周産期に特異的な呼吸障害　　　　　　　及び心血管障害",6,"乳幼児突然死症候群",4,"不慮の事故",3,"代謝障害、心疾患",2]
["  04      16",45,"先天奇形、変形及び染色体異常",21,"周産期に特異的な呼吸障害　　　　　　　及び心血管障害",8,"乳幼児突然死症候群",6,"不慮の事故",3,"心疾患",2]
["  05      17",38,"先天奇形、変形及び染色体異常",21,"周産期に特異的な呼吸障害　　　　　　　及び心血管障害",8,"乳幼児突然死症候群",6,"不慮の事故",3,"心疾患",2]
["  06      18",34,"先天奇形，変形及び染色体異常",15,"乳幼児突然死症候群",4,"周産期に特異的な呼吸障害及び心血管障害",2,null,1]
["  07      19",34,"先天奇形，変形及び染色体異常",13,null,5,null,null,"心疾患",2,null,1]
["  08      20",34,"先天奇形，変形及び染色体異常",15,"周産期に特異的な呼吸障害　　　　　　　及び心血管障害",9,"乳幼児突然死症候群",6,"悪性新生物\n心疾患\n肺　　　炎",1]
["  09      21",33,"先天奇形，変形及び染色体異常",9,"周産期に特異的な呼吸障害　　　　　　　及び心血管障害",7,"乳幼児突然死症候群",6,"不慮の事故",2,null,1]
["  10      22",26,"先天奇形，変形及び染色体異常",11,"乳幼児突然死症候群",4,"周産期に特異的な呼吸障害　　　　　　　及び心血管障害",3,null,2,null,1]
["  11      23",40,"先天奇形，変形及び染色体異常",17,"乳幼児突然死症候群",9,"周産期に特異的な呼吸障害及び心血管障害",5,"その他のすべての疾患",4,"肺　　　炎\n周産期に特異的な感染症\nその他の周産期に発生した病態\n不慮の事故",1]
["  12      24",34,"先天奇形，変形及び染色体異常",12,"乳幼児突然死症候群",6,"周産期に特異的な呼吸障害及び心血管障害",5,"胎児及び新生児の出血性障害及び血液障害",3,"肺　　　炎",2]
["  13      25",35,"先天奇形，変形及び染色体異常",11,"乳幼児突然死症候群",7,"周産期に特異的な呼吸障害及び心血管障害",4,"胎児及び新生児の出血性障害及び血液障害",3,"妊娠期間及び胎児発育に関連する障害\nその他のすべての疾患",2]
["  14      26",26,"先天奇形，変形及び染色体異常",13,"周産期に特異的な呼吸障害及び心血管障害\n乳幼児突然死症候群",3,0,0,"心疾患\nその他のすべての疾患",2,0,0]
["  15      27",27,"先天奇形，変形及び染色体異常",8,"乳幼児突然死症候群",6,"周産期に特異的な呼吸障害及び心血管障害",3,"心疾患\nその他の周産期に発生した病態",2,0,0]
["  16      28",29,"先天奇形，変形及び染色体異常",8,"乳幼児突然死症候群",7,"周産期に特異的な呼吸障害及び心血管障害",5,"不慮の事故",3,"腸管感染症\nその他の感染症及び寄生虫症\n心疾患\n妊娠期間及び胎児発育に関連する障害\nその他のすべての疾患",1]
["  17      29",25,"先天奇形，変形及び染色体異常",9,"周産期に特異的な呼吸障害及び心血管障害\nその他のすべての疾患",4,0,0,"周産期に特異的な感染症",2,"代謝障害\n心疾患\nヘルニア及び腸閉塞\n妊娠期間及び胎児発育に関連する障害\n胎児及び新生児の出血性障害及び血液障害\n不慮の事故",1]
["  18      30",{"$f":"'3　乳児死亡数，月・性・区別'!C4","v":34},{"$f":"'[3]■4 年次別，乳児死因順位'!$C$4","v":"先天奇形，変形及び染色体異常"},{"$f":"'[3]■4 年次別，乳児死因順位'!$D$4","v":13},{"$f":"'[3]■4 年次別，乳児死因順位'!$E$4","v":"周産期に特異的な呼吸障害及び心血管障害"},{"$f":"'[3]■4 年次別，乳児死因順位'!$F$4","v":8},{"$f":"'[3]■4 年次別，乳児死因順位'!$G$4","v":"心疾患\nその他の周産期に発生した病態\nその他のすべての疾患"},{"$f":"'[3]■4 年次別，乳児死因順位'!$H$4","v":2},{"$f":"'[3]■4 年次別，乳児死因順位'!$I$4","v":0},{"$f":"'[3]■4 年次別，乳児死因順位'!$J$4","v":0},{"$f":"'[3]■4 年次別，乳児死因順位'!$K$4","v":0},{"$f":"'[3]■4 年次別，乳児死因順位'!$L$4","v":0}]

{"sheet":"5 生存期間別，乳児死亡数・率","index":4,"n_rows":74,"n_cols":25,"rows_kept":74,"cut":false,"hidden":false,"merged":[[4,1,4,24],[39,1,39,24],[2,0,3,0],[2,1,3,1],[2,2,2,24]]}
["5　生存期間別にみた年次別乳児死亡数及び乳児死亡率（出生10万対）"]
[]
["年次","総数","日齢―月齢"]
[null,null,"1 日\n未満","1日","2日","3日","4日","5日","6日","１週未満","1週～\n2週未満","2週～\n3週未満","3週～\n4週未満","4週未満　","4週～\n2か月未満","2か月","3か月","4か月","5か月","6か月","7か月","8か月","9か月","10か月","11か月"]
[null,"乳児死亡数"]
["  85      60",101,25,7,6,2,4,2,0,46,9,5,3,63,6,9,0,6,2,2,0,3,2,4,4]
["1986  昭和61年",86,19,1,2,4,2,2,3,33,9,2,4,48,7,3,5,4,7,3,0,3,2,3,1]
["1987  昭和62年",88,22,8,4,2,2,0,0,38,7,2,5,52,8,5,1,2,2,3,3,5,1,6,0]
["1988  昭和63年",80,32,2,1,0,2,2,0,39,2,3,0,44,6,2,10,0,4,5,2,3,3,0,1]
["  89  平成元年　",75,20,6,3,2,4,0,1,36,1,3,0,40,5,5,4,3,3,2,2,3,5,0,3]
["  90       2",85,24,5,3,0,0,1,0,33,5,7,2,47,6,10,6,5,3,3,1,1,1,2,0]
["  91       3",63,17,7,4,2,0,0,1,31,1,1,3,36,4,4,4,5,2,1,1,2,3,0,1]
["  93       4",57,16,3,1,0,0,2,1,23,3,1,2,29,6,4,4,1,1,1,4,1,2,0,4]
["1993   平成5年",51,16,2,0,1,0,0,0,19,1,0,0,20,7,1,4,4,2,5,5,1,1,0,1]
["  94       6",65,14,6,2,1,0,0,0,23,5,3,2,33,6,6,1,4,3,2,2,4,3,1,0]
["  95       7",53,12,0,0,2,0,0,1,15,4,5,1,25,6,2,3,5,1,3,2,1,3,2,0]
["  96       8",55,11,6,1,2,2,0,0,22,5,3,1,31,6,3,3,2,2,0,0,3,1,1,3]
["  97       9",52,14,2,1,0,0,2,0,19,2,5,4,30,4,2,5,1,2,1,1,2,1,2,1]
["1998  平成10年",45,15,4,1,0,1,0,0,21,0,0,3,24,4,2,6,1,1,2,2,1,0,1,1]
["  99      11",32,13,0,0,0,0,1,0,14,3,3,0,20,2,3,3,0,1,0,0,1,1,0,1]
["2000      12",34,8,1,0,1,0,0,0,10,1,1,1,13,3,1,4,1,6,3,0,2,0,0,1]
["  01      13",33,9,0,0,1,0,0,0,10,2,4,3,19,5,0,5,1,1,1,0,1,0,0,0]
["  02      14",31,8,2,0,0,0,0,1,11,2,2,0,15,3,3,2,3,0,0,0,4,0,0,1]
["  03      15",40,11,2,1,0,0,0,1,15,4,1,0,20,2,3,3,3,0,3,1,3,1,1,0]
["  04      16",45,12,2,0,1,0,0,1,16,2,4,1,23,6,4,3,1,2,1,0,1,1,1,2]
["  05      17",38,11,5,0,0,0,0,0,16,4,3,2,25,3,1,2,3,1,1,1,1,0,0,0]
["  06      18",34,6,1,2,2,1,0,1,13,1,0,2,16,2,3,2,2,2,3,1,1,0,1,1]
["  07      19",34,9,0,1,0,0,2,1,13,1,1,2,17,3,6,3,1,0,0,0,1,0,0,3]
["  08      20",34,9,3,0,1,0,1,0,14,1,2,1,18,4,3,2,1,1,1,0,1,2,0,1]
["  09      21",33,6,2,0,1,0,0,0,9,1,2,2,14,3,3,2,2,2,1,2,1,1,1,1]
["  10      22",26,8,2,0,0,1,0,0,11,2,1,1,15,4,1,1,0,3,2,0,0,0,0,0]
["  11      23",40,9,2,2,1,0,0,0,14,3,2,1,20,2,3,5,3,1,1,2,0,1,1,1]
["  12      24",34,7,1,1,0,1,1,0,11,0,0,2,13,5,9,1,3,1,0,0,1,1,0,0]
["  13      25",34,8,1,0,2,1,0,1,13,2,1,1,17,3,4,1,3,0,1,0,1,2,2,0]
["  14      26",26,9,2,0,1,1,0,0,13,0,1,1,15,2,0,3,0,2,1,2,1,0,0,0]
["  15      27",27,5,1,1,0,0,2,0,9,0,1,0,10,5,2,0,2,3,1,2,0,0,1,1]
["  16      28",29,6,1,0,0,1,0,1,9,0,1,2,12,5,3,1,1,0,1,1,0,2,1,2]
["  17      29",25,7,4,0,0,1,0,1,13,1,0,0,14,3,0,1,4,2,1,0,0,0,0,0]
["  18      30",{"$f":"SUM(N39:Y39)","v":34},{"$f":"'6　生存期間・性別，区別乳児死亡数'!D$6","v":10},{"$f":"'6　生存期間・性別，区別乳児死亡数'!E$6","v":1},{"$f":"'6　生存期間・性別，区別乳児死亡数'!F$6","v":0},{"$f":"'6　生存期間・性別，区別乳児死亡数'!G$6","v":3},{"$f":"'6　生存期間・性別，区別乳児死亡数'!H$6","v":0},{"$f":"'6　生存期間・性別，区別乳児死亡数'!I$6","v":1},{"$f":"'6　生存期間・性別，区別乳児死亡数'!J$6","v":0},{"$f":"SUM(C39:I39)","v":15},{"$f":"'6　生存期間・性別，区別乳児死亡数'!L$6","v":1},{"$f":"'6　生存期間・性別，区別乳児死亡数'!M$6","v":3},{"$f":"'6　生存期間・性別，区別乳児死亡数'!N$6","v":1},{"$f":"SUM(J39:M39)","v":20},{"$f":"'6　生存期間・性別，区別乳児死亡数'!P$6","v":3},{"$f":"'6　生存期間・性別，区別乳児死亡数'!Q$6","v":2},{"$f":"'6　生存期間・性別，区別乳児死亡数'!R$6","v":2},{"$f":"'6　生存期間・性別，区別乳児死亡数'!S$6","v":3},{"$f":"'6　生存期間・性別，区別乳児死亡数'!T$6","v":1},{"$f":"'6　生存期間・性別，区別乳児死亡数'!U$6","v":1},{"$f":"'6　生存期間・性別，区別乳児死亡数'!V$6","v":0},{"$f":"'6　生存期間・性別，区別乳児死亡数'!W$6","v":1},{"$f":"'6　生存期間・性別，区別乳児死亡数'!X$6","v":1},{"$f":"'6　生存期間・性別，区別乳児死亡数'!Y$6","v":0},{"$f":"'6　生存期間・性別，区別乳児死亡数'!Z$6","v":0}]
[null,"　　　　　　　　　　　　　　　　　　　乳　　　　　　　　　　　児　　　　　　　　　　　　死　　　　　　　　　　　　亡　　　　　　　　　　　　　　率　　　　　　　　　　　　(　　　出　　　生　　　10　　　万　　　対　　　）"]
["  85      60",522.93672983328156,129.43978461219839,36.243139691415557,31.065548306927617,10.355182768975872,20.710365537951745,10.355182768975872,0,238.16920368644506,46.598322460391422,25.887956922439677,15.532774153463809,326.18825722273999,31.065548306927617,46.598322460391422,0,31.065548306927617,10.355182768975872,10.355182768975872,0,15.532774153463809,10.355182768975872,20.710365537951745,20.710365537951745]
["1986  昭和61年",449.55567171981181,99.320439100888663,5.2273915316257185,10.454783063251437,20.909566126502874,10.454783063251437,10.454783063251437,15.682174594877155,172.50392054364872,47.046523784631468,10.454783063251437,20.909566126502874,250.91479351803449,36.591740721380035,15.682174594877155,26.136957658128594,20.909566126502874,36.591740721380035,15.682174594877155,0,15.682174594877155,10.454783063251437,15.682174594877155,5.2273915316257185]
["1987  昭和62年",474.82868396913614,118.70717099228403,43.166243997194194,21.583121998597097,10.791560999298548,10.791560999298548,0,0,205.03965898667244,37.770463497544917,10.791560999298548,26.978902498246374,280.58058598176228,43.166243997194194,26.978902498246374,5.3957804996492742,10.791560999298548,10.791560999298548,16.187341498947823,16.187341498947823,26.978902498246374,5.3957804996492742,32.374682997895647,0]
["1988  昭和63年",439.17435221783052,175.66974088713221,10.979358805445763,5.4896794027228815,0,10.979358805445763,10.979358805445763,0,214.09749670619235,10.979358805445763,16.469038208168644,0,241.54589371980674,32.938076416337289,10.979358805445763,54.896794027228815,0,21.958717610891526,27.448397013614407,10.979358805445763,16.469038208168644,16.469038208168644,0,5.4896794027228815]
["  89  平成元年　",429.08633217003256,114.42302191200869,34.326906573602614,17.163453286801307,11.44230219120087,22.88460438240174,0,5.721151095600435,205.96143944161565,5.721151095600435,17.163453286801307,0,228.84604382401739,28.605755478002173,28.605755478002173,22.88460438240174,17.163453286801307,17.163453286801307,11.44230219120087,11.44230219120087,17.163453286801307,28.605755478002173,0,17.163453286801307]
["  90       2",487.80487804878049,137.73314203730274,28.694404591104735,17.216642754662843,0,0,5.7388809182209473,0,189.38307030129124,28.694404591104735,40.172166427546628,11.477761836441895,269.72740315638453,34.433285509325685,57.388809182209471,34.433285509325685,28.694404591104735,17.216642754662843,17.216642754662843,5.7388809182209473,5.7388809182209473,5.7388809182209473,11.477761836441895,0]
["  91       3",360.86607858861265,97.37656088899071,40.096230954290299,22.912131973880168,11.456065986940084,0,0,5.728032993470042,177.56902279757131,5.728032993470042,5.728032993470042,17.184098980410127,206.20918776492152,22.912131973880168,22.912131973880168,22.912131973880168,28.640164967350209,11.456065986940084,5.728032993470042,5.728032993470042,11.456065986940084,17.184098980410127,0,5.728032993470042]
["  93       4",329.00432900432901,92.352092352092356,17.316017316017316,5.7720057720057723,0,0,11.544011544011545,5.7720057720057723,132.75613275613276,17.316017316017316,5.7720057720057723,11.544011544011545,167.38816738816737,34.632034632034632,23.088023088023089,23.088023088023089,5.7720057720057723,5.7720057720057723,5.7720057720057723,23.088023088023089,5.7720057720057723,11.544011544011545,0,23.088023088023089]
["1993   平成5年",311.52647975077883,97.733797568871779,12.216724696108972,0,6.1083623480544862,0,0,0,116.05888461303523,6.1083623480544862,0,0,122.16724696108973,42.758536436381405,6.1083623480544862,24.433449392217945,24.433449392217945,12.216724696108972,30.541811740272433,30.541811740272433,6.1083623480544862,6.1083623480544862,0,6.1083623480544862]
["  94       6",381.07521838541362,82.077739344550622,35.176174004807415,11.725391334935804,5.8626956674679018,0,0,0,134.84200035176173,29.313478337339507,17.588087002403707,11.725391334935804,193.46895702644076,35.176174004807415,35.176174004807415,5.8626956674679018,23.450782669871607,17.588087002403707,11.725391334935804,11.725391334935804,23.450782669871607,17.588087002403707,5.8626956674679018,0]
["  95       7",326.61613360448632,73.95082270290257,0,0,12.32513711715043,0,0,6.1625685585752148,92.43852837862822,24.650274234300859,30.812842792876069,6.1625685585752148,154.06421396438034,36.975411351451285,12.32513711715043,18.487705675725643,30.812842792876069,6.1625685585752148,18.487705675725643,12.32513711715043,6.1625685585752148,18.487705675725643,12.32513711715043,0]
["  96       8",336.61790807270944,67.323581614541894,36.721953607931937,6.1203256013219907,12.240651202643981,12.240651202643981,0,0,134.64716322908379,30.601628006609953,18.360976803965968,6.1203256013219907,189.73009364098172,36.721953607931937,18.360976803965968,18.360976803965968,12.240651202643981,12.240651202643981,0,0,18.360976803965968,6.1203256013219907,6.1203256013219907,18.360976803965968]
["  97       9",327.6003276003276,88.200088200088203,12.600012600012599,6.3000063000062996,0,0,12.600012600012599,0,119.70011970011971,12.600012600012599,31.500031500031501,25.200025200025198,189.00018900018901,25.200025200025198,12.600012600012599,31.500031500031501,6.3000063000062996,12.600012600012599,6.3000063000062996,6.3000063000062996,12.600012600012599,6.3000063000062996,12.600012600012599,6.3000063000062996]
["1998  平成10年",278.37921435199507,92.793071450665011,24.744819053510671,6.1862047633776678,0,6.1862047633776678,0,0,129.91030003093104,0,0,18.558614290133004,148.46891432106403,24.744819053510671,12.372409526755336,37.117228580266008,6.1862047633776678,6.1862047633776678,12.372409526755336,12.372409526755336,6.1862047633776678,0,6.1862047633776678,6.1862047633776678]
["  99      11",208.36046360203153,84.646438338325297,0,0,0,0,6.5112644875634853,0,91.157702825888791,19.533793462690454,19.533793462690454,0,130.22528975126971,13.022528975126971,19.533793462690454,19.533793462690454,0,6.5112644875634853,0,0,6.5112644875634853,6.5112644875634853,0,6.5112644875634853]
["2000      12",221.75841377511091,52.178450300026086,6.5223062875032607,0,6.5223062875032607,0,0,0,65.22306287503261,6.5223062875032607,6.5223062875032607,6.5223062875032607,84.789981737542391,19.566918862509784,6.5223062875032607,26.089225150013043,6.5223062875032607,39.133837725019568,19.566918862509784,0,13.044612575006521,0,0,6.5223062875032607]
["  01      13",215.51724137931035,58.777429467084644,0,0,6.5308254963427386,0,0,0,65.308254963427373,13.061650992685477,26.123301985370954,19.592476489028211,124.08568443051202,32.654127481713687,0,32.654127481713687,6.5308254963427386,6.5308254963427386,6.5308254963427386,0,6.5308254963427386,0,0,0]
["  02      14",199.01136290684985,51.357771072735446,12.839442768183861,0,0,0,0,6.4197213840919307,70.616935225011233,12.839442768183861,12.839442768183861,0,96.295820761378948,19.25916415227579,19.25916415227579,12.839442768183861,19.25916415227579,0,0,0,25.678885536367723,0,0,6.4197213840919307]
["  03      15",266.68444562970865,73.338222548169881,13.334222281485433,6.6671111407427164,0,0,0,6.6671111407427164,100.00666711114076,26.668444562970866,6.6671111407427164,0,133.34222281485432,13.334222281485433,20.00133342222815,20.00133342222815,20.00133342222815,0,20.00133342222815,6.6671111407427164,20.00133342222815,6.6671111407427164,6.6671111407427164,0]
["  04      16",305.10543087666957,81.36144823377856,13.560241372296428,0,6.7801206861482139,0,0,6.7801206861482139,108.48193097837142,13.560241372296428,27.120482744592856,6.7801206861482139,155.9427757814089,40.68072411688928,27.120482744592856,20.34036205844464,6.7801206861482139,13.560241372296428,6.7801206861482139,0,6.7801206861482139,6.7801206861482139,6.7801206861482139,13.560241372296428]
["  05      17",267.90750141003946,77.552171460800892,35.250987027636775,0,0,0,0,0,112.80315848843769,28.200789622109422,21.150592216582062,14.100394811054711,176.25493513818387,21.150592216582062,7.0501974055273555,14.100394811054711,21.150592216582062,7.0501974055273555,7.0501974055273555,7.0501974055273555,7.0501974055273555,0,0,0]
["  06      18",230.82145281737948,40.73319755600815,6.7888662593346911,13.577732518669382,13.577732518669382,6.7888662593346911,0,6.7888662593346911,88.255261371350983,6.7888662593346911,0,13.577732518669382,108.62186014935506,13.577732518669382,20.366598778004075,13.577732518669382,13.577732518669382,13.577732518669382,20.366598778004075,6.7888662593346911,6.7888662593346911,0,6.7888662593346911,6.7888662593346911]
["  07      19",234.51510553179747,62.07752793488757,0,6.8975031038763959,0,0,13.795006207752792,6.8975031038763959,89.667540350393153,6.8975031038763959,6.8975031038763959,13.795006207752792,117.25755276589874,20.692509311629191,41.385018623258382,20.692509311629191,6.8975031038763959,0,0,0,6.8975031038763959,0,0,20.692509311629191]
["  08      20",229.03334456045809,60.626473560121255,20.20882452004042,0,6.736274840013472,0,6.736274840013472,0,94.307847760188622,6.736274840013472,13.472549680026944,6.736274840013472,121.25294712024251,26.945099360053888,20.20882452004042,13.472549680026944,6.736274840013472,6.736274840013472,6.736274840013472,0,6.736274840013472,13.472549680026944,0,6.736274840013472]
["  09      21",227.49207224596717,41.362194953812214,13.787398317937404,0,6.893699158968702,0,0,0,62.043292430718331,6.893699158968702,13.787398317937404,13.787398317937404,96.51178822556183,20.681097476906107,20.681097476906107,13.787398317937404,13.787398317937404,13.787398317937404,6.893699158968702,13.787398317937404,6.893699158968702,6.893699158968702,6.893699158968702,6.893699158968702]
["  10      22",176.40274102720673,54.277766469909764,13.569441617477441,0,0,6.7847208087387205,0,0,74.631928896125928,13.569441617477441,6.7847208087387205,6.7847208087387205,101.77081213108082,27.138883234954882,6.7847208087387205,6.7847208087387205,0,20.35416242621616,13.569441617477441,0,0,0,0,0]
["  11      23",276.033400041405,62.107515009316124,13.801670002070251,13.801670002070251,6.9008350010351256,0,0,0,96.611690014491757,20.702505003105376,13.801670002070251,6.9008350010351256,138.0167000207025,13.801670002070251,20.702505003105376,34.504175005175625,20.702505003105376,6.9008350010351256,6.9008350010351256,13.801670002070251,0,6.9008350010351256,6.9008350010351256,6.9008350010351256]
["  12      24",234.69317318975635,48.319182715538069,6.9027403879340099,6.9027403879340099,0,6.9027403879340099,6.9027403879340099,0,75.930144267274116,0,0,13.80548077586802,89.735625043142122,34.51370193967005,62.124663491406089,6.9027403879340099,20.70822116380203,6.9027403879340099,0,0,6.9027403879340099,6.9027403879340099,0,0]
["  13      25",233.02035501336442,54.828318826673978,6.8535398533342473,0,13.707079706668495,6.8535398533342473,0,6.8535398533342473,89.096018093345208,13.707079706668495,6.8535398533342473,6.8535398533342473,116.51017750668221,20.560619560002742,27.414159413336989,6.8535398533342473,20.560619560002742,0,6.8535398533342473,0,6.8535398533342473,13.707079706668495,13.707079706668495,0]
["  14      26",178.47336628226248,61.779242174629317,13.728720483250962,0,6.864360241625481,6.864360241625481,0,0,89.236683141131238,0,6.864360241625481,6.864360241625481,102.9654036243822,13.728720483250962,0,20.59308072487644,0,13.728720483250962,6.864360241625481,13.728720483250962,6.864360241625481,0,0,0]
["  15      27",185.0709438618137,34.272397011446976,6.854479402289396,6.854479402289396,0,0,13.708958804578792,0,61.690314620604568,0,6.854479402289396,0,68.544794022893953,34.272397011446976,13.708958804578792,0,13.708958804578792,20.563438206868188,6.854479402289396,13.708958804578792,0,0,6.854479402289396,6.854479402289396]
["  16      28",206.83260823051137,42.792953427002352,7.1321589045003924,0,0,7.1321589045003924,0,7.1321589045003924,64.189430140503532,0,7.1321589045003924,14.264317809000785,85.585906854004705,35.660794522501959,21.396476713501176,7.1321589045003924,7.1321589045003924,0,7.1321589045003924,7.1321589045003924,0,14.264317809000785,7.1321589045003924,14.264317809000785]
["  17      29",180.88416178279428,50.647565299182403,28.941465885247087,0,0,7.2353664713117718,0,7.2353664713117718,94.059764127053029,7.2353664713117718,0,0,101.29513059836481,21.706099413935316,0,7.2353664713117718,28.941465885247087,14.470732942623544,7.2353664713117718,0,0,0,0,0]
["  18      30",{"$f":"B39/[1]出生数!$B55*100000","v":256.64251207729473},{"$f":"C39/[1]出生数!$B55*100000","v":75.483091787439619},{"$f":"D39/[1]出生数!$B55*100000","v":7.5483091787439607},{"$f":"E39/[1]出生数!$B55*100000","v":0},{"$f":"F39/[1]出生数!$B55*100000","v":22.644927536231883},{"$f":"G39/[1]出生数!$B55*100000","v":0},{"$f":"H39/[1]出生数!$B55*100000","v":7.5483091787439607},{"$f":"I39/[1]出生数!$B55*100000","v":0},{"$f":"J39/[1]出生数!$B55*100000","v":113.22463768115942},{"$f":"K39/[1]出生数!$B55*100000","v":7.5483091787439607},{"$f":"L39/[1]出生数!$B55*100000","v":22.644927536231883},{"$f":"M39/[1]出生数!$B55*100000","v":7.5483091787439607},{"$f":"N39/[1]出生数!$B55*100000","v":150.96618357487924},{"$f":"O39/[1]出生数!$B55*100000","v":22.644927536231883},{"$f":"P39/[1]出生数!$B55*100000","v":15.096618357487921},{"$f":"Q39/[1]出生数!$B55*100000","v":15.096618357487921},{"$f":"R39/[1]出生数!$B55*100000","v":22.644927536231883},{"$f":"S39/[1]出生数!$B55*100000","v":7.5483091787439607},{"$f":"T39/[1]出生数!$B55*100000","v":7.5483091787439607},{"$f":"U39/[1]出生数!$B55*100000","v":0},{"$f":"V39/[1]出生数!$B55*100000","v":7.5483091787439607},{"$f":"W39/[1]出生数!$B55*100000","v":7.5483091787439607},{"$f":"X39/[1]出生数!$B55*100000","v":0},{"$f":"Y39/[1]出生数!$B55*100000","v":0}]

{"sheet":"6　生存期間・性別，区別乳児死亡数","index":5,"n_rows":38,"n_cols":26,"rows_kept":38,"cut":false,"hidden":false,"merged":[[2,3,2,25],[32,0,34,0],[5,0,7,0],[8,0,10,0],[17,0,19,0],[2,2,3,2],[11,0,13,0],[14,0,16,0],[2,0,3,1],[35,0,37,0],[20,0,22,0],[23,0,25,0],[26,0,28,0],[29,0,31,0]]}
["6　生存期間・性別にみた区別乳児死亡数"]
[null,null,null,null,null,null,null,null,null,null,null,null,null,null,null,null,null,null,null,null,null,null,null,null,null,{"$f":"'3　乳児死亡数，月・性・区別'!$O$2","v":"平成30年"}]
["区　・　性",null,"総　数","日齢―月齢"]
[null,null,null,"1 日\n未満","1日","2日","3日","4日","5日","6日","１週未満","1週～\n2週未満","2週～\n3週未満","3週～\n4週未満","4週未満　","4週～\n2か月未満","2か月","3か月","4か月","5か月","6か月","7か月","8か月","9か月","10か月","11か月"]
[]
["総数",null,{"$f":"SUM(C9,C12,C15,C18,C21,C24,C27,C30,C33,C36)","v":34},{"$f":"SUM(D9,D12,D15,D18,D21,D24,D27,D30,D33,D36)","v":10},{"$f":"SUM(E9,E12,E15,E18,E21,E24,E27,E30,E33,E36)","v":1},0,3,0,1,0,15,1,3,1,20,3,2,2,3,1,1,0,1,1,0,0]
[null,"男   ",{"$f":"SUM(C10,C13,C16,C19,C22,C25,C28,C31,C34,C37)","v":16},6,1,0,1,0,0,0,8,0,2,1,11,1,1,0,2,0,0,0,0,1,0,0]
[null,"女   ",{"$f":"SUM(C11,C14,C17,C20,C23,C26,C29,C32,C35,C38)","v":18},4,0,0,2,0,1,0,7,1,1,0,9,2,1,2,1,1,1,0,1,0,0,0]
["中央",null,{"$f":"SUM(O9:Z9)","v":6},{"$f":"SUM(D10:D11)","v":0},{"$f":"SUM(E10:E11)","v":0},0,1,0,1,0,2,0,2,1,5,0,0,0,0,0,1,0,0,0,0,0]
[null,"男   ",{"$f":"SUM(O10:Z10)","v":3},0,0,0,1,0,0,0,{"$f":"SUM(D10:J10)","v":1},0,1,1,{"$f":"SUM(K10:N10)","v":3},0,0,0,0,0,0,0,0,0,0,0]
[null,"女   ",3,0,0,0,0,0,1,0,1,0,1,0,2,0,0,0,0,0,1,0,0,0,0,0]
["北",null,3,{"$f":"SUM(D13:D14)","v":0},1,0,0,0,0,0,1,0,0,0,1,1,{"$f":"SUM(Q13:Q14)","v":0},0,0,0,0,0,1,0,0,0]
[null,"男   ",2,0,1,0,0,0,0,0,1,0,0,0,1,1,0,0,0,0,0,0,0,0,0,0]
[null,"女   ",1,0,0,0,0,0,0,0,0,0,0,0,0,0,0,0,0,0,0,0,1,0,0,0]
["東",null,5,{"$f":"SUM(D16:D17)","v":3},0,0,0,0,0,0,3,0,1,0,4,0,{"$f":"SUM(Q16:Q17)","v":0},0,1,0,0,0,0,0,0,0]
[null,"男   ",3,2,0,0,0,0,0,0,2,0,1,0,3,0,0,0,0,0,0,0,0,0,0,0]
[null,"女   ",2,1,0,0,0,0,0,0,1,0,0,0,1,0,0,0,1,0,0,0,0,0,0,0]
["白石",null,4,{"$f":"SUM(D19:D20)","v":1},0,0,0,0,0,0,1,0,0,0,1,1,{"$f":"SUM(Q19:Q20)","v":1},0,0,0,0,0,0,1,0,0]
[null,"男   ",1,0,0,0,0,0,0,0,0,0,0,0,0,0,0,0,0,0,0,0,0,1,0,0]
[null,"女   ",3,1,0,0,0,0,0,0,1,0,0,0,1,1,1,0,0,0,0,0,0,0,0,0]
["厚別",null,3,{"$f":"SUM(D22:D23)","v":2},0,0,0,0,0,0,2,0,0,0,2,1,{"$f":"SUM(Q22:Q23)","v":0},0,0,0,0,0,0,0,0,0]
[null,"男   ",2,2,0,0,0,0,0,0,2,0,0,0,2,0,0,0,0,0,0,0,0,0,0,0]
[null,"女   ",1,0,0,0,0,0,0,0,0,0,0,0,0,1,0,0,0,0,0,0,0,0,0,0]
["豊平",null,4,{"$f":"SUM(D25:D26)","v":1},0,0,1,0,0,0,2,0,0,0,2,0,{"$f":"SUM(Q25:Q26)","v":0},1,1,0,0,0,0,0,0,0]
[null,"男   ",2,1,0,0,0,0,0,0,1,0,0,0,1,0,0,0,1,0,0,0,0,0,0,0]
[null,"女   ",2,0,0,0,1,0,0,0,1,0,0,0,1,0,0,1,0,0,0,0,0,0,0,0]
["清田",null,2,{"$f":"SUM(D28:D29)","v":1},0,0,0,0,0,0,1,0,0,0,1,0,{"$f":"SUM(Q28:Q29)","v":1},0,0,0,0,0,0,0,0,0]
[null,"男   ",1,0,0,0,0,0,0,0,0,0,0,0,0,0,1,0,0,0,0,0,0,0,0,0]
[null,"女   ",1,1,0,0,0,0,0,0,1,0,0,0,1,0,0,0,0,0,0,0,0,0,0,0]
["南",null,2,{"$f":"SUM(D31:D32)","v":0},0,0,0,0,0,0,0,1,0,0,1,0,{"$f":"SUM(Q31:Q32)","v":0},0,1,0,0,0,0,0,0,0]
[null,"男   ",1,0,0,0,0,0,0,0,0,0,0,0,0,0,0,0,1,0,0,0,0,0,0,0]
[null,"女   ",1,0,0,0,0,0,0,0,0,1,0,0,1,0,0,0,0,0,0,0,0,0,0,0]
["西",null,3,{"$f":"SUM(D34:D35)","v":2},0,0,0,0,0,0,2,0,0,0,2,0,{"$f":"SUM(Q34:Q35)","v":0},0,0,1,0,0,0,0,0,0]
[null,"男   ",1,1,0,0,0,0,0,0,1,0,0,0,1,0,0,0,0,0,0,0,0,0,0,0]
[null,"女   ",2,1,0,0,0,0,0,0,1,0,0,0,1,0,0,0,0,1,0,0,0,0,0,0]
["手稲",null,2,{"$f":"SUM(D37:D38)","v":0},0,0,1,0,0,0,1,0,0,0,1,0,{"$f":"SUM(Q37:Q38)","v":0},1,0,0,0,0,0,0,0,0]
[null,"男   ",0,0,0,0,0,0,0,0,0,0,0,0,0,0,0,0,0,0,0,0,0,0,0,0]
[null,"女   ",2,0,0,0,1,0,0,0,1,0,0,0,1,0,0,1,0,0,0,0,0,0,0,0]

{"sheet":"7　月・性別，乳児死因簡単分類別死亡数","index":6,"n_rows":175,"n_cols":17,"rows_kept":175,"cut":false,"hidden":false,"merged":[[154,2,156,2],[139,0,141,0],[139,1,141,2],[142,0,144,0],[142,1,144,2],[145,0,147,0],[145,2,147,2],[172,0,174,0],[172,1,174,2],[160,0,162,0],[160,2,162,2],[163,0,165,0],[163,2,165,2],[166,0,168,0],[166,2,168,2],[169,0,171,0],[169,1,171,2],[157,0,159,0],[157,2,159,2],[148,0,150,0],[148,2,150,2],[151,0,153,0],[151,2,153,2],[154,0,156,0],[136,0,138,0],[136,1,138,2],[100,2,102,2],[103,0,105,0],[103,2,105,2],[133,0,135,0],[133,2,135,2],[109,1,111,2],[100,0,102,0],[130,0,132,0],[118,2,120,2],[121,0,123,0],[121,2,123,2],[106,0,108,0],[106,2,108,2],[109,0,111,0],[115,0,117,0],[115,2,117,2],[130,2,132,2],[124,0,126,0],[124,2,126,2],[94,0,96,0],[94,2,96,2],[88,0,90,0],[88,2,90,2],[91,0,93,0],[91,2,93,2],[97,0,99,0],[97,2,99,2],[127,0,129,0],[127,2,129,2],[118,0,120,0],[112,0,114,0],[112,2,114,2],[43,0,45,0],[43,1,45,2],[85,0,87,0],[85,2,87,2],[73,0,75,0],[73,1,75,2],[76,0,78,0],[76,2,78,2],[61,0,63,0],[61,1,63,2],[64,0,66,0],[64,1,66,2],[82,0,84,0],[82,2,84,2],[67,0,69,0],[67,1,69,2],[70,0,72,0],[70,1,72,2],[79,0,81,0],[79,2,81,2],[58,0,60,0],[58,1,60,2],[52,0,54,0],[52,1,54,2],[37,1,39,2],[25,0,27,0],[25,2,27,2],[28,0,30,0],[28,2,30,2],[31,0,33,0],[31,1,33,2],[34,0,36,0],[34,1,36,2],[55,0,57,0],[55,1,57,2],[46,0,48,0],[46,1,48,2],[49,0,51,0],[49,1,51,2],[40,0,42,0],[40,1,42,2],[2,1,2,3],[4,0,6,0],[4,1,6,2],[7,0,9,0],[7,1,9,2],[19,0,21,0],[19,1,21,2],[10,0,12,0],[10,1,12,2],[13,0,15,0],[13,1,15,2],[16,0,18,0],[16,1,18,2],[22,0,24,0],[22,1,24,2],[37,0,39,0]]}
["7　月・性別にみた乳児死因簡単分類別乳児死亡数"]
[null,null,null,null,null,null,null,null,null,null,null,null,null,null,null,null,{"$f":"'3　乳児死亡数，月・性・区別'!$O$2","v":"平成30年"}]
["乳児死因\n簡単分類\nコ　ー　ド","死　　　　因　　・　　性",null,null,"総数","1月","2月","3月","4月","5月","6月","7月","8月","9月","10月","11月","12月"]
[]
[null,"総　　　数",null,"総数",{"$f":"SUM(E8,E11,E14,E17,E20,E23,E32,E35,E38,E41,E44,E47,E50,E53,E56,E59,E62,E65,E68,E71,E74,E110,E137,E140,E143,E170,E173)","v":34},{"$f":"SUM(F8,F11,F14,F17,F20,F23,F32,F35,F38,F41,F44,F47,F50,F53,F56,F59,F62,F65,F68,F71,F74,F110,F137,F140,F143,F170,F173)","v":2},0,3,3,3,5,1,6,4,1,3,3]
[null,null,null,"男　",{"$f":"SUM(E9,E12,E15,E18,E21,E24,E33,E36,E39,E42,E45,E48,E51,E54,E57,E60,E63,E66,E69,E72,E75,E111,E138,E141,E144,E171,E174)","v":16},1,0,1,0,2,5,0,2,2,0,1,2]
[null,null,null,"女　",18,1,0,2,3,1,0,1,4,2,1,2,1]
["Ba01","腸管感染症",null,"総数",{"$f":"SUM(F8:Q8)","v":0},{"$f":"SUM(F9:F10)","v":0},{"$f":"SUM(G9:G10)","v":0},0,0,0,0,0,0,0,0,0,0]
[null,null,null,"男　",0,0,0,0,0,0,0,0,0,0,0,0,0]
[null,null,null,"女　",0,0,0,0,0,0,0,0,0,0,0,0,0]
["Ba02","敗血症（新生児の細菌性敗血症を除く）",null,"総数",1,{"$f":"SUM(F12:F13)","v":0},{"$f":"SUM(G12:G13)","v":0},1,0,0,0,0,0,0,0,0,0]
[null,null,null,"男　",1,0,0,1,0,0,0,0,0,0,0,0,0]
[null,null,null,"女　",0,0,0,0,0,0,0,0,0,0,0,0,0]
["Ba03","麻　　　疹",null,"総数",0,{"$f":"SUM(F15:F16)","v":0},{"$f":"SUM(G15:G16)","v":0},0,0,0,0,0,0,0,0,0,0]
[null,null,null,"男　",0,0,0,0,0,0,0,0,0,0,0,0,0]
[null,null,null,"女　",0,0,0,0,0,0,0,0,0,0,0,0,0]
["Ba04","ウイルス肝炎",null,"総数",0,{"$f":"SUM(F18:F19)","v":0},{"$f":"SUM(G18:G19)","v":0},0,0,0,0,0,0,0,0,0,0]
[null,null,null,"男　",0,0,0,0,0,0,0,0,0,0,0,0,0]
[null,null,null,"女　",0,0,0,0,0,0,0,0,0,0,0,0,0]
["Ba05","その他の感染症及び寄生虫症",null,"総数",0,{"$f":"SUM(F21:F22)","v":0},{"$f":"SUM(G21:G22)","v":0},0,0,0,0,0,0,0,0,0,0]
[null,null,null,"男　",0,0,0,0,0,0,0,0,0,0,0,0,0]
[null,null,null,"女　",0,0,0,0,0,0,0,0,0,0,0,0,0]
["Ba06","悪性新生物",null,"総数",0,{"$f":"SUM(F26,F29)","v":0},0,0,0,0,0,0,0,0,0,0,0]
[null,null,null,"男　",0,{"$f":"SUM(F27,F30)","v":0},0,0,0,0,0,0,0,0,0,0,0]
[null,null,null,"女　",0,0,0,0,0,0,0,0,0,0,0,0,0]
["Ba07",null,"白　血　病","総数",0,{"$f":"SUM(F27:F28)","v":0},{"$f":"SUM(G27:G28)","v":0},0,0,0,0,0,0,0,0,0,0]
[null,null,null,"男　",0,0,0,0,0,0,0,0,0,0,0,0,0]
[null,null,null,"女　",0,0,0,0,0,0,0,0,0,0,0,0,0]
["Ba08",null,"その他の悪性新生物","総数",0,{"$f":"SUM(F30:F31)","v":0},{"$f":"SUM(G30:G31)","v":0},0,0,0,0,0,0,0,0,0,0]
[null,null,null,"男　",0,0,0,0,0,0,0,0,0,0,0,0,0]
[null,null,null,"女　",0,0,0,0,0,0,0,0,0,0,0,0,0]
["Ba09","その他の新生物",null,"総数",0,{"$f":"SUM(F33:F34)","v":0},{"$f":"SUM(G33:G34)","v":0},0,0,0,0,0,0,0,0,0,0]
[null,null,null,"男　",0,0,0,0,0,0,0,0,0,0,0,0,0]
[null,null,null,"女　",0,0,0,0,0,0,0,0,0,0,0,0,0]
["Ba10","栄養失調症及びその他の栄養欠乏症",null,"総数",0,{"$f":"SUM(F36:F37)","v":0},0,0,0,0,0,0,0,0,0,0,0]
[null,null,null,"男　",0,0,0,0,0,0,0,0,0,0,0,0,0]
[null,null,null,"女　",0,0,0,0,0,0,0,0,0,0,0,0,0]
["Ba11","代 謝 障 害",null,"総数",0,{"$f":"SUM(F39:F40)","v":0},0,0,0,0,0,0,0,0,0,{"$f":"SUM(P39:P40)","v":0},0]
[null,null,null,"男　",0,0,0,0,0,0,0,0,0,0,0,0,0]
[null,null,null,"女　",0,0,0,0,0,0,0,0,0,0,0,0,0]
["Ba12","髄　膜　炎",null,"総数",0,{"$f":"SUM(F42:F43)","v":0},0,0,0,0,0,0,0,0,0,0,0]
[null,null,null,"男　",0,0,0,0,0,0,0,0,0,0,0,0,0]
[null,null,null,"女　",0,0,0,0,0,0,0,0,0,0,0,0,0]
["Ba13","脊髄性筋萎縮症及び関連症候群",null,"総数",0,{"$f":"SUM(F45:F46)","v":0},0,0,0,0,0,0,0,0,0,0,0]
[null,null,null,"男　",0,0,0,0,0,0,0,0,0,0,0,0,0]
[null,null,null,"女　",0,0,0,0,0,0,0,0,0,0,0,0,0]
["Ba14","脳 性 麻 痺",null,"総数",0,{"$f":"SUM(F48:F49)","v":0},0,0,0,0,0,0,0,0,0,0,0]
[null,null,null,"男　",0,0,0,0,0,0,0,0,0,0,0,0,0]
[null,null,null,"女　",0,0,0,0,0,0,0,0,0,0,0,0,0]
["Ba15","心疾患（高血圧性を除く）",null,"総数",2,{"$f":"SUM(F51:F52)","v":0},0,0,0,0,0,0,1,0,1,0,0]
[null,null,null,"男　",0,0,0,0,0,0,0,0,0,0,0,0,0]
[null,null,null,"女　",2,0,0,0,0,0,0,0,1,0,1,0,0]
["Ba16","脳血管疾患",null,"総数",0,{"$f":"SUM(F54:F55)","v":0},0,0,0,0,0,0,0,0,0,0,0]
[null,null,null,"男　",0,0,0,0,0,0,0,0,0,0,0,0,0]
[null,null,null,"女　",0,0,0,0,0,0,0,0,0,0,0,0,0]
["Ba17","インフルエンザ",null,"総数",0,{"$f":"SUM(F57:F58)","v":0},0,0,0,0,0,0,0,0,0,0,0]
[null,null,null,"男　",0,0,0,0,0,0,0,0,0,0,0,0,0]
[null,null,null,"女　",0,0,0,0,0,0,0,0,0,0,0,0,0]
["Ba18","肺　　　炎",null,"総数",1,{"$f":"SUM(F60:F61)","v":0},0,0,0,0,0,0,0,1,0,0,0]
[null,null,null,"男　",0,0,0,0,0,0,0,0,0,0,0,0,0]
[null,null,null,"女　",1,0,0,0,0,0,0,0,0,1,0,0,0]
["Ba19","喘　　　息",null,"総数",0,{"$f":"SUM(F63:F64)","v":0},0,0,0,0,0,0,0,0,0,0,0]
[null,null,null,"男　",0,0,0,0,0,0,0,0,0,0,0,0,0]
[null,null,null,"女　",0,0,0,0,0,0,0,0,0,0,0,0,0]
["Ba20","ヘルニア及び腸閉塞",null,"総数",0,{"$f":"SUM(F66:F67)","v":0},0,0,0,0,0,0,0,0,0,0,0]
[null,null,null,"男　",0,0,0,0,0,0,0,0,0,0,0,0,0]
[null,null,null,"女　",0,0,0,0,0,0,0,0,0,0,0,0,0]
["Ba21","肝　疾　患",null,"総数",1,{"$f":"SUM(F69:F70)","v":0},0,0,0,0,0,0,0,0,0,1,0]
[null,null,null,"男　",0,0,0,0,0,0,0,0,0,0,0,0,0]
[null,null,null,"女　",{"$f":"SUM(F70:Q70)","v":1},0,0,0,0,0,0,0,0,0,0,1,0]
["Ba22","腎　不　全",null,"総数",0,{"$f":"SUM(F72:F73)","v":0},0,0,0,0,0,0,0,0,0,0,0]
[null,null,null,"男　",0,0,0,0,0,0,0,0,0,0,0,0,0]
[null,null,null,"女　",0,0,0,0,0,0,0,0,0,0,0,0,0]
["Ba23","周産期に発生した病態",null,"総数",12,{"$f":"SUM(F77,F80,F83,F86,F89,F92,F95,F98,F101,F104,F107)","v":2},0,0,0,2,3,1,1,1,0,1,1]
[null,null,null,"男　",8,{"$f":"SUM(F78,F81,F84,F87,F90,F93,F96,F99,F102,F105,F108)","v":1},0,0,0,1,3,0,0,1,0,1,1]
[null,null,null,"女　",4,{"$f":"SUM(F79,F82,F85,F88,F91,F94,F97,F100,F103,F106,F109)","v":1},0,0,0,1,0,1,1,0,0,0,0]
["Ba24",null,"妊娠期間及び胎児発育に関連する障害","総数",0,{"$f":"SUM(F78:F79)","v":0},0,0,0,0,0,0,0,0,0,0,0]
[null,null,null,"男　",0,0,0,0,0,0,0,0,0,0,0,0,0]
[null,null,null,"女　",0,0,0,0,0,0,0,0,0,0,0,0,0]
["Ba25",null,"出 産 外 傷","総数",0,{"$f":"SUM(F81:F82)","v":0},0,0,0,0,0,0,0,0,0,0,0]
[null,null,null,"男　",0,0,0,0,0,0,0,0,0,0,0,0,0]
[null,null,null,"女　",0,0,0,0,0,0,0,0,0,0,0,0,0]
["Ba26",null,"出生時仮死","総数",2,{"$f":"SUM(F84:F85)","v":0},0,0,0,1,0,0,0,1,0,0,0]
[null,null,null,"男　",1,0,0,0,0,0,0,0,0,1,0,0,0]
[null,null,null,"女　",1,0,0,0,0,1,0,0,0,0,0,0,0]
["Ba27",null,"新生児の呼吸窮迫","総数",3,{"$f":"SUM(F87:F88)","v":1},0,0,0,0,2,0,0,0,0,0,0]
[null,null,null,"男　",3,1,0,0,0,0,2,0,0,0,0,0,0]
[null,null,null,"女　",0,0,0,0,0,0,0,0,0,0,0,0,0]
["Ba28",null,"周産期に発生した肺出血","総数",0,{"$f":"SUM(F90:F91)","v":0},0,0,0,0,0,0,0,0,0,0,0]
[null,null,null,"男　",0,0,0,0,0,0,0,0,0,0,0,0,0]
[null,null,null,"女　",0,0,0,0,0,0,0,0,0,0,0,0,0]
["Ba29",null,"周産期に発生した心血管障害","総数",1,{"$f":"SUM(F93:F94)","v":0},0,0,0,0,1,0,0,0,0,0,0]
[null,null,null,"男　",1,0,0,0,0,0,1,0,0,0,0,0,0]
[null,null,null,"女　",0,0,0,0,0,0,0,0,0,0,0,0,0]
["Ba30",null,"その他の周産期に特異的な呼吸障害及び心血管障害","総数",2,{"$f":"SUM(F96:F97)","v":1},0,0,0,0,0,0,0,0,0,1,0]
[null,null,null,"男　",1,0,0,0,0,0,0,0,0,0,0,1,0]
[null,null,null,"女　",1,1,0,0,0,0,0,0,0,0,0,0,0]
["Ba31",null,"新生児の細菌性敗血症","総数",1,{"$f":"SUM(F99:F100)","v":0},0,0,0,0,0,1,0,0,0,0,0]
[null,null,null,"男　",0,0,0,0,0,0,0,0,0,0,0,0,0]
[null,null,null,"女　",1,0,0,0,0,0,0,1,0,0,0,0,0]
["Ba32",null,"その他の周産期に特異的な感染症","総数",0,{"$f":"SUM(F102:F103)","v":0},0,0,0,0,0,0,0,0,0,0,0]
[null,null,null,"男　",0,0,0,0,0,0,0,0,0,0,0,0,0]
[null,null,null,"女　",0,0,0,0,0,0,0,0,0,0,0,0,0]
["Ba33",null,"胎児及び新生児の出血性障害及び血液障害","総数",1,{"$f":"SUM(F105:F106)","v":0},0,0,0,1,0,0,0,0,0,0,0]
[null,null,null,"男　",1,0,0,0,0,1,0,0,0,0,0,0,0]
[null,null,null,"女　",0,0,0,0,0,0,0,0,0,0,0,0,0]
["Ba34",null,"その他の周産期に発生した病態","総数",2,{"$f":"SUM(F108:F109)","v":0},0,0,0,0,0,0,1,0,0,0,1]
[null,null,null,"男　",1,0,0,0,0,0,0,0,0,0,0,0,1]
[null,null,null,"女　",1,0,0,0,0,0,0,0,1,0,0,0,0]
["Ba35","先天奇形、変形及び染色体異常",null,"総数",13,{"$f":"SUM(F113,F116,F119,F122,F125,F128,F131,F134)","v":0},0,2,3,0,1,0,3,1,0,1,2]
[null,null,null,"男　",5,{"$f":"SUM(F114,F117,F120,F123,F126,F129,F132,F135)","v":0},0,0,0,0,1,0,2,1,0,0,1]
[null,null,null,"女　",8,0,0,2,3,0,0,0,1,0,0,1,1]
["Ba36",null,"神経系の先天奇形","総数",0,{"$f":"SUM(F114:F115)","v":0},0,0,0,0,0,0,0,0,0,0,0]
[null,null,null,"男　",0,0,0,0,0,0,0,0,0,0,0,0,0]
[null,null,null,"女　",0,0,0,0,0,0,0,0,0,0,0,0,0]
["Ba37",null,"心臓の先天奇形","総数",6,{"$f":"SUM(F117:F118)","v":0},0,1,1,0,0,0,3,0,0,0,1]
[null,null,null,"男　",2,0,0,0,0,0,0,0,2,0,0,0,0]
[null,null,null,"女　",4,0,0,1,1,0,0,0,1,0,0,0,1]
["Ba38",null,"その他の循環器系の先天奇形","総数",0,{"$f":"SUM(F120:F121)","v":0},0,0,0,0,0,0,0,0,0,0,0]
[null,null,null,"男　",0,0,0,0,0,0,0,0,0,0,0,0,0]
[null,null,null,"女　",0,0,0,0,0,0,0,0,0,0,0,0,0]
["Ba39",null,"呼吸器系の先天奇形","総数",1,{"$f":"SUM(F123:F124)","v":0},0,0,1,0,0,0,0,0,0,0,0]
[null,null,null,"男　",0,0,0,0,0,0,0,0,0,0,0,0,0]
[null,null,null,"女　",1,0,0,0,1,0,0,0,0,0,0,0,0]
["Ba40",null,"消化器系の先天奇形","総数",1,{"$f":"SUM(F126:F127)","v":0},0,0,0,0,0,0,0,0,0,1,0]
[null,null,null,"男　",0,0,0,0,0,0,0,0,0,0,0,0,0]
[null,null,null,"女　",1,0,0,0,0,0,0,0,0,0,0,1,0]
["Ba41",null,"筋骨格系の先天奇形及び変形","総数",0,{"$f":"SUM(F129:F130)","v":0},0,0,0,0,0,0,0,0,0,0,0]
[null,null,null,"男　",0,0,0,0,0,0,0,0,0,0,0,0,0]
[null,null,null,"女　",0,0,0,0,0,0,0,0,0,0,0,0,0]
["Ba42",null,"その他の先天奇形及び変形","総数",1,{"$f":"SUM(F132:F133)","v":0},0,0,0,0,0,0,0,0,0,0,1]
[null,null,null,"男　",1,0,0,0,0,0,0,0,0,0,0,0,1]
[null,null,null,"女　",0,0,0,0,0,0,0,0,0,0,0,0,0]
["Ba43",null,"染色体異常、他に分類されないもの","総数",{"$f":"SUM(F134:Q134)","v":4},{"$f":"SUM(F135:F136)","v":0},0,1,1,0,1,0,0,1,0,0,0]
[null,null,null,"男　",2,0,0,0,0,0,1,0,0,1,0,0,0]
[null,null,null,"女　",2,0,0,1,1,0,0,0,0,0,0,0,0]
["Ba44","乳幼児突然死症候群",null,"総数",1,{"$f":"SUM(F138:F139)","v":0},0,0,0,0,0,0,1,0,0,0,0]
[null,null,null,"男　",0,0,0,0,0,0,0,0,0,0,0,0,0]
[null,null,null,"女　",1,0,0,0,0,0,0,0,1,0,0,0,0]
["Ba45","その他のすべての疾患",null,"総数",2,{"$f":"SUM(F141:F142)","v":0},0,0,0,0,1,0,0,1,0,0,0]
[null,null,null,"男　",1,0,0,0,0,0,1,0,0,0,0,0,0]
[null,null,null,"女　",1,0,0,0,0,0,0,0,0,1,0,0,0]
["Ba46","不慮の事故",null,"総数",0,{"$f":"SUM(F146,F149,F152,F155,F158,F161,F164,F167)","v":0},0,0,0,0,0,0,0,0,0,0,0]
[null,null,null,"男　",0,{"$f":"SUM(F147,F150,F153,F156,F159,F162,F165,F168)","v":0},0,0,0,0,0,0,0,0,0,0,0]
[null,null,null,"女　",0,0,0,0,0,0,0,0,0,0,0,0,0]
["Ba47",null,"交 通 事 故","総数",0,{"$f":"SUM(F147:F148)","v":0},0,0,0,0,0,0,0,0,0,0,0]
[null,null,null,"男　",0,0,0,0,0,0,0,0,0,0,0,0,0]
[null,null,null,"女　",0,0,0,0,0,0,0,0,0,0,0,0,0]
["Ba48",null,"転倒・転落","総数",0,{"$f":"SUM(F150:F151)","v":0},0,0,0,0,0,0,0,0,0,0,0]
[null,null,null,"男　",0,0,0,0,0,0,0,0,0,0,0,0,0]
[null,null,null,"女　",0,0,0,0,0,0,0,0,0,0,0,0,0]
["Ba49",null,"不慮の溺死及び溺水","総数",0,{"$f":"SUM(F153:F154)","v":0},0,0,0,0,0,0,0,0,0,0,0]
[null,null,null,"男　",0,0,0,0,0,0,0,0,0,0,0,0,0]
[null,null,null,"女　",0,0,0,0,0,0,0,0,0,0,0,0,0]
["Ba50",null,"胃内容物の誤えん及び気道閉塞を生じた食物等の誤えん","総数",0,{"$f":"SUM(F156:F157)","v":0},0,0,0,0,0,0,0,0,0,0,0]
[null,null,null,"男　",0,0,0,0,0,0,0,0,0,0,0,0,0]
[null,null,null,"女　",0,0,0,0,0,0,0,0,0,0,0,0,0]
["Ba51",null,"その他の不慮の窒息","総数",0,{"$f":"SUM(F159:F160)","v":0},0,0,0,0,0,0,0,0,0,0,0]
[null,null,null,"男　",0,0,0,0,0,0,0,0,0,0,0,0,0]
[null,null,null,"女　",0,0,0,0,0,0,0,0,0,0,0,0,0]
["Ba52",null,"煙、火及び火炎への曝露","総数",0,{"$f":"SUM(F162:F163)","v":0},0,0,0,0,0,0,0,0,0,0,0]
[null,null,null,"男　",0,0,0,0,0,0,0,0,0,0,0,0,0]
[null,null,null,"女　",0,0,0,0,0,0,0,0,0,0,0,0,0]
["Ba53",null,"有害物質による不慮の中毒及び有害物質への曝露","総数",0,{"$f":"SUM(F165:F166)","v":0},0,0,0,0,0,0,0,0,0,0,0]
[null,null,null,"男　",0,0,0,0,0,0,0,0,0,0,0,0,0]
[null,null,null,"女　",0,0,0,0,0,0,0,0,0,0,0,0,0]
["Ba54",null,"その他の不慮の事故","総数",0,{"$f":"SUM(F168:F169)","v":0},0,0,0,0,0,0,0,0,0,0,0]
[null,null,null,"男　",0,0,0,0,0,0,0,0,0,0,0,0,0]
[null,null,null,"女　",0,0,0,0,0,0,0,0,0,0,0,0,0]
["Ba55","他　　　殺",null,"総数",0,{"$f":"SUM(F171:F172)","v":0},0,0,0,0,0,0,0,0,0,0,0]
[null,null,null,"男　",0,0,0,0,0,0,0,0,0,0,0,0,0]
[null,null,null,"女　",0,0,0,0,0,0,0,0,0,0,0,0,0]
["Ba56","その他の外因",null,"総数",1,{"$f":"SUM(F174:F175)","v":0},0,0,0,1,0,0,0,0,0,0,0]
[null,null,null,"男　",1,0,0,0,0,1,0,0,0,0,0,0,0]
[null,null,null,"女　",0,0,0,0,0,0,0,0,0,0,0,0,0]

{"sheet":"8 死亡の場所別，年次別死亡数・百分率","index":7,"n_rows":74,"n_cols":9,"rows_kept":74,"cut":false,"hidden":false,"merged":[[4,1,4,8],[39,1,39,8],[2,2,2,5],[2,0,3,0],[2,1,3,1],[2,6,2,8]]}
["8　死亡の場所別にみた年次別乳児死亡数及び百分率"]
[]
["年次","総数","施設内",null,null,null,"施設外"]
[null,null,"総数","病院","診療所","助産所","総  数","自宅","その他"]
[null,"乳児死亡数"]
["  85      60",101,88,87,1,0,13,10,3]
["1986  昭和61年",86,71,67,4,0,15,11,4]
["1987  昭和62年",88,76,71,5,0,12,8,4]
["1988  昭和63年",80,67,65,2,0,13,10,3]
["  89  平成元年　",75,69,65,4,0,6,5,1]
["  90       2",85,78,74,4,0,7,6,1]
["  91       3",63,57,55,2,0,6,4,2]
["  93       4",57,50,49,1,0,7,6,1]
["1993   平成5年",51,50,47,3,0,1,1,0]
["  94       6",65,55,54,1,0,10,10,0]
["  95       7",53,45,45,0,0,8,7,1]
["  96       8",55,52,52,0,0,3,2,1]
["  97       9",52,45,44,1,0,7,7,0]
["1998  平成10年",45,41,41,0,0,4,3,1]
["  99      11",32,26,26,0,0,6,5,1]
["2000      12",34,26,26,0,0,8,7,1]
["  01      13",33,23,22,1,0,10,9,1]
["  02      14",31,26,26,0,0,5,5,0]
["  03      15",40,35,35,0,0,5,3,2]
["  04      16",45,35,34,1,0,10,10,0]
["  05      17",38,31,29,2,0,7,5,2]
["  06      18",34,29,28,1,0,5,4,1]
["  07      19",34,25,24,1,0,9,8,1]
["  08      20",34,30,28,2,0,4,4,0]
["  09      21",33,24,24,0,0,9,9,0]
["  10      22",26,20,20,0,0,6,5,1]
["  11      23",40,32,31,1,0,8,8,0]
["  12      24",34,27,26,1,0,7,6,1]
["  13      25",34,30,30,0,0,4,4,0]
["  14      26",26,25,23,2,0,1,1,0]
["  15      27",27,27,27,0,0,0,0,0]
["  16      28",29,28,28,0,0,1,1,0]
["  17      29",25,24,24,0,0,1,1,0]
["  18      30",{"$f":"SUM(C39,G39)","v":34},{"$f":"SUM(D39:E39)","v":31},{"$f":"'[3]■8 死亡の場所別，年次別死亡数・百分率'!$D$5","v":30},{"$f":"'[3]■8 死亡の場所別，年次別死亡数・百分率'!$E$5","v":1},{"$f":"'[3]■8 死亡の場所別，年次別死亡数・百分率'!$F$5","v":0},{"$f":"SUM(H39:I39)","v":3},{"$f":"'[3]■8 死亡の場所別，年次別死亡数・百分率'!$H$5","v":3},{"$f":"'[3]■8 死亡の場所別，年次別死亡数・百分率'!$I$5","v":0}]
[null,"百分率"]
["  85      60",100,87.128712871287135,86.138613861386133,0.99009900990099009,0,12.871287128712872,9.9009900990099009,2.9702970297029703]
["1986  昭和61年",100,82.558139534883722,77.906976744186053,4.6511627906976747,0,17.441860465116278,12.790697674418606,4.6511627906976747]
["1987  昭和62年",100,86.36363636363636,80.681818181818173,5.6818181818181817,0,13.636363636363635,9.0909090909090917,4.5454545454545459]
["1988  昭和63年",100,83.75,81.25,2.5,0,16.25,12.5,3.75]
["  89  平成元年　",100,92,86.666666666666671,5.3333333333333339,0,8,6.666666666666667,1.3333333333333335]
["  90       2",100,91.764705882352942,87.058823529411768,4.7058823529411766,0,8.235294117647058,7.0588235294117645,1.1764705882352942]
["  91       3",100,90.476190476190482,87.301587301587304,3.1746031746031744,0,9.5238095238095237,6.3492063492063489,3.1746031746031744]
["  93       4",100,87.719298245614027,85.964912280701753,1.7543859649122806,0,12.280701754385964,10.526315789473683,1.7543859649122806]
["1993   平成5年",100,98.039215686274503,92.156862745098039,5.8823529411764701,0,1.9607843137254901,1.9607843137254901,0]
["  94       6",100,84.615384615384613,83.07692307692308,1.5384615384615385,0,15.384615384615385,15.384615384615385,0]
["  95       7",100,84.905660377358487,84.905660377358487,0,0,15.09433962264151,13.20754716981132,1.8867924528301887]
["  96       8",100,94.545454545454547,94.545454545454547,0,0,5.4545454545454541,3.6363636363636362,1.8181818181818181]
["  97       9",100,86.538461538461547,84.615384615384613,1.9230769230769231,0,13.461538461538462,13.461538461538462,0]
["1998  平成10年",100,91.111111111111114,91.111111111111114,0,0,8.8888888888888893,6.666666666666667,2.2222222222222223]
["  99      11",100,81.25,81.25,0,0,18.75,15.625,3.125]
["2000      12",100,76.470588235294116,76.470588235294116,0,0,23.52941176470588,20.588235294117645,2.9411764705882351]
["  01      13",100,69.696969696969703,66.666666666666657,3.0303030303030303,0,30.303030303030305,27.27272727272727,3.0303030303030303]
["  02      14",100,83.870967741935488,83.870967741935488,0,0,16.129032258064516,16.129032258064516,0]
["  03      15",100,87.5,87.5,0,0,12.5,7.5,5]
["  04      16",100,77.777777777777786,75.555555555555557,2.2222222222222223,0,22.222222222222221,22.222222222222221,0]
["  05      17",100,81.578947368421055,76.31578947368422,5.2631578947368416,0,18.421052631578945,13.157894736842104,5.2631578947368416]
["  06      18",100,85.294117647058826,82.35294117647058,2.9411764705882351,0,14.705882352941178,11.76470588235294,2.9411764705882351]
["  07      19",100,73.529411764705884,70.588235294117652,2.9411764705882351,0,26.47058823529412,23.52941176470588,2.9411764705882351]
["  08      20",100,88.235294117647058,82.35294117647058,5.8823529411764701,0,11.76470588235294,11.76470588235294,0]
["  09      21",100,72.727272727272734,72.727272727272734,0,0,27.27272727272727,27.27272727272727,0]
["  10      22",{"$f":"SUM(C66,G66)","v":100.00000000000001},{"$f":"C31/$B31*100","v":76.923076923076934},76.923076923076934,0,0,23.076923076923077,19.230769230769234,3.8461538461538463]
["  11      23",100,80,77.5,2.5,0,20,20,0]
["  12      24",100,79.411764705882348,76.470588235294116,2.9411764705882351,0,20.588235294117645,17.647058823529413,2.9411764705882351]
["  13      25",100,88.235294117647058,88.235294117647058,0,0,11.76470588235294,11.76470588235294,0]
["  14      26",100,96.15384615384616,88.461538461538453,7.6923076923076925,0,3.8461538461538463,3.8461538461538463,0]
["  15      27",100,100,100,0,0,0,0,0]
["  16      28",100,96.551724137931032,96.551724137931032,0,0,3.4482758620689653,3.4482758620689653,0]
["  17      29",100,96,96,0,0,4,4,0]
["  18      30",{"$f":"SUM(C74,G74)","v":100},{"$f":"C39/$B39*100","v":91.17647058823529},88.235294117647058,2.9411764705882351,0,8.8235294117647065,8.8235294117647065,0]

{"sheet":"9 生存期間・性別，乳児簡単死因分類別死亡数","index":8,"n_rows":176,"n_cols":28,"rows_kept":176,"cut":false,"hidden":false,"merged":[[2,5,2,27],[8,1,10,2],[2,4,3,4],[14,0,16,0],[17,0,19,0],[8,0,10,0],[11,0,13,0],[2,0,3,0],[5,0,7,0],[14,1,16,2],[17,1,19,2],[2,1,3,3],[5,1,7,2],[20,0,22,0],[23,0,25,0],[26,0,28,0],[29,0,31,0],[32,0,34,0],[35,0,37,0],[38,0,40,0],[41,0,43,0],[11,1,13,2],[41,1,43,2],[26,2,28,2],[32,1,34,2],[35,1,37,2],[38,1,40,2],[29,2,31,2],[20,1,22,2],[23,1,25,2],[89,0,91,0],[44,0,46,0],[47,0,49,0],[50,0,52,0],[53,0,55,0],[56,0,58,0],[59,0,61,0],[62,0,64,0],[65,0,67,0],[173,0,175,0],[158,0,160,0],[161,0,163,0],[164,0,166,0],[167,0,169,0],[116,0,118,0],[119,0,121,0],[122,0,124,0],[125,0,127,0],[128,0,130,0],[131,0,133,0],[134,0,136,0],[137,0,139,0],[152,0,154,0],[155,0,157,0],[140,0,142,0],[143,0,145,0],[146,0,148,0],[149,0,151,0],[44,1,46,2],[170,0,172,0],[92,0,94,0],[95,0,97,0],[98,0,100,0],[101,0,103,0],[104,0,106,0],[107,0,109,0],[110,0,112,0],[113,0,115,0],[68,0,70,0],[71,0,73,0],[74,0,76,0],[77,0,79,0],[80,0,82,0],[83,0,85,0],[86,0,88,0],[47,1,49,2],[50,1,52,2],[77,2,79,2],[80,2,82,2],[83,2,85,2],[86,2,88,2],[89,2,91,2],[92,2,94,2],[95,2,97,2],[98,2,100,2],[53,1,55,2],[56,1,58,2],[59,1,61,2],[62,1,64,2],[65,1,67,2],[68,1,70,2],[71,1,73,2],[74,1,76,2],[101,2,103,2],[104,2,106,2],[107,2,109,2],[110,1,112,2],[113,2,115,2],[116,2,118,2],[119,2,121,2],[122,2,124,2],[146,2,148,2],[143,1,145,2],[137,1,139,2],[140,1,142,2],[125,2,127,2],[128,2,130,2],[131,2,133,2],[134,2,136,2],[170,1,172,2],[173,1,175,2],[167,2,169,2],[164,2,166,2],[161,2,163,2],[158,2,160,2],[155,2,157,2],[152,2,154,2],[149,2,151,2]]}
["9　生存期間・性別にみた乳児死因簡単分類別乳児死亡数"]
[null,null,null,null,null,null,null,null,null,null,null,null,null,null,null,null,null,null,null,null,null,null,null,null,null,null,null,{"$f":"'3　乳児死亡数，月・性・区別'!$O$2","v":"平成30年"}]
["乳児死因\n簡単分類\nコ ー ド","死因・性",null,null,"総数","　　　　　　　　　　　　　　　　　日　　　　　　　　　　　　　　　　　　　齢　　　　　　　　　　　　　　　　　　　　－　　　　　　　　　　　　　　　　　　月　　　　　　　　　　　　　　　　　　齢"]
[null,null,null,null,null,"1日\n未満","1日","2日","3日","4日","5日","6日","１週未満","1週～\n2週未満","2週～\n3週未満","3週～\n4週未満","4週未満　","4週～\n2か月未満","2か月","3か月","4か月","5か月","6か月","7か月","8か月","9か月","10か月","11か月"]
[]
[null,"総　　　数",null,"総数",{"$f":"SUM(E9,E12,E15,E18,E21,E24,E33,E36,E39,E42,E45,E48,E51,E54,E57,E60,E63,E66,E69,E72,E75,E111,E138,E141,E144,E171,E174)","v":34},{"$f":"SUM(F9,F12,F15,F18,F21,F24,F33,F36,F39,F42,F45,F48,F51,F54,F57,F60,F63,F66,F69,F72,F75,F111,F138,F141,F144,F171,F174)","v":10},1,0,3,0,1,0,15,1,3,1,20,3,2,2,3,1,1,0,1,1,0,0]
[null,null,null,"男   ",{"$f":"SUM(E10,E13,E16,E19,E22,E25,E34,E37,E40,E43,E46,E49,E52,E55,E58,E61,E64,E67,E70,E73,E76,E112,E139,E142,E145,E172,E175)","v":16},6,1,0,1,0,0,0,8,0,2,1,11,1,1,0,2,0,0,0,0,1,0,0]
[null,null,null,"女   ",{"$f":"SUM(E11,E14,E17,E20,E23,E26,E35,E38,E41,E44,E47,E50,E53,E56,E59,E62,E65,E68,E71,E74,E77,E113,E140,E143,E146,E173,E176)","v":18},4,0,0,2,0,1,0,7,1,1,0,9,2,1,2,1,1,1,0,1,0,0,0]
["Ba01","腸管感染症",null,"総数",{"$f":"SUM(Q9:AB9)","v":0},{"$f":"SUM(F10:F11)","v":0},{"$f":"SUM(G10:G11)","v":0},{"$f":"SUM(H10:H11)","v":0},0,0,0,0,0,0,0,0,0,0,0,0,0,0,0,0,0,0,0,0]
[null,null,null,"男   ",{"$f":"SUM(Q10:AB10)","v":0},0,0,0,0,0,0,0,{"$f":"SUM(F10:L10)","v":0},0,0,0,{"$f":"SUM(M10:P10)","v":0},0,0,0,0,0,0,0,0,0,0,0]
[null,null,null,"女   ",0,0,0,0,0,0,0,0,{"$f":"SUM(F11:L11)","v":0},0,0,0,0,0,0,0,0,0,0,0,0,0,0,0]
["Ba02","敗血症（新生児の細菌性敗血症を除く）",null,"総数",1,{"$f":"SUM(F13:F14)","v":0},{"$f":"SUM(G13:G14)","v":0},{"$f":"SUM(H13:H14)","v":0},0,0,0,0,{"$f":"SUM(M13:M14)","v":0},{"$f":"SUM(N13:N14)","v":0},0,0,0,0,{"$f":"SUM(S13:S14)","v":0},0,0,0,0,0,0,1,0,0]
[null,null,null,"男   ",1,0,0,0,0,0,0,0,{"$f":"SUM(F13:L13)","v":0},0,0,0,0,0,0,0,0,0,0,0,0,1,0,0]
[null,null,null,"女   ",0,0,0,0,0,0,0,0,{"$f":"SUM(F14:L14)","v":0},0,0,0,0,0,0,0,0,0,0,0,0,0,0,0]
["Ba03","麻　　　疹",null,"総数",0,{"$f":"SUM(F16:F17)","v":0},{"$f":"SUM(G16:G17)","v":0},{"$f":"SUM(H16:H17)","v":0},0,0,0,0,0,0,0,0,0,0,{"$f":"SUM(S16:S17)","v":0},0,0,0,0,0,0,0,0,0]
[null,null,null,"男   ",0,0,0,0,0,0,0,0,{"$f":"SUM(F16:L16)","v":0},0,0,0,0,0,0,0,0,0,0,0,0,0,0,0]
[null,null,null,"女   ",0,0,0,0,0,0,0,0,{"$f":"SUM(F17:L17)","v":0},0,0,0,0,0,0,0,0,0,0,0,0,0,0,0]
["Ba04","ウイルス肝炎",null,"総数",0,{"$f":"SUM(F19:F20)","v":0},{"$f":"SUM(G19:G20)","v":0},{"$f":"SUM(H19:H20)","v":0},0,0,0,0,0,0,0,0,0,0,{"$f":"SUM(S19:S20)","v":0},0,0,0,0,0,0,0,0,0]
[null,null,null,"男   ",0,0,0,0,0,0,0,0,{"$f":"SUM(F19:L19)","v":0},0,0,0,0,0,0,0,0,0,0,0,0,0,0,0]
[null,null,null,"女   ",0,0,0,0,0,0,0,0,{"$f":"SUM(F20:L20)","v":0},0,0,0,0,0,0,0,0,0,0,0,0,0,0,0]
["Ba05","その他の感染症及び寄生虫症",null,"総数",0,{"$f":"SUM(F22:F23)","v":0},{"$f":"SUM(G22:G23)","v":0},{"$f":"SUM(H22:H23)","v":0},0,0,0,0,0,0,0,0,0,0,{"$f":"SUM(S22:S23)","v":0},0,0,0,0,0,0,0,0,0]
[null,null,null,"男   ",0,0,0,0,0,0,0,0,{"$f":"SUM(F22:L22)","v":0},0,0,0,0,0,0,0,0,0,0,0,0,0,0,0]
[null,null,null,"女   ",0,0,0,0,0,0,0,0,{"$f":"SUM(F23:L23)","v":0},0,0,0,0,0,0,0,0,0,0,0,0,0,0,0]
["Ba06","悪性新生物",null,"総数",0,{"$f":"SUM(F27,F30)","v":0},{"$f":"SUM(G27,G30)","v":0},0,0,0,0,0,0,0,0,0,0,0,{"$f":"SUM(S27,S30)","v":0},0,0,0,0,0,0,0,0,0]
[null,null,null,"男   ",0,{"$f":"SUM(F28,F31)","v":0},{"$f":"SUM(G28,G31)","v":0},{"$f":"SUM(H28,H31)","v":0},0,0,0,0,0,0,0,0,0,0,{"$f":"SUM(S28,S31)","v":0},0,0,0,0,0,0,0,0,0]
[null,null,null,"女   ",0,{"$f":"SUM(F29,F32)","v":0},{"$f":"SUM(G29,G32)","v":0},0,0,0,0,0,0,0,0,0,0,0,{"$f":"SUM(S29,S32)","v":0},0,0,0,0,0,0,0,0,0]
["Ba07",null,"白　血　病","総数",0,{"$f":"SUM(F28:F29)","v":0},{"$f":"SUM(G28:G29)","v":0},{"$f":"SUM(H28:H29)","v":0},0,0,0,0,0,0,0,0,0,0,{"$f":"SUM(S28:S29)","v":0},0,0,0,0,0,0,0,0,0]
[null,null,null,"男   ",0,0,0,0,0,0,0,0,{"$f":"SUM(F28:L28)","v":0},0,0,0,0,0,0,0,0,0,0,0,0,0,0,0]
[null,null,null,"女   ",0,0,0,0,0,0,0,0,{"$f":"SUM(F29:L29)","v":0},0,0,0,0,0,0,0,0,0,0,0,0,0,0,0]
["Ba08",null,"その他の悪性新生物","総数",0,{"$f":"SUM(F31:F32)","v":0},{"$f":"SUM(G31:G32)","v":0},{"$f":"SUM(H31:H32)","v":0},0,0,0,0,0,0,0,0,0,0,{"$f":"SUM(S31:S32)","v":0},0,0,0,0,0,0,0,0,0]
[null,null,null,"男   ",0,0,0,0,0,0,0,0,{"$f":"SUM(F31:L31)","v":0},0,0,0,0,0,0,0,0,0,0,0,0,0,0,0]
[null,null,null,"女   ",0,0,0,0,0,0,0,0,{"$f":"SUM(F32:L32)","v":0},0,0,0,0,0,0,0,0,0,0,0,0,0,0,0]
["Ba09","その他の新生物",null,"総数",0,{"$f":"SUM(F34:F35)","v":0},{"$f":"SUM(G34:G35)","v":0},{"$f":"SUM(H34:H35)","v":0},0,0,0,0,0,0,0,0,0,0,{"$f":"SUM(S34:S35)","v":0},0,0,0,0,0,0,0,0,0]
[null,null,null,"男   ",0,0,0,0,0,0,0,0,{"$f":"SUM(F34:L34)","v":0},0,0,0,0,0,0,0,0,0,0,0,0,0,0,0]
[null,null,null,"女   ",0,0,0,0,0,0,0,0,{"$f":"SUM(F35:L35)","v":0},0,0,0,0,0,0,0,0,0,0,0,0,0,0,0]
["Ba10","栄養失調症及びその他の栄養欠乏症",null,"総数",0,{"$f":"SUM(F37:F38)","v":0},{"$f":"SUM(G37:G38)","v":0},0,0,0,0,0,0,0,0,0,0,0,{"$f":"SUM(S37:S38)","v":0},0,0,0,0,0,0,0,0,0]
[null,null,null,"男   ",0,0,0,0,0,0,0,0,{"$f":"SUM(F37:L37)","v":0},0,0,0,{"$f":"SUM(M37:P37)","v":0},0,0,0,0,0,0,0,0,0,0,0]
[null,null,null,"女   ",0,0,0,0,0,0,0,0,{"$f":"SUM(F38:L38)","v":0},0,0,0,{"$f":"SUM(M38:P38)","v":0},0,0,0,0,0,0,0,0,0,0,0]
["Ba11","代 謝 障 害",null,"総数",0,{"$f":"SUM(F40:F41)","v":0},0,0,0,0,0,0,0,0,0,0,{"$f":"SUM(Q40:Q41)","v":0},{"$f":"SUM(R40:R41)","v":0},{"$f":"SUM(S40:S41)","v":0},0,0,0,0,0,0,0,0,{"$f":"SUM(AB40:AB41)","v":0}]
[null,null,null,"男   ",0,0,0,0,0,0,0,0,{"$f":"SUM(F40:L40)","v":0},0,0,0,{"$f":"SUM(M40:P40)","v":0},0,0,0,0,0,0,0,0,0,0,0]
[null,null,null,"女   ",0,0,0,0,0,0,0,0,{"$f":"SUM(F41:L41)","v":0},0,0,0,{"$f":"SUM(M41:P41)","v":0},0,0,0,0,0,0,0,0,0,0,0]
["Ba12","髄　膜　炎",null,"総数",0,{"$f":"SUM(F43:F44)","v":0},{"$f":"SUM(G43:G44)","v":0},0,0,0,0,0,0,0,0,0,0,0,{"$f":"SUM(S43:S44)","v":0},0,0,0,0,0,0,0,0,0]
[null,null,null,"男   ",0,0,0,0,0,0,0,0,{"$f":"SUM(F43:L43)","v":0},0,0,0,{"$f":"SUM(M43:P43)","v":0},0,0,0,0,0,0,0,0,0,0,0]
[null,null,null,"女   ",0,0,0,0,0,0,0,0,{"$f":"SUM(F44:L44)","v":0},0,0,0,{"$f":"SUM(M44:P44)","v":0},0,0,0,0,0,0,0,0,0,0,0]
["Ba13","脊髄性筋萎縮症及び関連症候群",null,"総数",0,{"$f":"SUM(F46:F47)","v":0},{"$f":"SUM(G46:G47)","v":0},0,0,0,0,0,0,0,0,0,0,0,{"$f":"SUM(S46:S47)","v":0},0,0,0,0,0,0,0,0,0]
[null,null,null,"男   ",0,0,0,0,0,0,0,0,{"$f":"SUM(F46:L46)","v":0},0,0,0,{"$f":"SUM(M46:P46)","v":0},0,0,0,0,0,0,0,0,0,0,0]
[null,null,null,"女   ",0,0,0,0,0,0,0,0,{"$f":"SUM(F47:L47)","v":0},0,0,0,{"$f":"SUM(M47:P47)","v":0},0,0,0,0,0,0,0,0,0,0,0]
["Ba14","脳 性 麻 痺",null,"総数",0,{"$f":"SUM(F49:F50)","v":0},{"$f":"SUM(G49:G50)","v":0},0,0,0,0,0,{"$f":"SUM(M49:M50)","v":0},0,0,0,0,0,{"$f":"SUM(S49:S50)","v":0},0,0,0,0,0,0,0,0,0]
[null,null,null,"男   ",0,0,0,0,0,0,0,0,{"$f":"SUM(F49:L49)","v":0},0,0,0,{"$f":"SUM(M49:P49)","v":0},0,0,0,0,0,0,0,0,0,0,0]
[null,null,null,"女   ",0,0,0,0,0,0,0,0,{"$f":"SUM(F50:L50)","v":0},0,0,0,{"$f":"SUM(M50:P50)","v":0},0,0,0,0,0,0,0,0,0,0,0]
["Ba15","心疾患（高血圧性を除く）",null,"総数",2,{"$f":"SUM(F52:F53)","v":0},{"$f":"SUM(G52:G53)","v":0},0,0,0,0,0,{"$f":"SUM(M52:M53)","v":0},0,0,0,0,1,{"$f":"SUM(S52:S53)","v":0},0,0,0,0,0,1,0,0,0]
[null,null,null,"男   ",0,0,0,0,0,0,0,0,{"$f":"SUM(F52:L52)","v":0},0,0,0,{"$f":"SUM(M52:P52)","v":0},0,0,0,0,0,0,0,0,0,0,0]
[null,null,null,"女   ",2,0,0,0,0,0,0,0,{"$f":"SUM(F53:L53)","v":0},0,0,0,{"$f":"SUM(M53:P53)","v":0},1,0,0,0,0,0,0,1,0,0,0]
["Ba16","脳血管疾患",null,"総数",0,{"$f":"SUM(F55:F56)","v":0},{"$f":"SUM(G55:G56)","v":0},0,0,0,0,0,0,0,0,0,0,0,{"$f":"SUM(S55:S56)","v":0},0,0,0,0,0,0,0,0,0]
[null,null,null,"男   ",0,0,0,0,0,0,0,0,{"$f":"SUM(F55:L55)","v":0},0,0,0,{"$f":"SUM(M55:P55)","v":0},0,0,0,0,0,0,0,0,0,0,0]
[null,null,null,"女   ",0,0,0,0,0,0,0,0,{"$f":"SUM(F56:L56)","v":0},0,0,0,{"$f":"SUM(M56:P56)","v":0},0,0,0,0,0,0,0,0,0,0,0]
["Ba17","インフルエンザ",null,"総数",0,{"$f":"SUM(F58:F59)","v":0},{"$f":"SUM(G58:G59)","v":0},0,0,0,0,0,0,0,0,0,0,0,{"$f":"SUM(S58:S59)","v":0},0,0,0,0,0,0,0,0,0]
[null,null,null,"男   ",0,0,0,0,0,0,0,0,{"$f":"SUM(F58:L58)","v":0},0,0,0,{"$f":"SUM(M58:P58)","v":0},0,0,0,0,0,0,0,0,0,0,0]
[null,null,null,"女   ",0,0,0,0,0,0,0,0,{"$f":"SUM(F59:L59)","v":0},0,0,0,{"$f":"SUM(M59:P59)","v":0},0,0,0,0,0,0,0,0,0,0,0]
["Ba18","肺　　　炎",null,"総数",1,{"$f":"SUM(F61:F62)","v":0},{"$f":"SUM(G61:G62)","v":0},0,0,0,0,0,0,1,0,0,1,0,{"$f":"SUM(S61:S62)","v":0},0,0,0,0,0,0,0,0,0]
[null,null,null,"男   ",0,0,0,0,0,0,0,0,{"$f":"SUM(F61:L61)","v":0},0,0,0,{"$f":"SUM(M61:P61)","v":0},0,0,0,0,0,0,0,0,0,0,0]
[null,null,null,"女   ",1,0,0,0,0,0,0,0,{"$f":"SUM(F62:L62)","v":0},1,0,0,{"$f":"SUM(M62:P62)","v":1},0,0,0,0,0,0,0,0,0,0,0]
["Ba19","喘　　　息",null,"総数",0,{"$f":"SUM(F64:F65)","v":0},{"$f":"SUM(G64:G65)","v":0},0,0,0,0,0,0,0,0,0,0,0,{"$f":"SUM(S64:S65)","v":0},0,0,0,0,0,0,0,0,0]
[null,null,null,"男   ",0,0,0,0,0,0,0,0,{"$f":"SUM(F64:L64)","v":0},0,0,0,{"$f":"SUM(M64:P64)","v":0},0,0,0,0,0,0,0,0,0,0,0]
[null,null,null,"女   ",0,0,0,0,0,0,0,0,{"$f":"SUM(F65:L65)","v":0},0,0,0,{"$f":"SUM(M65:P65)","v":0},0,0,0,0,0,0,0,0,0,0,0]
["Ba20","ヘルニア及び腸閉塞",null,"総数",0,{"$f":"SUM(F67:F68)","v":0},{"$f":"SUM(G67:G68)","v":0},0,0,0,0,0,0,0,0,0,0,0,{"$f":"SUM(S67:S68)","v":0},0,0,0,0,0,0,0,0,0]
[null,null,null,"男   ",0,0,0,0,0,0,0,0,{"$f":"SUM(F67:L67)","v":0},0,0,0,{"$f":"SUM(M67:P67)","v":0},0,0,0,0,0,0,0,0,0,0,0]
[null,null,null,"女   ",0,0,0,0,0,0,0,0,{"$f":"SUM(F68:L68)","v":0},0,0,0,{"$f":"SUM(M68:P68)","v":0},0,0,0,0,0,0,0,0,0,0,0]
["Ba21","肝　疾　患",null,"総数",1,{"$f":"SUM(F70:F71)","v":0},{"$f":"SUM(G70:G71)","v":0},0,0,0,0,0,0,0,0,0,0,0,{"$f":"SUM(S70:S71)","v":0},0,1,0,0,0,0,0,0,0]
[null,null,null,"男   ",0,0,0,0,0,0,0,0,{"$f":"SUM(F70:L70)","v":0},0,0,0,{"$f":"SUM(M70:P70)","v":0},0,0,0,0,0,0,0,0,0,0,0]
[null,null,null,"女   ",1,0,0,0,0,0,0,0,{"$f":"SUM(F71:L71)","v":0},0,0,0,{"$f":"SUM(M71:P71)","v":0},0,0,0,1,0,0,0,0,0,0,0]
["Ba22","腎　不　全",null,"総数",0,{"$f":"SUM(F73:F74)","v":0},{"$f":"SUM(G73:G74)","v":0},0,0,0,0,0,0,0,0,0,0,0,{"$f":"SUM(S73:S74)","v":0},0,0,0,0,0,0,0,0,0]
[null,null,null,"男   ",0,0,0,0,0,0,0,0,{"$f":"SUM(F73:L73)","v":0},0,0,0,{"$f":"SUM(M73:P73)","v":0},0,0,0,0,0,0,0,0,0,0,0]
[null,null,null,"女   ",{"$f":"SUM(Q74:AB74)","v":0},0,0,0,0,0,0,0,{"$f":"SUM(F74:L74)","v":0},0,0,0,{"$f":"SUM(M74:P74)","v":0},0,0,0,0,0,0,0,0,0,0,0]
["Ba23","周産期に発生した病態",null,"総数",{"$f":"SUM(Q75:AB75)","v":12},{"$f":"SUM(F78,F81,F84,F87,F90,F93,F96,F99,F102,F105,F108)","v":7},{"$f":"SUM(G78,G81,G84,G87,G90,G93,G96,G99,G102,G105,G108)","v":1},0,2,0,0,0,10,0,2,0,12,0,{"$f":"SUM(S78,S81,S84,S87,S90,S93,S96,S99,S102,S105,S108)","v":0},0,0,0,0,0,0,0,0,{"$f":"SUM(AB78,AB81,AB84,AB87,AB90,AB93,AB96,AB99,AB102,AB105,AB108)","v":0}]
[null,null,null,"男   ",8,{"$f":"SUM(F79,F82,F85,F88,F91,F94,F97,F100,F103,F106,F109)","v":4},{"$f":"SUM(G79,G82,G85,G88,G91,G94,G97,G100,G103,G106,G109)","v":1},0,1,0,0,0,6,0,2,0,8,0,{"$f":"SUM(S79,S82,S85,S88,S91,S94,S97,S100,S103,S106,S109)","v":0},0,0,0,0,0,0,0,0,{"$f":"SUM(AB79,AB82,AB85,AB88,AB91,AB94,AB97,AB100,AB103,AB106,AB109)","v":0}]
[null,null,null,"女   ",4,{"$f":"SUM(F80,F83,F86,F89,F92,F95,F98,F101,F104,F107,F110)","v":3},{"$f":"SUM(G80,G83,G86,G89,G92,G95,G98,G101,G104,G107,G110)","v":0},0,1,0,0,0,4,0,0,0,4,0,{"$f":"SUM(S80,S83,S86,S89,S92,S95,S98,S101,S104,S107,S110)","v":0},0,0,0,0,0,0,0,0,{"$f":"SUM(AB80,AB83,AB86,AB89,AB92,AB95,AB98,AB101,AB104,AB107,AB110)","v":0}]
["Ba24",null,"妊娠期間及び胎児発育に関連する障害","総数",0,{"$f":"SUM(F79:F80)","v":0},{"$f":"SUM(G79:G80)","v":0},0,0,0,0,0,0,0,0,0,0,0,{"$f":"SUM(S79:S80)","v":0},0,0,0,0,0,0,0,0,0]
[null,null,null,"男   ",0,0,0,0,0,0,0,0,{"$f":"SUM(F79:L79)","v":0},0,0,0,{"$f":"SUM(M79:P79)","v":0},0,0,0,0,0,0,0,0,0,0,0]
[null,null,null,"女   ",0,0,0,0,0,0,0,0,{"$f":"SUM(F80:L80)","v":0},0,0,0,{"$f":"SUM(M80:P80)","v":0},0,0,0,0,0,0,0,0,0,0,0]
["Ba25",null,"出 産 外 傷","総数",0,{"$f":"SUM(F82:F83)","v":0},{"$f":"SUM(G82:G83)","v":0},0,0,0,0,0,0,0,0,0,0,0,{"$f":"SUM(S82:S83)","v":0},0,0,0,0,0,0,0,0,0]
[null,null,null,"男   ",0,0,0,0,0,0,0,0,{"$f":"SUM(F82:L82)","v":0},0,0,0,{"$f":"SUM(M82:P82)","v":0},0,0,0,0,0,0,0,0,0,0,0]
[null,null,null,"女   ",0,0,0,0,0,0,0,0,{"$f":"SUM(F83:L83)","v":0},0,0,0,{"$f":"SUM(M83:P83)","v":0},0,0,0,0,0,0,0,0,0,0,0]
["Ba26",null,"出生時仮死","総数",2,{"$f":"SUM(F85:F86)","v":1},{"$f":"SUM(G85:G86)","v":1},0,0,0,0,0,2,0,0,0,2,0,{"$f":"SUM(S85:S86)","v":0},0,0,0,0,0,0,0,0,0]
[null,null,null,"男   ",1,0,1,0,0,0,0,0,{"$f":"SUM(F85:L85)","v":1},0,0,0,{"$f":"SUM(M85:P85)","v":1},0,0,0,0,0,0,0,0,0,0,0]
[null,null,null,"女   ",1,1,0,0,0,0,0,0,{"$f":"SUM(F86:L86)","v":1},0,0,0,{"$f":"SUM(M86:P86)","v":1},0,0,0,0,0,0,0,0,0,0,0]
["Ba27",null,"新生児の呼吸窮迫","総数",3,{"$f":"SUM(F88:F89)","v":3},{"$f":"SUM(G88:G89)","v":0},0,0,0,0,0,3,0,0,0,3,0,{"$f":"SUM(S88:S89)","v":0},0,0,0,0,0,0,0,0,0]
[null,null,null,"男   ",3,3,0,0,0,0,0,0,{"$f":"SUM(F88:L88)","v":3},0,0,0,{"$f":"SUM(M88:P88)","v":3},0,0,0,0,0,0,0,0,0,0,0]
[null,null,null,"女   ",0,0,0,0,0,0,0,0,{"$f":"SUM(F89:L89)","v":0},0,0,0,{"$f":"SUM(M89:P89)","v":0},0,0,0,0,0,0,0,0,0,0,0]
["Ba28",null,"周産期に発生した肺出血","総数",0,{"$f":"SUM(F91:F92)","v":0},{"$f":"SUM(G91:G92)","v":0},0,0,0,0,0,0,0,0,0,0,0,{"$f":"SUM(S91:S92)","v":0},0,0,0,0,0,0,0,0,0]
[null,null,null,"男   ",0,0,0,0,0,0,0,0,{"$f":"SUM(F91:L91)","v":0},0,0,0,{"$f":"SUM(M91:P91)","v":0},0,0,0,0,0,0,0,0,0,0,0]
[null,null,null,"女   ",0,0,0,0,0,0,0,0,{"$f":"SUM(F92:L92)","v":0},0,0,0,{"$f":"SUM(M92:P92)","v":0},0,0,0,0,0,0,0,0,0,0,0]
["Ba29",null,"周産期に発生した心血管障害","総数",1,{"$f":"SUM(F94:F95)","v":0},{"$f":"SUM(G94:G95)","v":0},0,0,0,0,0,0,0,1,0,1,0,{"$f":"SUM(S94:S95)","v":0},0,0,0,0,0,0,0,0,0]
[null,null,null,"男   ",1,0,0,0,0,0,0,0,{"$f":"SUM(F94:L94)","v":0},0,1,0,{"$f":"SUM(M94:P94)","v":1},0,0,0,0,0,0,0,0,0,0,0]
[null,null,null,"女   ",0,0,0,0,0,0,0,0,{"$f":"SUM(F95:L95)","v":0},0,0,0,{"$f":"SUM(M95:P95)","v":0},0,0,0,0,0,0,0,0,0,0,0]
["Ba30",null,"その他の周産期に特異的な呼吸障害及び心血管障害","総数",2,{"$f":"SUM(F97:F98)","v":2},{"$f":"SUM(G97:G98)","v":0},0,0,0,0,0,2,0,0,0,2,0,{"$f":"SUM(S97:S98)","v":0},0,0,0,0,0,0,0,0,0]
[null,null,null,"男   ",1,1,0,0,0,0,0,0,{"$f":"SUM(F97:L97)","v":1},0,0,0,{"$f":"SUM(M97:P97)","v":1},0,0,0,0,0,0,0,0,0,0,0]
[null,null,null,"女   ",1,1,0,0,0,0,0,0,{"$f":"SUM(F98:L98)","v":1},0,0,0,{"$f":"SUM(M98:P98)","v":1},0,0,0,0,0,0,0,0,0,0,0]
["Ba31",null,"新生児の細菌性敗血症","総数",1,{"$f":"SUM(F100:F101)","v":1},{"$f":"SUM(G100:G101)","v":0},0,0,0,0,0,1,0,0,0,1,0,{"$f":"SUM(S100:S101)","v":0},0,0,0,0,0,0,0,0,0]
[null,null,null,"男   ",0,0,0,0,0,0,0,0,{"$f":"SUM(F100:L100)","v":0},0,0,0,{"$f":"SUM(M100:P100)","v":0},0,0,0,0,0,0,0,0,0,0,0]
[null,null,null,"女   ",1,1,0,0,0,0,0,0,{"$f":"SUM(F101:L101)","v":1},0,0,0,{"$f":"SUM(M101:P101)","v":1},0,0,0,0,0,0,0,0,0,0,0]
["Ba32",null,"その他の周産期に特異的な感染症","総数",0,{"$f":"SUM(F103:F104)","v":0},{"$f":"SUM(G103:G104)","v":0},0,0,0,0,0,0,0,0,0,0,0,{"$f":"SUM(S103:S104)","v":0},0,0,0,0,0,0,0,0,0]
[null,null,null,"男   ",0,0,0,0,0,0,0,0,{"$f":"SUM(F103:L103)","v":0},0,0,0,{"$f":"SUM(M103:P103)","v":0},0,0,0,0,0,0,0,0,0,0,0]
[null,null,null,"女   ",0,0,0,0,0,0,0,0,{"$f":"SUM(F104:L104)","v":0},0,0,0,{"$f":"SUM(M104:P104)","v":0},0,0,0,0,0,0,0,0,0,0,0]
["Ba33",null,"胎児及び新生児の出血性障害及び血液障害","総数",1,{"$f":"SUM(F106:F107)","v":0},{"$f":"SUM(G106:G107)","v":0},0,1,0,0,0,1,0,0,0,1,0,{"$f":"SUM(S106:S107)","v":0},0,0,0,0,0,0,0,0,0]
[null,null,null,"男   ",1,0,0,0,1,0,0,0,{"$f":"SUM(F106:L106)","v":1},0,0,0,{"$f":"SUM(M106:P106)","v":1},0,0,0,0,0,0,0,0,0,0,0]
[null,null,null,"女   ",0,0,0,0,0,0,0,0,{"$f":"SUM(F107:L107)","v":0},0,0,0,{"$f":"SUM(M107:P107)","v":0},0,0,0,0,0,0,0,0,0,0,0]
["Ba34",null,"その他の周産期に発生した病態","総数",2,{"$f":"SUM(F109:F110)","v":0},{"$f":"SUM(G109:G110)","v":0},0,1,0,0,0,1,0,1,0,2,0,{"$f":"SUM(S109:S110)","v":0},0,0,0,0,0,0,0,0,0]
[null,null,null,"男   ",1,0,0,0,0,0,0,0,{"$f":"SUM(F109:L109)","v":0},0,1,0,{"$f":"SUM(M109:P109)","v":1},0,0,0,0,0,0,0,0,0,0,0]
[null,null,null,"女   ",1,0,0,0,1,0,0,0,{"$f":"SUM(F110:L110)","v":1},0,0,0,{"$f":"SUM(M110:P110)","v":1},0,0,0,0,0,0,0,0,0,0,0]
["Ba35","先天奇形、変形及び染色体異常",null,"総数",{"$f":"SUM(Q111:AB111)","v":13},{"$f":"SUM(F114,F117,F120,F123,F126,F129,F132,F135)","v":3},{"$f":"SUM(G114,G117,G120,G123,G126,G129,G132,G135)","v":0},0,1,0,1,0,5,0,0,0,5,2,{"$f":"SUM(S114,S117,S120,S123,S126,S129,S132,S135)","v":2},1,1,1,1,0,0,0,0,0]
[null,null,null,"男   ",5,{"$f":"SUM(F115,F118,F121,F124,F127,F130,F133,F136)","v":2},{"$f":"SUM(G115,G118,G121,G124,G127,G130,G133,G136)","v":0},0,0,0,0,0,2,0,0,0,2,1,{"$f":"SUM(S115,S118,S121,S124,S127,S130,S133,S136)","v":1},0,1,0,0,0,0,0,0,0]
[null,null,null,"女   ",8,{"$f":"SUM(F116,F119,F122,F125,F128,F131,F134,F137)","v":1},{"$f":"SUM(G116,G119,G122,G125,G128,G131,G134,G137)","v":0},0,1,0,1,0,3,0,0,0,3,1,{"$f":"SUM(S116,S119,S122,S125,S128,S131,S134,S137)","v":1},1,0,1,1,0,0,0,0,0]
["Ba36",null,"神経系の先天奇形","総数",0,{"$f":"SUM(F115:F116)","v":0},{"$f":"SUM(G115:G116)","v":0},0,0,0,0,0,0,0,0,0,0,0,{"$f":"SUM(S115:S116)","v":0},0,0,0,0,0,0,0,0,0]
[null,null,null,"男   ",0,0,0,0,0,0,0,0,{"$f":"SUM(F115:L115)","v":0},0,0,0,{"$f":"SUM(M115:P115)","v":0},0,0,0,0,0,0,0,0,0,0,0]
[null,null,null,"女   ",0,0,0,0,0,0,0,0,{"$f":"SUM(F116:L116)","v":0},0,0,0,{"$f":"SUM(M116:P116)","v":0},0,0,0,0,0,0,0,0,0,0,0]
["Ba37",null,"心臓の先天奇形","総数",6,{"$f":"SUM(F118:F119)","v":0},{"$f":"SUM(G118:G119)","v":0},0,0,0,1,0,1,0,0,0,1,1,{"$f":"SUM(S118:S119)","v":1},1,1,1,0,0,0,0,0,0]
[null,null,null,"男   ",2,0,0,0,0,0,0,0,{"$f":"SUM(F118:L118)","v":0},0,0,0,{"$f":"SUM(M118:P118)","v":0},0,1,0,1,0,0,0,0,0,0,0]
[null,null,null,"女   ",4,0,0,0,0,0,1,0,{"$f":"SUM(F119:L119)","v":1},0,0,0,{"$f":"SUM(M119:P119)","v":1},1,0,1,0,1,0,0,0,0,0,0]
["Ba38",null,"その他の循環器系の先天奇形","総数",0,{"$f":"SUM(F121:F122)","v":0},{"$f":"SUM(G121:G122)","v":0},0,0,0,0,0,0,0,0,0,0,0,{"$f":"SUM(S121:S122)","v":0},0,0,0,0,0,0,0,0,0]
[null,null,null,"男   ",0,0,0,0,0,0,0,0,{"$f":"SUM(F121:L121)","v":0},0,0,0,{"$f":"SUM(M121:P121)","v":0},0,0,0,0,0,0,0,0,0,0,0]
[null,null,null,"女   ",0,0,0,0,0,0,0,0,{"$f":"SUM(F122:L122)","v":0},0,0,0,{"$f":"SUM(M122:P122)","v":0},0,0,0,0,0,0,0,0,0,0,0]
["Ba39",null,"呼吸器系の先天奇形","総数",1,{"$f":"SUM(F124:F125)","v":1},{"$f":"SUM(G124:G125)","v":0},0,0,0,0,0,1,0,0,0,1,0,{"$f":"SUM(S124:S125)","v":0},0,0,0,0,0,0,0,0,0]
[null,null,null,"男   ",0,0,0,0,0,0,0,0,{"$f":"SUM(F124:L124)","v":0},0,0,0,{"$f":"SUM(M124:P124)","v":0},0,0,0,0,0,0,0,0,0,0,0]
[null,null,null,"女   ",1,1,0,0,0,0,0,0,{"$f":"SUM(F125:L125)","v":1},0,0,0,{"$f":"SUM(M125:P125)","v":1},0,0,0,0,0,0,0,0,0,0,0]
["Ba40",null,"消化器系の先天奇形","総数",1,{"$f":"SUM(F127:F128)","v":0},{"$f":"SUM(G127:G128)","v":0},0,0,0,0,0,0,0,0,0,0,0,{"$f":"SUM(S127:S128)","v":0},0,0,0,1,0,0,0,0,0]
[null,null,null,"男   ",0,0,0,0,0,0,0,0,{"$f":"SUM(F127:L127)","v":0},0,0,0,{"$f":"SUM(M127:P127)","v":0},0,0,0,0,0,0,0,0,0,0,0]
[null,null,null,"女   ",1,0,0,0,0,0,0,0,{"$f":"SUM(F128:L128)","v":0},0,0,0,{"$f":"SUM(M128:P128)","v":0},0,0,0,0,0,1,0,0,0,0,0]
["Ba41",null,"筋骨格系の先天奇形及び変形","総数",0,{"$f":"SUM(F130:F131)","v":0},{"$f":"SUM(G130:G131)","v":0},0,0,0,0,0,0,0,0,0,0,0,{"$f":"SUM(S130:S131)","v":0},0,0,0,0,0,0,0,0,0]
[null,null,null,"男   ",0,0,0,0,0,0,0,0,{"$f":"SUM(F130:L130)","v":0},0,0,0,{"$f":"SUM(M130:P130)","v":0},0,0,0,0,0,0,0,0,0,0,0]
[null,null,null,"女   ",0,0,0,0,0,0,0,0,{"$f":"SUM(F131:L131)","v":0},0,0,0,{"$f":"SUM(M131:P131)","v":0},0,0,0,0,0,0,0,0,0,0,0]
["Ba42",null,"その他の先天奇形及び変形","総数",1,{"$f":"SUM(F133:F134)","v":1},{"$f":"SUM(G133:G134)","v":0},0,0,0,0,0,1,0,0,0,1,0,{"$f":"SUM(S133:S134)","v":0},0,0,0,0,0,0,0,0,0]
[null,null,null,"男   ",1,1,0,0,0,0,0,0,{"$f":"SUM(F133:L133)","v":1},0,0,0,{"$f":"SUM(M133:P133)","v":1},0,0,0,0,0,0,0,0,0,0,0]
[null,null,null,"女   ",0,0,0,0,0,0,0,0,{"$f":"SUM(F134:L134)","v":0},0,0,0,{"$f":"SUM(M134:P134)","v":0},0,0,0,0,0,0,0,0,0,0,0]
["Ba43",null,"染色体異常、他に分類されないもの","総数",4,{"$f":"SUM(F136:F137)","v":1},{"$f":"SUM(G136:G137)","v":0},0,1,0,0,0,2,0,0,0,2,1,{"$f":"SUM(S136:S137)","v":1},0,0,0,0,0,0,0,0,0]
[null,null,null,"男   ",2,1,0,0,0,0,0,0,{"$f":"SUM(F136:L136)","v":1},0,0,0,{"$f":"SUM(M136:P136)","v":1},1,0,0,0,0,0,0,0,0,0,0]
[null,null,null,"女   ",2,0,0,0,1,0,0,0,{"$f":"SUM(F137:L137)","v":1},0,0,0,{"$f":"SUM(M137:P137)","v":1},0,1,0,0,0,0,0,0,0,0,0]
["Ba44","乳幼児突然死症候群",null,"総数",{"$f":"SUM(Q138:AB138)","v":1},{"$f":"SUM(F139:F140)","v":0},{"$f":"SUM(G139:G140)","v":0},0,0,0,0,0,0,0,0,0,0,0,{"$f":"SUM(S139:S140)","v":0},1,0,0,0,0,0,0,0,0]
[null,null,null,"男   ",{"$f":"SUM(Q139:AB139)","v":0},0,0,0,0,0,0,0,{"$f":"SUM(F139:L139)","v":0},0,0,0,{"$f":"SUM(M139:P139)","v":0},0,0,0,0,0,0,0,0,0,0,0]
[null,null,null,"女   ",1,0,0,0,0,0,0,0,{"$f":"SUM(F140:L140)","v":0},0,0,0,{"$f":"SUM(M140:P140)","v":0},0,0,1,0,0,0,0,0,0,0,0]
["Ba45","その他のすべての疾患",null,"総数",2,{"$f":"SUM(F142:F143)","v":0},{"$f":"SUM(G142:G143)","v":0},0,0,0,0,0,0,0,1,0,1,0,{"$f":"SUM(S142:S143)","v":0},0,1,0,0,0,0,0,0,0]
[null,null,null,"男   ",1,0,0,0,0,0,0,0,{"$f":"SUM(F142:L142)","v":0},0,0,0,{"$f":"SUM(M142:P142)","v":0},0,0,0,1,0,0,0,0,0,0,0]
[null,null,null,"女   ",1,0,0,0,0,0,0,0,{"$f":"SUM(F143:L143)","v":0},0,1,0,{"$f":"SUM(M143:P143)","v":1},0,0,0,0,0,0,0,0,0,0,0]
["Ba46","不慮の事故",null,"総数",0,{"$f":"SUM(F147,F150,F153,F156,F159,F162,F165,F168)","v":0},{"$f":"SUM(G147,G150,G153,G156,G159,G162,G165,G168)","v":0},0,0,0,0,0,0,0,0,0,0,0,{"$f":"SUM(S147,S150,S153,S156,S159,S162,S165,S168)","v":0},0,0,0,0,0,0,0,0,0]
[null,null,null,"男   ",0,{"$f":"SUM(F148,F151,F154,F157,F160,F163,F166,F169)","v":0},{"$f":"SUM(G148,G151,G154,G157,G160,G163,G166,G169)","v":0},0,0,0,0,0,0,0,0,0,0,0,{"$f":"SUM(S148,S151,S154,S157,S160,S163,S166,S169)","v":0},0,0,0,0,0,0,0,0,0]
[null,null,null,"女   ",0,{"$f":"SUM(F149,F152,F155,F158,F161,F164,F167,F170)","v":0},{"$f":"SUM(G149,G152,G155,G158,G161,G164,G167,G170)","v":0},0,0,0,0,0,0,0,0,0,0,0,{"$f":"SUM(S149,S152,S155,S158,S161,S164,S167,S170)","v":0},0,0,0,0,0,0,0,0,0]
["Ba47",null,"交 通 事 故","総数",0,{"$f":"SUM(F148:F149)","v":0},{"$f":"SUM(G148:G149)","v":0},0,0,0,0,0,0,0,0,0,0,0,{"$f":"SUM(S148:S149)","v":0},0,0,0,0,0,0,0,0,0]
[null,null,null,"男   ",0,0,0,0,0,0,0,0,{"$f":"SUM(F148:L148)","v":0},0,0,0,{"$f":"SUM(M148:P148)","v":0},0,0,0,0,0,0,0,0,0,0,0]
[null,null,null,"女   ",0,0,0,0,0,0,0,0,{"$f":"SUM(F149:L149)","v":0},0,0,0,{"$f":"SUM(M149:P149)","v":0},0,0,0,0,0,0,0,0,0,0,0]
["Ba48",null,"転倒・転落","総数",0,{"$f":"SUM(F151:F152)","v":0},{"$f":"SUM(G151:G152)","v":0},0,0,0,0,0,0,0,0,0,0,0,{"$f":"SUM(S151:S152)","v":0},0,0,0,0,0,0,0,0,0]
[null,null,null,"男   ",0,0,0,0,0,0,0,0,{"$f":"SUM(F151:L151)","v":0},0,0,0,{"$f":"SUM(M151:P151)","v":0},0,0,0,0,0,0,0,0,0,0,0]
[null,null,null,"女   ",0,0,0,0,0,0,0,0,{"$f":"SUM(F152:L152)","v":0},0,0,0,{"$f":"SUM(M152:P152)","v":0},0,0,0,0,0,0,0,0,0,0,0]
["Ba49",null,"不慮の溺死及び溺水","総数",0,{"$f":"SUM(F154:F155)","v":0},{"$f":"SUM(G154:G155)","v":0},0,0,0,0,0,0,0,0,0,0,0,{"$f":"SUM(S154:S155)","v":0},0,0,0,0,0,0,0,0,0]
[null,null,null,"男   ",0,0,0,0,0,0,0,0,{"$f":"SUM(F154:L154)","v":0},0,0,0,{"$f":"SUM(M154:P154)","v":0},0,0,0,0,0,0,0,0,0,0,0]
[null,null,null,"女   ",0,0,0,0,0,0,0,0,{"$f":"SUM(F155:L155)","v":0},0,0,0,{"$f":"SUM(M155:P155)","v":0},0,0,0,0,0,0,0,0,0,0,0]
["Ba50",null,"胃内容物の誤えん及び気道閉塞を生じた食物等の誤えん","総数",0,{"$f":"SUM(F157:F158)","v":0},{"$f":"SUM(G157:G158)","v":0},0,0,0,0,0,0,0,0,0,0,0,{"$f":"SUM(S157:S158)","v":0},0,0,0,0,0,0,0,0,0]
[null,null,null,"男   ",0,0,0,0,0,0,0,0,{"$f":"SUM(F157:L157)","v":0},0,0,0,{"$f":"SUM(M157:P157)","v":0},0,0,0,0,0,0,0,0,0,0,0]
[null,null,null,"女   ",0,0,0,0,0,0,0,0,{"$f":"SUM(F158:L158)","v":0},0,0,0,{"$f":"SUM(M158:P158)","v":0},0,0,0,0,0,0,0,0,0,0,0]
["Ba51",null,"その他の不慮の窒息","総数",0,{"$f":"SUM(F160:F161)","v":0},{"$f":"SUM(G160:G161)","v":0},0,0,0,0,0,0,0,0,0,0,0,{"$f":"SUM(S160:S161)","v":0},0,0,0,0,0,0,0,0,0]
[null,null,null,"男   ",0,0,0,0,0,0,0,0,{"$f":"SUM(F160:L160)","v":0},0,0,0,{"$f":"SUM(M160:P160)","v":0},0,0,0,0,0,0,0,0,0,0,0]
[null,null,null,"女   ",0,0,0,0,0,0,0,0,{"$f":"SUM(F161:L161)","v":0},0,0,0,{"$f":"SUM(M161:P161)","v":0},0,0,0,0,0,0,0,0,0,0,0]
["Ba52",null,"煙、火及び火炎への曝露","総数",0,{"$f":"SUM(F163:F164)","v":0},{"$f":"SUM(G163:G164)","v":0},0,0,0,0,0,0,0,0,0,0,0,{"$f":"SUM(S163:S164)","v":0},0,0,0,0,0,0,0,0,0]
[null,null,null,"男   ",0,0,0,0,0,0,0,0,{"$f":"SUM(F163:L163)","v":0},0,0,0,{"$f":"SUM(M163:P163)","v":0},0,0,0,0,0,0,0,0,0,0,0]
[null,null,null,"女   ",0,0,0,0,0,0,0,0,{"$f":"SUM(F164:L164)","v":0},0,0,0,{"$f":"SUM(M164:P164)","v":0},0,0,0,0,0,0,0,0,0,0,0]
["Ba53",null,"有害物質による不慮の中毒及び有害物質への曝露","総数",0,{"$f":"SUM(F166:F167)","v":0},{"$f":"SUM(G166:G167)","v":0},0,0,0,0,0,0,0,0,0,0,0,{"$f":"SUM(S166:S167)","v":0},0,0,0,0,0,0,0,0,0]
[null,null,null,"男   ",0,0,0,0,0,0,0,0,{"$f":"SUM(F166:L166)","v":0},0,0,0,{"$f":"SUM(M166:P166)","v":0},0,0,0,0,0,0,0,0,0,0,0]
[null,null,null,"女   ",0,0,0,0,0,0,0,0,{"$f":"SUM(F167:L167)","v":0},0,0,0,{"$f":"SUM(M167:P167)","v":0},0,0,0,0,0,0,0,0,0,0,0]
["Ba54",null,"その他の不慮の事故","総数",0,{"$f":"SUM(F169:F170)","v":0},{"$f":"SUM(G169:G170)","v":0},0,0,0,0,0,0,0,0,0,0,0,{"$f":"SUM(S169:S170)","v":0},0,0,0,0,0,0,0,0,0]
[null,null,null,"男   ",0,0,0,0,0,0,0,0,{"$f":"SUM(F169:L169)","v":0},0,0,0,{"$f":"SUM(M169:P169)","v":0},0,0,0,0,0,0,0,0,0,0,0]
[null,null,null,"女   ",0,0,0,0,0,0,0,0,{"$f":"SUM(F170:L170)","v":0},0,0,0,{"$f":"SUM(M170:P170)","v":0},0,0,0,0,0,0,0,0,0,0,0]
["Ba55","他　　　殺",null,"総数",0,{"$f":"SUM(F172:F173)","v":0},{"$f":"SUM(G172:G173)","v":0},0,0,0,0,0,0,0,0,0,0,0,{"$f":"SUM(S172:S173)","v":0},0,0,0,0,0,0,0,0,0]
[null,null,null,"男   ",0,0,0,0,0,0,0,0,{"$f":"SUM(F172:L172)","v":0},0,0,0,{"$f":"SUM(M172:P172)","v":0},0,0,0,0,0,0,0,0,0,0,0]
[null,null,null,"女   ",0,0,0,0,0,0,0,0,{"$f":"SUM(F173:L173)","v":0},0,0,0,{"$f":"SUM(M173:P173)","v":0},0,0,0,0,0,0,0,0,0,0,0]
["Ba56","その他の外因",null,"総数",1,{"$f":"SUM(F175:F176)","v":0},{"$f":"SUM(G175:G176)","v":0},0,0,0,0,0,0,0,0,1,1,0,{"$f":"SUM(S175:S176)","v":0},0,0,0,0,0,0,0,0,0]
[null,null,null,"男   ",1,0,0,0,0,0,0,0,{"$f":"SUM(F175:L175)","v":0},0,0,1,{"$f":"SUM(M175:P175)","v":1},0,0,0,0,0,0,0,0,0,0,0]
[null,null,null,"女   ",0,0,0,0,0,0,0,0,{"$f":"SUM(F176:L176)","v":0},0,0,0,{"$f":"SUM(M176:P176)","v":0},0,0,0,0,0,0,0,0,0,0,0]

{"sheet":"10　体重別，病死乳児死亡数","index":9,"n_rows":50,"n_cols":29,"rows_kept":50,"cut":false,"hidden":false,"merged":[[49,1,49,2],[26,1,26,2],[27,1,27,2],[16,1,16,2],[17,1,17,2],[2,16,2,28],[2,3,2,15],[39,1,39,2],[48,1,48,2],[10,1,10,2],[15,1,15,2],[13,1,13,2],[14,1,14,2],[4,1,4,2],[5,1,5,2],[6,1,6,2],[7,1,7,2],[8,1,8,2],[9,1,9,2],[2,0,3,0],[2,1,3,2],[24,1,24,2],[25,1,25,2],[22,1,22,2],[23,1,23,2],[18,1,18,2],[19,1,19,2],[20,1,20,2],[21,1,21,2]]}
["10　出生時の体重別にみた乳児死因簡単分類別病死による乳児死亡数及び率(出生10万対）"]
[null,null,null,null,null,null,null,null,null,null,null,null,null,null,null,null,null,null,null,null,null,null,null,null,null,null,null,null,{"$f":"'3　乳児死亡数，月・性・区別'!$O$2","v":"平成30年"}]
["乳児死因\n簡単分類\nコ ー ド","死　　　　　　　　　　　　　　　　　　因　",null,"　病死による乳児死亡数",null,null,null,null,null,null,null,null,null,null,null,null,"病　死　に　よ　る　乳　児　死　亡　率　(出生10万対)"]
[null,null,null,"総数","0.5㎏未満","0.5㎏以上\n1.0㎏未満","1.0～1.5㎏","1.5～2.0㎏","2.0～2.5㎏","2.5～3.0㎏","3.0～3.5㎏","3.5～4.0㎏","4.0～4.5㎏","4.5～5.0㎏","5.0㎏\n以上","不詳","総数","0.5㎏未満","0.5㎏以上\n1.0㎏未満","1.0～1.5㎏","1.5～2.0㎏","2.0～2.5㎏","2.5～3.0㎏","3.0～3.5㎏","3.5～4.0㎏","4.0～4.5㎏","4.5～5.0㎏","5.0㎏\n以上","不詳"]
[null,"総　　　数",null,{"$f":"SUM(D6:D11,D14:D28,D40,D49:D50)","v":33},{"$f":"SUM(E6:E11,E14:E28,E40,E49:E50)","v":4},7,4,3,4,6,5,0,0,0,0,0,{"$f":"D5/[1]出生数!$G$4*100000","v":249.09420289855069},{"$f":"E5/[1]出生数!$G$4*100000","v":30.193236714975843},{"$f":"F5/[1]出生数!$G$4*100000","v":52.838164251207722},{"$f":"G5/[1]出生数!$G$4*100000","v":30.193236714975843},{"$f":"H5/[1]出生数!$G$4*100000","v":22.644927536231883},{"$f":"I5/[1]出生数!$G$4*100000","v":30.193236714975843},{"$f":"J5/[1]出生数!$G$4*100000","v":45.289855072463766},{"$f":"K5/[1]出生数!$G$4*100000","v":37.74154589371981},{"$f":"L5/[1]出生数!$G$4*100000","v":0},{"$f":"M5/[1]出生数!$G$4*100000","v":0},{"$f":"N5/[1]出生数!$G$4*100000","v":0},{"$f":"O5/[1]出生数!$G$4*100000","v":0},{"$f":"P5/[1]出生数!$G$4*100000","v":0}]
["Ba01","腸管感染症",null,{"$f":"SUM(E6:P6)","v":0},0,0,0,0,0,0,0,0,0,0,0,0,{"$f":"D6/[1]出生数!$G$4*100000","v":0},{"$f":"E6/[1]出生数!$G$4*100000","v":0},{"$f":"F6/[1]出生数!$G$4*100000","v":0},{"$f":"G6/[1]出生数!$G$4*100000","v":0},{"$f":"H6/[1]出生数!$G$4*100000","v":0},{"$f":"I6/[1]出生数!$G$4*100000","v":0},{"$f":"J6/[1]出生数!$G$4*100000","v":0},{"$f":"K6/[1]出生数!$G$4*100000","v":0},{"$f":"L6/[1]出生数!$G$4*100000","v":0},{"$f":"M6/[1]出生数!$G$4*100000","v":0},{"$f":"N6/[1]出生数!$G$4*100000","v":0},{"$f":"O6/[1]出生数!$G$4*100000","v":0},{"$f":"P6/[1]出生数!$G$4*100000","v":0}]
["Ba02","敗血症（新生児の細菌性敗血症を除く）",null,{"$f":"SUM(E7:P7)","v":1},0,0,0,0,1,0,0,0,0,0,0,0,{"$f":"D7/[1]出生数!$G$4*100000","v":7.5483091787439607},{"$f":"E7/[1]出生数!$G$4*100000","v":0},{"$f":"F7/[1]出生数!$G$4*100000","v":0},{"$f":"G7/[1]出生数!$G$4*100000","v":0},{"$f":"H7/[1]出生数!$G$4*100000","v":0},{"$f":"I7/[1]出生数!$G$4*100000","v":7.5483091787439607},{"$f":"J7/[1]出生数!$G$4*100000","v":0},{"$f":"K7/[1]出生数!$G$4*100000","v":0},{"$f":"L7/[1]出生数!$G$4*100000","v":0},{"$f":"M7/[1]出生数!$G$4*100000","v":0},{"$f":"N7/[1]出生数!$G$4*100000","v":0},{"$f":"O7/[1]出生数!$G$4*100000","v":0},{"$f":"P7/[1]出生数!$G$4*100000","v":0}]
["Ba03","麻　　　疹",null,{"$f":"SUM(E8:P8)","v":0},0,0,0,0,0,0,0,0,0,0,0,0,{"$f":"D8/[1]出生数!$G$4*100000","v":0},{"$f":"E8/[1]出生数!$G$4*100000","v":0},{"$f":"F8/[1]出生数!$G$4*100000","v":0},{"$f":"G8/[1]出生数!$G$4*100000","v":0},{"$f":"H8/[1]出生数!$G$4*100000","v":0},{"$f":"I8/[1]出生数!$G$4*100000","v":0},{"$f":"J8/[1]出生数!$G$4*100000","v":0},{"$f":"K8/[1]出生数!$G$4*100000","v":0},{"$f":"L8/[1]出生数!$G$4*100000","v":0},{"$f":"M8/[1]出生数!$G$4*100000","v":0},{"$f":"N8/[1]出生数!$G$4*100000","v":0},{"$f":"O8/[1]出生数!$G$4*100000","v":0},{"$f":"P8/[1]出生数!$G$4*100000","v":0}]
["Ba04","ウイルス肝炎",null,0,0,0,0,0,0,0,0,0,0,0,0,0,{"$f":"D9/[1]出生数!$G$4*100000","v":0},{"$f":"E9/[1]出生数!$G$4*100000","v":0},{"$f":"F9/[1]出生数!$G$4*100000","v":0},{"$f":"G9/[1]出生数!$G$4*100000","v":0},{"$f":"H9/[1]出生数!$G$4*100000","v":0},{"$f":"I9/[1]出生数!$G$4*100000","v":0},{"$f":"J9/[1]出生数!$G$4*100000","v":0},{"$f":"K9/[1]出生数!$G$4*100000","v":0},{"$f":"L9/[1]出生数!$G$4*100000","v":0},{"$f":"M9/[1]出生数!$G$4*100000","v":0},{"$f":"N9/[1]出生数!$G$4*100000","v":0},{"$f":"O9/[1]出生数!$G$4*100000","v":0},{"$f":"P9/[1]出生数!$G$4*100000","v":0}]
["Ba05","その他の感染症及び寄生虫症",null,0,0,0,0,0,0,0,0,0,0,0,0,0,{"$f":"D10/[1]出生数!$G$4*100000","v":0},{"$f":"E10/[1]出生数!$G$4*100000","v":0},{"$f":"F10/[1]出生数!$G$4*100000","v":0},{"$f":"G10/[1]出生数!$G$4*100000","v":0},{"$f":"H10/[1]出生数!$G$4*100000","v":0},{"$f":"I10/[1]出生数!$G$4*100000","v":0},{"$f":"J10/[1]出生数!$G$4*100000","v":0},{"$f":"K10/[1]出生数!$G$4*100000","v":0},{"$f":"L10/[1]出生数!$G$4*100000","v":0},{"$f":"M10/[1]出生数!$G$4*100000","v":0},{"$f":"N10/[1]出生数!$G$4*100000","v":0},{"$f":"O10/[1]出生数!$G$4*100000","v":0},{"$f":"P10/[1]出生数!$G$4*100000","v":0}]
["Ba06","悪性新生物",null,0,{"$f":"SUM(E12:E13)","v":0},0,0,0,0,0,0,0,0,0,0,0,{"$f":"D11/[1]出生数!$G$4*100000","v":0},{"$f":"E11/[1]出生数!$G$4*100000","v":0},{"$f":"F11/[1]出生数!$G$4*100000","v":0},{"$f":"G11/[1]出生数!$G$4*100000","v":0},{"$f":"H11/[1]出生数!$G$4*100000","v":0},{"$f":"I11/[1]出生数!$G$4*100000","v":0},{"$f":"J11/[1]出生数!$G$4*100000","v":0},{"$f":"K11/[1]出生数!$G$4*100000","v":0},{"$f":"L11/[1]出生数!$G$4*100000","v":0},{"$f":"M11/[1]出生数!$G$4*100000","v":0},{"$f":"N11/[1]出生数!$G$4*100000","v":0},{"$f":"O11/[1]出生数!$G$4*100000","v":0},{"$f":"P11/[1]出生数!$G$4*100000","v":0}]
["Ba07",null,"白　血　病",0,0,0,0,0,0,0,0,0,0,0,0,0,{"$f":"D12/[1]出生数!$G$4*100000","v":0},{"$f":"E12/[1]出生数!$G$4*100000","v":0},{"$f":"F12/[1]出生数!$G$4*100000","v":0},{"$f":"G12/[1]出生数!$G$4*100000","v":0},{"$f":"H12/[1]出生数!$G$4*100000","v":0},{"$f":"I12/[1]出生数!$G$4*100000","v":0},{"$f":"J12/[1]出生数!$G$4*100000","v":0},{"$f":"K12/[1]出生数!$G$4*100000","v":0},{"$f":"L12/[1]出生数!$G$4*100000","v":0},{"$f":"M12/[1]出生数!$G$4*100000","v":0},{"$f":"N12/[1]出生数!$G$4*100000","v":0},{"$f":"O12/[1]出生数!$G$4*100000","v":0},{"$f":"P12/[1]出生数!$G$4*100000","v":0}]
["Ba08",null,"その他の悪性新生物",0,0,0,0,0,0,0,0,0,0,0,0,0,{"$f":"D13/[1]出生数!$G$4*100000","v":0},{"$f":"E13/[1]出生数!$G$4*100000","v":0},{"$f":"F13/[1]出生数!$G$4*100000","v":0},{"$f":"G13/[1]出生数!$G$4*100000","v":0},{"$f":"H13/[1]出生数!$G$4*100000","v":0},{"$f":"I13/[1]出生数!$G$4*100000","v":0},{"$f":"J13/[1]出生数!$G$4*100000","v":0},{"$f":"K13/[1]出生数!$G$4*100000","v":0},{"$f":"L13/[1]出生数!$G$4*100000","v":0},{"$f":"M13/[1]出生数!$G$4*100000","v":0},{"$f":"N13/[1]出生数!$G$4*100000","v":0},{"$f":"O13/[1]出生数!$G$4*100000","v":0},{"$f":"P13/[1]出生数!$G$4*100000","v":0}]
["Ba09","その他の新生物",null,0,0,0,0,0,0,0,0,0,0,0,0,0,{"$f":"D14/[1]出生数!$G$4*100000","v":0},{"$f":"E14/[1]出生数!$G$4*100000","v":0},{"$f":"F14/[1]出生数!$G$4*100000","v":0},{"$f":"G14/[1]出生数!$G$4*100000","v":0},{"$f":"H14/[1]出生数!$G$4*100000","v":0},{"$f":"I14/[1]出生数!$G$4*100000","v":0},{"$f":"J14/[1]出生数!$G$4*100000","v":0},{"$f":"K14/[1]出生数!$G$4*100000","v":0},{"$f":"L14/[1]出生数!$G$4*100000","v":0},{"$f":"M14/[1]出生数!$G$4*100000","v":0},{"$f":"N14/[1]出生数!$G$4*100000","v":0},{"$f":"O14/[1]出生数!$G$4*100000","v":0},{"$f":"P14/[1]出生数!$G$4*100000","v":0}]
["Ba10","栄養失調症及びその他の栄養欠乏症",null,0,0,0,0,0,0,0,0,0,0,0,0,0,{"$f":"D15/[1]出生数!$G$4*100000","v":0},{"$f":"E15/[1]出生数!$G$4*100000","v":0},{"$f":"F15/[1]出生数!$G$4*100000","v":0},{"$f":"G15/[1]出生数!$G$4*100000","v":0},{"$f":"H15/[1]出生数!$G$4*100000","v":0},{"$f":"I15/[1]出生数!$G$4*100000","v":0},{"$f":"J15/[1]出生数!$G$4*100000","v":0},{"$f":"K15/[1]出生数!$G$4*100000","v":0},{"$f":"L15/[1]出生数!$G$4*100000","v":0},{"$f":"M15/[1]出生数!$G$4*100000","v":0},{"$f":"N15/[1]出生数!$G$4*100000","v":0},{"$f":"O15/[1]出生数!$G$4*100000","v":0},{"$f":"P15/[1]出生数!$G$4*100000","v":0}]
["Ba11","代 謝 障 害",null,0,0,0,0,0,0,0,0,0,0,0,0,0,{"$f":"D16/[1]出生数!$G$4*100000","v":0},{"$f":"E16/[1]出生数!$G$4*100000","v":0},{"$f":"F16/[1]出生数!$G$4*100000","v":0},{"$f":"G16/[1]出生数!$G$4*100000","v":0},{"$f":"H16/[1]出生数!$G$4*100000","v":0},{"$f":"I16/[1]出生数!$G$4*100000","v":0},{"$f":"J16/[1]出生数!$G$4*100000","v":0},{"$f":"K16/[1]出生数!$G$4*100000","v":0},{"$f":"L16/[1]出生数!$G$4*100000","v":0},{"$f":"M16/[1]出生数!$G$4*100000","v":0},{"$f":"N16/[1]出生数!$G$4*100000","v":0},{"$f":"O16/[1]出生数!$G$4*100000","v":0},{"$f":"P16/[1]出生数!$G$4*100000","v":0}]
["Ba12","髄　膜　炎",null,0,0,0,0,0,0,0,0,0,0,0,0,0,{"$f":"D17/[1]出生数!$G$4*100000","v":0},{"$f":"E17/[1]出生数!$G$4*100000","v":0},{"$f":"F17/[1]出生数!$G$4*100000","v":0},{"$f":"G17/[1]出生数!$G$4*100000","v":0},{"$f":"H17/[1]出生数!$G$4*100000","v":0},{"$f":"I17/[1]出生数!$G$4*100000","v":0},{"$f":"J17/[1]出生数!$G$4*100000","v":0},{"$f":"K17/[1]出生数!$G$4*100000","v":0},{"$f":"L17/[1]出生数!$G$4*100000","v":0},{"$f":"M17/[1]出生数!$G$4*100000","v":0},{"$f":"N17/[1]出生数!$G$4*100000","v":0},{"$f":"O17/[1]出生数!$G$4*100000","v":0},{"$f":"P17/[1]出生数!$G$4*100000","v":0}]
["Ba13","脊髄性筋萎縮症及び関連症候群",null,0,0,0,0,0,0,0,0,0,0,0,0,0,{"$f":"D18/[1]出生数!$G$4*100000","v":0},{"$f":"E18/[1]出生数!$G$4*100000","v":0},{"$f":"F18/[1]出生数!$G$4*100000","v":0},{"$f":"G18/[1]出生数!$G$4*100000","v":0},{"$f":"H18/[1]出生数!$G$4*100000","v":0},{"$f":"I18/[1]出生数!$G$4*100000","v":0},{"$f":"J18/[1]出生数!$G$4*100000","v":0},{"$f":"K18/[1]出生数!$G$4*100000","v":0},{"$f":"L18/[1]出生数!$G$4*100000","v":0},{"$f":"M18/[1]出生数!$G$4*100000","v":0},{"$f":"N18/[1]出生数!$G$4*100000","v":0},{"$f":"O18/[1]出生数!$G$4*100000","v":0},{"$f":"P18/[1]出生数!$G$4*100000","v":0}]
["Ba14","脳 性 麻 痺",null,0,0,0,0,0,0,0,0,0,0,0,0,0,{"$f":"D19/[1]出生数!$G$4*100000","v":0},{"$f":"E19/[1]出生数!$G$4*100000","v":0},{"$f":"F19/[1]出生数!$G$4*100000","v":0},{"$f":"G19/[1]出生数!$G$4*100000","v":0},{"$f":"H19/[1]出生数!$G$4*100000","v":0},{"$f":"I19/[1]出生数!$G$4*100000","v":0},{"$f":"J19/[1]出生数!$G$4*100000","v":0},{"$f":"K19/[1]出生数!$G$4*100000","v":0},{"$f":"L19/[1]出生数!$G$4*100000","v":0},{"$f":"M19/[1]出生数!$G$4*100000","v":0},{"$f":"N19/[1]出生数!$G$4*100000","v":0},{"$f":"O19/[1]出生数!$G$4*100000","v":0},{"$f":"P19/[1]出生数!$G$4*100000","v":0}]
["Ba15","心疾患（高血圧性を除く）",null,2,1,0,0,0,0,1,0,0,0,0,0,0,{"$f":"D20/[1]出生数!$G$4*100000","v":15.096618357487921},{"$f":"E20/[1]出生数!$G$4*100000","v":7.5483091787439607},{"$f":"F20/[1]出生数!$G$4*100000","v":0},{"$f":"G20/[1]出生数!$G$4*100000","v":0},{"$f":"H20/[1]出生数!$G$4*100000","v":0},{"$f":"I20/[1]出生数!$G$4*100000","v":0},{"$f":"J20/[1]出生数!$G$4*100000","v":7.5483091787439607},{"$f":"K20/[1]出生数!$G$4*100000","v":0},{"$f":"L20/[1]出生数!$G$4*100000","v":0},{"$f":"M20/[1]出生数!$G$4*100000","v":0},{"$f":"N20/[1]出生数!$G$4*100000","v":0},{"$f":"O20/[1]出生数!$G$4*100000","v":0},{"$f":"P20/[1]出生数!$G$4*100000","v":0}]
["Ba16","脳血管疾患",null,0,0,0,0,0,0,0,0,0,0,0,0,0,{"$f":"D21/[1]出生数!$G$4*100000","v":0},{"$f":"E21/[1]出生数!$G$4*100000","v":0},{"$f":"F21/[1]出生数!$G$4*100000","v":0},{"$f":"G21/[1]出生数!$G$4*100000","v":0},{"$f":"H21/[1]出生数!$G$4*100000","v":0},{"$f":"I21/[1]出生数!$G$4*100000","v":0},{"$f":"J21/[1]出生数!$G$4*100000","v":0},{"$f":"K21/[1]出生数!$G$4*100000","v":0},{"$f":"L21/[1]出生数!$G$4*100000","v":0},{"$f":"M21/[1]出生数!$G$4*100000","v":0},{"$f":"N21/[1]出生数!$G$4*100000","v":0},{"$f":"O21/[1]出生数!$G$4*100000","v":0},{"$f":"P21/[1]出生数!$G$4*100000","v":0}]
["Ba17","インフルエンザ",null,0,0,0,0,0,0,0,0,0,0,0,0,0,{"$f":"D22/[1]出生数!$G$4*100000","v":0},{"$f":"E22/[1]出生数!$G$4*100000","v":0},{"$f":"F22/[1]出生数!$G$4*100000","v":0},{"$f":"G22/[1]出生数!$G$4*100000","v":0},{"$f":"H22/[1]出生数!$G$4*100000","v":0},{"$f":"I22/[1]出生数!$G$4*100000","v":0},{"$f":"J22/[1]出生数!$G$4*100000","v":0},{"$f":"K22/[1]出生数!$G$4*100000","v":0},{"$f":"L22/[1]出生数!$G$4*100000","v":0},{"$f":"M22/[1]出生数!$G$4*100000","v":0},{"$f":"N22/[1]出生数!$G$4*100000","v":0},{"$f":"O22/[1]出生数!$G$4*100000","v":0},{"$f":"P22/[1]出生数!$G$4*100000","v":0}]
["Ba18","肺　　　炎",null,1,0,1,0,0,0,0,0,0,0,0,0,0,{"$f":"D23/[1]出生数!$G$4*100000","v":7.5483091787439607},{"$f":"E23/[1]出生数!$G$4*100000","v":0},{"$f":"F23/[1]出生数!$G$4*100000","v":7.5483091787439607},{"$f":"G23/[1]出生数!$G$4*100000","v":0},{"$f":"H23/[1]出生数!$G$4*100000","v":0},{"$f":"I23/[1]出生数!$G$4*100000","v":0},{"$f":"J23/[1]出生数!$G$4*100000","v":0},{"$f":"K23/[1]出生数!$G$4*100000","v":0},{"$f":"L23/[1]出生数!$G$4*100000","v":0},{"$f":"M23/[1]出生数!$G$4*100000","v":0},{"$f":"N23/[1]出生数!$G$4*100000","v":0},{"$f":"O23/[1]出生数!$G$4*100000","v":0},{"$f":"P23/[1]出生数!$G$4*100000","v":0}]
["Ba19","喘　　　息",null,0,0,0,0,0,0,0,0,0,0,0,0,0,{"$f":"D24/[1]出生数!$G$4*100000","v":0},{"$f":"E24/[1]出生数!$G$4*100000","v":0},{"$f":"F24/[1]出生数!$G$4*100000","v":0},{"$f":"G24/[1]出生数!$G$4*100000","v":0},{"$f":"H24/[1]出生数!$G$4*100000","v":0},{"$f":"I24/[1]出生数!$G$4*100000","v":0},{"$f":"J24/[1]出生数!$G$4*100000","v":0},{"$f":"K24/[1]出生数!$G$4*100000","v":0},{"$f":"L24/[1]出生数!$G$4*100000","v":0},{"$f":"M24/[1]出生数!$G$4*100000","v":0},{"$f":"N24/[1]出生数!$G$4*100000","v":0},{"$f":"O24/[1]出生数!$G$4*100000","v":0},{"$f":"P24/[1]出生数!$G$4*100000","v":0}]
["Ba20","ヘルニア及び腸閉塞",null,0,0,0,0,0,0,0,0,0,0,0,0,0,{"$f":"D25/[1]出生数!$G$4*100000","v":0},{"$f":"E25/[1]出生数!$G$4*100000","v":0},{"$f":"F25/[1]出生数!$G$4*100000","v":0},{"$f":"G25/[1]出生数!$G$4*100000","v":0},{"$f":"H25/[1]出生数!$G$4*100000","v":0},{"$f":"I25/[1]出生数!$G$4*100000","v":0},{"$f":"J25/[1]出生数!$G$4*100000","v":0},{"$f":"K25/[1]出生数!$G$4*100000","v":0},{"$f":"L25/[1]出生数!$G$4*100000","v":0},{"$f":"M25/[1]出生数!$G$4*100000","v":0},{"$f":"N25/[1]出生数!$G$4*100000","v":0},{"$f":"O25/[1]出生数!$G$4*100000","v":0},{"$f":"P25/[1]出生数!$G$4*100000","v":0}]
["Ba21","肝　疾　患",null,1,0,1,0,0,0,0,0,0,0,0,0,0,{"$f":"D26/[1]出生数!$G$4*100000","v":7.5483091787439607},{"$f":"E26/[1]出生数!$G$4*100000","v":0},{"$f":"F26/[1]出生数!$G$4*100000","v":7.5483091787439607},{"$f":"G26/[1]出生数!$G$4*100000","v":0},{"$f":"H26/[1]出生数!$G$4*100000","v":0},{"$f":"I26/[1]出生数!$G$4*100000","v":0},{"$f":"J26/[1]出生数!$G$4*100000","v":0},{"$f":"K26/[1]出生数!$G$4*100000","v":0},{"$f":"L26/[1]出生数!$G$4*100000","v":0},{"$f":"M26/[1]出生数!$G$4*100000","v":0},{"$f":"N26/[1]出生数!$G$4*100000","v":0},{"$f":"O26/[1]出生数!$G$4*100000","v":0},{"$f":"P26/[1]出生数!$G$4*100000","v":0}]
["Ba22","腎　不　全",null,0,0,0,0,0,0,0,0,0,0,0,0,0,{"$f":"D27/[1]出生数!$G$4*100000","v":0},{"$f":"E27/[1]出生数!$G$4*100000","v":0},{"$f":"F27/[1]出生数!$G$4*100000","v":0},{"$f":"G27/[1]出生数!$G$4*100000","v":0},{"$f":"H27/[1]出生数!$G$4*100000","v":0},{"$f":"I27/[1]出生数!$G$4*100000","v":0},{"$f":"J27/[1]出生数!$G$4*100000","v":0},{"$f":"K27/[1]出生数!$G$4*100000","v":0},{"$f":"L27/[1]出生数!$G$4*100000","v":0},{"$f":"M27/[1]出生数!$G$4*100000","v":0},{"$f":"N27/[1]出生数!$G$4*100000","v":0},{"$f":"O27/[1]出生数!$G$4*100000","v":0},{"$f":"P27/[1]出生数!$G$4*100000","v":0}]
["Ba23","周産期に発生した病態",null,12,{"$f":"SUM(E29:E39)","v":3},{"$f":"SUM(F29:F39)","v":5},1,0,1,0,2,0,0,0,0,0,{"$f":"D28/[1]出生数!$G$4*100000","v":90.579710144927532},{"$f":"E28/[1]出生数!$G$4*100000","v":22.644927536231883},{"$f":"F28/[1]出生数!$G$4*100000","v":37.74154589371981},{"$f":"G28/[1]出生数!$G$4*100000","v":7.5483091787439607},{"$f":"H28/[1]出生数!$G$4*100000","v":0},{"$f":"I28/[1]出生数!$G$4*100000","v":7.5483091787439607},{"$f":"J28/[1]出生数!$G$4*100000","v":0},{"$f":"K28/[1]出生数!$G$4*100000","v":15.096618357487921},{"$f":"L28/[1]出生数!$G$4*100000","v":0},{"$f":"M28/[1]出生数!$G$4*100000","v":0},{"$f":"N28/[1]出生数!$G$4*100000","v":0},{"$f":"O28/[1]出生数!$G$4*100000","v":0},{"$f":"P28/[1]出生数!$G$4*100000","v":0}]
["Ba24",null,"妊娠期間及び胎児発育に関連する障害",0,0,0,0,0,0,0,0,0,0,0,0,0,{"$f":"D29/[1]出生数!$G$4*100000","v":0},{"$f":"E29/[1]出生数!$G$4*100000","v":0},{"$f":"F29/[1]出生数!$G$4*100000","v":0},{"$f":"G29/[1]出生数!$G$4*100000","v":0},{"$f":"H29/[1]出生数!$G$4*100000","v":0},{"$f":"I29/[1]出生数!$G$4*100000","v":0},{"$f":"J29/[1]出生数!$G$4*100000","v":0},{"$f":"K29/[1]出生数!$G$4*100000","v":0},{"$f":"L29/[1]出生数!$G$4*100000","v":0},{"$f":"M29/[1]出生数!$G$4*100000","v":0},{"$f":"N29/[1]出生数!$G$4*100000","v":0},{"$f":"O29/[1]出生数!$G$4*100000","v":0},{"$f":"P29/[1]出生数!$G$4*100000","v":0}]
["Ba25",null,"出 産 外 傷",0,0,0,0,0,0,0,0,0,0,0,0,0,{"$f":"D30/[1]出生数!$G$4*100000","v":0},{"$f":"E30/[1]出生数!$G$4*100000","v":0},{"$f":"F30/[1]出生数!$G$4*100000","v":0},{"$f":"G30/[1]出生数!$G$4*100000","v":0},{"$f":"H30/[1]出生数!$G$4*100000","v":0},{"$f":"I30/[1]出生数!$G$4*100000","v":0},{"$f":"J30/[1]出生数!$G$4*100000","v":0},{"$f":"K30/[1]出生数!$G$4*100000","v":0},{"$f":"L30/[1]出生数!$G$4*100000","v":0},{"$f":"M30/[1]出生数!$G$4*100000","v":0},{"$f":"N30/[1]出生数!$G$4*100000","v":0},{"$f":"O30/[1]出生数!$G$4*100000","v":0},{"$f":"P30/[1]出生数!$G$4*100000","v":0}]
["Ba26",null,"出生時仮死",2,0,0,0,0,1,0,1,0,0,0,0,0,{"$f":"D31/[1]出生数!$G$4*100000","v":15.096618357487921},{"$f":"E31/[1]出生数!$G$4*100000","v":0},{"$f":"F31/[1]出生数!$G$4*100000","v":0},{"$f":"G31/[1]出生数!$G$4*100000","v":0},{"$f":"H31/[1]出生数!$G$4*100000","v":0},{"$f":"I31/[1]出生数!$G$4*100000","v":7.5483091787439607},{"$f":"J31/[1]出生数!$G$4*100000","v":0},{"$f":"K31/[1]出生数!$G$4*100000","v":7.5483091787439607},{"$f":"L31/[1]出生数!$G$4*100000","v":0},{"$f":"M31/[1]出生数!$G$4*100000","v":0},{"$f":"N31/[1]出生数!$G$4*100000","v":0},{"$f":"O31/[1]出生数!$G$4*100000","v":0},{"$f":"P31/[1]出生数!$G$4*100000","v":0}]
["Ba27",null,"新生児の呼吸窮<促>迫",3,1,2,0,0,0,0,0,0,0,0,0,0,{"$f":"D32/[1]出生数!$G$4*100000","v":22.644927536231883},{"$f":"E32/[1]出生数!$G$4*100000","v":7.5483091787439607},{"$f":"F32/[1]出生数!$G$4*100000","v":15.096618357487921},{"$f":"G32/[1]出生数!$G$4*100000","v":0},{"$f":"H32/[1]出生数!$G$4*100000","v":0},{"$f":"I32/[1]出生数!$G$4*100000","v":0},{"$f":"J32/[1]出生数!$G$4*100000","v":0},{"$f":"K32/[1]出生数!$G$4*100000","v":0},{"$f":"L32/[1]出生数!$G$4*100000","v":0},{"$f":"M32/[1]出生数!$G$4*100000","v":0},{"$f":"N32/[1]出生数!$G$4*100000","v":0},{"$f":"O32/[1]出生数!$G$4*100000","v":0},{"$f":"P32/[1]出生数!$G$4*100000","v":0}]
["Ba28",null,"周産期に発生した肺出血",0,0,0,0,0,0,0,0,0,0,0,0,0,{"$f":"D33/[1]出生数!$G$4*100000","v":0},{"$f":"E33/[1]出生数!$G$4*100000","v":0},{"$f":"F33/[1]出生数!$G$4*100000","v":0},{"$f":"G33/[1]出生数!$G$4*100000","v":0},{"$f":"H33/[1]出生数!$G$4*100000","v":0},{"$f":"I33/[1]出生数!$G$4*100000","v":0},{"$f":"J33/[1]出生数!$G$4*100000","v":0},{"$f":"K33/[1]出生数!$G$4*100000","v":0},{"$f":"L33/[1]出生数!$G$4*100000","v":0},{"$f":"M33/[1]出生数!$G$4*100000","v":0},{"$f":"N33/[1]出生数!$G$4*100000","v":0},{"$f":"O33/[1]出生数!$G$4*100000","v":0},{"$f":"P33/[1]出生数!$G$4*100000","v":0}]
["Ba29",null,"周産期に発生した心血管障害",1,0,1,0,0,0,0,0,0,0,0,0,0,{"$f":"D34/[1]出生数!$G$4*100000","v":7.5483091787439607},{"$f":"E34/[1]出生数!$G$4*100000","v":0},{"$f":"F34/[1]出生数!$G$4*100000","v":7.5483091787439607},{"$f":"G34/[1]出生数!$G$4*100000","v":0},{"$f":"H34/[1]出生数!$G$4*100000","v":0},{"$f":"I34/[1]出生数!$G$4*100000","v":0},{"$f":"J34/[1]出生数!$G$4*100000","v":0},{"$f":"K34/[1]出生数!$G$4*100000","v":0},{"$f":"L34/[1]出生数!$G$4*100000","v":0},{"$f":"M34/[1]出生数!$G$4*100000","v":0},{"$f":"N34/[1]出生数!$G$4*100000","v":0},{"$f":"O34/[1]出生数!$G$4*100000","v":0},{"$f":"P34/[1]出生数!$G$4*100000","v":0}]
["Ba30",null,"その他の周産期に特異的な呼吸障害及び心血管障害",2,1,1,0,0,0,0,0,0,0,0,0,0,{"$f":"D35/[1]出生数!$G$4*100000","v":15.096618357487921},{"$f":"E35/[1]出生数!$G$4*100000","v":7.5483091787439607},{"$f":"F35/[1]出生数!$G$4*100000","v":7.5483091787439607},{"$f":"G35/[1]出生数!$G$4*100000","v":0},{"$f":"H35/[1]出生数!$G$4*100000","v":0},{"$f":"I35/[1]出生数!$G$4*100000","v":0},{"$f":"J35/[1]出生数!$G$4*100000","v":0},{"$f":"K35/[1]出生数!$G$4*100000","v":0},{"$f":"L35/[1]出生数!$G$4*100000","v":0},{"$f":"M35/[1]出生数!$G$4*100000","v":0},{"$f":"N35/[1]出生数!$G$4*100000","v":0},{"$f":"O35/[1]出生数!$G$4*100000","v":0},{"$f":"P35/[1]出生数!$G$4*100000","v":0}]
["Ba31",null,"新生児の細菌性敗血症",1,0,1,0,0,0,0,0,0,0,0,0,0,{"$f":"D36/[1]出生数!$G$4*100000","v":7.5483091787439607},{"$f":"E36/[1]出生数!$G$4*100000","v":0},{"$f":"F36/[1]出生数!$G$4*100000","v":7.5483091787439607},{"$f":"G36/[1]出生数!$G$4*100000","v":0},{"$f":"H36/[1]出生数!$G$4*100000","v":0},{"$f":"I36/[1]出生数!$G$4*100000","v":0},{"$f":"J36/[1]出生数!$G$4*100000","v":0},{"$f":"K36/[1]出生数!$G$4*100000","v":0},{"$f":"L36/[1]出生数!$G$4*100000","v":0},{"$f":"M36/[1]出生数!$G$4*100000","v":0},{"$f":"N36/[1]出生数!$G$4*100000","v":0},{"$f":"O36/[1]出生数!$G$4*100000","v":0},{"$f":"P36/[1]出生数!$G$4*100000","v":0}]
["Ba32",null,"その他の周産期に特異的な感染症",0,0,0,0,0,0,0,0,0,0,0,0,0,{"$f":"D37/[1]出生数!$G$4*100000","v":0},{"$f":"E37/[1]出生数!$G$4*100000","v":0},{"$f":"F37/[1]出生数!$G$4*100000","v":0},{"$f":"G37/[1]出生数!$G$4*100000","v":0},{"$f":"H37/[1]出生数!$G$4*100000","v":0},{"$f":"I37/[1]出生数!$G$4*100000","v":0},{"$f":"J37/[1]出生数!$G$4*100000","v":0},{"$f":"K37/[1]出生数!$G$4*100000","v":0},{"$f":"L37/[1]出生数!$G$4*100000","v":0},{"$f":"M37/[1]出生数!$G$4*100000","v":0},{"$f":"N37/[1]出生数!$G$4*100000","v":0},{"$f":"O37/[1]出生数!$G$4*100000","v":0},{"$f":"P37/[1]出生数!$G$4*100000","v":0}]
["Ba33",null,"胎児及び新生児の出血性障害及び血液障害",1,0,0,1,0,0,0,0,0,0,0,0,0,{"$f":"D38/[1]出生数!$G$4*100000","v":7.5483091787439607},{"$f":"E38/[1]出生数!$G$4*100000","v":0},{"$f":"F38/[1]出生数!$G$4*100000","v":0},{"$f":"G38/[1]出生数!$G$4*100000","v":7.5483091787439607},{"$f":"H38/[1]出生数!$G$4*100000","v":0},{"$f":"I38/[1]出生数!$G$4*100000","v":0},{"$f":"J38/[1]出生数!$G$4*100000","v":0},{"$f":"K38/[1]出生数!$G$4*100000","v":0},{"$f":"L38/[1]出生数!$G$4*100000","v":0},{"$f":"M38/[1]出生数!$G$4*100000","v":0},{"$f":"N38/[1]出生数!$G$4*100000","v":0},{"$f":"O38/[1]出生数!$G$4*100000","v":0},{"$f":"P38/[1]出生数!$G$4*100000","v":0}]
["Ba34",null,"その他の周産期に発生した病態",2,1,0,0,0,0,0,1,0,0,0,0,0,{"$f":"D39/[1]出生数!$G$4*100000","v":15.096618357487921},{"$f":"E39/[1]出生数!$G$4*100000","v":7.5483091787439607},{"$f":"F39/[1]出生数!$G$4*100000","v":0},{"$f":"G39/[1]出生数!$G$4*100000","v":0},{"$f":"H39/[1]出生数!$G$4*100000","v":0},{"$f":"I39/[1]出生数!$G$4*100000","v":0},{"$f":"J39/[1]出生数!$G$4*100000","v":0},{"$f":"K39/[1]出生数!$G$4*100000","v":7.5483091787439607},{"$f":"L39/[1]出生数!$G$4*100000","v":0},{"$f":"M39/[1]出生数!$G$4*100000","v":0},{"$f":"N39/[1]出生数!$G$4*100000","v":0},{"$f":"O39/[1]出生数!$G$4*100000","v":0},{"$f":"P39/[1]出生数!$G$4*100000","v":0}]
["Ba35","先天奇形、変形及び染色体異常",null,13,{"$f":"SUM(E41:E48)","v":0},{"$f":"SUM(F41:F48)","v":0},2,3,2,4,2,0,0,0,0,0,{"$f":"D40/[1]出生数!$G$4*100000","v":98.128019323671495},{"$f":"E40/[1]出生数!$G$4*100000","v":0},{"$f":"F40/[1]出生数!$G$4*100000","v":0},{"$f":"G40/[1]出生数!$G$4*100000","v":15.096618357487921},{"$f":"H40/[1]出生数!$G$4*100000","v":22.644927536231883},{"$f":"I40/[1]出生数!$G$4*100000","v":15.096618357487921},{"$f":"J40/[1]出生数!$G$4*100000","v":30.193236714975843},{"$f":"K40/[1]出生数!$G$4*100000","v":15.096618357487921},{"$f":"L40/[1]出生数!$G$4*100000","v":0},{"$f":"M40/[1]出生数!$G$4*100000","v":0},{"$f":"N40/[1]出生数!$G$4*100000","v":0},{"$f":"O40/[1]出生数!$G$4*100000","v":0},{"$f":"P40/[1]出生数!$G$4*100000","v":0}]
["Ba36",null,"神経系の先天奇形",0,0,0,0,0,0,0,0,0,0,0,0,0,{"$f":"D41/[1]出生数!$G$4*100000","v":0},{"$f":"E41/[1]出生数!$G$4*100000","v":0},{"$f":"F41/[1]出生数!$G$4*100000","v":0},{"$f":"G41/[1]出生数!$G$4*100000","v":0},{"$f":"H41/[1]出生数!$G$4*100000","v":0},{"$f":"I41/[1]出生数!$G$4*100000","v":0},{"$f":"J41/[1]出生数!$G$4*100000","v":0},{"$f":"K41/[1]出生数!$G$4*100000","v":0},{"$f":"L41/[1]出生数!$G$4*100000","v":0},{"$f":"M41/[1]出生数!$G$4*100000","v":0},{"$f":"N41/[1]出生数!$G$4*100000","v":0},{"$f":"O41/[1]出生数!$G$4*100000","v":0},{"$f":"P41/[1]出生数!$G$4*100000","v":0}]
["Ba37",null,"心臓の先天奇形",6,0,0,0,1,0,3,2,0,0,0,0,0,{"$f":"D42/[1]出生数!$G$4*100000","v":45.289855072463766},{"$f":"E42/[1]出生数!$G$4*100000","v":0},{"$f":"F42/[1]出生数!$G$4*100000","v":0},{"$f":"G42/[1]出生数!$G$4*100000","v":0},{"$f":"H42/[1]出生数!$G$4*100000","v":7.5483091787439607},{"$f":"I42/[1]出生数!$G$4*100000","v":0},{"$f":"J42/[1]出生数!$G$4*100000","v":22.644927536231883},{"$f":"K42/[1]出生数!$G$4*100000","v":15.096618357487921},{"$f":"L42/[1]出生数!$G$4*100000","v":0},{"$f":"M42/[1]出生数!$G$4*100000","v":0},{"$f":"N42/[1]出生数!$G$4*100000","v":0},{"$f":"O42/[1]出生数!$G$4*100000","v":0},{"$f":"P42/[1]出生数!$G$4*100000","v":0}]
["Ba38",null,"その他の循環器系の先天奇形",0,0,0,0,0,0,0,0,0,0,0,0,0,{"$f":"D43/[1]出生数!$G$4*100000","v":0},{"$f":"E43/[1]出生数!$G$4*100000","v":0},{"$f":"F43/[1]出生数!$G$4*100000","v":0},{"$f":"G43/[1]出生数!$G$4*100000","v":0},{"$f":"H43/[1]出生数!$G$4*100000","v":0},{"$f":"I43/[1]出生数!$G$4*100000","v":0},{"$f":"J43/[1]出生数!$G$4*100000","v":0},{"$f":"K43/[1]出生数!$G$4*100000","v":0},{"$f":"L43/[1]出生数!$G$4*100000","v":0},{"$f":"M43/[1]出生数!$G$4*100000","v":0},{"$f":"N43/[1]出生数!$G$4*100000","v":0},{"$f":"O43/[1]出生数!$G$4*100000","v":0},{"$f":"P43/[1]出生数!$G$4*100000","v":0}]
["Ba39",null,"呼吸器系の先天奇形",1,0,0,1,0,0,0,0,0,0,0,0,0,{"$f":"D44/[1]出生数!$G$4*100000","v":7.5483091787439607},{"$f":"E44/[1]出生数!$G$4*100000","v":0},{"$f":"F44/[1]出生数!$G$4*100000","v":0},{"$f":"G44/[1]出生数!$G$4*100000","v":7.5483091787439607},{"$f":"H44/[1]出生数!$G$4*100000","v":0},{"$f":"I44/[1]出生数!$G$4*100000","v":0},{"$f":"J44/[1]出生数!$G$4*100000","v":0},{"$f":"K44/[1]出生数!$G$4*100000","v":0},{"$f":"L44/[1]出生数!$G$4*100000","v":0},{"$f":"M44/[1]出生数!$G$4*100000","v":0},{"$f":"N44/[1]出生数!$G$4*100000","v":0},{"$f":"O44/[1]出生数!$G$4*100000","v":0},{"$f":"P44/[1]出生数!$G$4*100000","v":0}]
["Ba40",null,"消化器系の先天奇形",1,0,0,0,0,1,0,0,0,0,0,0,0,{"$f":"D45/[1]出生数!$G$4*100000","v":7.5483091787439607},{"$f":"E45/[1]出生数!$G$4*100000","v":0},{"$f":"F45/[1]出生数!$G$4*100000","v":0},{"$f":"G45/[1]出生数!$G$4*100000","v":0},{"$f":"H45/[1]出生数!$G$4*100000","v":0},{"$f":"I45/[1]出生数!$G$4*100000","v":7.5483091787439607},{"$f":"J45/[1]出生数!$G$4*100000","v":0},{"$f":"K45/[1]出生数!$G$4*100000","v":0},{"$f":"L45/[1]出生数!$G$4*100000","v":0},{"$f":"M45/[1]出生数!$G$4*100000","v":0},{"$f":"N45/[1]出生数!$G$4*100000","v":0},{"$f":"O45/[1]出生数!$G$4*100000","v":0},{"$f":"P45/[1]出生数!$G$4*100000","v":0}]
["Ba41",null,"筋骨格系の先天奇形及び変形",0,0,0,0,0,0,0,0,0,0,0,0,0,{"$f":"D46/[1]出生数!$G$4*100000","v":0},{"$f":"E46/[1]出生数!$G$4*100000","v":0},{"$f":"F46/[1]出生数!$G$4*100000","v":0},{"$f":"G46/[1]出生数!$G$4*100000","v":0},{"$f":"H46/[1]出生数!$G$4*100000","v":0},{"$f":"I46/[1]出生数!$G$4*100000","v":0},{"$f":"J46/[1]出生数!$G$4*100000","v":0},{"$f":"K46/[1]出生数!$G$4*100000","v":0},{"$f":"L46/[1]出生数!$G$4*100000","v":0},{"$f":"M46/[1]出生数!$G$4*100000","v":0},{"$f":"N46/[1]出生数!$G$4*100000","v":0},{"$f":"O46/[1]出生数!$G$4*100000","v":0},{"$f":"P46/[1]出生数!$G$4*100000","v":0}]
["Ba42",null,"その他の先天奇形及び変形",1,0,0,0,0,1,0,0,0,0,0,0,0,{"$f":"D47/[1]出生数!$G$4*100000","v":7.5483091787439607},{"$f":"E47/[1]出生数!$G$4*100000","v":0},{"$f":"F47/[1]出生数!$G$4*100000","v":0},{"$f":"G47/[1]出生数!$G$4*100000","v":0},{"$f":"H47/[1]出生数!$G$4*100000","v":0},{"$f":"I47/[1]出生数!$G$4*100000","v":7.5483091787439607},{"$f":"J47/[1]出生数!$G$4*100000","v":0},{"$f":"K47/[1]出生数!$G$4*100000","v":0},{"$f":"L47/[1]出生数!$G$4*100000","v":0},{"$f":"M47/[1]出生数!$G$4*100000","v":0},{"$f":"N47/[1]出生数!$G$4*100000","v":0},{"$f":"O47/[1]出生数!$G$4*100000","v":0},{"$f":"P47/[1]出生数!$G$4*100000","v":0}]
["Ba43",null,"染色体異常、他に分類されないもの",4,0,0,1,2,0,1,0,0,0,0,0,0,{"$f":"D48/[1]出生数!$G$4*100000","v":30.193236714975843},{"$f":"E48/[1]出生数!$G$4*100000","v":0},{"$f":"F48/[1]出生数!$G$4*100000","v":0},{"$f":"G48/[1]出生数!$G$4*100000","v":7.5483091787439607},{"$f":"H48/[1]出生数!$G$4*100000","v":15.096618357487921},{"$f":"I48/[1]出生数!$G$4*100000","v":0},{"$f":"J48/[1]出生数!$G$4*100000","v":7.5483091787439607},{"$f":"K48/[1]出生数!$G$4*100000","v":0},{"$f":"L48/[1]出生数!$G$4*100000","v":0},{"$f":"M48/[1]出生数!$G$4*100000","v":0},{"$f":"N48/[1]出生数!$G$4*100000","v":0},{"$f":"O48/[1]出生数!$G$4*100000","v":0},{"$f":"P48/[1]出生数!$G$4*100000","v":0}]
["Ba44","乳幼児突然死症候群",null,1,0,0,0,0,0,1,0,0,0,0,0,0,{"$f":"D49/[1]出生数!$G$4*100000","v":7.5483091787439607},{"$f":"E49/[1]出生数!$G$4*100000","v":0},{"$f":"F49/[1]出生数!$G$4*100000","v":0},{"$f":"G49/[1]出生数!$G$4*100000","v":0},{"$f":"H49/[1]出生数!$G$4*100000","v":0},{"$f":"I49/[1]出生数!$G$4*100000","v":0},{"$f":"J49/[1]出生数!$G$4*100000","v":7.5483091787439607},{"$f":"K49/[1]出生数!$G$4*100000","v":0},{"$f":"L49/[1]出生数!$G$4*100000","v":0},{"$f":"M49/[1]出生数!$G$4*100000","v":0},{"$f":"N49/[1]出生数!$G$4*100000","v":0},{"$f":"O49/[1]出生数!$G$4*100000","v":0},{"$f":"P49/[1]出生数!$G$4*100000","v":0}]
["Ba45","その他のすべての疾患",null,{"$f":"SUM(E50:P50)","v":2},0,0,1,0,0,0,1,0,0,0,0,0,{"$f":"D50/[1]出生数!$G$4*100000","v":15.096618357487921},{"$f":"E50/[1]出生数!$G$4*100000","v":0},{"$f":"F50/[1]出生数!$G$4*100000","v":0},{"$f":"G50/[1]出生数!$G$4*100000","v":7.5483091787439607},{"$f":"H50/[1]出生数!$G$4*100000","v":0},{"$f":"I50/[1]出生数!$G$4*100000","v":0},{"$f":"J50/[1]出生数!$G$4*100000","v":0},{"$f":"K50/[1]出生数!$G$4*100000","v":7.5483091787439607},{"$f":"L50/[1]出生数!$G$4*100000","v":0},{"$f":"M50/[1]出生数!$G$4*100000","v":0},{"$f":"N50/[1]出生数!$G$4*100000","v":0},{"$f":"O50/[1]出生数!$G$4*100000","v":0},{"$f":"P50/[1]出生数!$G$4*100000","v":0}]

{"sheet":"体重別，単産-複産・母の年齢階級別乳児死亡数","index":10,"n_rows":36,"n_cols":26,"rows_kept":36,"cut":false,"hidden":false,"merged":[[2,0,3,0],[2,1,2,12]]}
["出生時の体重・性別にみた単産-複産・母の年齢階級別病死による乳児死亡数"]
[]
["単産-複産\n母の年齢","病死による乳児死亡数",null,null,null,null,null,null,null,null,null,null,null,null,"データの個数 : 客体区分",null,"乳児死亡","1歳未満の死亡","全体重区分"]
[null,"総　数","0.5㎏未満","0.5㎏\n以上\n1.0㎏\n未満","1.0～1.5㎏","1.5～2.0㎏","2.0～2.5㎏","2.5～3.0㎏","3.0～3.5㎏","3.5～4.0㎏","4.0～4.5㎏","4.5～5.0㎏","5.0㎏\n以上",null,null,null,"乳児",null,null,null,null,null,null,null,"乳児 計","総計"]
["総　　　数",{"$f":"SUM(B16,B27)","v":0},{"$f":"SUM(C16,C27)","v":0},0,0,0,0,0,0,0,0,0,0,null,null,null,1,null,null,null,null,null,null,"1 計"]
["～14歳",{"$f":"SUM(B17,B28)","v":0},0,0,0,0,0,0,0,0,0,0,0,null,"胎数","母の年齢区分","  500g未満"," 500g以上1000g未満","1000g以上1500g未満","1500g以上2000g未満","2000g以上2500g未満","2500g以上3000g未満","3000g以上3500g未満"]
["15～19",{"$f":"SUM(B18,B29)","v":0},0,0,0,0,0,0,0,0,0,0,0,null,1,"20～24",0,0,0,0,0,1,2,3,3,3]
["20～24",{"$f":"SUM(B19,B30)","v":0},0,0,0,0,0,0,0,0,0,0,0,null,null,"25～29",0,2,1,1,1,2,3,10,10,10]
["25～29",{"$f":"SUM(B20,B31)","v":0},0,0,0,0,0,0,0,0,0,0,0,null,null,"30～34",1,0,0,1,0,4,1,7,7,7]
["30～34",{"$f":"SUM(B21,B32)","v":0},0,0,0,0,0,0,0,0,0,0,0,null,null,"35～39",0,0,1,0,0,1,1,3,3,3]
["35～39",{"$f":"SUM(B22,B33)","v":0},0,0,0,0,0,0,0,0,0,0,0,null,"1 計",null,1,2,2,2,1,8,7,23,23,23]
["40～44",{"$f":"SUM(B23,B34)","v":0},0,0,0,0,0,0,0,0,0,0,0,null,2,"25～29",0,0,0,1,0,1,0,2,2,2]
["45～",{"$f":"SUM(B24,B35)","v":0},0,0,0,0,0,0,0,0,0,0,0,null,null,"30～34",0,1,0,0,0,0,0,1,1,1]
["不詳",{"$f":"SUM(B25,B36)","v":0},0,0,0,0,0,0,0,0,0,0,0,null,null,"35～39",0,0,0,1,0,0,0,1,1,1]
[null,null,null,null,null,null,null,null,null,null,null,null,null,null,"2 計",null,0,1,0,2,0,1,0,4,4,4]
["単　　　産",{"$f":"SUM(C16:M16)","v":0},{"$f":"SUM(C17:C25)","v":0},{"$f":"SUM(D17:D25)","v":0},0,0,0,0,0,0,0,0,0,null,"総計",null,1,3,2,4,1,9,7,27,27,27]
["～14歳",{"$f":"SUM(C17:M17)","v":0}]
["15～19",0]
["20～24",0]
["25～29",0]
["30～34",0]
["35～39",0]
["40～44",0]
["45～",0]
["不詳",0]
[]
["複　　　産",{"$f":"SUM(C27:M27)","v":0},{"$f":"SUM(C28:C36)","v":0},0,0,0,0,0,0,0,0,0,0]
["～14歳",{"$f":"SUM(C28:M28)","v":0}]
["15～19",0]
["20～24",0]
["25～29",0]
["30～34",0]
["35～39",0]
["40～44",0]
["45～",0]
["不詳",0]

{"sheet":"月・性別，区別死亡率","index":11,"n_rows":14,"n_cols":14,"rows_kept":14,"cut":false,"hidden":false,"merged":[]}
["月・性別にみた区別乳児死亡率（出生千対）"]
[]
["区","総数","１月","２月","３月","４月","５月","６月","７月","８月","９月","１０月","１１月","１２月"]
["総数",{"$f":"'3　乳児死亡数，月・性・区別'!C4/[1]出生数!G4*1000","v":2.5664251207729469},{"$f":"'3　乳児死亡数，月・性・区別'!D4/(SUM([1]出生数!K4:V4)*[1]出生数!V$15/SUM([1]出生数!K$15:V$15))*1000","v":1.7040586943175478},{"$f":"'3　乳児死亡数，月・性・区別'!E4/(SUM([1]出生数!L4:W4)*[1]出生数!W$15/SUM([1]出生数!L$15:W$15))*1000","v":0},{"$f":"'3　乳児死亡数，月・性・区別'!F4/(SUM([1]出生数!M4:X4)*[1]出生数!X$15/SUM([1]出生数!M$15:X$15))*1000","v":2.5590509776976953},{"$f":"'3　乳児死亡数，月・性・区別'!G4/(SUM([1]出生数!N4:Y4)*[1]出生数!Y$15/SUM([1]出生数!N$15:Y$15))*1000","v":2.6689090377303302},{"$f":"'3　乳児死亡数，月・性・区別'!H4/(SUM([1]出生数!O4:Z4)*[1]出生数!Z$15/SUM([1]出生数!O$15:Z$15))*1000","v":2.5896320121085989},{"$f":"'3　乳児死亡数，月・性・区別'!I4/(SUM([1]出生数!P4:AA4)*[1]出生数!AA$15/SUM([1]出生数!P$15:AA$15))*1000","v":4.4635214126739555},{"$f":"'3　乳児死亡数，月・性・区別'!J4/(SUM([1]出生数!Q4:AB4)*[1]出生数!AB$15/SUM([1]出生数!Q$15:AB$15))*1000","v":0.87391030567706507},{"$f":"'3　乳児死亡数，月・性・区別'!K4/(SUM([1]出生数!R4:AC4)*[1]出生数!AC$15/SUM([1]出生数!R$15:AC$15))*1000","v":5.2287144763764761},{"$f":"'3　乳児死亡数，月・性・区別'!L4/(SUM([1]出生数!S4:AD4)*[1]出生数!AD$15/SUM([1]出生数!S$15:AD$15))*1000","v":3.6256177208274352},{"$f":"'3　乳児死亡数，月・性・区別'!M4/(SUM([1]出生数!T4:AE4)*[1]出生数!AE$15/SUM([1]出生数!T$15:AE$15))*1000","v":0.87599088969474725},{"$f":"'3　乳児死亡数，月・性・区別'!N4/(SUM([1]出生数!U4:AF4)*[1]出生数!AF$15/SUM([1]出生数!U$15:AF$15))*1000","v":2.7418870192307692},{"$f":"'3　乳児死亡数，月・性・区別'!O4/(SUM([1]出生数!V4:AG4)*[1]出生数!AG$15/SUM([1]出生数!V$15:AG$15))*1000","v":2.6662575970079478}]
["中央",{"$f":"'3　乳児死亡数，月・性・区別'!C7/[1]出生数!G5*1000","v":3.4403669724770642},{"$f":"'3　乳児死亡数，月・性・区別'!D7/(SUM([1]出生数!K5:V5)*[1]出生数!V$15/SUM([1]出生数!K$15:V$15))*1000","v":0},{"$f":"'3　乳児死亡数，月・性・区別'!E7/(SUM([1]出生数!L5:W5)*[1]出生数!W$15/SUM([1]出生数!L$15:W$15))*1000","v":0},{"$f":"'3　乳児死亡数，月・性・区別'!F7/(SUM([1]出生数!M5:X5)*[1]出生数!X$15/SUM([1]出生数!M$15:X$15))*1000","v":0},{"$f":"'3　乳児死亡数，月・性・区別'!G7/(SUM([1]出生数!N5:Y5)*[1]出生数!Y$15/SUM([1]出生数!N$15:Y$15))*1000","v":6.7667779013718947},{"$f":"'3　乳児死亡数，月・性・区別'!H7/(SUM([1]出生数!O5:Z5)*[1]出生数!Z$15/SUM([1]出生数!O$15:Z$15))*1000","v":13.024550385383957},{"$f":"'3　乳児死亡数，月・性・区別'!I7/(SUM([1]出生数!P5:AA5)*[1]出生数!AA$15/SUM([1]出生数!P$15:AA$15))*1000","v":6.7780872794800366},{"$f":"'3　乳児死亡数，月・性・区別'!J7/(SUM([1]出生数!Q5:AB5)*[1]出生数!AB$15/SUM([1]出生数!Q$15:AB$15))*1000","v":0},{"$f":"'3　乳児死亡数，月・性・区別'!K7/(SUM([1]出生数!R5:AC5)*[1]出生数!AC$15/SUM([1]出生数!R$15:AC$15))*1000","v":0},{"$f":"'3　乳児死亡数，月・性・区別'!L7/(SUM([1]出生数!S5:AD5)*[1]出生数!AD$15/SUM([1]出生数!S$15:AD$15))*1000","v":6.9168087928747388},{"$f":"'3　乳児死亡数，月・性・区別'!M7/(SUM([1]出生数!T5:AE5)*[1]出生数!AE$15/SUM([1]出生数!T$15:AE$15))*1000","v":0},{"$f":"'3　乳児死亡数，月・性・区別'!N7/(SUM([1]出生数!U5:AF5)*[1]出生数!AF$15/SUM([1]出生数!U$15:AF$15))*1000","v":7.0124879923150809},{"$f":"'3　乳児死亡数，月・性・区別'!O7/(SUM([1]出生数!V5:AG5)*[1]出生数!AG$15/SUM([1]出生数!V$15:AG$15))*1000","v":0}]
["北",{"$f":"'3　乳児死亡数，月・性・区別'!C10/[1]出生数!G6*1000","v":1.6242555495397943},{"$f":"'3　乳児死亡数，月・性・区別'!D10/(SUM([1]出生数!K6:V6)*[1]出生数!V$15/SUM([1]出生数!K$15:V$15))*1000","v":0},{"$f":"'3　乳児死亡数，月・性・区別'!E10/(SUM([1]出生数!L6:W6)*[1]出生数!W$15/SUM([1]出生数!L$15:W$15))*1000","v":0},{"$f":"'3　乳児死亡数，月・性・区別'!F10/(SUM([1]出生数!M6:X6)*[1]出生数!X$15/SUM([1]出生数!M$15:X$15))*1000","v":0},{"$f":"'3　乳児死亡数，月・性・区別'!G10/(SUM([1]出生数!N6:Y6)*[1]出生数!Y$15/SUM([1]出生数!N$15:Y$15))*1000","v":0},{"$f":"'3　乳児死亡数，月・性・区別'!H10/(SUM([1]出生数!O6:Z6)*[1]出生数!Z$15/SUM([1]出生数!O$15:Z$15))*1000","v":0},{"$f":"'3　乳児死亡数，月・性・区別'!I10/(SUM([1]出生数!P6:AA6)*[1]出生数!AA$15/SUM([1]出生数!P$15:AA$15))*1000","v":0},{"$f":"'3　乳児死亡数，月・性・区別'!J10/(SUM([1]出生数!Q6:AB6)*[1]出生数!AB$15/SUM([1]出生数!Q$15:AB$15))*1000","v":0},{"$f":"'3　乳児死亡数，月・性・区別'!K10/(SUM([1]出生数!R6:AC6)*[1]出生数!AC$15/SUM([1]出生数!R$15:AC$15))*1000","v":6.4164542498022321},{"$f":"'3　乳児死亡数，月・性・区別'!L10/(SUM([1]出生数!S6:AD6)*[1]出生数!AD$15/SUM([1]出生数!S$15:AD$15))*1000","v":13.473606496862313},{"$f":"'3　乳児死亡数，月・性・区別'!M10/(SUM([1]出生数!T6:AE6)*[1]出生数!AE$15/SUM([1]出生数!T$15:AE$15))*1000","v":0},{"$f":"'3　乳児死亡数，月・性・区別'!N10/(SUM([1]出生数!U6:AF6)*[1]出生数!AF$15/SUM([1]出生数!U$15:AF$15))*1000","v":0},{"$f":"'3　乳児死亡数，月・性・区別'!O10/(SUM([1]出生数!V6:AG6)*[1]出生数!AG$15/SUM([1]出生数!V$15:AG$15))*1000","v":0}]
["東",{"$f":"'3　乳児死亡数，月・性・区別'!C13/[1]出生数!G7*1000","v":2.5278058645096055},{"$f":"'3　乳児死亡数，月・性・区別'!D13/(SUM([1]出生数!K7:V7)*[1]出生数!V$15/SUM([1]出生数!K$15:V$15))*1000","v":0},{"$f":"'3　乳児死亡数，月・性・区別'!E13/(SUM([1]出生数!L7:W7)*[1]出生数!W$15/SUM([1]出生数!L$15:W$15))*1000","v":0},{"$f":"'3　乳児死亡数，月・性・区別'!F13/(SUM([1]出生数!M7:X7)*[1]出生数!X$15/SUM([1]出生数!M$15:X$15))*1000","v":0},{"$f":"'3　乳児死亡数，月・性・区別'!G13/(SUM([1]出生数!N7:Y7)*[1]出生数!Y$15/SUM([1]出生数!N$15:Y$15))*1000","v":0},{"$f":"'3　乳児死亡数，月・性・区別'!H13/(SUM([1]出生数!O7:Z7)*[1]出生数!Z$15/SUM([1]出生数!O$15:Z$15))*1000","v":0},{"$f":"'3　乳児死亡数，月・性・区別'!I13/(SUM([1]出生数!P7:AA7)*[1]出生数!AA$15/SUM([1]出生数!P$15:AA$15))*1000","v":0},{"$f":"'3　乳児死亡数，月・性・区別'!J13/(SUM([1]出生数!Q7:AB7)*[1]出生数!AB$15/SUM([1]出生数!Q$15:AB$15))*1000","v":5.8461735592785979},{"$f":"'3　乳児死亡数，月・性・区別'!K13/(SUM([1]出生数!R7:AC7)*[1]出生数!AC$15/SUM([1]出生数!R$15:AC$15))*1000","v":0},{"$f":"'3　乳児死亡数，月・性・区別'!L13/(SUM([1]出生数!S7:AD7)*[1]出生数!AD$15/SUM([1]出生数!S$15:AD$15))*1000","v":0},{"$f":"'3　乳児死亡数，月・性・区別'!M13/(SUM([1]出生数!T7:AE7)*[1]出生数!AE$15/SUM([1]出生数!T$15:AE$15))*1000","v":0},{"$f":"'3　乳児死亡数，月・性・区別'!N13/(SUM([1]出生数!U7:AF7)*[1]出生数!AF$15/SUM([1]出生数!U$15:AF$15))*1000","v":12.12423185517356},{"$f":"'3　乳児死亡数，月・性・区別'!O13/(SUM([1]出生数!V7:AG7)*[1]出生数!AG$15/SUM([1]出生数!V$15:AG$15))*1000","v":11.905150200593626}]
["白石",{"$f":"'3　乳児死亡数，月・性・区別'!C16/[1]出生数!G8*1000","v":2.3378141437755695},{"$f":"'3　乳児死亡数，月・性・区別'!D16/(SUM([1]出生数!K8:V8)*[1]出生数!V$15/SUM([1]出生数!K$15:V$15))*1000","v":0},{"$f":"'3　乳児死亡数，月・性・区別'!E16/(SUM([1]出生数!L8:W8)*[1]出生数!W$15/SUM([1]出生数!L$15:W$15))*1000","v":0},{"$f":"'3　乳児死亡数，月・性・区別'!F16/(SUM([1]出生数!M8:X8)*[1]出生数!X$15/SUM([1]出生数!M$15:X$15))*1000","v":6.9056853656229302},{"$f":"'3　乳児死亡数，月・性・区別'!G16/(SUM([1]出生数!N8:Y8)*[1]出生数!Y$15/SUM([1]出生数!N$15:Y$15))*1000","v":14.280125195618153},{"$f":"'3　乳児死亡数，月・性・区別'!H16/(SUM([1]出生数!O8:Z8)*[1]出生数!Z$15/SUM([1]出生数!O$15:Z$15))*1000","v":0},{"$f":"'3　乳児死亡数，月・性・区別'!I16/(SUM([1]出生数!P8:AA8)*[1]出生数!AA$15/SUM([1]出生数!P$15:AA$15))*1000","v":0},{"$f":"'3　乳児死亡数，月・性・区別'!J16/(SUM([1]出生数!Q8:AB8)*[1]出生数!AB$15/SUM([1]出生数!Q$15:AB$15))*1000","v":0},{"$f":"'3　乳児死亡数，月・性・区別'!K16/(SUM([1]出生数!R8:AC8)*[1]出生数!AC$15/SUM([1]出生数!R$15:AC$15))*1000","v":7.0335684279492803},{"$f":"'3　乳児死亡数，月・性・区別'!L16/(SUM([1]出生数!S8:AD8)*[1]出生数!AD$15/SUM([1]出生数!S$15:AD$15))*1000","v":0},{"$f":"'3　乳児死亡数，月・性・区別'!M16/(SUM([1]出生数!T8:AE8)*[1]出生数!AE$15/SUM([1]出生数!T$15:AE$15))*1000","v":0},{"$f":"'3　乳児死亡数，月・性・区別'!N16/(SUM([1]出生数!U8:AF8)*[1]出生数!AF$15/SUM([1]出生数!U$15:AF$15))*1000","v":0},{"$f":"'3　乳児死亡数，月・性・区別'!O16/(SUM([1]出生数!V8:AG8)*[1]出生数!AG$15/SUM([1]出生数!V$15:AG$15))*1000","v":0}]
["厚別",{"$f":"'3　乳児死亡数，月・性・区別'!C19/[1]出生数!G9*1000","v":4.5385779122541603},{"$f":"'3　乳児死亡数，月・性・区別'!D19/(SUM([1]出生数!K9:V9)*[1]出生数!V$15/SUM([1]出生数!K$15:V$15))*1000","v":0},{"$f":"'3　乳児死亡数，月・性・区別'!E19/(SUM([1]出生数!L9:W9)*[1]出生数!W$15/SUM([1]出生数!L$15:W$15))*1000","v":0},{"$f":"'3　乳児死亡数，月・性・区別'!F19/(SUM([1]出生数!M9:X9)*[1]出生数!X$15/SUM([1]出生数!M$15:X$15))*1000","v":0},{"$f":"'3　乳児死亡数，月・性・区別'!G19/(SUM([1]出生数!N9:Y9)*[1]出生数!Y$15/SUM([1]出生数!N$15:Y$15))*1000","v":0},{"$f":"'3　乳児死亡数，月・性・区別'!H19/(SUM([1]出生数!O9:Z9)*[1]出生数!Z$15/SUM([1]出生数!O$15:Z$15))*1000","v":0},{"$f":"'3　乳児死亡数，月・性・区別'!I19/(SUM([1]出生数!P9:AA9)*[1]出生数!AA$15/SUM([1]出生数!P$15:AA$15))*1000","v":36.372695565520672},{"$f":"'3　乳児死亡数，月・性・区別'!J19/(SUM([1]出生数!Q9:AB9)*[1]出生数!AB$15/SUM([1]出生数!Q$15:AB$15))*1000","v":0},{"$f":"'3　乳児死亡数，月・性・区別'!K19/(SUM([1]出生数!R9:AC9)*[1]出生数!AC$15/SUM([1]出生数!R$15:AC$15))*1000","v":0},{"$f":"'3　乳児死亡数，月・性・区別'!L19/(SUM([1]出生数!S9:AD9)*[1]出生数!AD$15/SUM([1]出生数!S$15:AD$15))*1000","v":0},{"$f":"'3　乳児死亡数，月・性・区別'!M19/(SUM([1]出生数!T9:AE9)*[1]出生数!AE$15/SUM([1]出生数!T$15:AE$15))*1000","v":17.495086996117529},{"$f":"'3　乳児死亡数，月・性・区別'!N19/(SUM([1]出生数!U9:AF9)*[1]出生数!AF$15/SUM([1]出生数!U$15:AF$15))*1000","v":0},{"$f":"'3　乳児死亡数，月・性・区別'!O19/(SUM([1]出生数!V9:AG9)*[1]出生数!AG$15/SUM([1]出生数!V$15:AG$15))*1000","v":0}]
["豊平",{"$f":"'3　乳児死亡数，月・性・区別'!C22/[1]出生数!G10*1000","v":2.3781212841854931},{"$f":"'3　乳児死亡数，月・性・区別'!D22/(SUM([1]出生数!K10:V10)*[1]出生数!V$15/SUM([1]出生数!K$15:V$15))*1000","v":0},{"$f":"'3　乳児死亡数，月・性・区別'!E22/(SUM([1]出生数!L10:W10)*[1]出生数!W$15/SUM([1]出生数!L$15:W$15))*1000","v":0},{"$f":"'3　乳児死亡数，月・性・区別'!F22/(SUM([1]出生数!M10:X10)*[1]出生数!X$15/SUM([1]出生数!M$15:X$15))*1000","v":13.03897402922159},{"$f":"'3　乳児死亡数，月・性・区別'!G22/(SUM([1]出生数!N10:Y10)*[1]出生数!Y$15/SUM([1]出生数!N$15:Y$15))*1000","v":0},{"$f":"'3　乳児死亡数，月・性・区別'!H22/(SUM([1]出生数!O10:Z10)*[1]出生数!Z$15/SUM([1]出生数!O$15:Z$15))*1000","v":0},{"$f":"'3　乳児死亡数，月・性・区別'!I22/(SUM([1]出生数!P10:AA10)*[1]出生数!AA$15/SUM([1]出生数!P$15:AA$15))*1000","v":6.7667779013718947},{"$f":"'3　乳児死亡数，月・性・区別'!J22/(SUM([1]出生数!Q10:AB10)*[1]出生数!AB$15/SUM([1]出生数!Q$15:AB$15))*1000","v":0},{"$f":"'3　乳児死亡数，月・性・区別'!K22/(SUM([1]出生数!R10:AC10)*[1]出生数!AC$15/SUM([1]出生数!R$15:AC$15))*1000","v":6.6633806159519509},{"$f":"'3　乳児死亡数，月・性・区別'!L22/(SUM([1]出生数!S10:AD10)*[1]出生数!AD$15/SUM([1]出生数!S$15:AD$15))*1000","v":0},{"$f":"'3　乳児死亡数，月・性・区別'!M22/(SUM([1]出生数!T10:AE10)*[1]出生数!AE$15/SUM([1]出生数!T$15:AE$15))*1000","v":0},{"$f":"'3　乳児死亡数，月・性・区別'!N22/(SUM([1]出生数!U10:AF10)*[1]出生数!AF$15/SUM([1]出生数!U$15:AF$15))*1000","v":0},{"$f":"'3　乳児死亡数，月・性・区別'!O22/(SUM([1]出生数!V10:AG10)*[1]出生数!AG$15/SUM([1]出生数!V$15:AG$15))*1000","v":0}]
["清田",{"$f":"'3　乳児死亡数，月・性・区別'!C25/[1]出生数!G11*1000","v":3.1055900621118009},{"$f":"'3　乳児死亡数，月・性・区別'!D25/(SUM([1]出生数!K11:V11)*[1]出生数!V$15/SUM([1]出生数!K$15:V$15))*1000","v":18.718908661982667},{"$f":"'3　乳児死亡数，月・性・区別'!E25/(SUM([1]出生数!L11:W11)*[1]出生数!W$15/SUM([1]出生数!L$15:W$15))*1000","v":0},{"$f":"'3　乳児死亡数，月・性・区別'!F25/(SUM([1]出生数!M11:X11)*[1]出生数!X$15/SUM([1]出生数!M$15:X$15))*1000","v":0},{"$f":"'3　乳児死亡数，月・性・区別'!G25/(SUM([1]出生数!N11:Y11)*[1]出生数!Y$15/SUM([1]出生数!N$15:Y$15))*1000","v":0},{"$f":"'3　乳児死亡数，月・性・区別'!H25/(SUM([1]出生数!O11:Z11)*[1]出生数!Z$15/SUM([1]出生数!O$15:Z$15))*1000","v":0},{"$f":"'3　乳児死亡数，月・性・区別'!I25/(SUM([1]出生数!P11:AA11)*[1]出生数!AA$15/SUM([1]出生数!P$15:AA$15))*1000","v":0},{"$f":"'3　乳児死亡数，月・性・区別'!J25/(SUM([1]出生数!Q11:AB11)*[1]出生数!AB$15/SUM([1]出生数!Q$15:AB$15))*1000","v":0},{"$f":"'3　乳児死亡数，月・性・区別'!K25/(SUM([1]出生数!R11:AC11)*[1]出生数!AC$15/SUM([1]出生数!R$15:AC$15))*1000","v":18.311342999046808},{"$f":"'3　乳児死亡数，月・性・区別'!L25/(SUM([1]出生数!S11:AD11)*[1]出生数!AD$15/SUM([1]出生数!S$15:AD$15))*1000","v":0},{"$f":"'3　乳児死亡数，月・性・区別'!M25/(SUM([1]出生数!T11:AE11)*[1]出生数!AE$15/SUM([1]出生数!T$15:AE$15))*1000","v":0},{"$f":"'3　乳児死亡数，月・性・区別'!N25/(SUM([1]出生数!U11:AF11)*[1]出生数!AF$15/SUM([1]出生数!U$15:AF$15))*1000","v":0},{"$f":"'3　乳児死亡数，月・性・区別'!O25/(SUM([1]出生数!V11:AG11)*[1]出生数!AG$15/SUM([1]出生数!V$15:AG$15))*1000","v":0}]
["南",{"$f":"'3　乳児死亡数，月・性・区別'!C28/[1]出生数!G12*1000","v":3.1152647975077881},{"$f":"'3　乳児死亡数，月・性・区別'!D28/(SUM([1]出生数!K12:V12)*[1]出生数!V$15/SUM([1]出生数!K$15:V$15))*1000","v":0},{"$f":"'3　乳児死亡数，月・性・区別'!E28/(SUM([1]出生数!L12:W12)*[1]出生数!W$15/SUM([1]出生数!L$15:W$15))*1000","v":0},{"$f":"'3　乳児死亡数，月・性・区別'!F28/(SUM([1]出生数!M12:X12)*[1]出生数!X$15/SUM([1]出生数!M$15:X$15))*1000","v":0},{"$f":"'3　乳児死亡数，月・性・区別'!G28/(SUM([1]出生数!N12:Y12)*[1]出生数!Y$15/SUM([1]出生数!N$15:Y$15))*1000","v":0},{"$f":"'3　乳児死亡数，月・性・区別'!H28/(SUM([1]出生数!O12:Z12)*[1]出生数!Z$15/SUM([1]出生数!O$15:Z$15))*1000","v":0},{"$f":"'3　乳児死亡数，月・性・区別'!I28/(SUM([1]出生数!P12:AA12)*[1]出生数!AA$15/SUM([1]出生数!P$15:AA$15))*1000","v":17.380952380952383},{"$f":"'3　乳児死亡数，月・性・区別'!J28/(SUM([1]出生数!Q12:AB12)*[1]出生数!AB$15/SUM([1]出生数!Q$15:AB$15))*1000","v":0},{"$f":"'3　乳児死亡数，月・性・区別'!K28/(SUM([1]出生数!R12:AC12)*[1]出生数!AC$15/SUM([1]出生数!R$15:AC$15))*1000","v":0},{"$f":"'3　乳児死亡数，月・性・区別'!L28/(SUM([1]出生数!S12:AD12)*[1]出生数!AD$15/SUM([1]出生数!S$15:AD$15))*1000","v":18.323293172690764},{"$f":"'3　乳児死亡数，月・性・区別'!M28/(SUM([1]出生数!T12:AE12)*[1]出生数!AE$15/SUM([1]出生数!T$15:AE$15))*1000","v":0},{"$f":"'3　乳児死亡数，月・性・区別'!N28/(SUM([1]出生数!U12:AF12)*[1]出生数!AF$15/SUM([1]出生数!U$15:AF$15))*1000","v":0},{"$f":"'3　乳児死亡数，月・性・区別'!O28/(SUM([1]出生数!V12:AG12)*[1]出生数!AG$15/SUM([1]出生数!V$15:AG$15))*1000","v":0}]
["西",{"$f":"'3　乳児死亡数，月・性・区別'!C31/[1]出生数!G13*1000","v":1.9607843137254901},{"$f":"'3　乳児死亡数，月・性・区別'!D31/(SUM([1]出生数!K13:V13)*[1]出生数!V$15/SUM([1]出生数!K$15:V$15))*1000","v":7.1445349201378017},{"$f":"'3　乳児死亡数，月・性・区別'!E31/(SUM([1]出生数!L13:W13)*[1]出生数!W$15/SUM([1]出生数!L$15:W$15))*1000","v":0},{"$f":"'3　乳児死亡数，月・性・区別'!F31/(SUM([1]出生数!M13:X13)*[1]出生数!X$15/SUM([1]出生数!M$15:X$15))*1000","v":0},{"$f":"'3　乳児死亡数，月・性・区別'!G31/(SUM([1]出生数!N13:Y13)*[1]出生数!Y$15/SUM([1]出生数!N$15:Y$15))*1000","v":0},{"$f":"'3　乳児死亡数，月・性・区別'!H31/(SUM([1]出生数!O13:Z13)*[1]出生数!Z$15/SUM([1]出生数!O$15:Z$15))*1000","v":7.2770046652577847},{"$f":"'3　乳児死亡数，月・性・区別'!I31/(SUM([1]出生数!P13:AA13)*[1]出生数!AA$15/SUM([1]出生数!P$15:AA$15))*1000","v":0},{"$f":"'3　乳児死亡数，月・性・区別'!J31/(SUM([1]出生数!Q13:AB13)*[1]出生数!AB$15/SUM([1]出生数!Q$15:AB$15))*1000","v":0},{"$f":"'3　乳児死亡数，月・性・区別'!K31/(SUM([1]出生数!R13:AC13)*[1]出生数!AC$15/SUM([1]出生数!R$15:AC$15))*1000","v":0},{"$f":"'3　乳児死亡数，月・性・区別'!L31/(SUM([1]出生数!S13:AD13)*[1]出生数!AD$15/SUM([1]出生数!S$15:AD$15))*1000","v":0},{"$f":"'3　乳児死亡数，月・性・区別'!M31/(SUM([1]出生数!T13:AE13)*[1]出生数!AE$15/SUM([1]出生数!T$15:AE$15))*1000","v":0},{"$f":"'3　乳児死亡数，月・性・区別'!N31/(SUM([1]出生数!U13:AF13)*[1]出生数!AF$15/SUM([1]出生数!U$15:AF$15))*1000","v":0},{"$f":"'3　乳児死亡数，月・性・区別'!O31/(SUM([1]出生数!V13:AG13)*[1]出生数!AG$15/SUM([1]出生数!V$15:AG$15))*1000","v":7.695551338815096}]
["手稲",{"$f":"'3　乳児死亡数，月・性・区別'!C34/[1]出生数!G14*1000","v":2.4721878862793569},{"$f":"'3　乳児死亡数，月・性・区別'!D34/(SUM([1]出生数!K14:V14)*[1]出生数!V$15/SUM([1]出生数!K$15:V$15))*1000","v":0},{"$f":"'3　乳児死亡数，月・性・区別'!E34/(SUM([1]出生数!L14:W14)*[1]出生数!W$15/SUM([1]出生数!L$15:W$15))*1000","v":0},{"$f":"'3　乳児死亡数，月・性・区別'!F34/(SUM([1]出生数!M14:X14)*[1]出生数!X$15/SUM([1]出生数!M$15:X$15))*1000","v":0},{"$f":"'3　乳児死亡数，月・性・区別'!G34/(SUM([1]出生数!N14:Y14)*[1]出生数!Y$15/SUM([1]出生数!N$15:Y$15))*1000","v":0},{"$f":"'3　乳児死亡数，月・性・区別'!H34/(SUM([1]出生数!O14:Z14)*[1]出生数!Z$15/SUM([1]出生数!O$15:Z$15))*1000","v":0},{"$f":"'3　乳児死亡数，月・性・区別'!I34/(SUM([1]出生数!P14:AA14)*[1]出生数!AA$15/SUM([1]出生数!P$15:AA$15))*1000","v":0},{"$f":"'3　乳児死亡数，月・性・区別'!J34/(SUM([1]出生数!Q14:AB14)*[1]出生数!AB$15/SUM([1]出生数!Q$15:AB$15))*1000","v":0},{"$f":"'3　乳児死亡数，月・性・区別'!K34/(SUM([1]出生数!R14:AC14)*[1]出生数!AC$15/SUM([1]出生数!R$15:AC$15))*1000","v":27.834972927629067},{"$f":"'3　乳児死亡数，月・性・区別'!L34/(SUM([1]出生数!S14:AD14)*[1]出生数!AD$15/SUM([1]出生数!S$15:AD$15))*1000","v":0},{"$f":"'3　乳児死亡数，月・性・区別'!M34/(SUM([1]出生数!T14:AE14)*[1]出生数!AE$15/SUM([1]出生数!T$15:AE$15))*1000","v":0},{"$f":"'3　乳児死亡数，月・性・区別'!N34/(SUM([1]出生数!U14:AF14)*[1]出生数!AF$15/SUM([1]出生数!U$15:AF$15))*1000","v":0},{"$f":"'3　乳児死亡数，月・性・区別'!O34/(SUM([1]出生数!V14:AG14)*[1]出生数!AG$15/SUM([1]出生数!V$15:AG$15))*1000","v":0}]

{"sheet":"死亡の場所別，区別死亡数","index":12,"n_rows":15,"n_cols":17,"rows_kept":15,"cut":false,"hidden":false,"merged":[[2,2,2,5],[2,0,3,0],[2,1,3,1],[2,6,2,8]]}
["死亡の場所別にみた区別乳児死亡数及び百分率"]
[]
["区","総数","施設内",null,null,null,"施設外",null,null,null,"データの個数 : 客体区分","乳児死亡","死亡場所区分"]
[null,null,"総  数","病院","診療所","助産所","総  数","自宅","その他",null,null,"乳児",null,null,null,"乳児 計","総計"]
["総数",{"$f":"SUM(C5,G5)","v":0},{"$f":"SUM(D5:E5)","v":0},{"$f":"SUM(D6:D15)","v":0},{"$f":"SUM(E6:E15)","v":0},{"$f":"SUM(F6:F15)","v":0},{"$f":"SUM(H5:I5)","v":0},{"$f":"SUM(H6:H15)","v":0},{"$f":"SUM(I6:I15)","v":0},null,"区コード","1 病院","2 診療所","6 自宅","7 その他"]
["中央",0,0,null,null,null,0,null,null,null,"10　中央区",4,null,1,null,5,5]
["北",0,0,null,null,null,0,null,null,null,"20　北区",3,null,2,null,5,5]
["東",0,0,null,null,null,0,null,null,null,"30　東区",5,1,1,null,7,7]
["白石",0,0,null,null,null,0,null,null,null,"40　白石区",2,null,2,null,4,4]
["厚別",0,0,null,null,null,0,null,null,null,"50　豊平区",5,null,null,null,5,5]
["豊平",0,0,null,null,null,0,null,null,null,"70　西区",3,null,2,1,6,6]
["清田",0,0,null,null,null,0,null,null,null,"75　手稲区",null,null,1,null,1,1]
["南",0,0,null,null,null,0,null,null,null,"総計",22,1,9,1,33,33]
["西",0,0,null,null,null,0]
["手稲",0,0,null,null,null,0]