{"text_format":"1","workbook":"xlsx","n_sheets":8,"sheets":["1 初婚-再婚別，年次別婚姻件数・再婚の割合・婚姻率","2　初婚再婚の組合せ別，年次別婚姻件数・再婚割合","3　初婚再婚の組合せ別，区別婚姻件数・再婚割合 ","4　届出月別，区別婚姻件数・百分率","5 夫妻の年齢別（5歳階級），婚姻件数・百分率","6 夫妻の年齢別（5歳階級），初婚夫妻の婚姻件数・百分率","7 年次別平均婚姻年齢・年齢差","8 婚姻件数，夫妻の年齢差別"],"not_rendered":{"charts":0,"images":0,"macros":1,"external_links":2,"defined_names":8,"comments":0,"pivot_tables":0},"unopened":[],"bounds":{"document_bytes":16777216,"sheet_cells":100000,"rows_first":2000,"rows_last":500,"rows_between":2000,"halvings":0,"cell_chars":16384,"cell_head_chars":4096},"cells_cut":0,"cells_raw":0,"read":"whole","date_system":"1900"}

{"sheet":"1 初婚-再婚別，年次別婚姻件数・再婚の割合・婚姻率","index":0,"n_rows":60,"n_cols":11,"rows_kept":60,"cut":false,"hidden":false,"merged":[[3,6,3,7],[3,8,4,8],[3,0,4,0],[3,1,4,1],[3,2,3,3],[3,4,3,5]]}
["第7章　婚　　　　　姻"]
["1　年次別にみた初婚-再婚別婚姻件数・総件数に対する再婚件数の割合及び婚姻率（人口千対）"]
[]
["年　　次","総数","夫",null,"妻",null,"総件数に対する\n再婚件数の割合",null,"婚姻率"]
[null,null,"初婚","再婚","初婚","再婚","夫","妻"]
["1950  昭和25年　",3105,"…","…","…","…","・","・",9.8932611119961766,null,313850]
["  55      30",4154,"…","…","…","…","・","・",9.7370024846467587,null,426620]
["  60      35",6651,5961,690,6175,476,10.374379792512405,7.1568185235302968,12.696649161288105,null,523839]
["  65      40",10222,9235,987,9469,753,9.6556446879279978,7.3664644883584431,12.859349761230231,null,794908]
["  70      45",12776,11476,1300,11714,1062,10.175328741390107,8.3124608641202258,12.647964653809487,null,1010123]
["  72      47",14158,12532,1626,13001,1157,11.484672976409097,8.1720582003107776,12.881425017878232,null,1099102]
["  73      48",15047,13308,1739,13633,1414,11.557121020801489,9.3972220376154709,13.057358833090213,null,1152377]
["  74      49",15712,13336,2376,13594,2118,15.122199592668025,13.480142566191446,13.077008867264032,null,1201498]
["  75      50",14533,12692,1841,12939,1594,12.66772173673708,10.968141471134658,11.714370234714613,null,1240613]
["  76      51",13508,11631,1877,11860,1648,13.895469351495409,12.200177672490376,10.589958198358666,null,1275548]
["  77      52",12550,10718,1832,10913,1637,14.597609561752989,13.04382470119522,9.611761426124998,null,1305692]
["  78      53",11959,10090,1869,10376,1583,15.628397023162471,13.236892716782339,8.9666967331052483,null,1333713]
["  79      54",12329,10333,1996,10581,1748,16.189471976640441,14.177954416416579,9.0182017139630339,null,1367124]
["  80      55",12382,10313,2069,10597,1785,16.709739945081569,14.416087869487967,8.8332000482251924,null,1401757]
["  81      56",12287,10166,2121,10505,1782,17.262146984617889,14.503133393017009,8.5779471290720295,null,1432394]
["  82      57",12638,10430,2208,10757,1881,17.471118847918973,14.883684127235322,8.6379654918814879,null,1463076]
["  83      58",12189,10049,2140,10373,1816,17.556813520387234,14.898679136926738,8.1620927742477249,null,1493367]
["  84      59",12014,9802,2212,10198,1816,18.411852838355252,15.115698351922758,7.9051747508165748,null,1519764]
["  85      60",11994,9819,2175,10171,1823,18.134067033516761,15.199266299816575,7.7892828196762194,null,1539808]
["1986  昭和61年",11788,9512,2276,9902,1886,19.307770614183916,15.999321343739394,7.5232740921237298,null,1566871]
["  87      62",11423,9133,2290,9490,1933,20.047273045609735,16.921999474743938,7.1698243477769648,null,1593205]
["  88      63",11982,9512,2470,9894,2088,20.614254715406442,17.426139208813222,7.4015001905660833,null,1618861]
["  89  平成元年　",11975,9609,2366,9992,1983,19.757828810020879,16.559498956158663,7.2792148781681298,null,1645095]
["  90       2",12329,9930,2399,10308,2021,19.458188012004218,16.392245924243653,7.3915577127838157,null,1667984]
["  91       3",12687,10286,2401,10693,1994,18.924883739260661,15.716875541893277,7.4850087434247321,null,1694988]
["  92       4",12777,10360,2417,10800,1977,18.916803631525397,15.473115754872035,7.4523706202668079,null,1714488]
["  93       5",13263,10855,2408,11218,2045,18.155771695694789,15.418834351202593,7.6732779238932096,null,1728466]
["  94       6",12975,10579,2396,11068,1907,18.466281310211947,14.697495183044316,7.4546087580018545,null,1740534]
["  95       7",13026,10691,2335,11121,1905,17.925687087363734,14.624596959926301,7.4348933139042099,null,1752009]
["  96       8",13111,10707,2404,11142,1969,18.335748608039051,15.017923880710853,7.3883936118656104,null,1774540]
["  97       9",12417,10091,2326,10472,1945,18.732383023274544,15.664009019892083,6.9321429349030632,null,1791221]
["  98      10",12500,10159,2341,10530,1970,18.728000000000002,15.76,6.9307907865948524,null,1803546]
["  99      11",12032,9798,2234,10248,1784,18.567154255319149,14.827127659574469,6.6400703300002375,null,1812029]
["2000      12",12642,10181,2461,10687,1955,19.466856510045879,15.464325264989718,6.9588595000652296,null,1816677]
["  01      13",12430,9928,2502,10421,2009,20.128720836685439,16.162510056315366,6.7750086663425417,null,1834684]
["  02      14",12118,9583,2535,10037,2081,20.919293612807394,17.172800792209937,6.5643392460056278,null,1846035]
["  03      15",12158,9539,2619,10036,2122,21.541371936173711,17.453528540878434,6.5282724455677501,null,1862361]
["  04      16",11554,9026,2528,9554,2000,21.879868443828975,17.310022503029256,6.1696916168767819,null,1872703]
["  05      17",11191,8756,2435,9215,1976,21.758555982485923,17.65704584040747,6,null,1880863]
["  06      18",11644,9039,2605,9535,2109,22.372037100652697,18.112332531776019,{"$f":"B45/K45*1000","v":6.1626073057910729},null,1889460]
["  07      19",11357,8817,2540,9395,1962,22.365061195738313,17.275689002377391,{"$f":"B46/K46*1000","v":5.9902916871714291},null,1895901]
["  08      20",11625,9107,2518,9485,2140,21.660215053763441,18.408602150537632,{"$f":"B47/K47*1000","v":6.1157976973035248},null,1900815]
["  09      21",11225,8791,2434,9225,2000,21.683741648106906,17.817371937639198,{"$f":"B48/K48*1000","v":5.8849619692524504},null,1907404]
["  10      22",11522,8958,2564,9455,2067,22.253081062315569,17.93959382051727,6.0429837507617972,null,1906674]
["  11      23",10576,8224,2352,8649,1927,22.239031770045386,18.220499243570348,5.5027875552503076,null,1921935]
["  12      24",10859,8363,2496,8924,1935,22.985541946772262,17.819320379408783,5.629995396043916,null,1928776]
["  13      25",10914,8364,2550,8835,2079,23.364485981308412,19.048927982407918,5.6368464029079801,null,1936189]
["  14      26",10752,8202,2550,8715,2037,23.716517857142858,18.9453125,5.5347134426823601,null,1942648]
["  15      27",10800,8160,2640,8745,2055,24.444444444444443,19.027777777777779,"2） 5.6 ",null,1943527]
["  16      28",10495,7966,2529,8505,1990,24.1,19,5.4,null,1958405]
["  17      29",10134,7764,2370,8243,1891,23.386619301361751,18.659956581803829,5.1627220291423281,null,1962918]
["  18      30",{"$f":"SUM(C57:D57)","v":9878},{"$f":"'[1]■1 初婚-再婚別，年次別婚姻件数・再婚の割合・婚姻率'!$C$6","v":7565},{"$f":"'[1]■1 初婚-再婚別，年次別婚姻件数・再婚の割合・婚姻率'!$D$6","v":2313},{"$f":"'[1]■1 初婚-再婚別，年次別婚姻件数・再婚の割合・婚姻率'!$E$6","v":8012},{"$f":"'[1]■1 初婚-再婚別，年次別婚姻件数・再婚の割合・婚姻率'!$F$6","v":1866},{"$f":"D57/B57*100","v":23.415671188499694},{"$f":"F57/B57*100","v":18.890463656610653},{"$f":"B57/K57*1000","v":5.0245683998494357},null,{"$f":"[2]人口!$B$42","v":1965940}]
["1)　本市の集計による。"]
["2)　率算出に用いた人口は「平成27年国勢調査　年齢・国籍不詳をあん分した人口（参考表」（総務省統計局）における"]
["　日本人人口による。"]

{"sheet":"2　初婚再婚の組合せ別，年次別婚姻件数・再婚割合","index":1,"n_rows":38,"n_cols":11,"rows_kept":38,"cut":false,"hidden":false,"merged":[[2,1,2,5],[2,6,2,10],[2,0,3,0]]}
["2　夫妻の初婚・再婚の組合せ別にみた年次別婚姻件数及び百分率"]
[]
["年　　次","婚姻件数",null,null,null,null,"百分率"]
[null,"総数","夫妻とも\n初　   婚","夫初婚\n妻再婚","夫再婚\n妻初婚","夫妻とも\n再　   婚","総数","夫妻とも\n初　   婚","夫初婚\n妻再婚","夫再婚\n妻初婚","夫妻とも\n再　   婚"]
["  85      60",{"$f":"SUM(C5,F5,D5,E5)","v":11994},9124,695,1047,1128,{"$f":"SUM(H5:K5)","v":99.999999999999986},{"$f":"C5/$B5*100","v":76.071369017842244},5.7945639486409872,8.7293646823411706,9.4047023511755885]
["1986  昭和61年",{"$f":"SUM(C6,F6,D6,E6)","v":11788},8839,673,1063,1213,{"$f":"SUM(H6:K6)","v":100},74.983033593484905,5.709195792331184,9.0176450627757045,10.290125551408211]
["1987  昭和62年",{"$f":"SUM(C7,F7,D7,E7)","v":11423},8448,685,1042,1248,{"$f":"SUM(H7:K7)","v":100},73.95605357611835,5.9966733782719075,9.1219469491377048,10.925326096472029]
["1988  昭和63年",11982,8754,758,1140,1330,100,73.059589384076119,6.3261559005174428,9.514271407110666,11.099983308295776]
["  89  平成元年　",11975,8880,729,1112,1254,100,74.154488517745293,6.0876826722338206,9.2860125260960338,10.471816283924843]
["  90       2",12329,9193,737,1115,1284,100,74.564036012653091,5.9777759753426887,9.0437180631032525,10.414469948900965]
["  91       3",12687,9528,758,1165,1236,100,75.100496571293448,5.9746196894458894,9.1826278868132736,9.7422558524473875]
["  92       4",12777,9649,711,1151,1266,100,75.518509822337009,5.5646865461375903,9.0083744227909524,9.9084292087344448]
["1993   平成5年",13263,10053,802,1165,1243,100,75.7973309206062,6.0468973836990125,8.7838347281912093,9.3719369675035811]
["  94       6",12975,9813,766,1255,1141,100,75.630057803468205,5.9036608863198463,9.672447013487476,8.7938342967244711]
["  95       7",13026,9916,775,1205,1130,100,76.124673729464149,5.9496391831721169,9.2507293106095503,8.6749577767541837]
["  96       8",13111,9927,780,1215,1189,100,75.715048432613841,5.9492029593471125,9.267027686675311,9.0687209213637399]
["  97       9",12417,9293,798,1179,1147,100,74.840943867278725,6.4266731094467264,9.4950471128291856,9.2373359104453581]
["1998  平成10年",12500,9360,799,1170,1171,100,74.88,6.3920000000000003,9.36,9.3680000000000003]
["  99      11",12032,9099,699,1149,1085,100,75.623337765957444,5.8095079787234045,9.5495345744680851,9.0176196808510625]
["2000      12",12642,9399,782,1288,1173,100,74.347413383958241,6.1857301059958871,10.188261351052049,9.2785951589938307]
["  01      13",12430,9104,824,1317,1185,100,73.242156074014488,6.6291230893000801,10.595333869670153,9.5333869670152858]
["  02      14",12118,8728,855,1309,1226,100,72.025086647961714,7.0556197392308961,10.802112559828354,10.117181052979038]
["  03      15",12158,8723,816,1313,1306,100,71.746997861490385,6.7116302023359111,10.799473597631188,10.741898338542523]
["  04      16",11554,8228,798,1326,1202,100,71.213432577462356,6.9066989787086728,11.476544919508395,10.403323524320582]
["  05      17",11191,7944,812,1271,1164,100,70.985613439370923,7.2558305781431507,11.357340720221606,10.401215262264319]
["  06      18",11644,8166,873,1369,1236,100,70.130539333562353,7.4974235657849535,11.757128134661627,10.614908965991068]
["  07      19",11357,8063,754,1332,1208,100,70.995861583164569,6.6390772210971214,11.728449414458044,10.636611781280267]
["  08      20",11625,8251,856,1234,1284,99.999999999999986,70.976344086021498,7.3634408602150536,10.61505376344086,11.04516129032258]
["  09      21",11225,7970,821,1255,1179,100,71.002227171492208,7.3140311804008915,11.180400890868597,10.503340757238307]
["  10      22",11522,8138,820,1317,1247,100,70.630098941156049,7.1168199965283803,11.43030723832668,10.822773823988891]
["  11      23",10576,7448,776,1201,1151,100,70.423600605143719,7.3373676248108923,11.35590015128593,10.883131618759455]
["  12      24",10859,7610,753,1314,1182,100,70.080117874574086,6.9343401786536516,12.100561746017128,10.884980200755134]
["  13      25",10914,7516,848,1319,1231,100,68.865677111966278,7.769836906725307,12.085394905625801,11.27909107568261]
["  14      26",10752,7396,806,1319,1231,100,68.78720238095238,7.4962797619047619,12.267485119047619,11.449032738095239]
["  15      27",10800,7401,759,1344,1296,99.999999999999986,68.527777777777771,7.0277777777777768,12.444444444444445,12]
["  16      26",10495,7180,786,1325,1204,99.999999999999986,68.400000000000006,7.5,12.6,11.5]
["  17      29",10134,6993,771,1250,1120,100.00000000000001,69.00532859680284,7.6080521018354048,12.334714821393328,11.051904479968423]
["  18      30",{"$f":"SUM(C38,F38,D38,E38)","v":9878},{"$f":"'[1]■2　初婚再婚の組合せ別，年次別婚姻件数・再婚割合'!$C$5","v":6825},{"$f":"'[1]■2　初婚再婚の組合せ別，年次別婚姻件数・再婚割合'!$D$5","v":740},{"$f":"'[1]■2　初婚再婚の組合せ別，年次別婚姻件数・再婚割合'!$E$5","v":1187},{"$f":"'[1]■2　初婚再婚の組合せ別，年次別婚姻件数・再婚割合'!$F$5","v":1126},{"$f":"SUM(H38:K38)","v":100},{"$f":"C38/$B38*100","v":69.09293379226564},{"$f":"D38/$B38*100","v":7.4913950192346634},{"$f":"E38/$B38*100","v":12.016602551123709},{"$f":"F38/$B38*100","v":11.399068637375986}]

{"sheet":"3　初婚再婚の組合せ別，区別婚姻件数・再婚割合 ","index":2,"n_rows":15,"n_cols":11,"rows_kept":15,"cut":false,"hidden":false,"merged":[[2,1,2,5],[2,6,2,10],[2,0,3,0]]}
["3　夫妻の初婚・再婚の組合せ別にみた区別婚姻件数及び百分率"]
[null,null,null,null,null,null,null,null,null,null,"平成30年"]
["区","婚姻件数",null,null,null,null,"百分率"]
[null,"総数","夫妻とも\n初　   婚","夫初婚\n妻再婚","夫再婚\n妻初婚","夫妻とも\n再　   婚","総数","夫妻とも\n初　   婚","夫初婚\n妻再婚","夫再婚\n妻初婚","夫妻とも\n再　   婚"]
["総数",{"$f":"SUM(C5,F5,D5,E5)","v":9878},{"$f":"SUM(C6:C15)","v":6825},{"$f":"SUM(D6:D15)","v":740},{"$f":"SUM(E6:E15)","v":1187},{"$f":"SUM(F6:F15)","v":1126},{"$f":"SUM(H5:K5)","v":100},{"$f":"C5/$B5*100","v":69.09293379226564},{"$f":"D5/$B5*100","v":7.4913950192346634},12.016602551123709,11.399068637375986]
["中央",{"$f":"SUM(C6,F6,D6,E6)","v":1556},1117,91,220,128,{"$f":"SUM(H6:K6)","v":99.999999999999986},{"$f":"C6/$B6*100","v":71.786632390745496},5.8483290488431878,14.138817480719796,8.2262210796915163]
["北",1213,803,110,133,167,100.00000000000001,66.199505358615014,9.0684253915910968,10.964550700741963,13.767518549051939]
["東",1408,943,115,168,182,100.00000000000001,66.974431818181827,8.1676136363636367,11.931818181818182,12.926136363636365]
["白石",1455,1048,95,158,154,100.00000000000001,72.027491408934708,6.5292096219931279,10.859106529209622,10.584192439862543]
["厚別",440,298,42,55,45,100,67.72727272727272,9.5454545454545467,12.5,10.227272727272728]
["豊平",1458,1082,89,156,131,100.00000000000001,74.211248285322355,6.1042524005486962,10.699588477366255,8.9849108367626886]
["清田",312,161,33,47,71,100,51.602564102564109,10.576923076923077,15.064102564102564,22.756410256410255]
["南",445,263,43,60,79,100,59.101123595505619,9.6629213483146064,13.48314606741573,17.752808988764045]
["西",1132,824,77,130,101,99.999999999999986,72.791519434628967,6.8021201413427557,11.484098939929329,8.9222614840989394]
["手稲",459,286,45,60,68,{"$f":"SUM(H15:K15)","v":99.999999999999986},{"$f":"C15/$B15*100","v":62.309368191721134},{"$f":"D15/$B15*100","v":9.8039215686274517},{"$f":"E15/$B15*100","v":13.071895424836603},{"$f":"F15/$B15*100","v":14.814814814814813}]

{"sheet":"4　届出月別，区別婚姻件数・百分率","index":3,"n_rows":27,"n_cols":14,"rows_kept":27,"cut":false,"hidden":false,"merged":[[15,1,15,13],[3,1,3,13]]}
["4　届出月別にみた区別婚姻件数及び百分率"]
[null,null,null,null,null,null,null,null,null,null,null,null,null,{"$f":"'3　初婚再婚の組合せ別，区別婚姻件数・再婚割合 '!$K$2","v":"平成30年"}]
["区","総　数","1 月","2 月","3 月","4 月","5 月","6 月","7 月","8 月","9 月","10月","11月","12月"]
[null,"婚姻件数"]
["総数",{"$f":"SUM(C5:N5)","v":9878},{"$f":"SUM(C6:C15)","v":668},{"$f":"SUM(D6:D15)","v":882},{"$f":"SUM(E6:E15)","v":933},829,747,713,845,770,927,703,994,{"$f":"SUM(N6:N15)","v":867}]
["中央",{"$f":"SUM(C6:N6)","v":1556},91,169,135,116,121,110,126,123,175,95,150,145]
["北",{"$f":"SUM(C7:N7)","v":1213},87,100,132,114,89,108,91,82,103,75,132,100]
["東",1408,96,125,135,124,103,91,120,114,136,110,137,117]
["白石",1455,91,126,118,116,115,114,114,123,143,100,161,134]
["厚別",440,26,40,46,39,37,27,43,35,40,38,41,28]
["豊平",1458,99,132,146,113,111,107,129,115,127,109,142,128]
["清田",312,24,26,34,26,23,16,30,29,24,21,28,31]
["南",445,31,45,42,45,38,25,37,29,34,32,47,40]
["西",1132,83,87,101,101,82,79,125,80,100,85,111,98]
["手稲",459,40,32,44,35,28,36,30,40,45,38,45,46]
[null,"百分率"]
["総数",{"$f":"SUM(C17:N17)","v":100},{"$f":"C5/$B5*100","v":6.7625025308766959},{"$f":"D5/$B5*100","v":8.9289329823850991},9.4452318283053263,8.3923871228993718,7.5622595667139096,7.2180603361004252,8.5543632314233644,7.7951002227171493,9.3844907876088275,7.1168252682729287,10.062765742053047,8.7770803806438558]
["中央",{"$f":"SUM(C18:N18)","v":100.00000000000001},{"$f":"C6/$B6*100","v":5.8483290488431878},{"$f":"D6/$B6*100","v":10.861182519280206},8.6760925449871458,7.4550128534704374,7.7763496143958877,7.069408740359898,8.0976863753213362,7.9048843187660669,11.246786632390746,6.1053984575835472,9.6401028277634957,9.3187660668380463]
["北",100,7.1723000824402305,{"$f":"D7/$B7*100","v":8.2440230832646328},10.882110469909316,9.3981863149216824,7.3371805441055233,8.903544929925804,7.5020610057708161,6.7600989282769985,8.4913437757625729,6.1830173124484755,10.882110469909316,8.2440230832646328]
["東",100,6.8181818181818175,{"$f":"D8/$B8*100","v":8.8778409090909083},9.5880681818181817,8.8068181818181817,7.3153409090909092,6.4630681818181825,8.5227272727272716,8.0965909090909083,9.6590909090909083,7.8125,9.7301136363636367,8.3096590909090917]
["白石",100,6.2542955326460481,{"$f":"D9/$B9*100","v":8.6597938144329891},8.1099656357388312,7.9725085910652913,7.9037800687285218,7.8350515463917523,7.8350515463917523,8.4536082474226806,9.8281786941580762,6.8728522336769764,11.065292096219931,9.2096219931271488]
["厚別",100,5.9090909090909092,{"$f":"D10/$B10*100","v":9.0909090909090917},10.454545454545453,8.8636363636363633,8.4090909090909083,6.1363636363636367,9.7727272727272734,7.9545454545454541,9.0909090909090917,8.6363636363636367,9.3181818181818183,6.3636363636363633]
["豊平",99.999999999999986,6.7901234567901234,{"$f":"D11/$B11*100","v":9.0534979423868318},10.013717421124829,7.7503429355281206,7.6131687242798352,7.3388203017832652,8.8477366255144041,7.887517146776406,8.7105624142661178,7.4759945130315506,9.7393689986282581,8.7791495198902592]
["清田",99.999999999999986,7.6923076923076925,{"$f":"D12/$B12*100","v":8.3333333333333321},10.897435897435898,8.3333333333333321,7.3717948717948723,5.1282051282051277,9.6153846153846168,9.2948717948717956,7.6923076923076925,6.7307692307692308,8.9743589743589745,9.9358974358974361]
["南",100,6.9662921348314599,{"$f":"D13/$B13*100","v":10.112359550561797},9.4382022471910112,10.112359550561797,8.5393258426966288,5.6179775280898872,8.3146067415730336,6.5168539325842696,7.6404494382022472,7.1910112359550569,10.561797752808989,8.9887640449438209]
["西",100.00000000000001,{"$f":"C14/$B14*100","v":7.3321554770318018},7.6855123674911665,8.9222614840989394,8.9222614840989394,7.2438162544169611,6.978798586572438,11.042402826855122,7.0671378091872796,8.8339222614840995,7.508833922261485,9.8056537102473502,8.6572438162544181]
["手稲",100,{"$f":"C15/$B15*100","v":8.7145969498910674},6.9716775599128544,9.5860566448801734,7.6252723311546839,6.1002178649237475,7.8431372549019605,6.5359477124183014,8.7145969498910674,9.8039215686274517,8.2788671023965144,9.8039215686274517,10.021786492374728]

{"sheet":"5 夫妻の年齢別（5歳階級），婚姻件数・百分率","index":4,"n_rows":34,"n_cols":15,"rows_kept":34,"cut":false,"hidden":false,"merged":[[4,1,4,14],[19,1,19,14],[2,0,3,0],[2,1,2,14]]}
["5　夫妻の年齢（5歳階級）別にみた婚姻件数及び百分率"]
[null,null,null,null,null,null,null,null,null,null,null,null,null,null,{"$f":"'3　初婚再婚の組合せ別，区別婚姻件数・再婚割合 '!$K$2","v":"平成30年"}]
["妻の年齢","夫　　　　　の　　　　　年　　　　　齢"]
[null,"総　数","19歳以下","20～24","25～29","30～34","35～39","40～44","45～49","50～54","55～59","60～64","65～69","70歳～","不　詳"]
[null,"婚姻件数"]
["総　数",{"$f":"SUM(C6:O6)","v":9878},{"$f":"SUM(C7:C19)","v":49},{"$f":"SUM(D7:D19)","v":945},2992,2351,1366,849,577,284,167,106,75,117,0]
["19歳以下",{"$f":"SUM(C7:O7)","v":86},31,42,5,6,1,0,1,0,0,0,0,0,0]
["20～24",{"$f":"SUM(C8:O8)","v":1464},15,647,498,190,72,26,13,2,0,1,0,0,0]
["25～29",3407,2,200,1975,836,254,90,44,3,2,1,0,0,0]
["30～34",2230,1,47,422,1020,460,182,71,22,3,2,0,0,0]
["35～39",1197,0,5,75,234,446,271,112,35,13,4,1,1,0]
["40～44",592,0,3,13,47,107,197,146,50,18,6,3,2,0]
["45～49",375,0,1,4,15,25,58,137,75,33,17,4,6,0]
["50～54",213,0,0,0,3,0,22,38,76,45,14,8,7,0]
["55～59",113,0,0,0,0,1,3,10,13,34,25,11,16,0]
["60～64",81,0,0,0,0,0,0,3,7,11,22,22,16,0]
["65～69",56,0,0,0,0,0,0,2,0,7,11,19,17,0]
["70歳～",64,0,0,0,0,0,0,0,1,1,3,7,52,0]
["不　詳",0,0,0,0,0,0,0,0,0,0,0,0,0,0]
[null,"百分率"]
["総　数",{"$f":"SUM(C21:O21)","v":99.999999999999986},{"$f":"C6/$B$6*100","v":0.49605183235472772},9.5667139096983203,30.289532293986639,23.800364446244178,13.828710265235877,8.594857258554363,5.8412634136464874,2.8750759263008705,1.690625632719174,1.0730917189714517,0.75926300870621577,1.1844502935816967,0]
["19歳以下",{"$f":"B7/$B$6*100","v":0.87062158331646078},{"$f":"C7/$B$6*100","v":0.3138287102652359},{"$f":"D7/$B$6*100","v":0.42518728487548091},5.0617533913747723E-2,6.0741040696497266E-2,1.0123506782749543E-2,0,1.0123506782749543E-2,0,0,0,0,0,0]
["20～24",14.820813929945334,{"$f":"C8/$B$6*100","v":0.15185260174124315},6.5499088884389556,5.0415063778092728,1.9234662887224134,0.72889248835796716,0.26321117635148816,0.13160558817574408,2.0247013565499086E-2,0,1.0123506782749543E-2,0,0,0]
["25～29",34.490787608827702,{"$f":"C9/$B$6*100","v":2.0247013565499086E-2},2.024701356549909,19.993925895930349,8.463251670378618,2.5713707228183842,0.91111561044745892,0.44543429844097993,3.0370520348248633E-2,2.0247013565499086E-2,1.0123506782749543E-2,0,0,0]
["30～34",22.575420125531483,{"$f":"C10/$B$6*100","v":1.0123506782749543E-2},0.47580481878922859,4.2721198623203076,10.325976918404535,4.6568131200647906,1.8424782344604171,0.71876898157521762,0.22271714922048996,3.0370520348248633E-2,2.0247013565499086E-2,0,0,0]
["35～39",12.117837618951205,{"$f":"C11/$B$6*100","v":0},5.0617533913747723E-2,0.75926300870621577,2.3689005871633935,4.5150840251062965,2.7434703381251264,1.1338327596679489,0.35432273739623404,0.13160558817574408,4.0494027130998173E-2,1.0123506782749543E-2,1.0123506782749543E-2,0]
["40～44",5.9931160153877308,{"$f":"C12/$B$6*100","v":0},3.0370520348248633E-2,0.13160558817574408,0.47580481878922859,1.0832152257542014,1.9943308362016605,1.4780319902814336,0.50617533913747725,0.18222312208949179,6.0741040696497266E-2,3.0370520348248633E-2,2.0247013565499086E-2,0]
["45～49",3.7963150435310791,{"$f":"C13/$B$6*100","v":0},1.0123506782749543E-2,4.0494027130998173E-2,0.15185260174124315,0.25308766956873863,0.58716339339947354,1.3869204292366875,0.75926300870621577,0.33407572383073497,0.17209961530674225,4.0494027130998173E-2,6.0741040696497266E-2,0]
["50～54",2.1563069447256531,{"$f":"C14/$B$6*100","v":0},0,0,3.0370520348248633E-2,0,0.22271714922048996,0.38469325774448265,0.76938651548896531,0.45555780522372946,0.14172909495849362,8.0988054261996345E-2,7.0864547479246809E-2,0]
["55～59",1.1439562664506984,{"$f":"C15/$B$6*100","v":0},0,0,0,1.0123506782749543E-2,3.0370520348248633E-2,0.10123506782749545,0.13160558817574408,0.34419923061348451,0.25308766956873863,0.11135857461024498,0.16197610852399269,0]
["60～64",0.82000404940271299,{"$f":"C16/$B$6*100","v":0},0,0,0,0,0,3.0370520348248633E-2,7.0864547479246809E-2,0.11135857461024498,0.22271714922048996,0.22271714922048996,0.16197610852399269,0]
["65～69",0.56691637983397447,{"$f":"C17/$B$6*100","v":0},0,0,0,0,0,2.0247013565499086E-2,0,7.0864547479246809E-2,0.11135857461024498,0.19234662887224133,0.17209961530674225,0]
["70歳～",0.64790443409597076,{"$f":"C18/$B$6*100","v":0},0,0,0,0,0,0,1.0123506782749543E-2,1.0123506782749543E-2,3.0370520348248633E-2,7.0864547479246809E-2,0.52642235270297633,0]
["不　詳",0,{"$f":"C19/$B$6*100","v":0},0,0,0,0,0,0,0,0,0,0,0,0]

{"sheet":"6 夫妻の年齢別（5歳階級），初婚夫妻の婚姻件数・百分率","index":5,"n_rows":34,"n_cols":15,"rows_kept":34,"cut":false,"hidden":false,"merged":[[4,1,4,14],[19,1,19,14],[2,0,3,0],[2,1,2,14]]}
["6　夫妻の年齢（5歳階級）別にみた初婚夫妻の婚姻件数及び百分率"]
[null,null,null,null,null,null,null,null,null,null,null,null,null,null,{"$f":"'3　初婚再婚の組合せ別，区別婚姻件数・再婚割合 '!$K$2","v":"平成30年"}]
["妻の年齢","夫　　　　　の　　　　　年　　　　　齢"]
[null,"総　数","19歳以下","20～24","25～29","30～34","35～39","40～44","45～49","50～54","55～59","60～64","65～69","70歳～","不　詳"]
[null,"婚姻件数"]
["総　数",{"$f":"SUM(C6:O6)","v":6825},{"$f":"SUM(C7:C19)","v":48},{"$f":"SUM(D7:D19)","v":882},2712,1807,804,364,159,35,9,4,1,0,0]
["19歳以下",{"$f":"SUM(C7:O7)","v":82},31,41,4,5,1,0,0,0,0,0,0,0,0]
["20～24",{"$f":"SUM(C8:O8)","v":1294},15,620,457,141,46,11,4,0,0,0,0,0,0]
["25～29",2950,2,182,1853,687,162,47,15,1,0,1,0,0,0]
["30～34",1587,0,34,343,786,300,97,25,2,0,0,0,0,0]
["35～39",645,0,4,48,166,250,127,43,7,0,0,0,0,0]
["40～44",189,0,1,5,17,40,67,45,11,3,0,0,0,0]
["45～49",56,0,0,2,4,5,11,23,10,1,0,0,0,0]
["50～54",13,0,0,0,1,0,4,2,4,2,0,0,0,0]
["55～59",4,0,0,0,0,0,0,2,0,1,1,0,0,0]
["60～64",3,0,0,0,0,0,0,0,0,1,1,1,0,0]
["65～69",2,0,0,0,0,0,0,0,0,1,1,0,0,0]
["70歳～",0,0,0,0,0,0,0,0,0,0,0,0,0,0]
["不　詳",0,0,0,0,0,0,0,0,0,0,0,0,0,0]
[null,"百分率"]
["総　数",{"$f":"SUM(C21:O21)","v":100},{"$f":"C6/$B$6*100","v":0.70329670329670324},12.923076923076923,39.736263736263737,26.476190476190474,11.780219780219781,5.3333333333333339,2.3296703296703294,0.51282051282051277,0.13186813186813187,5.8608058608058608E-2,1.4652014652014652E-2,0,0]
["19歳以下",{"$f":"B7/$B$6*100","v":1.2014652014652014},{"$f":"C7/$B$6*100","v":0.45421245421245421},0.60073260073260071,5.8608058608058608E-2,7.3260073260073263E-2,1.4652014652014652E-2,0,0,0,0,0,0,0,0]
["20～24",18.95970695970696,0.21978021978021978,9.0842490842490839,6.6959706959706962,2.0659340659340661,0.67399267399267404,0.16117216117216118,5.8608058608058608E-2,0,0,0,0,0,0]
["25～29",43.223443223443226,2.9304029304029304E-2,2.666666666666667,27.15018315018315,10.065934065934066,2.3736263736263736,0.68864468864468864,0.21978021978021978,1.4652014652014652E-2,0,1.4652014652014652E-2,0,0,0]
["30～34",23.252747252747252,0,0.49816849816849818,5.0256410256410255,11.516483516483516,4.395604395604396,1.4212454212454213,0.36630036630036628,2.9304029304029304E-2,0,0,0,0,0]
["35～39",9.4505494505494507,0,5.8608058608058608E-2,0.70329670329670324,2.4322344322344325,3.6630036630036633,1.8608058608058606,0.63003663003663002,0.10256410256410256,0,0,0,0,0]
["40～44",2.7692307692307692,0,1.4652014652014652E-2,7.3260073260073263E-2,0.24908424908424909,0.58608058608058611,0.98168498168498175,0.65934065934065933,0.16117216117216118,4.3956043956043953E-2,0,0,0,0]
["45～49",0.82051282051282048,0,0,2.9304029304029304E-2,5.8608058608058608E-2,7.3260073260073263E-2,0.16117216117216118,0.33699633699633702,0.14652014652014653,1.4652014652014652E-2,0,0,0,0]
["50～54",0.19047619047619047,0,0,0,1.4652014652014652E-2,0,5.8608058608058608E-2,2.9304029304029304E-2,5.8608058608058608E-2,2.9304029304029304E-2,0,0,0,0]
["55～59",5.8608058608058608E-2,0,0,0,0,0,0,2.9304029304029304E-2,0,1.4652014652014652E-2,1.4652014652014652E-2,0,0,0]
["60～64",4.3956043956043953E-2,0,0,0,0,0,0,0,0,1.4652014652014652E-2,1.4652014652014652E-2,1.4652014652014652E-2,0,0]
["65～69",2.9304029304029304E-2,0,0,0,0,0,0,0,0,1.4652014652014652E-2,1.4652014652014652E-2,0,0,0]
["70歳～",0,0,0,0,0,0,0,0,0,0,0,0,0,0]
["不　詳",0,0,0,0,0,0,0,0,0,0,0,0,0,0]

{"sheet":"7 年次別平均婚姻年齢・年齢差","index":6,"n_rows":40,"n_cols":10,"rows_kept":40,"cut":false,"hidden":false,"merged":[[2,0,3,0],[2,3,2,4],[2,1,2,2],[2,7,2,9],[2,5,2,6]]}
["7　初婚―再婚別にみた年次別平均婚姻年齢及び夫妻の年齢差　　　"]
[]
["年　　次","全婚姻 1)",null,"初婚",null,"　　　 再　　　婚 　　2)",null,"年齢差"]
[null,"夫","妻","夫","妻","夫","妻","全婚姻","初　　婚","再　　婚"]
["  85      60",29.7,27.2,28,25.9,39,36,{"$f":"B5-C5","v":2.5},{"$f":"D5-E5","v":2.1000000000000014},{"$f":"F5-G5","v":3}]
["1986  昭和61年",30,27.4,28.2,26.1,39.4,36.4,{"$f":"B6-C6","v":2.6000000000000014},{"$f":"D6-E6","v":2.0999999999999979},{"$f":"F6-G6","v":3}]
["1987  昭和62年",30.1,27.5,28.2,26.1,39.6,36.299999999999997,{"$f":"B7-C7","v":2.6000000000000014},{"$f":"D7-E7","v":2.0999999999999979},{"$f":"F7-G7","v":3.3000000000000043}]
["1988  昭和63年",30.4,27.8,28.3,26.2,39.6,36.5,2.6,2,3.1]
["  89  平成元年　",30.3,27.8,28.3,26.1,39.6,37,2.5,2.1,2.6]
["  90       2",30.5,27.8,28.3,26.2,40.5,37.4,2.7,2,3.1]
["  91       3",30.3,27.7,28.3,26.1,40,37.299999999999997,2.6,2.1,2.7]
["  92       4",30.4,27.9,28.4,26.4,40.700000000000003,37.9,2.5,1.9,2.8]
["1993   平成5年",30.4,28,28.4,26.5,40.6,37.5,2.4,1.9,3.1]
["  94       6",30.4,28,28.4,26.5,40.6,37.9,2.4,1.9,2.7]
["  95       7",30.3,28,28.4,26.6,40.1,37.4,2.2999999999999998,1.8,2.7]
["  96       8",30.4,28.2,28.5,26.8,40.4,37.700000000000003,2.2000000000000002,1.6,2.7]
["  97       9",30.5,28.3,28.5,26.9,40.5,37.4,2.2000000000000002,1.6,3.1]
["1998  平成10年",30.5,28.4,28.6,27,40.200000000000003,37.1,2.1,1.6,3.1]
["  99      11",30.5,28.5,28.5,27.1,40.6,37.799999999999997,2,1.4,2.8]
["2000      12",31.255181142224316,29.153377630121774,28.7,27.3,41.373425436814365,39.070076726342741,2.101803512102542,1.5,2.3033487104716244]
["  01      13",31.380490748189811,29.361953606865022,28.919545729250633,27.5,41.1455835331735,38.435581549693083,2.0185371413247886,1.3068406145783378,2.7100019834804172]
["  02      14",31.668110799362001,29.69386449909209,29,27.7,41.454076265614852,38.879705269902324,1.9742463002699111,1.2900823702103708,2.5743709957125276]
["  03      15",32.130497066403322,30.112189504852775,29.466968934549445,28.1,41.831678757795629,39.381479736098051,2.0183075615505466,1.3146672207191514,2.4501990216975784]
["  04      16",32.25984507529872,30.093106283538109,29.517541915946428,28.2045129439676,42.050995516877585,39.114916666666666,2.1667387917606113,1.3130289719788273,2.9360788502109187]
["  05      17",32.492560986507101,30.445611056503637,29.761487361047589,28.521803219388673,42.313210130047906,39.417214912280649,2.0469499300034641,1.2396841416589162,2.8959952177672577]
["  06      18",32.582703538302958,30.488663689453738,29.897260021388796,28.5,41.900831733845159,39.172830725462305,2.0940398488492207,1.3294047513310296,2.7280010083828543]
["  07      19",32.763831410877252,30.644917965425119,30.017863218782018,28.715699840340594,42.29580052493445,39.882942575603103,2.118913445452133,1.3021633784414242,2.4128579493313467]
["  08      20",32.961333333333336,30.895620071684625,30.28349072142306,28.780205587770237,42.646445591739386,40.271651090342694,2.0657132616487104,1.5032851336528239,2.3747945013966927]
["  09      21",33.098047512991762,31.044721603563499,30.319038410495612,28.986540198735369,43.135134209805514,40.538083333333311,2.0533259094282634,1.3324982117602424,2.5970508764722027]
["  10      22",33.333940866747703,31.282416247179206,30.638293517898305,29.259377754274606,42.751885075403045,40.536324786324769,2.0515246195684966,1.3789157636236986,2.215560289078276]
["  11      23",33.411253466969377,31.358090645486623,30.669402561608234,29.36166030754994,42.998405612244866,40.318716485037143,2.0531628214827542,1.3077422540582937,2.6796891272077232]
["  12      24",33.861850385241283,31.721552015225516,30.890031487903062,29.674548035260766,43.819110576923109,41.162101636520227,2.1402983700157669,1.215483452642296,2.657008940402882]
["  13      25",33.865463319284075,31.764996029564507,31.024579547266118,29.660535747971952,43.183562091503212,40.708193041526386,2.1004672897195675,1.3640437992941656,2.4753690499768268]
["  14      26",34.235692584325349,32.019934275793631,31.245590506380513,29.836842608529405,43.853267973856227,41.35996563573886,2.2157583085317185,1.4087478978511072,2.4933023381173669]
["  15      27",34.2863348765433,32.119405864197518,31.195200163398624,29.848780255384025,43.840751262626263,41.781995133819919,2.1669290123457827,1.3464199080145995,2.0587561288063441]
["  16      28",34.2863348765433,32.119405864197518,31.3,29.9,43.6,41.5,2.1,1.4,2.1]
["  17      29",34.309552003157798,32.098151437405576,31.321193972179238,29.85714141291594,44.099261603375595,41.866869381279741,2.2114005657522213,1.4640525592632976,2.2323922220958536]
["  18      30",{"$f":"'[1]■7 年次別平均婚姻年齢・年齢差'!$B$5","v":34.421407842343228},{"$f":"'[1]■7 年次別平均婚姻年齢・年齢差'!$C$5","v":32.315102584868761},{"$f":"'[1]■7 年次別平均婚姻年齢・年齢差'!$D$5","v":31.232143643974471},{"$f":"'[1]■7 年次別平均婚姻年齢・年齢差'!$E$5","v":30.002974704609802},{"$f":"'[1]■7 年次別平均婚姻年齢・年齢差'!$F$5","v":44.852356247297891},{"$f":"'[1]■7 年次別平均婚姻年齢・年齢差'!$G$5","v":42.242631296891808},{"$f":"B38-C38","v":2.1063052574744674},{"$f":"D38-E38","v":1.2291689393646692},{"$f":"F38-G38","v":2.6097249504060827}]
["1)　平成11年までの全婚姻の平均婚姻年齢は本市の集計による。"]
["2)　平成11年までの再婚の平均婚姻年齢は「同居を開始した年齢」である。"]

{"sheet":"8 婚姻件数，夫妻の年齢差別","index":7,"n_rows":30,"n_cols":7,"rows_kept":30,"cut":false,"hidden":false,"merged":[[0,0,0,2],[2,1,2,3],[2,0,3,0],[2,4,2,6]]}
["8　夫妻の年齢差別にみた婚姻件数"]
[null,null,null,null,null,null,{"$f":"'3　初婚再婚の組合せ別，区別婚姻件数・再婚割合 '!$K$2","v":"平成30年"}]
["年　　齢　　差","全婚姻",null,null,"初婚夫妻"]
[null,"総      数","夫 年 上","妻 年 上","総      数","夫 年 上","妻 年 上"]
["総　　　数",{"$f":"SUM(B6:B27)","v":9878},{"$f":"SUM(C7:C27)","v":4971},{"$f":"SUM(D7:D27)","v":2022},{"$f":"SUM(E6:E27)","v":6825},{"$f":"SUM(F7:F27)","v":3145},{"$f":"SUM(G7:G27)","v":1336}]
["夫妻同年",2885,"・","・",2344,"・","・"]
["　 1歳",{"$f":"C7+D7","v":1481},933,548,{"$f":"SUM(F7:G7)","v":1118},712,406]
["2",1081,694,387,{"$f":"SUM(F8:G8)","v":787},505,282]
["3",866,587,279,630,421,209]
["4",740,509,231,490,335,155]
["5",{"$f":"C11+D11","v":546},407,139,357,278,79]
["6",467,352,115,276,217,59]
["7",357,280,77,190,156,34]
["8",317,246,71,173,133,40]
["9",176,139,37,97,78,19]
["10",195,151,44,94,73,21]
["11",177,149,28,75,61,14]
["12",124,106,18,52,45,7]
["13",73,66,7,30,29,1]
["14",67,57,10,26,23,3]
["15",61,54,7,25,22,3]
["16～20",194,174,20,50,46,4]
["21～25",51,47,4,9,9,0]
["26～30",12,12,0,1,1,0]
["31～35",6,6,0,1,1,0]
["36～40",2,2,0,0,0,0]
["41歳～",0,0,0,0,0,0]
[]
[]
[null,0,null,null,0]