Workbook

Sheet 1 年次別，性・22週以後－早期新生児別周産期死亡数・率
A1: 第6章 周 産 期 死 亡
A2: 1 年次別にみた性・妊娠満22週以後の死産-早期新生児死亡別周産期死亡数・率及び周産期死 亡中妊娠満22週以後の死産の占める割合
A4: 年次 | B4: 周産期死亡数 | F4: 妊娠満22週以後の死産数 1) | J4: 早期新生児死亡数 | M4: 周 産 期 死 亡 率 (出産千対） 2) | P4: 妊娠満22週以後の死産率 1) (出産千対） 2) | S4: 早期新生児死亡率 (出生千対） | V4: 周産期死亡中 妊娠満22週以 後の死産の占 める割合 1) (％)
B5: 総数 | C5: 男 | D5: 女 | E5: 不詳 | F5: 総数 | G5: 男 | H5: 女 | I5: 不詳 | J5: 総数 | K5: 男 | L5: 女 | M5: 総数 | N5: 男 | O5: 女 | P5: 総数 | Q5: 男 | R5: 女 | S5: 総数 | T5: 男 | U5: 女
A6: 1950 昭和25年 | B6: … | C6: … | D6: … | E6: … | F6: … | G6: … | H6: … | I6: … | J6: … | K6: … | L6: … | M6: ・ | N6: ・ | O6: ・ | P6: ・ | Q6: ・ | R6: ・ | S6: ・ | T6: ・ | U6: ・ | V6: ・ | X6: 8178 | Y6: 4205 | Z6: 3973
A7: 55 30 | B7: … | C7: … | D7: … | E7: … | F7: … | G7: … | H7: … | I7: … | J7: … | K7: … | L7: … | M7: ・ | N7: ・ | O7: ・ | P7: ・ | Q7: ・ | R7: ・ | S7: ・ | T7: ・ | U7: ・ | V7: ・ | X7: 7551 | Y7: 3928 | Z7: 3623
A8: 60 35 | B8: … | C8: … | D8: … | E8: … | F8: … | G8: … | H8: … | I8: … | J8: … | K8: … | L8: … | M8: ・ | N8: ・ | O8: ・ | P8: ・ | Q8: ・ | R8: ・ | S8: ・ | T8: ・ | U8: ・ | V8: ・ | X8: 9392 | Y8: 4911 | Z8: 4481
A9: 65 40 | B9: … | C9: … | D9: … | E9: … | F9: … | G9: … | H9: … | I9: … | J9: 104 | K9: … | L9: … | M9: ・ | N9: ・ | O9: ・ | P9: ・ | Q9: ・ | R9: ・ | S9: 6.3530849 | T9: ・ | U9: ・ | V9: ・ | X9: 16370 | Y9: 8442 | Z9: 7928
A10: 70 45 | B10: … | C10: … | D10: … | E10: … | F10: … | G10: … | H10: … | I10: … | J10: 93 | K10: 58 | L10: 35 | M10: ・ | N10: ・ | O10: ・ | P10: ・ | Q10: ・ | R10: ・ | S10: 4.5563667 | T10: 5.5227576 | U10: 3.5321425 | V10: ・ | X10: 20411 | Y10: 10502 | Z10: 9909
A11: 72 47 | B11: 315 | C11: 206 | D11: 108 | E11: 1 | F11: 202 | G11: 138 | H11: 63 | I11: 1 | J11: 113 | K11: 68 | L11: 45 | M11: 14.307126 | N11: 18.14019 | O11: 10.130382 | P11: 9.1747286 | Q11: 12.152166 | R11: 5.9093894 | S11: 5.1323977 | T11: 5.988024 | U11: 4.2209924 | V11: 64.126984 | X11: 22017 | Y11: 11356 | Z11: 10661
A12: 73 48 | B12: 377 | C12: 217 | D12: 155 | E12: 5 | F12: 271 | G12: 155 | H12: 111 | I12: 5 | J12: 106 | K12: 62 | L12: 44 | M12: 15.867671 | N12: 17.788343 | O12: 13.408304 | P12: 11.406204 | Q12: 12.70596 | R12: 9.6020761 | S12: 4.4614672 | T12: 5.0823838 | U12: 3.8062284 | V12: 71.883289 | X12: 23759 | Y12: 12199 | Z12: 11560
A13: 74 49 | B13: 355 | C13: 201 | D13: 153 | E13: 1 | F13: 237 | G13: 132 | H13: 104 | I13: 1 | J13: 118 | K13: 69 | L13: 49 | M13: 14.475025 | N13: 15.940995 | O13: 12.839879 | P13: 9.6636086 | Q13: 10.468713 | R13: 8.727761 | S13: 4.8114169 | T13: 5.4722817 | U13: 4.1121182 | V13: 66.760563 | X13: 24525 | Y13: 12609 | Z13: 11916
A14: 75 50 | B14: 329 | C14: 172 | D14: 155 | E14: 2 | F14: 204 | G14: 97 | H14: 105 | I14: 2 | J14: 125 | K14: 75 | L14: 50 | M14: 14.057426 | N14: 14.213701 | O14: 13.713173 | P14: 8.7164587 | Q14: 8.0158665 | R14: 9.2895691 | S14: 5.3409674 | T14: 6.1978349 | U14: 4.4236044 | V14: 62.006079 | X14: 23404 | Y14: 12101 | Z14: 11303
A15: 76 51 | B15: 279 | C15: 143 | D15: 132 | E15: 4 | F15: 187 | G15: 87 | H15: 96 | I15: 4 | J15: 92 | K15: 56 | L15: 36 | M15: 12.178088 | N15: 12.025902 | O15: 11.979308 | P15: 8.1623745 | Q15: 7.3164578 | R15: 8.7122243 | S15: 4.0157137 | T15: 4.7094441 | U15: 3.2670841 | V15: 67.02509 | X15: 22910 | Y15: 11891 | Z15: 11019
A16: 77 52 | B16: 279 | C16: 143 | D16: 133 | E16: 3 | F16: 189 | G16: 93 | H16: 93 | I16: 3 | J16: 90 | K16: 50 | L16: 40 | M16: 12.51907 | N16: 12.574745 | O16: 12.186183 | P16: 8.4806605 | Q16: 8.177981 | R16: 8.5211655 | S16: 4.0384098 | T16: 4.396764 | U16: 3.6650174 | V16: 67.741935 | X16: 22286 | Y16: 11372 | Z16: 10914
A17: 78 53 | B17: 260 | C17: 137 | D17: 121 | E17: 2 | F17: 170 | G17: 89 | H17: 79 | I17: 2 | J17: 90 | K17: 48 | L17: 42 | M17: 11.684868 | N17: 11.993347 | O17: 11.174732 | P17: 7.6401061 | Q17: 7.7912983 | R17: 7.2958995 | S17: 4.044762 | T17: 4.2020485 | U17: 3.8788327 | V17: 65.384615 | X17: 22251 | Y17: 11423 | Z17: 10828
A18: 79 54 | B18: 211 | C18: 128 | D18: 83 | E18: 0 | F18: 147 | G18: 91 | H18: 56 | I18: 0 | J18: 64 | K18: 37 | L18: 27 | M18: 9.7789313 | N18: 11.58371 | O18: 7.8844875 | P18: 6.8128099 | Q18: 8.2352941 | R18: 5.3196542 | S18: 2.9661213 | T18: 3.3484163 | U18: 2.5648333 | V18: 69.668246 | X18: 21577 | Y18: 11050 | Z18: 10527
A19: 80 55 | B19: 207 | C19: 112 | D19: 94 | E19: 1 | F19: 132 | G19: 73 | H19: 58 | I19: 1 | J19: 75 | K19: 39 | L19: 36 | M19: 9.8896374 | N19: 10.303588 | O19: 9.3430077 | P19: 6.3064354 | Q19: 6.7157314 | R19: 5.7648345 | S19: 3.5832019 | T19: 3.5878565 | U19: 3.5781731 | V19: 63.768116 | X19: 20931 | Y19: 10870 | Z19: 10061
A20: 81 56 | B20: 198 | C20: 106 | D20: 91 | E20: 1 | F20: 133 | G20: 69 | H20: 63 | I20: 1 | J20: 65 | K20: 37 | L20: 28 | M20: 9.9277978 | N20: 10.411551 | O20: 9.3209055 | P20: 6.6686723 | Q20: 6.7773303 | R20: 6.4529345 | S20: 3.2591256 | T20: 3.6342206 | U20: 2.8679709 | V20: 67.171717 | X20: 19944 | Y20: 10181 | Z20: 9763
A21: 82 57 | B21: 176 | C21: 85 | D21: 90 | E21: 1 | F21: 118 | G21: 54 | H21: 63 | I21: 1 | J21: 58 | K21: 31 | L21: 27 | M21: 8.4913398 | N21: 8.0309902 | O21: 8.8731145 | P21: 5.6930574 | Q21: 5.1020408 | R21: 6.2111801 | S21: 2.7982824 | T21: 2.9289494 | U21: 2.6619343 | V21: 67.045455 | X21: 20727 | Y21: 10584 | Z21: 10143
A22: 83 58 | B22: 147 | C22: 76 | D22: 69 | E22: 2 | F22: 95 | G22: 42 | H22: 51 | I22: 2 | J22: 52 | K22: 34 | L22: 18 | M22: 7.1331522 | N22: 7.1928828 | O22: 6.8711412 | P22: 4.6098602 | Q22: 3.9750142 | R22: 5.0786696 | S22: 2.5232919 | T22: 3.2178686 | U22: 1.7924716 | V22: 64.62585 | X22: 20608 | Y22: 10566 | Z22: 10042
... A56: 17 29 | B56: 58 | C56: 35 | D56: 23 | E56: 0 | F56: 45 | G56: 28 | H56: 17 | I56: 0 | J56: 13 | K56: 7 | L56: 6 | M56: 4.1828934 | N56: 4.8396018 | O56: 3.4669882 | P56: 3.2453483 | Q56: 3.8716814 | R56: 2.5625565 | S56: 0.94059764 | T56: 0.9716824 | U56: 0.90675533 | V56: 77.586207 | X56: 13821 | Y56: 7204 | Z56: 6617
A57: 18 30 | B57: =SUM(F57,J57) -> 47 | C57: =SUM(G57,K57) -> 22 | D57: =SUM(H57,L57) -> 25 | E57: =I57 -> 0 | F57: =SUM(G57:I57) -> 32 | G57: ='2 区・性別，22週以後－早期新生児別周産期死亡数・率'!$G$5 -> 14 | H57: ='2 区・性別，22週以後－早期新生児別周産期死亡数・率'!$H$5 -> 18 | I57: ='2 区・性別，22週以後－早期新生児別周産期死亡数・率'!$I$5 -> 0 | J57: =SUM(K57:L57) -> 15 | K57: ='2 区・性別，22週以後－早期新生児別周産期死亡数・率'!$K$5 -> 8 | L57: ='2 区・性別，22週以後－早期新生児別周産期死亡数・率'!$L$5 -> 7 | M57: =B57/(F57+X57)*1000 -> 3.5391566 | N57: =C57/(G57+Y57)*1000 -> 3.255401 | O57: =D57/(H57+Z57)*1000 -> 3.83318 | P57: =F57/(F57+X57)*1000 -> 2.4096386 | Q57: =G57/(G57+Y57)*1000 -> 2.0716188 | R57: =H57/(H57+Z57)*1000 -> 2.7598896 | S57: =J57/X57*1000 -> 1.1322464 | T57: =K57/Y57*1000 -> 1.1862396 | U57: =L57/Z57*1000 -> 1.0762608 | V57: =F57/B57*100 -> 68.085106 | X57: =[1]出生数!B55 -> 13248 | Y57: =[1]出生数!C55 -> 6744 | Z57: =[1]出生数!D55 -> 6504
A58: 1) 平成6年までは、「妊娠満28週以後の死産」である。 | H58: 2) 平成6年までは、出生千対である。 | M58: 3) 本市の集計による。

Sheet 2　区・性別，22週以後－早期新生児別周産期死亡数・率
A1: 2 区・性別にみた妊娠満22週以後の死産-早期新生児死亡別周産期死亡数及び率
L2: 平成30年
A3: 区 | B3: 周 産 期 死 亡 数 | F3: 妊娠満22週以後の死産数 | J3: 早期新生児死亡数
B4: 総数 | C4: 男 | D4: 女 | E4: 不詳 | F4: 総数 | G4: 男 | H4: 女 | I4: 不詳 | J4: 総数 | K4: 男 | L4: 女
A5: 総数 | B5: =SUM(F5,J5) -> 47 | C5: =SUM(G5,K5) -> 22 | D5: =SUM(H5,L5) -> 25 | E5: =I5 -> 0 | F5: =SUM(F6:F15) -> 32 | G5: =SUM(G6:G15) -> 14 | H5: =SUM(H6:H15) -> 18 | I5: =SUM(I6:I15) -> 0 | J5: =SUM(J6:J15) -> 15 | K5: =SUM(K6:K15) -> 8 | L5: =SUM(L6:L15) -> 7
A6: 中央 | B6: =SUM(F6,J6) -> 6 | C6: =SUM(G6,K6) -> 2 | D6: =SUM(H6,L6) -> 4 | E6: =I6 -> 0 | F6: =SUM(G6:I6) -> 4 | G6: 1 | H6: 3 | I6: 0 | J6: =SUM(K6:L6) -> 2 | K6: 1 | L6: 1
A7: 北 | B7: =SUM(F7,J7) -> 8 | C7: =SUM(G7,K7) -> 4 | D7: =SUM(H7,L7) -> 4 | E7: =I7 -> 0 | F7: =SUM(G7:I7) -> 7 | G7: 3 | H7: 4 | I7: 0 | J7: =SUM(K7:L7) -> 1 | K7: 1 | L7: 0
A8: 東 | B8: =SUM(F8,J8) -> 5 | C8: =SUM(G8,K8) -> 3 | D8: =SUM(H8,L8) -> 2 | E8: =I8 -> 0 | F8: =SUM(G8:I8) -> 2 | G8: 1 | H8: 1 | I8: 0 | J8: =SUM(K8:L8) -> 3 | K8: 2 | L8: 1
A9: 白石 | B9: =SUM(F9,J9) -> 4 | C9: =SUM(G9,K9) -> 1 | D9: =SUM(H9,L9) -> 3 | E9: =I9 -> 0 | F9: =SUM(G9:I9) -> 3 | G9: 1 | H9: 2 | I9: 0 | J9: =SUM(K9:L9) -> 1 | K9: 0 | L9: 1
A10: 厚別 | B10: =SUM(F10,J10) -> 4 | C10: =SUM(G10,K10) -> 4 | D10: =SUM(H10,L10) -> 0 | E10: =I10 -> 0 | F10: =SUM(G10:I10) -> 2 | G10: 2 | H10: 0 | I10: 0 | J10: =SUM(K10:L10) -> 2 | K10: 2 | L10: 0
A11: 豊平 | B11: =SUM(F11,J11) -> 7 | C11: =SUM(G11,K11) -> 4 | D11: =SUM(H11,L11) -> 3 | E11: =I11 -> 0 | F11: =SUM(G11:I11) -> 5 | G11: 3 | H11: 2 | I11: 0 | J11: =SUM(K11:L11) -> 2 | K11: 1 | L11: 1
A12: 清田 | B12: =SUM(F12,J12) -> 1 | C12: =SUM(G12,K12) -> 0 | D12: =SUM(H12,L12) -> 1 | E12: =I12 -> 0 | F12: =SUM(G12:I12) -> 0 | G12: 0 | H12: 0 | I12: 0 | J12: =SUM(K12:L12) -> 1 | K12: 0 | L12: 1
A13: 南 | B13: =SUM(F13,J13) -> 3 | C13: =SUM(G13,K13) -> 1 | D13: =SUM(H13,L13) -> 2 | E13: =I13 -> 0 | F13: =SUM(G13:I13) -> 3 | G13: 1 | H13: 2 | I13: 0 | J13: =SUM(K13:L13) -> 0 | K13: 0 | L13: 0
A14: 西 | B14: =SUM(F14,J14) -> 7 | C14: =SUM(G14,K14) -> 2 | D14: =SUM(H14,L14) -> 5 | E14: =I14 -> 0 | F14: =SUM(G14:I14) -> 5 | G14: 1 | H14: 4 | I14: 0 | J14: =SUM(K14:L14) -> 2 | K14: 1 | L14: 1
A15: 手稲 | B15: =SUM(F15,J15) -> 2 | C15: =SUM(G15,K15) -> 1 | D15: =SUM(H15,L15) -> 1 | E15: =I15 -> 0 | F15: =SUM(G15:I15) -> 1 | G15: 1 | H15: 0 | I15: 0 | J15: =SUM(K15:L15) -> 1 | K15: 0 | L15: 1
A16: 区 | B16: 周 産 期 死 亡 率 (出産千対) | F16: 妊娠満22週以後の死産率 (出産千対) | J16: 早期新生児死亡率 (出生千対)
B17: 総数 | C17: 男 | D17: 女 | E17: 不詳 | F17: 総数 | G17: 男 | H17: 女 | I17: 不詳 | J17: 総数 | K17: 男 | L17: 女
A18: 総数 | B18: =B5/(F5+O18)*1000 -> 3.5391566 | C18: =C5/(G5+P18)*1000 -> 3.255401 | D18: =D5/(H5+Q18)*1000 -> 3.83318 | E18: ・ | F18: =F5/(F5+O18)*1000 -> 2.4096386 | G18: =G5/(G5+P18)*1000 -> 2.0716188 | H18: =H5/(H5+Q18)*1000 -> 2.7598896 | I18: ・ | J18: =J5/O18*1000 -> 1.1322464 | K18: =K5/P18*1000 -> 1.1862396 | L18: =L5/Q18*1000 -> 1.0762608 | O18: =[1]出生数!G4 -> 13248 | P18: =[1]出生数!H4 -> 6744 | Q18: =[1]出生数!I4 -> 6504
A19: 中央 | B19: =B6/(F6+O19)*1000 -> 3.4324943 | C19: =C6/(G6+P19)*1000 -> 2.1762786 | D19: =D6/(H6+Q19)*1000 -> 4.8250905 | E19: ・ | F19: =F6/(F6+O19)*1000 -> 2.2883295 | G19: =G6/(G6+P19)*1000 -> 1.0881393 | H19: =H6/(H6+Q19)*1000 -> 3.6188179 | I19: ・ | J19: =J6/O19*1000 -> 1.146789 | K19: =K6/P19*1000 -> 1.0893246 | L19: =L6/Q19*1000 -> 1.2106538 | O19: =[1]出生数!G5 -> 1744 | P19: =[1]出生数!H5 -> 918 | Q19: =[1]出生数!I5 -> 826
A20: 北 | B20: =B7/(F7+O20)*1000 -> 4.3149946 | C20: =C7/(G7+P20)*1000 -> 4.3243243 | D20: =D7/(H7+Q20)*1000 -> 4.3057051 | E20: ・ | F20: =F7/(F7+O20)*1000 -> 3.7756203 | G20: =G7/(G7+P20)*1000 -> 3.2432432 | H20: =H7/(H7+Q20)*1000 -> 4.3057051 | I20: ・ | J20: =J7/O20*1000 -> 0.54141852 | K20: =K7/P20*1000 -> 1.0845987 | L20: =L7/Q20*1000 -> 0 | O20: =[1]出生数!G6 -> 1847 | P20: =[1]出生数!H6 -> 922 | Q20: =[1]出生数!I6 -> 925
A21: 東 | B21: =B8/(F8+O21)*1000 -> 2.5252525 | C21: =C8/(G8+P21)*1000 -> 3.0120482 | D21: =D8/(H8+Q21)*1000 -> 2.0325203 | E21: ・ | F21: =F8/(F8+O21)*1000 -> 1.010101 | G21: =G8/(G8+P21)*1000 -> 1.0040161 | H21: =H8/(H8+Q21)*1000 -> 1.0162602 | I21: ・ | J21: =J8/O21*1000 -> 1.5166835 | K21: =K8/P21*1000 -> 2.0100503 | L21: =L8/Q21*1000 -> 1.017294 | O21: =[1]出生数!G7 -> 1978 | P21: =[1]出生数!H7 -> 995 | Q21: =[1]出生数!I7 -> 983
A22: 白石 | B22: =B9/(F9+O22)*1000 -> 2.3337223 | C22: =C9/(G9+P22)*1000 -> 1.1325028 | D22: =D9/(H9+Q22)*1000 -> 3.6101083 | E22: ・ | F22: =F9/(F9+O22)*1000 -> 1.7502917 | G22: =G9/(G9+P22)*1000 -> 1.1325028 | H22: =H9/(H9+Q22)*1000 -> 2.4067389 | I22: ・ | J22: =J9/O22*1000 -> 0.58445354 | K22: =K9/P22*1000 -> 0 | L22: =L9/Q22*1000 -> 1.2062726 | O22: =[1]出生数!G8 -> 1711 | P22: =[1]出生数!H8 -> 882 | Q22: =[1]出生数!I8 -> 829
A23: 厚別 | B23: =B10/(F10+O23)*1000 -> 6.0331825 | C23: =C10/(G10+P23)*1000 -> 11.049724 | D23: =D10/(H10+Q23)*1000 -> 0 | E23: ・ | F23: =F10/(F10+O23)*1000 -> 3.0165913 | G23: =G10/(G10+P23)*1000 -> 5.5248619 | H23: =H10/(H10+Q23)*1000 -> 0 | I23: ・ | J23: =J10/O23*1000 -> 3.0257186 | K23: =K10/P23*1000 -> 5.5555556 | L23: =L10/Q23*1000 -> 0 | O23: =[1]出生数!G9 -> 661 | P23: =[1]出生数!H9 -> 360 | Q23: =[1]出生数!I9 -> 301
A24: 豊平 | B24: =B11/(F11+O24)*1000 -> 4.1493776 | C24: =C11/(G11+P24)*1000 -> 4.6620047 | D24: =D11/(H11+Q24)*1000 -> 3.6188179 | E24: ・ | F24: =F11/(F11+O24)*1000 -> 2.9638411 | G24: =G11/(G11+P24)*1000 -> 3.4965035 | H24: =H11/(H11+Q24)*1000 -> 2.4125452 | I24: ・ | J24: =J11/O24*1000 -> 1.1890606 | K24: =K11/P24*1000 -> 1.1695906 | L24: =L11/Q24*1000 -> 1.2091898 | O24: =[1]出生数!G10 -> 1682 | P24: =[1]出生数!H10 -> 855 | Q24: =[1]出生数!I10 -> 827
A25: 清田 | B25: =B12/(F12+O25)*1000 -> 1.552795 | C25: =C12/(G12+P25)*1000 -> 0 | D25: =D12/(H12+Q25)*1000 -> 3.0769231 | E25: ・ | F25: =F12/(F12+O25)*1000 -> 0 | G25: =G12/(G12+P25)*1000 -> 0 | H25: =H12/(H12+Q25)*1000 -> 0 | I25: ・ | J25: =J12/O25*1000 -> 1.552795 | K25: =K12/P25*1000 -> 0 | L25: =L12/Q25*1000 -> 3.0769231 | O25: =[1]出生数!G11 -> 644 | P25: =[1]出生数!H11 -> 319 | Q25: =[1]出生数!I11 -> 325
A26: 南 | B26: =B13/(F13+O26)*1000 -> 4.6511628 | C26: =C13/(G13+P26)*1000 -> 3.058104 | D26: =D13/(H13+Q26)*1000 -> 6.2893082 | E26: ・ | F26: =F13/(F13+O26)*1000 -> 4.6511628 | G26: =G13/(G13+P26)*1000 -> 3.058104 | H26: =H13/(H13+Q26)*1000 -> 6.2893082 | I26: ・ | J26: =J13/O26*1000 -> 0 | K26: =K13/P26*1000 -> 0 | L26: =L13/Q26*1000 -> 0 | O26: =[1]出生数!G12 -> 642 | P26: =[1]出生数!H12 -> 326 | Q26: =[1]出生数!I12 -> 316
A27: 西 | B27: =B14/(F14+O27)*1000 -> 4.5602606 | C27: =C14/(G14+P27)*1000 -> 2.5873221 | D27: =D14/(H14+Q27)*1000 -> 6.5616798 | E27: ・ | F27: =F14/(F14+O27)*1000 -> 3.257329 | G27: =G14/(G14+P27)*1000 -> 1.2936611 | H27: =H14/(H14+Q27)*1000 -> 5.2493438 | I27: ・ | J27: =J14/O27*1000 -> 1.3071895 | K27: =K14/P27*1000 -> 1.2953368 | L27: =L14/Q27*1000 -> 1.3192612 | O27: =[1]出生数!G13 -> 1530 | P27: =[1]出生数!H13 -> 772 | Q27: =[1]出生数!I13 -> 758
A28: 手稲 | B28: =B15/(F15+O28)*1000 -> 2.4691358 | C28: =C15/(G15+P28)*1000 -> 2.5252525 | D28: =D15/(H15+Q28)*1000 -> 2.4154589 | E28: ・ | F28: =F15/(F15+O28)*1000 -> 1.2345679 | G28: =G15/(G15+P28)*1000 -> 2.5252525 | H28: =H15/(H15+Q28)*1000 -> 0 | I28: ・ | J28: =J15/O28*1000 -> 1.2360939 | K28: =K15/P28*1000 -> 0 | L28: =L15/Q28*1000 -> 2.4154589 | O28: =[1]出生数!G14 -> 809 | P28: =[1]出生数!H14 -> 395 | Q28: =[1]出生数!I14 -> 414

Sheet 3 母の年齢階級別，22週以後－早期新生児別周産期死亡数・率
A1: 3 母の年齢（5歳階級）・性別にみた妊娠満22週以後の死産-早期新生児死亡別周産期死亡数 及び率
L2: ='2 区・性別，22週以後－早期新生児別周産期死亡数・率'!$L$2 -> 平成30年
A3: 母の年齢 | B3: 周 産 期 死 亡 数 | F3: 妊娠満22週以後の死産数 | J3: 早期新生児死亡数
B4: 総数 | C4: 男 | D4: 女 | E4: 不詳 | F4: 総数 | G4: 男 | H4: 女 | I4: 不詳 | J4: 総数 | K4: 男 | L4: 女
A5: 総数 | B5: =SUM(F5,J5) -> 47 | C5: =SUM(G5,K5) -> 22 | D5: =SUM(H5,L5) -> 25 | E5: =I5 -> 0 | F5: =SUM(F7:F15) -> 32 | G5: =SUM(G7:G15) -> 14 | H5: =SUM(H7:H15) -> 18 | I5: =SUM(I7:I15) -> 0 | J5: =SUM(J7:J15) -> 15 | K5: =SUM(K7:K15) -> 8 | L5: =SUM(L7:L15) -> 7
A6: 14歳以下 | B6: =SUM(F6,J6) -> 0 | C6: =SUM(G6,K6) -> 0 | D6: =SUM(H6,L6) -> 0 | E6: =I6 -> 0 | F6: =SUM(G6:I6) -> 0 | G6: 0 | H6: 0 | I6: 0 | J6: =SUM(K6:L6) -> 0 | K6: 0 | L6: 0
A7: 15～19 | B7: =SUM(F7,J7) -> 1 | C7: =SUM(G7,K7) -> 1 | D7: =SUM(H7,L7) -> 0 | E7: =I7 -> 0 | F7: =SUM(G7:I7) -> 1 | G7: 1 | H7: 0 | I7: 0 | J7: =SUM(K7:L7) -> 0 | K7: 0 | L7: 0
A8: 20～24 | B8: =SUM(F8,J8) -> 5 | C8: =SUM(G8,K8) -> 4 | D8: =SUM(H8,L8) -> 1 | E8: =I8 -> 0 | F8: =SUM(G8:I8) -> 4 | G8: 3 | H8: 1 | I8: 0 | J8: =SUM(K8:L8) -> 1 | K8: 1 | L8: 0
A9: 25～29 | B9: =SUM(F9,J9) -> 15 | C9: =SUM(G9,K9) -> 4 | D9: =SUM(H9,L9) -> 11 | E9: =I9 -> 0 | F9: =SUM(G9:I9) -> 12 | G9: 3 | H9: 9 | I9: 0 | J9: =SUM(K9:L9) -> 3 | K9: 1 | L9: 2
A10: 30～34 | B10: =SUM(F10,J10) -> 10 | C10: =SUM(G10,K10) -> 4 | D10: =SUM(H10,L10) -> 6 | E10: =I10 -> 0 | F10: =SUM(G10:I10) -> 8 | G10: 2 | H10: 6 | I10: 0 | J10: =SUM(K10:L10) -> 2 | K10: 2 | L10: 0
A11: 35～39 | B11: =SUM(F11,J11) -> 13 | C11: =SUM(G11,K11) -> 7 | D11: =SUM(H11,L11) -> 6 | E11: =I11 -> 0 | F11: =SUM(G11:I11) -> 5 | G11: 3 | H11: 2 | I11: 0 | J11: =SUM(K11:L11) -> 8 | K11: 4 | L11: 4
A12: 40～44 | B12: =SUM(F12,J12) -> 3 | C12: =SUM(G12,K12) -> 2 | D12: =SUM(H12,L12) -> 1 | E12: =I12 -> 0 | F12: =SUM(G12:I12) -> 2 | G12: 2 | H12: 0 | I12: 0 | J12: =SUM(K12:L12) -> 1 | K12: 0 | L12: 1
A13: 45～49 | B13: =SUM(F13,J13) -> 0 | C13: =SUM(G13,K13) -> 0 | D13: =SUM(H13,L13) -> 0 | E13: =I13 -> 0 | F13: =SUM(G13:I13) -> 0 | G13: 0 | H13: 0 | I13: 0 | J13: =SUM(K13:L13) -> 0 | K13: 0 | L13: 0
A14: 50歳～ | B14: =SUM(F14,J14) -> 0 | C14: =SUM(G14,K14) -> 0 | D14: =SUM(H14,L14) -> 0 | E14: 0 | F14: 0 | G14: 0 | H14: 0 | I14: 0 | J14: =SUM(K14:L14) -> 0 | K14: 0 | L14: 0
A15: 不詳 | B15: =SUM(F15,J15) -> 0 | C15: =SUM(G15,K15) -> 0 | D15: =SUM(H15,L15) -> 0 | E15: =I15 -> 0 | F15: =SUM(G15:I15) -> 0 | G15: 0 | H15: 0 | I15: 0 | J15: =SUM(K15:L15) -> 0 | K15: 0 | L15: 0
A16: 母の年齢 | B16: 周 産 期 死 亡 率 (出産千対) | F16: 妊娠満22週以後の死産率 (出産千対) | J16: 早期新生児死亡率 (出生千対)
B17: 総数 | C17: 男 | D17: 女 | E17: 不詳 | F17: 総数 | G17: 男 | H17: 女 | I17: 不詳 | J17: 総数 | K17: 男 | L17: 女
A18: 総数 | B18: =IF(B5=0,0,B5/(F5+N18)*1000) -> 3.5391566 | C18: =IF(C5=0,0,C5/(G5+O18)*1000) -> 3.255401 | D18: =IF(D5=0,0,D5/(H5+P18)*1000) -> 3.83318 | E18: ・ | F18: =IF(F5=0,0,F5/(F5+N18)*1000) -> 2.4096386 | G18: =IF(G5=0,0,G5/(G5+O18)*1000) -> 2.0716188 | H18: =IF(H5=0,0,H5/(H5+P18)*1000) -> 2.7598896 | I18: ・ | J18: =IF(J5=0,0,J5/N18*1000) -> 1.1322464 | K18: =IF(K5=0,0,K5/O18*1000) -> 1.1862396 | L18: =IF(L5=0,0,L5/P18*1000) -> 1.0762608 | N18: =[1]出生数!G22 -> 13248 | O18: =[1]出生数!H22 -> 6744 | P18: =[1]出生数!I22 -> 6504
A19: 14歳以下 | B19: =IF(B6=0,0,B6/(F6+N19)*1000) -> 0 | C19: =IF(C6=0,0,C6/(G6+O19)*1000) -> 0 | D19: =IF(D6=0,0,D6/(H6+P19)*1000) -> 0 | E19: ・ | F19: =IF(F6=0,0,F6/(F6+N19)*1000) -> 0 | G19: =IF(G6=0,0,G6/(G6+O19)*1000) -> 0 | H19: =IF(H6=0,0,H6/(H6+P19)*1000) -> 0 | I19: ・ | J19: =IF(J6=0,0,J6/N19*1000) -> 0 | K19: =IF(K6=0,0,K6/O19*1000) -> 0 | L19: =IF(L6=0,0,L6/P19*1000) -> 0 | N19: =[1]出生数!G23 -> 3 | O19: =[1]出生数!H23 -> 0 | P19: =[1]出生数!I23 -> 3
A20: 15～19 | B20: =IF(B7=0,0,B7/(F7+N20)*1000) -> 9.7087379 | C20: =IF(C7=0,0,C7/(G7+O20)*1000) -> 16.393443 | D20: =IF(D7=0,0,D7/(H7+P20)*1000) -> 0 | E20: ・ | F20: =IF(F7=0,0,F7/(F7+N20)*1000) -> 9.7087379 | G20: =IF(G7=0,0,G7/(G7+O20)*1000) -> 16.393443 | H20: =IF(H7=0,0,H7/(H7+P20)*1000) -> 0 | I20: ・ | J20: =IF(J7=0,0,J7/N20*1000) -> 0 | K20: =IF(K7=0,0,K7/O20*1000) -> 0 | L20: =IF(L7=0,0,L7/P20*1000) -> 0 | N20: =[1]出生数!G24 -> 102 | O20: =[1]出生数!H24 -> 60 | P20: =[1]出生数!I24 -> 42
A21: 20～24 | B21: =IF(B8=0,0,B8/(F8+N21)*1000) -> 4.428698 | C21: =IF(C8=0,0,C8/(G8+O21)*1000) -> 7.079646 | D21: =IF(D8=0,0,D8/(H8+P21)*1000) -> 1.7730496 | E21: ・ | F21: =IF(F8=0,0,F8/(F8+N21)*1000) -> 3.5429584 | G21: =IF(G8=0,0,G8/(G8+O21)*1000) -> 5.3097345 | H21: =IF(H8=0,0,H8/(H8+P21)*1000) -> 1.7730496 | I21: ・ | J21: =IF(J8=0,0,J8/N21*1000) -> 0.88888889 | K21: =IF(K8=0,0,K8/O21*1000) -> 1.7793594 | L21: =IF(L8=0,0,L8/P21*1000) -> 0 | N21: =[1]出生数!G25 -> 1125 | O21: =[1]出生数!H25 -> 562 | P21: =[1]出生数!I25 -> 563
A22: 25～29 | B22: =IF(B9=0,0,B9/(F9+N22)*1000) -> 4.6040516 | C22: =IF(C9=0,0,C9/(G9+O22)*1000) -> 2.4660912 | D22: =IF(D9=0,0,D9/(H9+P22)*1000) -> 6.7237164 | E22: ・ | F22: =IF(F9=0,0,F9/(F9+N22)*1000) -> 3.6832413 | G22: =IF(G9=0,0,G9/(G9+O22)*1000) -> 1.8495684 | H22: =IF(H9=0,0,H9/(H9+P22)*1000) -> 5.5012225 | I22: ・ | J22: =IF(J9=0,0,J9/N22*1000) -> 0.92421442 | K22: =IF(K9=0,0,K9/O22*1000) -> 0.61766523 | L22: =IF(L9=0,0,L9/P22*1000) -> 1.2292563 | N22: =[1]出生数!G26 -> 3246 | O22: =[1]出生数!H26 -> 1619 | P22: =[1]出生数!I26 -> 1627
A23: 30～34 | B23: =IF(B10=0,0,B10/(F10+N23)*1000) -> 2.0872469 | C23: =IF(C10=0,0,C10/(G10+O23)*1000) -> 1.6333197 | D23: =IF(D10=0,0,D10/(H10+P23)*1000) -> 2.5619129 | E23: ・ | F23: =IF(F10=0,0,F10/(F10+N23)*1000) -> 1.6697975 | G23: =IF(G10=0,0,G10/(G10+O23)*1000) -> 0.81665986 | H23: =IF(H10=0,0,H10/(H10+P23)*1000) -> 2.5619129 | I23: ・ | J23: =IF(J10=0,0,J10/N23*1000) -> 0.41814761 | K23: =IF(K10=0,0,K10/O23*1000) -> 0.81732734 | L23: =IF(L10=0,0,L10/P23*1000) -> 0 | N23: =[1]出生数!G27 -> 4783 | O23: =[1]出生数!H27 -> 2447 | P23: =[1]出生数!I27 -> 2336
A24: 35～39 | B24: =IF(B11=0,0,B11/(F11+N24)*1000) -> 4.0185471 | C24: =IF(C11=0,0,C11/(G11+O24)*1000) -> 4.1941282 | D24: =IF(D11=0,0,D11/(H11+P24)*1000) -> 3.8314176 | E24: ・ | F24: =IF(F11=0,0,F11/(F11+N24)*1000) -> 1.5455951 | G24: =IF(G11=0,0,G11/(G11+O24)*1000) -> 1.7974835 | H24: =IF(H11=0,0,H11/(H11+P24)*1000) -> 1.2771392 | I24: ・ | J24: =IF(J11=0,0,J11/N24*1000) -> 2.4767802 | K24: =IF(K11=0,0,K11/O24*1000) -> 2.4009604 | L24: =IF(L11=0,0,L11/P24*1000) -> 2.5575448 | N24: =[1]出生数!G28 -> 3230 | O24: =[1]出生数!H28 -> 1666 | P24: =[1]出生数!I28 -> 1564
A25: 40～44 | B25: =IF(B12=0,0,B12/(F12+N25)*1000) -> 4.048583 | C25: =IF(C12=0,0,C12/(G12+O25)*1000) -> 5.2631579 | D25: =IF(D12=0,0,D12/(H12+P25)*1000) -> 2.7700831 | E25: ・ | F25: =IF(F12=0,0,F12/(F12+N25)*1000) -> 2.6990553 | G25: =IF(G12=0,0,G12/(G12+O25)*1000) -> 5.2631579 | H25: =IF(H12=0,0,H12/(H12+P25)*1000) -> 0 | I25: ・ | J25: =IF(J12=0,0,J12/N25*1000) -> 1.35318 | K25: =IF(K12=0,0,K12/O25*1000) -> 0 | L25: =IF(L12=0,0,L12/P25*1000) -> 2.7700831 | N25: =[1]出生数!G29 -> 739 | O25: =[1]出生数!H29 -> 378 | P25: =[1]出生数!I29 -> 361
A26: 45～49 | B26: =IF(B13=0,0,B13/(F13+N26)*1000) -> 0 | C26: =IF(C13=0,0,C13/(G13+O26)*1000) -> 0 | D26: =IF(D13=0,0,D13/(H13+P26)*1000) -> 0 | E26: ・ | F26: =IF(F13=0,0,F13/(F13+N26)*1000) -> 0 | G26: =IF(G13=0,0,G13/(G13+O26)*1000) -> 0 | H26: =IF(H13=0,0,H13/(H13+P26)*1000) -> 0 | I26: ・ | J26: =IF(J13=0,0,J13/N26*1000) -> 0 | K26: =IF(K13=0,0,K13/O26*1000) -> 0 | L26: =IF(L13=0,0,L13/P26*1000) -> 0 | N26: =[1]出生数!G30 -> 20 | O26: =[1]出生数!H30 -> 12 | P26: =[1]出生数!I30 -> 8
A27: 50歳～ | B27: =IF(B14=0,0,B14/(F14+N27)*1000) -> 0 | C27: =IF(C14=0,0,C14/(G14+O27)*1000) -> 0 | D27: =IF(D14=0,0,D14/(H14+P27)*1000) -> 0 | E27: ・ | F27: =IF(F14=0,0,F14/(F14+N27)*1000) -> 0 | G27: =IF(G14=0,0,G14/(G14+O27)*1000) -> 0 | H27: =IF(H14=0,0,H14/(H14+P27)*1000) -> 0 | I27: ・ | J27: =IF(J14=0,0,J14/N27*1000) -> 0 | K27: =IF(K14=0,0,K14/O27*1000) -> 0 | L27: =IF(L14=0,0,L14/P27*1000) -> 0 | N27: =[1]出生数!G31 -> 0 | O27: =[1]出生数!H31 -> 0 | P27: =[1]出生数!I31 -> 0

Sheet 4 性・出産時の体重別，22週以後－早期新生児別周産期死亡数
A1: 4 出産時の体重・性別にみた妊娠満22週以後の死産-早期新生児死亡別周産期死亡数及び率
L2: ='2 区・性別，22週以後－早期新生児別周産期死亡数・率'!$L$2 -> 平成30年
A3: 出産時の体重 | B3: 周 産 期 死 亡 数 | F3: 妊娠満22週以後の死産数 | J3: 早期新生児死亡数
B4: 総数 | C4: 男 | D4: 女 | E4: 不詳 | F4: 総数 | G4: 男 | H4: 女 | I4: 不詳 | J4: 総数 | K4: 男 | L4: 女
A5: 総数 | B5: =SUM(F5,J5) -> 47 | C5: =SUM(G5,K5) -> 22 | D5: =SUM(H5,L5) -> 25 | E5: =I5 -> 0 | F5: =SUM(F6:F17) -> 32 | G5: =SUM(G6:G17) -> 14 | H5: =SUM(H6:H17) -> 18 | I5: =SUM(I6:I17) -> 0 | J5: =SUM(J6:J17) -> 15 | K5: =SUM(K6:K17) -> 8 | L5: =SUM(L6:L17) -> 7
A6: 0.5㎏未満 | B6: =SUM(F6,J6) -> 11 | C6: =SUM(G6,K6) -> 5 | D6: =SUM(H6,L6) -> 6 | E6: =I6 -> 0 | F6: =SUM(G6:I6) -> 9 | G6: 4 | H6: 5 | I6: 0 | J6: =SUM(K6:L6) -> 2 | K6: 1 | L6: 1
A7: 0.5㎏以上 1.0㎏未満 | B7: =SUM(F7,J7) -> 10 | C7: =SUM(G7,K7) -> 5 | D7: =SUM(H7,L7) -> 5 | E7: =I7 -> 0 | F7: =SUM(G7:I7) -> 6 | G7: 2 | H7: 4 | I7: 0 | J7: =SUM(K7:L7) -> 4 | K7: 3 | L7: 1
A8: 1.0～1.5㎏ | B8: =SUM(F8,J8) -> 6 | C8: =SUM(G8,K8) -> 3 | D8: =SUM(H8,L8) -> 3 | E8: =I8 -> 0 | F8: =SUM(G8:I8) -> 3 | G8: 2 | H8: 1 | I8: 0 | J8: =SUM(K8:L8) -> 3 | K8: 1 | L8: 2
A9: 1.5～2.0㎏ | B9: =SUM(F9,J9) -> 3 | C9: =SUM(G9,K9) -> 1 | D9: =SUM(H9,L9) -> 2 | E9: =I9 -> 0 | F9: =SUM(G9:I9) -> 3 | G9: 1 | H9: 2 | I9: 0 | J9: =SUM(K9:L9) -> 0 | K9: 0 | L9: 0
A10: 2.0～2.5㎏ | B10: =SUM(F10,J10) -> 8 | C10: =SUM(G10,K10) -> 5 | D10: =SUM(H10,L10) -> 3 | E10: =I10 -> 0 | F10: =SUM(G10:I10) -> 6 | G10: 3 | H10: 3 | I10: 0 | J10: =SUM(K10:L10) -> 2 | K10: 2 | L10: 0
A11: 2.5～3.0㎏ | B11: =SUM(F11,J11) -> 4 | C11: =SUM(G11,K11) -> 2 | D11: =SUM(H11,L11) -> 2 | E11: =I11 -> 0 | F11: =SUM(G11:I11) -> 3 | G11: 1 | H11: 2 | I11: 0 | J11: =SUM(K11:L11) -> 1 | K11: 1 | L11: 0
A12: 3.0～3.5㎏ | B12: =SUM(F12,J12) -> 4 | C12: =SUM(G12,K12) -> 0 | D12: =SUM(H12,L12) -> 4 | E12: =I12 -> 0 | F12: =SUM(G12:I12) -> 1 | G12: 0 | H12: 1 | I12: 0 | J12: =SUM(K12:L12) -> 3 | K12: 0 | L12: 3
A13: 3.5～4.0㎏ | B13: =SUM(F13,J13) -> 1 | C13: =SUM(G13,K13) -> 1 | D13: =SUM(H13,L13) -> 0 | E13: =I13 -> 0 | F13: =SUM(G13:I13) -> 1 | G13: 1 | H13: 0 | I13: 0 | J13: =SUM(K13:L13) -> 0 | K13: 0 | L13: 0
A14: 4.0～4.5㎏ | B14: =SUM(F14,J14) -> 0 | C14: =SUM(G14,K14) -> 0 | D14: =SUM(H14,L14) -> 0 | E14: =I14 -> 0 | F14: =SUM(G14:I14) -> 0 | G14: 0 | H14: 0 | I14: 0 | J14: =SUM(K14:L14) -> 0 | K14: 0 | L14: 0
A15: 4.5～5.0㎏ | B15: =SUM(F15,J15) -> 0 | C15: =SUM(G15,K15) -> 0 | D15: =SUM(H15,L15) -> 0 | E15: =I15 -> 0 | F15: =SUM(G15:I15) -> 0 | G15: 0 | H15: 0 | I15: 0 | J15: =SUM(K15:L15) -> 0 | K15: 0 | L15: 0
A16: 5.0㎏以上 | B16: =SUM(F16,J16) -> 0 | C16: =SUM(G16,K16) -> 0 | D16: =SUM(H16,L16) -> 0 | E16: =I16 -> 0 | F16: =SUM(G16:I16) -> 0 | G16: 0 | H16: 0 | I16: 0 | J16: =SUM(K16:L16) -> 0 | K16: 0 | L16: 0
A17: 不詳 | B17: =SUM(F17,J17) -> 0 | C17: =SUM(G17,K17) -> 0 | D17: =SUM(H17,L17) -> 0 | E17: =I17 -> 0 | F17: =SUM(G17:I17) -> 0 | G17: 0 | H17: 0 | I17: 0 | J17: =SUM(K17:L17) -> 0 | K17: 0 | L17: 0
A18: 出産時の 平均体重(㎏) | B18: 1.4757021 | C18: 1.4308182 | D18: 1.5152 | E18: 0 | F18: 1.3976875 | G18: 1.4539286 | H18: 1.3539444 | I18: 0 | J18: 1.6421333 | K18: 1.390375 | L18: 1.9298571
A19: 出産時の体重 | B19: 周 産 期 死 亡 率 (出産千対) | F19: 妊娠満22週以後の死産率 (出産千対) | J19: 早期新生児死亡率 (出生千対)
B20: 総数 | C20: 男 | D20: 女 | E20: 不詳 | F20: 総数 | G20: 男 | H20: 女 | I20: 不詳 | J20: 総数 | K20: 男 | L20: 女
A21: 総数 | B21: =IF(B5=0,0,B5/(F5+N21)*1000) -> 3.5391566 | C21: =IF(C5=0,0,C5/(G5+O21)*1000) -> 3.255401 | D21: =IF(D5=0,0,D5/(H5+P21)*1000) -> 3.83318 | E21: ・ | F21: =IF(F5=0,0,F5/(F5+N21)*1000) -> 2.4096386 | G21: =IF(G5=0,0,G5/(G5+O21)*1000) -> 2.0716188 | H21: =IF(H5=0,0,H5/(H5+P21)*1000) -> 2.7598896 | I21: ・ | J21: =IF(J5=0,0,J5/N21*1000) -> 1.1322464 | K21: =IF(K5=0,0,K5/O21*1000) -> 1.1862396 | L21: =IF(L5=0,0,L5/P21*1000) -> 1.0762608 | N21: =[1]出生数!G35 -> 13248 | O21: =[1]出生数!H35 -> 6744 | P21: =[1]出生数!I35 -> 6504
A22: 0.5㎏未満 | B22: =IF(B6=0,0,B6/(F6+N22)*1000) -> 687.5 | C22: =IF(C6=0,0,C6/(G6+O22)*1000) -> 714.28571 | D22: =IF(D6=0,0,D6/(H6+P22)*1000) -> 666.66667 | E22: ・ | F22: =IF(F6=0,0,F6/(F6+N22)*1000) -> 562.5 | G22: =IF(G6=0,0,G6/(G6+O22)*1000) -> 571.42857 | H22: =IF(H6=0,0,H6/(H6+P22)*1000) -> 555.55556 | I22: ・ | J22: =IF(J6=0,0,J6/N22*1000) -> 285.71429 | K22: =IF(K6=0,0,K6/O22*1000) -> 333.33333 | L22: =IF(L6=0,0,L6/P22*1000) -> 250 | N22: =[1]出生数!G36 -> 7 | O22: =[1]出生数!H36 -> 3 | P22: =[1]出生数!I36 -> 4
A23: 0.5㎏以上 1.0㎏未満 | B23: =IF(B7=0,0,B7/(F7+N23)*1000) -> 303.0303 | C23: =IF(C7=0,0,C7/(G7+O23)*1000) -> 294.11765 | D23: =IF(D7=0,0,D7/(H7+P23)*1000) -> 312.5 | E23: ・ | F23: =IF(F7=0,0,F7/(F7+N23)*1000) -> 181.81818 | G23: =IF(G7=0,0,G7/(G7+O23)*1000) -> 117.64706 | H23: =IF(H7=0,0,H7/(H7+P23)*1000) -> 250 | I23: ・ | J23: =IF(J7=0,0,J7/N23*1000) -> 148.14815 | K23: =IF(K7=0,0,K7/O23*1000) -> 200 | L23: =IF(L7=0,0,L7/P23*1000) -> 83.333333 | N23: =[1]出生数!G37 -> 27 | O23: =[1]出生数!H37 -> 15 | P23: =[1]出生数!I37 -> 12
A24: 1.0～1.5㎏ | B24: =IF(B8=0,0,B8/(F8+N24)*1000) -> 109.09091 | C24: =IF(C8=0,0,C8/(G8+O24)*1000) -> 120 | D24: =IF(D8=0,0,D8/(H8+P24)*1000) -> 100 | E24: ・ | F24: =IF(F8=0,0,F8/(F8+N24)*1000) -> 54.545455 | G24: =IF(G8=0,0,G8/(G8+O24)*1000) -> 80 | H24: =IF(H8=0,0,H8/(H8+P24)*1000) -> 33.333333 | I24: ・ | J24: =IF(J8=0,0,J8/N24*1000) -> 57.692308 | K24: =IF(K8=0,0,K8/O24*1000) -> 43.478261 | L24: =IF(L8=0,0,L8/P24*1000) -> 68.965517 | N24: =[1]出生数!G38 -> 52 | O24: =[1]出生数!H38 -> 23 | P24: =[1]出生数!I38 -> 29
A25: 1.5～2.0㎏ | B25: =IF(B9=0,0,B9/(F9+N25)*1000) -> 19.354839 | C25: =IF(C9=0,0,C9/(G9+O25)*1000) -> 11.764706 | D25: =IF(D9=0,0,D9/(H9+P25)*1000) -> 28.571429 | E25: ・ | F25: =IF(F9=0,0,F9/(F9+N25)*1000) -> 19.354839 | G25: =IF(G9=0,0,G9/(G9+O25)*1000) -> 11.764706 | H25: =IF(H9=0,0,H9/(H9+P25)*1000) -> 28.571429 | I25: ・ | J25: =IF(J9=0,0,J9/N25*1000) -> 0 | K25: =IF(K9=0,0,K9/O25*1000) -> 0 | L25: =IF(L9=0,0,L9/P25*1000) -> 0 | N25: =[1]出生数!G39 -> 152 | O25: =[1]出生数!H39 -> 84 | P25: =[1]出生数!I39 -> 68
A26: 2.0～2.5㎏ | B26: =IF(B10=0,0,B10/(F10+N26)*1000) -> 8.4210526 | C26: =IF(C10=0,0,C10/(G10+O26)*1000) -> 12.254902 | D26: =IF(D10=0,0,D10/(H10+P26)*1000) -> 5.5350554 | E26: ・ | F26: =IF(F10=0,0,F10/(F10+N26)*1000) -> 6.3157895 | G26: =IF(G10=0,0,G10/(G10+O26)*1000) -> 7.3529412 | H26: =IF(H10=0,0,H10/(H10+P26)*1000) -> 5.5350554 | I26: ・ | J26: =IF(J10=0,0,J10/N26*1000) -> 2.1186441 | K26: =IF(K10=0,0,K10/O26*1000) -> 4.9382716 | L26: =IF(L10=0,0,L10/P26*1000) -> 0 | N26: =[1]出生数!G40 -> 944 | O26: =[1]出生数!H40 -> 405 | P26: =[1]出生数!I40 -> 539
A27: 2.5～3.0㎏ | B27: =IF(B11=0,0,B11/(F11+N27)*1000) -> 0.79984003 | C27: =IF(C11=0,0,C11/(G11+O27)*1000) -> 0.86244071 | D27: =IF(D11=0,0,D11/(H11+P27)*1000) -> 0.74571216 | E27: ・ | F27: =IF(F11=0,0,F11/(F11+N27)*1000) -> 0.59988002 | G27: =IF(G11=0,0,G11/(G11+O27)*1000) -> 0.43122035 | H27: =IF(H11=0,0,H11/(H11+P27)*1000) -> 0.74571216 | I27: ・ | J27: =IF(J11=0,0,J11/N27*1000) -> 0.20008003 | K27: =IF(K11=0,0,K11/O27*1000) -> 0.43140638 | L27: =IF(L11=0,0,L11/P27*1000) -> 0 | N27: =[1]出生数!G41 -> 4998 | O27: =[1]出生数!H41 -> 2318 | P27: =[1]出生数!I41 -> 2680
A28: 3.0～3.5㎏ | B28: =IF(B12=0,0,B12/(F12+N28)*1000) -> 0.71748879 | C28: =IF(C12=0,0,C12/(G12+O28)*1000) -> 0 | D28: =IF(D12=0,0,D12/(H12+P28)*1000) -> 1.5485869 | E28: ・ | F28: =IF(F12=0,0,F12/(F12+N28)*1000) -> 0.1793722 | G28: =IF(G12=0,0,G12/(G12+O28)*1000) -> 0 | H28: =IF(H12=0,0,H12/(H12+P28)*1000) -> 0.38714673 | I28: ・ | J28: =IF(J12=0,0,J12/N28*1000) -> 0.53821313 | K28: =IF(K12=0,0,K12/O28*1000) -> 0 | L28: =IF(L12=0,0,L12/P28*1000) -> 1.16189 | N28: =[1]出生数!G42 -> 5574 | O28: =[1]出生数!H42 -> 2992 | P28: =[1]出生数!I42 -> 2582
A29: 3.5～4.0㎏ | B29: =IF(B13=0,0,B13/(F13+N29)*1000) -> 0.7230658 | C29: =IF(C13=0,0,C13/(G13+O29)*1000) -> 1.1990408 | D29: =IF(D13=0,0,D13/(H13+P29)*1000) -> 0 | E29: ・ | F29: =IF(F13=0,0,F13/(F13+N29)*1000) -> 0.7230658 | G29: =IF(G13=0,0,G13/(G13+O29)*1000) -> 1.1990408 | H29: =IF(H13=0,0,H13/(H13+P29)*1000) -> 0 | I29: ・ | J29: =IF(J13=0,0,J13/N29*1000) -> 0 | K29: =IF(K13=0,0,K13/O29*1000) -> 0 | L29: =IF(L13=0,0,L13/P29*1000) -> 0 | N29: =[1]出生数!G43 -> 1382 | O29: =[1]出生数!H43 -> 833 | P29: =[1]出生数!I43 -> 549
A30: 4.0～4.5㎏ | B30: =IF(B14=0,0,B14/(F14+N30)*1000) -> 0 | C30: =IF(C14=0,0,C14/(G14+O30)*1000) -> 0 | D30: =IF(D14=0,0,D14/(H14+P30)*1000) -> 0 | E30: ・ | F30: =IF(F14=0,0,F14/(F14+N30)*1000) -> 0 | G30: =IF(G14=0,0,G14/(G14+O30)*1000) -> 0 | H30: =IF(H14=0,0,H14/(H14+P30)*1000) -> 0 | I30: ・ | J30: =IF(J14=0,0,J14/N30*1000) -> 0 | K30: =IF(K14=0,0,K14/O30*1000) -> 0 | L30: =IF(L14=0,0,L14/P30*1000) -> 0 | N30: =[1]出生数!G44 -> 106 | O30: =[1]出生数!H44 -> 67 | P30: =[1]出生数!I44 -> 39
A31: 4.5～5.0㎏ | B31: =IF(B15=0,0,B15/(F15+N31)*1000) -> 0 | C31: =IF(C15=0,0,C15/(G15+O31)*1000) -> 0 | D31: =IF(D15=0,0,D15/(H15+P31)*1000) -> 0 | E31: ・ | F31: =IF(F15=0,0,F15/(F15+N31)*1000) -> 0 | G31: =IF(G15=0,0,G15/(G15+O31)*1000) -> 0 | H31: =IF(H15=0,0,H15/(H15+P31)*1000) -> 0 | I31: ・ | J31: =IF(J15=0,0,J15/N31*1000) -> 0 | K31: =IF(K15=0,0,K15/O31*1000) -> 0 | L31: =IF(L15=0,0,L15/P31*1000) -> 0 | N31: =[1]出生数!G45 -> 2 | O31: =[1]出生数!H45 -> 1 | P31: =[1]出生数!I45 -> 1
A32: 5.0㎏以上 | B32: =IF(B16=0,0,B16/(F16+N32)*1000) -> 0 | C32: =IF(C16=0,0,C16/(G16+O32)*1000) -> 0 | D32: =IF(D16=0,0,D16/(H16+P32)*1000) -> 0 | E32: ・ | F32: =IF(F16=0,0,F16/(F16+N32)*1000) -> 0 | G32: =IF(G16=0,0,G16/(G16+O32)*1000) -> 0 | H32: =IF(H16=0,0,H16/(H16+P32)*1000) -> 0 | I32: ・ | J32: =IF(J16=0,0,J16/N32*1000) -> 0 | K32: =IF(K16=0,0,K16/O32*1000) -> 0 | L32: =IF(L16=0,0,L16/P32*1000) -> 0 | N32: =[1]出生数!G46 -> 1 | O32: =[1]出生数!H46 -> 1 | P32: =[1]出生数!I46 -> 0

Sheet 月・区別，22週以後－早期新生児別周産期死亡数
A1: 区・月別にみた妊娠満22週以後の死産-早期新生児死亡別周産期死亡数
A3: 区 | B3: 総数 | C3: １月 | D3: ２月 | E3: ３月 | F3: ４月 | G3: ５月 | H3: ６月 | I3: ７月 | J3: ８月 | K3: ９月 | L3: １０月 | M3: １１月 | N3: １２月 | Q3: データの個数 : 客体区分 | S3: 発生月
B4: 周産期死亡数 | Q4: 時期区分 | R4: 区コード | S4: 1 | T4: 2 | U4: 3 | V4: 4 | W4: 5 | X4: 6 | Y4: 7 | Z4: 8 | AA4: 9 | AB4: 10 | AC4: 11 | AD4: 12 | AE4: 総計
A5: 総数 | B5: =SUM(B17,B29) -> 0 | C5: =SUM(C17,C29) -> 0 | D5: =SUM(D17,D29) -> 0 | E5: =SUM(E17,E29) -> 0 | F5: =SUM(F17,F29) -> 0 | G5: =SUM(G17,G29) -> 0 | H5: =SUM(H17,H29) -> 0 | I5: =SUM(I17,I29) -> 0 | ... N5: =SUM(N17,N29) -> 0 | Q5: 死産 | R5: 10 中央区 | S5: 0 | T5: 1 | U5: 0 | V5: 1 | W5: 1 | X5: 0 | Y5: 0 | Z5: 0 | AA5: 0 | AB5: 0 | AC5: 0 | AD5: 1 | AE5: 4
A6: 中央 | B6: =SUM(B18,B30) -> 0 | C6: =SUM(C18,C30) -> 0 | D6: =SUM(D18,D30) -> 0 | E6: =SUM(E18,E30) -> 0 | F6: =SUM(F18,F30) -> 0 | G6: =SUM(G18,G30) -> 0 | H6: =SUM(H18,H30) -> 0 | I6: =SUM(I18,I30) -> 0 | ... N6: =SUM(N18,N30) -> 0 | R6: 20 北区 | S6: 1 | T6: 0 | U6: 2 | V6: 0 | W6: 0 | X6: 0 | Y6: 1 | Z6: 1 | AA6: 2 | AB6: 1 | AC6: 0 | AD6: 0 | AE6: 8
A7: 北 | B7: =SUM(B19,B31) -> 0 | C7: =SUM(C19,C31) -> 0 | D7: =SUM(D19,D31) -> 0 | E7: =SUM(E19,E31) -> 0 | F7: =SUM(F19,F31) -> 0 | G7: =SUM(G19,G31) -> 0 | H7: =SUM(H19,H31) -> 0 | I7: =SUM(I19,I31) -> 0 | ... N7: =SUM(N19,N31) -> 0 | R7: 30 東区 | S7: 1 | T7: 1 | U7: 1 | V7: 1 | W7: 1 | X7: 1 | Y7: 1 | Z7: 2 | AA7: 2 | AB7: 1 | AC7: 1 | AD7: 5 | AE7: 18
A8: 東 | B8: =SUM(B20,B32) -> 0 | C8: =SUM(C20,C32) -> 0 | D8: =SUM(D20,D32) -> 0 | E8: =SUM(E20,E32) -> 0 | F8: =SUM(F20,F32) -> 0 | G8: =SUM(G20,G32) -> 0 | H8: =SUM(H20,H32) -> 0 | I8: =SUM(I20,I32) -> 0 | ... N8: =SUM(N20,N32) -> 0 | R8: 40 白石区 | S8: 0 | T8: 0 | U8: 3 | V8: 0 | W8: 0 | X8: 0 | Y8: 1 | Z8: 0 | AA8: 0 | AB8: 0 | AC8: 0 | AD8: 1 | AE8: 5
A9: 白石 | B9: =SUM(B21,B33) -> 0 | C9: =SUM(C21,C33) -> 0 | D9: =SUM(D21,D33) -> 0 | E9: =SUM(E21,E33) -> 0 | F9: =SUM(F21,F33) -> 0 | G9: =SUM(G21,G33) -> 0 | H9: =SUM(H21,H33) -> 0 | I9: =SUM(I21,I33) -> 0 | ... N9: =SUM(N21,N33) -> 0 | R9: 45 厚別区 | S9: 0 | T9: 1 | U9: 0 | V9: 0 | W9: 0 | X9: 0 | Y9: 0 | Z9: 0 | AA9: 1 | AB9: 1 | AC9: 0 | AD9: 2 | AE9: 5
A10: 厚別 | B10: =SUM(B22,B34) -> 0 | C10: =SUM(C22,C34) -> 0 | D10: =SUM(D22,D34) -> 0 | E10: =SUM(E22,E34) -> 0 | F10: =SUM(F22,F34) -> 0 | G10: =SUM(G22,G34) -> 0 | H10: =SUM(H22,H34) -> 0 | I10: =SUM(I22,I34) -> 0 | ... N10: =SUM(N22,N34) -> 0 | R10: 50 豊平区 | S10: 0 | T10: 1 | U10: 0 | V10: 0 | W10: 0 | X10: 2 | Y10: 1 | Z10: 3 | AA10: 2 | AB10: 1 | AC10: 0 | AD10: 2 | AE10: 12
A11: 豊平 | B11: =SUM(B23,B35) -> 0 | C11: =SUM(C23,C35) -> 0 | D11: =SUM(D23,D35) -> 0 | E11: =SUM(E23,E35) -> 0 | F11: =SUM(F23,F35) -> 0 | G11: =SUM(G23,G35) -> 0 | H11: =SUM(H23,H35) -> 0 | I11: =SUM(I23,I35) -> 0 | ... N11: =SUM(N23,N35) -> 0 | R11: 55 清田区 | S11: 2 | T11: 0 | U11: 2 | V11: 0 | W11: 0 | X11: 0 | Y11: 1 | Z11: 0 | AA11: 0 | AB11: 1 | AC11: 1 | AD11: 0 | AE11: 7
A12: 清田 | B12: =SUM(B24,B36) -> 0 | C12: =SUM(C24,C36) -> 0 | D12: =SUM(D24,D36) -> 0 | E12: =SUM(E24,E36) -> 0 | F12: =SUM(F24,F36) -> 0 | G12: =SUM(G24,G36) -> 0 | H12: =SUM(H24,H36) -> 0 | I12: =SUM(I24,I36) -> 0 | ... N12: =SUM(N24,N36) -> 0 | R12: 60 南区 | S12: 0 | T12: 0 | U12: 2 | V12: 0 | W12: 0 | X12: 0 | Y12: 0 | Z12: 0 | AA12: 0 | AB12: 2 | AC12: 0 | AD12: 0 | AE12: 4
A13: 南 | B13: =SUM(B25,B37) -> 0 | C13: =SUM(C25,C37) -> 0 | D13: =SUM(D25,D37) -> 0 | E13: =SUM(E25,E37) -> 0 | F13: =SUM(F25,F37) -> 0 | G13: =SUM(G25,G37) -> 0 | H13: =SUM(H25,H37) -> 0 | I13: =SUM(I25,I37) -> 0 | ... N13: =SUM(N25,N37) -> 0 | R13: 70 西区 | S13: 0 | T13: 0 | U13: 0 | V13: 0 | W13: 1 | X13: 1 | Y13: 1 | Z13: 0 | AA13: 3 | AB13: 1 | AC13: 1 | AD13: 0 | AE13: 8
A14: 西 | B14: =SUM(B26,B38) -> 0 | C14: =SUM(C26,C38) -> 0 | D14: =SUM(D26,D38) -> 0 | E14: =SUM(E26,E38) -> 0 | F14: =SUM(F26,F38) -> 0 | G14: =SUM(G26,G38) -> 0 | H14: =SUM(H26,H38) -> 0 | I14: =SUM(I26,I38) -> 0 | ... N14: =SUM(N26,N38) -> 0 | R14: 75 手稲区 | S14: 1 | T14: 0 | U14: 0 | V14: 1 | W14: 1 | X14: 1 | Y14: 1 | Z14: 0 | AA14: 1 | AB14: 0 | AC14: 0 | AD14: 0 | AE14: 6
A15: 手稲 | B15: =SUM(B27,B39) -> 0 | C15: =SUM(C27,C39) -> 0 | D15: =SUM(D27,D39) -> 0 | E15: =SUM(E27,E39) -> 0 | F15: =SUM(F27,F39) -> 0 | G15: =SUM(G27,G39) -> 0 | H15: =SUM(H27,H39) -> 0 | I15: =SUM(I27,I39) -> 0 | ... N15: =SUM(N27,N39) -> 0 | Q15: 死産 計 | S15: 5 | T15: 4 | U15: 10 | V15: 3 | W15: 4 | X15: 5 | Y15: 7 | Z15: 6 | AA15: 11 | AB15: 8 | AC15: 3 | AD15: 11 | AE15: 77
B16: 妊娠満22週以後の死産数 | Q16: 死亡 | R16: 10 中央区 | S16: 0 | T16: 0 | U16: 0 | V16: 0 | W16: 0 | X16: 0 | Y16: 0 | Z16: 0 | AA16: 0 | AB16: 1 | AC16: 0 | AD16: 0 | AE16: 1
A17: 総数 | B17: =SUM(C17:N17) -> 0 | C17: =SUM(C18:C27) -> 0 | D17: =SUM(D18:D27) -> 0 | E17: =SUM(E18:E27) -> 0 | F17: =SUM(F18:F27) -> 0 | G17: =SUM(G18:G27) -> 0 | H17: =SUM(H18:H27) -> 0 | I17: =SUM(I18:I27) -> 0 | J17: =SUM(J18:J27) -> 0 | ... N17: =SUM(N18:N27) -> 0 | R17: 20 北区 | S17: 0 | T17: 0 | U17: 0 | V17: 0 | W17: 0 | X17: 0 | Y17: 0 | Z17: 0 | AA17: 0 | AB17: 1 | AC17: 0 | AD17: 0 | AE17: 1
A18: 中央 | B18: =SUM(C18:N18) -> 0 | R18: 30 東区 | S18: 0 | T18: 0 | U18: 0 | V18: 0 | W18: 0 | X18: 2 | Y18: 0 | Z18: 0 | AA18: 0 | AB18: 1 | AC18: 0 | AD18: 0 | AE18: 3
A19: 北 | B19: =SUM(C19:N19) -> 0 | R19: 40 白石区 | S19: 0 | T19: 0 | U19: 0 | V19: 0 | W19: 0 | X19: 1 | Y19: 0 | Z19: 0 | AA19: 0 | AB19: 0 | AC19: 0 | AD19: 0 | AE19: 1
A20: 東 | B20: =SUM(C20:N20) -> 0 | R20: 50 豊平区 | S20: 0 | T20: 1 | U20: 0 | V20: 0 | W20: 0 | X20: 0 | Y20: 0 | Z20: 0 | AA20: 1 | AB20: 0 | AC20: 0 | AD20: 0 | AE20: 2
A21: 白石 | B21: =SUM(C21:N21) -> 0 | R21: 70 西区 | S21: 1 | T21: 0 | U21: 0 | V21: 0 | W21: 0 | X21: 0 | Y21: 0 | Z21: 0 | AA21: 0 | AB21: 1 | AC21: 0 | AD21: 0 | AE21: 2
A22: 厚別 | B22: =SUM(C22:N22) -> 0 | Q22: 死亡 計 | S22: 1 | T22: 1 | U22: 0 | V22: 0 | W22: 0 | X22: 3 | Y22: 0 | Z22: 0 | AA22: 1 | AB22: 4 | AC22: 0 | AD22: 0 | AE22: 10
A23: 豊平 | B23: =SUM(C23:N23) -> 0 | Q23: 総計 | S23: 6 | T23: 5 | U23: 10 | V23: 3 | W23: 4 | X23: 8 | Y23: 7 | Z23: 6 | AA23: 12 | AB23: 12 | AC23: 3 | AD23: 11 | AE23: 87
A24: 清田 | B24: =SUM(C24:N24) -> 0
A25: 南 | B25: =SUM(C25:N25) -> 0
A26: 西 | B26: =SUM(C26:N26) -> 0
A27: 手稲 | B27: =SUM(C27:N27) -> 0
B28: 早期新生児死亡数
A29: 総数 | B29: =SUM(C29:N29) -> 0 | C29: =SUM(C30:C39) -> 0 | D29: =SUM(D30:D39) -> 0 | E29: =SUM(E30:E39) -> 0 | F29: =SUM(F30:F39) -> 0 | G29: =SUM(G30:G39) -> 0 | H29: =SUM(H30:H39) -> 0 | I29: =SUM(I30:I39) -> 0 | J29: =SUM(J30:J39) -> 0 | ... N29: =SUM(N30:N39) -> 0
A30: 中央 | B30: =SUM(C30:N30) -> 0
A31: 北 | B31: =SUM(C31:N31) -> 0
A32: 東 | B32: =SUM(C32:N32) -> 0
A33: 白石 | B33: =SUM(C33:N33) -> 0
A34: 厚別 | B34: =SUM(C34:N34) -> 0
A35: 豊平 | B35: =SUM(C35:N35) -> 0
A36: 清田 | B36: =SUM(C36:N36) -> 0
A37: 南 | B37: =SUM(C37:N37) -> 0
A38: 西 | B38: =SUM(C38:N38) -> 0
A39: 手稲 | B39: =SUM(C39:N39) -> 0

Sheet 月・区別，22週以後－早期新生児別周産期死亡率
A1: 区・月別にみた妊娠満22週以後の死産-早期新生児死亡別周産期死亡率
A3: 区 | B3: 総数 | C3: １月 | D3: ２月 | E3: ３月 | F3: ４月 | G3: ５月 | H3: ６月 | I3: ７月 | J3: ８月 | K3: ９月 | L3: １０月 | M3: １１月 | N3: １２月
B4: 周産期死亡率(出産千対） | Q4: =[1]出生数!G3 -> 総数 | R4: =[1]出生数!U3 -> １２月 | S4: =[1]出生数!V3 -> １月 | T4: =[1]出生数!W3 -> ２月 | U4: =[1]出生数!X3 -> ３月 | V4: =[1]出生数!Y3 -> ４月 | W4: =[1]出生数!Z3 -> ５月 | X4: =[1]出生数!AA3 -> ６月 | Y4: =[1]出生数!AB3 -> ７月 | ... AD4: =[1]出生数!AG3 -> １２月
A5: 総数 | B5: ='月・区別，22週以後－早期新生児別周産期死亡数'!B5/('月・区別，22週以後－早期新生児別周産期死亡数'!B17+'月・区別，22週以後－早期新生児別周産期死亡率'!Q5)*1000 -> 0 | C5: ='月・区別，22週以後－早期新生児別周産期死亡数'!C5/('月・区別，22週以後－早期新生児別周産期死亡数'!C17+'月・区別，22週以後－早期新生児別周産期死亡率'!R5)*1000 -> 0 | D5: ='月・区別，22週以後－早期新生児別周産期死亡数'!D5/('月・区別，22週以後－早期新生児別周産期死亡数'!D17+'月・区別，22週以後－早期新生児別周産期死亡率'!S5)*1000 -> 0 | E5: ='月・区別，22週以後－早期新生児別周産期死亡数'!E5/('月・区別，22週以後－早期新生児別周産期死亡数'!E17+'月・区別，22週以後－早期新生児別周産期死亡率'!T5)*1000 -> 0 | F5: ='月・区別，22週以後－早期新生児別周産期死亡数'!F5/('月・区別，22週以後－早期新生児別周産期死亡数'!F17+'月・区別，22週以後－早期新生児別周産期死亡率'!U5)*1000 -> 0 | G5: ='月・区別，22週以後－早期新生児別周産期死亡数'!G5/('月・区別，22週以後－早期新生児別周産期死亡数'!G17+'月・区別，22週以後－早期新生児別周産期死亡率'!V5)*1000 -> 0 | H5: ='月・区別，22週以後－早期新生児別周産期死亡数'!H5/('月・区別，22週以後－早期新生児別周産期死亡数'!H17+'月・区別，22週以後－早期新生児別周産期死亡率'!W5)*1000 -> 0 | I5: ='月・区別，22週以後－早期新生児別周産期死亡数'!I5/('月・区別，22週以後－早期新生児別周産期死亡数'!I17+'月・区別，22週以後－早期新生児別周産期死亡率'!X5)*1000 -> 0 | ... N5: ='月・区別，22週以後－早期新生児別周産期死亡数'!N5/('月・区別，22週以後－早期新生児別周産期死亡数'!N17+'月・区別，22週以後－早期新生児別周産期死亡率'!AC5)*1000 -> 0 | Q5: =[1]出生数!G4 -> 13248 | R5: =[1]出生数!U4 -> 1081 | S5: =[1]出生数!V4 -> 1135 | T5: =[1]出生数!W4 -> 1067 | U5: =[1]出生数!X4 -> 1078 | V5: =[1]出生数!Y4 -> 1067 | W5: =[1]出生数!Z4 -> 1128 | X5: =[1]出生数!AA4 -> 1110 | Y5: =[1]出生数!AB4 -> 1127 | ... AD5: =[1]出生数!AG4 -> 1017
A6: 中央 | B6: ='月・区別，22週以後－早期新生児別周産期死亡数'!B6/('月・区別，22週以後－早期新生児別周産期死亡数'!B18+'月・区別，22週以後－早期新生児別周産期死亡率'!Q6)*1000 -> 0 | C6: ='月・区別，22週以後－早期新生児別周産期死亡数'!C6/('月・区別，22週以後－早期新生児別周産期死亡数'!C18+'月・区別，22週以後－早期新生児別周産期死亡率'!R6)*1000 -> 0 | D6: ='月・区別，22週以後－早期新生児別周産期死亡数'!D6/('月・区別，22週以後－早期新生児別周産期死亡数'!D18+'月・区別，22週以後－早期新生児別周産期死亡率'!S6)*1000 -> 0 | E6: ='月・区別，22週以後－早期新生児別周産期死亡数'!E6/('月・区別，22週以後－早期新生児別周産期死亡数'!E18+'月・区別，22週以後－早期新生児別周産期死亡率'!T6)*1000 -> 0 | F6: ='月・区別，22週以後－早期新生児別周産期死亡数'!F6/('月・区別，22週以後－早期新生児別周産期死亡数'!F18+'月・区別，22週以後－早期新生児別周産期死亡率'!U6)*1000 -> 0 | G6: ='月・区別，22週以後－早期新生児別周産期死亡数'!G6/('月・区別，22週以後－早期新生児別周産期死亡数'!G18+'月・区別，22週以後－早期新生児別周産期死亡率'!V6)*1000 -> 0 | H6: ='月・区別，22週以後－早期新生児別周産期死亡数'!H6/('月・区別，22週以後－早期新生児別周産期死亡数'!H18+'月・区別，22週以後－早期新生児別周産期死亡率'!W6)*1000 -> 0 | I6: ='月・区別，22週以後－早期新生児別周産期死亡数'!I6/('月・区別，22週以後－早期新生児別周産期死亡数'!I18+'月・区別，22週以後－早期新生児別周産期死亡率'!X6)*1000 -> 0 | ... N6: ='月・区別，22週以後－早期新生児別周産期死亡数'!N6/('月・区別，22週以後－早期新生児別周産期死亡数'!N18+'月・区別，22週以後－早期新生児別周産期死亡率'!AC6)*1000 -> 0 | Q6: =[1]出生数!G5 -> 1744 | R6: =[1]出生数!U5 -> 138 | S6: =[1]出生数!V5 -> 137 | T6: =[1]出生数!W5 -> 152 | U6: =[1]出生数!X5 -> 150 | V6: =[1]出生数!Y5 -> 133 | W6: =[1]出生数!Z5 -> 155 | X6: =[1]出生数!AA5 -> 145 | Y6: =[1]出生数!AB5 -> 133 | ... AD6: =[1]出生数!AG5 -> 147
A7: 北 | B7: ='月・区別，22週以後－早期新生児別周産期死亡数'!B7/('月・区別，22週以後－早期新生児別周産期死亡数'!B19+'月・区別，22週以後－早期新生児別周産期死亡率'!Q7)*1000 -> 0 | C7: ='月・区別，22週以後－早期新生児別周産期死亡数'!C7/('月・区別，22週以後－早期新生児別周産期死亡数'!C19+'月・区別，22週以後－早期新生児別周産期死亡率'!R7)*1000 -> 0 | D7: ='月・区別，22週以後－早期新生児別周産期死亡数'!D7/('月・区別，22週以後－早期新生児別周産期死亡数'!D19+'月・区別，22週以後－早期新生児別周産期死亡率'!S7)*1000 -> 0 | E7: ='月・区別，22週以後－早期新生児別周産期死亡数'!E7/('月・区別，22週以後－早期新生児別周産期死亡数'!E19+'月・区別，22週以後－早期新生児別周産期死亡率'!T7)*1000 -> 0 | F7: ='月・区別，22週以後－早期新生児別周産期死亡数'!F7/('月・区別，22週以後－早期新生児別周産期死亡数'!F19+'月・区別，22週以後－早期新生児別周産期死亡率'!U7)*1000 -> 0 | G7: ='月・区別，22週以後－早期新生児別周産期死亡数'!G7/('月・区別，22週以後－早期新生児別周産期死亡数'!G19+'月・区別，22週以後－早期新生児別周産期死亡率'!V7)*1000 -> 0 | H7: ='月・区別，22週以後－早期新生児別周産期死亡数'!H7/('月・区別，22週以後－早期新生児別周産期死亡数'!H19+'月・区別，22週以後－早期新生児別周産期死亡率'!W7)*1000 -> 0 | I7: ='月・区別，22週以後－早期新生児別周産期死亡数'!I7/('月・区別，22週以後－早期新生児別周産期死亡数'!I19+'月・区別，22週以後－早期新生児別周産期死亡率'!X7)*1000 -> 0 | ... N7: ='月・区別，22週以後－早期新生児別周産期死亡数'!N7/('月・区別，22週以後－早期新生児別周産期死亡数'!N19+'月・区別，22週以後－早期新生児別周産期死亡率'!AC7)*1000 -> 0 | Q7: =[1]出生数!G6 -> 1847 | R7: =[1]出生数!U6 -> 92 | S7: =[1]出生数!V6 -> 169 | T7: =[1]出生数!W6 -> 139 | U7: =[1]出生数!X6 -> 137 | V7: =[1]出生数!Y6 -> 137 | W7: =[1]出生数!Z6 -> 174 | X7: =[1]出生数!AA6 -> 164 | Y7: =[1]出生数!AB6 -> 166 | ... AD7: =[1]出生数!AG6 -> 134
A8: 東 | B8: ='月・区別，22週以後－早期新生児別周産期死亡数'!B8/('月・区別，22週以後－早期新生児別周産期死亡数'!B20+'月・区別，22週以後－早期新生児別周産期死亡率'!Q8)*1000 -> 0 | C8: ='月・区別，22週以後－早期新生児別周産期死亡数'!C8/('月・区別，22週以後－早期新生児別周産期死亡数'!C20+'月・区別，22週以後－早期新生児別周産期死亡率'!R8)*1000 -> 0 | D8: ='月・区別，22週以後－早期新生児別周産期死亡数'!D8/('月・区別，22週以後－早期新生児別周産期死亡数'!D20+'月・区別，22週以後－早期新生児別周産期死亡率'!S8)*1000 -> 0 | E8: ='月・区別，22週以後－早期新生児別周産期死亡数'!E8/('月・区別，22週以後－早期新生児別周産期死亡数'!E20+'月・区別，22週以後－早期新生児別周産期死亡率'!T8)*1000 -> 0 | F8: ='月・区別，22週以後－早期新生児別周産期死亡数'!F8/('月・区別，22週以後－早期新生児別周産期死亡数'!F20+'月・区別，22週以後－早期新生児別周産期死亡率'!U8)*1000 -> 0 | G8: ='月・区別，22週以後－早期新生児別周産期死亡数'!G8/('月・区別，22週以後－早期新生児別周産期死亡数'!G20+'月・区別，22週以後－早期新生児別周産期死亡率'!V8)*1000 -> 0 | H8: ='月・区別，22週以後－早期新生児別周産期死亡数'!H8/('月・区別，22週以後－早期新生児別周産期死亡数'!H20+'月・区別，22週以後－早期新生児別周産期死亡率'!W8)*1000 -> 0 | I8: ='月・区別，22週以後－早期新生児別周産期死亡数'!I8/('月・区別，22週以後－早期新生児別周産期死亡数'!I20+'月・区別，22週以後－早期新生児別周産期死亡率'!X8)*1000 -> 0 | ... N8: ='月・区別，22週以後－早期新生児別周産期死亡数'!N8/('月・区別，22週以後－早期新生児別周産期死亡数'!N20+'月・区別，22週以後－早期新生児別周産期死亡率'!AC8)*1000 -> 0 | Q8: =[1]出生数!G7 -> 1978 | R8: =[1]出生数!U7 -> 175 | S8: =[1]出生数!V7 -> 167 | T8: =[1]出生数!W7 -> 132 | U8: =[1]出生数!X7 -> 161 | V8: =[1]出生数!Y7 -> 171 | W8: =[1]出生数!Z7 -> 162 | X8: =[1]出生数!AA7 -> 165 | Y8: =[1]出生数!AB7 -> 179 | ... AD8: =[1]出生数!AG7 -> 146
A9: 白石 | B9: ='月・区別，22週以後－早期新生児別周産期死亡数'!B9/('月・区別，22週以後－早期新生児別周産期死亡数'!B21+'月・区別，22週以後－早期新生児別周産期死亡率'!Q9)*1000 -> 0 | C9: ='月・区別，22週以後－早期新生児別周産期死亡数'!C9/('月・区別，22週以後－早期新生児別周産期死亡数'!C21+'月・区別，22週以後－早期新生児別周産期死亡率'!R9)*1000 -> 0 | D9: ='月・区別，22週以後－早期新生児別周産期死亡数'!D9/('月・区別，22週以後－早期新生児別周産期死亡数'!D21+'月・区別，22週以後－早期新生児別周産期死亡率'!S9)*1000 -> 0 | E9: ='月・区別，22週以後－早期新生児別周産期死亡数'!E9/('月・区別，22週以後－早期新生児別周産期死亡数'!E21+'月・区別，22週以後－早期新生児別周産期死亡率'!T9)*1000 -> 0 | F9: ='月・区別，22週以後－早期新生児別周産期死亡数'!F9/('月・区別，22週以後－早期新生児別周産期死亡数'!F21+'月・区別，22週以後－早期新生児別周産期死亡率'!U9)*1000 -> 0 | G9: ='月・区別，22週以後－早期新生児別周産期死亡数'!G9/('月・区別，22週以後－早期新生児別周産期死亡数'!G21+'月・区別，22週以後－早期新生児別周産期死亡率'!V9)*1000 -> 0 | H9: ='月・区別，22週以後－早期新生児別周産期死亡数'!H9/('月・区別，22週以後－早期新生児別周産期死亡数'!H21+'月・区別，22週以後－早期新生児別周産期死亡率'!W9)*1000 -> 0 | I9: ='月・区別，22週以後－早期新生児別周産期死亡数'!I9/('月・区別，22週以後－早期新生児別周産期死亡数'!I21+'月・区別，22週以後－早期新生児別周産期死亡率'!X9)*1000 -> 0 | ... N9: ='月・区別，22週以後－早期新生児別周産期死亡数'!N9/('月・区別，22週以後－早期新生児別周産期死亡数'!N21+'月・区別，22週以後－早期新生児別周産期死亡率'!AC9)*1000 -> 0 | Q9: =[1]出生数!G8 -> 1711 | R9: =[1]出生数!U8 -> 133 | S9: =[1]出生数!V8 -> 144 | T9: =[1]出生数!W8 -> 148 | U9: =[1]出生数!X8 -> 123 | V9: =[1]出生数!Y8 -> 138 | W9: =[1]出生数!Z8 -> 139 | X9: =[1]出生数!AA8 -> 138 | Y9: =[1]出生数!AB8 -> 143 | ... AD9: =[1]出生数!AG8 -> 132
A10: 厚別 | B10: ='月・区別，22週以後－早期新生児別周産期死亡数'!B10/('月・区別，22週以後－早期新生児別周産期死亡数'!B22+'月・区別，22週以後－早期新生児別周産期死亡率'!Q10)*1000 -> 0 | C10: ='月・区別，22週以後－早期新生児別周産期死亡数'!C10/('月・区別，22週以後－早期新生児別周産期死亡数'!C22+'月・区別，22週以後－早期新生児別周産期死亡率'!R10)*1000 -> 0 | D10: ='月・区別，22週以後－早期新生児別周産期死亡数'!D10/('月・区別，22週以後－早期新生児別周産期死亡数'!D22+'月・区別，22週以後－早期新生児別周産期死亡率'!S10)*1000 -> 0 | E10: ='月・区別，22週以後－早期新生児別周産期死亡数'!E10/('月・区別，22週以後－早期新生児別周産期死亡数'!E22+'月・区別，22週以後－早期新生児別周産期死亡率'!T10)*1000 -> 0 | F10: ='月・区別，22週以後－早期新生児別周産期死亡数'!F10/('月・区別，22週以後－早期新生児別周産期死亡数'!F22+'月・区別，22週以後－早期新生児別周産期死亡率'!U10)*1000 -> 0 | G10: ='月・区別，22週以後－早期新生児別周産期死亡数'!G10/('月・区別，22週以後－早期新生児別周産期死亡数'!G22+'月・区別，22週以後－早期新生児別周産期死亡率'!V10)*1000 -> 0 | H10: ='月・区別，22週以後－早期新生児別周産期死亡数'!H10/('月・区別，22週以後－早期新生児別周産期死亡数'!H22+'月・区別，22週以後－早期新生児別周産期死亡率'!W10)*1000 -> 0 | I10: ='月・区別，22週以後－早期新生児別周産期死亡数'!I10/('月・区別，22週以後－早期新生児別周産期死亡数'!I22+'月・区別，22週以後－早期新生児別周産期死亡率'!X10)*1000 -> 0 | ... N10: ='月・区別，22週以後－早期新生児別周産期死亡数'!N10/('月・区別，22週以後－早期新生児別周産期死亡数'!N22+'月・区別，22週以後－早期新生児別周産期死亡率'!AC10)*1000 -> 0 | Q10: =[1]出生数!G9 -> 661 | R10: =[1]出生数!U9 -> 55 | S10: =[1]出生数!V9 -> 53 | T10: =[1]出生数!W9 -> 53 | U10: =[1]出生数!X9 -> 50 | V10: =[1]出生数!Y9 -> 60 | W10: =[1]出生数!Z9 -> 41 | X10: =[1]出生数!AA9 -> 50 | Y10: =[1]出生数!AB9 -> 48 | ... AD10: =[1]出生数!AG9 -> 54
A11: 豊平 | B11: ='月・区別，22週以後－早期新生児別周産期死亡数'!B11/('月・区別，22週以後－早期新生児別周産期死亡数'!B23+'月・区別，22週以後－早期新生児別周産期死亡率'!Q11)*1000 -> 0 | C11: ='月・区別，22週以後－早期新生児別周産期死亡数'!C11/('月・区別，22週以後－早期新生児別周産期死亡数'!C23+'月・区別，22週以後－早期新生児別周産期死亡率'!R11)*1000 -> 0 | D11: ='月・区別，22週以後－早期新生児別周産期死亡数'!D11/('月・区別，22週以後－早期新生児別周産期死亡数'!D23+'月・区別，22週以後－早期新生児別周産期死亡率'!S11)*1000 -> 0 | E11: ='月・区別，22週以後－早期新生児別周産期死亡数'!E11/('月・区別，22週以後－早期新生児別周産期死亡数'!E23+'月・区別，22週以後－早期新生児別周産期死亡率'!T11)*1000 -> 0 | F11: ='月・区別，22週以後－早期新生児別周産期死亡数'!F11/('月・区別，22週以後－早期新生児別周産期死亡数'!F23+'月・区別，22週以後－早期新生児別周産期死亡率'!U11)*1000 -> 0 | G11: ='月・区別，22週以後－早期新生児別周産期死亡数'!G11/('月・区別，22週以後－早期新生児別周産期死亡数'!G23+'月・区別，22週以後－早期新生児別周産期死亡率'!V11)*1000 -> 0 | H11: ='月・区別，22週以後－早期新生児別周産期死亡数'!H11/('月・区別，22週以後－早期新生児別周産期死亡数'!H23+'月・区別，22週以後－早期新生児別周産期死亡率'!W11)*1000 -> 0 | I11: ='月・区別，22週以後－早期新生児別周産期死亡数'!I11/('月・区別，22週以後－早期新生児別周産期死亡数'!I23+'月・区別，22週以後－早期新生児別周産期死亡率'!X11)*1000 -> 0 | ... N11: ='月・区別，22週以後－早期新生児別周産期死亡数'!N11/('月・区別，22週以後－早期新生児別周産期死亡数'!N23+'月・区別，22週以後－早期新生児別周産期死亡率'!AC11)*1000 -> 0 | Q11: =[1]出生数!G10 -> 1682 | R11: =[1]出生数!U10 -> 154 | S11: =[1]出生数!V10 -> 169 | T11: =[1]出生数!W10 -> 154 | U11: =[1]出生数!X10 -> 141 | V11: =[1]出生数!Y10 -> 134 | W11: =[1]出生数!Z10 -> 132 | X11: =[1]出生数!AA10 -> 142 | Y11: =[1]出生数!AB10 -> 143 | ... AD11: =[1]出生数!AG10 -> 124
A12: 清田 | B12: ='月・区別，22週以後－早期新生児別周産期死亡数'!B12/('月・区別，22週以後－早期新生児別周産期死亡数'!B24+'月・区別，22週以後－早期新生児別周産期死亡率'!Q12)*1000 -> 0 | C12: ='月・区別，22週以後－早期新生児別周産期死亡数'!C12/('月・区別，22週以後－早期新生児別周産期死亡数'!C24+'月・区別，22週以後－早期新生児別周産期死亡率'!R12)*1000 -> 0 | D12: ='月・区別，22週以後－早期新生児別周産期死亡数'!D12/('月・区別，22週以後－早期新生児別周産期死亡数'!D24+'月・区別，22週以後－早期新生児別周産期死亡率'!S12)*1000 -> 0 | E12: ='月・区別，22週以後－早期新生児別周産期死亡数'!E12/('月・区別，22週以後－早期新生児別周産期死亡数'!E24+'月・区別，22週以後－早期新生児別周産期死亡率'!T12)*1000 -> 0 | F12: ='月・区別，22週以後－早期新生児別周産期死亡数'!F12/('月・区別，22週以後－早期新生児別周産期死亡数'!F24+'月・区別，22週以後－早期新生児別周産期死亡率'!U12)*1000 -> 0 | G12: ='月・区別，22週以後－早期新生児別周産期死亡数'!G12/('月・区別，22週以後－早期新生児別周産期死亡数'!G24+'月・区別，22週以後－早期新生児別周産期死亡率'!V12)*1000 -> 0 | H12: ='月・区別，22週以後－早期新生児別周産期死亡数'!H12/('月・区別，22週以後－早期新生児別周産期死亡数'!H24+'月・区別，22週以後－早期新生児別周産期死亡率'!W12)*1000 -> 0 | I12: ='月・区別，22週以後－早期新生児別周産期死亡数'!I12/('月・区別，22週以後－早期新生児別周産期死亡数'!I24+'月・区別，22週以後－早期新生児別周産期死亡率'!X12)*1000 -> 0 | ... N12: ='月・区別，22週以後－早期新生児別周産期死亡数'!N12/('月・区別，22週以後－早期新生児別周産期死亡数'!N24+'月・区別，22週以後－早期新生児別周産期死亡率'!AC12)*1000 -> 0 | Q12: =[1]出生数!G11 -> 644 | R12: =[1]出生数!U11 -> 44 | S12: =[1]出生数!V11 -> 52 | T12: =[1]出生数!W11 -> 61 | U12: =[1]出生数!X11 -> 57 | V12: =[1]出生数!Y11 -> 49 | W12: =[1]出生数!Z11 -> 56 | X12: =[1]出生数!AA11 -> 67 | Y12: =[1]出生数!AB11 -> 42 | ... AD12: =[1]出生数!AG11 -> 54
A13: 南 | B13: ='月・区別，22週以後－早期新生児別周産期死亡数'!B13/('月・区別，22週以後－早期新生児別周産期死亡数'!B25+'月・区別，22週以後－早期新生児別周産期死亡率'!Q13)*1000 -> 0 | C13: ='月・区別，22週以後－早期新生児別周産期死亡数'!C13/('月・区別，22週以後－早期新生児別周産期死亡数'!C25+'月・区別，22週以後－早期新生児別周産期死亡率'!R13)*1000 -> 0 | D13: ='月・区別，22週以後－早期新生児別周産期死亡数'!D13/('月・区別，22週以後－早期新生児別周産期死亡数'!D25+'月・区別，22週以後－早期新生児別周産期死亡率'!S13)*1000 -> 0 | E13: ='月・区別，22週以後－早期新生児別周産期死亡数'!E13/('月・区別，22週以後－早期新生児別周産期死亡数'!E25+'月・区別，22週以後－早期新生児別周産期死亡率'!T13)*1000 -> 0 | F13: ='月・区別，22週以後－早期新生児別周産期死亡数'!F13/('月・区別，22週以後－早期新生児別周産期死亡数'!F25+'月・区別，22週以後－早期新生児別周産期死亡率'!U13)*1000 -> 0 | G13: ='月・区別，22週以後－早期新生児別周産期死亡数'!G13/('月・区別，22週以後－早期新生児別周産期死亡数'!G25+'月・区別，22週以後－早期新生児別周産期死亡率'!V13)*1000 -> 0 | H13: ='月・区別，22週以後－早期新生児別周産期死亡数'!H13/('月・区別，22週以後－早期新生児別周産期死亡数'!H25+'月・区別，22週以後－早期新生児別周産期死亡率'!W13)*1000 -> 0 | I13: ='月・区別，22週以後－早期新生児別周産期死亡数'!I13/('月・区別，22週以後－早期新生児別周産期死亡数'!I25+'月・区別，22週以後－早期新生児別周産期死亡率'!X13)*1000 -> 0 | ... N13: ='月・区別，22週以後－早期新生児別周産期死亡数'!N13/('月・区別，22週以後－早期新生児別周産期死亡数'!N25+'月・区別，22週以後－早期新生児別周産期死亡率'!AC13)*1000 -> 0 | Q13: =[1]出生数!G12 -> 642 | R13: =[1]出生数!U12 -> 70 | S13: =[1]出生数!V12 -> 44 | T13: =[1]出生数!W12 -> 44 | U13: =[1]出生数!X12 -> 62 | V13: =[1]出生数!Y12 -> 47 | W13: =[1]出生数!Z12 -> 53 | X13: =[1]出生数!AA12 -> 57 | Y13: =[1]出生数!AB12 -> 64 | ... AD13: =[1]出生数!AG12 -> 61
A14: 西 | B14: ='月・区別，22週以後－早期新生児別周産期死亡数'!B14/('月・区別，22週以後－早期新生児別周産期死亡数'!B26+'月・区別，22週以後－早期新生児別周産期死亡率'!Q14)*1000 -> 0 | C14: ='月・区別，22週以後－早期新生児別周産期死亡数'!C14/('月・区別，22週以後－早期新生児別周産期死亡数'!C26+'月・区別，22週以後－早期新生児別周産期死亡率'!R14)*1000 -> 0 | D14: ='月・区別，22週以後－早期新生児別周産期死亡数'!D14/('月・区別，22週以後－早期新生児別周産期死亡数'!D26+'月・区別，22週以後－早期新生児別周産期死亡率'!S14)*1000 -> 0 | E14: ='月・区別，22週以後－早期新生児別周産期死亡数'!E14/('月・区別，22週以後－早期新生児別周産期死亡数'!E26+'月・区別，22週以後－早期新生児別周産期死亡率'!T14)*1000 -> 0 | F14: ='月・区別，22週以後－早期新生児別周産期死亡数'!F14/('月・区別，22週以後－早期新生児別周産期死亡数'!F26+'月・区別，22週以後－早期新生児別周産期死亡率'!U14)*1000 -> 0 | G14: ='月・区別，22週以後－早期新生児別周産期死亡数'!G14/('月・区別，22週以後－早期新生児別周産期死亡数'!G26+'月・区別，22週以後－早期新生児別周産期死亡率'!V14)*1000 -> 0 | H14: ='月・区別，22週以後－早期新生児別周産期死亡数'!H14/('月・区別，22週以後－早期新生児別周産期死亡数'!H26+'月・区別，22週以後－早期新生児別周産期死亡率'!W14)*1000 -> 0 | I14: ='月・区別，22週以後－早期新生児別周産期死亡数'!I14/('月・区別，22週以後－早期新生児別周産期死亡数'!I26+'月・区別，22週以後－早期新生児別周産期死亡率'!X14)*1000 -> 0 | ... N14: ='月・区別，22週以後－早期新生児別周産期死亡数'!N14/('月・区別，22週以後－早期新生児別周産期死亡数'!N26+'月・区別，22週以後－早期新生児別周産期死亡率'!AC14)*1000 -> 0 | Q14: =[1]出生数!G13 -> 1530 | R14: =[1]出生数!U13 -> 145 | S14: =[1]出生数!V13 -> 133 | T14: =[1]出生数!W13 -> 113 | U14: =[1]出生数!X13 -> 120 | V14: =[1]出生数!Y13 -> 123 | W14: =[1]出生数!Z13 -> 143 | X14: =[1]出生数!AA13 -> 134 | Y14: =[1]出生数!AB13 -> 145 | ... AD14: =[1]出生数!AG13 -> 113
A15: 手稲 | B15: ='月・区別，22週以後－早期新生児別周産期死亡数'!B15/('月・区別，22週以後－早期新生児別周産期死亡数'!B27+'月・区別，22週以後－早期新生児別周産期死亡率'!Q15)*1000 -> 0 | C15: ='月・区別，22週以後－早期新生児別周産期死亡数'!C15/('月・区別，22週以後－早期新生児別周産期死亡数'!C27+'月・区別，22週以後－早期新生児別周産期死亡率'!R15)*1000 -> 0 | D15: ='月・区別，22週以後－早期新生児別周産期死亡数'!D15/('月・区別，22週以後－早期新生児別周産期死亡数'!D27+'月・区別，22週以後－早期新生児別周産期死亡率'!S15)*1000 -> 0 | E15: ='月・区別，22週以後－早期新生児別周産期死亡数'!E15/('月・区別，22週以後－早期新生児別周産期死亡数'!E27+'月・区別，22週以後－早期新生児別周産期死亡率'!T15)*1000 -> 0 | F15: ='月・区別，22週以後－早期新生児別周産期死亡数'!F15/('月・区別，22週以後－早期新生児別周産期死亡数'!F27+'月・区別，22週以後－早期新生児別周産期死亡率'!U15)*1000 -> 0 | G15: ='月・区別，22週以後－早期新生児別周産期死亡数'!G15/('月・区別，22週以後－早期新生児別周産期死亡数'!G27+'月・区別，22週以後－早期新生児別周産期死亡率'!V15)*1000 -> 0 | H15: ='月・区別，22週以後－早期新生児別周産期死亡数'!H15/('月・区別，22週以後－早期新生児別周産期死亡数'!H27+'月・区別，22週以後－早期新生児別周産期死亡率'!W15)*1000 -> 0 | I15: ='月・区別，22週以後－早期新生児別周産期死亡数'!I15/('月・区別，22週以後－早期新生児別周産期死亡数'!I27+'月・区別，22週以後－早期新生児別周産期死亡率'!X15)*1000 -> 0 | ... N15: ='月・区別，22週以後－早期新生児別周産期死亡数'!N15/('月・区別，22週以後－早期新生児別周産期死亡数'!N27+'月・区別，22週以後－早期新生児別周産期死亡率'!AC15)*1000 -> 0 | Q15: =[1]出生数!G14 -> 809 | R15: =[1]出生数!U14 -> 75 | S15: =[1]出生数!V14 -> 67 | T15: =[1]出生数!W14 -> 71 | U15: =[1]出生数!X14 -> 77 | V15: =[1]出生数!Y14 -> 75 | W15: =[1]出生数!Z14 -> 73 | X15: =[1]出生数!AA14 -> 48 | Y15: =[1]出生数!AB14 -> 64 | ... AD15: =[1]出生数!AG14 -> 52
B16: 妊娠満22週以後の死産率(出産千対）
A17: 総数 | B17: ='月・区別，22週以後－早期新生児別周産期死亡数'!B17/('月・区別，22週以後－早期新生児別周産期死亡数'!B17+'月・区別，22週以後－早期新生児別周産期死亡率'!Q5)*1000 -> 0 | C17: ='月・区別，22週以後－早期新生児別周産期死亡数'!C17/('月・区別，22週以後－早期新生児別周産期死亡数'!C17+'月・区別，22週以後－早期新生児別周産期死亡率'!R5)*1000 -> 0 | D17: ='月・区別，22週以後－早期新生児別周産期死亡数'!D17/('月・区別，22週以後－早期新生児別周産期死亡数'!D17+'月・区別，22週以後－早期新生児別周産期死亡率'!S5)*1000 -> 0 | E17: ='月・区別，22週以後－早期新生児別周産期死亡数'!E17/('月・区別，22週以後－早期新生児別周産期死亡数'!E17+'月・区別，22週以後－早期新生児別周産期死亡率'!T5)*1000 -> 0 | F17: ='月・区別，22週以後－早期新生児別周産期死亡数'!F17/('月・区別，22週以後－早期新生児別周産期死亡数'!F17+'月・区別，22週以後－早期新生児別周産期死亡率'!U5)*1000 -> 0 | G17: ='月・区別，22週以後－早期新生児別周産期死亡数'!G17/('月・区別，22週以後－早期新生児別周産期死亡数'!G17+'月・区別，22週以後－早期新生児別周産期死亡率'!V5)*1000 -> 0 | H17: ='月・区別，22週以後－早期新生児別周産期死亡数'!H17/('月・区別，22週以後－早期新生児別周産期死亡数'!H17+'月・区別，22週以後－早期新生児別周産期死亡率'!W5)*1000 -> 0 | I17: ='月・区別，22週以後－早期新生児別周産期死亡数'!I17/('月・区別，22週以後－早期新生児別周産期死亡数'!I17+'月・区別，22週以後－早期新生児別周産期死亡率'!X5)*1000 -> 0 | ... N17: ='月・区別，22週以後－早期新生児別周産期死亡数'!N17/('月・区別，22週以後－早期新生児別周産期死亡数'!N17+'月・区別，22週以後－早期新生児別周産期死亡率'!AC5)*1000 -> 0
A18: 中央 | B18: ='月・区別，22週以後－早期新生児別周産期死亡数'!B18/('月・区別，22週以後－早期新生児別周産期死亡数'!B18+'月・区別，22週以後－早期新生児別周産期死亡率'!Q6)*1000 -> 0 | C18: ='月・区別，22週以後－早期新生児別周産期死亡数'!C18/('月・区別，22週以後－早期新生児別周産期死亡数'!C18+'月・区別，22週以後－早期新生児別周産期死亡率'!R6)*1000 -> 0 | D18: ='月・区別，22週以後－早期新生児別周産期死亡数'!D18/('月・区別，22週以後－早期新生児別周産期死亡数'!D18+'月・区別，22週以後－早期新生児別周産期死亡率'!S6)*1000 -> 0 | E18: ='月・区別，22週以後－早期新生児別周産期死亡数'!E18/('月・区別，22週以後－早期新生児別周産期死亡数'!E18+'月・区別，22週以後－早期新生児別周産期死亡率'!T6)*1000 -> 0 | F18: ='月・区別，22週以後－早期新生児別周産期死亡数'!F18/('月・区別，22週以後－早期新生児別周産期死亡数'!F18+'月・区別，22週以後－早期新生児別周産期死亡率'!U6)*1000 -> 0 | G18: ='月・区別，22週以後－早期新生児別周産期死亡数'!G18/('月・区別，22週以後－早期新生児別周産期死亡数'!G18+'月・区別，22週以後－早期新生児別周産期死亡率'!V6)*1000 -> 0 | H18: ='月・区別，22週以後－早期新生児別周産期死亡数'!H18/('月・区別，22週以後－早期新生児別周産期死亡数'!H18+'月・区別，22週以後－早期新生児別周産期死亡率'!W6)*1000 -> 0 | I18: ='月・区別，22週以後－早期新生児別周産期死亡数'!I18/('月・区別，22週以後－早期新生児別周産期死亡数'!I18+'月・区別，22週以後－早期新生児別周産期死亡率'!X6)*1000 -> 0 | ... N18: ='月・区別，22週以後－早期新生児別周産期死亡数'!N18/('月・区別，22週以後－早期新生児別周産期死亡数'!N18+'月・区別，22週以後－早期新生児別周産期死亡率'!AC6)*1000 -> 0
A19: 北 | B19: ='月・区別，22週以後－早期新生児別周産期死亡数'!B19/('月・区別，22週以後－早期新生児別周産期死亡数'!B19+'月・区別，22週以後－早期新生児別周産期死亡率'!Q7)*1000 -> 0 | C19: ='月・区別，22週以後－早期新生児別周産期死亡数'!C19/('月・区別，22週以後－早期新生児別周産期死亡数'!C19+'月・区別，22週以後－早期新生児別周産期死亡率'!R7)*1000 -> 0 | D19: ='月・区別，22週以後－早期新生児別周産期死亡数'!D19/('月・区別，22週以後－早期新生児別周産期死亡数'!D19+'月・区別，22週以後－早期新生児別周産期死亡率'!S7)*1000 -> 0 | E19: ='月・区別，22週以後－早期新生児別周産期死亡数'!E19/('月・区別，22週以後－早期新生児別周産期死亡数'!E19+'月・区別，22週以後－早期新生児別周産期死亡率'!T7)*1000 -> 0 | F19: ='月・区別，22週以後－早期新生児別周産期死亡数'!F19/('月・区別，22週以後－早期新生児別周産期死亡数'!F19+'月・区別，22週以後－早期新生児別周産期死亡率'!U7)*1000 -> 0 | G19: ='月・区別，22週以後－早期新生児別周産期死亡数'!G19/('月・区別，22週以後－早期新生児別周産期死亡数'!G19+'月・区別，22週以後－早期新生児別周産期死亡率'!V7)*1000 -> 0 | H19: ='月・区別，22週以後－早期新生児別周産期死亡数'!H19/('月・区別，22週以後－早期新生児別周産期死亡数'!H19+'月・区別，22週以後－早期新生児別周産期死亡率'!W7)*1000 -> 0 | I19: ='月・区別，22週以後－早期新生児別周産期死亡数'!I19/('月・区別，22週以後－早期新生児別周産期死亡数'!I19+'月・区別，22週以後－早期新生児別周産期死亡率'!X7)*1000 -> 0 | ... N19: ='月・区別，22週以後－早期新生児別周産期死亡数'!N19/('月・区別，22週以後－早期新生児別周産期死亡数'!N19+'月・区別，22週以後－早期新生児別周産期死亡率'!AC7)*1000 -> 0
A20: 東 | B20: ='月・区別，22週以後－早期新生児別周産期死亡数'!B20/('月・区別，22週以後－早期新生児別周産期死亡数'!B20+'月・区別，22週以後－早期新生児別周産期死亡率'!Q8)*1000 -> 0 | C20: ='月・区別，22週以後－早期新生児別周産期死亡数'!C20/('月・区別，22週以後－早期新生児別周産期死亡数'!C20+'月・区別，22週以後－早期新生児別周産期死亡率'!R8)*1000 -> 0 | D20: ='月・区別，22週以後－早期新生児別周産期死亡数'!D20/('月・区別，22週以後－早期新生児別周産期死亡数'!D20+'月・区別，22週以後－早期新生児別周産期死亡率'!S8)*1000 -> 0 | E20: ='月・区別，22週以後－早期新生児別周産期死亡数'!E20/('月・区別，22週以後－早期新生児別周産期死亡数'!E20+'月・区別，22週以後－早期新生児別周産期死亡率'!T8)*1000 -> 0 | F20: ='月・区別，22週以後－早期新生児別周産期死亡数'!F20/('月・区別，22週以後－早期新生児別周産期死亡数'!F20+'月・区別，22週以後－早期新生児別周産期死亡率'!U8)*1000 -> 0 | G20: ='月・区別，22週以後－早期新生児別周産期死亡数'!G20/('月・区別，22週以後－早期新生児別周産期死亡数'!G20+'月・区別，22週以後－早期新生児別周産期死亡率'!V8)*1000 -> 0 | H20: ='月・区別，22週以後－早期新生児別周産期死亡数'!H20/('月・区別，22週以後－早期新生児別周産期死亡数'!H20+'月・区別，22週以後－早期新生児別周産期死亡率'!W8)*1000 -> 0 | I20: ='月・区別，22週以後－早期新生児別周産期死亡数'!I20/('月・区別，22週以後－早期新生児別周産期死亡数'!I20+'月・区別，22週以後－早期新生児別周産期死亡率'!X8)*1000 -> 0 | ... N20: ='月・区別，22週以後－早期新生児別周産期死亡数'!N20/('月・区別，22週以後－早期新生児別周産期死亡数'!N20+'月・区別，22週以後－早期新生児別周産期死亡率'!AC8)*1000 -> 0
A21: 白石 | B21: ='月・区別，22週以後－早期新生児別周産期死亡数'!B21/('月・区別，22週以後－早期新生児別周産期死亡数'!B21+'月・区別，22週以後－早期新生児別周産期死亡率'!Q9)*1000 -> 0 | C21: ='月・区別，22週以後－早期新生児別周産期死亡数'!C21/('月・区別，22週以後－早期新生児別周産期死亡数'!C21+'月・区別，22週以後－早期新生児別周産期死亡率'!R9)*1000 -> 0 | D21: ='月・区別，22週以後－早期新生児別周産期死亡数'!D21/('月・区別，22週以後－早期新生児別周産期死亡数'!D21+'月・区別，22週以後－早期新生児別周産期死亡率'!S9)*1000 -> 0 | E21: ='月・区別，22週以後－早期新生児別周産期死亡数'!E21/('月・区別，22週以後－早期新生児別周産期死亡数'!E21+'月・区別，22週以後－早期新生児別周産期死亡率'!T9)*1000 -> 0 | F21: ='月・区別，22週以後－早期新生児別周産期死亡数'!F21/('月・区別，22週以後－早期新生児別周産期死亡数'!F21+'月・区別，22週以後－早期新生児別周産期死亡率'!U9)*1000 -> 0 | G21: ='月・区別，22週以後－早期新生児別周産期死亡数'!G21/('月・区別，22週以後－早期新生児別周産期死亡数'!G21+'月・区別，22週以後－早期新生児別周産期死亡率'!V9)*1000 -> 0 | H21: ='月・区別，22週以後－早期新生児別周産期死亡数'!H21/('月・区別，22週以後－早期新生児別周産期死亡数'!H21+'月・区別，22週以後－早期新生児別周産期死亡率'!W9)*1000 -> 0 | I21: ='月・区別，22週以後－早期新生児別周産期死亡数'!I21/('月・区別，22週以後－早期新生児別周産期死亡数'!I21+'月・区別，22週以後－早期新生児別周産期死亡率'!X9)*1000 -> 0 | ... N21: ='月・区別，22週以後－早期新生児別周産期死亡数'!N21/('月・区別，22週以後－早期新生児別周産期死亡数'!N21+'月・区別，22週以後－早期新生児別周産期死亡率'!AC9)*1000 -> 0
A22: 厚別 | B22: ='月・区別，22週以後－早期新生児別周産期死亡数'!B22/('月・区別，22週以後－早期新生児別周産期死亡数'!B22+'月・区別，22週以後－早期新生児別周産期死亡率'!Q10)*1000 -> 0 | C22: ='月・区別，22週以後－早期新生児別周産期死亡数'!C22/('月・区別，22週以後－早期新生児別周産期死亡数'!C22+'月・区別，22週以後－早期新生児別周産期死亡率'!R10)*1000 -> 0 | D22: ='月・区別，22週以後－早期新生児別周産期死亡数'!D22/('月・区別，22週以後－早期新生児別周産期死亡数'!D22+'月・区別，22週以後－早期新生児別周産期死亡率'!S10)*1000 -> 0 | E22: ='月・区別，22週以後－早期新生児別周産期死亡数'!E22/('月・区別，22週以後－早期新生児別周産期死亡数'!E22+'月・区別，22週以後－早期新生児別周産期死亡率'!T10)*1000 -> 0 | F22: ='月・区別，22週以後－早期新生児別周産期死亡数'!F22/('月・区別，22週以後－早期新生児別周産期死亡数'!F22+'月・区別，22週以後－早期新生児別周産期死亡率'!U10)*1000 -> 0 | G22: ='月・区別，22週以後－早期新生児別周産期死亡数'!G22/('月・区別，22週以後－早期新生児別周産期死亡数'!G22+'月・区別，22週以後－早期新生児別周産期死亡率'!V10)*1000 -> 0 | H22: ='月・区別，22週以後－早期新生児別周産期死亡数'!H22/('月・区別，22週以後－早期新生児別周産期死亡数'!H22+'月・区別，22週以後－早期新生児別周産期死亡率'!W10)*1000 -> 0 | I22: ='月・区別，22週以後－早期新生児別周産期死亡数'!I22/('月・区別，22週以後－早期新生児別周産期死亡数'!I22+'月・区別，22週以後－早期新生児別周産期死亡率'!X10)*1000 -> 0 | ... N22: ='月・区別，22週以後－早期新生児別周産期死亡数'!N22/('月・区別，22週以後－早期新生児別周産期死亡数'!N22+'月・区別，22週以後－早期新生児別周産期死亡率'!AC10)*1000 -> 0
A23: 豊平 | B23: ='月・区別，22週以後－早期新生児別周産期死亡数'!B23/('月・区別，22週以後－早期新生児別周産期死亡数'!B23+'月・区別，22週以後－早期新生児別周産期死亡率'!Q11)*1000 -> 0 | C23: ='月・区別，22週以後－早期新生児別周産期死亡数'!C23/('月・区別，22週以後－早期新生児別周産期死亡数'!C23+'月・区別，22週以後－早期新生児別周産期死亡率'!R11)*1000 -> 0 | D23: ='月・区別，22週以後－早期新生児別周産期死亡数'!D23/('月・区別，22週以後－早期新生児別周産期死亡数'!D23+'月・区別，22週以後－早期新生児別周産期死亡率'!S11)*1000 -> 0 | E23: ='月・区別，22週以後－早期新生児別周産期死亡数'!E23/('月・区別，22週以後－早期新生児別周産期死亡数'!E23+'月・区別，22週以後－早期新生児別周産期死亡率'!T11)*1000 -> 0 | F23: ='月・区別，22週以後－早期新生児別周産期死亡数'!F23/('月・区別，22週以後－早期新生児別周産期死亡数'!F23+'月・区別，22週以後－早期新生児別周産期死亡率'!U11)*1000 -> 0 | G23: ='月・区別，22週以後－早期新生児別周産期死亡数'!G23/('月・区別，22週以後－早期新生児別周産期死亡数'!G23+'月・区別，22週以後－早期新生児別周産期死亡率'!V11)*1000 -> 0 | H23: ='月・区別，22週以後－早期新生児別周産期死亡数'!H23/('月・区別，22週以後－早期新生児別周産期死亡数'!H23+'月・区別，22週以後－早期新生児別周産期死亡率'!W11)*1000 -> 0 | I23: ='月・区別，22週以後－早期新生児別周産期死亡数'!I23/('月・区別，22週以後－早期新生児別周産期死亡数'!I23+'月・区別，22週以後－早期新生児別周産期死亡率'!X11)*1000 -> 0 | ... N23: ='月・区別，22週以後－早期新生児別周産期死亡数'!N23/('月・区別，22週以後－早期新生児別周産期死亡数'!N23+'月・区別，22週以後－早期新生児別周産期死亡率'!AC11)*1000 -> 0
A24: 清田 | B24: ='月・区別，22週以後－早期新生児別周産期死亡数'!B24/('月・区別，22週以後－早期新生児別周産期死亡数'!B24+'月・区別，22週以後－早期新生児別周産期死亡率'!Q12)*1000 -> 0 | C24: ='月・区別，22週以後－早期新生児別周産期死亡数'!C24/('月・区別，22週以後－早期新生児別周産期死亡数'!C24+'月・区別，22週以後－早期新生児別周産期死亡率'!R12)*1000 -> 0 | D24: ='月・区別，22週以後－早期新生児別周産期死亡数'!D24/('月・区別，22週以後－早期新生児別周産期死亡数'!D24+'月・区別，22週以後－早期新生児別周産期死亡率'!S12)*1000 -> 0 | E24: ='月・区別，22週以後－早期新生児別周産期死亡数'!E24/('月・区別，22週以後－早期新生児別周産期死亡数'!E24+'月・区別，22週以後－早期新生児別周産期死亡率'!T12)*1000 -> 0 | F24: ='月・区別，22週以後－早期新生児別周産期死亡数'!F24/('月・区別，22週以後－早期新生児別周産期死亡数'!F24+'月・区別，22週以後－早期新生児別周産期死亡率'!U12)*1000 -> 0 | G24: ='月・区別，22週以後－早期新生児別周産期死亡数'!G24/('月・区別，22週以後－早期新生児別周産期死亡数'!G24+'月・区別，22週以後－早期新生児別周産期死亡率'!V12)*1000 -> 0 | H24: ='月・区別，22週以後－早期新生児別周産期死亡数'!H24/('月・区別，22週以後－早期新生児別周産期死亡数'!H24+'月・区別，22週以後－早期新生児別周産期死亡率'!W12)*1000 -> 0 | I24: ='月・区別，22週以後－早期新生児別周産期死亡数'!I24/('月・区別，22週以後－早期新生児別周産期死亡数'!I24+'月・区別，22週以後－早期新生児別周産期死亡率'!X12)*1000 -> 0 | ... N24: ='月・区別，22週以後－早期新生児別周産期死亡数'!N24/('月・区別，22週以後－早期新生児別周産期死亡数'!N24+'月・区別，22週以後－早期新生児別周産期死亡率'!AC12)*1000 -> 0
A25: 南 | B25: ='月・区別，22週以後－早期新生児別周産期死亡数'!B25/('月・区別，22週以後－早期新生児別周産期死亡数'!B25+'月・区別，22週以後－早期新生児別周産期死亡率'!Q13)*1000 -> 0 | C25: ='月・区別，22週以後－早期新生児別周産期死亡数'!C25/('月・区別，22週以後－早期新生児別周産期死亡数'!C25+'月・区別，22週以後－早期新生児別周産期死亡率'!R13)*1000 -> 0 | D25: ='月・区別，22週以後－早期新生児別周産期死亡数'!D25/('月・区別，22週以後－早期新生児別周産期死亡数'!D25+'月・区別，22週以後－早期新生児別周産期死亡率'!S13)*1000 -> 0 | E25: ='月・区別，22週以後－早期新生児別周産期死亡数'!E25/('月・区別，22週以後－早期新生児別周産期死亡数'!E25+'月・区別，22週以後－早期新生児別周産期死亡率'!T13)*1000 -> 0 | F25: ='月・区別，22週以後－早期新生児別周産期死亡数'!F25/('月・区別，22週以後－早期新生児別周産期死亡数'!F25+'月・区別，22週以後－早期新生児別周産期死亡率'!U13)*1000 -> 0 | G25: ='月・区別，22週以後－早期新生児別周産期死亡数'!G25/('月・区別，22週以後－早期新生児別周産期死亡数'!G25+'月・区別，22週以後－早期新生児別周産期死亡率'!V13)*1000 -> 0 | H25: ='月・区別，22週以後－早期新生児別周産期死亡数'!H25/('月・区別，22週以後－早期新生児別周産期死亡数'!H25+'月・区別，22週以後－早期新生児別周産期死亡率'!W13)*1000 -> 0 | I25: ='月・区別，22週以後－早期新生児別周産期死亡数'!I25/('月・区別，22週以後－早期新生児別周産期死亡数'!I25+'月・区別，22週以後－早期新生児別周産期死亡率'!X13)*1000 -> 0 | ... N25: ='月・区別，22週以後－早期新生児別周産期死亡数'!N25/('月・区別，22週以後－早期新生児別周産期死亡数'!N25+'月・区別，22週以後－早期新生児別周産期死亡率'!AC13)*1000 -> 0
A26: 西 | B26: ='月・区別，22週以後－早期新生児別周産期死亡数'!B26/('月・区別，22週以後－早期新生児別周産期死亡数'!B26+'月・区別，22週以後－早期新生児別周産期死亡率'!Q14)*1000 -> 0 | C26: ='月・区別，22週以後－早期新生児別周産期死亡数'!C26/('月・区別，22週以後－早期新生児別周産期死亡数'!C26+'月・区別，22週以後－早期新生児別周産期死亡率'!R14)*1000 -> 0 | D26: ='月・区別，22週以後－早期新生児別周産期死亡数'!D26/('月・区別，22週以後－早期新生児別周産期死亡数'!D26+'月・区別，22週以後－早期新生児別周産期死亡率'!S14)*1000 -> 0 | E26: ='月・区別，22週以後－早期新生児別周産期死亡数'!E26/('月・区別，22週以後－早期新生児別周産期死亡数'!E26+'月・区別，22週以後－早期新生児別周産期死亡率'!T14)*1000 -> 0 | F26: ='月・区別，22週以後－早期新生児別周産期死亡数'!F26/('月・区別，22週以後－早期新生児別周産期死亡数'!F26+'月・区別，22週以後－早期新生児別周産期死亡率'!U14)*1000 -> 0 | G26: ='月・区別，22週以後－早期新生児別周産期死亡数'!G26/('月・区別，22週以後－早期新生児別周産期死亡数'!G26+'月・区別，22週以後－早期新生児別周産期死亡率'!V14)*1000 -> 0 | H26: ='月・区別，22週以後－早期新生児別周産期死亡数'!H26/('月・区別，22週以後－早期新生児別周産期死亡数'!H26+'月・区別，22週以後－早期新生児別周産期死亡率'!W14)*1000 -> 0 | I26: ='月・区別，22週以後－早期新生児別周産期死亡数'!I26/('月・区別，22週以後－早期新生児別周産期死亡数'!I26+'月・区別，22週以後－早期新生児別周産期死亡率'!X14)*1000 -> 0 | ... N26: ='月・区別，22週以後－早期新生児別周産期死亡数'!N26/('月・区別，22週以後－早期新生児別周産期死亡数'!N26+'月・区別，22週以後－早期新生児別周産期死亡率'!AC14)*1000 -> 0
A27: 手稲 | B27: ='月・区別，22週以後－早期新生児別周産期死亡数'!B27/('月・区別，22週以後－早期新生児別周産期死亡数'!B27+'月・区別，22週以後－早期新生児別周産期死亡率'!Q15)*1000 -> 0 | C27: ='月・区別，22週以後－早期新生児別周産期死亡数'!C27/('月・区別，22週以後－早期新生児別周産期死亡数'!C27+'月・区別，22週以後－早期新生児別周産期死亡率'!R15)*1000 -> 0 | D27: ='月・区別，22週以後－早期新生児別周産期死亡数'!D27/('月・区別，22週以後－早期新生児別周産期死亡数'!D27+'月・区別，22週以後－早期新生児別周産期死亡率'!S15)*1000 -> 0 | E27: ='月・区別，22週以後－早期新生児別周産期死亡数'!E27/('月・区別，22週以後－早期新生児別周産期死亡数'!E27+'月・区別，22週以後－早期新生児別周産期死亡率'!T15)*1000 -> 0 | F27: ='月・区別，22週以後－早期新生児別周産期死亡数'!F27/('月・区別，22週以後－早期新生児別周産期死亡数'!F27+'月・区別，22週以後－早期新生児別周産期死亡率'!U15)*1000 -> 0 | G27: ='月・区別，22週以後－早期新生児別周産期死亡数'!G27/('月・区別，22週以後－早期新生児別周産期死亡数'!G27+'月・区別，22週以後－早期新生児別周産期死亡率'!V15)*1000 -> 0 | H27: ='月・区別，22週以後－早期新生児別周産期死亡数'!H27/('月・区別，22週以後－早期新生児別周産期死亡数'!H27+'月・区別，22週以後－早期新生児別周産期死亡率'!W15)*1000 -> 0 | I27: ='月・区別，22週以後－早期新生児別周産期死亡数'!I27/('月・区別，22週以後－早期新生児別周産期死亡数'!I27+'月・区別，22週以後－早期新生児別周産期死亡率'!X15)*1000 -> 0 | ... N27: ='月・区別，22週以後－早期新生児別周産期死亡数'!N27/('月・区別，22週以後－早期新生児別周産期死亡数'!N27+'月・区別，22週以後－早期新生児別周産期死亡率'!AC15)*1000 -> 0
B28: 早期新生児死亡率(出生千対)
A29: 総数 | B29: ='月・区別，22週以後－早期新生児別周産期死亡数'!B29/'月・区別，22週以後－早期新生児別周産期死亡率'!Q5*1000 -> 0 | C29: ='月・区別，22週以後－早期新生児別周産期死亡数'!C29/'月・区別，22週以後－早期新生児別周産期死亡率'!R5*1000 -> 0 | D29: ='月・区別，22週以後－早期新生児別周産期死亡数'!D29/'月・区別，22週以後－早期新生児別周産期死亡率'!S5*1000 -> 0 | E29: ='月・区別，22週以後－早期新生児別周産期死亡数'!E29/'月・区別，22週以後－早期新生児別周産期死亡率'!T5*1000 -> 0 | F29: ='月・区別，22週以後－早期新生児別周産期死亡数'!F29/'月・区別，22週以後－早期新生児別周産期死亡率'!U5*1000 -> 0 | G29: ='月・区別，22週以後－早期新生児別周産期死亡数'!G29/'月・区別，22週以後－早期新生児別周産期死亡率'!V5*1000 -> 0 | H29: ='月・区別，22週以後－早期新生児別周産期死亡数'!H29/'月・区別，22週以後－早期新生児別周産期死亡率'!W5*1000 -> 0 | I29: ='月・区別，22週以後－早期新生児別周産期死亡数'!I29/'月・区別，22週以後－早期新生児別周産期死亡率'!X5*1000 -> 0 | ... N29: ='月・区別，22週以後－早期新生児別周産期死亡数'!N29/'月・区別，22週以後－早期新生児別周産期死亡率'!AC5*1000 -> 0
A30: 中央 | B30: ='月・区別，22週以後－早期新生児別周産期死亡数'!B30/'月・区別，22週以後－早期新生児別周産期死亡率'!Q6*1000 -> 0 | C30: ='月・区別，22週以後－早期新生児別周産期死亡数'!C30/'月・区別，22週以後－早期新生児別周産期死亡率'!R6*1000 -> 0 | D30: ='月・区別，22週以後－早期新生児別周産期死亡数'!D30/'月・区別，22週以後－早期新生児別周産期死亡率'!S6*1000 -> 0 | E30: ='月・区別，22週以後－早期新生児別周産期死亡数'!E30/'月・区別，22週以後－早期新生児別周産期死亡率'!T6*1000 -> 0 | F30: ='月・区別，22週以後－早期新生児別周産期死亡数'!F30/'月・区別，22週以後－早期新生児別周産期死亡率'!U6*1000 -> 0 | G30: ='月・区別，22週以後－早期新生児別周産期死亡数'!G30/'月・区別，22週以後－早期新生児別周産期死亡率'!V6*1000 -> 0 | H30: ='月・区別，22週以後－早期新生児別周産期死亡数'!H30/'月・区別，22週以後－早期新生児別周産期死亡率'!W6*1000 -> 0 | I30: ='月・区別，22週以後－早期新生児別周産期死亡数'!I30/'月・区別，22週以後－早期新生児別周産期死亡率'!X6*1000 -> 0 | ... N30: ='月・区別，22週以後－早期新生児別周産期死亡数'!N30/'月・区別，22週以後－早期新生児別周産期死亡率'!AC6*1000 -> 0
A31: 北 | B31: ='月・区別，22週以後－早期新生児別周産期死亡数'!B31/'月・区別，22週以後－早期新生児別周産期死亡率'!Q7*1000 -> 0 | C31: ='月・区別，22週以後－早期新生児別周産期死亡数'!C31/'月・区別，22週以後－早期新生児別周産期死亡率'!R7*1000 -> 0 | D31: ='月・区別，22週以後－早期新生児別周産期死亡数'!D31/'月・区別，22週以後－早期新生児別周産期死亡率'!S7*1000 -> 0 | E31: ='月・区別，22週以後－早期新生児別周産期死亡数'!E31/'月・区別，22週以後－早期新生児別周産期死亡率'!T7*1000 -> 0 | F31: ='月・区別，22週以後－早期新生児別周産期死亡数'!F31/'月・区別，22週以後－早期新生児別周産期死亡率'!U7*1000 -> 0 | G31: ='月・区別，22週以後－早期新生児別周産期死亡数'!G31/'月・区別，22週以後－早期新生児別周産期死亡率'!V7*1000 -> 0 | H31: ='月・区別，22週以後－早期新生児別周産期死亡数'!H31/'月・区別，22週以後－早期新生児別周産期死亡率'!W7*1000 -> 0 | I31: ='月・区別，22週以後－早期新生児別周産期死亡数'!I31/'月・区別，22週以後－早期新生児別周産期死亡率'!X7*1000 -> 0 | ... N31: ='月・区別，22週以後－早期新生児別周産期死亡数'!N31/'月・区別，22週以後－早期新生児別周産期死亡率'!AC7*1000 -> 0
A32: 東 | B32: ='月・区別，22週以後－早期新生児別周産期死亡数'!B32/'月・区別，22週以後－早期新生児別周産期死亡率'!Q8*1000 -> 0 | C32: ='月・区別，22週以後－早期新生児別周産期死亡数'!C32/'月・区別，22週以後－早期新生児別周産期死亡率'!R8*1000 -> 0 | D32: ='月・区別，22週以後－早期新生児別周産期死亡数'!D32/'月・区別，22週以後－早期新生児別周産期死亡率'!S8*1000 -> 0 | E32: ='月・区別，22週以後－早期新生児別周産期死亡数'!E32/'月・区別，22週以後－早期新生児別周産期死亡率'!T8*1000 -> 0 | F32: ='月・区別，22週以後－早期新生児別周産期死亡数'!F32/'月・区別，22週以後－早期新生児別周産期死亡率'!U8*1000 -> 0 | G32: ='月・区別，22週以後－早期新生児別周産期死亡数'!G32/'月・区別，22週以後－早期新生児別周産期死亡率'!V8*1000 -> 0 | H32: ='月・区別，22週以後－早期新生児別周産期死亡数'!H32/'月・区別，22週以後－早期新生児別周産期死亡率'!W8*1000 -> 0 | I32: ='月・区別，22週以後－早期新生児別周産期死亡数'!I32/'月・区別，22週以後－早期新生児別周産期死亡率'!X8*1000 -> 0 | ... N32: ='月・区別，22週以後－早期新生児別周産期死亡数'!N32/'月・区別，22週以後－早期新生児別周産期死亡率'!AC8*1000 -> 0
A33: 白石 | B33: ='月・区別，22週以後－早期新生児別周産期死亡数'!B33/'月・区別，22週以後－早期新生児別周産期死亡率'!Q9*1000 -> 0 | C33: ='月・区別，22週以後－早期新生児別周産期死亡数'!C33/'月・区別，22週以後－早期新生児別周産期死亡率'!R9*1000 -> 0 | D33: ='月・区別，22週以後－早期新生児別周産期死亡数'!D33/'月・区別，22週以後－早期新生児別周産期死亡率'!S9*1000 -> 0 | E33: ='月・区別，22週以後－早期新生児別周産期死亡数'!E33/'月・区別，22週以後－早期新生児別周産期死亡率'!T9*1000 -> 0 | F33: ='月・区別，22週以後－早期新生児別周産期死亡数'!F33/'月・区別，22週以後－早期新生児別周産期死亡率'!U9*1000 -> 0 | G33: ='月・区別，22週以後－早期新生児別周産期死亡数'!G33/'月・区別，22週以後－早期新生児別周産期死亡率'!V9*1000 -> 0 | H33: ='月・区別，22週以後－早期新生児別周産期死亡数'!H33/'月・区別，22週以後－早期新生児別周産期死亡率'!W9*1000 -> 0 | I33: ='月・区別，22週以後－早期新生児別周産期死亡数'!I33/'月・区別，22週以後－早期新生児別周産期死亡率'!X9*1000 -> 0 | ... N33: ='月・区別，22週以後－早期新生児別周産期死亡数'!N33/'月・区別，22週以後－早期新生児別周産期死亡率'!AC9*1000 -> 0
A34: 厚別 | B34: ='月・区別，22週以後－早期新生児別周産期死亡数'!B34/'月・区別，22週以後－早期新生児別周産期死亡率'!Q10*1000 -> 0 | C34: ='月・区別，22週以後－早期新生児別周産期死亡数'!C34/'月・区別，22週以後－早期新生児別周産期死亡率'!R10*1000 -> 0 | D34: ='月・区別，22週以後－早期新生児別周産期死亡数'!D34/'月・区別，22週以後－早期新生児別周産期死亡率'!S10*1000 -> 0 | E34: ='月・区別，22週以後－早期新生児別周産期死亡数'!E34/'月・区別，22週以後－早期新生児別周産期死亡率'!T10*1000 -> 0 | F34: ='月・区別，22週以後－早期新生児別周産期死亡数'!F34/'月・区別，22週以後－早期新生児別周産期死亡率'!U10*1000 -> 0 | G34: ='月・区別，22週以後－早期新生児別周産期死亡数'!G34/'月・区別，22週以後－早期新生児別周産期死亡率'!V10*1000 -> 0 | H34: ='月・区別，22週以後－早期新生児別周産期死亡数'!H34/'月・区別，22週以後－早期新生児別周産期死亡率'!W10*1000 -> 0 | I34: ='月・区別，22週以後－早期新生児別周産期死亡数'!I34/'月・区別，22週以後－早期新生児別周産期死亡率'!X10*1000 -> 0 | ... N34: ='月・区別，22週以後－早期新生児別周産期死亡数'!N34/'月・区別，22週以後－早期新生児別周産期死亡率'!AC10*1000 -> 0
A35: 豊平 | B35: ='月・区別，22週以後－早期新生児別周産期死亡数'!B35/'月・区別，22週以後－早期新生児別周産期死亡率'!Q11*1000 -> 0 | C35: ='月・区別，22週以後－早期新生児別周産期死亡数'!C35/'月・区別，22週以後－早期新生児別周産期死亡率'!R11*1000 -> 0 | D35: ='月・区別，22週以後－早期新生児別周産期死亡数'!D35/'月・区別，22週以後－早期新生児別周産期死亡率'!S11*1000 -> 0 | E35: ='月・区別，22週以後－早期新生児別周産期死亡数'!E35/'月・区別，22週以後－早期新生児別周産期死亡率'!T11*1000 -> 0 | F35: ='月・区別，22週以後－早期新生児別周産期死亡数'!F35/'月・区別，22週以後－早期新生児別周産期死亡率'!U11*1000 -> 0 | G35: ='月・区別，22週以後－早期新生児別周産期死亡数'!G35/'月・区別，22週以後－早期新生児別周産期死亡率'!V11*1000 -> 0 | H35: ='月・区別，22週以後－早期新生児別周産期死亡数'!H35/'月・区別，22週以後－早期新生児別周産期死亡率'!W11*1000 -> 0 | I35: ='月・区別，22週以後－早期新生児別周産期死亡数'!I35/'月・区別，22週以後－早期新生児別周産期死亡率'!X11*1000 -> 0 | ... N35: ='月・区別，22週以後－早期新生児別周産期死亡数'!N35/'月・区別，22週以後－早期新生児別周産期死亡率'!AC11*1000 -> 0
A36: 清田 | B36: ='月・区別，22週以後－早期新生児別周産期死亡数'!B36/'月・区別，22週以後－早期新生児別周産期死亡率'!Q12*1000 -> 0 | C36: ='月・区別，22週以後－早期新生児別周産期死亡数'!C36/'月・区別，22週以後－早期新生児別周産期死亡率'!R12*1000 -> 0 | D36: ='月・区別，22週以後－早期新生児別周産期死亡数'!D36/'月・区別，22週以後－早期新生児別周産期死亡率'!S12*1000 -> 0 | E36: ='月・区別，22週以後－早期新生児別周産期死亡数'!E36/'月・区別，22週以後－早期新生児別周産期死亡率'!T12*1000 -> 0 | F36: ='月・区別，22週以後－早期新生児別周産期死亡数'!F36/'月・区別，22週以後－早期新生児別周産期死亡率'!U12*1000 -> 0 | G36: ='月・区別，22週以後－早期新生児別周産期死亡数'!G36/'月・区別，22週以後－早期新生児別周産期死亡率'!V12*1000 -> 0 | H36: ='月・区別，22週以後－早期新生児別周産期死亡数'!H36/'月・区別，22週以後－早期新生児別周産期死亡率'!W12*1000 -> 0 | I36: ='月・区別，22週以後－早期新生児別周産期死亡数'!I36/'月・区別，22週以後－早期新生児別周産期死亡率'!X12*1000 -> 0 | ... N36: ='月・区別，22週以後－早期新生児別周産期死亡数'!N36/'月・区別，22週以後－早期新生児別周産期死亡率'!AC12*1000 -> 0
A37: 南 | B37: ='月・区別，22週以後－早期新生児別周産期死亡数'!B37/'月・区別，22週以後－早期新生児別周産期死亡率'!Q13*1000 -> 0 | C37: ='月・区別，22週以後－早期新生児別周産期死亡数'!C37/'月・区別，22週以後－早期新生児別周産期死亡率'!R13*1000 -> 0 | D37: ='月・区別，22週以後－早期新生児別周産期死亡数'!D37/'月・区別，22週以後－早期新生児別周産期死亡率'!S13*1000 -> 0 | E37: ='月・区別，22週以後－早期新生児別周産期死亡数'!E37/'月・区別，22週以後－早期新生児別周産期死亡率'!T13*1000 -> 0 | F37: ='月・区別，22週以後－早期新生児別周産期死亡数'!F37/'月・区別，22週以後－早期新生児別周産期死亡率'!U13*1000 -> 0 | G37: ='月・区別，22週以後－早期新生児別周産期死亡数'!G37/'月・区別，22週以後－早期新生児別周産期死亡率'!V13*1000 -> 0 | H37: ='月・区別，22週以後－早期新生児別周産期死亡数'!H37/'月・区別，22週以後－早期新生児別周産期死亡率'!W13*1000 -> 0 | I37: ='月・区別，22週以後－早期新生児別周産期死亡数'!I37/'月・区別，22週以後－早期新生児別周産期死亡率'!X13*1000 -> 0 | ... N37: ='月・区別，22週以後－早期新生児別周産期死亡数'!N37/'月・区別，22週以後－早期新生児別周産期死亡率'!AC13*1000 -> 0
A38: 西 | B38: ='月・区別，22週以後－早期新生児別周産期死亡数'!B38/'月・区別，22週以後－早期新生児別周産期死亡率'!Q14*1000 -> 0 | C38: ='月・区別，22週以後－早期新生児別周産期死亡数'!C38/'月・区別，22週以後－早期新生児別周産期死亡率'!R14*1000 -> 0 | D38: ='月・区別，22週以後－早期新生児別周産期死亡数'!D38/'月・区別，22週以後－早期新生児別周産期死亡率'!S14*1000 -> 0 | E38: ='月・区別，22週以後－早期新生児別周産期死亡数'!E38/'月・区別，22週以後－早期新生児別周産期死亡率'!T14*1000 -> 0 | F38: ='月・区別，22週以後－早期新生児別周産期死亡数'!F38/'月・区別，22週以後－早期新生児別周産期死亡率'!U14*1000 -> 0 | G38: ='月・区別，22週以後－早期新生児別周産期死亡数'!G38/'月・区別，22週以後－早期新生児別周産期死亡率'!V14*1000 -> 0 | H38: ='月・区別，22週以後－早期新生児別周産期死亡数'!H38/'月・区別，22週以後－早期新生児別周産期死亡率'!W14*1000 -> 0 | I38: ='月・区別，22週以後－早期新生児別周産期死亡数'!I38/'月・区別，22週以後－早期新生児別周産期死亡率'!X14*1000 -> 0 | ... N38: ='月・区別，22週以後－早期新生児別周産期死亡数'!N38/'月・区別，22週以後－早期新生児別周産期死亡率'!AC14*1000 -> 0
A39: 手稲 | B39: ='月・区別，22週以後－早期新生児別周産期死亡数'!B39/'月・区別，22週以後－早期新生児別周産期死亡率'!Q15*1000 -> 0 | C39: ='月・区別，22週以後－早期新生児別周産期死亡数'!C39/'月・区別，22週以後－早期新生児別周産期死亡率'!R15*1000 -> 0 | D39: ='月・区別，22週以後－早期新生児別周産期死亡数'!D39/'月・区別，22週以後－早期新生児別周産期死亡率'!S15*1000 -> 0 | E39: ='月・区別，22週以後－早期新生児別周産期死亡数'!E39/'月・区別，22週以後－早期新生児別周産期死亡率'!T15*1000 -> 0 | F39: ='月・区別，22週以後－早期新生児別周産期死亡数'!F39/'月・区別，22週以後－早期新生児別周産期死亡率'!U15*1000 -> 0 | G39: ='月・区別，22週以後－早期新生児別周産期死亡数'!G39/'月・区別，22週以後－早期新生児別周産期死亡率'!V15*1000 -> 0 | H39: ='月・区別，22週以後－早期新生児別周産期死亡数'!H39/'月・区別，22週以後－早期新生児別周産期死亡率'!W15*1000 -> 0 | I39: ='月・区別，22週以後－早期新生児別周産期死亡数'!I39/'月・区別，22週以後－早期新生児別周産期死亡率'!X15*1000 -> 0 | ... N39: ='月・区別，22週以後－早期新生児別周産期死亡数'!N39/'月・区別，22週以後－早期新生児別周産期死亡率'!AC15*1000 -> 0
