Workbook

Sheet 1　年次別，出生数・率・性比・合計特殊出生率
A1: 第2章 出 生
A2: 1 年次別にみた出生数・出生率(人口千対)・出生性比及び合計特殊出生率
A4: 年次 | B4: 出生数 | E4: 出生率 | F4: 出生性比 | G4: 合計特殊出生率 2)
B5: 総 数 | C5: 男 | D5: 女
A6: 1950 昭和25年 | B6: 8178 | C6: 4205 | D6: 3973 | E6: 26.057034 | F6: 105.83942 | G6: … | I6: 313850
A7: 55 30 | B7: 7551 | C7: 3928 | D7: 3623 | E7: 17.699592 | F7: 108.41844 | G7: … | I7: 426620
A8: 60 35 | B8: 9392 | C8: 4911 | D8: 4481 | E8: 17.929173 | F8: 109.59607 | G8: 1.7534696 | I8: 523839
A9: 65 40 | B9: 16370 | C9: 8442 | D9: 7928 | E9: 20.593578 | F9: 106.48335 | G9: 1.9272504 | I9: 794908
A10: 70 45 | B10: 20411 | C10: 10502 | D10: 9909 | E10: 20.20645 | F10: 105.98446 | G10: 1.8440916 | I10: 1010123
A11: 72 47 4) | B11: =SUM(C11:D11) -> 22017 | C11: 11356 | D11: 10661 | E11: =B11/I11*1000 -> 20.031808 | F11: =C11/D11*100 -> 106.51909 | G11: … | I11: 1099102
A12: 73 48 | B12: =SUM(C12:D12) -> 23759 | C12: 12199 | D12: 11560 | E12: =B12/I12*1000 -> 20.617385 | F12: =C12/D12*100 -> 105.52768 | G12: … | I12: 1152377
A13: 74 49 | B13: =SUM(C13:D13) -> 24525 | C13: 12609 | D13: 11916 | E13: =B13/I13*1000 -> 20.412019 | F13: =C13/D13*100 -> 105.81571 | G13: 1.8876315 | I13: 1201498
A14: 75 50 | B14: 23404 | C14: 12101 | D14: 11303 | E14: 18.864868 | F14: 107.06007 | G14: 1.734738 | I14: 1240613
A15: 76 51 | B15: 22910 | C15: 11891 | D15: 11019 | E15: 17.960908 | F15: 107.9136 | G15: 1.6563182 | I15: 1275548
A16: 77 52 | B16: 22286 | C16: 11372 | D16: 10914 | E16: 17.068344 | F16: 104.19644 | G16: 1.6100991 | I16: 1305692
A17: 78 53 | B17: 22251 | C17: 11423 | D17: 10828 | E17: 16.683499 | F17: 105.49501 | G17: 1.6277341 | I17: 1333713
A18: 79 54 | B18: 21577 | C18: 11050 | D18: 10527 | E18: 15.782767 | F18: 104.96818 | G18: 1.5896141 | I18: 1367124
A19: 80 55 | B19: 20931 | C19: 10870 | D19: 10061 | E19: 14.931975 | F19: 108.04095 | G19: 1.5455651 | I19: 1401757
A20: 81 56 | B20: 19944 | C20: 10181 | D20: 9763 | E20: 13.923543 | F20: 104.28147 | G20: 1.4789919 | I20: 1432394
A21: 82 57 | B21: 20727 | C21: 10584 | D21: 10143 | E21: 14.166728 | F21: 104.34783 | G21: 1.5538155 | I21: 1463076
A22: 83 58 | B22: 20608 | C22: 10566 | D22: 10042 | E22: 13.799689 | F22: 105.21808 | G22: 1.5635537 | I22: 1493367
A23: 84 59 | B23: 20274 | C23: 10384 | D23: 9890 | E23: 13.340229 | F23: 104.99494 | G23: 1.5533871 | I23: 1519764
A24: 85 60 | B24: 19314 | C24: 9823 | D24: 9491 | E24: 12.543122 | F24: 103.49805 | G24: 1.4890657 | I24: 1539808
A25: 86 61 | B25: 19130 | C25: 9986 | D25: 9144 | E25: 12.209046 | F25: 109.20822 | G25: 1.4855788 | I25: 1566871
... A44: 05 17 | B44: 14184 | C44: 7208 | D44: 6976 | E44: 7.5412191 | F44: 103.32569 | G44: 0.98075378 | I44: 1880863
A45: 06 18 | B45: 14730 | C45: 7596 | D45: 7134 | E45: =B45/I45*1000 -> 7.7958782 | F45: 106.47603 | G45: 1.0254622 | I45: 1889460
A46: 07 19 | B46: 14498 | C46: 7345 | D46: 7153 | E46: =B46/I46*1000 -> 7.6470238 | F46: 102.68419 | G46: 1.0241981 | I46: 1895901
A47: 08 20 | B47: 14845 | C47: 7539 | D47: 7306 | E47: =B47/I47*1000 -> 7.8098079 | F47: 103.2 | G47: 1.07 | I47: 1900815
A48: 09 21 | B48: 14506 | C48: 7401 | D48: 7105 | E48: =B48/I48*1000 -> 7.605101 | F48: 104.16608 | G48: 1.06 | I48: 1907404
A49: 10 22 | B49: 14739 | C49: 7561 | D49: 7178 | E49: 7.730215 | F49: 105.33575 | G49: 1.09 | I49: 1906674
A50: 11 23 | B50: 14491 | C50: 7378 | D50: 7113 | E50: 7.5397971 | F50: 103.72557 | G50: 1.0922999 | I50: 1921935
A51: 12 24 | B51: 14487 | C51: 7415 | D51: 7072 | E51: 7.5109811 | F51: 104.85011 | G51: 1.1074471 | I51: 1928776
A52: 13 25 | B52: 14591 | C52: 7505 | D52: 7086 | E52: 7.5359379 | F52: 105.91307 | G52: 1.1350487 | I52: 1936189
A53: 14 26 | B53: 14568 | C53: 7492 | D53: 7076 | E53: 7.4990425 | F53: 105.87903 | G53: 1.1569371 | I53: 1942648
A54: 15 27 | B54: 14589 | C54: 7543 | D54: 7046 | E54: 7.506456 | F54: 107.05365 | G54: 3) 1.18 | I54: 1943527
A55: 16 28 | B55: 14021 | C55: 7144 | D55: 6877 | E55: 7.1593976 | F55: 103.88251 | G55: 1.1574071 | I55: 1958405
A56: 17 29 | B56: 13821 | C56: 7204 | D56: 6617 | E56: 7.0410481 | F56: 108.87109 | G56: 1.1608072 | I56: 1962918
A57: 18 30 | B57: =SUM(C57:D57) -> 13248 | C57: ='3 月・性別，区別出生数・出生率'!$C$6 -> 6744 | D57: ='3 月・性別，区別出生数・出生率'!$C$7 -> 6504 | E57: =B57/I57*1000 -> 6.7387611 | F57: =C57/D57*100 -> 103.69004 | G57: ='11 出生順位別，母の年齢別出生率'!$C$4 -> 1.1374154 | I57: =[1]人口!$B$42 -> 1965940
A58: 1) 本市の集計による。
A59: 2) 昭和49年以降は住民基本台帳の人口により算出した率である。
A60: 3) 率算出に用いた人口は「平成27年国勢調査 年齢・国籍不詳をあん分した人口（参考表）（総務省統計局）に
A61: おける日本人人口による。

Sheet 2　区別，年次別出生数・出生率
A1: 2 区別にみた年次別出生数及び出生率（人口千対）
A3: 年次 | B3: 総数 | C3: 中央区 | D3: 北区 | E3: 東区 | F3: 白石区 | G3: 厚別区 | H3: 豊平区 | I3: 清田区 | J3: 南区 | K3: 西区 | L3: 手稲区
B4: 出生数 | N4: =[1]年次別人口!C3 -> 総数 | O4: =[1]年次別人口!D3 -> 中央区 | P4: =[1]年次別人口!E3 -> 北区 | Q4: =[1]年次別人口!F3 -> 東区 | R4: =[1]年次別人口!G3 -> 白石区 | S4: =[1]年次別人口!H3 -> 厚別区 | T4: =[1]年次別人口!I3 -> 豊平区 | U4: =[1]年次別人口!J3 -> 清田区 | ... X4: =[1]年次別人口!M3 -> 手稲区
A5: 85 60 | B5: =SUM(C5:L5) -> 19314 | C5: 1919 | D5: 2426 | E5: 3145 | F5: 3665 | G5: … | H5: 3127 | I5: … | J5: 1708 | K5: 3324 | L5: … | N5: =[1]年次別人口!C4 -> 1539808 | O5: =[1]年次別人口!D4 -> 180845 | P5: =[1]年次別人口!E4 -> 212508 | Q5: =[1]年次別人口!F4 -> 224539 | R5: =[1]年次別人口!G4 -> 263938 | S5: =[1]年次別人口!H4 -> 0 | T5: =[1]年次別人口!I4 -> 249956 | U5: =[1]年次別人口!J4 -> 0 | ... X5: =[1]年次別人口!M4 -> 0
A6: 1986 昭和61年 | B6: =SUM(C6:L6) -> 19130 | C6: 1932 | D6: 2350 | E6: 3024 | F6: 3855 | G6: … | H6: 3137 | I6: … | J6: 1658 | K6: 3174 | L6: … | N6: =[1]年次別人口!C5 -> 1566871 | O6: =[1]年次別人口!D5 -> 182427 | P6: =[1]年次別人口!E5 -> 214728 | Q6: =[1]年次別人口!F5 -> 224730 | R6: =[1]年次別人口!G5 -> 272037 | S6: =[1]年次別人口!H5 -> 0 | T6: =[1]年次別人口!I5 -> 255105 | U6: =[1]年次別人口!J5 -> 0 | ... X6: =[1]年次別人口!M5 -> 0
A7: 1987 昭和62年 | B7: =SUM(C7:L7) -> 18533 | C7: 1851 | D7: 2207 | E7: 2824 | F7: 3715 | G7: … | H7: 3092 | I7: … | J7: 1555 | K7: 3289 | L7: … | N7: =[1]年次別人口!C6 -> 1593205 | O7: =[1]年次別人口!D6 -> 182818 | P7: =[1]年次別人口!E6 -> 217384 | Q7: =[1]年次別人口!F6 -> 225693 | R7: =[1]年次別人口!G6 -> 280378 | S7: =[1]年次別人口!H6 -> 0 | T7: =[1]年次別人口!I6 -> 260488 | U7: =[1]年次別人口!J6 -> 0 | ... X7: =[1]年次別人口!M6 -> 0
A8: 1988 昭和63年 | B8: 18216 | C8: 1785 | D8: 2148 | E8: 2770 | F8: 3741 | G8: … | H8: 3034 | I8: … | J8: 1615 | K8: 3123 | L8: … | N8: 1618861 | O8: 182735 | P8: 220308 | Q8: 227252 | R8: 287265 | S8: 0 | T8: 266739 | U8: 0 | V8: 145661 | W8: 288901 | X8: 0
A9: 89 平成元年 | B9: 17479 | C9: 1583 | D9: 1999 | E9: 2667 | F9: 3699 | G9: … | H9: 2929 | I9: … | J9: 1516 | K9: 3086 | L9: … | N9: 1645095 | O9: 181535 | P9: 224721 | Q9: 230623 | R9: 294751 | S9: 0 | T9: 272011 | U9: 0 | V9: 146535 | W9: 294919 | X9: 0
A10: 90 2 | B10: 17425 | C10: 1593 | D10: 1993 | E10: 2703 | F10: 2288 | G10: 1392 | H10: 2945 | I10: … | J10: 1521 | K10: 1917 | L10: 1073 | N10: 1667984 | O10: 179184 | P10: 230918 | Q10: 232999 | R10: 188043 | S10: 112623 | T10: 277801 | U10: 0 | V10: 148393 | W10: 190807 | X10: 110974
A11: 91 3 | B11: 17458 | C11: 1496 | D11: 2066 | E11: 2850 | F11: 2341 | G11: 1314 | H11: 2819 | I11: … | J11: 1461 | K11: 1992 | L11: 1119 | N11: 1694988 | O11: 177997 | P11: 234595 | Q11: 236454 | R11: 190543 | S11: 115650 | T11: 281463 | U11: 0 | V11: 150378 | W11: 192601 | X11: 115307
A12: 92 4 | B12: 17325 | C12: 1455 | D12: 2102 | E12: 2694 | F12: 2359 | G12: 1330 | H12: 2879 | I12: … | J12: 1380 | K12: 1949 | L12: 1177 | N12: 1714488 | O12: 176981 | P12: 239907 | Q12: 237749 | R12: 191928 | S12: 117351 | T12: 285597 | U12: 0 | V12: 152014 | W12: 193258 | X12: 119703
A13: 1993 平成5年 | B13: 16371 | C13: 1309 | D13: 2004 | E13: 2610 | F13: 2079 | G13: 1256 | H13: 2747 | I13: … | J13: 1383 | K13: 1826 | L13: 1157 | N13: 1728466 | O13: 174994 | P13: 243771 | Q13: 238168 | R13: 191918 | S13: 119386 | T13: 288941 | U13: 0 | V13: 153020 | W13: 194009 | X13: 124259
A14: 94 6 | B14: 17057 | C14: 1404 | D14: 2196 | E14: 2624 | F14: 2183 | G14: 1333 | H14: 2832 | I14: … | J14: 1399 | K14: 1892 | L14: 1194 | N14: 1740534 | O14: 173594 | P14: 247942 | Q14: 238547 | R14: 191099 | S14: 121427 | T14: 292470 | U14: 0 | V14: 154474 | W14: 193597 | X14: 127384
A15: 95 7 | B15: 16227 | C15: 1324 | D15: 2048 | E15: 2568 | F15: 2042 | G15: 1185 | H15: 2769 | I15: … | J15: 1379 | K15: 1826 | L15: 1086 | N15: 1752009 | O15: 173358 | P15: 251419 | Q15: 241319 | R15: 192102 | S15: 122738 | T15: 296647 | U15: 0 | V15: 155650 | W15: 194308 | X15: 129484
A16: 96 8 | B16: 16339 | C16: 1350 | D16: 2162 | E16: 2605 | F16: 2085 | G16: 1266 | H16: 2747 | I16: … | J16: 1325 | K16: 1749 | L16: 1050 | N16: 1774540 | O16: 175812 | P16: 253271 | Q16: 243767 | R16: 193494 | S16: 124213 | T16: 300609 | U16: 0 | V16: 156831 | W16: 194629 | X16: 131914
A17: 97 9 | B17: 15873 | C17: 1369 | D17: 2055 | E17: 2557 | F17: 1990 | G17: 1124 | H17: 2704 | I17: … | J17: 1264 | K17: 1704 | L17: 1106 | N17: 1791221 | O17: 178405 | P17: 255530 | Q17: 245544 | R17: 194555 | S17: 124531 | T17: 305192 | U17: 0 | V17: 157297 | W17: 196727 | X17: 133440
A18: 1998 平成10年 | B18: 16165 | C18: 1382 | D18: 2047 | E18: 2645 | F18: 2091 | G18: 1137 | H18: 1889 | I18: 808 | J18: 1219 | K18: 1859 | L18: 1088 | N18: 1803546 | O18: 179801 | P18: 257132 | Q18: 247420 | R18: 194903 | S18: 125679 | T18: 202316 | U18: 106984 | V18: 157438 | W18: 197627 | X18: 134246
A19: 99 11 | B19: 15358 | C19: 1336 | D19: 1979 | E19: 2463 | F19: 1951 | G19: 1100 | H19: 1869 | I19: 807 | J19: 1118 | K19: 1751 | L19: 984 | N19: 1812029 | O19: 180515 | P19: 258640 | Q19: 247756 | R19: 195162 | S19: 126780 | T19: 203514 | U19: 108731 | V19: 157152 | W19: 198486 | X19: 135293
A20: 2000 12 | B20: 15332 | C20: 1319 | D20: 1947 | E20: 2569 | F20: 1967 | G20: 1065 | H20: 1823 | I20: 784 | J20: 1109 | K20: 1724 | L20: 1025 | N20: 1816677 | O20: 180488 | P20: 259139 | Q20: 248140 | R20: 196793 | S20: 127325 | T20: 203918 | U20: 109635 | V20: 156441 | W20: 199013 | X20: 135785
A21: 01 13 | B21: 15312 | C21: 1380 | D21: 1982 | E21: 2494 | F21: 1997 | G21: 1034 | H21: 1773 | I21: 824 | J21: 1085 | K21: 1789 | L21: 954 | N21: 1834684 | O21: 185064 | P21: 262443 | Q21: 249707 | R21: 198580 | S21: 128443 | T21: 205066 | U21: 110759 | V21: 156589 | W21: 201453 | X21: 136580
A22: 02 14 | B22: 15577 | C22: 1463 | D22: 2094 | E22: 2457 | F22: 2013 | G22: 1024 | H22: 1898 | I22: 819 | J22: 1010 | K22: 1781 | L22: 1018 | N22: 1848276 | O22: 190254 | P22: 265023 | Q22: 251256 | R22: 199164 | S22: 129105 | T22: 205981 | U22: 111613 | V22: 155571 | W22: 203048 | X22: 137261
A23: 03 15 | B23: 14999 | C23: 1408 | D23: 2007 | E23: 2414 | F23: 1893 | G23: 945 | H23: 1770 | I23: 820 | J23: 1026 | K23: 1749 | L23: 967 | N23: 1862361 | O23: 194901 | P23: 268387 | Q23: 252494 | R23: 200077 | S23: 129660 | T23: 207859 | U23: 112333 | V23: 155234 | W23: 203782 | X23: 137634
A24: 04 16 | B24: 14749 | C24: 1475 | D24: 2028 | E24: 2295 | F24: 1884 | G24: 977 | H24: 1781 | I24: 724 | J24: 952 | K24: 1747 | L24: 886 | N24: 1872703 | O24: 198946 | P24: 271222 | Q24: 253520 | R24: 200856 | S24: 129645 | T24: 208605 | U24: 112473 | V24: 154348 | W24: 205526 | X24: 137562
A25: 05 17 | B25: 14184 | C25: 1405 | D25: 1962 | E25: 2263 | F25: 1868 | G25: 852 | H25: 1687 | I25: 698 | J25: 879 | K25: 1667 | L25: 903 | N25: 1874479 | O25: 201612 | P25: 271750 | Q25: 253138 | R25: 200866 | S25: 129346 | T25: 208576 | U25: 112398 | V25: 152505 | W25: 206905 | X25: 137383
A26: 06 18 | B26: 14730 | C26: 1552 | D26: 1995 | E26: 2312 | F26: 1907 | G26: 847 | H26: 1783 | I26: 789 | J26: 851 | K26: 1746 | L26: 948 | N26: 1889460 | O26: 206768 | P26: 273792 | Q26: 254899 | R26: 202638 | S26: 129500 | T26: 209102 | U26: 113572 | V26: 151858 | W26: 208975 | X26: 138356
A27: 07 19 | B27: 14498 | C27: 1523 | D27: 2016 | E27: 2245 | F27: 1850 | G27: 856 | H27: 1722 | I27: 729 | J27: 875 | K27: 1712 | L27: 970 | N27: 1895901 | O27: 210166 | P27: 276240 | Q27: 255210 | R27: 203006 | S27: 128963 | T27: 209334 | U27: 114646 | V27: 150261 | W27: 209532 | X27: 138543
A28: 08 20 | B28: 14845 | C28: 1638 | D28: 2101 | E28: 2297 | F28: 1933 | G28: 839 | H28: 1766 | I28: 807 | J28: 880 | K28: 1691 | L28: 893 | N28: 1900815 | O28: 213591 | P28: 276624 | Q28: 255365 | R28: 203180 | S28: 129034 | T28: 209789 | U28: 115606 | V28: 148867 | W28: 210231 | X28: 138528
A29: 09 21 | B29: 14506 | C29: 1580 | D29: 2052 | E29: 2221 | F29: 1831 | G29: 819 | H29: 1721 | I29: 773 | J29: 871 | K29: 1685 | L29: 953 | N29: 1907404 | O29: 216780 | P29: 278310 | Q29: 255376 | R29: 203764 | S29: 128668 | T29: 211014 | U29: 116022 | V29: 147757 | W29: 210564 | X29: 139149
... A37: 17 29 | B37: 13821 | C37: 1772 | D37: 1877 | E37: 2137 | F37: 1737 | G37: 696 | H37: 1743 | I37: 621 | J37: 718 | K37: 1652 | L37: 868 | N37: 1962918 | O37: 241267 | P37: 287761 | Q37: 264312 | R37: 210686 | S37: 126421 | T37: 220905 | U37: 115746 | V37: 139157 | W37: 214973 | X37: 141690
A38: 18 30 | B38: =SUM(C38:L38) -> 13248 | C38: ='3 月・性別，区別出生数・出生率'!$C$8 -> 1744 | D38: ='3 月・性別，区別出生数・出生率'!$C$11 -> 1847 | E38: ='3 月・性別，区別出生数・出生率'!$C$14 -> 1978 | F38: ='3 月・性別，区別出生数・出生率'!$C$17 -> 1711 | G38: ='3 月・性別，区別出生数・出生率'!$C$20 -> 661 | H38: ='3 月・性別，区別出生数・出生率'!$C$23 -> 1682 | I38: ='3 月・性別，区別出生数・出生率'!$C$26 -> 644 | J38: ='3 月・性別，区別出生数・出生率'!$C$29 -> 642 | K38: ='3 月・性別，区別出生数・出生率'!$C$32 -> 1530 | L38: ='3 月・性別，区別出生数・出生率'!$C$35 -> 809 | N38: =[1]年次別人口!C37 -> 1965940 | O38: =[1]年次別人口!D37 -> 242916 | P38: =[1]年次別人口!E37 -> 288114 | Q38: =[1]年次別人口!F37 -> 264183 | R38: =[1]年次別人口!G37 -> 211496 | S38: =[1]年次別人口!H37 -> 126230 | T38: =[1]年次別人口!I37 -> 222042 | U38: =[1]年次別人口!J37 -> 115272 | ... X38: =[1]年次別人口!M37 -> 141894
B39: 出生率
A40: 85 60 | B40: =B5/N5*1000 -> 12.543122 | C40: =C5/O5*1000 -> 10.611297 | D40: =D5/P5*1000 -> 11.416041 | E40: =E5/Q5*1000 -> 14.006475 | F40: =F5/R5*1000 -> 13.885837 | G40: ・ | H40: =H5/T5*1000 -> 12.510202 | I40: ・ | J40: =J5/V5*1000 -> 12.049978 | K40: =K5/W5*1000 -> 12.33624 | L40: ・
A41: 1986 昭和61年 | B41: =B6/N6*1000 -> 12.209046 | C41: =C6/O6*1000 -> 10.590538 | D41: =D6/P6*1000 -> 10.944078 | E41: =E6/Q6*1000 -> 13.456147 | F41: =F6/R6*1000 -> 14.170866 | G41: ・ | H41: =H6/T6*1000 -> 12.296897 | I41: ・ | J41: =J6/V6*1000 -> 11.603169 | K41: =K6/W6*1000 -> 11.543833 | L41: ・
A42: 1987 昭和62年 | B42: =B7/N7*1000 -> 11.632527 | C42: =C7/O7*1000 -> 10.124824 | D42: =D7/P7*1000 -> 10.152541 | E42: =E7/Q7*1000 -> 12.512572 | F42: =F7/R7*1000 -> 13.24997 | G42: ・ | H42: =H7/T7*1000 -> 11.870029 | I42: ・ | J42: =J7/V7*1000 -> 10.757747 | K42: =K7/W7*1000 -> 11.667382 | L42: ・
A43: 1988 昭和63年 | B43: 11.252356 | C43: 9.7682436 | D43: 9.7499864 | E43: 12.189112 | F43: 13.022819 | G43: ・ | H43: 11.374415 | I43: ・ | J43: 11.087388 | K43: 10.809931 | L43: ・
A44: 89 平成元年 | B44: 10.624918 | C44: 8.7200815 | D44: 8.8954748 | E44: 11.564328 | F44: 12.549576 | G44: ・ | H44: 10.767947 | I44: ・ | J44: 10.345651 | K44: 10.46389 | L44: ・
A45: 90 2 | B45: 10.446743 | C45: 8.8903027 | D45: 8.6307694 | E45: 11.600908 | F45: 12.16743 | G45: 12.35982 | H45: 10.601114 | I45: ・ | J45: 10.24981 | K45: 10.046801 | L45: 9.6689315
A46: 91 3 | B46: 10.299778 | C46: 8.404636 | D46: 8.8066668 | E46: 12.053084 | F46: 12.285941 | G46: 11.361868 | H46: 10.015526 | I46: ・ | J46: 9.7155169 | K46: 10.342625 | L46: 9.7045279
A47: 92 4 | B47: 10.105058 | C47: 8.2212215 | D47: 8.7617285 | E47: 11.331278 | F47: 12.291067 | G47: 11.333521 | H47: 10.080638 | I47: ・ | J47: 9.0781112 | K47: 10.084964 | L47: 9.8326692
A48: 1993 平成5年 | B48: 9.4714041 | C48: 7.4802565 | D48: 8.2208302 | E48: 10.958651 | F48: 10.832751 | G48: 10.520497 | H48: 9.5071312 | I48: ・ | J48: 9.0380342 | K48: 9.4119345 | L48: 9.3111968
A49: 94 6 | B49: 9.799866 | C49: 8.0878371 | D49: 8.8569101 | E49: 10.999929 | F49: 11.423398 | G49: 10.977789 | H49: 9.6830444 | I49: ・ | J49: 9.0565403 | K49: 9.7728787 | L49: 9.3732337
A50: 95 7 | B50: 9.2619387 | C50: 7.6373747 | D50: 8.1457646 | E50: 10.641516 | F50: 10.62977 | G50: 9.6547117 | H50: 9.3343267 | I50: ・ | J50: 8.8596209 | K50: 9.3974515 | L50: 8.3871366
A51: 96 8 | B51: 9.2074566 | C51: 7.6786567 | D51: 8.5363109 | E51: 10.686434 | F51: 10.775528 | G51: 10.19217 | H51: 9.1381163 | I51: ・ | J51: 8.4485848 | K51: 8.9863278 | L51: 7.9597313
A52: 97 9 | B52: 8.8615531 | C52: 7.6735518 | D52: 8.0421086 | E52: 10.413612 | F52: 10.22847 | G52: 9.025865 | H52: 8.8599963 | I52: ・ | J52: 8.035754 | K52: 8.6617495 | L52: 8.2883693
A53: 1998 平成10年 | B53: 8.9628986 | C53: 7.6862754 | D53: 7.9608917 | E53: 10.690324 | F53: 10.728414 | G53: 9.0468575 | H53: 9.3368789 | I53: 7.5525312 | J53: 7.7427305 | K53: 9.4066094 | L53: 8.1045245
A54: 99 11 | B54: 8.4755818 | C54: 7.401047 | D54: 7.651562 | E54: 9.9412325 | F54: 9.9968232 | G54: 8.6764474 | H54: 9.1836434 | I54: 7.4219864 | J54: 7.1141315 | K54: 8.8217809 | L54: 7.2731036
A55: 2000 12 | B55: 8.439585 | C55: 7.3079651 | D55: 7.5133423 | E55: 10.353027 | F55: 9.9952742 | G55: 8.3644218 | H55: 8.939868 | I55: 7.151001 | J55: 7.0889345 | K55: 8.6627507 | L55: 7.5486983
A56: 01 13 | B56: 8.3458514 | C56: 7.4568798 | D56: 7.5521161 | E56: 9.9877056 | F56: 10.0564 | G56: 8.0502635 | H56: 8.6459969 | I56: 7.439576 | J56: 6.9289669 | K56: 8.8804833 | L56: 6.9849173
A57: 02 14 | B57: 8.4278538 | C57: 7.6897201 | D57: 7.901201 | E57: 9.778871 | F57: 10.107248 | G57: 7.9315286 | H57: 9.2144421 | I57: 7.3378549 | J57: 6.4922126 | K57: 8.771325 | L57: 7.4165276
A58: 03 15 | B58: 8.0537554 | C58: 7.2241805 | D58: 7.4780075 | E58: 9.5606232 | F58: 9.4613574 | G58: 7.2882925 | H58: 8.5153878 | I58: 7.2997249 | J58: 6.6093768 | K58: 8.5827011 | L58: 7.0258802
A59: 04 16 | B59: 7.8757817 | C59: 7.4140722 | D59: 7.4772695 | E59: 9.0525402 | F59: 9.3798542 | G59: 7.5359636 | H59: 8.5376669 | I59: 6.4371005 | J59: 6.1678804 | K59: 8.5001411 | L59: 6.4407322
A60: 05 17 | B60: 7.5669026 | C60: 6.9688312 | D60: 7.2198712 | E60: 8.9397878 | F60: 9.2997322 | G60: 6.5869837 | H60: 8.0881789 | I60: 6.2100749 | J60: 5.7637455 | K60: 8.0568377 | L60: 6.5728656
A61: 06 18 | B61: 7.7958782 | C61: 7.5059971 | D61: 7.2865533 | E61: 9.0702592 | F61: 9.4108706 | G61: 6.5405405 | H61: 8.526939 | I61: 6.9471349 | J61: 5.6039195 | K61: 8.3550664 | L61: 6.8518893
A62: 07 19 | B62: 7.6470238 | C62: 7.2466526 | D62: 7.2980017 | E62: 8.7966772 | F62: 9.1130311 | G62: 6.6375627 | H62: 8.2260885 | I62: 6.3587042 | J62: 5.823201 | K62: 8.1705897 | L62: 7.0014364
A63: 08 20 | B63: 7.8098079 | C63: 7.6688625 | D63: 7.5951472 | E63: 8.994968 | F63: 9.5137317 | G63: 6.5021622 | H63: 8.4179819 | I63: 6.9806065 | J63: 5.9113168 | K63: 8.0435331 | L63: 6.4463502
A64: 09 21 | B64: 7.605101 | C64: 7.2884952 | D64: 7.3730732 | E64: 8.6969801 | F64: 8.9858856 | G64: 6.365219 | H64: 8.155857 | I64: 6.6625295 | J64: 5.8948138 | K64: 8.0023176 | L64: 6.8487736
... A72: 17 29 | B72: 7.0410481 | C72: 7.3445602 | D72: 6.5227741 | E72: 8.0851418 | F72: 8.2444965 | G72: 5.5054144 | H72: 7.8902696 | I72: 5.3651962 | J72: 5.1596398 | K72: 7.684686 | L72: 6.1260498
A73: 18 30 | B73: =B38/N38*1000 -> 6.7387611 | C73: =C38/O38*1000 -> 7.1794365 | D73: =D38/P38*1000 -> 6.4106569 | E73: =E38/Q38*1000 -> 7.4872342 | F73: =F38/R38*1000 -> 8.0899875 | G73: =G38/S38*1000 -> 5.2364731 | H73: =H38/T38*1000 -> 7.5751434 | I73: =I38/U38*1000 -> 5.586786 | ... L73: =L38/X38*1000 -> 5.7014391
A74: 1) 率算出に用いた人口は「平成27年国勢調査 年齢・国籍不詳をあん分した人口（参考表）（総務省統計局）に
A75: おける日本人人口による。

Sheet 3 月・性別，区別出生数・出生率
A1: 3 月・性別にみた区別出生数及び出生率（人口千対）
O2: 平成30年
A3: 区 ・ 性 | C3: 総数 | D3: 1 月 | E3: 2 月 | F3: 3 月 | G3: 4 月 | H3: 5 月 | I3: 6 月 | J3: 7 月 | K3: 8 月 | L3: 9 月 | M3: 10月 | N3: 11月 | O3: 12月
C4: 出生数
A5: 総数 | C5: =SUM(C8,C11,C14,C17,C20,C23,C26,C29,C32,C35) -> 13248 | D5: =SUM(D8,D11,D14,D17,D20,D23,D26,D29,D32,D35) -> 1135 | E5: =SUM(E8,E11,E14,E17,E20,E23,E26,E29,E32,E35) -> 1067 | F5: =SUM(F8,F11,F14,F17,F20,F23,F26,F29,F32,F35) -> 1078 | G5: =SUM(G8,G11,G14,G17,G20,G23,G26,G29,G32,G35) -> 1067 | H5: =SUM(H8,H11,H14,H17,H20,H23,H26,H29,H32,H35) -> 1128 | I5: =SUM(I8,I11,I14,I17,I20,I23,I26,I29,I32,I35) -> 1110 | J5: =SUM(J8,J11,J14,J17,J20,J23,J26,J29,J32,J35) -> 1127 | ... O5: =SUM(O8,O11,O14,O17,O20,O23,O26,O29,O32,O35) -> 1017
B6: 男 | C6: =SUM(C9,C12,C15,C18,C21,C24,C27,C30,C33,C36) -> 6744 | D6: =SUM(D9,D12,D15,D18,D21,D24,D27,D30,D33,D36) -> 597 | E6: =SUM(E9,E12,E15,E18,E21,E24,E27,E30,E33,E36) -> 533 | F6: =SUM(F9,F12,F15,F18,F21,F24,F27,F30,F33,F36) -> 525 | G6: =SUM(G9,G12,G15,G18,G21,G24,G27,G30,G33,G36) -> 544 | H6: =SUM(H9,H12,H15,H18,H21,H24,H27,H30,H33,H36) -> 602 | I6: =SUM(I9,I12,I15,I18,I21,I24,I27,I30,I33,I36) -> 583 | J6: =SUM(J9,J12,J15,J18,J21,J24,J27,J30,J33,J36) -> 575 | ... O6: =SUM(O9,O12,O15,O18,O21,O24,O27,O30,O33,O36) -> 503
B7: 女 | C7: =SUM(C10,C13,C16,C19,C22,C25,C28,C31,C34,C37) -> 6504 | D7: =SUM(D10,D13,D16,D19,D22,D25,D28,D31,D34,D37) -> 538 | E7: =SUM(E10,E13,E16,E19,E22,E25,E28,E31,E34,E37) -> 534 | F7: =SUM(F10,F13,F16,F19,F22,F25,F28,F31,F34,F37) -> 553 | G7: =SUM(G10,G13,G16,G19,G22,G25,G28,G31,G34,G37) -> 523 | H7: =SUM(H10,H13,H16,H19,H22,H25,H28,H31,H34,H37) -> 526 | I7: =SUM(I10,I13,I16,I19,I22,I25,I28,I31,I34,I37) -> 527 | J7: =SUM(J10,J13,J16,J19,J22,J25,J28,J31,J34,J37) -> 552 | ... O7: =SUM(O10,O13,O16,O19,O22,O25,O28,O31,O34,O37) -> 514
A8: 中央 | C8: =SUM(D8:O8) -> 1744 | D8: =SUM(D9:D10) -> 137 | E8: =SUM(E9:E10) -> 152 | F8: =SUM(F9:F10) -> 150 | G8: =SUM(G9:G10) -> 133 | H8: =SUM(H9:H10) -> 155 | I8: =SUM(I9:I10) -> 145 | J8: =SUM(J9:J10) -> 133 | K8: =SUM(K9:K10) -> 167 | ... O8: =SUM(O9:O10) -> 147
B9: 男 | C9: =SUM(D9:O9) -> 918 | D9: 68 | E9: 79 | F9: 65 | G9: 77 | H9: 78 | I9: 79 | J9: 78 | K9: 76 | L9: 70 | M9: 95 | N9: 73 | O9: 80
B10: 女 | C10: =SUM(D10:O10) -> 826 | D10: 69 | E10: 73 | F10: 85 | G10: 56 | H10: 77 | I10: 66 | J10: 55 | K10: 91 | L10: 63 | M10: 70 | N10: 54 | O10: 67
A11: 北 | C11: =SUM(D11:O11) -> 1847 | D11: =SUM(D12:D13) -> 169 | E11: =SUM(E12:E13) -> 139 | F11: =SUM(F12:F13) -> 137 | G11: =SUM(G12:G13) -> 137 | H11: =SUM(H12:H13) -> 174 | I11: =SUM(I12:I13) -> 164 | J11: =SUM(J12:J13) -> 166 | K11: =SUM(K12:K13) -> 183 | ... O11: =SUM(O12:O13) -> 134
B12: 男 | C12: =SUM(D12:O12) -> 922 | D12: 90 | E12: 80 | F12: 71 | G12: 59 | H12: 95 | I12: 85 | J12: 78 | K12: 92 | L12: 58 | M12: 88 | N12: 66 | O12: 60
B13: 女 | C13: =SUM(D13:O13) -> 925 | D13: 79 | E13: 59 | F13: 66 | G13: 78 | H13: 79 | I13: 79 | J13: 88 | K13: 91 | L13: 80 | M13: 80 | N13: 72 | O13: 74
A14: 東 | C14: =SUM(D14:O14) -> 1978 | D14: =SUM(D15:D16) -> 167 | E14: =SUM(E15:E16) -> 132 | F14: =SUM(F15:F16) -> 161 | G14: =SUM(G15:G16) -> 171 | H14: =SUM(H15:H16) -> 162 | I14: =SUM(I15:I16) -> 165 | J14: =SUM(J15:J16) -> 179 | K14: =SUM(K15:K16) -> 171 | ... O14: =SUM(O15:O16) -> 146
B15: 男 | C15: =SUM(D15:O15) -> 995 | D15: 91 | E15: 61 | F15: 82 | G15: 90 | H15: 92 | I15: 85 | J15: 79 | K15: 86 | L15: 90 | M15: 92 | N15: 77 | O15: 70
B16: 女 | C16: =SUM(D16:O16) -> 983 | D16: 76 | E16: 71 | F16: 79 | G16: 81 | H16: 70 | I16: 80 | J16: 100 | K16: 85 | L16: 101 | M16: 92 | N16: 72 | O16: 76
A17: 白石 | C17: =SUM(D17:O17) -> 1711 | D17: =SUM(D18:D19) -> 144 | E17: =SUM(E18:E19) -> 148 | F17: =SUM(F18:F19) -> 123 | G17: =SUM(G18:G19) -> 138 | H17: =SUM(H18:H19) -> 139 | I17: =SUM(I18:I19) -> 138 | J17: =SUM(J18:J19) -> 143 | K17: =SUM(K18:K19) -> 145 | ... O17: =SUM(O18:O19) -> 132
B18: 男 | C18: =SUM(D18:O18) -> 882 | D18: 68 | E18: 79 | F18: 66 | G18: 72 | H18: 72 | I18: 71 | J18: 75 | K18: 72 | L18: 70 | M18: 84 | N18: 74 | O18: 79
B19: 女 | C19: =SUM(D19:O19) -> 829 | D19: 76 | E19: 69 | F19: 57 | G19: 66 | H19: 67 | I19: 67 | J19: 68 | K19: 73 | L19: 68 | M19: 84 | N19: 81 | O19: 53
A20: 厚別 | C20: =SUM(D20:O20) -> 661 | D20: =SUM(D21:D22) -> 53 | E20: =SUM(E21:E22) -> 53 | F20: =SUM(F21:F22) -> 50 | G20: =SUM(G21:G22) -> 60 | H20: =SUM(H21:H22) -> 41 | I20: =SUM(I21:I22) -> 50 | J20: =SUM(J21:J22) -> 48 | K20: =SUM(K21:K22) -> 81 | ... O20: =SUM(O21:O22) -> 54
B21: 男 | C21: =SUM(D21:O21) -> 360 | D21: 23 | E21: 19 | F21: 27 | G21: 39 | H21: 25 | I21: 31 | J21: 29 | K21: 43 | L21: 44 | M21: 26 | N21: 26 | O21: 28
B22: 女 | C22: =SUM(D22:O22) -> 301 | D22: 30 | E22: 34 | F22: 23 | G22: 21 | H22: 16 | I22: 19 | J22: 19 | K22: 38 | L22: 23 | M22: 26 | N22: 26 | O22: 26
A23: 豊平 | C23: =SUM(D23:O23) -> 1682 | D23: =SUM(D24:D25) -> 169 | E23: =SUM(E24:E25) -> 154 | F23: =SUM(F24:F25) -> 141 | G23: =SUM(G24:G25) -> 134 | H23: =SUM(H24:H25) -> 132 | I23: =SUM(I24:I25) -> 142 | J23: =SUM(J24:J25) -> 143 | K23: =SUM(K24:K25) -> 153 | ... O23: =SUM(O24:O25) -> 124
B24: 男 | C24: =SUM(D24:O24) -> 855 | D24: 84 | E24: 78 | F24: 61 | G24: 65 | H24: 63 | I24: 79 | J24: 66 | K24: 89 | L24: 60 | M24: 79 | N24: 63 | O24: 68
B25: 女 | C25: =SUM(D25:O25) -> 827 | D25: 85 | E25: 76 | F25: 80 | G25: 69 | H25: 69 | I25: 63 | J25: 77 | K25: 64 | L25: 61 | M25: 63 | N25: 64 | O25: 56
A26: 清田 | C26: =SUM(D26:O26) -> 644 | D26: =SUM(D27:D28) -> 52 | E26: =SUM(E27:E28) -> 61 | F26: =SUM(F27:F28) -> 57 | G26: =SUM(G27:G28) -> 49 | H26: =SUM(H27:H28) -> 56 | I26: =SUM(I27:I28) -> 67 | J26: =SUM(J27:J28) -> 42 | K26: =SUM(K27:K28) -> 62 | ... O26: =SUM(O27:O28) -> 54
B27: 男 | C27: =SUM(D27:O27) -> 319 | D27: 32 | E27: 28 | F27: 27 | G27: 24 | H27: 41 | I27: 28 | J27: 19 | K27: 28 | L27: 17 | M27: 27 | N27: 27 | O27: 21
B28: 女 | C28: =SUM(D28:O28) -> 325 | D28: 20 | E28: 33 | F28: 30 | G28: 25 | H28: 15 | I28: 39 | J28: 23 | K28: 34 | L28: 23 | M28: 25 | N28: 25 | O28: 33
A29: 南 | C29: =SUM(D29:O29) -> 642 | D29: =SUM(D30:D31) -> 44 | E29: =SUM(E30:E31) -> 44 | F29: =SUM(F30:F31) -> 62 | G29: =SUM(G30:G31) -> 47 | H29: =SUM(H30:H31) -> 53 | I29: =SUM(I30:I31) -> 57 | J29: =SUM(J30:J31) -> 64 | K29: =SUM(K30:K31) -> 46 | ... O29: =SUM(O30:O31) -> 61
B30: 男 | C30: =SUM(D30:O30) -> 326 | D30: 25 | E30: 20 | F30: 24 | G30: 22 | H30: 28 | I30: 30 | J30: 35 | K30: 22 | L30: 31 | M30: 36 | N30: 26 | O30: 27
B31: 女 | C31: =SUM(D31:O31) -> 316 | D31: 19 | E31: 24 | F31: 38 | G31: 25 | H31: 25 | I31: 27 | J31: 29 | K31: 24 | L31: 30 | M31: 21 | N31: 20 | O31: 34
A32: 西 | C32: =SUM(D32:O32) -> 1530 | D32: =SUM(D33:D34) -> 133 | E32: =SUM(E33:E34) -> 113 | F32: =SUM(F33:F34) -> 120 | G32: =SUM(G33:G34) -> 123 | H32: =SUM(H33:H34) -> 143 | I32: =SUM(I33:I34) -> 134 | J32: =SUM(J33:J34) -> 145 | K32: =SUM(K33:K34) -> 133 | ... O32: =SUM(O33:O34) -> 113
B33: 男 | C33: =SUM(D33:O33) -> 772 | D33: 79 | E33: 53 | F33: 70 | G33: 64 | H33: 70 | I33: 70 | J33: 76 | K33: 66 | L33: 63 | M33: 54 | N33: 59 | O33: 48
B34: 女 | C34: =SUM(D34:O34) -> 758 | D34: 54 | E34: 60 | F34: 50 | G34: 59 | H34: 73 | I34: 64 | J34: 69 | K34: 67 | L34: 79 | M34: 65 | N34: 53 | O34: 65
A35: 手稲 | C35: =SUM(D35:O35) -> 809 | D35: =SUM(D36:D37) -> 67 | E35: =SUM(E36:E37) -> 71 | F35: =SUM(F36:F37) -> 77 | G35: =SUM(G36:G37) -> 75 | H35: =SUM(H36:H37) -> 73 | I35: =SUM(I36:I37) -> 48 | J35: =SUM(J36:J37) -> 64 | K35: =SUM(K36:K37) -> 77 | ... O35: =SUM(O36:O37) -> 52
B36: 男 | C36: =SUM(D36:O36) -> 395 | D36: 37 | E36: 36 | F36: 32 | G36: 32 | H36: 38 | I36: 25 | J36: 40 | K36: 40 | L36: 23 | M36: 36 | N36: 34 | O36: 22
B37: 女 | C37: =SUM(D37:O37) -> 414 | D37: 30 | E37: 35 | F37: 45 | G37: 43 | H37: 35 | I37: 23 | J37: 24 | K37: 37 | L37: 33 | M37: 36 | N37: 43 | O37: 30
C38: 出生率 | R38: =[1]人口!B9 -> (国調年)日本人推計人口 (国調年以外)国調ベース人口 | S38: =[1]人口!C9 -> １月 | T38: =[1]人口!D9 -> ２月 | U38: =[1]人口!E9 -> ３月 | V38: =[1]人口!F9 -> ４月 | W38: =[1]人口!G9 -> ５月 | X38: =[1]人口!H9 -> ６月 | Y38: =[1]人口!I9 -> ７月 | ... AD38: =[1]人口!N9 -> １２月
A39: 総数 | C39: =C5/R39*1000 -> 6.7387611 | D39: =D5/(S39/$R$50*S$50)*1000 -> 6.8056288 | E39: =E5/(T39/$R$50*T$50)*1000 -> 7.0856848 | F39: =F5/(U39/$R$50*U$50)*1000 -> 6.4673263 | G39: =G5/(V39/$R$50*V$50)*1000 -> 6.6192473 | H39: =H5/(W39/$R$50*W$50)*1000 -> 6.7577468 | I39: =I5/(X39/$R$50*X$50)*1000 -> 6.8696656 | J39: =J5/(Y39/$R$50*Y$50)*1000 -> 6.7502412 | K39: =K5/(Z39/$R$50*Z$50)*1000 -> 7.2942194 | ... O39: =O5/(AD39/$R$50*AD$50)*1000 -> 6.0884992 | R39: =[1]人口!B10 -> 1965940 | S39: =[1]人口!C10 -> 1963626 | T39: =[1]人口!D10 -> 1962987 | U39: =[1]人口!E10 -> 1962570 | V39: =[1]人口!F10 -> 1961225 | W39: =[1]人口!G10 -> 1965343 | X39: =[1]人口!H10 -> 1965889 | Y39: =[1]人口!I10 -> 1965784 | ... AD39: =[1]人口!N10 -> 1966717
A40: 中央 | C40: =C8/R40*1000 -> 7.1794365 | D40: =D8/(S40/$R$50*S$50)*1000 -> 6.6772825 | E40: =E8/(T40/$R$50*T$50)*1000 -> 8.2026013 | F40: =F8/(U40/$R$50*U$50)*1000 -> 7.3118921 | G40: =G8/(V40/$R$50*V$50)*1000 -> 6.7013711 | H40: =H8/(W40/$R$50*W$50)*1000 -> 7.5310216 | I40: =I8/(X40/$R$50*X$50)*1000 -> 7.2720353 | J40: =J8/(Y40/$R$50*Y$50)*1000 -> 6.4527295 | K40: =K8/(Z40/$R$50*Z$50)*1000 -> 8.0943279 | ... O40: =O8/(AD40/$R$50*AD$50)*1000 -> 7.119994 | R40: =[1]人口!B11 -> 242916 | S40: =[1]人口!C11 -> 241575 | T40: =[1]人口!D11 -> 241561 | U40: =[1]人口!E11 -> 241542 | V40: =[1]人口!F11 -> 241468 | W40: =[1]人口!G11 -> 242331 | X40: =[1]人口!H11 -> 242596 | Y40: =[1]人口!I11 -> 242683 | ... AD40: =[1]人口!N11 -> 243091
A41: 北 | C41: =C11/R41*1000 -> 6.4106569 | D41: =D11/(S41/$R$50*S$50)*1000 -> 6.9123544 | E41: =E11/(T41/$R$50*T$50)*1000 -> 6.2933127 | F41: =F11/(U41/$R$50*U$50)*1000 -> 5.6034867 | G41: =G11/(V41/$R$50*V$50)*1000 -> 5.8058194 | H41: =H11/(W41/$R$50*W$50)*1000 -> 7.122206 | I41: =I11/(X41/$R$50*X$50)*1000 -> 6.9348867 | J41: =J11/(Y41/$R$50*Y$50)*1000 -> 6.7931896 | K41: =K11/(Z41/$R$50*Z$50)*1000 -> 7.4839355 | ... O41: =O11/(AD41/$R$50*AD$50)*1000 -> 5.4717159 | R41: =[1]人口!B12 -> 288114 | S41: =[1]人口!C12 -> 287867 | T41: =[1]人口!D12 -> 287919 | U41: =[1]人口!E12 -> 287868 | V41: =[1]人口!F12 -> 287097 | W41: =[1]人口!G12 -> 287651 | X41: =[1]人口!H12 -> 287724 | Y41: =[1]人口!I12 -> 287717 | ... AD41: =[1]人口!N12 -> 288345
A42: 東 | C42: =C14/R42*1000 -> 7.4872342 | D42: =D14/(S42/$R$50*S$50)*1000 -> 7.4373078 | E42: =E14/(T42/$R$50*T$50)*1000 -> 6.5124055 | F42: =F14/(U42/$R$50*U$50)*1000 -> 7.1816166 | G42: =G14/(V42/$R$50*V$50)*1000 -> 7.8853115 | H42: =H14/(W42/$R$50*W$50)*1000 -> 7.2182379 | I42: =I14/(X42/$R$50*X$50)*1000 -> 7.5944722 | J42: =J14/(Y42/$R$50*Y$50)*1000 -> 7.9747717 | K42: =K14/(Z42/$R$50*Z$50)*1000 -> 7.6197124 | ... O42: =O14/(AD42/$R$50*AD$50)*1000 -> 6.508626 | R42: =[1]人口!B13 -> 264183 | S42: =[1]人口!C13 -> 264382 | T42: =[1]人口!D13 -> 264221 | U42: =[1]人口!E13 -> 263958 | V42: =[1]人口!F13 -> 263845 | W42: =[1]人口!G13 -> 264250 | X42: =[1]人口!H13 -> 264337 | Y42: =[1]人口!I13 -> 264281 | ... AD42: =[1]人口!N13 -> 264116
A43: 白石 | C43: =C17/R43*1000 -> 8.0899875 | D43: =D17/(S43/$R$50*S$50)*1000 -> 8.0448479 | E43: =E17/(T43/$R$50*T$50)*1000 -> 9.1561619 | F43: =F17/(U43/$R$50*U$50)*1000 -> 6.872717 | G43: =G17/(V43/$R$50*V$50)*1000 -> 7.9690541 | H43: =H17/(W43/$R$50*W$50)*1000 -> 7.7545849 | I43: =I17/(X43/$R$50*X$50)*1000 -> 7.9505635 | J43: =J17/(Y43/$R$50*Y$50)*1000 -> 7.9713554 | K43: =K17/(Z43/$R$50*Z$50)*1000 -> 8.0766865 | ... O43: =O17/(AD43/$R$50*AD$50)*1000 -> 7.3406583 | R43: =[1]人口!B14 -> 211496 | S43: =[1]人口!C14 -> 210754 | T43: =[1]人口!D14 -> 210709 | U43: =[1]人口!E14 -> 210721 | V43: =[1]人口!F14 -> 210690 | W43: =[1]人口!G14 -> 211051 | X43: =[1]人口!H14 -> 211180 | Y43: =[1]人口!I14 -> 211220 | ... AD43: =[1]人口!N14 -> 211724
A44: 厚別 | C44: =C20/R44*1000 -> 5.2364731 | D44: =D20/(S44/$R$50*S$50)*1000 -> 4.9387223 | E44: =E20/(T44/$R$50*T$50)*1000 -> 5.4716386 | F44: =F20/(U44/$R$50*U$50)*1000 -> 4.6614224 | G44: =G20/(V44/$R$50*V$50)*1000 -> 5.7833234 | H44: =H20/(W44/$R$50*W$50)*1000 -> 3.8193724 | I44: =I20/(X44/$R$50*X$50)*1000 -> 4.8131826 | J44: =J20/(Y44/$R$50*Y$50)*1000 -> 4.4745403 | K44: =K20/(Z44/$R$50*Z$50)*1000 -> 7.5529396 | ... O44: =O20/(AD44/$R$50*AD$50)*1000 -> 5.0396834 | R44: =[1]人口!B15 -> 126230 | S44: =[1]人口!C15 -> 126355 | T44: =[1]人口!D15 -> 126268 | U44: =[1]人口!E15 -> 126294 | V44: =[1]人口!F15 -> 126225 | W44: =[1]人口!G15 -> 126393 | X44: =[1]人口!H15 -> 126389 | Y44: =[1]人口!I15 -> 126306 | ... AD44: =[1]人口!N15 -> 126160
A45: 豊平 | C45: =C23/R45*1000 -> 7.5751434 | D45: =D23/(S45/$R$50*S$50)*1000 -> 8.9925239 | E45: =E23/(T45/$R$50*T$50)*1000 -> 9.0726262 | F45: =F23/(U45/$R$50*U$50)*1000 -> 7.5084067 | G45: =G23/(V45/$R$50*V$50)*1000 -> 7.3643779 | H45: =H23/(W45/$R$50*W$50)*1000 -> 7.005037 | I45: =I23/(X45/$R$50*X$50)*1000 -> 7.785193 | J45: =J23/(Y45/$R$50*Y$50)*1000 -> 7.5861573 | K45: =K23/(Z45/$R$50*Z$50)*1000 -> 8.1174624 | ... O45: =O23/(AD45/$R$50*AD$50)*1000 -> 6.5685878 | R45: =[1]人口!B16 -> 222042 | S45: =[1]人口!C16 -> 221277 | T45: =[1]人口!D16 -> 221270 | U45: =[1]人口!E16 -> 221107 | V45: =[1]人口!F16 -> 221381 | W45: =[1]人口!G16 -> 221868 | X45: =[1]人口!H16 -> 221917 | Y45: =[1]人口!I16 -> 221945 | ... AD45: =[1]人口!N16 -> 222270
A46: 清田 | C46: =C26/R46*1000 -> 5.586786 | D46: =D26/(S46/$R$50*S$50)*1000 -> 5.2930533 | E46: =E26/(T46/$R$50*T$50)*1000 -> 6.8754362 | F46: =F26/(U46/$R$50*U$50)*1000 -> 5.8023017 | G46: =G26/(V46/$R$50*V$50)*1000 -> 5.1629125 | H46: =H26/(W46/$R$50*W$50)*1000 -> 5.7129042 | I46: =I26/(X46/$R$50*X$50)*1000 -> 7.0672655 | J46: =J26/(Y46/$R$50*Y$50)*1000 -> 4.2875386 | K46: =K26/(Z46/$R$50*Z$50)*1000 -> 6.3279069 | ... O46: =O26/(AD46/$R$50*AD$50)*1000 -> 5.519872 | R46: =[1]人口!B17 -> 115272 | S46: =[1]人口!C17 -> 115672 | T46: =[1]人口!D17 -> 115655 | U46: =[1]人口!E17 -> 115666 | V46: =[1]人口!F17 -> 115471 | W46: =[1]人口!G17 -> 115415 | X46: =[1]人口!H17 -> 115344 | Y46: =[1]人口!I17 -> 115338 | ... AD46: =[1]人口!N17 -> 115185
A47: 南 | C47: =C29/R47*1000 -> 4.6572023 | D47: =D29/(S47/$R$50*S$50)*1000 -> 3.7307062 | E47: =E29/(T47/$R$50*T$50)*1000 -> 4.1406522 | F47: =F29/(U47/$R$50*U$50)*1000 -> 5.2739187 | G47: =G29/(V47/$R$50*V$50)*1000 -> 4.141379 | H47: =H29/(W47/$R$50*W$50)*1000 -> 4.4937081 | I47: =I29/(X47/$R$50*X$50)*1000 -> 4.9972978 | J47: =J29/(Y47/$R$50*Y$50)*1000 -> 5.4304706 | K47: =K29/(Z47/$R$50*Z$50)*1000 -> 3.9159628 | ... O47: =O29/(AD47/$R$50*AD$50)*1000 -> 5.2133749 | R47: =[1]人口!B18 -> 137851 | S47: =[1]人口!C18 -> 138865 | T47: =[1]人口!D18 -> 138522 | U47: =[1]人口!E18 -> 138417 | V47: =[1]人口!F18 -> 138078 | W47: =[1]人口!G18 -> 138868 | X47: =[1]人口!H18 -> 138775 | Y47: =[1]人口!I18 -> 138763 | ... AD47: =[1]人口!N18 -> 137766
A48: 西 | C48: =C32/R48*1000 -> 7.0852359 | D48: =D32/(S48/$R$50*S$50)*1000 -> 7.2850618 | E48: =E32/(T48/$R$50*T$50)*1000 -> 6.851552 | F48: =F32/(U48/$R$50*U$50)*1000 -> 6.569504 | G48: =G32/(V48/$R$50*V$50)*1000 -> 6.9537378 | H48: =H32/(W48/$R$50*W$50)*1000 -> 7.8077844 | I48: =I32/(X48/$R$50*X$50)*1000 -> 7.5567957 | J48: =J32/(Y48/$R$50*Y$50)*1000 -> 7.9137915 | K48: =K32/(Z48/$R$50*Z$50)*1000 -> 7.2546871 | ... O48: =O32/(AD48/$R$50*AD$50)*1000 -> 6.1563414 | R48: =[1]人口!B19 -> 215942 | S48: =[1]人口!C19 -> 214956 | T48: =[1]人口!D19 -> 214993 | U48: =[1]人口!E19 -> 215070 | V48: =[1]人口!F19 -> 215208 | W48: =[1]人口!G19 -> 215645 | X48: =[1]人口!H19 -> 215744 | Y48: =[1]人口!I19 -> 215732 | ... AD48: =[1]人口!N19 -> 216116
A49: 手稲 | C49: =C35/R49*1000 -> 5.7014391 | D49: =D35/(S49/$R$50*S$50)*1000 -> 5.5584434 | E49: =E35/(T49/$R$50*T$50)*1000 -> 6.5238756 | F49: =F35/(U49/$R$50*U$50)*1000 -> 6.3878818 | G49: =G35/(V49/$R$50*V$50)*1000 -> 6.4368449 | H49: =H35/(W49/$R$50*W$50)*1000 -> 6.0584343 | I49: =I35/(X49/$R$50*X$50)*1000 -> 4.1160675 | J49: =J35/(Y49/$R$50*Y$50)*1000 -> 5.314201 | K49: =K35/(Z49/$R$50*Z$50)*1000 -> 6.3886921 | ... O49: =O35/(AD49/$R$50*AD$50)*1000 -> 4.3133776 | R49: =[1]人口!B20 -> 141894 | S49: =[1]人口!C20 -> 141923 | T49: =[1]人口!D20 -> 141869 | U49: =[1]人口!E20 -> 141927 | V49: =[1]人口!F20 -> 141762 | W49: =[1]人口!G20 -> 141871 | X49: =[1]人口!H20 -> 141883 | Y49: =[1]人口!I20 -> 141799 | ... AD49: =[1]人口!N20 -> 141944
R50: =[1]人口!B21 -> 365 | S50: =[1]人口!C21 -> 31 | T50: =[1]人口!D21 -> 28 | U50: =[1]人口!E21 -> 31 | V50: =[1]人口!F21 -> 30 | W50: =[1]人口!G21 -> 31 | X50: =[1]人口!H21 -> 30 | Y50: =[1]人口!I21 -> 31 | ... AD50: =[1]人口!N21 -> 31

Sheet 4　出生の場所別，年次別出生数・百分率
A1: 4 出生の場所別にみた年次別出生数及び百分率
A3: 年次 | B3: 総数 | C3: 施設内 | G3: 施設外
C4: 総 数 | D4: 病院 | E4: 診療所 | F4: 助産所 | G4: 総 数 | H4: 自宅 | I4: その他
B5: 出生数
A6: 85 60 | B6: =SUM(C6,G6) -> 19314 | C6: =SUM(D6:F6) -> 19238 | D6: 11970 | E6: 6993 | F6: 275 | G6: =SUM(H6:I6) -> 76 | H6: 62 | I6: 14
A7: 1986 昭和61年 | B7: =SUM(C7,G7) -> 19130 | C7: =SUM(D7:F7) -> 19060 | D7: 12102 | E7: 6720 | F7: 238 | G7: =SUM(H7:I7) -> 70 | H7: 60 | I7: 10
A8: 1987 昭和62年 | B8: =SUM(C8,G8) -> 18533 | C8: =SUM(D8:F8) -> 18465 | D8: 11818 | E8: 6439 | F8: 208 | G8: =SUM(H8:I8) -> 68 | H8: 63 | I8: 5
A9: 1988 昭和63年 | B9: 18216 | C9: 18165 | D9: 12235 | E9: 5779 | F9: 151 | G9: 51 | H9: 42 | I9: 9
A10: 89 平成元年 | B10: 17479 | C10: 17429 | D10: 12244 | E10: 5031 | F10: 154 | G10: 50 | H10: 45 | I10: 5
A11: 90 2 | B11: 17425 | C11: 17382 | D11: 12413 | E11: 4883 | F11: 86 | G11: 43 | H11: 39 | I11: 4
A12: 91 3 | B12: 17458 | C12: 17412 | D12: 12811 | E12: 4535 | F12: 66 | G12: 46 | H12: 41 | I12: 5
A13: 92 4 | B13: 17325 | C13: 17285 | D13: 12932 | E13: 4260 | F13: 93 | G13: 40 | H13: 33 | I13: 7
A14: 1993 平成5年 | B14: 16371 | C14: 16352 | D14: 12306 | E14: 3971 | F14: 75 | G14: 19 | H14: 18 | I14: 1
A15: 94 6 | B15: 17057 | C15: 17015 | D15: 12902 | E15: 4020 | F15: 93 | G15: 42 | H15: 37 | I15: 5
A16: 95 7 | B16: 16227 | C16: 16186 | D16: 11791 | E16: 4305 | F16: 90 | G16: 41 | H16: 36 | I16: 5
A17: 96 8 | B17: 16339 | C17: 16297 | D17: 11255 | E17: 4953 | F17: 89 | G17: 42 | H17: 40 | I17: 2
A18: 97 9 | B18: 15873 | C18: 15822 | D18: 10697 | E18: 5036 | F18: 89 | G18: 51 | H18: 48 | I18: 3
A19: 1998 平成10年 | B19: 16165 | C19: 16090 | D19: 10765 | E19: 5249 | F19: 76 | G19: 75 | H19: 70 | I19: 5
A20: 99 11 | B20: 15358 | C20: 15256 | D20: 10020 | E20: 5171 | F20: 65 | G20: 102 | H20: 92 | I20: 10
... A38: 17 29 | B38: 13821 | C38: 13798 | D38: 8325 | E38: 5440 | F38: 33 | G38: 23 | H38: 19 | I38: 4
A39: 18 30 | B39: =SUM(C39,G39) -> 13248 | C39: =SUM(D39:F39) -> 13214 | D39: ='5 出生の場所・出産時の立会者別，区別出生数 '!$F$6 -> 8305 | E39: ='5 出生の場所・出産時の立会者別，区別出生数 '!$I$6 -> 4884 | F39: ='5 出生の場所・出産時の立会者別，区別出生数 '!$L$6 -> 25 | G39: =SUM(H39:I39) -> 34 | H39: ='5 出生の場所・出産時の立会者別，区別出生数 '!$O$6 -> 26 | I39: ='5 出生の場所・出産時の立会者別，区別出生数 '!$S$6 -> 8
B40: 百分率
A41: 85 60 | B41: =SUM(C41,G41) -> 100 | C41: =C6/$B6*100 -> 99.606503 | D41: =D6/$B6*100 -> 61.975769 | E41: =E6/$B6*100 -> 36.206897 | F41: =F6/$B6*100 -> 1.4238376 | G41: =G6/$B6*100 -> 0.39349695 | H41: =H6/$B6*100 -> 0.32101067 | I41: =I6/$B6*100 -> 0.072486279
A42: 1986 昭和61年 | B42: =SUM(C42,G42) -> 100 | C42: =C7/$B7*100 -> 99.634083 | D42: =D7/$B7*100 -> 63.261892 | E42: =E7/$B7*100 -> 35.128071 | F42: =F7/$B7*100 -> 1.2441192 | G42: =G7/$B7*100 -> 0.36591741 | H42: =H7/$B7*100 -> 0.31364349 | I42: =I7/$B7*100 -> 0.052273915
A43: 1987 昭和62年 | B43: =SUM(C43,G43) -> 100 | C43: =C8/$B8*100 -> 99.633087 | D43: =D8/$B8*100 -> 63.767334 | E43: =E8/$B8*100 -> 34.743431 | F43: =F8/$B8*100 -> 1.1223223 | G43: =G8/$B8*100 -> 0.36691307 | H43: =H8/$B8*100 -> 0.33993417 | I43: =I8/$B8*100 -> 0.026978902
A44: 1988 昭和63年 | B44: 100 | C44: 99.720026 | D44: 67.166227 | E44: 31.724857 | F44: 0.82894159 | G44: 0.27997365 | H44: 0.23056653 | I44: 0.049407115
A45: 89 平成元年 | B45: 100 | C45: 99.713942 | D45: 70.049774 | E45: 28.783111 | F45: 0.88105727 | G45: 0.28605755 | H45: 0.2574518 | I45: 0.028605755
A46: 90 2 | B46: 100 | C46: 99.753228 | D46: 71.236729 | E46: 28.022956 | F46: 0.49354376 | G46: 0.24677188 | H46: 0.22381636 | I46: 0.022955524
A47: 91 3 | B47: 100 | C47: 99.73651 | D47: 73.381831 | E47: 25.97663 | F47: 0.37805018 | G47: 0.26348952 | H47: 0.23484935 | I47: 0.028640165
A48: 92 4 | B48: 100 | C48: 99.76912 | D48: 74.643579 | E48: 24.588745 | F48: 0.53679654 | G48: 0.23088023 | H48: 0.19047619 | I48: 0.04040404
A49: 1993 平成5年 | B49: 100 | C49: 99.883941 | D49: 75.169507 | E49: 24.256307 | F49: 0.45812718 | G49: 0.11605888 | H49: 0.10995052 | I49: 0.0061083623
A50: 94 6 | B50: 100 | C50: 99.753767 | D50: 75.6405 | E50: 23.568037 | F50: 0.5452307 | G50: 0.24623322 | H50: 0.21691974 | I50: 0.029313478
A51: 95 7 | B51: 100 | C51: 99.747335 | D51: 72.662846 | E51: 26.529858 | F51: 0.55463117 | G51: 0.25266531 | H51: 0.22185247 | I51: 0.030812843
A52: 96 8 | B52: 100 | C52: 99.742946 | D52: 68.884265 | E52: 30.313973 | F52: 0.54470898 | G52: 0.25705368 | H52: 0.24481302 | I52: 0.012240651
A53: 97 9 | B53: 100 | C53: 99.6787 | D53: 67.391167 | E53: 31.726832 | F53: 0.56070056 | G53: 0.32130032 | H53: 0.3024003 | I53: 0.018900019
A54: 1998 平成10年 | B54: 100 | C54: 99.536035 | D54: 66.594494 | E54: 32.471389 | F54: 0.47015156 | G54: 0.46396536 | H54: 0.43303433 | I54: 0.030931024
A55: 99 11 | B55: 100 | C55: 99.335851 | D55: 65.24287 | E55: 33.669749 | F55: 0.42323219 | G55: 0.66414898 | H55: 0.59903633 | I55: 0.065112645
... A73: 17 29 | B73: 100 | C73: 99.833587 | D73: 60.234426 | E73: 39.360394 | F73: 0.23876709 | G73: 0.16641343 | H73: 0.13747196 | I73: 0.028941466
A74: 18 30 | B74: =SUM(C74,G74) -> 100 | C74: =C39/$B39*100 -> 99.743357 | D74: =D39/$B39*100 -> 62.688708 | E74: =E39/$B39*100 -> 36.865942 | F74: =F39/$B39*100 -> 0.18870773 | G74: =G39/$B39*100 -> 0.25664251 | H74: =H39/$B39*100 -> 0.19625604 | I74: =I39/$B39*100 -> 0.060386473

Sheet 5　出生の場所・出産時の立会者別，区別出生数　
A1: 5 出生の場所・出産時の立会者別にみた区別出生数
V2: ='3 月・性別，区別出生数・出生率'!$O$2 -> 平成30年
A3: 区 | B3: 総 数 | F3: 施設内 | O3: 施設外
F4: 病 院 | I4: 診 療 所 | L4: 助産所 | O4: 自 宅 | S4: そ の 他
B5: 総数 | C5: 医師 | D5: 助産師 | E5: その他 | F5: 総数 | G5: 医師 | H5: 助産師 | I5: 総数 | J5: 医師 | K5: 助産師 | L5: 総数 | M5: 医師 | N5: 助産師 | O5: 総数 | P5: 医師 | Q5: 助産師 | R5: その他 | S5: 総数 | T5: 医師 | U5: 助産師 | V5: その他
A6: 総数 | B6: =SUM(F6,I6,L6,O6,S6) -> 13248 | C6: =SUM(G6,J6,M6,P6,T6) -> 12144 | D6: =SUM(H6,K6,N6,Q6,U6) -> 1096 | E6: =SUM(R6,V6) -> 8 | F6: =SUM(F7:F16) -> 8305 | G6: =SUM(G7:G16) -> 7689 | H6: =SUM(H7:H16) -> 616 | I6: =SUM(I7:I16) -> 4884 | J6: =SUM(J7:J16) -> 4445 | K6: =SUM(K7:K16) -> 439 | L6: =SUM(L7:L16) -> 25 | M6: =SUM(M7:M16) -> 1 | ... V6: =SUM(V7:V16) -> 3
A7: 中央 | B7: =SUM(F7,I7,L7,O7,S7) -> 1744 | C7: =SUM(G7,J7,M7,P7,T7) -> 1474 | D7: =SUM(H7,K7,N7,Q7,U7) -> 267 | E7: =SUM(R7,V7) -> 3 | F7: =SUM(G7:H7) -> 1227 | G7: 991 | H7: 236 | I7: =SUM(J7:K7) -> 508 | J7: 482 | K7: 26 | L7: =SUM(M7:N7) -> 3 | M7: 0 | N7: 3 | O7: =SUM(P7:R7) -> 5 | P7: 1 | Q7: 2 | R7: 2 | S7: =SUM(T7:V7) -> 1 | T7: 0 | U7: 0 | V7: 1
A8: 北 | B8: =SUM(F8,I8,L8,O8,S8) -> 1847 | C8: =SUM(G8,J8,M8,P8,T8) -> 1688 | D8: =SUM(H8,K8,N8,Q8,U8) -> 159 | E8: =SUM(R8,V8) -> 0 | F8: =SUM(G8:H8) -> 1127 | G8: 1065 | H8: 62 | I8: =SUM(J8:K8) -> 710 | J8: 621 | K8: 89 | L8: =SUM(M8:N8) -> 8 | M8: 0 | N8: 8 | O8: =SUM(P8:R8) -> 2 | P8: 2 | Q8: 0 | R8: 0 | S8: =SUM(T8:V8) -> 0 | T8: 0 | U8: 0 | V8: 0
A9: 東 | B9: =SUM(F9,I9,L9,O9,S9) -> 1978 | C9: =SUM(G9,J9,M9,P9,T9) -> 1916 | D9: =SUM(H9,K9,N9,Q9,U9) -> 59 | E9: =SUM(R9,V9) -> 3 | F9: =SUM(G9:H9) -> 1695 | G9: 1650 | H9: 45 | I9: =SUM(J9:K9) -> 275 | J9: 264 | K9: 11 | L9: =SUM(M9:N9) -> 3 | M9: 0 | N9: 3 | O9: =SUM(P9:R9) -> 4 | P9: 2 | Q9: 0 | R9: 2 | S9: =SUM(T9:V9) -> 1 | T9: 0 | U9: 0 | V9: 1
A10: 白石 | B10: =SUM(F10,I10,L10,O10,S10) -> 1711 | C10: =SUM(G10,J10,M10,P10,T10) -> 1635 | D10: =SUM(H10,K10,N10,Q10,U10) -> 75 | E10: =SUM(R10,V10) -> 1 | F10: =SUM(G10:H10) -> 1437 | G10: 1370 | H10: 67 | I10: =SUM(J10:K10) -> 271 | J10: 265 | K10: 6 | L10: =SUM(M10:N10) -> 0 | M10: 0 | N10: 0 | O10: =SUM(P10:R10) -> 2 | P10: 0 | Q10: 2 | R10: 0 | S10: =SUM(T10:V10) -> 1 | T10: 0 | U10: 0 | V10: 1
A11: 厚別 | B11: =SUM(F11,I11,L11,O11,S11) -> 661 | C11: =SUM(G11,J11,M11,P11,T11) -> 637 | D11: =SUM(H11,K11,N11,Q11,U11) -> 24 | E11: =SUM(R11,V11) -> 0 | F11: =SUM(G11:H11) -> 346 | G11: 324 | H11: 22 | I11: =SUM(J11:K11) -> 314 | J11: 313 | K11: 1 | L11: =SUM(M11:N11) -> 0 | M11: 0 | N11: 0 | O11: =SUM(P11:R11) -> 0 | P11: 0 | Q11: 0 | R11: 0 | S11: =SUM(T11:V11) -> 1 | T11: 0 | U11: 1 | V11: 0
A12: 豊平 | B12: =SUM(F12,I12,L12,O12,S12) -> 1682 | C12: =SUM(G12,J12,M12,P12,T12) -> 1600 | D12: =SUM(H12,K12,N12,Q12,U12) -> 82 | E12: =SUM(R12,V12) -> 0 | F12: =SUM(G12:H12) -> 994 | G12: 924 | H12: 70 | I12: =SUM(J12:K12) -> 685 | J12: 675 | K12: 10 | L12: =SUM(M12:N12) -> 1 | M12: 0 | N12: 1 | O12: =SUM(P12:R12) -> 1 | P12: 0 | Q12: 1 | R12: 0 | S12: =SUM(T12:V12) -> 1 | T12: 1 | U12: 0 | V12: 0
A13: 清田 | B13: =SUM(F13,I13,L13,O13,S13) -> 644 | C13: =SUM(G13,J13,M13,P13,T13) -> 622 | D13: =SUM(H13,K13,N13,Q13,U13) -> 22 | E13: =SUM(R13,V13) -> 0 | F13: =SUM(G13:H13) -> 198 | G13: 179 | H13: 19 | I13: =SUM(J13:K13) -> 444 | J13: 443 | K13: 1 | L13: =SUM(M13:N13) -> 0 | M13: 0 | N13: 0 | O13: =SUM(P13:R13) -> 1 | P13: 0 | Q13: 1 | R13: 0 | S13: =SUM(T13:V13) -> 1 | T13: 0 | U13: 1 | V13: 0
A14: 南 | B14: =SUM(F14,I14,L14,O14,S14) -> 642 | C14: =SUM(G14,J14,M14,P14,T14) -> 626 | D14: =SUM(H14,K14,N14,Q14,U14) -> 16 | E14: =SUM(R14,V14) -> 0 | F14: =SUM(G14:H14) -> 359 | G14: 348 | H14: 11 | I14: =SUM(J14:K14) -> 278 | J14: 277 | K14: 1 | L14: =SUM(M14:N14) -> 1 | M14: 0 | N14: 1 | O14: =SUM(P14:R14) -> 3 | P14: 0 | Q14: 3 | R14: 0 | S14: =SUM(T14:V14) -> 1 | T14: 1 | U14: 0 | V14: 0
A15: 西 | B15: =SUM(F15,I15,L15,O15,S15) -> 1530 | C15: =SUM(G15,J15,M15,P15,T15) -> 1219 | D15: =SUM(H15,K15,N15,Q15,U15) -> 310 | E15: =SUM(R15,V15) -> 1 | F15: =SUM(G15:H15) -> 665 | G15: 596 | H15: 69 | I15: =SUM(J15:K15) -> 852 | J15: 621 | K15: 231 | L15: =SUM(M15:N15) -> 8 | M15: 1 | N15: 7 | O15: =SUM(P15:R15) -> 4 | P15: 0 | Q15: 3 | R15: 1 | S15: =SUM(T15:V15) -> 1 | T15: 1 | U15: 0 | V15: 0
A16: 手稲 | B16: =SUM(F16,I16,L16,O16,S16) -> 809 | C16: =SUM(G16,J16,M16,P16,T16) -> 727 | D16: =SUM(H16,K16,N16,Q16,U16) -> 82 | E16: =SUM(R16,V16) -> 0 | F16: =SUM(G16:H16) -> 257 | G16: 242 | H16: 15 | I16: =SUM(J16:K16) -> 547 | J16: 484 | K16: 63 | L16: =SUM(M16:N16) -> 1 | M16: 0 | N16: 1 | O16: =SUM(P16:R16) -> 4 | P16: 1 | Q16: 3 | R16: 0 | S16: =SUM(T16:V16) -> 0 | T16: 0 | U16: 0 | V16: 0

Sheet 6　母の年齢階級，年次別出生数・百分率
A1: 6 母の年齢(5歳階級)別にみた年次別出生数及び百分率
A3: 年次 | B3: 総数 | C3: 14歳以下 | D3: 15～19 | E3: 20～24 | F3: 25～29 | G3: 30～34 | H3: 35～39 | I3: 40～44 | J3: 45～49 | K3: 50～ | L3: 不詳
B4: 出生数
A5: 85 60 | B5: =SUM(C5:L5) -> 19314 | C5: 1 | D5: 248 | E5: 3111 | F5: 8471 | G5: 5770 | H5: 1584 | I5: 123 | J5: 4 | K5: 0 | L5: 2
A6: 1986 昭和61年 | B6: =SUM(C6:L6) -> 19130 | C6: 1 | D6: 232 | E6: 3128 | F6: 8352 | G6: 5706 | H6: 1598 | I6: 107 | J6: 4 | K6: 0 | L6: 2
A7: 1987 昭和62年 | B7: =SUM(C7:L7) -> 18533 | C7: 0 | D7: 229 | E7: 2825 | F7: 8121 | G7: 5577 | H7: 1635 | I7: 140 | J7: 5 | K7: 0 | L7: 1
A8: 1988 昭和63年 | B8: 18216 | C8: 0 | D8: 271 | E8: 2939 | F8: 7803 | G8: 5497 | H8: 1563 | I8: 141 | J8: 2 | K8: 0 | L8: 0
A9: 89 平成元年 | B9: 17479 | C9: 1 | D9: 235 | E9: 2789 | F9: 7339 | G9: 5316 | H9: 1610 | I9: 187 | J9: 1 | K9: 0 | L9: 1
A10: 90 2 | B10: 17425 | C10: 0 | D10: 280 | E10: 2703 | F10: 7330 | G10: 5256 | H10: 1658 | I10: 195 | J10: 3 | K10: 0 | L10: 0
A11: 91 3 | B11: 17458 | C11: 0 | D11: 260 | E11: 2858 | F11: 7149 | G11: 5439 | H11: 1542 | I11: 208 | J11: 2 | K11: 0 | L11: 0
A12: 92 4 | B12: 17325 | C12: 0 | D12: 288 | E12: 2818 | F12: 6963 | G12: 5428 | H12: 1598 | I12: 224 | J12: 4 | K12: 0 | L12: 2
A13: 1993 平成5年 | B13: 16371 | C13: 0 | D13: 253 | E13: 2630 | F13: 6609 | G13: 5169 | H13: 1477 | I13: 228 | J13: 5 | K13: 0 | L13: 0
A14: 94 6 | B14: 17057 | C14: 0 | D14: 235 | E14: 2724 | F14: 6763 | G14: 5492 | H14: 1645 | I14: 188 | J14: 9 | K14: 0 | L14: 1
A15: 95 7 | B15: 16227 | C15: 0 | D15: 237 | E15: 2672 | F15: 6369 | G15: 5216 | H15: 1548 | I15: 179 | J15: 6 | K15: 0 | L15: 0
A16: 96 8 | B16: 16339 | C16: 0 | D16: 217 | E16: 2550 | F16: 6288 | G16: 5364 | H16: 1715 | I16: 197 | J16: 8 | K16: 0 | L16: 0
A17: 97 9 | B17: 15873 | C17: 1 | D17: 225 | E17: 2428 | F17: 6157 | G17: 5175 | H17: 1663 | I17: 216 | J17: 8 | K17: 0 | L17: 0
A18: 1998 平成10年 | B18: 16165 | C18: 2 | D18: 254 | E18: 2393 | F18: 6075 | G18: 5378 | H18: 1831 | I18: 225 | J18: 7 | K18: 0 | L18: 0
A19: 99 11 | B19: 15358 | C19: 1 | D19: 251 | E19: 2217 | F19: 5790 | G19: 5103 | H19: 1782 | I19: 209 | J19: 4 | K19: 0 | L19: 1
... A37: 17 29 | B37: 13821 | C37: 0 | D37: 121 | E37: 1144 | F37: 3423 | G37: 5100 | H37: 3212 | I37: 798 | J37: 23 | K37: 0 | L37: 0
A38: 18 30 | B38: =SUM(C38:L38) -> 13248 | C38: ='7 母の年齢階級・性別，区別出生数・百分率'!D5 -> 3 | D38: ='7 母の年齢階級・性別，区別出生数・百分率'!E5 -> 102 | E38: ='7 母の年齢階級・性別，区別出生数・百分率'!F5 -> 1125 | F38: ='7 母の年齢階級・性別，区別出生数・百分率'!G5 -> 3246 | G38: ='7 母の年齢階級・性別，区別出生数・百分率'!H5 -> 4783 | H38: ='7 母の年齢階級・性別，区別出生数・百分率'!I5 -> 3230 | I38: ='7 母の年齢階級・性別，区別出生数・百分率'!J5 -> 739 | J38: ='7 母の年齢階級・性別，区別出生数・百分率'!K5 -> 20 | ... L38: ='7 母の年齢階級・性別，区別出生数・百分率'!M5 -> 0
B39: 百分率
A40: 85 60 | B40: =SUM(C40:L40) -> 100 | C40: =C5/$B5*100 -> 0.0051775914 | D40: =D5/$B5*100 -> 1.2840427 | E40: =E5/$B5*100 -> 16.107487 | F40: =F5/$B5*100 -> 43.859377 | G40: =G5/$B5*100 -> 29.874702 | H40: =H5/$B5*100 -> 8.2013048 | I40: =I5/$B5*100 -> 0.63684374 | J40: =J5/$B5*100 -> 0.020710366 | ... L40: =L5/$B5*100 -> 0.010355183
A41: 1986 昭和61年 | B41: =SUM(C41:L41) -> 100 | C41: =C6/$B6*100 -> 0.0052273915 | D41: =D6/$B6*100 -> 1.2127548 | E41: =E6/$B6*100 -> 16.351281 | F41: =F6/$B6*100 -> 43.659174 | G41: =G6/$B6*100 -> 29.827496 | H41: =H6/$B6*100 -> 8.3533717 | I41: =I6/$B6*100 -> 0.55933089 | J41: =J6/$B6*100 -> 0.020909566 | ... L41: =L6/$B6*100 -> 0.010454783
A42: 1987 昭和62年 | B42: =SUM(C42:L42) -> 100 | C42: =C7/$B7*100 -> 0 | D42: =D7/$B7*100 -> 1.2356337 | E42: =E7/$B7*100 -> 15.24308 | F42: =F7/$B7*100 -> 43.819133 | G42: =G7/$B7*100 -> 30.092268 | H42: =H7/$B7*100 -> 8.8221011 | I42: =I7/$B7*100 -> 0.75540927 | J42: =J7/$B7*100 -> 0.026978902 | ... L42: =L7/$B7*100 -> 0.0053957805
A43: 1988 昭和63年 | B43: 100 | C43: 0 | D43: 1.4877031 | E43: 16.134168 | F43: 42.835968 | G43: 30.176768 | H43: 8.5803689 | I43: 0.7740448 | J43: 0.010979359 | K43: 0 | L43: 0
A44: 89 平成元年 | B44: 100 | C44: 0.0057211511 | D44: 1.3444705 | E44: 15.95629 | F44: 41.987528 | G44: 30.413639 | H44: 9.2110533 | I44: 1.0698553 | J44: 0.0057211511 | K44: 0 | L44: 0.0057211511
A45: 90 2 | B45: 100 | C45: 0 | D45: 1.6068867 | E45: 15.512195 | F45: 42.065997 | G45: 30.163558 | H45: 9.5150646 | I45: 1.1190818 | J45: 0.017216643 | K45: 0 | L45: 0
A46: 91 3 | B46: 100 | C46: 0 | D46: 1.4892886 | E46: 16.370718 | F46: 40.949708 | G46: 31.154771 | H46: 8.8326269 | I46: 1.1914309 | J46: 0.011456066 | K46: 0 | L46: 0
A47: 92 4 | B47: 100 | C47: 0 | D47: 1.6623377 | E47: 16.265512 | F47: 40.190476 | G47: 31.330447 | H47: 9.2236652 | I47: 1.2929293 | J47: 0.023088023 | K47: 0 | L47: 0.011544012
A48: 1993 平成5年 | B48: 100 | C48: 0 | D48: 1.5454157 | E48: 16.064993 | F48: 40.370167 | G48: 31.574125 | H48: 9.0220512 | I48: 1.3927066 | J48: 0.030541812 | K48: 0 | L48: 0
A49: 94 6 | B49: 100 | C49: 0 | D49: 1.3777335 | E49: 15.969983 | F49: 39.649411 | G49: 32.197925 | H49: 9.6441344 | I49: 1.1021868 | J49: 0.052764261 | K49: 0 | L49: 0.0058626957
A50: 95 7 | B50: 100 | C50: 0 | D50: 1.4605287 | E50: 16.466383 | F50: 39.249399 | G50: 32.143958 | H50: 9.5396561 | I50: 1.1030998 | J50: 0.036975411 | K50: 0 | L50: 0
A51: 96 8 | B51: 100 | C51: 0 | D51: 1.3281107 | E51: 15.60683 | F51: 38.484607 | G51: 32.829427 | H51: 10.496358 | I51: 1.2057041 | J51: 0.048962605 | K51: 0 | L51: 0
A52: 97 9 | B52: 100 | C52: 0.0063000063 | D52: 1.4175014 | E52: 15.296415 | F52: 38.789139 | G52: 32.602533 | H52: 10.47691 | I52: 1.3608014 | J52: 0.05040005 | K52: 0 | L52: 0
A53: 1998 平成10年 | B53: 100 | C53: 0.01237241 | D53: 1.571296 | E53: 14.803588 | F53: 37.581194 | G53: 33.269409 | H53: 11.326941 | I53: 1.3918961 | J53: 0.043303433 | K53: 0 | L53: 0
A54: 99 11 | B54: 100 | C54: 0.0065112645 | D54: 1.6343274 | E54: 14.435473 | F54: 37.700221 | G54: 33.226983 | H54: 11.603073 | I54: 1.3608543 | J54: 0.026045058 | K54: 0 | L54: 0.0065112645
... A72: 17 29 | B72: 100 | C72: 0 | D72: 0.87547934 | E72: 8.2772592 | F72: 24.766659 | G72: 36.900369 | H72: 23.239997 | I72: 5.7738224 | J72: 0.16641343 | K72: 0 | L72: 0
A73: 18 30 | B73: =SUM(C73:L73) -> 100 | C73: =C38/$B38*100 -> 0.022644928 | D73: =D38/$B38*100 -> 0.76992754 | E73: =E38/$B38*100 -> 8.4918478 | F73: =F38/$B38*100 -> 24.501812 | G73: =G38/$B38*100 -> 36.103563 | H73: =H38/$B38*100 -> 24.381039 | I73: =I38/$B38*100 -> 5.5782005 | J73: =J38/$B38*100 -> 0.15096618 | ... L73: =L38/$B38*100 -> 0

Sheet 7　母の年齢階級・性別，区別出生数・百分率
A1: 7 母の年齢(5歳階級)・性別にみた区別出生数及び百分率
M2: ='3 月・性別，区別出生数・出生率'!$O$2 -> 平成30年
A3: 区・性 | C3: 総数 | D3: 14歳以下 | E3: 15～19 | F3: 20～24 | G3: 25～29 | H3: 30～34 | I3: 35～39 | J3: 40～44 | K3: 45～49 | L3: 50～ | M3: 不詳
C4: 出生数
A5: 総数 | C5: =SUM(C8,C11,C14,C17,C20,C23,C26,C29,C32,C35) -> 13248 | D5: =SUM(D8,D11,D14,D17,D20,D23,D26,D29,D32,D35) -> 3 | E5: =SUM(E8,E11,E14,E17,E20,E23,E26,E29,E32,E35) -> 102 | F5: =SUM(F8,F11,F14,F17,F20,F23,F26,F29,F32,F35) -> 1125 | G5: =SUM(G8,G11,G14,G17,G20,G23,G26,G29,G32,G35) -> 3246 | H5: =SUM(H8,H11,H14,H17,H20,H23,H26,H29,H32,H35) -> 4783 | I5: =SUM(I8,I11,I14,I17,I20,I23,I26,I29,I32,I35) -> 3230 | J5: =SUM(J8,J11,J14,J17,J20,J23,J26,J29,J32,J35) -> 739 | ... M5: =SUM(M8,M11,M14,M17,M20,M23,M26,M29,M32,M35) -> 0
B6: 男 | C6: =SUM(C9,C12,C15,C18,C21,C24,C27,C30,C33,C36) -> 6744 | D6: =SUM(D9,D12,D15,D18,D21,D24,D27,D30,D33,D36) -> 0 | E6: =SUM(E9,E12,E15,E18,E21,E24,E27,E30,E33,E36) -> 60 | F6: =SUM(F9,F12,F15,F18,F21,F24,F27,F30,F33,F36) -> 562 | G6: =SUM(G9,G12,G15,G18,G21,G24,G27,G30,G33,G36) -> 1619 | H6: =SUM(H9,H12,H15,H18,H21,H24,H27,H30,H33,H36) -> 2447 | I6: =SUM(I9,I12,I15,I18,I21,I24,I27,I30,I33,I36) -> 1666 | J6: =SUM(J9,J12,J15,J18,J21,J24,J27,J30,J33,J36) -> 378 | ... M6: =SUM(M9,M12,M15,M18,M21,M24,M27,M30,M33,M36) -> 0
B7: 女 | C7: =SUM(C10,C13,C16,C19,C22,C25,C28,C31,C34,C37) -> 6504 | D7: =SUM(D10,D13,D16,D19,D22,D25,D28,D31,D34,D37) -> 3 | E7: =SUM(E10,E13,E16,E19,E22,E25,E28,E31,E34,E37) -> 42 | F7: =SUM(F10,F13,F16,F19,F22,F25,F28,F31,F34,F37) -> 563 | G7: =SUM(G10,G13,G16,G19,G22,G25,G28,G31,G34,G37) -> 1627 | H7: =SUM(H10,H13,H16,H19,H22,H25,H28,H31,H34,H37) -> 2336 | I7: =SUM(I10,I13,I16,I19,I22,I25,I28,I31,I34,I37) -> 1564 | J7: =SUM(J10,J13,J16,J19,J22,J25,J28,J31,J34,J37) -> 361 | ... M7: =SUM(M10,M13,M16,M19,M22,M25,M28,M31,M34,M37) -> 0
A8: 中央 | C8: =SUM(D8:M8) -> 1744 | D8: =SUM(D9:D10) -> 0 | E8: =SUM(E9:E10) -> 9 | F8: =SUM(F9:F10) -> 126 | G8: =SUM(G9:G10) -> 383 | H8: =SUM(H9:H10) -> 615 | I8: =SUM(I9:I10) -> 465 | J8: =SUM(J9:J10) -> 144 | K8: =SUM(K9:K10) -> 2 | ... M8: =SUM(M9:M10) -> 0
B9: 男 | C9: =SUM(D9:M9) -> 918 | D9: 0 | E9: 6 | F9: 60 | G9: 207 | H9: 316 | I9: 254 | J9: 74 | K9: 1 | L9: 0 | M9: 0
B10: 女 | C10: =SUM(D10:M10) -> 826 | D10: 0 | E10: 3 | F10: 66 | G10: 176 | H10: 299 | I10: 211 | J10: 70 | K10: 1 | L10: 0 | M10: 0
A11: 北 | C11: =SUM(D11:M11) -> 1847 | D11: =SUM(D12:D13) -> 1 | E11: =SUM(E12:E13) -> 13 | F11: =SUM(F12:F13) -> 159 | G11: =SUM(G12:G13) -> 457 | H11: =SUM(H12:H13) -> 651 | I11: =SUM(I12:I13) -> 459 | J11: =SUM(J12:J13) -> 105 | K11: =SUM(K12:K13) -> 2 | ... M11: =SUM(M12:M13) -> 0
B12: 男 | C12: =SUM(D12:M12) -> 922 | D12: 0 | E12: 3 | F12: 85 | G12: 215 | H12: 331 | I12: 227 | J12: 59 | K12: 2 | L12: 0 | M12: 0
B13: 女 | C13: =SUM(D13:M13) -> 925 | D13: 1 | E13: 10 | F13: 74 | G13: 242 | H13: 320 | I13: 232 | J13: 46 | K13: 0 | L13: 0 | M13: 0
A14: 東 | C14: =SUM(D14:M14) -> 1978 | D14: =SUM(D15:D16) -> 1 | E14: =SUM(E15:E16) -> 27 | F14: =SUM(F15:F16) -> 173 | G14: =SUM(G15:G16) -> 521 | H14: =SUM(H15:H16) -> 719 | I14: =SUM(I15:I16) -> 433 | J14: =SUM(J15:J16) -> 100 | K14: =SUM(K15:K16) -> 4 | ... M14: =SUM(M15:M16) -> 0
B15: 男 | C15: =SUM(D15:M15) -> 995 | D15: 0 | E15: 19 | F15: 78 | G15: 268 | H15: 375 | I15: 205 | J15: 50 | K15: 0 | L15: 0 | M15: 0
B16: 女 | C16: =SUM(D16:M16) -> 983 | D16: 1 | E16: 8 | F16: 95 | G16: 253 | H16: 344 | I16: 228 | J16: 50 | K16: 4 | L16: 0 | M16: 0
A17: 白石 | C17: =SUM(D17:M17) -> 1711 | D17: =SUM(D18:D19) -> 0 | E17: =SUM(E18:E19) -> 10 | F17: =SUM(F18:F19) -> 184 | G17: =SUM(G18:G19) -> 440 | H17: =SUM(H18:H19) -> 620 | I17: =SUM(I18:I19) -> 380 | J17: =SUM(J18:J19) -> 76 | K17: =SUM(K18:K19) -> 1 | ... M17: =SUM(M18:M19) -> 0
B18: 男 | C18: =SUM(D18:M18) -> 882 | D18: 0 | E18: 5 | F18: 98 | G18: 214 | H18: 317 | I18: 211 | J18: 36 | K18: 1 | L18: 0 | M18: 0
B19: 女 | C19: =SUM(D19:M19) -> 829 | D19: 0 | E19: 5 | F19: 86 | G19: 226 | H19: 303 | I19: 169 | J19: 40 | K19: 0 | L19: 0 | M19: 0
A20: 厚別 | C20: =SUM(D20:M20) -> 661 | D20: =SUM(D21:D22) -> 0 | E20: =SUM(E21:E22) -> 6 | F20: =SUM(F21:F22) -> 45 | G20: =SUM(G21:G22) -> 145 | H20: =SUM(H21:H22) -> 247 | I20: =SUM(I21:I22) -> 175 | J20: =SUM(J21:J22) -> 43 | K20: =SUM(K21:K22) -> 0 | ... M20: =SUM(M21:M22) -> 0
B21: 男 | C21: =SUM(D21:M21) -> 360 | D21: 0 | E21: 5 | F21: 27 | G21: 78 | H21: 131 | I21: 94 | J21: 25 | K21: 0 | L21: 0 | M21: 0
B22: 女 | C22: =SUM(D22:M22) -> 301 | D22: 0 | E22: 1 | F22: 18 | G22: 67 | H22: 116 | I22: 81 | J22: 18 | K22: 0 | L22: 0 | M22: 0
A23: 豊平 | C23: =SUM(D23:M23) -> 1682 | D23: =SUM(D24:D25) -> 0 | E23: =SUM(E24:E25) -> 18 | F23: =SUM(F24:F25) -> 145 | G23: =SUM(G24:G25) -> 457 | H23: =SUM(H24:H25) -> 630 | I23: =SUM(I24:I25) -> 352 | J23: =SUM(J24:J25) -> 79 | K23: =SUM(K24:K25) -> 1 | ... M23: =SUM(M24:M25) -> 0
B24: 男 | C24: =SUM(D24:M24) -> 855 | D24: 0 | E24: 13 | F24: 64 | G24: 241 | H24: 319 | I24: 178 | J24: 39 | K24: 1 | L24: 0 | M24: 0
B25: 女 | C25: =SUM(D25:M25) -> 827 | D25: 0 | E25: 5 | F25: 81 | G25: 216 | H25: 311 | I25: 174 | J25: 40 | K25: 0 | L25: 0 | M25: 0
A26: 清田 | C26: =SUM(D26:M26) -> 644 | D26: =SUM(D27:D28) -> 0 | E26: =SUM(E27:E28) -> 3 | F26: =SUM(F27:F28) -> 57 | G26: =SUM(G27:G28) -> 136 | H26: =SUM(H27:H28) -> 214 | I26: =SUM(I27:I28) -> 192 | J26: =SUM(J27:J28) -> 39 | K26: =SUM(K27:K28) -> 3 | ... M26: =SUM(M27:M28) -> 0
B27: 男 | C27: =SUM(D27:M27) -> 319 | D27: 0 | E27: 2 | F27: 30 | G27: 71 | H27: 99 | I27: 98 | J27: 16 | K27: 3 | L27: 0 | M27: 0
B28: 女 | C28: =SUM(D28:M28) -> 325 | D28: 0 | E28: 1 | F28: 27 | G28: 65 | H28: 115 | I28: 94 | J28: 23 | K28: 0 | L28: 0 | M28: 0
A29: 南 | C29: =SUM(D29:M29) -> 642 | D29: =SUM(D30:D31) -> 0 | E29: =SUM(E30:E31) -> 5 | F29: =SUM(F30:F31) -> 49 | G29: =SUM(G30:G31) -> 158 | H29: =SUM(H30:H31) -> 235 | I29: =SUM(I30:I31) -> 157 | J29: =SUM(J30:J31) -> 36 | K29: =SUM(K30:K31) -> 2 | ... M29: =SUM(M30:M31) -> 0
B30: 男 | C30: =SUM(D30:M30) -> 326 | D30: 0 | E30: 3 | F30: 25 | G30: 68 | H30: 125 | I30: 84 | J30: 20 | K30: 1 | L30: 0 | M30: 0
B31: 女 | C31: =SUM(D31:M31) -> 316 | D31: 0 | E31: 2 | F31: 24 | G31: 90 | H31: 110 | I31: 73 | J31: 16 | K31: 1 | L31: 0 | M31: 0
A32: 西 | C32: =SUM(D32:M32) -> 1530 | D32: =SUM(D33:D34) -> 1 | E32: =SUM(E33:E34) -> 6 | F32: =SUM(F33:F34) -> 108 | G32: =SUM(G33:G34) -> 377 | H32: =SUM(H33:H34) -> 549 | I32: =SUM(I33:I34) -> 413 | J32: =SUM(J33:J34) -> 73 | K32: =SUM(K33:K34) -> 3 | ... M32: =SUM(M33:M34) -> 0
B33: 男 | C33: =SUM(D33:M33) -> 772 | D33: 0 | E33: 3 | F33: 54 | G33: 182 | H33: 283 | I33: 213 | J33: 35 | K33: 2 | L33: 0 | M33: 0
B34: 女 | C34: =SUM(D34:M34) -> 758 | D34: 1 | E34: 3 | F34: 54 | G34: 195 | H34: 266 | I34: 200 | J34: 38 | K34: 1 | L34: 0 | M34: 0
A35: 手稲 | C35: =SUM(D35:M35) -> 809 | D35: =SUM(D36:D37) -> 0 | E35: =SUM(E36:E37) -> 5 | F35: =SUM(F36:F37) -> 79 | G35: =SUM(G36:G37) -> 172 | H35: =SUM(H36:H37) -> 303 | I35: =SUM(I36:I37) -> 204 | J35: =SUM(J36:J37) -> 44 | K35: =SUM(K36:K37) -> 2 | ... M35: =SUM(M36:M37) -> 0
B36: 男 | C36: =SUM(D36:M36) -> 395 | D36: 0 | E36: 1 | F36: 41 | G36: 75 | H36: 151 | I36: 102 | J36: 24 | K36: 1 | L36: 0 | M36: 0
B37: 女 | C37: =SUM(D37:M37) -> 414 | D37: 0 | E37: 4 | F37: 38 | G37: 97 | H37: 152 | I37: 102 | J37: 20 | K37: 1 | L37: 0 | M37: 0
C38: 百分率
A39: 総数 | C39: =C5/$C5*100 -> 100 | D39: =D5/$C5*100 -> 0.022644928 | E39: =E5/$C5*100 -> 0.76992754 | F39: =F5/$C5*100 -> 8.4918478 | G39: =G5/$C5*100 -> 24.501812 | H39: =H5/$C5*100 -> 36.103563 | I39: =I5/$C5*100 -> 24.381039 | J39: =J5/$C5*100 -> 5.5782005 | ... M39: =M5/$C5*100 -> 0
A40: 中央 | C40: =C8/$C8*100 -> 100 | D40: =D8/$C8*100 -> 0 | E40: =E8/$C8*100 -> 0.51605505 | F40: =F8/$C8*100 -> 7.2247706 | G40: =G8/$C8*100 -> 21.961009 | H40: =H8/$C8*100 -> 35.263761 | I40: =I8/$C8*100 -> 26.662844 | J40: =J8/$C8*100 -> 8.2568807 | ... M40: =M8/$C8*100 -> 0
A41: 北 | C41: =C11/$C11*100 -> 100 | D41: =D11/$C11*100 -> 0.054141852 | E41: =E11/$C11*100 -> 0.70384407 | F41: =F11/$C11*100 -> 8.6085544 | G41: =G11/$C11*100 -> 24.742826 | H41: =H11/$C11*100 -> 35.246345 | I41: =I11/$C11*100 -> 24.85111 | J41: =J11/$C11*100 -> 5.6848944 | ... M41: =M11/$C11*100 -> 0
A42: 東 | C42: =C14/$C14*100 -> 100 | D42: =D14/$C14*100 -> 0.050556117 | E42: =E14/$C14*100 -> 1.3650152 | F42: =F14/$C14*100 -> 8.7462083 | G42: =G14/$C14*100 -> 26.339737 | H42: =H14/$C14*100 -> 36.349848 | I42: =I14/$C14*100 -> 21.890799 | J42: =J14/$C14*100 -> 5.0556117 | ... M42: =M14/$C14*100 -> 0
A43: 白石 | C43: =C17/$C17*100 -> 100 | D43: =D17/$C17*100 -> 0 | E43: =E17/$C17*100 -> 0.58445354 | F43: =F17/$C17*100 -> 10.753945 | G43: =G17/$C17*100 -> 25.715956 | H43: =H17/$C17*100 -> 36.236119 | I43: =I17/$C17*100 -> 22.209234 | J43: =J17/$C17*100 -> 4.4418469 | ... M43: =M17/$C17*100 -> 0
A44: 厚別 | C44: =C20/$C20*100 -> 100 | D44: =D20/$C20*100 -> 0 | E44: =E20/$C20*100 -> 0.90771558 | F44: =F20/$C20*100 -> 6.8078669 | G44: =G20/$C20*100 -> 21.93646 | H44: =H20/$C20*100 -> 37.367625 | I44: =I20/$C20*100 -> 26.475038 | J44: =J20/$C20*100 -> 6.505295 | ... M44: =M20/$C20*100 -> 0
A45: 豊平 | C45: =C23/$C23*100 -> 100 | D45: =D23/$C23*100 -> 0 | E45: =E23/$C23*100 -> 1.0701546 | F45: =F23/$C23*100 -> 8.6206897 | G45: =G23/$C23*100 -> 27.170036 | H45: =H23/$C23*100 -> 37.45541 | I45: =I23/$C23*100 -> 20.927467 | J45: =J23/$C23*100 -> 4.6967895 | ... M45: =M23/$C23*100 -> 0
A46: 清田 | C46: =C26/$C26*100 -> 100 | D46: =D26/$C26*100 -> 0 | E46: =E26/$C26*100 -> 0.46583851 | F46: =F26/$C26*100 -> 8.8509317 | G46: =G26/$C26*100 -> 21.118012 | H46: =H26/$C26*100 -> 33.229814 | I46: =I26/$C26*100 -> 29.813665 | J46: =J26/$C26*100 -> 6.0559006 | ... M46: =M26/$C26*100 -> 0
A47: 南 | C47: =C29/$C29*100 -> 100 | D47: =D29/$C29*100 -> 0 | E47: =E29/$C29*100 -> 0.7788162 | F47: =F29/$C29*100 -> 7.6323988 | G47: =G29/$C29*100 -> 24.610592 | H47: =H29/$C29*100 -> 36.604361 | I47: =I29/$C29*100 -> 24.454829 | J47: =J29/$C29*100 -> 5.6074766 | ... M47: =M29/$C29*100 -> 0
A48: 西 | C48: =C32/$C32*100 -> 100 | D48: =D32/$C32*100 -> 0.065359477 | E48: =E32/$C32*100 -> 0.39215686 | F48: =F32/$C32*100 -> 7.0588235 | G48: =G32/$C32*100 -> 24.640523 | H48: =H32/$C32*100 -> 35.882353 | I48: =I32/$C32*100 -> 26.993464 | J48: =J32/$C32*100 -> 4.7712418 | ... M48: =M32/$C32*100 -> 0
A49: 手稲 | C49: =C35/$C35*100 -> 100 | D49: =D35/$C35*100 -> 0 | E49: =E35/$C35*100 -> 0.61804697 | F49: =F35/$C35*100 -> 9.7651422 | G49: =G35/$C35*100 -> 21.260816 | H49: =H35/$C35*100 -> 37.453646 | I49: =I35/$C35*100 -> 25.216316 | J49: =J35/$C35*100 -> 5.4388133 | ... M49: =M35/$C35*100 -> 0

Sheet 8出生順位，年次別出生数・百分率
A1: 8 出生順位別にみた年次別出生数及び百分率
A3: 年次 | B3: 総数 | C3: 第1子 | D3: 第2子 | E3: 第3子 | F3: 第4子 | G3: 第5子以上 | H3: 不詳
B4: 出生数
A5: 85 60 | B5: =SUM(C5:H5) -> 19314 | C5: 8813 | D5: 7402 | E5: 2574 | F5: 397 | G5: 128 | H5: 0
A6: 1986 昭和61年 | B6: =SUM(C6:H6) -> 19130 | C6: 8707 | D6: 7360 | E6: 2519 | F6: 438 | G6: 106 | H6: 0
A7: 1987 昭和62年 | B7: =SUM(C7:H7) -> 18533 | C7: 8440 | D7: 7071 | E7: 2547 | F7: 379 | G7: 96 | H7: 0
A8: 1988 昭和63年 | B8: 18216 | C8: 8247 | D8: 7039 | E8: 2442 | F8: 409 | G8: 79 | H8: 0
A9: 89 平成元年 | B9: 17479 | C9: 8068 | D9: 6558 | E9: 2343 | F9: 405 | G9: 105 | H9: 0
A10: 90 2 | B10: 17425 | C10: 8151 | D10: 6509 | E10: 2265 | F10: 400 | G10: 100 | H10: 0
A11: 91 3 | B11: 17458 | C11: 8473 | D11: 6332 | E11: 2225 | F11: 338 | G11: 90 | H11: 0
A12: 92 4 | B12: 17325 | C12: 8611 | D12: 6055 | E12: 2151 | F12: 385 | G12: 123 | H12: 0
A13: 1993 平成5年 | B13: 16371 | C13: 8292 | D13: 5780 | E13: 1891 | F13: 319 | G13: 89 | H13: 0
A14: 94 6 | B14: 17057 | C14: 8701 | D14: 6017 | E14: 1931 | F14: 324 | G14: 84 | H14: 0
A15: 95 7 | B15: 16227 | C15: 8331 | D15: 5674 | E15: 1803 | F15: 335 | G15: 84 | H15: 0
A16: 96 8 | B16: 16339 | C16: 8468 | D16: 5704 | E16: 1765 | F16: 310 | G16: 92 | H16: 0
A17: 97 9 | B17: 15873 | C17: 8245 | D17: 5666 | E17: 1605 | F17: 275 | G17: 82 | H17: 0
A18: 1998 平成10年 | B18: 16165 | C18: 8476 | D18: 5687 | E18: 1612 | F18: 300 | G18: 90 | H18: 0
A19: 99 11 | B19: 15358 | C19: 8177 | D19: 5381 | E19: 1459 | F19: 251 | G19: 90 | H19: 0
... A37: 17 29 | B37: 13821 | C37: 7001 | D37: 4932 | E37: 1449 | F37: 312 | G37: 127 | H37: 0
A38: 18 30 | B38: =SUM(C38:H38) -> 13248 | C38: ='9 区・出生順位別，出生数'!$D$5 -> 6691 | D38: ='9 区・出生順位別，出生数'!$E$5 -> 4753 | E38: ='9 区・出生順位別，出生数'!$F$5 -> 1413 | F38: ='9 区・出生順位別，出生数'!$G$5 -> 287 | G38: ='9 区・出生順位別，出生数'!$H$5 -> 104 | H38: ='9 区・出生順位別，出生数'!$I$5 -> 0
B39: 百分率
A40: 85 60 | B40: =SUM(C40:H40) -> 100 | C40: =C5/$B5*100 -> 45.630113 | D40: =D5/$B5*100 -> 38.324531 | E40: =E5/$B5*100 -> 13.32712 | F40: =F5/$B5*100 -> 2.0555038 | G40: =G5/$B5*100 -> 0.6627317 | H40: =H5/$B5*100 -> 0
A41: 1986 昭和61年 | B41: =SUM(C41:H41) -> 100 | C41: =C6/$B6*100 -> 45.514898 | D41: =D6/$B6*100 -> 38.473602 | E41: =E6/$B6*100 -> 13.167799 | F41: =F6/$B6*100 -> 2.2895975 | G41: =G6/$B6*100 -> 0.5541035 | H41: =H6/$B6*100 -> 0
A42: 1987 昭和62年 | B42: =SUM(C42:H42) -> 100 | C42: =C7/$B7*100 -> 45.540387 | D42: =D7/$B7*100 -> 38.153564 | E42: =E7/$B7*100 -> 13.743053 | F42: =F7/$B7*100 -> 2.0450008 | G42: =G7/$B7*100 -> 0.51799493 | H42: =H7/$B7*100 -> 0
A43: 1988 昭和63年 | B43: 100 | C43: 45.273386 | D43: 38.641853 | E43: 13.405797 | F43: 2.2452789 | G43: 0.43368467 | H43: 0
A44: 89 平成元年 | B44: 100 | C44: 46.158247 | D44: 37.519309 | E44: 13.404657 | F44: 2.3170662 | G44: 0.60072087 | H44: 0
A45: 90 2 | B45: 100 | C45: 46.777618 | D45: 37.354376 | E45: 12.998565 | F45: 2.2955524 | G45: 0.57388809 | H45: 0
A46: 91 3 | B46: 100 | C46: 48.533624 | D46: 36.269905 | E46: 12.744873 | F46: 1.9360752 | G46: 0.51552297 | H46: 0
A47: 92 4 | B47: 100 | C47: 49.702742 | D47: 34.949495 | E47: 12.415584 | F47: 2.2222222 | G47: 0.70995671 | H47: 0
A48: 1993 平成5年 | B48: 100 | C48: 50.650541 | D48: 35.306334 | E48: 11.550913 | F48: 1.9485676 | G48: 0.54364425 | H48: 0
A49: 94 6 | B49: 100 | C49: 51.011315 | D49: 35.27584 | E49: 11.320865 | F49: 1.8995134 | G49: 0.49246644 | H49: 0
A50: 95 7 | B50: 100 | C50: 51.340359 | D50: 34.966414 | E50: 11.111111 | F50: 2.0644605 | G50: 0.51765576 | H50: 0
A51: 96 8 | B51: 100 | C51: 51.826917 | D51: 34.910337 | E51: 10.802375 | F51: 1.8973009 | G51: 0.56306996 | H51: 0
A52: 97 9 | B52: 100 | C52: 51.943552 | D52: 35.695836 | E52: 10.11151 | F52: 1.7325017 | G52: 0.51660052 | H52: 0
A53: 1998 平成10年 | B53: 100 | C53: 52.434272 | D53: 35.180946 | E53: 9.9721621 | F53: 1.8558614 | G53: 0.55675843 | H53: 0
A54: 99 11 | B54: 100 | C54: 53.24261 | D54: 35.037114 | E54: 9.4999349 | F54: 1.6343274 | G54: 0.5860138 | H54: 0
... A72: 17 29 | B72: 100 | C72: 50.654801 | D72: 35.684827 | E72: 10.484046 | F72: 2.2574343 | G72: 0.91889154 | H72: 0
A73: 18 30 | B73: =SUM(C73:H73) -> 100 | C73: =C38/$B38*100 -> 50.505737 | D73: =D38/$B38*100 -> 35.877114 | E73: =E38/$B38*100 -> 10.665761 | F73: =F38/$B38*100 -> 2.1663647 | G73: =G38/$B38*100 -> 0.78502415 | H73: =H38/$B38*100 -> 0

Sheet 9　区・出生順位別，出生数
A1: 9 出生順位・性別にみた区別出生数及び百分率
I2: ='3 月・性別，区別出生数・出生率'!$O$2 -> 平成30年
A3: 区・性 | C3: 総数 | D3: 第1子 | E3: 第2子 | F3: 第3子 | G3: 第4子 | H3: 第5子～ | I3: 不詳
C4: 出生数
A5: 総数 | C5: =SUM(C8,C11,C14,C17,C20,C23,C26,C29,C32,C35) -> 13248 | D5: =SUM(D8,D11,D14,D17,D20,D23,D26,D29,D32,D35) -> 6691 | E5: =SUM(E8,E11,E14,E17,E20,E23,E26,E29,E32,E35) -> 4753 | F5: =SUM(F8,F11,F14,F17,F20,F23,F26,F29,F32,F35) -> 1413 | G5: =SUM(G8,G11,G14,G17,G20,G23,G26,G29,G32,G35) -> 287 | H5: =SUM(H8,H11,H14,H17,H20,H23,H26,H29,H32,H35) -> 104 | I5: =SUM(I8,I11,I14,I17,I20,I23,I26,I29,I32,I35) -> 0
B6: 男 | C6: =SUM(C9,C12,C15,C18,C21,C24,C27,C30,C33,C36) -> 6744 | D6: =SUM(D9,D12,D15,D18,D21,D24,D27,D30,D33,D36) -> 3415 | E6: =SUM(E9,E12,E15,E18,E21,E24,E27,E30,E33,E36) -> 2398 | F6: =SUM(F9,F12,F15,F18,F21,F24,F27,F30,F33,F36) -> 739 | G6: =SUM(G9,G12,G15,G18,G21,G24,G27,G30,G33,G36) -> 140 | H6: =SUM(H9,H12,H15,H18,H21,H24,H27,H30,H33,H36) -> 52 | I6: =SUM(I9,I12,I15,I18,I21,I24,I27,I30,I33,I36) -> 0
B7: 女 | C7: =SUM(C10,C13,C16,C19,C22,C25,C28,C31,C34,C37) -> 6504 | D7: =SUM(D10,D13,D16,D19,D22,D25,D28,D31,D34,D37) -> 3276 | E7: =SUM(E10,E13,E16,E19,E22,E25,E28,E31,E34,E37) -> 2355 | F7: =SUM(F10,F13,F16,F19,F22,F25,F28,F31,F34,F37) -> 674 | G7: =SUM(G10,G13,G16,G19,G22,G25,G28,G31,G34,G37) -> 147 | H7: =SUM(H10,H13,H16,H19,H22,H25,H28,H31,H34,H37) -> 52 | I7: =SUM(I10,I13,I16,I19,I22,I25,I28,I31,I34,I37) -> 0
A8: 中央 | C8: =SUM(D8:J8) -> 1744 | D8: =SUM(D9:D10) -> 985 | E8: =SUM(E9:E10) -> 582 | F8: =SUM(F9:F10) -> 153 | G8: =SUM(G9:G10) -> 14 | H8: =SUM(H9:H10) -> 10 | I8: =SUM(I9:I10) -> 0
B9: 男 | C9: =SUM(D9:J9) -> 918 | D9: 527 | E9: 297 | F9: 79 | G9: 10 | H9: 5 | I9: 0
B10: 女 | C10: =SUM(D10:J10) -> 826 | D10: 458 | E10: 285 | F10: 74 | G10: 4 | H10: 5 | I10: 0
A11: 北 | C11: =SUM(D11:J11) -> 1847 | D11: =SUM(D12:D13) -> 853 | E11: =SUM(E12:E13) -> 723 | F11: =SUM(F12:F13) -> 202 | G11: =SUM(G12:G13) -> 51 | H11: =SUM(H12:H13) -> 18 | I11: =SUM(I12:I13) -> 0
B12: 男 | C12: =SUM(D12:J12) -> 922 | D12: 414 | E12: 365 | F12: 109 | G12: 27 | H12: 7 | I12: 0
B13: 女 | C13: =SUM(D13:J13) -> 925 | D13: 439 | E13: 358 | F13: 93 | G13: 24 | H13: 11 | I13: 0
A14: 東 | C14: =SUM(D14:J14) -> 1978 | D14: =SUM(D15:D16) -> 972 | E14: =SUM(E15:E16) -> 721 | F14: =SUM(F15:F16) -> 215 | G14: =SUM(G15:G16) -> 54 | H14: =SUM(H15:H16) -> 16 | I14: =SUM(I15:I16) -> 0
B15: 男 | C15: =SUM(D15:J15) -> 995 | D15: 488 | E15: 347 | F15: 120 | G15: 29 | H15: 11 | I15: 0
B16: 女 | C16: =SUM(D16:J16) -> 983 | D16: 484 | E16: 374 | F16: 95 | G16: 25 | H16: 5 | I16: 0
A17: 白石 | C17: =SUM(D17:J17) -> 1711 | D17: =SUM(D18:D19) -> 945 | E17: =SUM(E18:E19) -> 556 | F17: =SUM(F18:F19) -> 166 | G17: =SUM(G18:G19) -> 30 | H17: =SUM(H18:H19) -> 14 | I17: =SUM(I18:I19) -> 0
B18: 男 | C18: =SUM(D18:J18) -> 882 | D18: 492 | E18: 281 | F18: 88 | G18: 15 | H18: 6 | I18: 0
B19: 女 | C19: =SUM(D19:J19) -> 829 | D19: 453 | E19: 275 | F19: 78 | G19: 15 | H19: 8 | I19: 0
A20: 厚別 | C20: =SUM(D20:J20) -> 661 | D20: =SUM(D21:D22) -> 320 | E20: =SUM(E21:E22) -> 234 | F20: =SUM(F21:F22) -> 80 | G20: =SUM(G21:G22) -> 18 | H20: =SUM(H21:H22) -> 9 | I20: =SUM(I21:I22) -> 0
B21: 男 | C21: =SUM(D21:J21) -> 360 | D21: 171 | E21: 125 | F21: 50 | G21: 10 | H21: 4 | I21: 0
B22: 女 | C22: =SUM(D22:J22) -> 301 | D22: 149 | E22: 109 | F22: 30 | G22: 8 | H22: 5 | I22: 0
A23: 豊平 | C23: =SUM(D23:J23) -> 1682 | D23: =SUM(D24:D25) -> 957 | E23: =SUM(E24:E25) -> 550 | F23: =SUM(F24:F25) -> 145 | G23: =SUM(G24:G25) -> 23 | H23: =SUM(H24:H25) -> 7 | I23: =SUM(I24:I25) -> 0
B24: 男 | C24: =SUM(D24:J24) -> 855 | D24: 497 | E24: 274 | F24: 69 | G24: 13 | H24: 2 | I24: 0
B25: 女 | C25: =SUM(D25:J25) -> 827 | D25: 460 | E25: 276 | F25: 76 | G25: 10 | H25: 5 | I25: 0
A26: 清田 | C26: =SUM(D26:J26) -> 644 | D26: =SUM(D27:D28) -> 230 | E26: =SUM(E27:E28) -> 271 | F26: =SUM(F27:F28) -> 103 | G26: =SUM(G27:G28) -> 30 | H26: =SUM(H27:H28) -> 10 | I26: =SUM(I27:I28) -> 0
B27: 男 | C27: =SUM(D27:J27) -> 319 | D27: 111 | E27: 140 | F27: 49 | G27: 11 | H27: 8 | I27: 0
B28: 女 | C28: =SUM(D28:J28) -> 325 | D28: 119 | E28: 131 | F28: 54 | G28: 19 | H28: 2 | I28: 0
A29: 南 | C29: =SUM(D29:J29) -> 642 | D29: =SUM(D30:D31) -> 274 | E29: =SUM(E30:E31) -> 255 | F29: =SUM(F30:F31) -> 91 | G29: =SUM(G30:G31) -> 17 | H29: =SUM(H30:H31) -> 5 | I29: =SUM(I30:I31) -> 0
B30: 男 | C30: =SUM(D30:J30) -> 326 | D30: 135 | E30: 126 | F30: 52 | G30: 10 | H30: 3 | I30: 0
B31: 女 | C31: =SUM(D31:J31) -> 316 | D31: 139 | E31: 129 | F31: 39 | G31: 7 | H31: 2 | I31: 0
A32: 西 | C32: =SUM(D32:J32) -> 1530 | D32: =SUM(D33:D34) -> 804 | E32: =SUM(E33:E34) -> 539 | F32: =SUM(F33:F34) -> 149 | G32: =SUM(G33:G34) -> 29 | H32: =SUM(H33:H34) -> 9 | I32: =SUM(I33:I34) -> 0
B33: 男 | C33: =SUM(D33:J33) -> 772 | D33: 415 | E33: 276 | F33: 69 | G33: 8 | H33: 4 | I33: 0
B34: 女 | C34: =SUM(D34:J34) -> 758 | D34: 389 | E34: 263 | F34: 80 | G34: 21 | H34: 5 | I34: 0
A35: 手稲 | C35: =SUM(D35:J35) -> 809 | D35: =SUM(D36:D37) -> 351 | E35: =SUM(E36:E37) -> 322 | F35: =SUM(F36:F37) -> 109 | G35: =SUM(G36:G37) -> 21 | H35: =SUM(H36:H37) -> 6 | I35: =SUM(I36:I37) -> 0
B36: 男 | C36: =SUM(D36:J36) -> 395 | D36: 165 | E36: 167 | F36: 54 | G36: 7 | H36: 2 | I36: 0
B37: 女 | C37: =SUM(D37:J37) -> 414 | D37: 186 | E37: 155 | F37: 55 | G37: 14 | H37: 4 | I37: 0
C38: 百分率
A39: 総数 | C39: ='9 区・出生順位別，出生数'!C5/'9 区・出生順位別，出生数'!$C$5*100 -> 100 | D39: ='9 区・出生順位別，出生数'!D5/'9 区・出生順位別，出生数'!$C$5*100 -> 50.505737 | E39: ='9 区・出生順位別，出生数'!E5/'9 区・出生順位別，出生数'!$C$5*100 -> 35.877114 | F39: ='9 区・出生順位別，出生数'!F5/'9 区・出生順位別，出生数'!$C$5*100 -> 10.665761 | G39: ='9 区・出生順位別，出生数'!G5/'9 区・出生順位別，出生数'!$C$5*100 -> 2.1663647 | H39: ='9 区・出生順位別，出生数'!H5/'9 区・出生順位別，出生数'!$C$5*100 -> 0.78502415 | I39: ='9 区・出生順位別，出生数'!I5/'9 区・出生順位別，出生数'!$C$5*100 -> 0
A40: 中央 | C40: ='9 区・出生順位別，出生数'!C8/'9 区・出生順位別，出生数'!$C$8*100 -> 100 | D40: ='9 区・出生順位別，出生数'!D8/'9 区・出生順位別，出生数'!$C$8*100 -> 56.479358 | E40: ='9 区・出生順位別，出生数'!E8/'9 区・出生順位別，出生数'!$C$8*100 -> 33.37156 | F40: ='9 区・出生順位別，出生数'!F8/'9 区・出生順位別，出生数'!$C$8*100 -> 8.7729358 | G40: ='9 区・出生順位別，出生数'!G8/'9 区・出生順位別，出生数'!$C$8*100 -> 0.80275229 | H40: ='9 区・出生順位別，出生数'!H8/'9 区・出生順位別，出生数'!$C$8*100 -> 0.5733945 | I40: ='9 区・出生順位別，出生数'!I8/'9 区・出生順位別，出生数'!$C$8*100 -> 0
A41: 北 | C41: ='9 区・出生順位別，出生数'!C11/'9 区・出生順位別，出生数'!$C$11*100 -> 100 | D41: ='9 区・出生順位別，出生数'!D11/'9 区・出生順位別，出生数'!$C$11*100 -> 46.182999 | E41: ='9 区・出生順位別，出生数'!E11/'9 区・出生順位別，出生数'!$C$11*100 -> 39.144559 | F41: ='9 区・出生順位別，出生数'!F11/'9 区・出生順位別，出生数'!$C$11*100 -> 10.936654 | G41: ='9 区・出生順位別，出生数'!G11/'9 区・出生順位別，出生数'!$C$11*100 -> 2.7612344 | H41: ='9 区・出生順位別，出生数'!H11/'9 区・出生順位別，出生数'!$C$11*100 -> 0.97455333 | I41: ='9 区・出生順位別，出生数'!I11/'9 区・出生順位別，出生数'!$C$11*100 -> 0
A42: 東 | C42: ='9 区・出生順位別，出生数'!C14/'9 区・出生順位別，出生数'!$C$14*100 -> 100 | D42: ='9 区・出生順位別，出生数'!D14/'9 区・出生順位別，出生数'!$C$14*100 -> 49.140546 | E42: ='9 区・出生順位別，出生数'!E14/'9 区・出生順位別，出生数'!$C$14*100 -> 36.450961 | F42: ='9 区・出生順位別，出生数'!F14/'9 区・出生順位別，出生数'!$C$14*100 -> 10.869565 | G42: ='9 区・出生順位別，出生数'!G14/'9 区・出生順位別，出生数'!$C$14*100 -> 2.7300303 | H42: ='9 区・出生順位別，出生数'!H14/'9 区・出生順位別，出生数'!$C$14*100 -> 0.80889788 | I42: ='9 区・出生順位別，出生数'!I14/'9 区・出生順位別，出生数'!$C$14*100 -> 0
A43: 白石 | C43: ='9 区・出生順位別，出生数'!C17/'9 区・出生順位別，出生数'!$C$17*100 -> 100 | D43: ='9 区・出生順位別，出生数'!D17/'9 区・出生順位別，出生数'!$C$17*100 -> 55.230859 | E43: ='9 区・出生順位別，出生数'!E17/'9 区・出生順位別，出生数'!$C$17*100 -> 32.495617 | F43: ='9 区・出生順位別，出生数'!F17/'9 区・出生順位別，出生数'!$C$17*100 -> 9.7019287 | G43: ='9 区・出生順位別，出生数'!G17/'9 区・出生順位別，出生数'!$C$17*100 -> 1.7533606 | H43: ='9 区・出生順位別，出生数'!H17/'9 区・出生順位別，出生数'!$C$17*100 -> 0.81823495 | I43: ='9 区・出生順位別，出生数'!I17/'9 区・出生順位別，出生数'!$C$17*100 -> 0
A44: 厚別 | C44: ='9 区・出生順位別，出生数'!C20/'9 区・出生順位別，出生数'!$C$20*100 -> 100 | D44: ='9 区・出生順位別，出生数'!D20/'9 区・出生順位別，出生数'!$C$20*100 -> 48.411498 | E44: ='9 区・出生順位別，出生数'!E20/'9 区・出生順位別，出生数'!$C$20*100 -> 35.400908 | F44: ='9 区・出生順位別，出生数'!F20/'9 区・出生順位別，出生数'!$C$20*100 -> 12.102874 | G44: ='9 区・出生順位別，出生数'!G20/'9 区・出生順位別，出生数'!$C$20*100 -> 2.7231467 | H44: ='9 区・出生順位別，出生数'!H20/'9 区・出生順位別，出生数'!$C$20*100 -> 1.3615734 | I44: ='9 区・出生順位別，出生数'!I20/'9 区・出生順位別，出生数'!$C$20*100 -> 0
A45: 豊平 | C45: ='9 区・出生順位別，出生数'!C23/'9 区・出生順位別，出生数'!$C$23*100 -> 100 | D45: ='9 区・出生順位別，出生数'!D23/'9 区・出生順位別，出生数'!$C$23*100 -> 56.896552 | E45: ='9 区・出生順位別，出生数'!E23/'9 区・出生順位別，出生数'!$C$23*100 -> 32.699168 | F45: ='9 区・出生順位別，出生数'!F23/'9 区・出生順位別，出生数'!$C$23*100 -> 8.6206897 | G45: ='9 区・出生順位別，出生数'!G23/'9 区・出生順位別，出生数'!$C$23*100 -> 1.3674197 | H45: ='9 区・出生順位別，出生数'!H23/'9 区・出生順位別，出生数'!$C$23*100 -> 0.41617122 | I45: ='9 区・出生順位別，出生数'!I23/'9 区・出生順位別，出生数'!$C$23*100 -> 0
A46: 清田 | C46: ='9 区・出生順位別，出生数'!C26/'9 区・出生順位別，出生数'!$C$26*100 -> 100 | D46: ='9 区・出生順位別，出生数'!D26/'9 区・出生順位別，出生数'!$C$26*100 -> 35.714286 | E46: ='9 区・出生順位別，出生数'!E26/'9 区・出生順位別，出生数'!$C$26*100 -> 42.080745 | F46: ='9 区・出生順位別，出生数'!F26/'9 区・出生順位別，出生数'!$C$26*100 -> 15.993789 | G46: ='9 区・出生順位別，出生数'!G26/'9 区・出生順位別，出生数'!$C$26*100 -> 4.6583851 | H46: ='9 区・出生順位別，出生数'!H26/'9 区・出生順位別，出生数'!$C$26*100 -> 1.552795 | I46: ='9 区・出生順位別，出生数'!I26/'9 区・出生順位別，出生数'!$C$26*100 -> 0
A47: 南 | C47: ='9 区・出生順位別，出生数'!C29/'9 区・出生順位別，出生数'!$C$29*100 -> 100 | D47: ='9 区・出生順位別，出生数'!D29/'9 区・出生順位別，出生数'!$C$29*100 -> 42.679128 | E47: ='9 区・出生順位別，出生数'!E29/'9 区・出生順位別，出生数'!$C$29*100 -> 39.719626 | F47: ='9 区・出生順位別，出生数'!F29/'9 区・出生順位別，出生数'!$C$29*100 -> 14.174455 | G47: ='9 区・出生順位別，出生数'!G29/'9 区・出生順位別，出生数'!$C$29*100 -> 2.6479751 | H47: ='9 区・出生順位別，出生数'!H29/'9 区・出生順位別，出生数'!$C$29*100 -> 0.7788162 | I47: ='9 区・出生順位別，出生数'!I29/'9 区・出生順位別，出生数'!$C$29*100 -> 0
A48: 西 | C48: ='9 区・出生順位別，出生数'!C32/'9 区・出生順位別，出生数'!$C$32*100 -> 100 | D48: ='9 区・出生順位別，出生数'!D32/'9 区・出生順位別，出生数'!$C$32*100 -> 52.54902 | E48: ='9 区・出生順位別，出生数'!E32/'9 区・出生順位別，出生数'!$C$32*100 -> 35.228758 | F48: ='9 区・出生順位別，出生数'!F32/'9 区・出生順位別，出生数'!$C$32*100 -> 9.7385621 | G48: ='9 区・出生順位別，出生数'!G32/'9 区・出生順位別，出生数'!$C$32*100 -> 1.8954248 | H48: ='9 区・出生順位別，出生数'!H32/'9 区・出生順位別，出生数'!$C$32*100 -> 0.58823529 | I48: ='9 区・出生順位別，出生数'!I32/'9 区・出生順位別，出生数'!$C$32*100 -> 0
A49: 手稲 | C49: ='9 区・出生順位別，出生数'!C35/'9 区・出生順位別，出生数'!$C$35*100 -> 100 | D49: ='9 区・出生順位別，出生数'!D35/'9 区・出生順位別，出生数'!$C$35*100 -> 43.386897 | E49: ='9 区・出生順位別，出生数'!E35/'9 区・出生順位別，出生数'!$C$35*100 -> 39.802225 | F49: ='9 区・出生順位別，出生数'!F35/'9 区・出生順位別，出生数'!$C$35*100 -> 13.473424 | G49: ='9 区・出生順位別，出生数'!G35/'9 区・出生順位別，出生数'!$C$35*100 -> 2.5957973 | H49: ='9 区・出生順位別，出生数'!H35/'9 区・出生順位別，出生数'!$C$35*100 -> 0.74165637 | I49: ='9 区・出生順位別，出生数'!I35/'9 区・出生順位別，出生数'!$C$35*100 -> 0

Sheet 10　出生順位別，母の年齢別出生数
A1: 10 出生順位別にみた母の年齢（5歳階級）別出生数
H2: ='3 月・性別，区別出生数・出生率'!$O$2 -> 平成30年
A3: 母の年齢 | B3: 総数 | C3: 第1子 | D3: 第2子 | E3: 第3子 | F3: 第4子 | G3: 第5子～ | H3: 不 詳
A4: 15～49歳 | B4: =SUM(C4:H4) -> 13245 | C4: =SUM(C5:C11) -> 6688 | D4: =SUM(D5:D11) -> 4753 | E4: =SUM(E5:E11) -> 1413 | F4: =SUM(F5:F11) -> 287 | G4: =SUM(G5:G11) -> 104 | H4: =SUM(H5:H11) -> 0
A5: 15～19歳 | B5: =SUM(C5:H5) -> 102 | C5: 95 | D5: 6 | E5: 1 | F5: 0 | G5: 0 | H5: 0
A6: 20～24 | B6: =SUM(C6:H6) -> 1125 | C6: 801 | D6: 283 | E6: 38 | F6: 3 | G6: 0 | H6: 0
A7: 25～29 | B7: =SUM(C7:H7) -> 3246 | C7: 2086 | D7: 921 | E7: 196 | F7: 35 | G7: 8 | H7: 0
A8: 30～34 | B8: =SUM(C8:H8) -> 4783 | C8: 2236 | D8: 1859 | E8: 547 | F8: 101 | G8: 40 | H8: 0
A9: 35～39 | B9: =SUM(C9:H9) -> 3230 | C9: 1195 | D9: 1364 | E9: 521 | F9: 111 | G9: 39 | H9: 0
A10: 40～44 | B10: =SUM(C10:H10) -> 739 | C10: 265 | D10: 314 | E10: 107 | F10: 37 | G10: 16 | H10: 0
A11: 45～49 | B11: =SUM(C11:H11) -> 20 | C11: 10 | D11: 6 | E11: 3 | F11: 0 | G11: 1 | H11: 0
A12: 注） 算出に用いた出生数には14歳以下での出生は含まない。

Sheet 11　出生順位別，母の年齢別出生率
A1: 11 出生順位別にみた母の年齢（5歳階級）別出生率
H2: ='3 月・性別，区別出生数・出生率'!$O$2 -> 平成30年
A3: 母の年齢 | B3: 女子人口1) | C3: 総数 | D3: 第1子 | E3: 第2子 | F3: 第3子 | G3: 第4子 | H3: 第5子～
A4: 15～49歳 | B4: =[1]女子人口!$B$3 -> 421881 | C4: =SUM(C6:C12) -> 1.1374154 | D4: =SUM(D6:D12) -> 0.59041123 | E4: =SUM(E6:E12) -> 0.39971721 | F4: =SUM(F6:F12) -> 0.11594941 | G4: =SUM(G6:G12) -> 0.023096823 | H4: =SUM(H6:H12) -> 0.0082407701
C5: (合計特殊出生率)
A6: 15～19歳 | B6: =[1]女子人口!$B$4 -> 40422 | C6: ='10 出生順位別，母の年齢別出生数'!B5/$B6*5 -> 0.012616892 | D6: ='10 出生順位別，母の年齢別出生数'!C5/$B6*5 -> 0.011751027 | E6: ='10 出生順位別，母の年齢別出生数'!D5/$B6*5 -> 0.00074217011 | F6: ='10 出生順位別，母の年齢別出生数'!E5/$B6*5 -> 0.00012369502 | G6: ='10 出生順位別，母の年齢別出生数'!F5/$B6*5 -> 0 | H6: ='10 出生順位別，母の年齢別出生数'!G5/$B6*5 -> 0
A7: 20～24 | B7: =[1]女子人口!$B$5 -> 49026 | C7: ='10 出生順位別，母の年齢別出生数'!B6/$B7*5 -> 0.11473504 | D7: ='10 出生順位別，母の年齢別出生数'!C6/$B7*5 -> 0.081691347 | E7: ='10 出生順位別，母の年齢別出生数'!D6/$B7*5 -> 0.028862236 | F7: ='10 出生順位別，母の年齢別出生数'!E6/$B7*5 -> 0.0038754946 | G7: ='10 出生順位別，母の年齢別出生数'!F6/$B7*5 -> 0.0003059601 | H7: ='10 出生順位別，母の年齢別出生数'!G6/$B7*5 -> 0
A8: 25～29 | B8: =[1]女子人口!$B$6 -> 52531 | C8: ='10 出生順位別，母の年齢別出生数'!B7/$B8*5 -> 0.30896042 | D8: ='10 出生順位別，母の年齢別出生数'!C7/$B8*5 -> 0.19854943 | E8: ='10 出生順位別，母の年齢別出生数'!D7/$B8*5 -> 0.087662523 | F8: ='10 出生順位別，母の年齢別出生数'!E7/$B8*5 -> 0.018655651 | G8: ='10 出生順位別，母の年齢別出生数'!F7/$B8*5 -> 0.0033313662 | H8: ='10 出生順位別，母の年齢別出生数'!G7/$B8*5 -> 0.00076145514
A9: 30～34 | B9: =[1]女子人口!$B$7 -> 59157 | C9: ='10 出生順位別，母の年齢別出生数'!B8/$B9*5 -> 0.40426323 | D9: ='10 出生順位別，母の年齢別出生数'!C8/$B9*5 -> 0.18898862 | E9: ='10 出生順位別，母の年齢別出生数'!D8/$B9*5 -> 0.15712426 | F9: ='10 出生順位別，母の年齢別出生数'!E8/$B9*5 -> 0.046232906 | G9: ='10 出生順位別，母の年齢別出生数'!F8/$B9*5 -> 0.008536606 | H9: ='10 出生順位別，母の年齢別出生数'!G8/$B9*5 -> 0.0033808341
A10: 35～39 | B10: =[1]女子人口!$B$8 -> 65423 | C10: ='10 出生順位別，母の年齢別出生数'!B9/$B10*5 -> 0.24685508 | D10: ='10 出生順位別，母の年齢別出生数'!C9/$B10*5 -> 0.091328738 | E10: ='10 出生順位別，母の年齢別出生数'!D9/$B10*5 -> 0.10424468 | F10: ='10 出生順位別，母の年齢別出生数'!E9/$B10*5 -> 0.039817801 | G10: ='10 出生順位別，母の年齢別出生数'!F9/$B10*5 -> 0.0084832551 | H10: ='10 出生順位別，母の年齢別出生数'!G9/$B10*5 -> 0.0029806032
A11: 40～44 | B11: =[1]女子人口!$B$9 -> 75831 | C11: ='10 出生順位別，母の年齢別出生数'!B10/$B11*5 -> 0.048726774 | D11: ='10 出生順位別，母の年齢別出生数'!C10/$B11*5 -> 0.017473065 | E11: ='10 出生順位別，母の年齢別出生数'!D10/$B11*5 -> 0.020703934 | F11: ='10 出生順位別，母の年齢別出生数'!E10/$B11*5 -> 0.0070551621 | G11: ='10 出生順位別，母の年齢別出生数'!F10/$B11*5 -> 0.0024396355 | H11: ='10 出生順位別，母の年齢別出生数'!G10/$B11*5 -> 0.0010549775
A12: 45～49 | B12: =[1]女子人口!$B$10 -> 79491 | C12: ='10 出生順位別，母の年齢別出生数'!B11/$B12*5 -> 0.0012580041 | D12: ='10 出生順位別，母の年齢別出生数'!C11/$B12*5 -> 0.00062900203 | E12: ='10 出生順位別，母の年齢別出生数'!D11/$B12*5 -> 0.00037740122 | F12: ='10 出生順位別，母の年齢別出生数'!E11/$B12*5 -> 0.00018870061 | G12: ='10 出生順位別，母の年齢別出生数'!F11/$B12*5 -> 0 | H12: ='10 出生順位別，母の年齢別出生数'!G11/$B12*5 -> 6.2900203e-05
A13: 注） 算出に用いた出生数には14歳以下での出生は含まない。
A14: 1) 10月1日現在、住民基本台帳による。

Sheet 12　出生順位別，母の年齢別百分率
A1: 12 出生順位別にみた母の年齢（5歳階級）別出生数の百分率
G2: ='3 月・性別，区別出生数・出生率'!$O$2 -> 平成30年
A3: 母の年齢 | B3: 総数 | C3: 第1子 | D3: 第2子 | E3: 第3子 | F3: 第4子 | G3: 第5子～
A4: 15～49歳 | B4: =SUM(B5:B11) -> 100 | C4: =SUM(C5:C11) -> 100 | D4: =SUM(D5:D11) -> 100 | E4: =SUM(E5:E11) -> 100 | F4: =SUM(F5:F11) -> 100 | G4: =SUM(G5:G11) -> 100
A5: 15～19歳 | B5: ='10 出生順位別，母の年齢別出生数'!B5/'10 出生順位別，母の年齢別出生数'!B$4*100 -> 0.77010193 | C5: ='10 出生順位別，母の年齢別出生数'!C5/'10 出生順位別，母の年齢別出生数'!C$4*100 -> 1.4204545 | D5: ='10 出生順位別，母の年齢別出生数'!D5/'10 出生順位別，母の年齢別出生数'!D$4*100 -> 0.12623606 | E5: ='10 出生順位別，母の年齢別出生数'!E5/'10 出生順位別，母の年齢別出生数'!E$4*100 -> 0.070771408 | F5: ='10 出生順位別，母の年齢別出生数'!F5/'10 出生順位別，母の年齢別出生数'!F$4*100 -> 0 | G5: ='10 出生順位別，母の年齢別出生数'!G5/'10 出生順位別，母の年齢別出生数'!G$4*100 -> 0
A6: 20～24 | B6: ='10 出生順位別，母の年齢別出生数'!B6/'10 出生順位別，母の年齢別出生数'!B$4*100 -> 8.4937712 | C6: ='10 出生順位別，母の年齢別出生数'!C6/'10 出生順位別，母の年齢別出生数'!C$4*100 -> 11.976675 | D6: ='10 出生順位別，母の年齢別出生数'!D6/'10 出生順位別，母の年齢別出生数'!D$4*100 -> 5.9541342 | E6: ='10 出生順位別，母の年齢別出生数'!E6/'10 出生順位別，母の年齢別出生数'!E$4*100 -> 2.6893135 | F6: ='10 出生順位別，母の年齢別出生数'!F6/'10 出生順位別，母の年齢別出生数'!F$4*100 -> 1.0452962 | G6: ='10 出生順位別，母の年齢別出生数'!G6/'10 出生順位別，母の年齢別出生数'!G$4*100 -> 0
A7: 25～29 | B7: ='10 出生順位別，母の年齢別出生数'!B7/'10 出生順位別，母の年齢別出生数'!B$4*100 -> 24.507361 | C7: ='10 出生順位別，母の年齢別出生数'!C7/'10 出生順位別，母の年齢別出生数'!C$4*100 -> 31.190191 | D7: ='10 出生順位別，母の年齢別出生数'!D7/'10 出生順位別，母の年齢別出生数'!D$4*100 -> 19.377235 | E7: ='10 出生順位別，母の年齢別出生数'!E7/'10 出生順位別，母の年齢別出生数'!E$4*100 -> 13.871196 | F7: ='10 出生順位別，母の年齢別出生数'!F7/'10 出生順位別，母の年齢別出生数'!F$4*100 -> 12.195122 | G7: ='10 出生順位別，母の年齢別出生数'!G7/'10 出生順位別，母の年齢別出生数'!G$4*100 -> 7.6923077
A8: 30～34 | B8: ='10 出生順位別，母の年齢別出生数'!B8/'10 出生順位別，母の年齢別出生数'!B$4*100 -> 36.11174 | C8: ='10 出生順位別，母の年齢別出生数'!C8/'10 出生順位別，母の年齢別出生数'!C$4*100 -> 33.433014 | D8: ='10 出生順位別，母の年齢別出生数'!D8/'10 出生順位別，母の年齢別出生数'!D$4*100 -> 39.11214 | E8: ='10 出生順位別，母の年齢別出生数'!E8/'10 出生順位別，母の年齢別出生数'!E$4*100 -> 38.71196 | F8: ='10 出生順位別，母の年齢別出生数'!F8/'10 出生順位別，母の年齢別出生数'!F$4*100 -> 35.191638 | G8: ='10 出生順位別，母の年齢別出生数'!G8/'10 出生順位別，母の年齢別出生数'!G$4*100 -> 38.461538
A9: 35～39 | B9: ='10 出生順位別，母の年齢別出生数'!B9/'10 出生順位別，母の年齢別出生数'!B$4*100 -> 24.386561 | C9: ='10 出生順位別，母の年齢別出生数'!C9/'10 出生順位別，母の年齢別出生数'!C$4*100 -> 17.867823 | D9: ='10 出生順位別，母の年齢別出生数'!D9/'10 出生順位別，母の年齢別出生数'!D$4*100 -> 28.697665 | E9: ='10 出生順位別，母の年齢別出生数'!E9/'10 出生順位別，母の年齢別出生数'!E$4*100 -> 36.871904 | F9: ='10 出生順位別，母の年齢別出生数'!F9/'10 出生順位別，母の年齢別出生数'!F$4*100 -> 38.675958 | G9: ='10 出生順位別，母の年齢別出生数'!G9/'10 出生順位別，母の年齢別出生数'!G$4*100 -> 37.5
A10: 40～44 | B10: ='10 出生順位別，母の年齢別出生数'!B10/'10 出生順位別，母の年齢別出生数'!B$4*100 -> 5.5794639 | C10: ='10 出生順位別，母の年齢別出生数'!C10/'10 出生順位別，母の年齢別出生数'!C$4*100 -> 3.9623206 | D10: ='10 出生順位別，母の年齢別出生数'!D10/'10 出生順位別，母の年齢別出生数'!D$4*100 -> 6.6063539 | E10: ='10 出生順位別，母の年齢別出生数'!E10/'10 出生順位別，母の年齢別出生数'!E$4*100 -> 7.5725407 | F10: ='10 出生順位別，母の年齢別出生数'!F10/'10 出生順位別，母の年齢別出生数'!F$4*100 -> 12.891986 | G10: ='10 出生順位別，母の年齢別出生数'!G10/'10 出生順位別，母の年齢別出生数'!G$4*100 -> 15.384615
A11: 45～49 | B11: ='10 出生順位別，母の年齢別出生数'!B11/'10 出生順位別，母の年齢別出生数'!B$4*100 -> 0.15100038 | C11: ='10 出生順位別，母の年齢別出生数'!C11/'10 出生順位別，母の年齢別出生数'!C$4*100 -> 0.14952153 | D11: ='10 出生順位別，母の年齢別出生数'!D11/'10 出生順位別，母の年齢別出生数'!D$4*100 -> 0.12623606 | E11: ='10 出生順位別，母の年齢別出生数'!E11/'10 出生順位別，母の年齢別出生数'!E$4*100 -> 0.21231423 | F11: ='10 出生順位別，母の年齢別出生数'!F11/'10 出生順位別，母の年齢別出生数'!F$4*100 -> 0 | G11: ='10 出生順位別，母の年齢別出生数'!G11/'10 出生順位別，母の年齢別出生数'!G$4*100 -> 0.96153846
A12: 注） 算出に用いた出生数には14歳以下での出生は含まない。

Sheet 13　母の年齢別，出生順位別百分率
A1: 13 母の年齢（5歳階級）別にみた出生順位別出生数の百分率
G2: ='3 月・性別，区別出生数・出生率'!$O$2 -> 平成30年
A3: 母の年齢 | B3: 総数 | C3: 第1子 | D3: 第2子 | E3: 第3子 | F3: 第4子 | G3: 第5子～
A4: 15～49歳 | B4: =SUM(C4:G4) -> 100 | C4: ='10 出生順位別，母の年齢別出生数'!C4/'10 出生順位別，母の年齢別出生数'!$B4*100 -> 50.494526 | D4: ='10 出生順位別，母の年齢別出生数'!D4/'10 出生順位別，母の年齢別出生数'!$B4*100 -> 35.88524 | E4: ='10 出生順位別，母の年齢別出生数'!E4/'10 出生順位別，母の年齢別出生数'!$B4*100 -> 10.668177 | F4: ='10 出生順位別，母の年齢別出生数'!F4/'10 出生順位別，母の年齢別出生数'!$B4*100 -> 2.1668554 | G4: ='10 出生順位別，母の年齢別出生数'!G4/'10 出生順位別，母の年齢別出生数'!$B4*100 -> 0.78520196
A5: 15～19歳 | B5: =SUM(C5:G5) -> 100 | C5: ='10 出生順位別，母の年齢別出生数'!C5/'10 出生順位別，母の年齢別出生数'!$B5*100 -> 93.137255 | D5: ='10 出生順位別，母の年齢別出生数'!D5/'10 出生順位別，母の年齢別出生数'!$B5*100 -> 5.8823529 | E5: ='10 出生順位別，母の年齢別出生数'!E5/'10 出生順位別，母の年齢別出生数'!$B5*100 -> 0.98039216 | F5: ='10 出生順位別，母の年齢別出生数'!F5/'10 出生順位別，母の年齢別出生数'!$B5*100 -> 0 | G5: ='10 出生順位別，母の年齢別出生数'!G5/'10 出生順位別，母の年齢別出生数'!$B5*100 -> 0
A6: 20～24 | B6: =SUM(C6:G6) -> 100 | C6: ='10 出生順位別，母の年齢別出生数'!C6/'10 出生順位別，母の年齢別出生数'!$B6*100 -> 71.2 | D6: ='10 出生順位別，母の年齢別出生数'!D6/'10 出生順位別，母の年齢別出生数'!$B6*100 -> 25.155556 | E6: ='10 出生順位別，母の年齢別出生数'!E6/'10 出生順位別，母の年齢別出生数'!$B6*100 -> 3.3777778 | F6: ='10 出生順位別，母の年齢別出生数'!F6/'10 出生順位別，母の年齢別出生数'!$B6*100 -> 0.26666667 | G6: ='10 出生順位別，母の年齢別出生数'!G6/'10 出生順位別，母の年齢別出生数'!$B6*100 -> 0
A7: 25～29 | B7: =SUM(C7:G7) -> 100 | C7: ='10 出生順位別，母の年齢別出生数'!C7/'10 出生順位別，母の年齢別出生数'!$B7*100 -> 64.263709 | D7: ='10 出生順位別，母の年齢別出生数'!D7/'10 出生順位別，母の年齢別出生数'!$B7*100 -> 28.373383 | E7: ='10 出生順位別，母の年齢別出生数'!E7/'10 出生順位別，母の年齢別出生数'!$B7*100 -> 6.0382009 | F7: ='10 出生順位別，母の年齢別出生数'!F7/'10 出生順位別，母の年齢別出生数'!$B7*100 -> 1.0782502 | G7: ='10 出生順位別，母の年齢別出生数'!G7/'10 出生順位別，母の年齢別出生数'!$B7*100 -> 0.24645718
A8: 30～34 | B8: =SUM(C8:G8) -> 100 | C8: ='10 出生順位別，母の年齢別出生数'!C8/'10 出生順位別，母の年齢別出生数'!$B8*100 -> 46.748902 | D8: ='10 出生順位別，母の年齢別出生数'!D8/'10 出生順位別，母の年齢別出生数'!$B8*100 -> 38.86682 | E8: ='10 出生順位別，母の年齢別出生数'!E8/'10 出生順位別，母の年齢別出生数'!$B8*100 -> 11.436337 | F8: ='10 出生順位別，母の年齢別出生数'!F8/'10 出生順位別，母の年齢別出生数'!$B8*100 -> 2.1116454 | G8: ='10 出生順位別，母の年齢別出生数'!G8/'10 出生順位別，母の年齢別出生数'!$B8*100 -> 0.83629521
A9: 35～39 | B9: =SUM(C9:G9) -> 100 | C9: ='10 出生順位別，母の年齢別出生数'!C9/'10 出生順位別，母の年齢別出生数'!$B9*100 -> 36.996904 | D9: ='10 出生順位別，母の年齢別出生数'!D9/'10 出生順位別，母の年齢別出生数'!$B9*100 -> 42.229102 | E9: ='10 出生順位別，母の年齢別出生数'!E9/'10 出生順位別，母の年齢別出生数'!$B9*100 -> 16.130031 | F9: ='10 出生順位別，母の年齢別出生数'!F9/'10 出生順位別，母の年齢別出生数'!$B9*100 -> 3.4365325 | G9: ='10 出生順位別，母の年齢別出生数'!G9/'10 出生順位別，母の年齢別出生数'!$B9*100 -> 1.2074303
A10: 40～44 | B10: =SUM(C10:G10) -> 100 | C10: ='10 出生順位別，母の年齢別出生数'!C10/'10 出生順位別，母の年齢別出生数'!$B10*100 -> 35.859269 | D10: ='10 出生順位別，母の年齢別出生数'!D10/'10 出生順位別，母の年齢別出生数'!$B10*100 -> 42.489851 | E10: ='10 出生順位別，母の年齢別出生数'!E10/'10 出生順位別，母の年齢別出生数'!$B10*100 -> 14.479026 | F10: ='10 出生順位別，母の年齢別出生数'!F10/'10 出生順位別，母の年齢別出生数'!$B10*100 -> 5.0067659 | G10: ='10 出生順位別，母の年齢別出生数'!G10/'10 出生順位別，母の年齢別出生数'!$B10*100 -> 2.165088
A11: 45～49 | B11: =SUM(C11:G11) -> 100 | C11: ='10 出生順位別，母の年齢別出生数'!C11/'10 出生順位別，母の年齢別出生数'!$B11*100 -> 50 | D11: ='10 出生順位別，母の年齢別出生数'!D11/'10 出生順位別，母の年齢別出生数'!$B11*100 -> 30 | E11: ='10 出生順位別，母の年齢別出生数'!E11/'10 出生順位別，母の年齢別出生数'!$B11*100 -> 15 | F11: ='10 出生順位別，母の年齢別出生数'!F11/'10 出生順位別，母の年齢別出生数'!$B11*100 -> 0 | G11: ='10 出生順位別，母の年齢別出生数'!G11/'10 出生順位別，母の年齢別出生数'!$B11*100 -> 5
A12: 注） 算出に用いた出生数には14歳以下での出生は含まない。

Sheet 14　出生順位別，年次別父母の平均年齢
A1: 14 出生順位別にみた年次別父・母の平均年齢
A3: 年次 | B3: 父 | H3: 母
B4: 総数 | C4: 第1子 | D4: 第2子 | E4: 第3子 | F4: 第4子 | G4: 第5子～ | H4: 総数 | I4: 第1子 | J4: 第2子 | K4: 第3子 | L4: 第4子 | M4: 第5子～
A5: 1993 平成 5 年 | B5: 31.8 | C5: 30.1 | D5: 32.7 | E5: 34.9 | F5: … | G5: … | H5: 29.2 | I5: 27.6 | J5: 30.1 | K5: 32.4 | L5: … | M5: …
A6: 1994 平成 6 年 | B6: 31.8 | C6: 30.1 | D6: 32.7 | E6: 35.2 | F6: … | G6: … | H6: 29.3 | I6: 27.7 | J6: 30.2 | K6: 32.5 | L6: … | M6: …
A7: 95 7 | B7: 31.7 | C7: 30.1 | D7: 32.6 | E7: 35 | F7: … | G7: … | H7: 29.2 | I7: 27.7 | J7: 30 | K7: 32.4 | L7: … | M7: …
A8: 96 8 | B8: 31.8 | C8: 30.3 | D8: 32.8 | E8: 34.9 | F8: … | G8: … | H8: 29.5 | I8: 28 | J8: 30.4 | K8: 32.4 | L8: … | M8: …
A9: 97 9 | B9: 31.8 | C9: 30.3 | D9: 32.7 | E9: 34.9 | F9: … | G9: … | H9: 29.5 | I9: 28.1 | J9: 30.4 | K9: 32.4 | L9: … | M9: …
A10: 1998 平成10年 | B10: 31.8 | C10: 30.2 | D10: 32.7 | E10: 35 | F10: … | G10: … | H10: 29.6 | I10: 28.2 | J10: 30.6 | K10: 32.6 | L10: … | M10: …
A11: 99 11 | B11: 31.8 | C11: 30.3 | D11: 32.9 | E11: 34.9 | F11: … | G11: … | H11: 29.6 | I11: 28.2 | J11: 30.7 | K11: 32.6 | L11: … | M11: …
A12: 2000 12 | B12: 31.835811 | C12: 30.429638 | D12: 32.798789 | E12: 35.062568 | F12: 37.633323 | G12: 38.536861 | H12: 29.679546 | I12: 28.289378 | J12: 30.731233 | K12: 32.707146 | L12: 34.282571 | M12: 35.304444
A13: 01 13 | B13: 31.780312 | C13: 30.396913 | D13: 32.805105 | E13: 34.599335 | F13: 36.895556 | G13: 37.822116 | H13: 29.785527 | I13: 28.430557 | J13: 30.817247 | K13: 32.434007 | L13: 34.575272 | M13: 35.677473
A14: 02 14 | B14: 31.926332 | C14: 30.583523 | D14: 32.839341 | E14: 35.110069 | F14: 37.140098 | G14: 39.707253 | H14: 29.976978 | I14: 28.688101 | J14: 30.92683 | K14: 32.786712 | L14: 34.657959 | M14: 36.252648
A15: 2003 平成15年 | B15: 32.1114 | C15: 30.874308 | D15: 32.934614 | E15: 34.716415 | F15: 36.771327 | G15: 37.558278 | H15: 30.203557 | I15: 28.954013 | J15: 31.033506 | K15: 32.937391 | L15: 34.346342 | M15: 35.468382
A16: 04 16 | B16: 32.282144 | C16: 31.10677 | D16: 33.078307 | E16: 34.873896 | F16: 36.401492 | G16: 38.865561 | H16: 30.340834 | I16: 29.116037 | J16: 31.219018 | K16: 32.884547 | L16: 34.522962 | M16: 35.618022
A17: 05 17 | B17: 32.400491 | C17: 31.333238 | D17: 33.13068 | E17: 34.633015 | F17: 36.355389 | G17: 38.410763 | H17: 30.50193 | I17: 29.45109 | J17: 31.230682 | K17: 32.722485 | L17: 33.890017 | M17: 35.679351
A18: 06 18 | B18: 32.537813 | C18: 31.44656 | D18: 33.255869 | E18: 34.971237 | F18: 36.344016 | G18: 37.662736 | H18: 30.652043 | I18: 29.539934 | J18: 31.414844 | K18: 33.028995 | L18: 34.236288 | M18: 35.756167
A19: 07 19 | B19: 32.666381 | C19: 31.510728 | D19: 33.52697 | E19: 34.842279 | F19: 36.157856 | G19: 37.98554 | H19: 30.771918 | I19: 29.540325 | J19: 31.714901 | K19: 33.09182 | L19: 33.887891 | M19: 35.38019
A20: 08 20 | B20: 32.8 | C20: 31.6 | D20: 33.7 | E20: 34.9 | F20: 36 | G20: 37.8 | H20: 31 | I20: 29.8 | J20: 31.8 | K20: 33.1 | L20: 34.1 | M20: 36.1
A21: 09 21 | B21: 33 | C21: 31.9 | D21: 33.8 | E21: 35 | F21: 36 | G21: 38.7 | H21: 31 | I21: 29.8 | J21: 32 | K21: 33.4 | L21: 34.2 | M21: 35.9
A22: 10 22 | B22: 33.136813 | C22: 32.021437 | D22: 33.951164 | E22: 35.204589 | F22: 35.981746 | G22: 36.549916 | H22: 31.265571 | I22: 30.12643 | J22: 32.057453 | K22: 33.320192 | L22: 34.615238 | M22: 35.525936
A23: 11 23 | B23: 33.294521 | C23: 32.281067 | D23: 34.004355 | E23: 35.002979 | F23: 36.614317 | G23: 37.507445 | H23: 31.368022 | I23: 30.231967 | J23: 32.189723 | K23: 33.265375 | L23: 34.88825 | M23: 35.722444
... A29: 17 29 | B29: 34.116551 | C29: 33.023974 | D29: 34.836105 | E29: 36.03223 | F29: 37.123022 | G29: 37.273489 | H29: 32.106488 | I29: 30.916144 | J29: 32.98277 | K29: 33.954298 | L29: 34.740497 | M29: 36.141876
A30: 18 30 | B30: ='15 出生順位別，区別父母の平均年齢'!$B$5 -> 34.070171 | C30: ='15 出生順位別，区別父母の平均年齢'!$C$5 -> 32.927214 | D30: ='15 出生順位別，区別父母の平均年齢'!$D$5 -> 34.881469 | E30: ='15 出生順位別，区別父母の平均年齢'!$E$5 -> 35.831577 | F30: ='15 出生順位別，区別父母の平均年齢'!$F$5 -> 37.136086 | G30: ='15 出生順位別，区別父母の平均年齢'!$G$5 -> 37.947812 | H30: ='15 出生順位別，区別父母の平均年齢'!$H$5 -> 32.112629 | I30: ='15 出生順位別，区別父母の平均年齢'!$I$5 -> 30.832997 | J30: ='15 出生順位別，区別父母の平均年齢'!$J$5 -> 33.049687 | K30: ='15 出生順位別，区別父母の平均年齢'!$K$5 -> 34.170381 | L30: ='15 出生順位別，区別父母の平均年齢'!$L$5 -> 35.03002 | M30: ='15 出生順位別，区別父母の平均年齢'!$M$5 -> 35.605754

Sheet 15　出生順位別，区別父母の平均年齢
A1: 15 出生順位別にみた区別父・母の平均年齢
M2: ='3 月・性別，区別出生数・出生率'!$O$2 -> 平成30年
A3: 区 | B3: 父 | H3: 母
B4: 総数 | C4: 第1子 | D4: 第2子 | E4: 第3子 | F4: 第4子 | G4: 第5子～ | H4: 総数 | I4: 第1子 | J4: 第2子 | K4: 第3子 | L4: 第4子 | M4: 第5子～
A5: 総数 | B5: 34.070171 | C5: 32.927214 | D5: 34.881469 | E5: 35.831577 | F5: 37.136086 | G5: 37.947812 | H5: 32.112629 | I5: 30.832997 | J5: 33.049687 | K5: 34.170381 | L5: 35.03002 | M5: 35.605754
A6: 中央 | B6: 35.187881 | C6: 34.075253 | D6: 36.02788 | E6: 38.410846 | F6: 41.1462 | G6: 39.197888 | H6: 32.767693 | I6: 31.588539 | J6: 33.904023 | K6: 35.45215 | L6: 36.428392 | M6: 36.582763
A7: 北 | B7: 34.174849 | C7: 33.211472 | D7: 34.547199 | E7: 35.742622 | F7: 37.241696 | G7: 38.822742 | H7: 32.115682 | I7: 30.976555 | J7: 32.684788 | K7: 33.880717 | L7: 34.897072 | M7: 35.550355
A8: 東 | B8: 33.619908 | C8: 32.493924 | D8: 34.501937 | E8: 34.928085 | F8: 36.35312 | G8: 34.920719 | H8: 31.71328 | I8: 30.406735 | J8: 32.673088 | K8: 33.490058 | L8: 34.443628 | M8: 34.744121
A9: 白石 | B9: 33.517955 | C9: 32.57778 | D9: 34.314691 | E9: 35.496031 | F9: 36.250978 | G9: 37.165508 | H9: 31.607055 | I9: 30.719878 | J9: 32.269036 | K9: 33.661171 | L9: 33.792976 | M9: 36.161318
A10: 厚別 | B10: 34.203179 | C10: 33.032477 | D10: 34.873382 | E10: 35.509185 | F10: 36.411289 | G10: 41.20033 | H10: 32.546722 | I10: 31.067859 | J10: 33.487686 | K10: 34.331207 | L10: 36.382344 | M10: 37.130162
A11: 豊平 | B11: 33.543022 | C11: 32.349831 | D11: 34.758291 | E11: 35.60762 | F11: 39.110772 | G11: 40.026826 | H11: 31.65626 | I11: 30.327977 | J11: 33.106443 | K11: 33.960512 | L11: 36.900218 | M11: 34.347489
A12: 清田 | B12: 34.764466 | C12: 33.66216 | D12: 35.015186 | E12: 35.473955 | F12: 37.042001 | G12: 39.57714 | H12: 32.70005 | I12: 30.948579 | J12: 33.06325 | K12: 34.661611 | L12: 34.717763 | M12: 36.883973
A13: 南 | B13: 34.201334 | C13: 32.76262 | D13: 34.897757 | E13: 35.791956 | F13: 36.62827 | G13: 38.182877 | H13: 32.186095 | I13: 30.593751 | J13: 33.065335 | K13: 33.924873 | L13: 34.916935 | M13: 33.674658
A14: 西 | B14: 34.0961 | C14: 32.839227 | D14: 35.345201 | E14: 35.61161 | F14: 36.981428 | G14: 36.198554 | H14: 32.411108 | I14: 31.161702 | J14: 33.524607 | K14: 34.470471 | L14: 35.00022 | M14: 34.901903
A15: 手稲 | B15: 33.975118 | C15: 32.495765 | D15: 34.681223 | E15: 36.033684 | F15: 36.594304 | G15: 34.703196 | H15: 32.242939 | I15: 30.369749 | J15: 33.282032 | K15: 34.517134 | L15: 35.067047 | M15: 34.860997

Sheet 16　出生順位別，同居期間別嫡出子出生数・百分率・平均期間
A1: 16 出生順位別にみた出生までの同居期間別嫡出子出生数・百分率及び平均期間
G2: ='3 月・性別，区別出生数・出生率'!$O$2 -> 平成30年
A3: 同居期間 | B3: 総数 | C3: 第1子 | D3: 第2子 | E3: 第3子 | F3: 第4子 | G3: 第5子～
B4: 出生数
A5: 総 数 | B5: =SUM(C5:G5) -> 12900 | C5: =SUM(C6:C19) -> 6486 | D5: =SUM(D6:D19) -> 4674 | E5: =SUM(E6:E19) -> 1372 | F5: =SUM(F6:F19) -> 274 | G5: =SUM(G6:G19) -> 94
A6: 1年未満 | B6: =SUM(C6:G6) -> 1938 | C6: 1596 | D6: 226 | E6: 83 | F6: 27 | G6: 6 | I6: ※嫡出子
A7: 1年以上2年未満 | B7: =SUM(C7:G7) -> 1722 | C7: 1482 | D7: 179 | E7: 47 | F7: 11 | G7: 3 | I7: =SUM(B6:B19) -> 12900
A8: 2～ 3 | B8: =SUM(C8:G8) -> 1689 | C8: 1167 | D8: 450 | E8: 45 | F8: 21 | G8: 6
A9: 3～ 4 | B9: =SUM(C9:G9) -> 1475 | C9: 690 | D9: 719 | E9: 48 | F9: 14 | G9: 4
A10: 4～ 5 | B10: =SUM(C10:G10) -> 1252 | C10: 436 | D10: 716 | E10: 89 | F10: 7 | G10: 4
A11: 5～ 6 | B11: =SUM(C11:G11) -> 1067 | C11: 274 | D11: 627 | E11: 148 | F11: 11 | G11: 7
A12: 6～ 7 | B12: =SUM(C12:G12) -> 826 | C12: 164 | D12: 467 | E12: 174 | F12: 16 | G12: 5
A13: 7～ 8 | B13: =SUM(C13:G13) -> 631 | C13: 140 | D13: 306 | E13: 162 | F13: 19 | G13: 4
A14: 8～ 9 | B14: =SUM(C14:G14) -> 499 | C14: 78 | D14: 245 | E14: 152 | F14: 20 | G14: 4
A15: 9～10 | B15: =SUM(C15:G15) -> 351 | C15: 62 | D15: 151 | E15: 107 | F15: 23 | G15: 8
A16: 10～15 | B16: =SUM(C16:G16) -> 684 | C16: 118 | D16: 277 | E16: 197 | F16: 71 | G16: 21
A17: 15～20 | B17: =SUM(C17:G17) -> 109 | C17: 20 | D17: 44 | E17: 21 | F17: 13 | G17: 11
A18: 20～ | B18: =SUM(C18:G18) -> 9 | C18: 2 | D18: 3 | E18: 1 | F18: 1 | G18: 2
A19: 不 詳 | B19: =SUM(C19:G19) -> 648 | C19: 257 | D19: 264 | E19: 98 | F19: 20 | G19: 9
B20: 百分率
A21: 総 数 | B21: =SUM(B22:B35) -> 100 | C21: =SUM(C22:C35) -> 100 | D21: =SUM(D22:D35) -> 100 | E21: =SUM(E22:E35) -> 100 | F21: =SUM(F22:F35) -> 100 | G21: =SUM(G22:G35) -> 100
A22: 1年未満 | B22: =B6/B$5*100 -> 15.023256 | C22: =C6/C$5*100 -> 24.606846 | D22: =D6/D$5*100 -> 4.8352589 | E22: =E6/E$5*100 -> 6.0495627 | F22: =F6/F$5*100 -> 9.8540146 | G22: =G6/G$5*100 -> 6.3829787
A23: 1年以上2年未満 | B23: =B7/B$5*100 -> 13.348837 | C23: =C7/C$5*100 -> 22.849214 | D23: =D7/D$5*100 -> 3.8296962 | E23: =E7/E$5*100 -> 3.425656 | F23: =F7/F$5*100 -> 4.0145985 | G23: =G7/G$5*100 -> 3.1914894
A24: 2～ 3 | B24: =B8/B$5*100 -> 13.093023 | C24: =C8/C$5*100 -> 17.992599 | D24: =D8/D$5*100 -> 9.6277279 | E24: =E8/E$5*100 -> 3.2798834 | F24: =F8/F$5*100 -> 7.6642336 | G24: =G8/G$5*100 -> 6.3829787
A25: 3～ 4 | B25: =B9/B$5*100 -> 11.434109 | C25: =C9/C$5*100 -> 10.638298 | D25: =D9/D$5*100 -> 15.38297 | E25: =E9/E$5*100 -> 3.4985423 | F25: =F9/F$5*100 -> 5.1094891 | G25: =G9/G$5*100 -> 4.2553191
A26: 4～ 5 | B26: =B10/B$5*100 -> 9.7054264 | C26: =C10/C$5*100 -> 6.7221708 | D26: =D10/D$5*100 -> 15.318785 | E26: =E10/E$5*100 -> 6.4868805 | F26: =F10/F$5*100 -> 2.5547445 | G26: =G10/G$5*100 -> 4.2553191
A27: 5～ 6 | B27: =B11/B$5*100 -> 8.2713178 | C27: =C11/C$5*100 -> 4.2244835 | D27: =D11/D$5*100 -> 13.414634 | E27: =E11/E$5*100 -> 10.787172 | F27: =F11/F$5*100 -> 4.0145985 | G27: =G11/G$5*100 -> 7.4468085
A28: 6～ 7 | B28: =B12/B$5*100 -> 6.4031008 | C28: =C12/C$5*100 -> 2.528523 | D28: =D12/D$5*100 -> 9.991442 | E28: =E12/E$5*100 -> 12.682216 | F28: =F12/F$5*100 -> 5.8394161 | G28: =G12/G$5*100 -> 5.3191489
A29: 7～ 8 | B29: =B13/B$5*100 -> 4.8914729 | C29: =C13/C$5*100 -> 2.1584952 | D29: =D13/D$5*100 -> 6.5468549 | E29: =E13/E$5*100 -> 11.80758 | F29: =F13/F$5*100 -> 6.9343066 | G29: =G13/G$5*100 -> 4.2553191
A30: 8～ 9 | B30: =B14/B$5*100 -> 3.8682171 | C30: =C14/C$5*100 -> 1.2025902 | D30: =D14/D$5*100 -> 5.2417629 | E30: =E14/E$5*100 -> 11.078717 | F30: =F14/F$5*100 -> 7.2992701 | G30: =G14/G$5*100 -> 4.2553191
A31: 9～10 | B31: =B15/B$5*100 -> 2.7209302 | C31: =C15/C$5*100 -> 0.95590503 | D31: =D15/D$5*100 -> 3.2306376 | E31: =E15/E$5*100 -> 7.7988338 | F31: =F15/F$5*100 -> 8.3941606 | G31: =G15/G$5*100 -> 8.5106383
A32: 10～15 | B32: =B16/B$5*100 -> 5.3023256 | C32: =C16/C$5*100 -> 1.8193031 | D32: =D16/D$5*100 -> 5.9264014 | E32: =E16/E$5*100 -> 14.358601 | F32: =F16/F$5*100 -> 25.912409 | G32: =G16/G$5*100 -> 22.340426
A33: 15～20 | B33: =B17/B$5*100 -> 0.84496124 | C33: =C17/C$5*100 -> 0.30835646 | D33: =D17/D$5*100 -> 0.94137783 | E33: =E17/E$5*100 -> 1.5306122 | F33: =F17/F$5*100 -> 4.7445255 | G33: =G17/G$5*100 -> 11.702128
... A35: 不 詳 | B35: =B19/B$5*100 -> 5.0232558 | C35: =C19/C$5*100 -> 3.9623805 | D35: =D19/D$5*100 -> 5.648267 | E35: =E19/E$5*100 -> 7.1428571 | F35: =F19/F$5*100 -> 7.2992701 | G35: =G19/G$5*100 -> 9.5744681
A37: 平均期間(年) | B37: 3.99 | C37: 2.57 | D37: 4.99 | E37: 6.45 | F37: 7.01 | G37: 7.94

Sheet 17　妊娠期間別にみた区別出生数
A1: 17 妊娠期間別にみた区別出生数及び百分率
O2: ='3 月・性別，区別出生数・出生率'!$O$2 -> 平成30年
A3: 区 | B3: 総 数 | C3: 満22週 未満 | D3: 22～ 23週 | E3: 24～ 27週 | F3: 28～ 31週 | G3: 32～ 35週 | H3: 36～ 39週 | I3: 40週 ～ | J3: 不詳 | K3: (再 掲）
K4: 早期(満37週未満) | N4: 正期 | O4: 過期
K5: 28週 未満 | L5: 28～ 31週 | M5: 32～ 36週 | N5: 37～ 41週 | O5: 42週 ～
B6: 出生数
A7: 総数 | B7: =SUM(C7:J7) -> 13248 | C7: =SUM(C8:C17) -> 0 | D7: =SUM(D8:D17) -> 4 | E7: =SUM(E8:E17) -> 30 | F7: =SUM(F8:F17) -> 42 | G7: =SUM(G8:G17) -> 283 | H7: =SUM(H8:H17) -> 8711 | I7: =SUM(I8:I17) -> 4171 | J7: =SUM(J8:J17) -> 7 | ... O7: =SUM(O8:O17) -> 11
A8: 中央 | B8: =SUM(C8:J8) -> 1744 | C8: 0 | D8: 0 | E8: 4 | F8: 5 | G8: 38 | H8: 1166 | I8: 528 | J8: 3 | K8: 4 | L8: 5 | M8: 86 | N8: 1642 | O8: 4
A9: 北 | B9: =SUM(C9:J9) -> 1847 | C9: 0 | D9: 0 | E9: 2 | F9: 10 | G9: 46 | H9: 1186 | I9: 603 | J9: 0 | K9: 2 | L9: 10 | M9: 102 | N9: 1733 | O9: 0
A10: 東 | B10: =SUM(C10:J10) -> 1978 | C10: 0 | D10: 0 | E10: 5 | F10: 2 | G10: 41 | H10: 1245 | I10: 683 | J10: 2 | K10: 5 | L10: 2 | M10: 105 | N10: 1863 | O10: 1
A11: 白石 | B11: =SUM(C11:J11) -> 1711 | C11: 0 | D11: 0 | E11: 6 | F11: 8 | G11: 36 | H11: 1061 | I11: 599 | J11: 1 | K11: 6 | L11: 8 | M11: 86 | N11: 1608 | O11: 2
A12: 厚別 | B12: =SUM(C12:J12) -> 661 | C12: 0 | D12: 2 | E12: 1 | F12: 2 | G12: 13 | H12: 436 | I12: 207 | J12: 0 | K12: 3 | L12: 2 | M12: 40 | N12: 615 | O12: 1
A13: 豊平 | B13: =SUM(C13:J13) -> 1682 | C13: 0 | D13: 0 | E13: 1 | F13: 4 | G13: 30 | H13: 1138 | I13: 508 | J13: 1 | K13: 1 | L13: 4 | M13: 87 | N13: 1588 | O13: 1
A14: 清田 | B14: =SUM(C14:J14) -> 644 | C14: 0 | D14: 2 | E14: 2 | F14: 2 | G14: 10 | H14: 462 | I14: 166 | J14: 0 | K14: 4 | L14: 2 | M14: 38 | N14: 600 | O14: 0
A15: 南 | B15: =SUM(C15:J15) -> 642 | C15: 0 | D15: 0 | E15: 4 | F15: 2 | G15: 12 | H15: 437 | I15: 187 | J15: 0 | K15: 4 | L15: 2 | M15: 25 | N15: 611 | O15: 0
A16: 西 | B16: =SUM(C16:J16) -> 1530 | C16: 0 | D16: 0 | E16: 3 | F16: 6 | G16: 44 | H16: 997 | I16: 480 | J16: 0 | K16: 3 | L16: 6 | M16: 91 | N16: 1428 | O16: 2
A17: 手稲 | B17: =SUM(C17:J17) -> 809 | C17: 0 | D17: 0 | E17: 2 | F17: 1 | G17: 13 | H17: 583 | I17: 210 | J17: 0 | K17: 2 | L17: 1 | M17: 49 | N17: 757 | O17: 0
B18: 百分率
A19: 総数 | B19: =SUM(C19:J19) -> 100 | C19: =C7/$B7*100 -> 0 | D19: =D7/$B7*100 -> 0.030193237 | E19: =E7/$B7*100 -> 0.22644928 | F19: =F7/$B7*100 -> 0.31702899 | G19: =G7/$B7*100 -> 2.1361715 | H19: =H7/$B7*100 -> 65.753321 | I19: =I7/$B7*100 -> 31.483998 | J19: =J7/$B7*100 -> 0.052838164 | ... O19: =O7/$B7*100 -> 0.083031401
A20: 中央 | B20: =SUM(C20:J20) -> 100 | C20: =C8/$B8*100 -> 0 | D20: =D8/$B8*100 -> 0 | E20: =E8/$B8*100 -> 0.2293578 | F20: =F8/$B8*100 -> 0.28669725 | G20: =G8/$B8*100 -> 2.1788991 | H20: =H8/$B8*100 -> 66.857798 | I20: =I8/$B8*100 -> 30.275229 | J20: =J8/$B8*100 -> 0.17201835 | ... O20: =O8/$B8*100 -> 0.2293578
A21: 北 | B21: =SUM(C21:J21) -> 100 | C21: =C9/$B9*100 -> 0 | D21: =D9/$B9*100 -> 0 | E21: =E9/$B9*100 -> 0.1082837 | F21: =F9/$B9*100 -> 0.54141852 | G21: =G9/$B9*100 -> 2.4905252 | H21: =H9/$B9*100 -> 64.212236 | I21: =I9/$B9*100 -> 32.647537 | J21: =J9/$B9*100 -> 0 | ... O21: =O9/$B9*100 -> 0
A22: 東 | B22: =SUM(C22:J22) -> 100 | C22: =C10/$B10*100 -> 0 | D22: =D10/$B10*100 -> 0 | E22: =E10/$B10*100 -> 0.25278059 | F22: =F10/$B10*100 -> 0.10111223 | G22: =G10/$B10*100 -> 2.0728008 | H22: =H10/$B10*100 -> 62.942366 | I22: =I10/$B10*100 -> 34.529828 | J22: =J10/$B10*100 -> 0.10111223 | ... O22: =O10/$B10*100 -> 0.050556117
A23: 白石 | B23: =SUM(C23:J23) -> 100 | C23: =C11/$B11*100 -> 0 | D23: =D11/$B11*100 -> 0 | E23: =E11/$B11*100 -> 0.35067212 | F23: =F11/$B11*100 -> 0.46756283 | G23: =G11/$B11*100 -> 2.1040327 | H23: =H11/$B11*100 -> 62.01052 | I23: =I11/$B11*100 -> 35.008767 | J23: =J11/$B11*100 -> 0.058445354 | ... O23: =O11/$B11*100 -> 0.11689071
A24: 厚別 | B24: =SUM(C24:J24) -> 100 | C24: =C12/$B12*100 -> 0 | D24: =D12/$B12*100 -> 0.30257186 | E24: =E12/$B12*100 -> 0.15128593 | F24: =F12/$B12*100 -> 0.30257186 | G24: =G12/$B12*100 -> 1.9667171 | H24: =H12/$B12*100 -> 65.960666 | I24: =I12/$B12*100 -> 31.316188 | J24: =J12/$B12*100 -> 0 | ... O24: =O12/$B12*100 -> 0.15128593
A25: 豊平 | B25: =SUM(C25:J25) -> 100 | C25: =C13/$B13*100 -> 0 | D25: =D13/$B13*100 -> 0 | E25: =E13/$B13*100 -> 0.059453032 | F25: =F13/$B13*100 -> 0.23781213 | G25: =G13/$B13*100 -> 1.783591 | H25: =H13/$B13*100 -> 67.657551 | I25: =I13/$B13*100 -> 30.20214 | J25: =J13/$B13*100 -> 0.059453032 | ... O25: =O13/$B13*100 -> 0.059453032
A26: 清田 | B26: =SUM(C26:J26) -> 100 | C26: =C14/$B14*100 -> 0 | D26: =D14/$B14*100 -> 0.31055901 | E26: =E14/$B14*100 -> 0.31055901 | F26: =F14/$B14*100 -> 0.31055901 | G26: =G14/$B14*100 -> 1.552795 | H26: =H14/$B14*100 -> 71.73913 | I26: =I14/$B14*100 -> 25.776398 | J26: =J14/$B14*100 -> 0 | ... O26: =O14/$B14*100 -> 0
A27: 南 | B27: =SUM(C27:J27) -> 100 | C27: =C15/$B15*100 -> 0 | D27: =D15/$B15*100 -> 0 | E27: =E15/$B15*100 -> 0.62305296 | F27: =F15/$B15*100 -> 0.31152648 | G27: =G15/$B15*100 -> 1.8691589 | H27: =H15/$B15*100 -> 68.068536 | I27: =I15/$B15*100 -> 29.127726 | J27: =J15/$B15*100 -> 0 | ... O27: =O15/$B15*100 -> 0
A28: 西 | B28: =SUM(C28:J28) -> 100 | C28: =C16/$B16*100 -> 0 | D28: =D16/$B16*100 -> 0 | E28: =E16/$B16*100 -> 0.19607843 | F28: =F16/$B16*100 -> 0.39215686 | G28: =G16/$B16*100 -> 2.875817 | H28: =H16/$B16*100 -> 65.163399 | I28: =I16/$B16*100 -> 31.372549 | J28: =J16/$B16*100 -> 0 | ... O28: =O16/$B16*100 -> 0.13071895
A29: 手稲 | B29: =SUM(C29:J29) -> 100 | C29: =C17/$B17*100 -> 0 | D29: =D17/$B17*100 -> 0 | E29: =E17/$B17*100 -> 0.24721879 | F29: =F17/$B17*100 -> 0.12360939 | G29: =G17/$B17*100 -> 1.6069221 | H29: =H17/$B17*100 -> 72.064277 | I29: =I17/$B17*100 -> 25.957973 | J29: =J17/$B17*100 -> 0 | ... O29: =O17/$B17*100 -> 0

Sheet 18　出生時の体重別，年次別出生数
A1: 18 出生時の体重別にみた年次別出生数・百分率及び平均体重
A3: 年次 | B3: 総数 | C3: 0.5kｇ未満 | D3: 0.5㎏以上 1.0㎏未満 | E3: 1.0～1.5㎏ | F3: 1.5～2.0㎏ | G3: 2.0～2.5㎏ | H3: 2.5～3.0㎏ | I3: 3.0～3.5㎏ | J3: 3.5～4.0㎏ | K3: 4.0～4.5㎏ | L3: 4.5～5.0㎏ | M3: 5.0㎏以上 | N3: 不詳 | O3: (再掲) 2.5㎏未満 | P3: 出生時の 平均体重(㎏)
B4: 出生数
A5: 85 60 | B5: =SUM(C5:N5) -> 19314 | C5: 0 | D5: 38 | E5: 58 | F5: 161 | G5: 818 | H5: 5563 | I5: 8787 | J5: 3385 | K5: 464 | L5: 31 | M5: 3 | N5: 6 | O5: =SUM(C5:G5) -> 1075 | P5: 3.15
A6: 1986 昭和61年 | B6: =SUM(C6:N6) -> 19130 | C6: 0 | D6: 37 | E6: 68 | F6: 190 | G6: 811 | H6: 5360 | I6: 8926 | J6: 3285 | K6: 413 | L6: 30 | M6: 3 | N6: 7 | O6: =SUM(C6:G6) -> 1106 | P6: 3.15
A7: 1987 昭和62年 | B7: =SUM(C7:N7) -> 18533 | C7: 1 | D7: 34 | E7: 61 | F7: 169 | G7: 846 | H7: 5374 | I7: 8601 | J7: 3028 | K7: 383 | L7: 28 | M7: 3 | N7: 5 | O7: =SUM(C7:G7) -> 1111 | P7: 3.14
A8: 1988 昭和63年 | B8: 18216 | C8: 3 | D8: 30 | E8: 67 | F8: 173 | G8: 835 | H8: 5570 | I8: 8286 | J8: 2891 | K8: 328 | L8: 30 | M8: 1 | N8: 2 | O8: 1108 | P8: 3.12
A9: 89 平成元年 | B9: 17479 | C9: 1 | D9: 40 | E9: 76 | F9: 167 | G9: 861 | H9: 5481 | I9: 7887 | J9: 2623 | K9: 305 | L9: 33 | M9: 1 | N9: 4 | O9: 1145 | P9: 3.11
A10: 90 2 | B10: 17425 | C10: 1 | D10: 48 | E10: 65 | F10: 168 | G10: 881 | H10: 5574 | I10: 7802 | J10: 2571 | K10: 287 | L10: 24 | M10: 1 | N10: 3 | O10: 1163 | P10: 3.1
A11: 91 3 | B11: 17458 | C11: 1 | D11: 41 | E11: 77 | F11: 160 | G11: 892 | H11: 5628 | I11: 7984 | J11: 2411 | K11: 237 | L11: 18 | M11: 2 | N11: 7 | O11: 1171 | P11: 3.09
A12: 92 4 | B12: 17325 | C12: 2 | D12: 27 | E12: 63 | F12: 171 | G12: 930 | H12: 5768 | I12: 7736 | J12: 2344 | K12: 254 | L12: 20 | M12: 2 | N12: 8 | O12: 1193 | P12: 3.09
A13: 1993 平成5年 | B13: 16371 | C13: 1 | D13: 49 | E13: 56 | F13: 166 | G13: 948 | H13: 5411 | I13: 7283 | J13: 2199 | K13: 238 | L13: 14 | M13: 4 | N13: 2 | O13: 1220 | P13: 3.08
A14: 94 6 | B14: 17057 | C14: 6 | D14: 40 | E14: 73 | F14: 187 | G14: 1014 | H14: 5934 | I14: 7434 | J14: 2160 | K14: 194 | L14: 10 | M14: 1 | N14: 4 | O14: 1320 | P14: 3.06
A15: 95 7 | B15: 16227 | C15: 1 | D15: 41 | E15: 76 | F15: 184 | G15: 938 | H15: 5652 | I15: 7157 | J15: 1972 | K15: 186 | L15: 17 | M15: 0 | N15: 3 | O15: 1240 | P15: 3.06
A16: 96 8 | B16: 16339 | C16: 1 | D16: 26 | E16: 76 | F16: 158 | G16: 1062 | H16: 5627 | I16: 7169 | J16: 2015 | K16: 188 | L16: 15 | M16: 0 | N16: 2 | O16: 1323 | P16: 3.06
A17: 97 9 | B17: 15873 | C17: 2 | D17: 40 | E17: 59 | F17: 179 | G17: 988 | H17: 5583 | I17: 6902 | J17: 1947 | K17: 161 | L17: 7 | M17: 2 | N17: 3 | O17: 1268 | P17: 3.05
A18: 1998 平成10年 | B18: 16165 | C18: 3 | D18: 44 | E18: 50 | F18: 183 | G18: 1125 | H18: 5678 | I18: 6958 | J18: 1944 | K18: 161 | L18: 14 | M18: 0 | N18: 5 | O18: 1405 | P18: 3.04
A19: 99 11 | B19: 15358 | C19: 1 | D19: 40 | E19: 81 | F19: 192 | G19: 1004 | H19: 5453 | I19: 6618 | J19: 1818 | K19: 140 | L19: 9 | M19: 0 | N19: 2 | O19: 1318 | P19: 3.04
... A37: 17 29 | B37: 13821 | C37: 5 | D37: 27 | E37: 64 | F37: 182 | G37: 1026 | H37: 5280 | I37: 5700 | J37: 1418 | K37: 117 | L37: 1 | M37: 0 | N37: 1 | O37: 1304 | P37: 3.0090538
A38: 18 30 | B38: =SUM(C38:N38) -> 13248 | C38: ='25 出生時の体重別，単産-複産別出生数・平均体重'!D$4 -> 7 | D38: ='25 出生時の体重別，単産-複産別出生数・平均体重'!E$4 -> 27 | E38: ='25 出生時の体重別，単産-複産別出生数・平均体重'!F$4 -> 52 | F38: ='25 出生時の体重別，単産-複産別出生数・平均体重'!G$4 -> 152 | G38: ='25 出生時の体重別，単産-複産別出生数・平均体重'!H$4 -> 944 | H38: ='25 出生時の体重別，単産-複産別出生数・平均体重'!I$4 -> 4998 | I38: ='25 出生時の体重別，単産-複産別出生数・平均体重'!J$4 -> 5574 | J38: ='25 出生時の体重別，単産-複産別出生数・平均体重'!K$4 -> 1382 | ... N38: ='25 出生時の体重別，単産-複産別出生数・平均体重'!O$4 -> 3 | O38: =SUM(C38:G38) -> 1182 | P38: ='25 出生時の体重別，単産-複産別出生数・平均体重'!Q$4 -> 3.0172847
B39: 百分率
A40: 85 60 | B40: =SUM(C40:N40) -> 100 | C40: =C5/$B5*100 -> 0 | D40: =D5/$B5*100 -> 0.19674847 | E40: =E5/$B5*100 -> 0.3003003 | F40: =F5/$B5*100 -> 0.83359221 | G40: =G5/$B5*100 -> 4.2352698 | H40: =H5/$B5*100 -> 28.802941 | I40: =I5/$B5*100 -> 45.495495 | J40: =J5/$B5*100 -> 17.526147 | ... O40: =O5/$B5*100 -> 5.5659107
A41: 1986 昭和61年 | B41: =SUM(C41:N41) -> 100 | C41: =C6/$B6*100 -> 0 | D41: =D6/$B6*100 -> 0.19341349 | E41: =E6/$B6*100 -> 0.35546262 | F41: =F6/$B6*100 -> 0.99320439 | G41: =G6/$B6*100 -> 4.2394145 | H41: =H6/$B6*100 -> 28.018819 | I41: =I6/$B6*100 -> 46.659697 | J41: =J6/$B6*100 -> 17.171981 | ... O41: =O6/$B6*100 -> 5.781495
A42: 1987 昭和62年 | B42: =SUM(C42:N42) -> 100 | C42: =C7/$B7*100 -> 0.0053957805 | D42: =D7/$B7*100 -> 0.18345654 | E42: =E7/$B7*100 -> 0.32914261 | F42: =F7/$B7*100 -> 0.9118869 | G42: =G7/$B7*100 -> 4.5648303 | H42: =H7/$B7*100 -> 28.996924 | I42: =I7/$B7*100 -> 46.409108 | J42: =J7/$B7*100 -> 16.338423 | ... O42: =O7/$B7*100 -> 5.9947121
A43: 1988 昭和63年 | B43: 100 | C43: 0.016469038 | D43: 0.16469038 | E43: 0.36780852 | F43: 0.94971454 | G43: 4.5838823 | H43: 30.577514 | I43: 45.487484 | J43: 15.870663 | K43: 1.8006148 | L43: 0.16469038 | M43: 0.0054896794 | N43: 0.010979359 | O43: 6.0825648
A44: 89 平成元年 | B44: 100 | C44: 0.0057211511 | D44: 0.22884604 | E44: 0.43480748 | F44: 0.95543223 | G44: 4.9259111 | H44: 31.357629 | I44: 45.122719 | J44: 15.006579 | K44: 1.7449511 | L44: 0.18879799 | M44: 0.0057211511 | N44: 0.022884604 | O44: 6.550718
A45: 90 2 | B45: 100 | C45: 0.0057388809 | D45: 0.27546628 | E45: 0.37302726 | F45: 0.96413199 | G45: 5.0559541 | H45: 31.988522 | I45: 44.774749 | J45: 14.754663 | K45: 1.6470588 | L45: 0.13773314 | M45: 0.0057388809 | N45: 0.017216643 | O45: 6.6743185
A46: 91 3 | B46: 100 | C46: 0.005728033 | D46: 0.23484935 | E46: 0.44105854 | F46: 0.91648528 | G46: 5.1094054 | H46: 32.23737 | I46: 45.732615 | J46: 13.810288 | K46: 1.3575438 | L46: 0.10310459 | M46: 0.011456066 | N46: 0.040096231 | O46: 6.7075266
A47: 92 4 | B47: 100 | C47: 0.011544012 | D47: 0.15584416 | E47: 0.36363636 | F47: 0.98701299 | G47: 5.3679654 | H47: 33.292929 | I47: 44.652237 | J47: 13.529582 | K47: 1.4660895 | L47: 0.11544012 | M47: 0.011544012 | N47: 0.046176046 | O47: 6.8860029
A48: 1993 平成5年 | B48: 100 | C48: 0.0061083623 | D48: 0.29930976 | E48: 0.34206829 | F48: 1.0139881 | G48: 5.7907275 | H48: 33.052349 | I48: 44.487203 | J48: 13.432289 | K48: 1.4537902 | L48: 0.085517073 | M48: 0.024433449 | N48: 0.012216725 | O48: 7.4522021
A49: 94 6 | B49: 100 | C49: 0.035176174 | D49: 0.23450783 | E49: 0.42797678 | F49: 1.0963241 | G49: 5.9447734 | H49: 34.789236 | I49: 43.58328 | J49: 12.663423 | K49: 1.137363 | L49: 0.058626957 | M49: 0.0058626957 | N49: 0.023450783 | O49: 7.7387583
A50: 95 7 | B50: 100 | C50: 0.0061625686 | D50: 0.25266531 | E50: 0.46835521 | F50: 1.1339126 | G50: 5.7804893 | H50: 34.830837 | I50: 44.105503 | J50: 12.152585 | K50: 1.1462378 | L50: 0.10476367 | M50: 0 | N50: 0.018487706 | O50: 7.641585
A51: 96 8 | B51: 100 | C51: 0.0061203256 | D51: 0.15912847 | E51: 0.46514475 | F51: 0.96701145 | G51: 6.4997858 | H51: 34.439072 | I51: 43.876614 | J51: 12.332456 | K51: 1.1506212 | L51: 0.091804884 | M51: 0 | N51: 0.012240651 | O51: 8.0971908
A52: 97 9 | B52: 100 | C52: 0.012600013 | D52: 0.25200025 | E52: 0.37170037 | F52: 1.1277011 | G52: 6.2244062 | H52: 35.172935 | I52: 43.482643 | J52: 12.266112 | K52: 1.014301 | L52: 0.044100044 | M52: 0.012600013 | N52: 0.018900019 | O52: 7.988408
A53: 1998 平成10年 | B53: 100 | C53: 0.018558614 | D53: 0.27219301 | E53: 0.30931024 | F53: 1.1320755 | G53: 6.9594804 | H53: 35.125271 | I53: 43.043613 | J53: 12.025982 | K53: 0.99597897 | L53: 0.086606867 | M53: 0 | N53: 0.030931024 | O53: 8.6916177
A54: 99 11 | B54: 100 | C54: 0.0065112645 | D54: 0.26045058 | E54: 0.52741242 | F54: 1.2501628 | G54: 6.5373095 | H54: 35.505925 | I54: 43.091548 | J54: 11.837479 | K54: 0.91157703 | L54: 0.05860138 | M54: 0 | N54: 0.013022529 | O54: 8.5818466
... A72: 17 29 | B72: 100 | C72: 0.036176832 | D72: 0.19535489 | E72: 0.46306345 | F72: 1.3168367 | G72: 7.423486 | H72: 38.202735 | I72: 41.241589 | J72: 10.25975 | K72: 0.84653788 | L72: 0.0072353665 | M72: 0 | N72: 0.0072353665 | O72: 9.4349179
A73: 18 30 | B73: =SUM(C73:N73) -> 100 | C73: =C38/$B38*100 -> 0.052838164 | D73: =D38/$B38*100 -> 0.20380435 | E73: =E38/$B38*100 -> 0.39251208 | F73: =F38/$B38*100 -> 1.147343 | G73: =G38/$B38*100 -> 7.1256039 | H73: =H38/$B38*100 -> 37.726449 | I73: =I38/$B38*100 -> 42.074275 | J73: =J38/$B38*100 -> 10.431763 | ... O73: =O38/$B38*100 -> 8.9221014

Sheet 19 体重・性別，区別出生数・百分率
A1: 19 出生時の体重・性別にみた区別出生数及び百分率
K2: ='3 月・性別，区別出生数・出生率'!$O$2 -> 平成30年
A3: 区・性 | C3: 総数 | D3: 2.5kｇ未満 | E3: 2.5㎏以上 3.0㎏未満 | F3: 3.0～3.5㎏ | G3: 3.5～4.0㎏ | H3: 4.0～4.5㎏ | I3: 4.5～5.0㎏ | J3: 5.0㎏以上 | K3: 不詳
C4: 出生数
A5: 総数 | C5: =SUM(D5:K5) -> 13248 | D5: ='20 体重・性別,区別低体重児出生数，百分率，割合'!C5 -> 1182 | E5: =SUM(E8,E11,E14,E17,E20,E23,E26,E29,E32,E35) -> 4998 | F5: =SUM(F8,F11,F14,F17,F20,F23,F26,F29,F32,F35) -> 5574 | G5: =SUM(G8,G11,G14,G17,G20,G23,G26,G29,G32,G35) -> 1382 | H5: =SUM(H8,H11,H14,H17,H20,H23,H26,H29,H32,H35) -> 106 | I5: =SUM(I8,I11,I14,I17,I20,I23,I26,I29,I32,I35) -> 2 | J5: =SUM(J8,J11,J14,J17,J20,J23,J26,J29,J32,J35) -> 1 | K5: =SUM(K8,K11,K14,K17,K20,K23,K26,K29,K32,K35) -> 3
B6: 男 | C6: =SUM(D6:K6) -> 6744 | D6: ='20 体重・性別,区別低体重児出生数，百分率，割合'!C6 -> 530 | E6: =SUM(E9,E12,E15,E18,E21,E24,E27,E30,E33,E36) -> 2318 | F6: =SUM(F9,F12,F15,F18,F21,F24,F27,F30,F33,F36) -> 2992 | G6: =SUM(G9,G12,G15,G18,G21,G24,G27,G30,G33,G36) -> 833 | H6: =SUM(H9,H12,H15,H18,H21,H24,H27,H30,H33,H36) -> 67 | I6: =SUM(I9,I12,I15,I18,I21,I24,I27,I30,I33,I36) -> 1 | J6: =SUM(J9,J12,J15,J18,J21,J24,J27,J30,J33,J36) -> 1 | K6: =SUM(K9,K12,K15,K18,K21,K24,K27,K30,K33,K36) -> 2
B7: 女 | C7: =SUM(D7:K7) -> 6504 | D7: ='20 体重・性別,区別低体重児出生数，百分率，割合'!C7 -> 652 | E7: =SUM(E10,E13,E16,E19,E22,E25,E28,E31,E34,E37) -> 2680 | F7: =SUM(F10,F13,F16,F19,F22,F25,F28,F31,F34,F37) -> 2582 | G7: =SUM(G10,G13,G16,G19,G22,G25,G28,G31,G34,G37) -> 549 | H7: =SUM(H10,H13,H16,H19,H22,H25,H28,H31,H34,H37) -> 39 | I7: =SUM(I10,I13,I16,I19,I22,I25,I28,I31,I34,I37) -> 1 | J7: =SUM(J10,J13,J16,J19,J22,J25,J28,J31,J34,J37) -> 0 | K7: =SUM(K10,K13,K16,K19,K22,K25,K28,K31,K34,K37) -> 1
A8: 中央 | C8: =SUM(D8:K8) -> 1744 | D8: ='20 体重・性別,区別低体重児出生数，百分率，割合'!C8 -> 170 | E8: =SUM(E9:E10) -> 643 | F8: =SUM(F9:F10) -> 750 | G8: =SUM(G9:G10) -> 168 | H8: =SUM(H9:H10) -> 12 | I8: =SUM(I9:I10) -> 0 | J8: =SUM(J9:J10) -> 0 | K8: =SUM(K9:K10) -> 1
B9: 男 | C9: =SUM(D9:K9) -> 918 | D9: ='20 体重・性別,区別低体重児出生数，百分率，割合'!C9 -> 83 | E9: 300 | F9: 421 | G9: 107 | H9: 6 | I9: 0 | J9: 0 | K9: 1
B10: 女 | C10: =SUM(D10:K10) -> 826 | D10: ='20 体重・性別,区別低体重児出生数，百分率，割合'!C10 -> 87 | E10: 343 | F10: 329 | G10: 61 | H10: 6 | I10: 0 | J10: 0 | K10: 0
A11: 北 | C11: =SUM(D11:K11) -> 1847 | D11: ='20 体重・性別,区別低体重児出生数，百分率，割合'!C11 -> 163 | E11: =SUM(E12:E13) -> 653 | F11: =SUM(F12:F13) -> 821 | G11: =SUM(G12:G13) -> 193 | H11: =SUM(H12:H13) -> 14 | I11: =SUM(I12:I13) -> 1 | J11: =SUM(J12:J13) -> 1 | K11: =SUM(K12:K13) -> 1
B12: 男 | C12: =SUM(D12:K12) -> 922 | D12: ='20 体重・性別,区別低体重児出生数，百分率，割合'!C12 -> 76 | E12: 301 | F12: 426 | G12: 109 | H12: 8 | I12: 0 | J12: 1 | K12: 1
B13: 女 | C13: =SUM(D13:K13) -> 925 | D13: ='20 体重・性別,区別低体重児出生数，百分率，割合'!C13 -> 87 | E13: 352 | F13: 395 | G13: 84 | H13: 6 | I13: 1 | J13: 0 | K13: 0
A14: 東 | C14: =SUM(D14:K14) -> 1978 | D14: ='20 体重・性別,区別低体重児出生数，百分率，割合'!C14 -> 163 | E14: =SUM(E15:E16) -> 743 | F14: =SUM(F15:F16) -> 814 | G14: =SUM(G15:G16) -> 231 | H14: =SUM(H15:H16) -> 26 | I14: =SUM(I15:I16) -> 0 | J14: =SUM(J15:J16) -> 0 | K14: =SUM(K15:K16) -> 1
B15: 男 | C15: =SUM(D15:K15) -> 995 | D15: ='20 体重・性別,区別低体重児出生数，百分率，割合'!C15 -> 70 | E15: 351 | F15: 433 | G15: 128 | H15: 13 | I15: 0 | J15: 0 | K15: 0
B16: 女 | C16: =SUM(D16:K16) -> 983 | D16: ='20 体重・性別,区別低体重児出生数，百分率，割合'!C16 -> 93 | E16: 392 | F16: 381 | G16: 103 | H16: 13 | I16: 0 | J16: 0 | K16: 1
A17: 白石 | C17: =SUM(D17:K17) -> 1711 | D17: ='20 体重・性別,区別低体重児出生数，百分率，割合'!C17 -> 163 | E17: =SUM(E18:E19) -> 660 | F17: =SUM(F18:F19) -> 705 | G17: =SUM(G18:G19) -> 169 | H17: =SUM(H18:H19) -> 13 | I17: =SUM(I18:I19) -> 1 | J17: =SUM(J18:J19) -> 0 | K17: =SUM(K18:K19) -> 0
B18: 男 | C18: =SUM(D18:K18) -> 882 | D18: ='20 体重・性別,区別低体重児出生数，百分率，割合'!C18 -> 75 | E18: 297 | F18: 389 | G18: 111 | H18: 9 | I18: 1 | J18: 0 | K18: 0
B19: 女 | C19: =SUM(D19:K19) -> 829 | D19: ='20 体重・性別,区別低体重児出生数，百分率，割合'!C19 -> 88 | E19: 363 | F19: 316 | G19: 58 | H19: 4 | I19: 0 | J19: 0 | K19: 0
A20: 厚別 | C20: =SUM(D20:K20) -> 661 | D20: ='20 体重・性別,区別低体重児出生数，百分率，割合'!C20 -> 60 | E20: =SUM(E21:E22) -> 255 | F20: =SUM(F21:F22) -> 265 | G20: =SUM(G21:G22) -> 74 | H20: =SUM(H21:H22) -> 7 | I20: =SUM(I21:I22) -> 0 | J20: =SUM(J21:J22) -> 0 | K20: =SUM(K21:K22) -> 0
B21: 男 | C21: =SUM(D21:K21) -> 360 | D21: ='20 体重・性別,区別低体重児出生数，百分率，割合'!C21 -> 31 | E21: 137 | F21: 145 | G21: 43 | H21: 4 | I21: 0 | J21: 0 | K21: 0
B22: 女 | C22: =SUM(D22:K22) -> 301 | D22: ='20 体重・性別,区別低体重児出生数，百分率，割合'!C22 -> 29 | E22: 118 | F22: 120 | G22: 31 | H22: 3 | I22: 0 | J22: 0 | K22: 0
A23: 豊平 | C23: =SUM(D23:K23) -> 1682 | D23: ='20 体重・性別,区別低体重児出生数，百分率，割合'!C23 -> 130 | E23: =SUM(E24:E25) -> 653 | F23: =SUM(F24:F25) -> 724 | G23: =SUM(G24:G25) -> 161 | H23: =SUM(H24:H25) -> 14 | I23: =SUM(I24:I25) -> 0 | J23: =SUM(J24:J25) -> 0 | K23: =SUM(K24:K25) -> 0
B24: 男 | C24: =SUM(D24:K24) -> 855 | D24: ='20 体重・性別,区別低体重児出生数，百分率，割合'!C24 -> 49 | E24: 303 | F24: 386 | G24: 105 | H24: 12 | I24: 0 | J24: 0 | K24: 0
B25: 女 | C25: =SUM(D25:K25) -> 827 | D25: ='20 体重・性別,区別低体重児出生数，百分率，割合'!C25 -> 81 | E25: 350 | F25: 338 | G25: 56 | H25: 2 | I25: 0 | J25: 0 | K25: 0
A26: 清田 | C26: =SUM(D26:K26) -> 644 | D26: ='20 体重・性別,区別低体重児出生数，百分率，割合'!C26 -> 56 | E26: =SUM(E27:E28) -> 230 | F26: =SUM(F27:F28) -> 277 | G26: =SUM(G27:G28) -> 79 | H26: =SUM(H27:H28) -> 2 | I26: =SUM(I27:I28) -> 0 | J26: =SUM(J27:J28) -> 0 | K26: =SUM(K27:K28) -> 0
B27: 男 | C27: =SUM(D27:K27) -> 319 | D27: ='20 体重・性別,区別低体重児出生数，百分率，割合'!C27 -> 22 | E27: 102 | F27: 143 | G27: 51 | H27: 1 | I27: 0 | J27: 0 | K27: 0
B28: 女 | C28: =SUM(D28:K28) -> 325 | D28: ='20 体重・性別,区別低体重児出生数，百分率，割合'!C28 -> 34 | E28: 128 | F28: 134 | G28: 28 | H28: 1 | I28: 0 | J28: 0 | K28: 0
A29: 南 | C29: =SUM(D29:K29) -> 642 | D29: ='20 体重・性別,区別低体重児出生数，百分率，割合'!C29 -> 57 | E29: =SUM(E30:E31) -> 225 | F29: =SUM(F30:F31) -> 283 | G29: =SUM(G30:G31) -> 73 | H29: =SUM(H30:H31) -> 4 | I29: =SUM(I30:I31) -> 0 | J29: =SUM(J30:J31) -> 0 | K29: =SUM(K30:K31) -> 0
B30: 男 | C30: =SUM(D30:K30) -> 326 | D30: ='20 体重・性別,区別低体重児出生数，百分率，割合'!C30 -> 24 | E30: 103 | F30: 154 | G30: 42 | H30: 3 | I30: 0 | J30: 0 | K30: 0
B31: 女 | C31: =SUM(D31:K31) -> 316 | D31: ='20 体重・性別,区別低体重児出生数，百分率，割合'!C31 -> 33 | E31: 122 | F31: 129 | G31: 31 | H31: 1 | I31: 0 | J31: 0 | K31: 0
A32: 西 | C32: =SUM(D32:K32) -> 1530 | D32: ='20 体重・性別,区別低体重児出生数，百分率，割合'!C32 -> 145 | E32: =SUM(E33:E34) -> 598 | F32: =SUM(F33:F34) -> 616 | G32: =SUM(G33:G34) -> 164 | H32: =SUM(H33:H34) -> 7 | I32: =SUM(I33:I34) -> 0 | J32: =SUM(J33:J34) -> 0 | K32: =SUM(K33:K34) -> 0
B33: 男 | C33: =SUM(D33:K33) -> 772 | D33: ='20 体重・性別,区別低体重児出生数，百分率，割合'!C33 -> 70 | E33: 266 | F33: 328 | G33: 101 | H33: 7 | I33: 0 | J33: 0 | K33: 0
B34: 女 | C34: =SUM(D34:K34) -> 758 | D34: ='20 体重・性別,区別低体重児出生数，百分率，割合'!C34 -> 75 | E34: 332 | F34: 288 | G34: 63 | H34: 0 | I34: 0 | J34: 0 | K34: 0
A35: 手稲 | C35: =SUM(D35:K35) -> 809 | D35: ='20 体重・性別,区別低体重児出生数，百分率，割合'!C35 -> 75 | E35: =SUM(E36:E37) -> 338 | F35: =SUM(F36:F37) -> 319 | G35: =SUM(G36:G37) -> 70 | H35: =SUM(H36:H37) -> 7 | I35: =SUM(I36:I37) -> 0 | J35: =SUM(J36:J37) -> 0 | K35: =SUM(K36:K37) -> 0
B36: 男 | C36: =SUM(D36:K36) -> 395 | D36: ='20 体重・性別,区別低体重児出生数，百分率，割合'!C36 -> 30 | E36: 158 | F36: 167 | G36: 36 | H36: 4 | I36: 0 | J36: 0 | K36: 0
B37: 女 | C37: =SUM(D37:K37) -> 414 | D37: ='20 体重・性別,区別低体重児出生数，百分率，割合'!C37 -> 45 | E37: 180 | F37: 152 | G37: 34 | H37: 3 | I37: 0 | J37: 0 | K37: 0
C38: 百分率
A39: 総数 | C39: =SUM(D39:K39) -> 100 | D39: =D5/$C5*100 -> 8.9221014 | E39: =E5/$C5*100 -> 37.726449 | F39: =F5/$C5*100 -> 42.074275 | G39: =G5/$C5*100 -> 10.431763 | H39: =H5/$C5*100 -> 0.80012077 | I39: =I5/$C5*100 -> 0.015096618 | J39: =J5/$C5*100 -> 0.0075483092 | K39: =K5/$C5*100 -> 0.022644928
A40: 中央 | C40: =SUM(D40:K40) -> 100 | D40: =D8/$C8*100 -> 9.7477064 | E40: =E8/$C8*100 -> 36.869266 | F40: =F8/$C8*100 -> 43.004587 | G40: =G8/$C8*100 -> 9.6330275 | H40: =H8/$C8*100 -> 0.68807339 | I40: =I8/$C8*100 -> 0 | J40: =J8/$C8*100 -> 0 | K40: =K8/$C8*100 -> 0.05733945
A41: 北 | C41: =SUM(D41:K41) -> 100 | D41: =D11/$C11*100 -> 8.8251218 | E41: =E11/$C11*100 -> 35.354629 | F41: =F11/$C11*100 -> 44.45046 | G41: =G11/$C11*100 -> 10.449377 | H41: =H11/$C11*100 -> 0.75798592 | I41: =I11/$C11*100 -> 0.054141852 | J41: =J11/$C11*100 -> 0.054141852 | K41: =K11/$C11*100 -> 0.054141852
A42: 東 | C42: =SUM(D42:K42) -> 100 | D42: =D14/$C14*100 -> 8.2406471 | E42: =E14/$C14*100 -> 37.563195 | F42: =F14/$C14*100 -> 41.152679 | G42: =G14/$C14*100 -> 11.678463 | H42: =H14/$C14*100 -> 1.314459 | I42: =I14/$C14*100 -> 0 | J42: =J14/$C14*100 -> 0 | K42: =K14/$C14*100 -> 0.050556117
A43: 白石 | C43: =SUM(D43:K43) -> 100 | D43: =D17/$C17*100 -> 9.5265926 | E43: =E17/$C17*100 -> 38.573933 | F43: =F17/$C17*100 -> 41.203974 | G43: =G17/$C17*100 -> 9.8772648 | H43: =H17/$C17*100 -> 0.7597896 | I43: =I17/$C17*100 -> 0.058445354 | J43: =J17/$C17*100 -> 0 | K43: =K17/$C17*100 -> 0
A44: 厚別 | C44: =SUM(D44:K44) -> 100 | D44: =D20/$C20*100 -> 9.0771558 | E44: =E20/$C20*100 -> 38.577912 | F44: =F20/$C20*100 -> 40.090772 | G44: =G20/$C20*100 -> 11.195159 | H44: =H20/$C20*100 -> 1.0590015 | I44: =I20/$C20*100 -> 0 | J44: =J20/$C20*100 -> 0 | K44: =K20/$C20*100 -> 0
A45: 豊平 | C45: =SUM(D45:K45) -> 100 | D45: =D23/$C23*100 -> 7.7288942 | E45: =E23/$C23*100 -> 38.82283 | F45: =F23/$C23*100 -> 43.043995 | G45: =G23/$C23*100 -> 9.5719382 | H45: =H23/$C23*100 -> 0.83234245 | I45: =I23/$C23*100 -> 0 | J45: =J23/$C23*100 -> 0 | K45: =K23/$C23*100 -> 0
A46: 清田 | C46: =SUM(D46:K46) -> 100 | D46: =D26/$C26*100 -> 8.6956522 | E46: =E26/$C26*100 -> 35.714286 | F46: =F26/$C26*100 -> 43.012422 | G46: =G26/$C26*100 -> 12.267081 | H46: =H26/$C26*100 -> 0.31055901 | I46: =I26/$C26*100 -> 0 | J46: =J26/$C26*100 -> 0 | K46: =K26/$C26*100 -> 0
A47: 南 | C47: =SUM(D47:K47) -> 100 | D47: =D29/$C29*100 -> 8.8785047 | E47: =E29/$C29*100 -> 35.046729 | F47: =F29/$C29*100 -> 44.080997 | G47: =G29/$C29*100 -> 11.370717 | H47: =H29/$C29*100 -> 0.62305296 | I47: =I29/$C29*100 -> 0 | J47: =J29/$C29*100 -> 0 | K47: =K29/$C29*100 -> 0
A48: 西 | C48: =SUM(D48:K48) -> 100 | D48: =D32/$C32*100 -> 9.4771242 | E48: =E32/$C32*100 -> 39.084967 | F48: =F32/$C32*100 -> 40.261438 | G48: =G32/$C32*100 -> 10.718954 | H48: =H32/$C32*100 -> 0.45751634 | I48: =I32/$C32*100 -> 0 | J48: =J32/$C32*100 -> 0 | K48: =K32/$C32*100 -> 0
A49: 手稲 | C49: =SUM(D49:K49) -> 100 | D49: =D35/$C35*100 -> 9.2707046 | E49: =E35/$C35*100 -> 41.779975 | F49: =F35/$C35*100 -> 39.431397 | G49: =G35/$C35*100 -> 8.6526576 | H49: =H35/$C35*100 -> 0.86526576 | I49: =I35/$C35*100 -> 0 | J49: =J35/$C35*100 -> 0 | K49: =K35/$C35*100 -> 0

Sheet 20　体重・性別,区別低体重児出生数，百分率，割合
A1: 20 出生時の体重・性別にみた区別低体重児出生数及び割合
H2: ='3 月・性別，区別出生数・出生率'!$O$2 -> 平成30年
A3: 区・性 | C3: 総数 | D3: 0.5kｇ未満 | E3: 0.5㎏以上 1.0㎏未満 | F3: 1.0～1.5㎏ | G3: 1.5～2.0㎏ | H3: 2.0～2.5㎏
C4: 出生数
A5: 総数 | C5: =SUM(D5:H5) -> 1182 | D5: =SUM(D8,D11,D14,D17,D20,D23,D26,D29,D32,D35) -> 7 | E5: =SUM(E8,E11,E14,E17,E20,E23,E26,E29,E32,E35) -> 27 | F5: =SUM(F8,F11,F14,F17,F20,F23,F26,F29,F32,F35) -> 52 | G5: =SUM(G8,G11,G14,G17,G20,G23,G26,G29,G32,G35) -> 152 | H5: =SUM(H8,H11,H14,H17,H20,H23,H26,H29,H32,H35) -> 944
B6: 男 | C6: =SUM(D6:H6) -> 530 | D6: =SUM(D9,D12,D15,D18,D21,D24,D27,D30,D33,D36) -> 3 | E6: =SUM(E9,E12,E15,E18,E21,E24,E27,E30,E33,E36) -> 15 | F6: =SUM(F9,F12,F15,F18,F21,F24,F27,F30,F33,F36) -> 23 | G6: =SUM(G9,G12,G15,G18,G21,G24,G27,G30,G33,G36) -> 84 | H6: =SUM(H9,H12,H15,H18,H21,H24,H27,H30,H33,H36) -> 405
B7: 女 | C7: =SUM(D7:H7) -> 652 | D7: =SUM(D10,D13,D16,D19,D22,D25,D28,D31,D34,D37) -> 4 | E7: =SUM(E10,E13,E16,E19,E22,E25,E28,E31,E34,E37) -> 12 | F7: =SUM(F10,F13,F16,F19,F22,F25,F28,F31,F34,F37) -> 29 | G7: =SUM(G10,G13,G16,G19,G22,G25,G28,G31,G34,G37) -> 68 | H7: =SUM(H10,H13,H16,H19,H22,H25,H28,H31,H34,H37) -> 539
A8: 中央 | C8: =SUM(D8:H8) -> 170 | D8: =SUM(D9:D10) -> 1 | E8: =SUM(E9:E10) -> 2 | F8: =SUM(F9:F10) -> 4 | G8: =SUM(G9:G10) -> 20 | H8: =SUM(H9:H10) -> 143
B9: 男 | C9: =SUM(D9:H9) -> 83 | D9: 0 | E9: 2 | F9: 2 | G9: 12 | H9: 67
B10: 女 | C10: =SUM(D10:H10) -> 87 | D10: 1 | E10: 0 | F10: 2 | G10: 8 | H10: 76
A11: 北 | C11: =SUM(D11:H11) -> 163 | D11: =SUM(D12:D13) -> 0 | E11: =SUM(E12:E13) -> 3 | F11: =SUM(F12:F13) -> 9 | G11: =SUM(G12:G13) -> 27 | H11: =SUM(H12:H13) -> 124
B12: 男 | C12: =SUM(D12:H12) -> 76 | D12: 0 | E12: 2 | F12: 2 | G12: 18 | H12: 54
B13: 女 | C13: =SUM(D13:H13) -> 87 | D13: 0 | E13: 1 | F13: 7 | G13: 9 | H13: 70
A14: 東 | C14: =SUM(D14:H14) -> 163 | D14: =SUM(D15:D16) -> 2 | E14: =SUM(E15:E16) -> 5 | F14: =SUM(F15:F16) -> 3 | G14: =SUM(G15:G16) -> 15 | H14: =SUM(H15:H16) -> 138
B15: 男 | C15: =SUM(D15:H15) -> 70 | D15: 1 | E15: 3 | F15: 1 | G15: 7 | H15: 58
B16: 女 | C16: =SUM(D16:H16) -> 93 | D16: 1 | E16: 2 | F16: 2 | G16: 8 | H16: 80
A17: 白石 | C17: =SUM(D17:H17) -> 163 | D17: =SUM(D18:D19) -> 0 | E17: =SUM(E18:E19) -> 6 | F17: =SUM(F18:F19) -> 11 | G17: =SUM(G18:G19) -> 20 | H17: =SUM(H18:H19) -> 126
B18: 男 | C18: =SUM(D18:H18) -> 75 | D18: 0 | E18: 2 | F18: 6 | G18: 8 | H18: 59
B19: 女 | C19: =SUM(D19:H19) -> 88 | D19: 0 | E19: 4 | F19: 5 | G19: 12 | H19: 67
A20: 厚別 | C20: =SUM(D20:H20) -> 60 | D20: =SUM(D21:D22) -> 1 | E20: =SUM(E21:E22) -> 2 | F20: =SUM(F21:F22) -> 2 | G20: =SUM(G21:G22) -> 10 | H20: =SUM(H21:H22) -> 45
B21: 男 | C21: =SUM(D21:H21) -> 31 | D21: 1 | E21: 1 | F21: 2 | G21: 6 | H21: 21
B22: 女 | C22: =SUM(D22:H22) -> 29 | D22: 0 | E22: 1 | F22: 0 | G22: 4 | H22: 24
A23: 豊平 | C23: =SUM(D23:H23) -> 130 | D23: =SUM(D24:D25) -> 0 | E23: =SUM(E24:E25) -> 1 | F23: =SUM(F24:F25) -> 5 | G23: =SUM(G24:G25) -> 15 | H23: =SUM(H24:H25) -> 109
B24: 男 | C24: =SUM(D24:H24) -> 49 | D24: 0 | E24: 0 | F24: 2 | G24: 9 | H24: 38
B25: 女 | C25: =SUM(D25:H25) -> 81 | D25: 0 | E25: 1 | F25: 3 | G25: 6 | H25: 71
A26: 清田 | C26: =SUM(D26:H26) -> 56 | D26: =SUM(D27:D28) -> 2 | E26: =SUM(E27:E28) -> 1 | F26: =SUM(F27:F28) -> 4 | G26: =SUM(G27:G28) -> 6 | H26: =SUM(H27:H28) -> 43
B27: 男 | C27: =SUM(D27:H27) -> 22 | D27: 0 | E27: 0 | F27: 1 | G27: 4 | H27: 17
B28: 女 | C28: =SUM(D28:H28) -> 34 | D28: 2 | E28: 1 | F28: 3 | G28: 2 | H28: 26
A29: 南 | C29: =SUM(D29:H29) -> 57 | D29: =SUM(D30:D31) -> 0 | E29: =SUM(E30:E31) -> 3 | F29: =SUM(F30:F31) -> 4 | G29: =SUM(G30:G31) -> 8 | H29: =SUM(H30:H31) -> 42
B30: 男 | C30: =SUM(D30:H30) -> 24 | D30: 0 | E30: 1 | F30: 3 | G30: 3 | H30: 17
B31: 女 | C31: =SUM(D31:H31) -> 33 | D31: 0 | E31: 2 | F31: 1 | G31: 5 | H31: 25
A32: 西 | C32: =SUM(D32:H32) -> 145 | D32: =SUM(D33:D34) -> 1 | E32: =SUM(E33:E34) -> 2 | F32: =SUM(F33:F34) -> 7 | G32: =SUM(G33:G34) -> 22 | H32: =SUM(H33:H34) -> 113
B33: 男 | C33: =SUM(D33:H33) -> 70 | D33: 1 | E33: 2 | F33: 3 | G33: 14 | H33: 50
B34: 女 | C34: =SUM(D34:H34) -> 75 | D34: 0 | E34: 0 | F34: 4 | G34: 8 | H34: 63
A35: 手稲 | C35: =SUM(D35:H35) -> 75 | D35: =SUM(D36:D37) -> 0 | E35: =SUM(E36:E37) -> 2 | F35: =SUM(F36:F37) -> 3 | G35: =SUM(G36:G37) -> 9 | H35: =SUM(H36:H37) -> 61
B36: 男 | C36: =SUM(D36:H36) -> 30 | D36: 0 | E36: 2 | F36: 1 | G36: 3 | H36: 24
B37: 女 | C37: =SUM(D37:H37) -> 45 | D37: 0 | E37: 0 | F37: 2 | G37: 6 | H37: 37
C38: 出 生 数 に 対 す る 割 合 (％)
A39: 総数 | C39: =SUM(D39:H39) -> 8.9221014 | D39: =D5/'19 体重・性別，区別出生数・百分率'!$C5*100 -> 0.052838164 | E39: =E5/'19 体重・性別，区別出生数・百分率'!$C5*100 -> 0.20380435 | F39: =F5/'19 体重・性別，区別出生数・百分率'!$C5*100 -> 0.39251208 | G39: =G5/'19 体重・性別，区別出生数・百分率'!$C5*100 -> 1.147343 | H39: =H5/'19 体重・性別，区別出生数・百分率'!$C5*100 -> 7.1256039
A40: 中央 | C40: =SUM(D40:H40) -> 9.7477064 | D40: =D8/'19 体重・性別，区別出生数・百分率'!$C8*100 -> 0.05733945 | E40: =E8/'19 体重・性別，区別出生数・百分率'!$C8*100 -> 0.1146789 | F40: =F8/'19 体重・性別，区別出生数・百分率'!$C8*100 -> 0.2293578 | G40: =G8/'19 体重・性別，区別出生数・百分率'!$C8*100 -> 1.146789 | H40: =H8/'19 体重・性別，区別出生数・百分率'!$C8*100 -> 8.1995413
A41: 北 | C41: =SUM(D41:H41) -> 8.8251218 | D41: =D11/'19 体重・性別，区別出生数・百分率'!$C11*100 -> 0 | E41: =E11/'19 体重・性別，区別出生数・百分率'!$C11*100 -> 0.16242555 | F41: =F11/'19 体重・性別，区別出生数・百分率'!$C11*100 -> 0.48727666 | G41: =G11/'19 体重・性別，区別出生数・百分率'!$C11*100 -> 1.46183 | H41: =H11/'19 体重・性別，区別出生数・百分率'!$C11*100 -> 6.7135896
A42: 東 | C42: =SUM(D42:H42) -> 8.2406471 | D42: =D14/'19 体重・性別，区別出生数・百分率'!$C14*100 -> 0.10111223 | E42: =E14/'19 体重・性別，区別出生数・百分率'!$C14*100 -> 0.25278059 | F42: =F14/'19 体重・性別，区別出生数・百分率'!$C14*100 -> 0.15166835 | G42: =G14/'19 体重・性別，区別出生数・百分率'!$C14*100 -> 0.75834176 | H42: =H14/'19 体重・性別，区別出生数・百分率'!$C14*100 -> 6.9767442
A43: 白石 | C43: =SUM(D43:H43) -> 9.5265926 | D43: =D17/'19 体重・性別，区別出生数・百分率'!$C17*100 -> 0 | E43: =E17/'19 体重・性別，区別出生数・百分率'!$C17*100 -> 0.35067212 | F43: =F17/'19 体重・性別，区別出生数・百分率'!$C17*100 -> 0.64289889 | G43: =G17/'19 体重・性別，区別出生数・百分率'!$C17*100 -> 1.1689071 | H43: =H17/'19 体重・性別，区別出生数・百分率'!$C17*100 -> 7.3641146
A44: 厚別 | C44: =SUM(D44:H44) -> 9.0771558 | D44: =D20/'19 体重・性別，区別出生数・百分率'!$C20*100 -> 0.15128593 | E44: =E20/'19 体重・性別，区別出生数・百分率'!$C20*100 -> 0.30257186 | F44: =F20/'19 体重・性別，区別出生数・百分率'!$C20*100 -> 0.30257186 | G44: =G20/'19 体重・性別，区別出生数・百分率'!$C20*100 -> 1.5128593 | H44: =H20/'19 体重・性別，区別出生数・百分率'!$C20*100 -> 6.8078669
A45: 豊平 | C45: =SUM(D45:H45) -> 7.7288942 | D45: =D23/'19 体重・性別，区別出生数・百分率'!$C23*100 -> 0 | E45: =E23/'19 体重・性別，区別出生数・百分率'!$C23*100 -> 0.059453032 | F45: =F23/'19 体重・性別，区別出生数・百分率'!$C23*100 -> 0.29726516 | G45: =G23/'19 体重・性別，区別出生数・百分率'!$C23*100 -> 0.89179548 | H45: =H23/'19 体重・性別，区別出生数・百分率'!$C23*100 -> 6.4803805
A46: 清田 | C46: =SUM(D46:H46) -> 8.6956522 | D46: =D26/'19 体重・性別，区別出生数・百分率'!$C26*100 -> 0.31055901 | E46: =E26/'19 体重・性別，区別出生数・百分率'!$C26*100 -> 0.1552795 | F46: =F26/'19 体重・性別，区別出生数・百分率'!$C26*100 -> 0.62111801 | G46: =G26/'19 体重・性別，区別出生数・百分率'!$C26*100 -> 0.93167702 | H46: =H26/'19 体重・性別，区別出生数・百分率'!$C26*100 -> 6.6770186
A47: 南 | C47: =SUM(D47:H47) -> 8.8785047 | D47: =D29/'19 体重・性別，区別出生数・百分率'!$C29*100 -> 0 | E47: =E29/'19 体重・性別，区別出生数・百分率'!$C29*100 -> 0.46728972 | F47: =F29/'19 体重・性別，区別出生数・百分率'!$C29*100 -> 0.62305296 | G47: =G29/'19 体重・性別，区別出生数・百分率'!$C29*100 -> 1.2461059 | H47: =H29/'19 体重・性別，区別出生数・百分率'!$C29*100 -> 6.5420561
A48: 西 | C48: =SUM(D48:H48) -> 9.4771242 | D48: =D32/'19 体重・性別，区別出生数・百分率'!$C32*100 -> 0.065359477 | E48: =E32/'19 体重・性別，区別出生数・百分率'!$C32*100 -> 0.13071895 | F48: =F32/'19 体重・性別，区別出生数・百分率'!$C32*100 -> 0.45751634 | G48: =G32/'19 体重・性別，区別出生数・百分率'!$C32*100 -> 1.4379085 | H48: =H32/'19 体重・性別，区別出生数・百分率'!$C32*100 -> 7.3856209
A49: 手稲 | C49: =SUM(D49:H49) -> 9.2707046 | D49: =D35/'19 体重・性別，区別出生数・百分率'!$C35*100 -> 0 | E49: =E35/'19 体重・性別，区別出生数・百分率'!$C35*100 -> 0.24721879 | F49: =F35/'19 体重・性別，区別出生数・百分率'!$C35*100 -> 0.37082818 | G49: =G35/'19 体重・性別，区別出生数・百分率'!$C35*100 -> 1.1124845 | H49: =H35/'19 体重・性別，区別出生数・百分率'!$C35*100 -> 7.5401731

Sheet 21 出生時の身長別，年次別出生数・百分率・平均身長
A1: 21 出生時の身長別にみた年次別出生数・百分率及び平均身長
A3: 年次 | B3: 総 数 | C3: 40cm 未満 | D3: 40cm | E3: 41cm | F3: 42cm | G3: 43cm | H3: 44cm | I3: 45cm | J3: 46cm | K3: 47cm | L3: 48cm | M3: 49cm | N3: 50cm | O3: 51cm | P3: 52cm | Q3: 53cm | R3: 54cm | S3: 55cm～ | T3: 不詳 | U3: 出 生 時 の 平均身長(cm)
B4: 出生数
A5: 1995 平成 7 年 | B5: =SUM(C5:T5) -> 16227 | C5: 93 | D5: 22 | E5: 37 | F5: 65 | G5: 97 | H5: 170 | I5: 553 | J5: 1046 | K5: 1997 | L5: 2826 | M5: 3202 | N5: 2950 | O5: 1728 | P5: 835 | Q5: 280 | R5: 81 | S5: 63 | T5: 182 | U5: 48.7
A6: 1996 平成 8年 | B6: 16339 | C6: 78 | D6: 30 | E6: 32 | F6: 69 | G6: 107 | H6: 178 | I6: 567 | J6: 983 | K6: 1949 | L6: 2838 | M6: 3209 | N6: 3138 | O6: 1848 | P6: 827 | Q6: 269 | R6: 96 | S6: 41 | T6: 80 | U6: 48.7
A7: 97 9 | B7: 15873 | C7: 82 | D7: 26 | E7: 43 | F7: 67 | G7: 73 | H7: 185 | I7: 491 | J7: 973 | K7: 1799 | L7: 2752 | M7: 3051 | N7: 3139 | O7: 1847 | P7: 872 | Q7: 280 | R7: 89 | S7: 36 | T7: 68 | U7: 48.8
A8: 98 10 | B8: 16165 | C8: 84 | D8: 22 | E8: 41 | F8: 68 | G8: 104 | H8: 215 | I8: 518 | J8: 987 | K8: 1931 | L8: 2754 | M8: 3182 | N8: 3047 | O8: 1856 | P8: 878 | Q8: 290 | R8: 92 | S8: 32 | T8: 64 | U8: 48.7
A9: 99 11 | B9: 15358 | C9: 103 | D9: 36 | E9: 45 | F9: 55 | G9: 125 | H9: 207 | I9: 441 | J9: 935 | K9: 1724 | L9: 2615 | M9: 3110 | N9: 2955 | O9: 1761 | P9: 802 | Q9: 273 | R9: 87 | S9: 36 | T9: 48 | U9: 48.7
A10: 2000 平成12年 | B10: 15332 | C10: 61 | D10: 19 | E10: 44 | F10: 64 | G10: 99 | H10: 180 | I10: 486 | J10: 983 | K10: 1751 | L10: 2626 | M10: 3003 | N10: 2993 | O10: 1816 | P10: 754 | Q10: 281 | R10: 77 | S10: 37 | T10: 58 | U10: 48.761228
A11: 01 13 | B11: 15312 | C11: 68 | D11: 28 | E11: 44 | F11: 45 | G11: 114 | H11: 200 | I11: 479 | J11: 1022 | K11: 1797 | L11: 2774 | M11: 3046 | N11: 2827 | O11: 1676 | P11: 781 | Q11: 247 | R11: 95 | S11: 29 | T11: 40 | U11: 48.69264
A12: 02 14 | B12: 15577 | C12: 67 | D12: 29 | E12: 39 | F12: 61 | G12: 103 | H12: 189 | I12: 510 | J12: 962 | K12: 1777 | L12: 2745 | M12: 2992 | N12: 3079 | O12: 1745 | P12: 812 | Q12: 285 | R12: 67 | S12: 32 | T12: 83 | U12: 48.742029
A13: 03 15 | B13: 14999 | C13: 65 | D13: 27 | E13: 24 | F13: 57 | G13: 91 | H13: 191 | I13: 506 | J13: 974 | K13: 1783 | L13: 2602 | M13: 2969 | N13: 2811 | O13: 1600 | P13: 819 | Q13: 274 | R13: 84 | S13: 25 | T13: 97 | U13: 48.717555
A14: 04 16 | B14: 14749 | C14: 59 | D14: 19 | E14: 29 | F14: 69 | G14: 99 | H14: 216 | I14: 485 | J14: 953 | K14: 1743 | L14: 2598 | M14: 2883 | N14: 2745 | O14: 1611 | P14: 736 | Q14: 277 | R14: 80 | S14: 27 | T14: 120 | U14: 48.702167
A15: 2005 平成17年 | B15: 14184 | C15: 67 | D15: 18 | E15: 38 | F15: 50 | G15: 98 | H15: 151 | I15: 467 | J15: 912 | K15: 1647 | L15: 2457 | M15: 2789 | N15: 2754 | O15: 1560 | P15: 724 | Q15: 250 | R15: 74 | S15: 20 | T15: 108 | U15: 48.726911
A16: 06 18 | B16: 14730 | C16: 77 | D16: 30 | E16: 49 | F16: 67 | G16: 119 | H16: 199 | I16: 464 | J16: 920 | K16: 1677 | L16: 2560 | M16: 2904 | N16: 2785 | O16: 1658 | P16: 737 | Q16: 259 | R16: 76 | S16: 28 | T16: 121 | U16: 48.695256
A17: 07 19 | B17: 14498 | C17: 61 | D17: 19 | E17: 30 | F17: 59 | G17: 101 | H17: 151 | I17: 470 | J17: 891 | K17: 1574 | L17: 2598 | M17: 2862 | N17: 2800 | O17: 1643 | P17: 756 | Q17: 262 | R17: 82 | S17: 26 | T17: 113 | U17: 48.769482
... A27: 17 29 | B27: 13821 | C27: 71 | D27: 18 | E27: 37 | F27: 61 | G27: 102 | H27: 190 | I27: 393 | J27: 758 | K27: 1479 | L27: 2196 | M27: 2693 | N27: 2815 | O27: 1739 | P27: 790 | Q27: 299 | R27: 89 | S27: 32 | T27: 59 | U27: 48.864409
A28: 18 30 | B28: =SUM(C28:T28) -> 13248 | C28: ='[2]■21 出生時の身長別，年次別出生数・百分率・平均身長'!$C$5 -> 67 | D28: ='[2]■21 出生時の身長別，年次別出生数・百分率・平均身長'!$D$5 -> 19 | E28: ='[2]■21 出生時の身長別，年次別出生数・百分率・平均身長'!$E$5 -> 27 | F28: ='[2]■21 出生時の身長別，年次別出生数・百分率・平均身長'!$F$5 -> 52 | G28: ='[2]■21 出生時の身長別，年次別出生数・百分率・平均身長'!$G$5 -> 82 | H28: ='[2]■21 出生時の身長別，年次別出生数・百分率・平均身長'!$H$5 -> 152 | I28: ='[2]■21 出生時の身長別，年次別出生数・百分率・平均身長'!$I$5 -> 379 | J28: ='[2]■21 出生時の身長別，年次別出生数・百分率・平均身長'!$J$5 -> 690 | K28: ='[2]■21 出生時の身長別，年次別出生数・百分率・平均身長'!$K$5 -> 1438 | L28: ='[2]■21 出生時の身長別，年次別出生数・百分率・平均身長'!$L$5 -> 2165 | M28: ='[2]■21 出生時の身長別，年次別出生数・百分率・平均身長'!$M$5 -> 2584 | N28: ='[2]■21 出生時の身長別，年次別出生数・百分率・平均身長'!$N$5 -> 2653 | O28: ='[2]■21 出生時の身長別，年次別出生数・百分率・平均身長'!$O$5 -> 1679 | P28: ='[2]■21 出生時の身長別，年次別出生数・百分率・平均身長'!$P$5 -> 809 | Q28: ='[2]■21 出生時の身長別，年次別出生数・百分率・平均身長'!$Q$5 -> 271 | R28: ='[2]■21 出生時の身長別，年次別出生数・百分率・平均身長'!$R$5 -> 93 | S28: ='[2]■21 出生時の身長別，年次別出生数・百分率・平均身長'!$S$5 -> 35 | T28: ='[2]■21 出生時の身長別，年次別出生数・百分率・平均身長'!$T$5 -> 53 | U28: ='[2]■21 出生時の身長別，年次別出生数・百分率・平均身長'!$U$5 -> 48.899962
B29: 百分率
A30: 1995 平成7 年 | B30: =SUM(C30:T30) -> 100 | C30: =C5/$B5*100 -> 0.57311888 | D30: =D5/$B5*100 -> 0.13557651 | E30: =E5/$B5*100 -> 0.22801504 | F30: =F5/$B5*100 -> 0.40056696 | G30: =G5/$B5*100 -> 0.59776915 | H30: =H5/$B5*100 -> 1.0476367 | I30: =I5/$B5*100 -> 3.4079004 | J30: =J5/$B5*100 -> 6.4460467 | ... T30: =T5/$B5*100 -> 1.1215875
A31: 1996 平成 8年 | B31: 100 | C31: 0.4773854 | D31: 0.18360977 | E31: 0.19585042 | F31: 0.42230247 | G31: 0.65487484 | H31: 1.089418 | I31: 3.4702246 | J31: 6.0162801 | K31: 11.928515 | L31: 17.369484 | M31: 19.640125 | N31: 19.205582 | O31: 11.310362 | P31: 5.0615093 | Q31: 1.6463676 | R31: 0.58755126 | S31: 0.25093335 | T31: 0.48962605
A32: 97 9 | B32: 100 | C32: 0.51660052 | D32: 0.16380016 | E32: 0.27090027 | F32: 0.42210042 | G32: 0.45990046 | H32: 1.1655012 | I32: 3.0933031 | J32: 6.1299061 | K32: 11.333711 | L32: 17.337617 | M32: 19.221319 | N32: 19.77572 | O32: 11.636112 | P32: 5.4936055 | Q32: 1.7640018 | R32: 0.56070056 | S32: 0.22680023 | T32: 0.42840043
A33: 98 10 | B33: 100 | C33: 0.5196412 | D33: 0.1360965 | E33: 0.2536344 | F33: 0.42066192 | G33: 0.6433653 | H33: 1.330034 | I33: 3.2044541 | J33: 6.1057841 | K33: 11.945561 | L33: 17.036808 | M33: 19.684504 | N33: 18.849366 | O33: 11.481596 | P33: 5.4314878 | Q33: 1.7939994 | R33: 0.56913084 | S33: 0.19795855 | T33: 0.3959171
A34: 99 11 | B34: 100 | C34: 0.67066024 | D34: 0.23440552 | E34: 0.2930069 | F34: 0.35811955 | G34: 0.81390806 | H34: 1.3478317 | I34: 2.8714676 | J34: 6.0880323 | K34: 11.22542 | L34: 17.026957 | M34: 20.250033 | N34: 19.240787 | O34: 11.466337 | P34: 5.2220341 | Q34: 1.7775752 | R34: 0.56648001 | S34: 0.23440552 | T34: 0.3125407
A35: 2000 平成12年 | B35: 100 | C35: 0.39786068 | D35: 0.12392382 | E35: 0.28698148 | F35: 0.4174276 | G35: 0.64570832 | H35: 1.1740151 | I35: 3.1698409 | J35: 6.4114271 | K35: 11.420558 | L35: 17.127576 | M35: 19.586486 | N35: 19.521263 | O35: 11.844508 | P35: 4.9178189 | Q35: 1.8327681 | R35: 0.50221758 | S35: 0.24132533 | T35: 0.37829376
A36: 01 13 | B36: 100 | C36: 0.44409613 | D36: 0.18286311 | E36: 0.28735632 | F36: 0.29388715 | G36: 0.74451411 | H36: 1.3061651 | I36: 3.1282654 | J36: 6.6745037 | K36: 11.735893 | L36: 18.11651 | M36: 19.892894 | N36: 18.462644 | O36: 10.945664 | P36: 5.1005747 | Q36: 1.6131139 | R36: 0.62042842 | S36: 0.18939394 | T36: 0.26123302
A37: 02 14 | B37: 100 | C37: 0.43012133 | D37: 0.18617192 | E37: 0.25036913 | F37: 0.391603 | G37: 0.6612313 | H37: 1.2133273 | I37: 3.2740579 | J37: 6.175772 | K37: 11.407845 | L37: 17.622135 | M37: 19.207806 | N37: 19.766322 | O37: 11.202414 | P37: 5.2128138 | Q37: 1.8296206 | R37: 0.43012133 | S37: 0.20543108 | T37: 0.53283687
A38: 03 15 | B38: 100 | C38: 0.43336222 | D38: 0.180012 | E38: 0.16001067 | F38: 0.38002534 | G38: 0.60670711 | H38: 1.2734182 | I38: 3.3735582 | J38: 6.4937663 | K38: 11.887459 | L38: 17.347823 | M38: 19.794653 | N38: 18.741249 | O38: 10.667378 | P38: 5.460364 | Q38: 1.8267885 | R38: 0.56003734 | S38: 0.16667778 | T38: 0.64670978
A39: 04 16 | B39: 100 | C39: 0.40002712 | D39: 0.12882229 | E39: 0.1966235 | F39: 0.46782833 | G39: 0.67123195 | H39: 1.4645061 | I39: 3.2883585 | J39: 6.461455 | K39: 11.81775 | L39: 17.614754 | M39: 19.547088 | N39: 18.611431 | O39: 10.922774 | P39: 4.9901688 | Q39: 1.8780934 | R39: 0.54240965 | S39: 0.18306326 | T39: 0.81361448
A40: 2005 平成17年 | B40: 100 | C40: 0.47236323 | D40: 0.12690355 | E40: 0.2679075 | F40: 0.35250987 | G40: 0.69091935 | H40: 1.0645798 | I40: 3.2924422 | J40: 6.42978 | K40: 11.611675 | L40: 17.322335 | M40: 19.663001 | N40: 19.416244 | O40: 10.998308 | P40: 5.1043429 | Q40: 1.7625494 | R40: 0.52171461 | S40: 0.14100395 | T40: 0.76142132
A41: 06 18 | B41: 100 | C41: 0.5227427 | D41: 0.20366599 | E41: 0.33265445 | F41: 0.45485404 | G41: 0.80787508 | H41: 1.3509844 | I41: 3.1500339 | J41: 6.245757 | K41: 11.384929 | L41: 17.379498 | M41: 19.714868 | N41: 18.906993 | O41: 11.25594 | P41: 5.0033944 | Q41: 1.7583164 | R41: 0.51595384 | S41: 0.19008826 | T41: 0.82145282
A42: 07 19 | B42: 100 | C42: 0.42074769 | D42: 0.13105256 | E42: 0.20692509 | F42: 0.40695268 | G42: 0.69664781 | H42: 1.041523 | I42: 3.2418265 | J42: 6.1456753 | K42: 10.85667 | L42: 17.919713 | M42: 19.740654 | N42: 19.313009 | O42: 11.332598 | P42: 5.2145123 | Q42: 1.8071458 | R42: 0.56559525 | S42: 0.17933508 | T42: 0.77941785
... A52: 17 29 | B52: 100 | C52: 0.51371102 | D52: 0.1302366 | E52: 0.26770856 | F52: 0.44135735 | G52: 0.73800738 | H52: 1.3747196 | I52: 2.843499 | J52: 5.4844078 | K52: 10.701107 | L52: 15.888865 | M52: 19.484842 | N52: 20.367557 | O52: 12.582302 | P52: 5.7159395 | Q52: 2.1633746 | R52: 0.64394762 | S52: 0.23153173 | T52: 0.42688662
A53: 18 30 | B53: =SUM(C53:T53) -> 100 | C53: =C28/$B28*100 -> 0.50573671 | D53: =D28/$B28*100 -> 0.14341787 | E53: =E28/$B28*100 -> 0.20380435 | F53: =F28/$B28*100 -> 0.39251208 | G53: =G28/$B28*100 -> 0.61896135 | H53: =H28/$B28*100 -> 1.147343 | I53: =I28/$B28*100 -> 2.8608092 | J53: =J28/$B28*100 -> 5.2083333 | ... T53: =T28/$B28*100 -> 0.40006039

Sheet 22　単産-複産別，年次別出生数
A1: 22 単産-複産（複産の種類）別にみた年次別出生数
A3: 年次 | B3: 総 数 | C3: 単 産 | D3: 複 産
D4: 総 数 | E4: 双 子 | F4: 三つ児 | G4: 四つ児 | H4: 五つ児以上
A5: 1995 平成 7 年 | B5: =SUM(C5:D5) -> 16227 | C5: 16003 | D5: =SUM(E5:H5) -> 224 | E5: 218 | F5: 6 | G5: 0 | H5: 0
A6: 1996 平成 8年 | B6: 16339 | C6: 16076 | D6: 263 | E6: 251 | F6: 12 | G6: 0 | H6: 0
A7: 97 9 | B7: 15873 | C7: 15596 | D7: 277 | E7: 271 | F7: 6 | G7: 0 | H7: 0
A8: 98 10 | B8: 16165 | C8: 15896 | D8: 269 | E8: 266 | F8: 3 | G8: 0 | H8: 0
A9: 99 11 | B9: 15358 | C9: 15135 | D9: 223 | E9: 211 | F9: 12 | G9: 0 | H9: 0
A10: 2000 平成12年 | B10: 15332 | C10: 15102 | D10: 230 | E10: 222 | F10: 8 | G10: 0 | H10: 0
A11: 01 13 | B11: 15312 | C11: 15067 | D11: 245 | E11: 233 | F11: 12 | G11: 0 | H11: 0
A12: 02 14 | B12: 15577 | C12: 15306 | D12: 271 | E12: 265 | F12: 6 | G12: 0 | H12: 0
A13: 03 15 | B13: 14999 | C13: 14755 | D13: 244 | E13: 238 | F13: 6 | G13: 0 | H13: 0
A14: 04 16 | B14: 14749 | C14: 14468 | D14: 281 | E14: 259 | F14: 22 | G14: 0 | H14: 0
A15: 2005 平成17年 | B15: 14184 | C15: 13859 | D15: 325 | E15: 307 | F15: 18 | G15: 0 | H15: 0
A16: 06 18 | B16: 14730 | C16: 14379 | D16: 351 | E16: 345 | F16: 6 | G16: 0 | H16: 0
A17: 07 19 | B17: 14498 | C17: 14219 | D17: 279 | E17: 273 | F17: 6 | G17: 0 | H17: 0
... A27: 17 29 | B27: 13821 | C27: 13534 | D27: 287 | E27: 281 | F27: 6 | G27: 0 | H27: 0
A28: 18 30 | B28: =SUM(C28:D28) -> 13248 | C28: ='23 単産-複産別，区別出生数'!C$5 -> 12993 | D28: =SUM(E28:H28) -> 255 | E28: ='23 単産-複産別，区別出生数'!E$5 -> 255 | F28: ='23 単産-複産別，区別出生数'!F$5 -> 0 | G28: ='23 単産-複産別，区別出生数'!G$5 -> 0 | H28: ='23 単産-複産別，区別出生数'!H$5 -> 0

Sheet 23　単産-複産別，区別出生数
A1: 23 単産-複産（複産の種類）別にみた区別出生数
H2: ='3 月・性別，区別出生数・出生率'!$O$2 -> 平成30年
A3: 区 | B3: 総 数 | C3: 単 産 | D3: 複 産
D4: 総 数 | E4: 双 子 | F4: 三つ児 | G4: 四つ児 | H4: 五つ児以上
A5: 総数 | B5: =SUM(C5:D5) -> 13248 | C5: =SUM(C6:C15) -> 12993 | D5: =SUM(E5:H5) -> 255 | E5: =SUM(E6:E15) -> 255 | F5: =SUM(F6:F15) -> 0 | G5: =SUM(G6:G15) -> 0 | H5: =SUM(H6:H15) -> 0
A6: 中央 | B6: =SUM(C6:D6) -> 1744 | C6: 1706 | D6: =SUM(E6:H6) -> 38 | E6: 38 | F6: 0 | G6: 0 | H6: 0
A7: 北 | B7: =SUM(C7:D7) -> 1847 | C7: 1808 | D7: =SUM(E7:H7) -> 39 | E7: 39 | F7: 0 | G7: 0 | H7: 0
A8: 東 | B8: =SUM(C8:D8) -> 1978 | C8: 1946 | D8: =SUM(E8:H8) -> 32 | E8: 32 | F8: 0 | G8: 0 | H8: 0
A9: 白石 | B9: =SUM(C9:D9) -> 1711 | C9: 1676 | D9: =SUM(E9:H9) -> 35 | E9: 35 | F9: 0 | G9: 0 | H9: 0
A10: 厚別 | B10: =SUM(C10:D10) -> 661 | C10: 647 | D10: =SUM(E10:H10) -> 14 | E10: 14 | F10: 0 | G10: 0 | H10: 0
A11: 豊平 | B11: =SUM(C11:D11) -> 1682 | C11: 1658 | D11: =SUM(E11:H11) -> 24 | E11: 24 | F11: 0 | G11: 0 | H11: 0
A12: 清田 | B12: =SUM(C12:D12) -> 644 | C12: 634 | D12: =SUM(E12:H12) -> 10 | E12: 10 | F12: 0 | G12: 0 | H12: 0
A13: 南 | B13: =SUM(C13:D13) -> 642 | C13: 635 | D13: =SUM(E13:H13) -> 7 | E13: 7 | F13: 0 | G13: 0 | H13: 0
A14: 西 | B14: =SUM(C14:D14) -> 1530 | C14: 1490 | D14: =SUM(E14:H14) -> 40 | E14: 40 | F14: 0 | G14: 0 | H14: 0
A15: 手稲 | B15: =SUM(C15:D15) -> 809 | C15: 793 | D15: =SUM(E15:H15) -> 16 | E15: 16 | F15: 0 | G15: 0 | H15: 0

Sheet 24　出生時の体重別，年次別複産出生数・平均体重
A1: 24 出生時の体重別にみた年次別複産出生数及び平均体重
A3: 年次 | B3: 総 数 | C3: 0.5kｇ未満 | D3: 0.5㎏以上 1.0㎏未満 | E3: 1.0～1.5kｇ | F3: 1.5～2.0kｇ | G3: 2.0～2.5kｇ | H3: 2.5～3.0kｇ | I3: 3.0～3.5kｇ | J3: 3.5～4.0kｇ | K3: 4.0～4.5kｇ | L3: 4.5～5.0kｇ | M3: 5.0kｇ以上 | N3: 不詳 | O3: （再掲） 2.5㎏未満 | P3: 出生時の 平均体重(kｇ)
A4: 85 60 | B4: =SUM(C4:N4) -> 277 | C4: 0 | D4: 3 | E4: 8 | F4: 23 | G4: 109 | H4: 109 | I4: 24 | J4: 1 | K4: 0 | L4: 0 | M4: 0 | N4: 0 | O4: =SUM(C4:G4) -> 143 | P4: 2.46
A5: 1986 昭和61年 | B5: =SUM(C5:N5) -> 261 | C5: 0 | D5: 7 | E5: 12 | F5: 45 | G5: 79 | H5: 83 | I5: 30 | J5: 5 | K5: 0 | L5: 0 | M5: 0 | N5: 0 | O5: =SUM(C5:G5) -> 143 | P5: 2.38
A6: 1987 昭和62年 | B6: =SUM(C6:N6) -> 270 | C6: 0 | D6: 5 | E6: 8 | F6: 34 | G6: 109 | H6: 91 | I6: 22 | J6: 1 | K6: 0 | L6: 0 | M6: 0 | N6: 0 | O6: =SUM(C6:G6) -> 156 | P6: 2.37
A7: 1988 昭和63年 | B7: 248 | C7: 1 | D7: 1 | E7: 12 | F7: 28 | G7: 93 | H7: 91 | I7: 19 | J7: 3 | K7: 0 | L7: 0 | M7: 0 | N7: 0 | O7: 135 | P7: 2.42
A8: 89 平成元年 | B8: 240 | C8: 0 | D8: 3 | E8: 11 | F8: 39 | G8: 88 | H8: 83 | I8: 16 | J8: 0 | K8: 0 | L8: 0 | M8: 0 | N8: 0 | O8: 141 | P8: 2.36
A9: 90 2 | B9: 298 | C9: 0 | D9: 13 | E9: 13 | F9: 47 | G9: 116 | H9: 91 | I9: 16 | J9: 1 | K9: 0 | L9: 0 | M9: 0 | N9: 1 | O9: 189 | P9: 2.27
A10: 91 3 | B10: 277 | C10: 0 | D10: 7 | E10: 16 | F10: 38 | G10: 101 | H10: 98 | I10: 17 | J10: 0 | K10: 0 | L10: 0 | M10: 0 | N10: 0 | O10: 162 | P10: 2.33
A11: 92 4 | B11: 259 | C11: 1 | D11: 1 | E11: 12 | F11: 38 | G11: 98 | H11: 96 | I11: 12 | J11: 1 | K11: 0 | L11: 0 | M11: 0 | N11: 0 | O11: 150 | P11: 2.35
A12: 1993 平成5年 | B12: 251 | C12: 0 | D12: 6 | E12: 9 | F12: 43 | G12: 108 | H12: 81 | I12: 4 | J12: 0 | K12: 0 | L12: 0 | M12: 0 | N12: 0 | O12: 166 | P12: 2.26
A13: 94 6 | B13: 289 | C13: 0 | D13: 5 | E13: 13 | F13: 42 | G13: 132 | H13: 85 | I13: 11 | J13: 1 | K13: 0 | L13: 0 | M13: 0 | N13: 0 | O13: 192 | P13: 2.3
A14: 95 7 | B14: 224 | C14: 1 | D14: 9 | E14: 6 | F14: 43 | G14: 94 | H14: 62 | I14: 9 | J14: 0 | K14: 0 | L14: 0 | M14: 0 | N14: 0 | O14: 153 | P14: 2.23
A15: 96 8 | B15: 263 | C15: 0 | D15: 5 | E15: 21 | F15: 32 | G15: 133 | H15: 64 | I15: 8 | J15: 0 | K15: 0 | L15: 0 | M15: 0 | N15: 0 | O15: 191 | P15: 2.23
A16: 97 9 | B16: 277 | C16: 2 | D16: 7 | E16: 19 | F16: 56 | G16: 111 | H16: 77 | I16: 5 | J16: 0 | K16: 0 | L16: 0 | M16: 0 | N16: 0 | O16: 195 | P16: 2.17
A17: 1998 平成10年 | B17: 269 | C17: 1 | D17: 4 | E17: 10 | F17: 49 | G17: 135 | H17: 61 | I17: 8 | J17: 1 | K17: 0 | L17: 0 | M17: 0 | N17: 0 | O17: 199 | P17: 2.21
A18: 99 11 | B18: 223 | C18: 0 | D18: 4 | E18: 24 | F18: 49 | G18: 99 | H18: 45 | I18: 2 | J18: 0 | K18: 0 | L18: 0 | M18: 0 | N18: 0 | O18: 176 | P18: 2.12
... A36: 17 29 | B36: 287 | C36: 1 | D36: 7 | E36: 16 | F36: 40 | G36: 154 | H36: 66 | I36: 3 | J36: 0 | K36: 0 | L36: 0 | M36: 0 | N36: 0 | O36: 218 | P36: 2.2009233
A37: 18 30 | B37: =SUM(C37:N37) -> 255 | C37: ='25 出生時の体重別，単産-複産別出生数・平均体重'!D$6 -> 1 | D37: ='25 出生時の体重別，単産-複産別出生数・平均体重'!E$6 -> 5 | E37: ='25 出生時の体重別，単産-複産別出生数・平均体重'!F$6 -> 9 | F37: ='25 出生時の体重別，単産-複産別出生数・平均体重'!G$6 -> 47 | G37: ='25 出生時の体重別，単産-複産別出生数・平均体重'!H$6 -> 139 | H37: ='25 出生時の体重別，単産-複産別出生数・平均体重'!I$6 -> 50 | I37: ='25 出生時の体重別，単産-複産別出生数・平均体重'!J$6 -> 4 | J37: ='25 出生時の体重別，単産-複産別出生数・平均体重'!K$6 -> 0 | ... N37: ='25 出生時の体重別，単産-複産別出生数・平均体重'!O$6 -> 0 | O37: =SUM(C37:G37) -> 201 | P37: ='25 出生時の体重別，単産-複産別出生数・平均体重'!Q$6 -> 2.2067216

Sheet 25　出生時の体重別，単産-複産別出生数・平均体重
A1: 25 出生時の体重別にみた単産-複産（複産の種類）別出生数及び平均体重
Q2: ='3 月・性別，区別出生数・出生率'!$O$2 -> 平成30年
A3: 単産-複産 | C3: 総数 | D3: 0.5kｇ未満 | E3: 0.5㎏以上 1.0㎏未満 | F3: 1.0～1.5kｇ | G3: 1.5～2.0kｇ | H3: 2.0～2.5kｇ | I3: 2.5～3.0kｇ | J3: 3.0～3.5kｇ | K3: 3.5～4.0kｇ | L3: 4.0～4.5kｇ | M3: 4.5～5.0kｇ | N3: 5.0kｇ以上 | O3: 不詳 | P3: （再掲） 2.5㎏未満 | Q3: 出生時の 平均体重(kｇ)
A4: 総 数 | C4: =SUM(C5:C6) -> 13248 | D4: =SUM(D5:D6) -> 7 | E4: =SUM(E5:E6) -> 27 | F4: =SUM(F5:F6) -> 52 | G4: =SUM(G5:G6) -> 152 | H4: =SUM(H5:H6) -> 944 | I4: =SUM(I5:I6) -> 4998 | J4: =SUM(J5:J6) -> 5574 | ... O4: =SUM(O5:O6) -> 3 | P4: =SUM(D4:H4) -> 1182 | Q4: 3.0172847
A5: 単 産 | C5: =SUM(D5:O5) -> 12993 | D5: 6 | E5: 22 | F5: 43 | G5: 105 | H5: 805 | I5: 4948 | J5: 5570 | K5: 1382 | L5: 106 | M5: 2 | N5: 1 | O5: 3 | P5: =SUM(D5:H5) -> 981 | Q5: 3.0331965
A6: 複 産 | C6: =SUM(D6:O6) -> 255 | D6: =SUM(D7:D10) -> 1 | E6: =SUM(E7:E10) -> 5 | F6: =SUM(F7:F10) -> 9 | G6: =SUM(G7:G10) -> 47 | H6: =SUM(H7:H10) -> 139 | I6: =SUM(I7:I10) -> 50 | J6: =SUM(J7:J10) -> 4 | K6: =SUM(K7:K10) -> 0 | ... O6: =SUM(O7:O10) -> 0 | P6: =SUM(D6:H6) -> 201 | Q6: 2.2067216
A7: 双 子 | C7: =SUM(D7:O7) -> 255 | D7: 1 | E7: 5 | F7: 9 | G7: 47 | H7: 139 | I7: 50 | J7: 4 | K7: 0 | L7: 0 | M7: 0 | N7: 0 | O7: 0 | P7: =SUM(D7:H7) -> 201 | Q7: 2.2067216
A8: 三 つ 児 | C8: =SUM(D8:O8) -> 0 | D8: 0 | E8: 0 | F8: 0 | G8: 0 | H8: 0 | I8: 0 | J8: 0 | K8: 0 | L8: 0 | M8: 0 | N8: 0 | O8: 0 | P8: =SUM(D8:H8) -> 0 | Q8: 0
A9: 四 つ 児 | C9: =SUM(D9:O9) -> 0 | D9: 0 | E9: 0 | F9: 0 | G9: 0 | H9: 0 | I9: 0 | J9: 0 | K9: 0 | L9: 0 | M9: 0 | N9: 0 | O9: 0 | P9: =SUM(D9:H9) -> 0 | Q9: 0
A10: 五つ児以上 | C10: =SUM(D10:O10) -> 0 | D10: 0 | E10: 0 | F10: 0 | G10: 0 | H10: 0 | I10: 0 | J10: 0 | K10: 0 | L10: 0 | M10: 0 | N10: 0 | O10: 0 | P10: =SUM(D10:H10) -> 0 | Q10: 0

Sheet 26 　妊娠期間・性別，体重別出生数・平均体重
A1: 26 妊娠期間・性別にみた出生時の体重別出生数及び平均体重
Z2: ='3 月・性別，区別出生数・出生率'!$O$2 -> 平成30年
A3: 出生時の体重 | B3: 総数 | C3: 22週 未満 | D3: 22週 | E3: 23週 | F3: 24週 | G3: 25週 | H3: 26週 | I3: 27週 | J3: 28週 | K3: 29週 | L3: 30週 | M3: 31週 | N3: 32週 | O3: 33週 | P3: 34週 | Q3: 35週 | R3: 36週 | S3: 37週 | T3: 38週 | U3: 39週 | V3: 40週 | W3: 41週 | X3: 42週 | Y3: 43週～ | Z3: 不詳
B4: 総数
A5: 総 数 | B5: =SUM(B20,B35) -> 13248 | C5: =SUM(C20,C35) -> 0 | D5: =SUM(D20,D35) -> 1 | E5: =SUM(E20,E35) -> 3 | F5: =SUM(F20,F35) -> 5 | G5: =SUM(G20,G35) -> 7 | H5: =SUM(H20,H35) -> 6 | I5: =SUM(I20,I35) -> 12 | ... Z5: =SUM(Z20,Z35) -> 7
A6: 0.5㎏未満 | B6: =SUM(B21,B36) -> 7 | C6: =SUM(C21,C36) -> 0 | D6: =SUM(D21,D36) -> 1 | E6: =SUM(E21,E36) -> 2 | F6: =SUM(F21,F36) -> 2 | G6: =SUM(G21,G36) -> 1 | H6: =SUM(H21,H36) -> 0 | I6: =SUM(I21,I36) -> 0 | ... Z6: =SUM(Z21,Z36) -> 0
A7: 0.5㎏以上1.0㎏未満 | B7: =SUM(B22,B37) -> 27 | C7: =SUM(C22,C37) -> 0 | D7: =SUM(D22,D37) -> 0 | E7: =SUM(E22,E37) -> 1 | F7: =SUM(F22,F37) -> 3 | G7: =SUM(G22,G37) -> 5 | H7: =SUM(H22,H37) -> 4 | I7: =SUM(I22,I37) -> 8 | ... Z7: =SUM(Z22,Z37) -> 0
A8: 1.0～1.5㎏ | B8: =SUM(B23,B38) -> 52 | C8: =SUM(C23,C38) -> 0 | D8: =SUM(D23,D38) -> 0 | E8: =SUM(E23,E38) -> 0 | F8: =SUM(F23,F38) -> 0 | G8: =SUM(G23,G38) -> 1 | H8: =SUM(H23,H38) -> 2 | I8: =SUM(I23,I38) -> 4 | ... Z8: =SUM(Z23,Z38) -> 0
A9: 1.5～2.0㎏ | B9: =SUM(B24,B39) -> 152 | C9: =SUM(C24,C39) -> 0 | D9: =SUM(D24,D39) -> 0 | E9: =SUM(E24,E39) -> 0 | F9: =SUM(F24,F39) -> 0 | G9: =SUM(G24,G39) -> 0 | H9: =SUM(H24,H39) -> 0 | I9: =SUM(I24,I39) -> 0 | ... Z9: =SUM(Z24,Z39) -> 0
A10: 2.0～2.5㎏ | B10: =SUM(B25,B40) -> 944 | C10: =SUM(C25,C40) -> 0 | D10: =SUM(D25,D40) -> 0 | E10: =SUM(E25,E40) -> 0 | F10: =SUM(F25,F40) -> 0 | G10: =SUM(G25,G40) -> 0 | H10: =SUM(H25,H40) -> 0 | I10: =SUM(I25,I40) -> 0 | ... Z10: =SUM(Z25,Z40) -> 0
A11: 2.5～3.0㎏ | B11: =SUM(B26,B41) -> 4998 | C11: =SUM(C26,C41) -> 0 | D11: =SUM(D26,D41) -> 0 | E11: =SUM(E26,E41) -> 0 | F11: =SUM(F26,F41) -> 0 | G11: =SUM(G26,G41) -> 0 | H11: =SUM(H26,H41) -> 0 | I11: =SUM(I26,I41) -> 0 | ... Z11: =SUM(Z26,Z41) -> 3
A12: 3.0～3.5㎏ | B12: =SUM(B27,B42) -> 5574 | C12: =SUM(C27,C42) -> 0 | D12: =SUM(D27,D42) -> 0 | E12: =SUM(E27,E42) -> 0 | F12: =SUM(F27,F42) -> 0 | G12: =SUM(G27,G42) -> 0 | H12: =SUM(H27,H42) -> 0 | I12: =SUM(I27,I42) -> 0 | ... Z12: =SUM(Z27,Z42) -> 1
A13: 3.5～4.0㎏ | B13: =SUM(B28,B43) -> 1382 | C13: =SUM(C28,C43) -> 0 | D13: =SUM(D28,D43) -> 0 | E13: =SUM(E28,E43) -> 0 | F13: =SUM(F28,F43) -> 0 | G13: =SUM(G28,G43) -> 0 | H13: =SUM(H28,H43) -> 0 | I13: =SUM(I28,I43) -> 0 | ... Z13: =SUM(Z28,Z43) -> 1
A14: 4.0～4.5㎏ | B14: =SUM(B29,B44) -> 106 | C14: =SUM(C29,C44) -> 0 | D14: =SUM(D29,D44) -> 0 | E14: =SUM(E29,E44) -> 0 | F14: =SUM(F29,F44) -> 0 | G14: =SUM(G29,G44) -> 0 | H14: =SUM(H29,H44) -> 0 | I14: =SUM(I29,I44) -> 0 | ... Z14: =SUM(Z29,Z44) -> 0
A15: 4.5～5.0㎏ | B15: =SUM(B30,B45) -> 2 | C15: =SUM(C30,C45) -> 0 | D15: =SUM(D30,D45) -> 0 | E15: =SUM(E30,E45) -> 0 | F15: =SUM(F30,F45) -> 0 | G15: =SUM(G30,G45) -> 0 | H15: =SUM(H30,H45) -> 0 | I15: =SUM(I30,I45) -> 0 | ... Z15: =SUM(Z30,Z45) -> 0
A16: 5.0㎏以上 | B16: =SUM(B31,B46) -> 1 | C16: =SUM(C31,C46) -> 0 | D16: =SUM(D31,D46) -> 0 | E16: =SUM(E31,E46) -> 0 | F16: =SUM(F31,F46) -> 0 | G16: =SUM(G31,G46) -> 0 | H16: =SUM(H31,H46) -> 0 | I16: =SUM(I31,I46) -> 0 | ... Z16: =SUM(Z31,Z46) -> 0
A17: 不詳 | B17: =SUM(B32,B47) -> 3 | C17: =SUM(C32,C47) -> 0 | D17: =SUM(D32,D47) -> 0 | E17: =SUM(E32,E47) -> 0 | F17: =SUM(F32,F47) -> 0 | G17: =SUM(G32,G47) -> 0 | H17: =SUM(H32,H47) -> 0 | I17: =SUM(I32,I47) -> 0 | ... Z17: =SUM(Z32,Z47) -> 2
A18: 平均体重(㎏) | B18: 3.0172847 | D18: 0.416 | E18: 0.5 | F18: 0.5016 | G18: 0.71242857 | H18: 0.91433333 | I18: 0.97458333 | J18: 0.99866667 | K18: 1.5266667 | L18: 1.2901538 | M18: 1.5651765 | N18: 1.6438519 | O18: 1.7710976 | P18: 2.1039195 | Q18: 2.3033047 | R18: 2.5209318 | S18: 2.7778957 | T18: 2.9610607 | U18: 3.0978208 | V18: 3.1966575 | W18: 3.3115814 | X18: 3.4563636 | Y18: 0 | Z18: 3.0066
B19: 男
A20: 総 数 | B20: =SUM(C20:Z20) -> 6744 | C20: =SUM(C21:C32) -> 0 | D20: =SUM(D21:D32) -> 0 | E20: =SUM(E21:E32) -> 2 | F20: =SUM(F21:F32) -> 4 | G20: =SUM(G21:G32) -> 3 | H20: =SUM(H21:H32) -> 3 | I20: =SUM(I21:I32) -> 6 | J20: =SUM(J21:J32) -> 1 | ... Z20: =SUM(Z21:Z32) -> 5
A21: 0.5㎏未満 | B21: =SUM(C21:Z21) -> 3 | D21: 0 | E21: 1 | F21: 2 | G21: 0 | H21: 0 | I21: 0 | J21: 0 | K21: 0 | L21: 0 | M21: 0 | N21: 0 | O21: 0 | P21: 0 | Q21: 0 | R21: 0 | S21: 0 | T21: 0 | U21: 0 | V21: 0 | W21: 0 | X21: 0 | Y21: 0 | Z21: 0
A22: 0.5㎏以上1.0㎏未満 | B22: =SUM(C22:Z22) -> 15 | D22: 0 | E22: 1 | F22: 2 | G22: 2 | H22: 1 | I22: 4 | J22: 0 | K22: 1 | L22: 2 | M22: 0 | N22: 1 | O22: 0 | P22: 0 | Q22: 1 | R22: 0 | S22: 0 | T22: 0 | U22: 0 | V22: 0 | W22: 0 | X22: 0 | Y22: 0 | Z22: 0
A23: 1.0～1.5㎏ | B23: =SUM(C23:Z23) -> 23 | D23: 0 | E23: 0 | F23: 0 | G23: 1 | H23: 2 | I23: 2 | J23: 1 | K23: 3 | L23: 2 | M23: 1 | N23: 4 | O23: 2 | P23: 3 | Q23: 1 | R23: 1 | S23: 0 | T23: 0 | U23: 0 | V23: 0 | W23: 0 | X23: 0 | Y23: 0 | Z23: 0
A24: 1.5～2.0㎏ | B24: =SUM(C24:Z24) -> 84 | D24: 0 | E24: 0 | F24: 0 | G24: 0 | H24: 0 | I24: 0 | J24: 0 | K24: 0 | L24: 3 | M24: 8 | N24: 9 | O24: 11 | P24: 13 | Q24: 8 | R24: 16 | S24: 10 | T24: 6 | U24: 0 | V24: 0 | W24: 0 | X24: 0 | Y24: 0 | Z24: 0
A25: 2.0～2.5㎏ | B25: =SUM(C25:Z25) -> 405 | D25: 0 | E25: 0 | F25: 0 | G25: 0 | H25: 0 | I25: 0 | J25: 0 | K25: 0 | L25: 0 | M25: 0 | N25: 2 | O25: 6 | P25: 23 | Q25: 32 | R25: 82 | S25: 128 | T25: 79 | U25: 31 | V25: 21 | W25: 1 | X25: 0 | Y25: 0 | Z25: 0
A26: 2.5～3.0㎏ | B26: =SUM(C26:Z26) -> 2318 | D26: 0 | E26: 0 | F26: 0 | G26: 0 | H26: 0 | I26: 0 | J26: 0 | K26: 0 | L26: 0 | M26: 0 | N26: 1 | O26: 0 | P26: 10 | Q26: 24 | R26: 103 | S26: 472 | T26: 713 | U26: 585 | V26: 339 | W26: 68 | X26: 1 | Y26: 0 | Z26: 2
A27: 3.0～3.5㎏ | B27: =SUM(C27:Z27) -> 2992 | D27: 0 | E27: 0 | F27: 0 | G27: 0 | H27: 0 | I27: 0 | J27: 0 | K27: 1 | L27: 0 | M27: 0 | N27: 0 | O27: 0 | P27: 0 | Q27: 0 | R27: 17 | S27: 209 | T27: 743 | U27: 957 | V27: 830 | W27: 232 | X27: 2 | Y27: 0 | Z27: 1
A28: 3.5～4.0㎏ | B28: =SUM(C28:Z28) -> 833 | D28: 0 | E28: 0 | F28: 0 | G28: 0 | H28: 0 | I28: 0 | J28: 0 | K28: 0 | L28: 0 | M28: 0 | N28: 0 | O28: 0 | P28: 0 | Q28: 0 | R28: 1 | S28: 22 | T28: 100 | U28: 249 | V28: 319 | W28: 139 | X28: 2 | Y28: 0 | Z28: 1
A29: 4.0～4.5㎏ | B29: =SUM(C29:Z29) -> 67 | D29: 0 | E29: 0 | F29: 0 | G29: 0 | H29: 0 | I29: 0 | J29: 0 | K29: 0 | L29: 0 | M29: 0 | N29: 0 | O29: 0 | P29: 0 | Q29: 0 | R29: 0 | S29: 0 | T29: 5 | U29: 15 | V29: 23 | W29: 24 | X29: 0 | Y29: 0 | Z29: 0
A30: 4.5～5.0㎏ | B30: =SUM(C30:Z30) -> 1 | D30: 0 | E30: 0 | F30: 0 | G30: 0 | H30: 0 | I30: 0 | J30: 0 | K30: 0 | L30: 0 | M30: 0 | N30: 0 | O30: 0 | P30: 0 | Q30: 0 | R30: 0 | S30: 0 | T30: 0 | U30: 0 | V30: 1 | W30: 0 | X30: 0 | Y30: 0 | Z30: 0
A31: 5.0㎏以上 | B31: =SUM(C31:Z31) -> 1 | D31: 0 | E31: 0 | F31: 0 | G31: 0 | H31: 0 | I31: 0 | J31: 0 | K31: 0 | L31: 0 | M31: 0 | N31: 0 | O31: 0 | P31: 0 | Q31: 0 | R31: 0 | S31: 0 | T31: 0 | U31: 1 | V31: 0 | W31: 0 | X31: 0 | Y31: 0 | Z31: 0
A32: 不詳 | B32: =SUM(C32:Z32) -> 2 | D32: 0 | E32: 0 | F32: 0 | G32: 0 | H32: 0 | I32: 0 | J32: 0 | K32: 0 | L32: 0 | M32: 0 | N32: 0 | O32: 0 | P32: 0 | Q32: 0 | R32: 1 | S32: 0 | T32: 0 | U32: 0 | V32: 0 | W32: 0 | X32: 0 | Y32: 0 | Z32: 1
A33: 平均体重(㎏) | B33: 3.0558063 | D33: 0 | E33: 0.502 | F33: 0.478 | G33: 0.86566667 | H33: 1.0476667 | I33: 0.9545 | J33: 1.328 | K33: 1.4632 | L33: 1.2524286 | M33: 1.6244444 | N33: 1.6549412 | O33: 1.8986316 | P33: 2.1388776 | Q33: 2.3405606 | R33: 2.5493 | S33: 2.8114328 | T33: 3.0088779 | U33: 3.1514353 | V33: 3.2436432 | W33: 3.3637134 | X33: 3.3188 | Y33: 0 | Z33: 3.067
B34: 女
A35: 総 数 | B35: =SUM(C35:Z35) -> 6504 | C35: =SUM(C36:C47) -> 0 | D35: =SUM(D36:D47) -> 1 | E35: =SUM(E36:E47) -> 1 | F35: =SUM(F36:F47) -> 1 | G35: =SUM(G36:G47) -> 4 | H35: =SUM(H36:H47) -> 3 | I35: =SUM(I36:I47) -> 6 | J35: =SUM(J36:J47) -> 2 | ... Z35: =SUM(Z36:Z47) -> 2
A36: 0.5㎏未満 | B36: =SUM(C36:Z36) -> 4 | D36: 1 | E36: 1 | F36: 0 | G36: 1 | H36: 0 | I36: 0 | J36: 1 | K36: 0 | L36: 0 | M36: 0 | N36: 0 | O36: 0 | P36: 0 | Q36: 0 | R36: 0 | S36: 0 | T36: 0 | U36: 0 | V36: 0 | W36: 0 | X36: 0 | Y36: 0 | Z36: 0
A37: 0.5㎏以上1.0㎏未満 | B37: =SUM(C37:Z37) -> 12 | D37: 0 | E37: 0 | F37: 1 | G37: 3 | H37: 3 | I37: 4 | J37: 0 | K37: 0 | L37: 0 | M37: 1 | N37: 0 | O37: 0 | P37: 0 | Q37: 0 | R37: 0 | S37: 0 | T37: 0 | U37: 0 | V37: 0 | W37: 0 | X37: 0 | Y37: 0 | Z37: 0
A38: 1.0～1.5㎏ | B38: =SUM(C38:Z38) -> 29 | D38: 0 | E38: 0 | F38: 0 | G38: 0 | H38: 0 | I38: 2 | J38: 1 | K38: 3 | L38: 6 | M38: 3 | N38: 4 | O38: 6 | P38: 2 | Q38: 1 | R38: 0 | S38: 0 | T38: 1 | U38: 0 | V38: 0 | W38: 0 | X38: 0 | Y38: 0 | Z38: 0
A39: 1.5～2.0㎏ | B39: =SUM(C39:Z39) -> 68 | D39: 0 | E39: 0 | F39: 0 | G39: 0 | H39: 0 | I39: 0 | J39: 0 | K39: 0 | L39: 0 | M39: 4 | N39: 4 | O39: 14 | P39: 12 | Q39: 9 | R39: 15 | S39: 8 | T39: 1 | U39: 1 | V39: 0 | W39: 0 | X39: 0 | Y39: 0 | Z39: 0
A40: 2.0～2.5㎏ | B40: =SUM(C40:Z40) -> 539 | D40: 0 | E40: 0 | F40: 0 | G40: 0 | H40: 0 | I40: 0 | J40: 0 | K40: 0 | L40: 0 | M40: 0 | N40: 2 | O40: 2 | P40: 23 | Q40: 41 | R40: 92 | S40: 153 | T40: 130 | U40: 69 | V40: 24 | W40: 3 | X40: 0 | Y40: 0 | Z40: 0
A41: 2.5～3.0㎏ | B41: =SUM(C41:Z41) -> 2680 | D41: 0 | E41: 0 | F41: 0 | G41: 0 | H41: 0 | I41: 0 | J41: 0 | K41: 1 | L41: 0 | M41: 0 | N41: 0 | O41: 0 | P41: 1 | Q41: 10 | R41: 82 | S41: 400 | T41: 796 | U41: 762 | V41: 523 | W41: 104 | X41: 0 | Y41: 0 | Z41: 1
A42: 3.0～3.5㎏ | B42: =SUM(C42:Z42) -> 2582 | D42: 0 | E42: 0 | F42: 0 | G42: 0 | H42: 0 | I42: 0 | J42: 0 | K42: 0 | L42: 0 | M42: 0 | N42: 0 | O42: 0 | P42: 0 | Q42: 1 | R42: 14 | S42: 142 | T42: 476 | U42: 804 | V42: 842 | W42: 300 | X42: 3 | Y42: 0 | Z42: 0
A43: 3.5～4.0㎏ | B43: =SUM(C43:Z43) -> 549 | D43: 0 | E43: 0 | F43: 0 | G43: 0 | H43: 0 | I43: 0 | J43: 0 | K43: 0 | L43: 0 | M43: 0 | N43: 0 | O43: 0 | P43: 0 | Q43: 0 | R43: 2 | S43: 9 | T43: 46 | U43: 149 | V43: 224 | W43: 118 | X43: 1 | Y43: 0 | Z43: 0
A44: 4.0～4.5㎏ | B44: =SUM(C44:Z44) -> 39 | D44: 0 | E44: 0 | F44: 0 | G44: 0 | H44: 0 | I44: 0 | J44: 0 | K44: 0 | L44: 0 | M44: 0 | N44: 0 | O44: 0 | P44: 0 | Q44: 0 | R44: 0 | S44: 0 | T44: 2 | U44: 10 | V44: 13 | W44: 12 | X44: 2 | Y44: 0 | Z44: 0
A45: 4.5～5.0㎏ | B45: =SUM(C45:Z45) -> 1 | D45: 0 | E45: 0 | F45: 0 | G45: 0 | H45: 0 | I45: 0 | J45: 0 | K45: 0 | L45: 0 | M45: 0 | N45: 0 | O45: 0 | P45: 0 | Q45: 0 | R45: 0 | S45: 0 | T45: 1 | U45: 0 | V45: 0 | W45: 0 | X45: 0 | Y45: 0 | Z45: 0
A46: 5.0㎏以上 | B46: =SUM(C46:Z46) -> 0 | D46: 0 | E46: 0 | F46: 0 | G46: 0 | H46: 0 | I46: 0 | J46: 0 | K46: 0 | L46: 0 | M46: 0 | N46: 0 | O46: 0 | P46: 0 | Q46: 0 | R46: 0 | S46: 0 | T46: 0 | U46: 0 | V46: 0 | W46: 0 | X46: 0 | Y46: 0 | Z46: 0
A47: 不詳 | B47: =SUM(C47:Z47) -> 1 | D47: 0 | E47: 0 | F47: 0 | G47: 0 | H47: 0 | I47: 0 | J47: 0 | K47: 0 | L47: 0 | M47: 0 | N47: 0 | O47: 0 | P47: 0 | Q47: 0 | R47: 0 | S47: 0 | T47: 0 | U47: 0 | V47: 0 | W47: 0 | X47: 0 | Y47: 0 | Z47: 1
A48: 平均体重(㎏) | B48: 2.9773474 | D48: 0.416 | E48: 0.496 | F48: 0.596 | G48: 0.5975 | H48: 0.781 | I48: 0.99466667 | J48: 0.834 | K48: 1.606 | L48: 1.3341667 | M48: 1.4985 | N48: 1.625 | O48: 1.6609545 | P48: 2.0588421 | Q48: 2.2636452 | R48: 2.4904878 | S48: 2.7382823 | T48: 2.9068919 | U48: 3.042922 | V48: 3.1523592 | W48: 3.2665363 | X48: 3.571 | Y48: 0 | Z48: 2.765

Sheet 27　母の年齢・性別，出生順位別出生数
A1: 27 母の年齢（各歳）・性別にみた出生順位別出生数
AS2: ='3 月・性別，区別出生数・出生率'!$O$2 -> 平成30年
A3: 出生順位 | B3: 総数 | C3: 14歳以下 | D3: 15 歳 | E3: 16 歳 | F3: 17 歳 | G3: 18 歳 | H3: 19 歳 | I3: 20 歳 | J3: 21 歳 | K3: 22 歳 | L3: 23 歳 | M3: 24 歳 | N3: 25 歳 | O3: 26 歳 | P3: 27 歳 | Q3: 28 歳 | R3: 29 歳 | S3: 30 歳 | T3: 31 歳 | U3: 32 歳 | V3: 33 歳 | W3: 34 歳 | X3: 35 歳 | Y3: 36 歳 | Z3: 37 歳 | AA3: 38 歳 | AB3: 39 歳 | AC3: 40 歳 | AD3: 41 歳 | AE3: 42 歳 | AF3: 43 歳 | AG3: 44 歳 | AH3: 45 歳 | AI3: 46 歳 | AJ3: 47 歳 | AK3: 48 歳 | AL3: 49 歳 | AM3: 50 歳 | AN3: 51 歳 | AO3: 52 歳 | AP3: 53 歳 | AQ3: 54 歳 | AR3: 55歳～ | AS3: 不詳
B4: 総数
A5: 総 数 | B5: =SUM(B13,B21) -> 13248 | C5: =SUM(C13,C21) -> 3 | D5: =SUM(D13,D21) -> 0 | E5: =SUM(E13,E21) -> 7 | F5: =SUM(F13,F21) -> 13 | G5: =SUM(G13,G21) -> 24 | H5: =SUM(H13,H21) -> 58 | I5: =SUM(I13,I21) -> 125 | ... AS5: =SUM(AS13,AS21) -> 0
A6: 第 1 子 | B6: =SUM(B14,B22) -> 6691 | C6: =SUM(C14,C22) -> 3 | D6: =SUM(D14,D22) -> 0 | E6: =SUM(E14,E22) -> 7 | F6: =SUM(F14,F22) -> 13 | G6: =SUM(G14,G22) -> 22 | H6: =SUM(H14,H22) -> 53 | I6: =SUM(I14,I22) -> 104 | ... AS6: =SUM(AS14,AS22) -> 0
A7: 第 2 子 | B7: =SUM(B15,B23) -> 4753 | C7: =SUM(C15,C23) -> 0 | D7: =SUM(D15,D23) -> 0 | E7: =SUM(E15,E23) -> 0 | F7: =SUM(F15,F23) -> 0 | G7: =SUM(G15,G23) -> 2 | H7: =SUM(H15,H23) -> 4 | I7: =SUM(I15,I23) -> 21 | ... AS7: =SUM(AS15,AS23) -> 0
A8: 第 3 子 | B8: =SUM(B16,B24) -> 1413 | C8: =SUM(C16,C24) -> 0 | D8: =SUM(D16,D24) -> 0 | E8: =SUM(E16,E24) -> 0 | F8: =SUM(F16,F24) -> 0 | G8: =SUM(G16,G24) -> 0 | H8: =SUM(H16,H24) -> 1 | I8: =SUM(I16,I24) -> 0 | ... AS8: =SUM(AS16,AS24) -> 0
A9: 第 4 子 | B9: =SUM(B17,B25) -> 287 | C9: =SUM(C17,C25) -> 0 | D9: =SUM(D17,D25) -> 0 | E9: =SUM(E17,E25) -> 0 | F9: =SUM(F17,F25) -> 0 | G9: =SUM(G17,G25) -> 0 | H9: =SUM(H17,H25) -> 0 | I9: =SUM(I17,I25) -> 0 | ... AS9: =SUM(AS17,AS25) -> 0
A10: 第 5 子 ～ | B10: =SUM(B18,B26) -> 52 | C10: =SUM(C18,C26) -> 0 | D10: =SUM(D18,D26) -> 0 | E10: =SUM(E18,E26) -> 0 | F10: =SUM(F18,F26) -> 0 | G10: =SUM(G18,G26) -> 0 | H10: =SUM(H18,H26) -> 0 | I10: =SUM(I18,I26) -> 0 | ... AS10: =SUM(AS18,AS26) -> 0
A11: 不 詳 | B11: =SUM(B19,B27) -> 0 | C11: =SUM(C19,C27) -> 0 | D11: =SUM(D19,D27) -> 0 | E11: =SUM(E19,E27) -> 0 | F11: =SUM(F19,F27) -> 0 | G11: =SUM(G19,G27) -> 0 | H11: =SUM(H19,H27) -> 0 | I11: =SUM(I19,I27) -> 0 | ... AS11: =SUM(AS19,AS27) -> 0
B12: 男
A13: 総 数 | B13: =SUM(C13:AS13) -> 6744 | C13: =SUM(C14:C19) -> 0 | D13: =SUM(D14:D19) -> 0 | E13: =SUM(E14:E19) -> 3 | F13: =SUM(F14:F19) -> 11 | G13: =SUM(G14:G19) -> 12 | H13: =SUM(H14:H19) -> 34 | I13: =SUM(I14:I19) -> 66 | J13: =SUM(J14:J19) -> 92 | ... AS13: =SUM(AS14:AS19) -> 0
A14: 第 1 子 | B14: =SUM(C14:AS14) -> 3415 | C14: 0 | D14: 0 | E14: 3 | F14: 11 | G14: 11 | H14: 30 | I14: 54 | J14: 72 | K14: 81 | L14: 85 | M14: 104 | N14: 135 | O14: 166 | P14: 213 | Q14: 246 | R14: 279 | S14: 261 | T14: 260 | U14: 246 | V14: 181 | W14: 200 | X14: 183 | Y14: 142 | Z14: 119 | AA14: 99 | AB14: 82 | AC14: 61 | AD14: 48 | AE14: 13 | AF14: 11 | AG14: 14 | AH14: 2 | AI14: 3 | AJ14: 0 | AK14: 0 | AL14: 0 | AM14: 0 | AN14: 0 | AO14: 0 | AP14: 0 | AQ14: 0 | AR14: 0 | AS14: 0
A15: 第 2 子 | B15: =SUM(C15:AS15) -> 2398 | C15: 0 | D15: 0 | E15: 0 | F15: 0 | G15: 1 | H15: 3 | I15: 12 | J15: 19 | K15: 22 | L15: 46 | M15: 43 | N15: 58 | O15: 54 | P15: 80 | Q15: 134 | R15: 135 | S15: 174 | T15: 179 | U15: 177 | V15: 212 | W15: 211 | X15: 188 | Y15: 149 | Z15: 135 | AA15: 127 | AB15: 95 | AC15: 59 | AD15: 42 | AE15: 22 | AF15: 7 | AG15: 10 | AH15: 2 | AI15: 1 | AJ15: 1 | AK15: 0 | AL15: 0 | AM15: 0 | AN15: 0 | AO15: 0 | AP15: 0 | AQ15: 0 | AR15: 0 | AS15: 0
A16: 第 3 子 | B16: =SUM(C16:AS16) -> 739 | C16: 0 | D16: 0 | E16: 0 | F16: 0 | G16: 0 | H16: 1 | I16: 0 | J16: 1 | K16: 2 | L16: 10 | M16: 9 | N16: 12 | O16: 19 | P16: 19 | Q16: 22 | R16: 30 | S16: 43 | T16: 50 | U16: 65 | V16: 54 | W16: 69 | X16: 49 | Y16: 80 | Z16: 63 | AA16: 37 | AB16: 43 | AC16: 23 | AD16: 19 | AE16: 13 | AF16: 2 | AG16: 2 | AH16: 2 | AI16: 0 | AJ16: 0 | AK16: 0 | AL16: 0 | AM16: 0 | AN16: 0 | AO16: 0 | AP16: 0 | AQ16: 0 | AR16: 0 | AS16: 0
A17: 第 4 子 | B17: =SUM(C17:AS17) -> 140 | C17: 0 | D17: 0 | E17: 0 | F17: 0 | G17: 0 | H17: 0 | I17: 0 | J17: 0 | K17: 0 | L17: 1 | M17: 1 | N17: 0 | O17: 2 | P17: 5 | Q17: 3 | R17: 4 | S17: 8 | T17: 5 | U17: 9 | V17: 10 | W17: 13 | X17: 10 | Y17: 14 | Z17: 7 | AA17: 15 | AB17: 10 | AC17: 12 | AD17: 4 | AE17: 3 | AF17: 3 | AG17: 1 | AH17: 0 | AI17: 0 | AJ17: 0 | AK17: 0 | AL17: 0 | AM17: 0 | AN17: 0 | AO17: 0 | AP17: 0 | AQ17: 0 | AR17: 0 | AS17: 0
A18: 第 5 子 ～ | B18: 0 | C18: 0 | D18: 0 | E18: 0 | F18: 0 | G18: 0 | H18: 0 | I18: 0 | J18: 0 | K18: 0 | L18: 0 | M18: 0 | N18: 0 | O18: 1 | P18: 0 | Q18: 1 | R18: 1 | S18: 3 | T18: 2 | U18: 3 | V18: 7 | W18: 5 | X18: 4 | Y18: 3 | Z18: 7 | AA18: 1 | AB18: 4 | AC18: 3 | AD18: 4 | AE18: 1 | AF18: 0 | AG18: 1 | AH18: 0 | AI18: 1 | AJ18: 0 | AK18: 0 | AL18: 0 | AM18: 0 | AN18: 0 | AO18: 0 | AP18: 0 | AQ18: 0 | AR18: 0 | AS18: 0
A19: 不 詳 | B19: =SUM(C19:AS19) -> 0 | C19: 0 | D19: 0 | E19: 0 | F19: 0 | G19: 0 | H19: 0 | I19: 0 | J19: 0 | K19: 0 | L19: 0 | M19: 0 | N19: 0 | O19: 0 | P19: 0 | Q19: 0 | R19: 0 | S19: 0 | T19: 0 | U19: 0 | V19: 0 | W19: 0 | X19: 0 | Y19: 0 | Z19: 0 | AA19: 0 | AB19: 0 | AC19: 0 | AD19: 0 | AE19: 0 | AF19: 0 | AG19: 0 | AH19: 0 | AI19: 0 | AJ19: 0 | AK19: 0 | AL19: 0 | AM19: 0 | AN19: 0 | AO19: 0 | AP19: 0 | AQ19: 0 | AR19: 0 | AS19: 0
B20: 女
A21: 総 数 | B21: =SUM(C21:AS21) -> 6504 | C21: =SUM(C22:C27) -> 3 | D21: =SUM(D22:D27) -> 0 | E21: =SUM(E22:E27) -> 4 | F21: =SUM(F22:F27) -> 2 | G21: =SUM(G22:G27) -> 12 | H21: =SUM(H22:H27) -> 24 | I21: =SUM(I22:I27) -> 59 | J21: =SUM(J22:J27) -> 85 | ... AS21: =SUM(AS22:AS27) -> 0
A22: 第 1 子 | B22: =SUM(C22:AS22) -> 3276 | C22: 3 | D22: 0 | E22: 4 | F22: 2 | G22: 11 | H22: 23 | I22: 50 | J22: 65 | K22: 87 | L22: 92 | M22: 111 | N22: 121 | O22: 189 | P22: 227 | Q22: 251 | R22: 259 | S22: 248 | T22: 263 | U22: 191 | V22: 197 | W22: 189 | X22: 160 | Y22: 137 | Z22: 111 | AA22: 85 | AB22: 77 | AC22: 49 | AD22: 24 | AE22: 26 | AF22: 14 | AG22: 5 | AH22: 3 | AI22: 2 | AJ22: 0 | AK22: 0 | AL22: 0 | AM22: 0 | AN22: 0 | AO22: 0 | AP22: 0 | AQ22: 0 | AR22: 0 | AS22: 0
A23: 第 2 子 | B23: =SUM(C23:AS23) -> 2355 | C23: 0 | D23: 0 | E23: 0 | F23: 0 | G23: 1 | H23: 1 | I23: 9 | J23: 19 | K23: 34 | L23: 36 | M23: 43 | N23: 46 | O23: 70 | P23: 80 | Q23: 125 | R23: 139 | S23: 154 | T23: 188 | U23: 170 | V23: 195 | W23: 199 | X23: 173 | Y23: 165 | Z23: 142 | AA23: 110 | AB23: 80 | AC23: 72 | AD23: 48 | AE23: 33 | AF23: 19 | AG23: 2 | AH23: 1 | AI23: 1 | AJ23: 0 | AK23: 0 | AL23: 0 | AM23: 0 | AN23: 0 | AO23: 0 | AP23: 0 | AQ23: 0 | AR23: 0 | AS23: 0
A24: 第 3 子 | B24: =SUM(C24:AS24) -> 674 | C24: 0 | D24: 0 | E24: 0 | F24: 0 | G24: 0 | H24: 0 | I24: 0 | J24: 1 | K24: 3 | L24: 7 | M24: 5 | N24: 16 | O24: 14 | P24: 21 | Q24: 20 | R24: 23 | S24: 27 | T24: 47 | U24: 53 | V24: 73 | W24: 66 | X24: 56 | Y24: 59 | Z24: 55 | AA24: 47 | AB24: 32 | AC24: 23 | AD24: 16 | AE24: 4 | AF24: 3 | AG24: 2 | AH24: 1 | AI24: 0 | AJ24: 0 | AK24: 0 | AL24: 0 | AM24: 0 | AN24: 0 | AO24: 0 | AP24: 0 | AQ24: 0 | AR24: 0 | AS24: 0
A25: 第 4 子 | B25: =SUM(C25:AS25) -> 147 | C25: 0 | D25: 0 | E25: 0 | F25: 0 | G25: 0 | H25: 0 | I25: 0 | J25: 0 | K25: 0 | L25: 0 | M25: 1 | N25: 2 | O25: 1 | P25: 6 | Q25: 6 | R25: 6 | S25: 6 | T25: 7 | U25: 8 | V25: 21 | W25: 14 | X25: 16 | Y25: 16 | Z25: 10 | AA25: 5 | AB25: 8 | AC25: 5 | AD25: 7 | AE25: 1 | AF25: 1 | AG25: 0 | AH25: 0 | AI25: 0 | AJ25: 0 | AK25: 0 | AL25: 0 | AM25: 0 | AN25: 0 | AO25: 0 | AP25: 0 | AQ25: 0 | AR25: 0 | AS25: 0
A26: 第 5 子 ～ | B26: =SUM(C26:AS26) -> 52 | C26: 0 | D26: 0 | E26: 0 | F26: 0 | G26: 0 | H26: 0 | I26: 0 | J26: 0 | K26: 0 | L26: 0 | M26: 0 | N26: 1 | O26: 0 | P26: 3 | Q26: 0 | R26: 1 | S26: 2 | T26: 2 | U26: 4 | V26: 6 | W26: 6 | X26: 5 | Y26: 3 | Z26: 6 | AA26: 3 | AB26: 3 | AC26: 5 | AD26: 2 | AE26: 0 | AF26: 0 | AG26: 0 | AH26: 0 | AI26: 0 | AJ26: 0 | AK26: 0 | AL26: 0 | AM26: 0 | AN26: 0 | AO26: 0 | AP26: 0 | AQ26: 0 | AR26: 0 | AS26: 0
A27: 不 詳 | B27: =SUM(C27:AS27) -> 0 | C27: 0 | D27: 0 | E27: 0 | F27: 0 | G27: 0 | H27: 0 | I27: 0 | J27: 0 | K27: 0 | L27: 0 | M27: 0 | N27: 0 | O27: 0 | P27: 0 | Q27: 0 | R27: 0 | S27: 0 | T27: 0 | U27: 0 | V27: 0 | W27: 0 | X27: 0 | Y27: 0 | Z27: 0 | AA27: 0 | AB27: 0 | AC27: 0 | AD27: 0 | AE27: 0 | AF27: 0 | AG27: 0 | AH27: 0 | AI27: 0 | AJ27: 0 | AK27: 0 | AL27: 0 | AM27: 0 | AN27: 0 | AO27: 0 | AP27: 0 | AQ27: 0 | AR27: 0 | AS27: 0
B48: 0

Sheet 区・母の年齢階級，非嫡出子出生数
A1: ＊ 嫡出子-嫡出子でない子・母の年齢（５歳階級）･性別にみた区別出生数及び割合
A3: 嫡出子 | N3: 嫡出子でない子
A4: 区・性 | C4: 総数 | D4: ～14歳 | E4: 15～19 | F4: 20～24 | G4: 25～29 | H4: 30～34 | I4: 35～39 | J4: 40～44 | K4: 45～ | L4: 不詳 | N4: 区・性 | P4: 総数 | Q4: ～14歳 | R4: 15～19 | S4: 20～24 | T4: 25～29 | U4: 30～34 | V4: 35～39 | W4: 40～44 | X4: 45～ | Y4: 不詳
C5: 実数 | P5: 実数
A6: 総 数 | C6: =SUM(C9,C12,C15,C18,C21,C24,C27,C30,C33,C36) -> 0 | D6: =SUM(D9,D12,D15,D18,D21,D24,D27,D30,D33,D36) -> 0 | E6: =SUM(E9,E12,E15,E18,E21,E24,E27,E30,E33,E36) -> 0 | F6: =SUM(F9,F12,F15,F18,F21,F24,F27,F30,F33,F36) -> 0 | G6: =SUM(G9,G12,G15,G18,G21,G24,G27,G30,G33,G36) -> 0 | H6: =SUM(H9,H12,H15,H18,H21,H24,H27,H30,H33,H36) -> 0 | I6: =SUM(I9,I12,I15,I18,I21,I24,I27,I30,I33,I36) -> 0 | J6: =SUM(J9,J12,J15,J18,J21,J24,J27,J30,J33,J36) -> 0 | ... L6: =SUM(L9,L12,L15,L18,L21,L24,L27,L30,L33,L36) -> 0 | N6: 総 数 | P6: =SUM(P9,P12,P15,P18,P21,P24,P27,P30,P33,P36) -> 0 | Q6: =SUM(Q9,Q12,Q15,Q18,Q21,Q24,Q27,Q30,Q33,Q36) -> 0 | R6: =SUM(R9,R12,R15,R18,R21,R24,R27,R30,R33,R36) -> 0 | S6: =SUM(S9,S12,S15,S18,S21,S24,S27,S30,S33,S36) -> 0 | T6: =SUM(T9,T12,T15,T18,T21,T24,T27,T30,T33,T36) -> 0 | U6: =SUM(U9,U12,U15,U18,U21,U24,U27,U30,U33,U36) -> 0 | V6: =SUM(V9,V12,V15,V18,V21,V24,V27,V30,V33,V36) -> 0 | W6: =SUM(W9,W12,W15,W18,W21,W24,W27,W30,W33,W36) -> 0 | ... Y6: =SUM(Y9,Y12,Y15,Y18,Y21,Y24,Y27,Y30,Y33,Y36) -> 0
B7: 男 | C7: =SUM(C10,C13,C16,C19,C22,C25,C28,C31,C34,C37) -> 0 | D7: =SUM(D10,D13,D16,D19,D22,D25,D28,D31,D34,D37) -> 0 | E7: =SUM(E10,E13,E16,E19,E22,E25,E28,E31,E34,E37) -> 0 | F7: =SUM(F10,F13,F16,F19,F22,F25,F28,F31,F34,F37) -> 0 | G7: =SUM(G10,G13,G16,G19,G22,G25,G28,G31,G34,G37) -> 0 | H7: =SUM(H10,H13,H16,H19,H22,H25,H28,H31,H34,H37) -> 0 | I7: =SUM(I10,I13,I16,I19,I22,I25,I28,I31,I34,I37) -> 0 | J7: =SUM(J10,J13,J16,J19,J22,J25,J28,J31,J34,J37) -> 0 | ... L7: =SUM(L10,L13,L16,L19,L22,L25,L28,L31,L34,L37) -> 0 | O7: 男 | P7: =SUM(P10,P13,P16,P19,P22,P25,P28,P31,P34,P37) -> 0 | Q7: =SUM(Q10,Q13,Q16,Q19,Q22,Q25,Q28,Q31,Q34,Q37) -> 0 | R7: =SUM(R10,R13,R16,R19,R22,R25,R28,R31,R34,R37) -> 0 | S7: =SUM(S10,S13,S16,S19,S22,S25,S28,S31,S34,S37) -> 0 | T7: =SUM(T10,T13,T16,T19,T22,T25,T28,T31,T34,T37) -> 0 | U7: =SUM(U10,U13,U16,U19,U22,U25,U28,U31,U34,U37) -> 0 | V7: =SUM(V10,V13,V16,V19,V22,V25,V28,V31,V34,V37) -> 0 | W7: =SUM(W10,W13,W16,W19,W22,W25,W28,W31,W34,W37) -> 0 | ... Y7: =SUM(Y10,Y13,Y16,Y19,Y22,Y25,Y28,Y31,Y34,Y37) -> 0 | AA7: データの個数 : 客体区分 | AC7: 嫡否区分 | AD7: 母の年齢区分
B8: 女 | C8: =SUM(C11,C14,C17,C20,C23,C26,C29,C32,C35,C38) -> 0 | D8: =SUM(D11,D14,D17,D20,D23,D26,D29,D32,D35,D38) -> 0 | E8: =SUM(E11,E14,E17,E20,E23,E26,E29,E32,E35,E38) -> 0 | F8: =SUM(F11,F14,F17,F20,F23,F26,F29,F32,F35,F38) -> 0 | G8: =SUM(G11,G14,G17,G20,G23,G26,G29,G32,G35,G38) -> 0 | H8: =SUM(H11,H14,H17,H20,H23,H26,H29,H32,H35,H38) -> 0 | I8: =SUM(I11,I14,I17,I20,I23,I26,I29,I32,I35,I38) -> 0 | J8: =SUM(J11,J14,J17,J20,J23,J26,J29,J32,J35,J38) -> 0 | ... L8: =SUM(L11,L14,L17,L20,L23,L26,L29,L32,L35,L38) -> 0 | O8: 女 | P8: =SUM(P11,P14,P17,P20,P23,P26,P29,P32,P35,P38) -> 0 | Q8: =SUM(Q11,Q14,Q17,Q20,Q23,Q26,Q29,Q32,Q35,Q38) -> 0 | R8: =SUM(R11,R14,R17,R20,R23,R26,R29,R32,R35,R38) -> 0 | S8: =SUM(S11,S14,S17,S20,S23,S26,S29,S32,S35,S38) -> 0 | T8: =SUM(T11,T14,T17,T20,T23,T26,T29,T32,T35,T38) -> 0 | U8: =SUM(U11,U14,U17,U20,U23,U26,U29,U32,U35,U38) -> 0 | V8: =SUM(V11,V14,V17,V20,V23,V26,V29,V32,V35,V38) -> 0 | W8: =SUM(W11,W14,W17,W20,W23,W26,W29,W32,W35,W38) -> 0 | ... Y8: =SUM(Y11,Y14,Y17,Y20,Y23,Y26,Y29,Y32,Y35,Y38) -> 0 | AC8: 嫡出子 | AJ8: 嫡出子 計 | AK8: 嫡出でない子 | AR8: 嫡出でない子 計 | AS8: 総計
A9: 中 央 | C9: =SUM(D9:L9) -> 0 | D9: =SUM(D10:D11) -> 0 | E9: =SUM(E10:E11) -> 0 | F9: =SUM(F10:F11) -> 0 | G9: =SUM(G10:G11) -> 0 | H9: =SUM(H10:H11) -> 0 | I9: =SUM(I10:I11) -> 0 | J9: =SUM(J10:J11) -> 0 | K9: =SUM(K10:K11) -> 0 | L9: =SUM(L10:L11) -> 0 | N9: 中 央 | P9: =SUM(Q9:Y9) -> 0 | Q9: =SUM(Q10:Q11) -> 0 | R9: =SUM(R10:R11) -> 0 | S9: =SUM(S10:S11) -> 0 | T9: =SUM(T10:T11) -> 0 | U9: =SUM(U10:U11) -> 0 | V9: =SUM(V10:V11) -> 0 | W9: =SUM(W10:W11) -> 0 | X9: =SUM(X10:X11) -> 0 | Y9: =SUM(Y10:Y11) -> 0 | AA9: 区コード | AB9: 性別区分 | AC9: 15～19 | AD9: 20～24 | AE9: 25～29 | AF9: 30～34 | AG9: 35～39 | AH9: 40～44 | AI9: 45～49 | AK9: 15～19 | AL9: 20～24 | AM9: 25～29 | AN9: 30～34 | AO9: 35～39 | AP9: 40～44 | AQ9: 45～49
B10: 男 | C10: =SUM(D10:L10) -> 0 | O10: 男 | P10: =SUM(Q10:Y10) -> 0 | AA10: 10 中央区 | AB10: 1男 | AC10: 8 | AD10: 69 | AE10: 205 | AF10: 257 | AG10: 94 | AH10: 14 | AI10: 0 | AJ10: 647 | AK10: 0 | AL10: 6 | AM10: 5 | AN10: 10 | AO10: 6 | AP10: 0 | AQ10: 0 | AR10: 27 | AS10: 674
B11: 女 | C11: =SUM(D11:L11) -> 0 | O11: 女 | P11: =SUM(Q11:Y11) -> 0 | AB11: 2女 | AC11: 10 | AD11: 82 | AE11: 228 | AF11: 241 | AG11: 105 | AH11: 9 | AI11: 1 | AJ11: 676 | AK11: 1 | AL11: 8 | AM11: 8 | AN11: 5 | AO11: 7 | AP11: 0 | AQ11: 1 | AR11: 30 | AS11: 706
A12: 北 | C12: =SUM(D12:L12) -> 0 | D12: =SUM(D13:D14) -> 0 | E12: =SUM(E13:E14) -> 0 | F12: =SUM(F13:F14) -> 0 | G12: =SUM(G13:G14) -> 0 | H12: =SUM(H13:H14) -> 0 | I12: =SUM(I13:I14) -> 0 | J12: =SUM(J13:J14) -> 0 | K12: =SUM(K13:K14) -> 0 | L12: =SUM(L13:L14) -> 0 | N12: 北 | P12: =SUM(Q12:Y12) -> 0 | AA12: 10 中央区 計 | AC12: 18 | AD12: 151 | AE12: 433 | AF12: 498 | AG12: 199 | AH12: 23 | AI12: 1 | AJ12: 1323 | AK12: 1 | AL12: 14 | AM12: 13 | AN12: 15 | AO12: 13 | AP12: 0 | AQ12: 1 | AR12: 57 | AS12: 1380
B13: 男 | C13: =SUM(D13:L13) -> 0 | O13: 男 | P13: =SUM(Q13:Y13) -> 0 | AA13: 20 北区 | AB13: 1男 | AC13: 16 | AD13: 157 | AE13: 360 | AF13: 360 | AG13: 110 | AH13: 10 | AI13: 0 | AJ13: 1013 | AK13: 2 | AL13: 5 | AM13: 6 | AN13: 7 | AO13: 3 | AP13: 1 | AQ13: 0 | AR13: 24 | AS13: 1037
B14: 女 | C14: =SUM(D14:L14) -> 0 | O14: 女 | P14: =SUM(Q14:Y14) -> 0 | AB14: 2女 | AC14: 17 | AD14: 127 | AE14: 338 | AF14: 303 | AG14: 126 | AH14: 14 | AI14: 0 | AJ14: 925 | AK14: 6 | AL14: 1 | AM14: 5 | AN14: 3 | AO14: 3 | AP14: 2 | AQ14: 0 | AR14: 20 | AS14: 945
A15: 東 | C15: =SUM(D15:L15) -> 0 | D15: =SUM(D16:D17) -> 0 | E15: =SUM(E16:E17) -> 0 | F15: =SUM(F16:F17) -> 0 | G15: =SUM(G16:G17) -> 0 | H15: =SUM(H16:H17) -> 0 | I15: =SUM(I16:I17) -> 0 | J15: =SUM(J16:J17) -> 0 | K15: =SUM(K16:K17) -> 0 | L15: =SUM(L16:L17) -> 0 | N15: 東 | P15: =SUM(Q15:Y15) -> 0 | Q15: =SUM(Q16:Q17) -> 0 | R15: =SUM(R16:R17) -> 0 | S15: =SUM(S16:S17) -> 0 | T15: =SUM(T16:T17) -> 0 | U15: =SUM(U16:U17) -> 0 | V15: =SUM(V16:V17) -> 0 | W15: =SUM(W16:W17) -> 0 | X15: =SUM(X16:X17) -> 0 | Y15: =SUM(Y16:Y17) -> 0 | AA15: 20 北区 計 | AC15: 33 | AD15: 284 | AE15: 698 | AF15: 663 | AG15: 236 | AH15: 24 | AI15: 0 | AJ15: 1938 | AK15: 8 | AL15: 6 | AM15: 11 | AN15: 10 | AO15: 6 | AP15: 3 | AQ15: 0 | AR15: 44 | AS15: 1982
B16: 男 | C16: =SUM(D16:L16) -> 0 | O16: 男 | P16: =SUM(Q16:Y16) -> 0 | AA16: 30 東区 | AB16: 1男 | AC16: 17 | AD16: 176 | AE16: 496 | AF16: 395 | AG16: 128 | AH16: 9 | AI16: 0 | AJ16: 1221 | AK16: 0 | AL16: 2 | AM16: 10 | AN16: 6 | AO16: 7 | AP16: 1 | AQ16: 0 | AR16: 26 | AS16: 1247
B17: 女 | C17: =SUM(D17:L17) -> 0 | O17: 女 | P17: =SUM(Q17:Y17) -> 0 | AB17: 2女 | AC17: 16 | AD17: 152 | AE17: 487 | AF17: 399 | AG17: 141 | AH17: 14 | AI17: 0 | AJ17: 1209 | AK17: 8 | AL17: 6 | AM17: 10 | AN17: 9 | AO17: 5 | AP17: 0 | AQ17: 0 | AR17: 38 | AS17: 1247
A18: 白 石 | C18: =SUM(D18:L18) -> 0 | D18: =SUM(D19:D20) -> 0 | E18: =SUM(E19:E20) -> 0 | F18: =SUM(F19:F20) -> 0 | G18: =SUM(G19:G20) -> 0 | H18: =SUM(H19:H20) -> 0 | I18: =SUM(I19:I20) -> 0 | J18: =SUM(J19:J20) -> 0 | K18: =SUM(K19:K20) -> 0 | L18: =SUM(L19:L20) -> 0 | N18: 白 石 | P18: =SUM(Q18:Y18) -> 0 | Q18: =SUM(Q19:Q20) -> 0 | R18: =SUM(R19:R20) -> 0 | S18: =SUM(S19:S20) -> 0 | T18: =SUM(T19:T20) -> 0 | U18: =SUM(U19:U20) -> 0 | V18: =SUM(V19:V20) -> 0 | W18: =SUM(W19:W20) -> 0 | X18: =SUM(X19:X20) -> 0 | Y18: =SUM(Y19:Y20) -> 0 | AA18: 30 東区 計 | AC18: 33 | AD18: 328 | AE18: 983 | AF18: 794 | AG18: 269 | AH18: 23 | AI18: 0 | AJ18: 2430 | AK18: 8 | AL18: 8 | AM18: 20 | AN18: 15 | AO18: 12 | AP18: 1 | AQ18: 0 | AR18: 64 | AS18: 2494
B19: 男 | C19: =SUM(D19:L19) -> 0 | O19: 男 | P19: =SUM(Q19:Y19) -> 0 | AA19: 40 白石区 | AB19: 1男 | AC19: 15 | AD19: 164 | AE19: 386 | AF19: 322 | AG19: 94 | AH19: 11 | AI19: 1 | AJ19: 993 | AK19: 3 | AL19: 6 | AM19: 9 | AN19: 7 | AO19: 2 | AP19: 1 | AQ19: 0 | AR19: 28 | AS19: 1021
B20: 女 | C20: =SUM(D20:L20) -> 0 | O20: 女 | P20: =SUM(Q20:Y20) -> 0 | AB20: 2女 | AC20: 17 | AD20: 148 | AE20: 378 | AF20: 302 | AG20: 85 | AH20: 15 | AI20: 0 | AJ20: 945 | AK20: 2 | AL20: 7 | AM20: 13 | AN20: 5 | AO20: 4 | AP20: 0 | AQ20: 0 | AR20: 31 | AS20: 976
A21: 厚 別 | C21: =SUM(D21:L21) -> 0 | D21: =SUM(D22:D23) -> 0 | E21: =SUM(E22:E23) -> 0 | F21: =SUM(F22:F23) -> 0 | G21: =SUM(G22:G23) -> 0 | H21: =SUM(H22:H23) -> 0 | I21: =SUM(I22:I23) -> 0 | J21: =SUM(J22:J23) -> 0 | K21: =SUM(K22:K23) -> 0 | L21: =SUM(L22:L23) -> 0 | N21: 厚 別 | P21: =SUM(Q21:Y21) -> 0 | Q21: =SUM(Q22:Q23) -> 0 | R21: =SUM(R22:R23) -> 0 | S21: =SUM(S22:S23) -> 0 | T21: =SUM(T22:T23) -> 0 | U21: =SUM(U22:U23) -> 0 | V21: =SUM(V22:V23) -> 0 | W21: =SUM(W22:W23) -> 0 | X21: =SUM(X22:X23) -> 0 | Y21: =SUM(Y22:Y23) -> 0 | AA21: 40 白石区 計 | AC21: 32 | AD21: 312 | AE21: 764 | AF21: 624 | AG21: 179 | AH21: 26 | AI21: 1 | AJ21: 1938 | AK21: 5 | AL21: 13 | AM21: 22 | AN21: 12 | AO21: 6 | AP21: 1 | AQ21: 0 | AR21: 59 | AS21: 1997
B22: 男 | C22: =SUM(D22:L22) -> 0 | O22: 男 | P22: =SUM(Q22:Y22) -> 0 | AA22: 45 厚別区 | AB22: 1男 | AC22: 3 | AD22: 64 | AE22: 181 | AF22: 162 | AG22: 58 | AH22: 7 | AI22: 0 | AJ22: 475 | AK22: 2 | AL22: 3 | AM22: 3 | AN22: 2 | AO22: 1 | AP22: 1 | AQ22: 0 | AR22: 12 | AS22: 487
B23: 女 | C23: =SUM(D23:L23) -> 0 | O23: 女 | P23: =SUM(Q23:Y23) -> 0 | AB23: 2女 | AC23: 2 | AD23: 67 | AE23: 204 | AF23: 181 | AG23: 67 | AH23: 12 | AI23: 0 | AJ23: 533 | AK23: 2 | AL23: 3 | AM23: 1 | AN23: 7 | AO23: 1 | AP23: 0 | AQ23: 0 | AR23: 14 | AS23: 547
A24: 豊 平 | C24: =SUM(D24:L24) -> 0 | D24: =SUM(D25:D26) -> 0 | E24: =SUM(E25:E26) -> 0 | F24: =SUM(F25:F26) -> 0 | G24: =SUM(G25:G26) -> 0 | H24: =SUM(H25:H26) -> 0 | I24: =SUM(I25:I26) -> 0 | J24: =SUM(J25:J26) -> 0 | K24: =SUM(K25:K26) -> 0 | L24: =SUM(L25:L26) -> 0 | N24: 豊 平 | P24: =SUM(Q24:Y24) -> 0 | Q24: =SUM(Q25:Q26) -> 0 | R24: =SUM(R25:R26) -> 0 | S24: =SUM(S25:S26) -> 0 | T24: =SUM(T25:T26) -> 0 | U24: =SUM(U25:U26) -> 0 | V24: =SUM(V25:V26) -> 0 | W24: =SUM(W25:W26) -> 0 | X24: =SUM(X25:X26) -> 0 | Y24: =SUM(Y25:Y26) -> 0 | AA24: 45 厚別区 計 | AC24: 5 | AD24: 131 | AE24: 385 | AF24: 343 | AG24: 125 | AH24: 19 | AI24: 0 | AJ24: 1008 | AK24: 4 | AL24: 6 | AM24: 4 | AN24: 9 | AO24: 2 | AP24: 1 | AQ24: 0 | AR24: 26 | AS24: 1034
B25: 男 | C25: =SUM(D25:L25) -> 0 | O25: 男 | P25: =SUM(Q25:Y25) -> 0 | AA25: 50 豊平区 | AB25: 1男 | AC25: 14 | AD25: 143 | AE25: 331 | AF25: 292 | AG25: 106 | AH25: 13 | AI25: 0 | AJ25: 899 | AK25: 2 | AL25: 4 | AM25: 5 | AN25: 7 | AO25: 5 | AP25: 1 | AQ25: 0 | AR25: 24 | AS25: 923
B26: 女 | C26: =SUM(D26:L26) -> 0 | O26: 女 | P26: =SUM(Q26:Y26) -> 0 | AB26: 2女 | AC26: 8 | AD26: 101 | AE26: 317 | AF26: 283 | AG26: 105 | AH26: 12 | AI26: 0 | AJ26: 826 | AK26: 4 | AL26: 4 | AM26: 5 | AN26: 4 | AO26: 6 | AP26: 1 | AQ26: 0 | AR26: 24 | AS26: 850
A27: 清 田 | C27: =SUM(D27:L27) -> 0 | D27: =SUM(D28:D29) -> 0 | E27: =SUM(E28:E29) -> 0 | F27: =SUM(F28:F29) -> 0 | G27: =SUM(G28:G29) -> 0 | H27: =SUM(H28:H29) -> 0 | I27: =SUM(I28:I29) -> 0 | J27: =SUM(J28:J29) -> 0 | K27: =SUM(K28:K29) -> 0 | L27: =SUM(L28:L29) -> 0 | N27: 清 田 | P27: =SUM(Q27:Y27) -> 0 | Q27: =SUM(Q28:Q29) -> 0 | R27: =SUM(R28:R29) -> 0 | S27: =SUM(S28:S29) -> 0 | T27: =SUM(T28:T29) -> 0 | U27: =SUM(U28:U29) -> 0 | V27: =SUM(V28:V29) -> 0 | W27: =SUM(W28:W29) -> 0 | X27: =SUM(X28:X29) -> 0 | Y27: =SUM(Y28:Y29) -> 0 | AA27: 50 豊平区 計 | AC27: 22 | AD27: 244 | AE27: 648 | AF27: 575 | AG27: 211 | AH27: 25 | AI27: 0 | AJ27: 1725 | AK27: 6 | AL27: 8 | AM27: 10 | AN27: 11 | AO27: 11 | AP27: 2 | AQ27: 0 | AR27: 48 | AS27: 1773
B28: 男 | C28: =SUM(D28:L28) -> 0 | O28: 男 | P28: =SUM(Q28:Y28) -> 0 | AA28: 55 清田区 | AB28: 1男 | AC28: 3 | AD28: 54 | AE28: 142 | AF28: 135 | AG28: 70 | AH28: 6 | AI28: 0 | AJ28: 410 | AK28: 1 | AL28: 2 | AM28: 0 | AN28: 1 | AO28: 0 | AP28: 0 | AQ28: 0 | AR28: 4 | AS28: 414
B29: 女 | C29: =SUM(D29:L29) -> 0 | O29: 女 | P29: =SUM(Q29:Y29) -> 0 | AB29: 2女 | AC29: 7 | AD29: 52 | AE29: 142 | AF29: 140 | AG29: 63 | AH29: 4 | AI29: 0 | AJ29: 408 | AK29: 0 | AL29: 0 | AM29: 2 | AN29: 0 | AO29: 0 | AP29: 0 | AQ29: 0 | AR29: 2 | AS29: 410
A30: 南 | C30: =SUM(D30:L30) -> 0 | D30: =SUM(D31:D32) -> 0 | E30: =SUM(E31:E32) -> 0 | F30: =SUM(F31:F32) -> 0 | G30: =SUM(G31:G32) -> 0 | H30: =SUM(H31:H32) -> 0 | I30: =SUM(I31:I32) -> 0 | J30: =SUM(J31:J32) -> 0 | K30: =SUM(K31:K32) -> 0 | L30: =SUM(L31:L32) -> 0 | N30: 南 | P30: =SUM(Q30:Y30) -> 0 | Q30: =SUM(Q31:Q32) -> 0 | R30: =SUM(R31:R32) -> 0 | S30: =SUM(S31:S32) -> 0 | T30: =SUM(T31:T32) -> 0 | U30: =SUM(U31:U32) -> 0 | V30: =SUM(V31:V32) -> 0 | W30: =SUM(W31:W32) -> 0 | X30: =SUM(X31:X32) -> 0 | Y30: =SUM(Y31:Y32) -> 0 | AA30: 55 清田区 計 | AC30: 10 | AD30: 106 | AE30: 284 | AF30: 275 | AG30: 133 | AH30: 10 | AI30: 0 | AJ30: 818 | AK30: 1 | AL30: 2 | AM30: 2 | AN30: 1 | AO30: 0 | AP30: 0 | AQ30: 0 | AR30: 6 | AS30: 824
B31: 男 | C31: =SUM(D31:L31) -> 0 | O31: 男 | P31: =SUM(Q31:Y31) -> 0 | AA31: 60 南区 | AB31: 1男 | AC31: 8 | AD31: 85 | AE31: 182 | AF31: 186 | AG31: 79 | AH31: 9 | AI31: 0 | AJ31: 549 | AK31: 1 | AL31: 2 | AM31: 3 | AN31: 3 | AO31: 1 | AP31: 0 | AQ31: 1 | AR31: 11 | AS31: 560
B32: 女 | C32: =SUM(D32:L32) -> 0 | O32: 女 | P32: =SUM(Q32:Y32) -> 0 | AB32: 2女 | AC32: 5 | AD32: 74 | AE32: 180 | AF32: 178 | AG32: 66 | AH32: 9 | AI32: 1 | AJ32: 513 | AK32: 2 | AL32: 2 | AM32: 2 | AN32: 4 | AO32: 2 | AP32: 0 | AQ32: 0 | AR32: 12 | AS32: 525
A33: 西 | C33: =SUM(D33:L33) -> 0 | D33: =SUM(D34:D35) -> 0 | E33: =SUM(E34:E35) -> 0 | F33: =SUM(F34:F35) -> 0 | G33: =SUM(G34:G35) -> 0 | H33: =SUM(H34:H35) -> 0 | I33: =SUM(I34:I35) -> 0 | J33: =SUM(J34:J35) -> 0 | K33: =SUM(K34:K35) -> 0 | L33: =SUM(L34:L35) -> 0 | N33: 西 | P33: =SUM(Q33:Y33) -> 0 | Q33: =SUM(Q34:Q35) -> 0 | R33: =SUM(R34:R35) -> 0 | S33: =SUM(S34:S35) -> 0 | T33: =SUM(T34:T35) -> 0 | U33: =SUM(U34:U35) -> 0 | V33: =SUM(V34:V35) -> 0 | W33: =SUM(W34:W35) -> 0 | X33: =SUM(X34:X35) -> 0 | Y33: =SUM(Y34:Y35) -> 0 | AA33: 60 南区 計 | AC33: 13 | AD33: 159 | AE33: 362 | AF33: 364 | AG33: 145 | AH33: 18 | AI33: 1 | AJ33: 1062 | AK33: 3 | AL33: 4 | AM33: 5 | AN33: 7 | AO33: 3 | AP33: 0 | AQ33: 1 | AR33: 23 | AS33: 1085
B34: 男 | C34: =SUM(D34:L34) -> 0 | O34: 男 | P34: =SUM(Q34:Y34) -> 0 | AA34: 70 西区 | AB34: 1男 | AC34: 11 | AD34: 116 | AE34: 360 | AF34: 304 | AG34: 98 | AH34: 12 | AI34: 0 | AJ34: 901 | AK34: 2 | AL34: 2 | AM34: 2 | AN34: 2 | AO34: 4 | AP34: 1 | AQ34: 0 | AR34: 13 | AS34: 914
B35: 女 | C35: =SUM(D35:L35) -> 0 | O35: 女 | P35: =SUM(Q35:Y35) -> 0 | AB35: 2女 | AC35: 10 | AD35: 99 | AE35: 317 | AF35: 299 | AG35: 118 | AH35: 13 | AI35: 1 | AJ35: 857 | AK35: 3 | AL35: 5 | AM35: 3 | AN35: 4 | AO35: 1 | AP35: 2 | AQ35: 0 | AR35: 18 | AS35: 875
A36: 手 稲 | C36: =SUM(D36:L36) -> 0 | D36: =SUM(D37:D38) -> 0 | E36: =SUM(E37:E38) -> 0 | F36: =SUM(F37:F38) -> 0 | G36: =SUM(G37:G38) -> 0 | H36: =SUM(H37:H38) -> 0 | I36: =SUM(I37:I38) -> 0 | J36: =SUM(J37:J38) -> 0 | K36: =SUM(K37:K38) -> 0 | L36: =SUM(L37:L38) -> 0 | N36: 手 稲 | P36: =SUM(Q36:Y36) -> 0 | Q36: =SUM(Q37:Q38) -> 0 | R36: =SUM(R37:R38) -> 0 | S36: =SUM(S37:S38) -> 0 | T36: =SUM(T37:T38) -> 0 | U36: =SUM(U37:U38) -> 0 | V36: =SUM(V37:V38) -> 0 | W36: =SUM(W37:W38) -> 0 | X36: =SUM(X37:X38) -> 0 | Y36: =SUM(Y37:Y38) -> 0 | AA36: 70 西区 計 | AC36: 21 | AD36: 215 | AE36: 677 | AF36: 603 | AG36: 216 | AH36: 25 | AI36: 1 | AJ36: 1758 | AK36: 5 | AL36: 7 | AM36: 5 | AN36: 6 | AO36: 5 | AP36: 3 | AQ36: 0 | AR36: 31 | AS36: 1789
B37: 男 | C37: =SUM(D37:L37) -> 0 | O37: 男 | P37: =SUM(Q37:Y37) -> 0 | AA37: 75 手稲区 | AB37: 1男 | AC37: 7 | AD37: 74 | AE37: 177 | AF37: 154 | AG37: 51 | AH37: 9 | AI37: 0 | AJ37: 472 | AK37: 0 | AL37: 3 | AM37: 3 | AN37: 2 | AO37: 0 | AP37: 0 | AQ37: 1 | AR37: 9 | AS37: 481
B38: 女 | C38: =SUM(D38:L38) -> 0 | O38: 女 | P38: =SUM(Q38:Y38) -> 0 | AB38: 2女 | AC38: 10 | AD38: 67 | AE38: 169 | AF38: 147 | AG38: 69 | AH38: 5 | AI38: 0 | AJ38: 467 | AK38: 1 | AL38: 2 | AM38: 0 | AN38: 1 | AO38: 2 | AP38: 0 | AQ38: 0 | AR38: 6 | AS38: 473
C39: 出 生 数 に 対 す る 割 合 （％) | P39: 出 生 数 に 対 す る 割 合 （％) | AA39: 75 手稲区 計 | AC39: 17 | AD39: 141 | AE39: 346 | AF39: 301 | AG39: 120 | AH39: 14 | AI39: 0 | AJ39: 939 | AK39: 1 | AL39: 5 | AM39: 3 | AN39: 3 | AO39: 2 | AP39: 0 | AQ39: 1 | AR39: 15 | AS39: 954
A40: 総数 | C40: =SUM(D40:L40) -> #DIV/0! | D40: =D6/$C6*100 -> #DIV/0! | E40: =E6/$C6*100 -> #DIV/0! | F40: =F6/$C6*100 -> #DIV/0! | G40: =G6/$C6*100 -> #DIV/0! | H40: =H6/$C6*100 -> #DIV/0! | I40: =I6/$C6*100 -> #DIV/0! | J40: =J6/$C6*100 -> #DIV/0! | K40: =K6/$C6*100 -> #DIV/0! | L40: =L6/$C6*100 -> #DIV/0! | N40: 総数 | P40: =SUM(Q40:Y40) -> #DIV/0! | Q40: =Q6/$P6*100 -> #DIV/0! | R40: =R6/$P6*100 -> #DIV/0! | S40: =S6/$P6*100 -> #DIV/0! | T40: =T6/$P6*100 -> #DIV/0! | U40: =U6/$P6*100 -> #DIV/0! | V40: =V6/$P6*100 -> #DIV/0! | W40: =W6/$P6*100 -> #DIV/0! | X40: =X6/$P6*100 -> #DIV/0! | Y40: =Y6/$P6*100 -> #DIV/0! | AA40: 総計 | AC40: 204 | AD40: 2071 | AE40: 5580 | AF40: 5040 | AG40: 1833 | AH40: 207 | AI40: 4 | AJ40: 14939 | AK40: 42 | AL40: 73 | AM40: 95 | AN40: 89 | AO40: 60 | AP40: 11 | AQ40: 3 | AR40: 373 | AS40: 15312
A41: 中央 | C41: =SUM(D41:L41) -> #DIV/0! | D41: =D7/$C7*100 -> #DIV/0! | E41: =E7/$C7*100 -> #DIV/0! | F41: =F7/$C7*100 -> #DIV/0! | G41: =G7/$C7*100 -> #DIV/0! | H41: =H7/$C7*100 -> #DIV/0! | I41: =I7/$C7*100 -> #DIV/0! | J41: =J7/$C7*100 -> #DIV/0! | K41: =K7/$C7*100 -> #DIV/0! | L41: =L7/$C7*100 -> #DIV/0! | N41: 中央 | P41: =SUM(Q41:Y41) -> #DIV/0! | Q41: =Q7/$P7*100 -> #DIV/0! | R41: =R7/$P7*100 -> #DIV/0! | S41: =S7/$P7*100 -> #DIV/0! | T41: =T7/$P7*100 -> #DIV/0! | U41: =U7/$P7*100 -> #DIV/0! | V41: =V7/$P7*100 -> #DIV/0! | W41: =W7/$P7*100 -> #DIV/0! | X41: =X7/$P7*100 -> #DIV/0! | Y41: =Y7/$P7*100 -> #DIV/0!
A42: 北 | C42: =SUM(D42:L42) -> #DIV/0! | D42: =D8/$C8*100 -> #DIV/0! | E42: =E8/$C8*100 -> #DIV/0! | F42: =F8/$C8*100 -> #DIV/0! | G42: =G8/$C8*100 -> #DIV/0! | H42: =H8/$C8*100 -> #DIV/0! | I42: =I8/$C8*100 -> #DIV/0! | J42: =J8/$C8*100 -> #DIV/0! | K42: =K8/$C8*100 -> #DIV/0! | L42: =L8/$C8*100 -> #DIV/0! | N42: 北 | P42: =SUM(Q42:Y42) -> #DIV/0! | Q42: =Q8/$P8*100 -> #DIV/0! | R42: =R8/$P8*100 -> #DIV/0! | S42: =S8/$P8*100 -> #DIV/0! | T42: =T8/$P8*100 -> #DIV/0! | U42: =U8/$P8*100 -> #DIV/0! | V42: =V8/$P8*100 -> #DIV/0! | W42: =W8/$P8*100 -> #DIV/0! | X42: =X8/$P8*100 -> #DIV/0! | Y42: =Y8/$P8*100 -> #DIV/0!
A43: 東 | C43: =SUM(D43:L43) -> #DIV/0! | D43: =D9/$C9*100 -> #DIV/0! | E43: =E9/$C9*100 -> #DIV/0! | F43: =F9/$C9*100 -> #DIV/0! | G43: =G9/$C9*100 -> #DIV/0! | H43: =H9/$C9*100 -> #DIV/0! | I43: =I9/$C9*100 -> #DIV/0! | J43: =J9/$C9*100 -> #DIV/0! | K43: =K9/$C9*100 -> #DIV/0! | L43: =L9/$C9*100 -> #DIV/0! | N43: 東 | P43: =SUM(Q43:Y43) -> #DIV/0! | Q43: =Q9/$P9*100 -> #DIV/0! | R43: =R9/$P9*100 -> #DIV/0! | S43: =S9/$P9*100 -> #DIV/0! | T43: =T9/$P9*100 -> #DIV/0! | U43: =U9/$P9*100 -> #DIV/0! | V43: =V9/$P9*100 -> #DIV/0! | W43: =W9/$P9*100 -> #DIV/0! | X43: =X9/$P9*100 -> #DIV/0! | Y43: =Y9/$P9*100 -> #DIV/0!
A44: 白石 | C44: =SUM(D44:L44) -> #DIV/0! | D44: =D10/$C10*100 -> #DIV/0! | E44: =E10/$C10*100 -> #DIV/0! | F44: =F10/$C10*100 -> #DIV/0! | G44: =G10/$C10*100 -> #DIV/0! | H44: =H10/$C10*100 -> #DIV/0! | I44: =I10/$C10*100 -> #DIV/0! | J44: =J10/$C10*100 -> #DIV/0! | K44: =K10/$C10*100 -> #DIV/0! | L44: =L10/$C10*100 -> #DIV/0! | N44: 白石 | P44: =SUM(Q44:Y44) -> #DIV/0! | Q44: =Q10/$P10*100 -> #DIV/0! | R44: =R10/$P10*100 -> #DIV/0! | S44: =S10/$P10*100 -> #DIV/0! | T44: =T10/$P10*100 -> #DIV/0! | U44: =U10/$P10*100 -> #DIV/0! | V44: =V10/$P10*100 -> #DIV/0! | W44: =W10/$P10*100 -> #DIV/0! | X44: =X10/$P10*100 -> #DIV/0! | Y44: =Y10/$P10*100 -> #DIV/0!
A45: 厚別 | C45: =SUM(D45:L45) -> #DIV/0! | D45: =D11/$C11*100 -> #DIV/0! | E45: =E11/$C11*100 -> #DIV/0! | F45: =F11/$C11*100 -> #DIV/0! | G45: =G11/$C11*100 -> #DIV/0! | H45: =H11/$C11*100 -> #DIV/0! | I45: =I11/$C11*100 -> #DIV/0! | J45: =J11/$C11*100 -> #DIV/0! | K45: =K11/$C11*100 -> #DIV/0! | L45: =L11/$C11*100 -> #DIV/0! | N45: 厚別 | P45: =SUM(Q45:Y45) -> #DIV/0! | Q45: =Q11/$P11*100 -> #DIV/0! | R45: =R11/$P11*100 -> #DIV/0! | S45: =S11/$P11*100 -> #DIV/0! | T45: =T11/$P11*100 -> #DIV/0! | U45: =U11/$P11*100 -> #DIV/0! | V45: =V11/$P11*100 -> #DIV/0! | W45: =W11/$P11*100 -> #DIV/0! | X45: =X11/$P11*100 -> #DIV/0! | Y45: =Y11/$P11*100 -> #DIV/0!
A46: 豊平 | C46: =SUM(D46:L46) -> #DIV/0! | D46: =D12/$C12*100 -> #DIV/0! | E46: =E12/$C12*100 -> #DIV/0! | F46: =F12/$C12*100 -> #DIV/0! | G46: =G12/$C12*100 -> #DIV/0! | H46: =H12/$C12*100 -> #DIV/0! | I46: =I12/$C12*100 -> #DIV/0! | J46: =J12/$C12*100 -> #DIV/0! | K46: =K12/$C12*100 -> #DIV/0! | L46: =L12/$C12*100 -> #DIV/0! | N46: 豊平 | P46: =SUM(Q46:Y46) -> #DIV/0! | Q46: =Q12/$P12*100 -> #DIV/0! | R46: =R12/$P12*100 -> #DIV/0! | S46: =S12/$P12*100 -> #DIV/0! | T46: =T12/$P12*100 -> #DIV/0! | U46: =U12/$P12*100 -> #DIV/0! | V46: =V12/$P12*100 -> #DIV/0! | W46: =W12/$P12*100 -> #DIV/0! | X46: =X12/$P12*100 -> #DIV/0! | Y46: =Y12/$P12*100 -> #DIV/0!
A47: 清田 | C47: =SUM(D47:L47) -> #DIV/0! | D47: =D13/$C13*100 -> #DIV/0! | E47: =E13/$C13*100 -> #DIV/0! | F47: =F13/$C13*100 -> #DIV/0! | G47: =G13/$C13*100 -> #DIV/0! | H47: =H13/$C13*100 -> #DIV/0! | I47: =I13/$C13*100 -> #DIV/0! | J47: =J13/$C13*100 -> #DIV/0! | K47: =K13/$C13*100 -> #DIV/0! | L47: =L13/$C13*100 -> #DIV/0! | N47: 清田 | P47: =SUM(Q47:Y47) -> #DIV/0! | Q47: =Q13/$P13*100 -> #DIV/0! | R47: =R13/$P13*100 -> #DIV/0! | S47: =S13/$P13*100 -> #DIV/0! | T47: =T13/$P13*100 -> #DIV/0! | U47: =U13/$P13*100 -> #DIV/0! | V47: =V13/$P13*100 -> #DIV/0! | W47: =W13/$P13*100 -> #DIV/0! | X47: =X13/$P13*100 -> #DIV/0! | Y47: =Y13/$P13*100 -> #DIV/0!
A48: 南 | C48: =SUM(D48:L48) -> #DIV/0! | D48: =D14/$C14*100 -> #DIV/0! | E48: =E14/$C14*100 -> #DIV/0! | F48: =F14/$C14*100 -> #DIV/0! | G48: =G14/$C14*100 -> #DIV/0! | H48: =H14/$C14*100 -> #DIV/0! | I48: =I14/$C14*100 -> #DIV/0! | J48: =J14/$C14*100 -> #DIV/0! | K48: =K14/$C14*100 -> #DIV/0! | L48: =L14/$C14*100 -> #DIV/0! | N48: 南 | P48: =SUM(Q48:Y48) -> #DIV/0! | Q48: =Q14/$P14*100 -> #DIV/0! | R48: =R14/$P14*100 -> #DIV/0! | S48: =S14/$P14*100 -> #DIV/0! | T48: =T14/$P14*100 -> #DIV/0! | U48: =U14/$P14*100 -> #DIV/0! | V48: =V14/$P14*100 -> #DIV/0! | W48: =W14/$P14*100 -> #DIV/0! | X48: =X14/$P14*100 -> #DIV/0! | Y48: =Y14/$P14*100 -> #DIV/0!
A49: 西 | C49: =SUM(D49:L49) -> #DIV/0! | D49: =D15/$C15*100 -> #DIV/0! | E49: =E15/$C15*100 -> #DIV/0! | F49: =F15/$C15*100 -> #DIV/0! | G49: =G15/$C15*100 -> #DIV/0! | H49: =H15/$C15*100 -> #DIV/0! | I49: =I15/$C15*100 -> #DIV/0! | J49: =J15/$C15*100 -> #DIV/0! | K49: =K15/$C15*100 -> #DIV/0! | L49: =L15/$C15*100 -> #DIV/0! | N49: 西 | P49: =SUM(Q49:Y49) -> #DIV/0! | Q49: =Q15/$P15*100 -> #DIV/0! | R49: =R15/$P15*100 -> #DIV/0! | S49: =S15/$P15*100 -> #DIV/0! | T49: =T15/$P15*100 -> #DIV/0! | U49: =U15/$P15*100 -> #DIV/0! | V49: =V15/$P15*100 -> #DIV/0! | W49: =W15/$P15*100 -> #DIV/0! | X49: =X15/$P15*100 -> #DIV/0! | Y49: =Y15/$P15*100 -> #DIV/0!
A50: 手稲 | C50: =SUM(D50:L50) -> #DIV/0! | D50: =D16/$C16*100 -> #DIV/0! | E50: =E16/$C16*100 -> #DIV/0! | F50: =F16/$C16*100 -> #DIV/0! | G50: =G16/$C16*100 -> #DIV/0! | H50: =H16/$C16*100 -> #DIV/0! | I50: =I16/$C16*100 -> #DIV/0! | J50: =J16/$C16*100 -> #DIV/0! | K50: =K16/$C16*100 -> #DIV/0! | L50: =L16/$C16*100 -> #DIV/0! | N50: 手稲 | P50: =SUM(Q50:Y50) -> #DIV/0! | Q50: =Q16/$P16*100 -> #DIV/0! | R50: =R16/$P16*100 -> #DIV/0! | S50: =S16/$P16*100 -> #DIV/0! | T50: =T16/$P16*100 -> #DIV/0! | U50: =U16/$P16*100 -> #DIV/0! | V50: =V16/$P16*100 -> #DIV/0! | W50: =W16/$P16*100 -> #DIV/0! | X50: =X16/$P16*100 -> #DIV/0! | Y50: =Y16/$P16*100 -> #DIV/0!

Sheet 区別合計特殊出生率
A1: 区別合計特殊出生率
A3: 区 | B3: 合計特殊 出生率 | E3: =[1]人口!B9 -> (国調年)日本人推計人口 (国調年以外)国調ベース人口 | F3: =[1]人口!C9 -> １月 | G3: =[1]人口!D9 -> ２月 | H3: =[1]人口!E9 -> ３月 | I3: =[1]人口!F9 -> ４月 | J3: =[1]人口!G9 -> ５月 | K3: =[1]人口!H9 -> ６月 | L3: =[1]人口!I9 -> ７月 | ... Q3: =[1]人口!N9 -> １２月 | S3: 区 | T3: 総数 | U3: 15～19 | V3: 20～24 | W3: 25～29 | X3: 30～34 | Y3: 35～39 | Z3: 40～44 | AA3: 45～49
A4: 総数 | B4: =T4 -> 1.1374154 | E4: =[1]人口!B10 -> 1965940 | F4: =[1]人口!C10 -> 1963626 | G4: =[1]人口!D10 -> 1962987 | H4: =[1]人口!E10 -> 1962570 | I4: =[1]人口!F10 -> 1961225 | J4: =[1]人口!G10 -> 1965343 | K4: =[1]人口!H10 -> 1965889 | L4: =[1]人口!I10 -> 1965784 | ... Q4: =[1]人口!N10 -> 1966717 | S4: 総数 | T4: =SUM(U4:AA4) -> 1.1374154 | U4: =U17/U30*5 -> 0.012616892 | V4: =V17/V30*5 -> 0.11473504 | W4: =W17/W30*5 -> 0.30896042 | X4: =X17/X30*5 -> 0.40426323 | Y4: =Y17/Y30*5 -> 0.24685508 | Z4: =Z17/Z30*5 -> 0.048726774 | AA4: =AA17/AA30*5 -> 0.0012580041
A5: 中央 | B5: =T5 -> 1.0343978 | E5: =[1]人口!B11 -> 242916 | F5: =[1]人口!C11 -> 241575 | G5: =[1]人口!D11 -> 241561 | H5: =[1]人口!E11 -> 241542 | I5: =[1]人口!F11 -> 241468 | J5: =[1]人口!G11 -> 242331 | K5: =[1]人口!H11 -> 242596 | L5: =[1]人口!I11 -> 242683 | ... Q5: =[1]人口!N11 -> 243091 | S5: 中央 | T5: =SUM(U5:AA5) -> 1.0343978 | U5: =U18/U31*5 -> 0.010255242 | V5: =V18/V31*5 -> 0.090374408 | W5: =W18/W31*5 -> 0.23703429 | X5: =X18/X31*5 -> 0.3633034 | Y5: =Y18/Y31*5 -> 0.2605918 | Z5: =Z18/Z31*5 -> 0.071928072 | AA5: =AA18/AA31*5 -> 0.00091058095
A6: 北 | B6: =T6 -> 1.1384407 | E6: =[1]人口!B12 -> 288114 | F6: =[1]人口!C12 -> 287867 | G6: =[1]人口!D12 -> 287919 | H6: =[1]人口!E12 -> 287868 | I6: =[1]人口!F12 -> 287097 | J6: =[1]人口!G12 -> 287651 | K6: =[1]人口!H12 -> 287724 | L6: =[1]人口!I12 -> 287717 | ... Q6: =[1]人口!N12 -> 288345 | S6: 北 | T6: =SUM(U6:AA6) -> 1.1384407 | U6: =U19/U32*5 -> 0.01015625 | V6: =V19/V32*5 -> 0.1071573 | W6: =W19/W32*5 -> 0.32351692 | X6: =X19/X32*5 -> 0.39782449 | Y6: =Y19/Y32*5 -> 0.25147929 | Z6: =Z19/Z32*5 -> 0.04742119 | AA6: =AA19/AA32*5 -> 0.00088526912
A7: 東 | B7: =T7 -> 1.2184033 | E7: =[1]人口!B13 -> 264183 | F7: =[1]人口!C13 -> 264382 | G7: =[1]人口!D13 -> 264221 | H7: =[1]人口!E13 -> 263958 | I7: =[1]人口!F13 -> 263845 | J7: =[1]人口!G13 -> 264250 | K7: =[1]人口!H13 -> 264337 | L7: =[1]人口!I13 -> 264281 | ... Q7: =[1]人口!N13 -> 264116 | S7: 東 | T7: =SUM(U7:AA7) -> 1.2184033 | U7: =U20/U33*5 -> 0.024857301 | V7: =V20/V33*5 -> 0.13139906 | W7: =W20/W33*5 -> 0.343441 | X7: =X20/X33*5 -> 0.43318472 | Y7: =Y20/Y33*5 -> 0.23504505 | Z7: =Z20/Z33*5 -> 0.048586143 | AA7: =AA20/AA33*5 -> 0.0018900019
A8: 白石 | B8: =T8 -> 1.2376665 | E8: =[1]人口!B14 -> 211496 | F8: =[1]人口!C14 -> 210754 | G8: =[1]人口!D14 -> 210709 | H8: =[1]人口!E14 -> 210721 | I8: =[1]人口!F14 -> 210690 | J8: =[1]人口!G14 -> 211051 | K8: =[1]人口!H14 -> 211180 | L8: =[1]人口!I14 -> 211220 | ... Q8: =[1]人口!N14 -> 211724 | S8: 白石 | T8: =SUM(U8:AA8) -> 1.2376665 | U8: =U21/U34*5 -> 0.012521913 | V8: =V21/V34*5 -> 0.1666063 | W8: =W21/W34*5 -> 0.33541698 | X8: =X21/X34*5 -> 0.42535675 | Y8: =Y21/Y34*5 -> 0.25309711 | Z8: =Z21/Z34*5 -> 0.044109112 | AA8: =AA21/AA34*5 -> 0.00055834729
A9: 厚別 | B9: =T9 -> 1.0463893 | E9: =[1]人口!B15 -> 126230 | F9: =[1]人口!C15 -> 126355 | G9: =[1]人口!D15 -> 126268 | H9: =[1]人口!E15 -> 126294 | I9: =[1]人口!F15 -> 126225 | J9: =[1]人口!G15 -> 126393 | K9: =[1]人口!H15 -> 126389 | L9: =[1]人口!I15 -> 126306 | ... Q9: =[1]人口!N15 -> 126160 | S9: 厚別 | T9: =SUM(U9:AA9) -> 1.0463893 | U9: =U22/U35*5 -> 0.01035554 | V9: =V22/V35*5 -> 0.074527989 | W9: =W22/W35*5 -> 0.26752768 | X9: =X22/X35*5 -> 0.39825863 | Y9: =Y22/Y35*5 -> 0.24801587 | Z9: =Z22/Z35*5 -> 0.047703572 | AA9: =AA22/AA35*5 -> 0
A10: 豊平 | B10: =T10 -> 1.1050631 | E10: =[1]人口!B16 -> 222042 | F10: =[1]人口!C16 -> 221277 | G10: =[1]人口!D16 -> 221270 | H10: =[1]人口!E16 -> 221107 | I10: =[1]人口!F16 -> 221381 | J10: =[1]人口!G16 -> 221868 | K10: =[1]人口!H16 -> 221917 | L10: =[1]人口!I16 -> 221945 | ... Q10: =[1]人口!N16 -> 222270 | S10: 豊平 | T10: =SUM(U10:AA10) -> 1.1050631 | U10: =U23/U36*5 -> 0.021226415 | V10: =V23/V36*5 -> 0.11916502 | W10: =W23/W36*5 -> 0.30377559 | X10: =X23/X36*5 -> 0.39868371 | Y10: =Y23/Y36*5 -> 0.21706956 | Z10: =Z23/Z36*5 -> 0.044597494 | AA10: =AA23/AA36*5 -> 0.00054525627
A11: 清田 | B11: =T11 -> 1.1919983 | E11: =[1]人口!B17 -> 115272 | F11: =[1]人口!C17 -> 115672 | G11: =[1]人口!D17 -> 115655 | H11: =[1]人口!E17 -> 115666 | I11: =[1]人口!F17 -> 115471 | J11: =[1]人口!G17 -> 115415 | K11: =[1]人口!H17 -> 115344 | L11: =[1]人口!I17 -> 115338 | ... Q11: =[1]人口!N17 -> 115185 | S11: 清田 | T11: =SUM(U11:AA11) -> 1.1919983 | U11: =U24/U37*5 -> 0.0052650053 | V11: =V24/V37*5 -> 0.11580658 | W11: =W24/W37*5 -> 0.33415233 | X11: =X24/X37*5 -> 0.40917782 | Y11: =Y24/Y37*5 -> 0.27826087 | Z11: =Z24/Z37*5 -> 0.045958049 | AA11: =AA24/AA37*5 -> 0.0033776177
A12: 南 | B12: =T12 -> 1.0259412 | E12: =[1]人口!B18 -> 137851 | F12: =[1]人口!C18 -> 138865 | G12: =[1]人口!D18 -> 138522 | H12: =[1]人口!E18 -> 138417 | I12: =[1]人口!F18 -> 138078 | J12: =[1]人口!G18 -> 138868 | K12: =[1]人口!H18 -> 138775 | L12: =[1]人口!I18 -> 138763 | ... Q12: =[1]人口!N18 -> 137766 | S12: 南 | T12: =SUM(U12:AA12) -> 1.0259412 | U12: =U25/U38*5 -> 0.0087997184 | V12: =V25/V38*5 -> 0.082408342 | W12: =W25/W38*5 -> 0.30279801 | X12: =X25/X38*5 -> 0.37696503 | Y12: =Y25/Y38*5 -> 0.21210484 | Z12: =Z25/Z38*5 -> 0.040779338 | AA12: =AA25/AA38*5 -> 0.0020859408
A13: 西 | B13: =T13 -> 1.1927759 | E13: =[1]人口!B19 -> 215942 | F13: =[1]人口!C19 -> 214956 | G13: =[1]人口!D19 -> 214993 | H13: =[1]人口!E19 -> 215070 | I13: =[1]人口!F19 -> 215208 | J13: =[1]人口!G19 -> 215645 | K13: =[1]人口!H19 -> 215744 | L13: =[1]人口!I19 -> 215732 | ... Q13: =[1]人口!N19 -> 216116 | S13: 西 | T13: =SUM(U13:AA13) -> 1.1927759 | U13: =U26/U39*5 -> 0.0070455613 | V13: =V26/V39*5 -> 0.1097115 | W13: =W26/W39*5 -> 0.33552866 | X13: =X26/X39*5 -> 0.42023882 | Y13: =Y26/Y39*5 -> 0.27577457 | Z13: =Z26/Z39*5 -> 0.042785137 | AA13: =AA26/AA39*5 -> 0.0016916657
A14: 手稲 | B14: =T14 -> 1.1396338 | E14: =[1]人口!B20 -> 141894 | F14: =[1]人口!C20 -> 141923 | G14: =[1]人口!D20 -> 141869 | H14: =[1]人口!E20 -> 141927 | I14: =[1]人口!F20 -> 141762 | J14: =[1]人口!G20 -> 141871 | K14: =[1]人口!H20 -> 141883 | L14: =[1]人口!I20 -> 141799 | ... Q14: =[1]人口!N20 -> 141944 | S14: 手稲 | T14: =SUM(U14:AA14) -> 1.1396338 | U14: =U27/U40*5 -> 0.008 | V14: =V27/V40*5 -> 0.12858073 | W14: =W27/W40*5 -> 0.3126136 | X14: =X27/X40*5 -> 0.41416074 | Y14: =Y27/Y40*5 -> 0.23277042 | Z14: =Z27/Z40*5 -> 0.041572184 | AA14: =AA27/AA40*5 -> 0.0019361084
E15: =[1]人口!B21 -> 365 | F15: =[1]人口!C21 -> 31 | G15: =[1]人口!D21 -> 28 | H15: =[1]人口!E21 -> 31 | I15: =[1]人口!F21 -> 30 | J15: =[1]人口!G21 -> 31 | K15: =[1]人口!H21 -> 30 | L15: =[1]人口!I21 -> 31 | ... Q15: =[1]人口!N21 -> 31
S16: ='7 母の年齢階級・性別，区別出生数・百分率'!A3 -> 区・性 | T16: ='7 母の年齢階級・性別，区別出生数・百分率'!C3 -> 総数 | U16: ='7 母の年齢階級・性別，区別出生数・百分率'!E3 -> 15～19 | V16: ='7 母の年齢階級・性別，区別出生数・百分率'!F3 -> 20～24 | W16: ='7 母の年齢階級・性別，区別出生数・百分率'!G3 -> 25～29 | X16: ='7 母の年齢階級・性別，区別出生数・百分率'!H3 -> 30～34 | Y16: ='7 母の年齢階級・性別，区別出生数・百分率'!I3 -> 35～39 | Z16: ='7 母の年齢階級・性別，区別出生数・百分率'!J3 -> 40～44 | AA16: ='7 母の年齢階級・性別，区別出生数・百分率'!K3 -> 45～49
