Workbook

Sheet 1　年次別，出生数・率・性比・合計特殊出生率
A1: 第2章 出 生
A2: 1 年次別にみた出生数・出生率(人口千対)・出生性比及び合計特殊出生率
A4: 年次 | B4: 出生数 | E4: 出生率 | F4: 出生性比 | G4: 合計特殊出生率 2)
B5: 総 数 | C5: 男 | D5: 女
A6: 1950 昭和25年 | B6: 8178 | C6: 4205 | D6: 3973 | E6: 26.057034 | F6: 105.83942 | G6: … | I6: 313850
A7: 55 30 | B7: 7551 | C7: 3928 | D7: 3623 | E7: 17.699592 | F7: 108.41844 | G7: … | I7: 426620
A8: 60 35 | B8: 9392 | C8: 4911 | D8: 4481 | E8: 17.929173 | F8: 109.59607 | G8: 1.7534696 | I8: 523839
A9: 65 40 | B9: 16370 | C9: 8442 | D9: 7928 | E9: 20.593578 | F9: 106.48335 | G9: 1.9272504 | I9: 794908
A10: 70 45 | B10: 20411 | C10: 10502 | D10: 9909 | E10: 20.20645 | F10: 105.98446 | G10: 1.8440916 | I10: 1010123
A11: 72 47 4) | B11: =SUM(C11:D11) -> 22017 | C11: 11356 | D11: 10661 | E11: =B11/I11*1000 -> 20.031808 | F11: =C11/D11*100 -> 106.51909 | G11: … | I11: 1099102
A12: 73 48 | B12: =SUM(C12:D12) -> 23759 | C12: 12199 | D12: 11560 | E12: =B12/I12*1000 -> 20.617385 | F12: =C12/D12*100 -> 105.52768 | G12: … | I12: 1152377
A13: 74 49 | B13: =SUM(C13:D13) -> 24525 | C13: 12609 | D13: 11916 | E13: =B13/I13*1000 -> 20.412019 | F13: =C13/D13*100 -> 105.81571 | G13: 1.8876315 | I13: 1201498
A14: 75 50 | B14: 23404 | C14: 12101 | D14: 11303 | E14: 18.864868 | F14: 107.06007 | G14: 1.734738 | I14: 1240613
A15: 76 51 | B15: 22910 | C15: 11891 | D15: 11019 | E15: 17.960908 | F15: 107.9136 | G15: 1.6563182 | I15: 1275548
A16: 77 52 | B16: 22286 | C16: 11372 | D16: 10914 | E16: 17.068344 | F16: 104.19644 | G16: 1.6100991 | I16: 1305692
A17: 78 53 | B17: 22251 | C17: 11423 | D17: 10828 | E17: 16.683499 | F17: 105.49501 | G17: 1.6277341 | I17: 1333713
A18: 79 54 | B18: 21577 | C18: 11050 | D18: 10527 | E18: 15.782767 | F18: 104.96818 | G18: 1.5896141 | I18: 1367124
A19: 80 55 | B19: 20931 | C19: 10870 | D19: 10061 | E19: 14.931975 | F19: 108.04095 | G19: 1.5455651 | I19: 1401757
A20: 81 56 | B20: 19944 | C20: 10181 | D20: 9763 | E20: 13.923543 | F20: 104.28147 | G20: 1.4789919 | I20: 1432394
A21: 82 57 | B21: 20727 | C21: 10584 | D21: 10143 | E21: 14.166728 | F21: 104.34783 | G21: 1.5538155 | I21: 1463076
A22: 83 58 | B22: 20608 | C22: 10566 | D22: 10042 | E22: 13.799689 | F22: 105.21808 | G22: 1.5635537 | I22: 1493367
A23: 84 59 | B23: 20274 | C23: 10384 | D23: 9890 | E23: 13.340229 | F23: 104.99494 | G23: 1.5533871 | I23: 1519764
A24: 85 60 | B24: 19314 | C24: 9823 | D24: 9491 | E24: 12.543122 | F24: 103.49805 | G24: 1.4890657 | I24: 1539808
A25: 86 61 | B25: 19130 | C25: 9986 | D25: 9144 | E25: 12.209046 | F25: 109.20822 | G25: 1.4855788 | I25: 1566871
... A44: 05 17 | B44: 14184 | C44: 7208 | D44: 6976 | E44: 7.5412191 | F44: 103.32569 | G44: 0.98075378 | I44: 1880863
A45: 06 18 | B45: 14730 | C45: 7596 | D45: 7134 | E45: =B45/I45*1000 -> 7.7958782 | F45: 106.47603 | G45: 1.0254622 | I45: 1889460
A46: 07 19 | B46: 14498 | C46: 7345 | D46: 7153 | E46: =B46/I46*1000 -> 7.6470238 | F46: 102.68419 | G46: 1.0241981 | I46: 1895901
A47: 08 20 | B47: 14845 | C47: 7539 | D47: 7306 | E47: =B47/I47*1000 -> 7.8098079 | F47: 103.2 | G47: 1.07 | I47: 1900815
A48: 09 21 | B48: 14506 | C48: 7401 | D48: 7105 | E48: =B48/I48*1000 -> 7.605101 | F48: 104.16608 | G48: 1.06 | I48: 1907404
A49: 10 22 | B49: 14739 | C49: 7561 | D49: 7178 | E49: 7.730215 | F49: 105.33575 | G49: 1.09 | I49: 1906674
A50: 11 23 | B50: 14491 | C50: 7378 | D50: 7113 | E50: 7.5397971 | F50: 103.72557 | G50: 1.0922999 | I50: 1921935
A51: 12 24 | B51: 14487 | C51: 7415 | D51: 7072 | E51: 7.5109811 | F51: 104.85011 | G51: 1.1074471 | I51: 1928776
A52: 13 25 | B52: 14591 | C52: 7505 | D52: 7086 | E52: 7.5359379 | F52: 105.91307 | G52: 1.1350487 | I52: 1936189
A53: 14 26 | B53: 14568 | C53: 7492 | D53: 7076 | E53: 7.4990425 | F53: 105.87903 | G53: 1.1569371 | I53: 1942648
A54: 15 27 | B54: 14589 | C54: 7543 | D54: 7046 | E54: 7.506456 | F54: 107.05365 | G54: 3) 1.18 | I54: 1943527
A55: 16 28 | B55: 14021 | C55: 7144 | D55: 6877 | E55: 7.1593976 | F55: 103.88251 | G55: 1.1574071 | I55: 1958405
A56: 17 29 | B56: 13821 | C56: 7204 | D56: 6617 | E56: 7.0410481 | F56: 108.87109 | G56: 1.1608072 | I56: 1962918
A57: 18 30 | B57: =SUM(C57:D57) -> 13248 | C57: ='3 月・性別，区別出生数・出生率'!$C$6 -> 6744 | D57: ='3 月・性別，区別出生数・出生率'!$C$7 -> 6504 | E57: =B57/I57*1000 -> 6.7387611 | F57: =C57/D57*100 -> 103.69004 | G57: ='11 出生順位別，母の年齢別出生率'!$C$4 -> 1.1374154 | I57: =[1]人口!$B$42 -> 1965940
A58: 1) 本市の集計による。
A59: 2) 昭和49年以降は住民基本台帳の人口により算出した率である。
...

Sheet 2　区別，年次別出生数・出生率
A1: 2 区別にみた年次別出生数及び出生率（人口千対）
A3: 年次 | B3: 総数 | C3: 中央区 | D3: 北区 | E3: 東区 | F3: 白石区 | G3: 厚別区 | H3: 豊平区 | I3: 清田区 | J3: 南区 | K3: 西区 | L3: 手稲区
B4: 出生数 | N4: =[1]年次別人口!C3 -> 総数 | O4: =[1]年次別人口!D3 -> 中央区 | P4: =[1]年次別人口!E3 -> 北区 | Q4: =[1]年次別人口!F3 -> 東区 | R4: =[1]年次別人口!G3 -> 白石区 | S4: =[1]年次別人口!H3 -> 厚別区 | T4: =[1]年次別人口!I3 -> 豊平区 | U4: =[1]年次別人口!J3 -> 清田区 | ... X4: =[1]年次別人口!M3 -> 手稲区
A5: 85 60 | B5: =SUM(C5:L5) -> 19314 | C5: 1919 | D5: 2426 | E5: 3145 | F5: 3665 | G5: … | H5: 3127 | I5: … | J5: 1708 | K5: 3324 | L5: … | N5: =[1]年次別人口!C4 -> 1539808 | O5: =[1]年次別人口!D4 -> 180845 | P5: =[1]年次別人口!E4 -> 212508 | Q5: =[1]年次別人口!F4 -> 224539 | R5: =[1]年次別人口!G4 -> 263938 | S5: =[1]年次別人口!H4 -> 0 | T5: =[1]年次別人口!I4 -> 249956 | U5: =[1]年次別人口!J4 -> 0 | ... X5: =[1]年次別人口!M4 -> 0
A6: 1986 昭和61年 | B6: =SUM(C6:L6) -> 19130 | C6: 1932 | D6: 2350 | E6: 3024 | F6: 3855 | G6: … | H6: 3137 | I6: … | J6: 1658 | K6: 3174 | L6: … | N6: =[1]年次別人口!C5 -> 1566871 | O6: =[1]年次別人口!D5 -> 182427 | P6: =[1]年次別人口!E5 -> 214728 | Q6: =[1]年次別人口!F5 -> 224730 | R6: =[1]年次別人口!G5 -> 272037 | S6: =[1]年次別人口!H5 -> 0 | T6: =[1]年次別人口!I5 -> 255105 | U6: =[1]年次別人口!J5 -> 0 | ... X6: =[1]年次別人口!M5 -> 0
A7: 1987 昭和62年 | B7: =SUM(C7:L7) -> 18533 | C7: 1851 | D7: 2207 | E7: 2824 | F7: 3715 | G7: … | H7: 3092 | I7: … | J7: 1555 | K7: 3289 | L7: … | N7: =[1]年次別人口!C6 -> 1593205 | O7: =[1]年次別人口!D6 -> 182818 | P7: =[1]年次別人口!E6 -> 217384 | Q7: =[1]年次別人口!F6 -> 225693 | R7: =[1]年次別人口!G6 -> 280378 | S7: =[1]年次別人口!H6 -> 0 | T7: =[1]年次別人口!I6 -> 260488 | U7: =[1]年次別人口!J6 -> 0 | ... X7: =[1]年次別人口!M6 -> 0
A8: 1988 昭和63年 | B8: 18216 | C8: 1785 | D8: 2148 | E8: 2770 | F8: 3741 | G8: … | H8: 3034 | I8: … | J8: 1615 | K8: 3123 | L8: … | N8: 1618861 | O8: 182735 | P8: 220308 | Q8: 227252 | R8: 287265 | S8: 0 | T8: 266739 | U8: 0 | V8: 145661 | W8: 288901 | X8: 0
A9: 89 平成元年 | B9: 17479 | C9: 1583 | D9: 1999 | E9: 2667 | F9: 3699 | G9: … | H9: 2929 | I9: … | J9: 1516 | K9: 3086 | L9: … | N9: 1645095 | O9: 181535 | P9: 224721 | Q9: 230623 | R9: 294751 | S9: 0 | T9: 272011 | U9: 0 | V9: 146535 | W9: 294919 | X9: 0
A10: 90 2 | B10: 17425 | C10: 1593 | D10: 1993 | E10: 2703 | F10: 2288 | G10: 1392 | H10: 2945 | I10: … | J10: 1521 | K10: 1917 | L10: 1073 | N10: 1667984 | O10: 179184 | P10: 230918 | Q10: 232999 | R10: 188043 | S10: 112623 | T10: 277801 | U10: 0 | V10: 148393 | W10: 190807 | X10: 110974
A11: 91 3 | B11: 17458 | C11: 1496 | D11: 2066 | E11: 2850 | F11: 2341 | G11: 1314 | H11: 2819 | I11: … | J11: 1461 | K11: 1992 | L11: 1119 | N11: 1694988 | O11: 177997 | P11: 234595 | Q11: 236454 | R11: 190543 | S11: 115650 | T11: 281463 | U11: 0 | V11: 150378 | W11: 192601 | X11: 115307
A12: 92 4 | B12: 17325 | C12: 1455 | D12: 2102 | E12: 2694 | F12: 2359 | G12: 1330 | H12: 2879 | I12: … | J12: 1380 | K12: 1949 | L12: 1177 | N12: 1714488 | O12: 176981 | P12: 239907 | Q12: 237749 | R12: 191928 | S12: 117351 | T12: 285597 | U12: 0 | V12: 152014 | W12: 193258 | X12: 119703
A13: 1993 平成5年 | B13: 16371 | C13: 1309 | D13: 2004 | E13: 2610 | F13: 2079 | G13: 1256 | H13: 2747 | I13: … | J13: 1383 | K13: 1826 | L13: 1157 | N13: 1728466 | O13: 174994 | P13: 243771 | Q13: 238168 | R13: 191918 | S13: 119386 | T13: 288941 | U13: 0 | V13: 153020 | W13: 194009 | X13: 124259
A14: 94 6 | B14: 17057 | C14: 1404 | D14: 2196 | E14: 2624 | F14: 2183 | G14: 1333 | H14: 2832 | I14: … | J14: 1399 | K14: 1892 | L14: 1194 | N14: 1740534 | O14: 173594 | P14: 247942 | Q14: 238547 | R14: 191099 | S14: 121427 | T14: 292470 | U14: 0 | V14: 154474 | W14: 193597 | X14: 127384
A15: 95 7 | B15: 16227 | C15: 1324 | D15: 2048 | E15: 2568 | F15: 2042 | G15: 1185 | H15: 2769 | I15: … | J15: 1379 | K15: 1826 | L15: 1086 | N15: 1752009 | O15: 173358 | P15: 251419 | Q15: 241319 | R15: 192102 | S15: 122738 | T15: 296647 | U15: 0 | V15: 155650 | W15: 194308 | X15: 129484
A16: 96 8 | B16: 16339 | C16: 1350 | D16: 2162 | E16: 2605 | F16: 2085 | G16: 1266 | H16: 2747 | I16: … | J16: 1325 | K16: 1749 | L16: 1050 | N16: 1774540 | O16: 175812 | P16: 253271 | Q16: 243767 | R16: 193494 | S16: 124213 | T16: 300609 | U16: 0 | V16: 156831 | W16: 194629 | X16: 131914
A17: 97 9 | B17: 15873 | C17: 1369 | D17: 2055 | E17: 2557 | F17: 1990 | G17: 1124 | H17: 2704 | I17: … | J17: 1264 | K17: 1704 | L17: 1106 | N17: 1791221 | O17: 178405 | P17: 255530 | Q17: 245544 | R17: 194555 | S17: 124531 | T17: 305192 | U17: 0 | V17: 157297 | W17: 196727 | X17: 133440
A18: 1998 平成10年 | B18: 16165 | C18: 1382 | D18: 2047 | E18: 2645 | F18: 2091 | G18: 1137 | H18: 1889 | I18: 808 | J18: 1219 | K18: 1859 | L18: 1088 | N18: 1803546 | O18: 179801 | P18: 257132 | Q18: 247420 | R18: 194903 | S18: 125679 | T18: 202316 | U18: 106984 | V18: 157438 | W18: 197627 | X18: 134246
A19: 99 11 | B19: 15358 | C19: 1336 | D19: 1979 | E19: 2463 | F19: 1951 | G19: 1100 | H19: 1869 | I19: 807 | J19: 1118 | K19: 1751 | L19: 984 | N19: 1812029 | O19: 180515 | P19: 258640 | Q19: 247756 | R19: 195162 | S19: 126780 | T19: 203514 | U19: 108731 | V19: 157152 | W19: 198486 | X19: 135293
A20: 2000 12 | B20: 15332 | C20: 1319 | D20: 1947 | E20: 2569 | F20: 1967 | G20: 1065 | H20: 1823 | I20: 784 | J20: 1109 | K20: 1724 | L20: 1025 | N20: 1816677 | O20: 180488 | P20: 259139 | Q20: 248140 | R20: 196793 | S20: 127325 | T20: 203918 | U20: 109635 | V20: 156441 | W20: 199013 | X20: 135785
A21: 01 13 | B21: 15312 | C21: 1380 | D21: 1982 | E21: 2494 | F21: 1997 | G21: 1034 | H21: 1773 | I21: 824 | J21: 1085 | K21: 1789 | L21: 954 | N21: 1834684 | O21: 185064 | P21: 262443 | Q21: 249707 | R21: 198580 | S21: 128443 | T21: 205066 | U21: 110759 | V21: 156589 | W21: 201453 | X21: 136580
A22: 02 14 | B22: 15577 | C22: 1463 | D22: 2094 | E22: 2457 | F22: 2013 | G22: 1024 | H22: 1898 | I22: 819 | J22: 1010 | K22: 1781 | L22: 1018 | N22: 1848276 | O22: 190254 | P22: 265023 | Q22: 251256 | R22: 199164 | S22: 129105 | T22: 205981 | U22: 111613 | V22: 155571 | W22: 203048 | X22: 137261
A23: 03 15 | B23: 14999 | C23: 1408 | D23: 2007 | E23: 2414 | F23: 1893 | G23: 945 | H23: 1770 | I23: 820 | J23: 1026 | K23: 1749 | L23: 967 | N23: 1862361 | O23: 194901 | P23: 268387 | Q23: 252494 | R23: 200077 | S23: 129660 | T23: 207859 | U23: 112333 | V23: 155234 | W23: 203782 | X23: 137634
A24: 04 16 | B24: 14749 | C24: 1475 | D24: 2028 | E24: 2295 | F24: 1884 | G24: 977 | H24: 1781 | I24: 724 | J24: 952 | K24: 1747 | L24: 886 | N24: 1872703 | O24: 198946 | P24: 271222 | Q24: 253520 | R24: 200856 | S24: 129645 | T24: 208605 | U24: 112473 | V24: 154348 | W24: 205526 | X24: 137562
A25: 05 17 | B25: 14184 | C25: 1405 | D25: 1962 | E25: 2263 | F25: 1868 | G25: 852 | H25: 1687 | I25: 698 | J25: 879 | K25: 1667 | L25: 903 | N25: 1874479 | O25: 201612 | P25: 271750 | Q25: 253138 | R25: 200866 | S25: 129346 | T25: 208576 | U25: 112398 | V25: 152505 | W25: 206905 | X25: 137383
A26: 06 18 | B26: 14730 | C26: 1552 | D26: 1995 | E26: 2312 | F26: 1907 | G26: 847 | H26: 1783 | I26: 789 | J26: 851 | K26: 1746 | L26: 948 | N26: 1889460 | O26: 206768 | P26: 273792 | Q26: 254899 | R26: 202638 | S26: 129500 | T26: 209102 | U26: 113572 | V26: 151858 | W26: 208975 | X26: 138356
A27: 07 19 | B27: 14498 | C27: 1523 | D27: 2016 | E27: 2245 | F27: 1850 | G27: 856 | H27: 1722 | I27: 729 | J27: 875 | K27: 1712 | L27: 970 | N27: 1895901 | O27: 210166 | P27: 276240 | Q27: 255210 | R27: 203006 | S27: 128963 | T27: 209334 | U27: 114646 | V27: 150261 | W27: 209532 | X27: 138543
A28: 08 20 | B28: 14845 | C28: 1638 | D28: 2101 | E28: 2297 | F28: 1933 | G28: 839 | H28: 1766 | I28: 807 | J28: 880 | K28: 1691 | L28: 893 | N28: 1900815 | O28: 213591 | P28: 276624 | Q28: 255365 | R28: 203180 | S28: 129034 | T28: 209789 | U28: 115606 | V28: 148867 | W28: 210231 | X28: 138528
A29: 09 21 | B29: 14506 | C29: 1580 | D29: 2052 | E29: 2221 | F29: 1831 | G29: 819 | H29: 1721 | I29: 773 | J29: 871 | K29: 1685 | L29: 953 | N29: 1907404 | O29: 216780 | P29: 278310 | Q29: 255376 | R29: 203764 | S29: 128668 | T29: 211014 | U29: 116022 | V29: 147757 | W29: 210564 | X29: 139149
... A37: 17 29 | B37: 13821 | C37: 1772 | D37: 1877 | E37: 2137 | F37: 1737 | G37: 696 | H37: 1743 | I37: 621 | J37: 718 | K37: 1652 | L37: 868 | N37: 1962918 | O37: 241267 | P37: 287761 | Q37: 264312 | R37: 210686 | S37: 126421 | T37: 220905 | U37: 115746 | V37: 139157 | W37: 214973 | X37: 141690
A38: 18 30 | B38: =SUM(C38:L38) -> 13248 | C38: ='3 月・性別，区別出生数・出生率'!$C$8 -> 1744 | D38: ='3 月・性別，区別出生数・出生率'!$C$11 -> 1847 | E38: ='3 月・性別，区別出生数・出生率'!$C$14 -> 1978 | F38: ='3 月・性別，区別出生数・出生率'!$C$17 -> 1711 | G38: ='3 月・性別，区別出生数・出生率'!$C$20 -> 661 | H38: ='3 月・性別，区別出生数・出生率'!$C$23 -> 1682 | I38: ='3 月・性別，区別出生数・出生率'!$C$26 -> 644 | J38: ='3 月・性別，区別出生数・出生率'!$C$29 -> 642 | K38: ='3 月・性別，区別出生数・出生率'!$C$32 -> 1530 | L38: ='3 月・性別，区別出生数・出生率'!$C$35 -> 809 | N38: =[1]年次別人口!C37 -> 1965940 | O38: =[1]年次別人口!D37 -> 242916 | P38: =[1]年次別人口!E37 -> 288114 | Q38: =[1]年次別人口!F37 -> 264183 | R38: =[1]年次別人口!G37 -> 211496 | S38: =[1]年次別人口!H37 -> 126230 | T38: =[1]年次別人口!I37 -> 222042 | U38: =[1]年次別人口!J37 -> 115272 | ... X38: =[1]年次別人口!M37 -> 141894
B39: 出生率
A40: 85 60 | B40: =B5/N5*1000 -> 12.543122 | C40: =C5/O5*1000 -> 10.611297 | D40: =D5/P5*1000 -> 11.416041 | E40: =E5/Q5*1000 -> 14.006475 | F40: =F5/R5*1000 -> 13.885837 | G40: ・ | H40: =H5/T5*1000 -> 12.510202 | I40: ・ | J40: =J5/V5*1000 -> 12.049978 | K40: =K5/W5*1000 -> 12.33624 | L40: ・
A41: 1986 昭和61年 | B41: =B6/N6*1000 -> 12.209046 | C41: =C6/O6*1000 -> 10.590538 | D41: =D6/P6*1000 -> 10.944078 | E41: =E6/Q6*1000 -> 13.456147 | F41: =F6/R6*1000 -> 14.170866 | G41: ・ | H41: =H6/T6*1000 -> 12.296897 | I41: ・ | J41: =J6/V6*1000 -> 11.603169 | K41: =K6/W6*1000 -> 11.543833 | L41: ・
A42: 1987 昭和62年 | B42: =B7/N7*1000 -> 11.632527 | C42: =C7/O7*1000 -> 10.124824 | D42: =D7/P7*1000 -> 10.152541 | E42: =E7/Q7*1000 -> 12.512572 | F42: =F7/R7*1000 -> 13.24997 | G42: ・ | H42: =H7/T7*1000 -> 11.870029 | I42: ・ | J42: =J7/V7*1000 -> 10.757747 | K42: =K7/W7*1000 -> 11.667382 | L42: ・
A43: 1988 昭和63年 | B43: 11.252356 | C43: 9.7682436 | D43: 9.7499864 | E43: 12.189112 | F43: 13.022819 | G43: ・ | H43: 11.374415 | I43: ・ | J43: 11.087388 | K43: 10.809931 | L43: ・
A44: 89 平成元年 | B44: 10.624918 | C44: 8.7200815 | D44: 8.8954748 | E44: 11.564328 | F44: 12.549576 | G44: ・ | H44: 10.767947 | I44: ・ | J44: 10.345651 | K44: 10.46389 | L44: ・
A45: 90 2 | B45: 10.446743 | C45: 8.8903027 | D45: 8.6307694 | E45: 11.600908 | F45: 12.16743 | G45: 12.35982 | H45: 10.601114 | I45: ・ | J45: 10.24981 | K45: 10.046801 | L45: 9.6689315
A46: 91 3 | B46: 10.299778 | C46: 8.404636 | D46: 8.8066668 | E46: 12.053084 | F46: 12.285941 | G46: 11.361868 | H46: 10.015526 | I46: ・ | J46: 9.7155169 | K46: 10.342625 | L46: 9.7045279
A47: 92 4 | B47: 10.105058 | C47: 8.2212215 | D47: 8.7617285 | E47: 11.331278 | F47: 12.291067 | G47: 11.333521 | H47: 10.080638 | I47: ・ | J47: 9.0781112 | K47: 10.084964 | L47: 9.8326692
A48: 1993 平成5年 | B48: 9.4714041 | C48: 7.4802565 | D48: 8.2208302 | E48: 10.958651 | F48: 10.832751 | G48: 10.520497 | H48: 9.5071312 | I48: ・ | J48: 9.0380342 | K48: 9.4119345 | L48: 9.3111968
...

Sheet 3 月・性別，区別出生数・出生率
A1: 3 月・性別にみた区別出生数及び出生率（人口千対）
O2: 平成30年
A3: 区 ・ 性 | C3: 総数 | D3: 1 月 | E3: 2 月 | F3: 3 月 | G3: 4 月 | H3: 5 月 | I3: 6 月 | J3: 7 月 | K3: 8 月 | L3: 9 月 | M3: 10月 | N3: 11月 | O3: 12月
C4: 出生数
A5: 総数 | C5: =SUM(C8,C11,C14,C17,C20,C23,C26,C29,C32,C35) -> 13248 | D5: =SUM(D8,D11,D14,D17,D20,D23,D26,D29,D32,D35) -> 1135 | E5: =SUM(E8,E11,E14,E17,E20,E23,E26,E29,E32,E35) -> 1067 | F5: =SUM(F8,F11,F14,F17,F20,F23,F26,F29,F32,F35) -> 1078 | G5: =SUM(G8,G11,G14,G17,G20,G23,G26,G29,G32,G35) -> 1067 | H5: =SUM(H8,H11,H14,H17,H20,H23,H26,H29,H32,H35) -> 1128 | I5: =SUM(I8,I11,I14,I17,I20,I23,I26,I29,I32,I35) -> 1110 | J5: =SUM(J8,J11,J14,J17,J20,J23,J26,J29,J32,J35) -> 1127 | ... O5: =SUM(O8,O11,O14,O17,O20,O23,O26,O29,O32,O35) -> 1017
B6: 男 | C6: =SUM(C9,C12,C15,C18,C21,C24,C27,C30,C33,C36) -> 6744 | D6: =SUM(D9,D12,D15,D18,D21,D24,D27,D30,D33,D36) -> 597 | E6: =SUM(E9,E12,E15,E18,E21,E24,E27,E30,E33,E36) -> 533 | F6: =SUM(F9,F12,F15,F18,F21,F24,F27,F30,F33,F36) -> 525 | G6: =SUM(G9,G12,G15,G18,G21,G24,G27,G30,G33,G36) -> 544 | H6: =SUM(H9,H12,H15,H18,H21,H24,H27,H30,H33,H36) -> 602 | I6: =SUM(I9,I12,I15,I18,I21,I24,I27,I30,I33,I36) -> 583 | J6: =SUM(J9,J12,J15,J18,J21,J24,J27,J30,J33,J36) -> 575 | ... O6: =SUM(O9,O12,O15,O18,O21,O24,O27,O30,O33,O36) -> 503
B7: 女 | C7: =SUM(C10,C13,C16,C19,C22,C25,C28,C31,C34,C37) -> 6504 | D7: =SUM(D10,D13,D16,D19,D22,D25,D28,D31,D34,D37) -> 538 | E7: =SUM(E10,E13,E16,E19,E22,E25,E28,E31,E34,E37) -> 534 | F7: =SUM(F10,F13,F16,F19,F22,F25,F28,F31,F34,F37) -> 553 | G7: =SUM(G10,G13,G16,G19,G22,G25,G28,G31,G34,G37) -> 523 | H7: =SUM(H10,H13,H16,H19,H22,H25,H28,H31,H34,H37) -> 526 | I7: =SUM(I10,I13,I16,I19,I22,I25,I28,I31,I34,I37) -> 527 | J7: =SUM(J10,J13,J16,J19,J22,J25,J28,J31,J34,J37) -> 552 | ... O7: =SUM(O10,O13,O16,O19,O22,O25,O28,O31,O34,O37) -> 514
A8: 中央 | C8: =SUM(D8:O8) -> 1744 | D8: =SUM(D9:D10) -> 137 | E8: =SUM(E9:E10) -> 152 | F8: =SUM(F9:F10) -> 150 | G8: =SUM(G9:G10) -> 133 | H8: =SUM(H9:H10) -> 155 | I8: =SUM(I9:I10) -> 145 | J8: =SUM(J9:J10) -> 133 | K8: =SUM(K9:K10) -> 167 | ... O8: =SUM(O9:O10) -> 147
B9: 男 | C9: =SUM(D9:O9) -> 918 | D9: 68 | E9: 79 | F9: 65 | G9: 77 | H9: 78 | I9: 79 | J9: 78 | K9: 76 | L9: 70 | M9: 95 | N9: 73 | O9: 80
B10: 女 | C10: =SUM(D10:O10) -> 826 | D10: 69 | E10: 73 | F10: 85 | G10: 56 | H10: 77 | I10: 66 | J10: 55 | K10: 91 | L10: 63 | M10: 70 | N10: 54 | O10: 67
A11: 北 | C11: =SUM(D11:O11) -> 1847 | D11: =SUM(D12:D13) -> 169 | E11: =SUM(E12:E13) -> 139 | F11: =SUM(F12:F13) -> 137 | G11: =SUM(G12:G13) -> 137 | H11: =SUM(H12:H13) -> 174 | I11: =SUM(I12:I13) -> 164 | J11: =SUM(J12:J13) -> 166 | K11: =SUM(K12:K13) -> 183 | ... O11: =SUM(O12:O13) -> 134
B12: 男 | C12: =SUM(D12:O12) -> 922 | D12: 90 | E12: 80 | F12: 71 | G12: 59 | H12: 95 | I12: 85 | J12: 78 | K12: 92 | L12: 58 | M12: 88 | N12: 66 | O12: 60
B13: 女 | C13: =SUM(D13:O13) -> 925 | D13: 79 | E13: 59 | F13: 66 | G13: 78 | H13: 79 | I13: 79 | J13: 88 | K13: 91 | L13: 80 | M13: 80 | N13: 72 | O13: 74
A14: 東 | C14: =SUM(D14:O14) -> 1978 | D14: =SUM(D15:D16) -> 167 | E14: =SUM(E15:E16) -> 132 | F14: =SUM(F15:F16) -> 161 | G14: =SUM(G15:G16) -> 171 | H14: =SUM(H15:H16) -> 162 | I14: =SUM(I15:I16) -> 165 | J14: =SUM(J15:J16) -> 179 | K14: =SUM(K15:K16) -> 171 | ... O14: =SUM(O15:O16) -> 146
B15: 男 | C15: =SUM(D15:O15) -> 995 | D15: 91 | E15: 61 | F15: 82 | G15: 90 | H15: 92 | I15: 85 | J15: 79 | K15: 86 | L15: 90 | M15: 92 | N15: 77 | O15: 70
B16: 女 | C16: =SUM(D16:O16) -> 983 | D16: 76 | E16: 71 | F16: 79 | G16: 81 | H16: 70 | I16: 80 | J16: 100 | K16: 85 | L16: 101 | M16: 92 | N16: 72 | O16: 76
A17: 白石 | C17: =SUM(D17:O17) -> 1711 | D17: =SUM(D18:D19) -> 144 | E17: =SUM(E18:E19) -> 148 | F17: =SUM(F18:F19) -> 123 | G17: =SUM(G18:G19) -> 138 | H17: =SUM(H18:H19) -> 139 | I17: =SUM(I18:I19) -> 138 | J17: =SUM(J18:J19) -> 143 | K17: =SUM(K18:K19) -> 145 | ... O17: =SUM(O18:O19) -> 132
B18: 男 | C18: =SUM(D18:O18) -> 882 | D18: 68 | E18: 79 | F18: 66 | G18: 72 | H18: 72 | I18: 71 | J18: 75 | K18: 72 | L18: 70 | M18: 84 | N18: 74 | O18: 79
B19: 女 | C19: =SUM(D19:O19) -> 829 | D19: 76 | E19: 69 | F19: 57 | G19: 66 | H19: 67 | I19: 67 | J19: 68 | K19: 73 | L19: 68 | M19: 84 | N19: 81 | O19: 53
A20: 厚別 | C20: =SUM(D20:O20) -> 661 | D20: =SUM(D21:D22) -> 53 | E20: =SUM(E21:E22) -> 53 | F20: =SUM(F21:F22) -> 50 | G20: =SUM(G21:G22) -> 60 | H20: =SUM(H21:H22) -> 41 | I20: =SUM(I21:I22) -> 50 | J20: =SUM(J21:J22) -> 48 | K20: =SUM(K21:K22) -> 81 | ... O20: =SUM(O21:O22) -> 54
B21: 男 | C21: =SUM(D21:O21) -> 360 | D21: 23 | E21: 19 | F21: 27 | G21: 39 | H21: 25 | I21: 31 | J21: 29 | K21: 43 | L21: 44 | M21: 26 | N21: 26 | O21: 28
B22: 女 | C22: =SUM(D22:O22) -> 301 | D22: 30 | E22: 34 | F22: 23 | G22: 21 | H22: 16 | I22: 19 | J22: 19 | K22: 38 | L22: 23 | M22: 26 | N22: 26 | O22: 26
A23: 豊平 | C23: =SUM(D23:O23) -> 1682 | D23: =SUM(D24:D25) -> 169 | E23: =SUM(E24:E25) -> 154 | F23: =SUM(F24:F25) -> 141 | G23: =SUM(G24:G25) -> 134 | H23: =SUM(H24:H25) -> 132 | I23: =SUM(I24:I25) -> 142 | J23: =SUM(J24:J25) -> 143 | K23: =SUM(K24:K25) -> 153 | ... O23: =SUM(O24:O25) -> 124
B24: 男 | C24: =SUM(D24:O24) -> 855 | D24: 84 | E24: 78 | F24: 61 | G24: 65 | H24: 63 | I24: 79 | J24: 66 | K24: 89 | L24: 60 | M24: 79 | N24: 63 | O24: 68
B25: 女 | C25: =SUM(D25:O25) -> 827 | D25: 85 | E25: 76 | F25: 80 | G25: 69 | H25: 69 | I25: 63 | J25: 77 | K25: 64 | L25: 61 | M25: 63 | N25: 64 | O25: 56
A26: 清田 | C26: =SUM(D26:O26) -> 644 | D26: =SUM(D27:D28) -> 52 | E26: =SUM(E27:E28) -> 61 | F26: =SUM(F27:F28) -> 57 | G26: =SUM(G27:G28) -> 49 | H26: =SUM(H27:H28) -> 56 | I26: =SUM(I27:I28) -> 67 | J26: =SUM(J27:J28) -> 42 | K26: =SUM(K27:K28) -> 62 | ... O26: =SUM(O27:O28) -> 54
B27: 男 | C27: =SUM(D27:O27) -> 319 | D27: 32 | E27: 28 | F27: 27 | G27: 24 | H27: 41 | I27: 28 | J27: 19 | K27: 28 | L27: 17 | M27: 27 | N27: 27 | O27: 21
B28: 女 | C28: =SUM(D28:O28) -> 325 | D28: 20 | E28: 33 | F28: 30 | G28: 25 | H28: 15 | I28: 39 | J28: 23 | K28: 34 | L28: 23 | M28: 25 | N28: 25 | O28: 33
A29: 南 | C29: =SUM(D29:O29) -> 642 | D29: =SUM(D30:D31) -> 44 | E29: =SUM(E30:E31) -> 44 | F29: =SUM(F30:F31) -> 62 | G29: =SUM(G30:G31) -> 47 | H29: =SUM(H30:H31) -> 53 | I29: =SUM(I30:I31) -> 57 | J29: =SUM(J30:J31) -> 64 | K29: =SUM(K30:K31) -> 46 | ... O29: =SUM(O30:O31) -> 61
B30: 男 | C30: =SUM(D30:O30) -> 326 | D30: 25 | E30: 20 | F30: 24 | G30: 22 | H30: 28 | I30: 30 | J30: 35 | K30: 22 | L30: 31 | M30: 36 | N30: 26 | O30: 27
B31: 女 | C31: =SUM(D31:O31) -> 316 | D31: 19 | E31: 24 | F31: 38 | G31: 25 | H31: 25 | I31: 27 | J31: 29 | K31: 24 | L31: 30 | M31: 21 | N31: 20 | O31: 34
A32: 西 | C32: =SUM(D32:O32) -> 1530 | D32: =SUM(D33:D34) -> 133 | E32: =SUM(E33:E34) -> 113 | F32: =SUM(F33:F34) -> 120 | G32: =SUM(G33:G34) -> 123 | H32: =SUM(H33:H34) -> 143 | I32: =SUM(I33:I34) -> 134 | J32: =SUM(J33:J34) -> 145 | K32: =SUM(K33:K34) -> 133 | ... O32: =SUM(O33:O34) -> 113
B33: 男 | C33: =SUM(D33:O33) -> 772 | D33: 79 | E33: 53 | F33: 70 | G33: 64 | H33: 70 | I33: 70 | J33: 76 | K33: 66 | L33: 63 | M33: 54 | N33: 59 | O33: 48
B34: 女 | C34: =SUM(D34:O34) -> 758 | D34: 54 | E34: 60 | F34: 50 | G34: 59 | H34: 73 | I34: 64 | J34: 69 | K34: 67 | L34: 79 | M34: 65 | N34: 53 | O34: 65
A35: 手稲 | C35: =SUM(D35:O35) -> 809 | D35: =SUM(D36:D37) -> 67 | E35: =SUM(E36:E37) -> 71 | F35: =SUM(F36:F37) -> 77 | G35: =SUM(G36:G37) -> 75 | H35: =SUM(H36:H37) -> 73 | I35: =SUM(I36:I37) -> 48 | J35: =SUM(J36:J37) -> 64 | K35: =SUM(K36:K37) -> 77 | ... O35: =SUM(O36:O37) -> 52
B36: 男 | C36: =SUM(D36:O36) -> 395 | D36: 37 | E36: 36 | F36: 32 | G36: 32 | H36: 38 | I36: 25 | J36: 40 | K36: 40 | L36: 23 | M36: 36 | N36: 34 | O36: 22
B37: 女 | C37: =SUM(D37:O37) -> 414 | D37: 30 | E37: 35 | F37: 45 | G37: 43 | H37: 35 | I37: 23 | J37: 24 | K37: 37 | L37: 33 | M37: 36 | N37: 43 | O37: 30
C38: 出生率 | R38: =[1]人口!B9 -> (国調年)日本人推計人口 (国調年以外)国調ベース人口 | S38: =[1]人口!C9 -> １月 | T38: =[1]人口!D9 -> ２月 | U38: =[1]人口!E9 -> ３月 | V38: =[1]人口!F9 -> ４月 | W38: =[1]人口!G9 -> ５月 | X38: =[1]人口!H9 -> ６月 | Y38: =[1]人口!I9 -> ７月 | ... AD38: =[1]人口!N9 -> １２月
A39: 総数 | C39: =C5/R39*1000 -> 6.7387611 | D39: =D5/(S39/$R$50*S$50)*1000 -> 6.8056288 | E39: =E5/(T39/$R$50*T$50)*1000 -> 7.0856848 | F39: =F5/(U39/$R$50*U$50)*1000 -> 6.4673263 | G39: =G5/(V39/$R$50*V$50)*1000 -> 6.6192473 | H39: =H5/(W39/$R$50*W$50)*1000 -> 6.7577468 | I39: =I5/(X39/$R$50*X$50)*1000 -> 6.8696656 | J39: =J5/(Y39/$R$50*Y$50)*1000 -> 6.7502412 | K39: =K5/(Z39/$R$50*Z$50)*1000 -> 7.2942194 | ... O39: =O5/(AD39/$R$50*AD$50)*1000 -> 6.0884992 | R39: =[1]人口!B10 -> 1965940 | S39: =[1]人口!C10 -> 1963626 | T39: =[1]人口!D10 -> 1962987 | U39: =[1]人口!E10 -> 1962570 | V39: =[1]人口!F10 -> 1961225 | W39: =[1]人口!G10 -> 1965343 | X39: =[1]人口!H10 -> 1965889 | Y39: =[1]人口!I10 -> 1965784 | ... AD39: =[1]人口!N10 -> 1966717
A40: 中央 | C40: =C8/R40*1000 -> 7.1794365 | D40: =D8/(S40/$R$50*S$50)*1000 -> 6.6772825 | E40: =E8/(T40/$R$50*T$50)*1000 -> 8.2026013 | F40: =F8/(U40/$R$50*U$50)*1000 -> 7.3118921 | G40: =G8/(V40/$R$50*V$50)*1000 -> 6.7013711 | H40: =H8/(W40/$R$50*W$50)*1000 -> 7.5310216 | I40: =I8/(X40/$R$50*X$50)*1000 -> 7.2720353 | J40: =J8/(Y40/$R$50*Y$50)*1000 -> 6.4527295 | K40: =K8/(Z40/$R$50*Z$50)*1000 -> 8.0943279 | ... O40: =O8/(AD40/$R$50*AD$50)*1000 -> 7.119994 | R40: =[1]人口!B11 -> 242916 | S40: =[1]人口!C11 -> 241575 | T40: =[1]人口!D11 -> 241561 | U40: =[1]人口!E11 -> 241542 | V40: =[1]人口!F11 -> 241468 | W40: =[1]人口!G11 -> 242331 | X40: =[1]人口!H11 -> 242596 | Y40: =[1]人口!I11 -> 242683 | ... AD40: =[1]人口!N11 -> 243091
...

Sheet 4　出生の場所別，年次別出生数・百分率
A1: 4 出生の場所別にみた年次別出生数及び百分率
A3: 年次 | B3: 総数 | C3: 施設内 | G3: 施設外
C4: 総 数 | D4: 病院 | E4: 診療所 | F4: 助産所 | G4: 総 数 | H4: 自宅 | I4: その他
B5: 出生数
A6: 85 60 | B6: =SUM(C6,G6) -> 19314 | C6: =SUM(D6:F6) -> 19238 | D6: 11970 | E6: 6993 | F6: 275 | G6: =SUM(H6:I6) -> 76 | H6: 62 | I6: 14
A7: 1986 昭和61年 | B7: =SUM(C7,G7) -> 19130 | C7: =SUM(D7:F7) -> 19060 | D7: 12102 | E7: 6720 | F7: 238 | G7: =SUM(H7:I7) -> 70 | H7: 60 | I7: 10
A8: 1987 昭和62年 | B8: =SUM(C8,G8) -> 18533 | C8: =SUM(D8:F8) -> 18465 | D8: 11818 | E8: 6439 | F8: 208 | G8: =SUM(H8:I8) -> 68 | H8: 63 | I8: 5
A9: 1988 昭和63年 | B9: 18216 | C9: 18165 | D9: 12235 | E9: 5779 | F9: 151 | G9: 51 | H9: 42 | I9: 9
A10: 89 平成元年 | B10: 17479 | C10: 17429 | D10: 12244 | E10: 5031 | F10: 154 | G10: 50 | H10: 45 | I10: 5
A11: 90 2 | B11: 17425 | C11: 17382 | D11: 12413 | E11: 4883 | F11: 86 | G11: 43 | H11: 39 | I11: 4
A12: 91 3 | B12: 17458 | C12: 17412 | D12: 12811 | E12: 4535 | F12: 66 | G12: 46 | H12: 41 | I12: 5
A13: 92 4 | B13: 17325 | C13: 17285 | D13: 12932 | E13: 4260 | F13: 93 | G13: 40 | H13: 33 | I13: 7
A14: 1993 平成5年 | B14: 16371 | C14: 16352 | D14: 12306 | E14: 3971 | F14: 75 | G14: 19 | H14: 18 | I14: 1
A15: 94 6 | B15: 17057 | C15: 17015 | D15: 12902 | E15: 4020 | F15: 93 | G15: 42 | H15: 37 | I15: 5
A16: 95 7 | B16: 16227 | C16: 16186 | D16: 11791 | E16: 4305 | F16: 90 | G16: 41 | H16: 36 | I16: 5
A17: 96 8 | B17: 16339 | C17: 16297 | D17: 11255 | E17: 4953 | F17: 89 | G17: 42 | H17: 40 | I17: 2
A18: 97 9 | B18: 15873 | C18: 15822 | D18: 10697 | E18: 5036 | F18: 89 | G18: 51 | H18: 48 | I18: 3
A19: 1998 平成10年 | B19: 16165 | C19: 16090 | D19: 10765 | E19: 5249 | F19: 76 | G19: 75 | H19: 70 | I19: 5
A20: 99 11 | B20: 15358 | C20: 15256 | D20: 10020 | E20: 5171 | F20: 65 | G20: 102 | H20: 92 | I20: 10
... A38: 17 29 | B38: 13821 | C38: 13798 | D38: 8325 | E38: 5440 | F38: 33 | G38: 23 | H38: 19 | I38: 4
A39: 18 30 | B39: =SUM(C39,G39) -> 13248 | C39: =SUM(D39:F39) -> 13214 | D39: ='5 出生の場所・出産時の立会者別，区別出生数 '!$F$6 -> 8305 | E39: ='5 出生の場所・出産時の立会者別，区別出生数 '!$I$6 -> 4884 | F39: ='5 出生の場所・出産時の立会者別，区別出生数 '!$L$6 -> 25 | G39: =SUM(H39:I39) -> 34 | H39: ='5 出生の場所・出産時の立会者別，区別出生数 '!$O$6 -> 26 | I39: ='5 出生の場所・出産時の立会者別，区別出生数 '!$S$6 -> 8
B40: 百分率
A41: 85 60 | B41: =SUM(C41,G41) -> 100 | C41: =C6/$B6*100 -> 99.606503 | D41: =D6/$B6*100 -> 61.975769 | E41: =E6/$B6*100 -> 36.206897 | F41: =F6/$B6*100 -> 1.4238376 | G41: =G6/$B6*100 -> 0.39349695 | H41: =H6/$B6*100 -> 0.32101067 | I41: =I6/$B6*100 -> 0.072486279
A42: 1986 昭和61年 | B42: =SUM(C42,G42) -> 100 | C42: =C7/$B7*100 -> 99.634083 | D42: =D7/$B7*100 -> 63.261892 | E42: =E7/$B7*100 -> 35.128071 | F42: =F7/$B7*100 -> 1.2441192 | G42: =G7/$B7*100 -> 0.36591741 | H42: =H7/$B7*100 -> 0.31364349 | I42: =I7/$B7*100 -> 0.052273915
A43: 1987 昭和62年 | B43: =SUM(C43,G43) -> 100 | C43: =C8/$B8*100 -> 99.633087 | D43: =D8/$B8*100 -> 63.767334 | E43: =E8/$B8*100 -> 34.743431 | F43: =F8/$B8*100 -> 1.1223223 | G43: =G8/$B8*100 -> 0.36691307 | H43: =H8/$B8*100 -> 0.33993417 | I43: =I8/$B8*100 -> 0.026978902
A44: 1988 昭和63年 | B44: 100 | C44: 99.720026 | D44: 67.166227 | E44: 31.724857 | F44: 0.82894159 | G44: 0.27997365 | H44: 0.23056653 | I44: 0.049407115
A45: 89 平成元年 | B45: 100 | C45: 99.713942 | D45: 70.049774 | E45: 28.783111 | F45: 0.88105727 | G45: 0.28605755 | H45: 0.2574518 | I45: 0.028605755
A46: 90 2 | B46: 100 | C46: 99.753228 | D46: 71.236729 | E46: 28.022956 | F46: 0.49354376 | G46: 0.24677188 | H46: 0.22381636 | I46: 0.022955524
A47: 91 3 | B47: 100 | C47: 99.73651 | D47: 73.381831 | E47: 25.97663 | F47: 0.37805018 | G47: 0.26348952 | H47: 0.23484935 | I47: 0.028640165
A48: 92 4 | B48: 100 | C48: 99.76912 | D48: 74.643579 | E48: 24.588745 | F48: 0.53679654 | G48: 0.23088023 | H48: 0.19047619 | I48: 0.04040404
A49: 1993 平成5年 | B49: 100 | C49: 99.883941 | D49: 75.169507 | E49: 24.256307 | F49: 0.45812718 | G49: 0.11605888 | H49: 0.10995052 | I49: 0.0061083623
A50: 94 6 | B50: 100 | C50: 99.753767 | D50: 75.6405 | E50: 23.568037 | F50: 0.5452307 | G50: 0.24623322 | H50: 0.21691974 | I50: 0.029313478
A51: 95 7 | B51: 100 | C51: 99.747335 | D51: 72.662846 | E51: 26.529858 | F51: 0.55463117 | G51: 0.25266531 | H51: 0.22185247 | I51: 0.030812843
A52: 96 8 | B52: 100 | C52: 99.742946 | D52: 68.884265 | E52: 30.313973 | F52: 0.54470898 | G52: 0.25705368 | H52: 0.24481302 | I52: 0.012240651
A53: 97 9 | B53: 100 | C53: 99.6787 | D53: 67.391167 | E53: 31.726832 | F53: 0.56070056 | G53: 0.32130032 | H53: 0.3024003 | I53: 0.018900019
A54: 1998 平成10年 | B54: 100 | C54: 99.536035 | D54: 66.594494 | E54: 32.471389 | F54: 0.47015156 | G54: 0.46396536 | H54: 0.43303433 | I54: 0.030931024
A55: 99 11 | B55: 100 | C55: 99.335851 | D55: 65.24287 | E55: 33.669749 | F55: 0.42323219 | G55: 0.66414898 | H55: 0.59903633 | I55: 0.065112645
... A73: 17 29 | B73: 100 | C73: 99.833587 | D73: 60.234426 | E73: 39.360394 | F73: 0.23876709 | G73: 0.16641343 | H73: 0.13747196 | I73: 0.028941466
A74: 18 30 | B74: =SUM(C74,G74) -> 100 | C74: =C39/$B39*100 -> 99.743357 | D74: =D39/$B39*100 -> 62.688708 | E74: =E39/$B39*100 -> 36.865942 | F74: =F39/$B39*100 -> 0.18870773 | G74: =G39/$B39*100 -> 0.25664251 | H74: =H39/$B39*100 -> 0.19625604 | I74: =I39/$B39*100 -> 0.060386473

Sheet 5　出生の場所・出産時の立会者別，区別出生数　
A1: 5 出生の場所・出産時の立会者別にみた区別出生数
V2: ='3 月・性別，区別出生数・出生率'!$O$2 -> 平成30年
A3: 区 | B3: 総 数 | F3: 施設内 | O3: 施設外
F4: 病 院 | I4: 診 療 所 | L4: 助産所 | O4: 自 宅 | S4: そ の 他
B5: 総数 | C5: 医師 | D5: 助産師 | E5: その他 | F5: 総数 | G5: 医師 | H5: 助産師 | I5: 総数 | J5: 医師 | K5: 助産師 | L5: 総数 | M5: 医師 | N5: 助産師 | O5: 総数 | P5: 医師 | Q5: 助産師 | R5: その他 | S5: 総数 | T5: 医師 | U5: 助産師 | V5: その他
A6: 総数 | B6: =SUM(F6,I6,L6,O6,S6) -> 13248 | C6: =SUM(G6,J6,M6,P6,T6) -> 12144 | D6: =SUM(H6,K6,N6,Q6,U6) -> 1096 | E6: =SUM(R6,V6) -> 8 | F6: =SUM(F7:F16) -> 8305 | G6: =SUM(G7:G16) -> 7689 | H6: =SUM(H7:H16) -> 616 | I6: =SUM(I7:I16) -> 4884 | J6: =SUM(J7:J16) -> 4445 | K6: =SUM(K7:K16) -> 439 | L6: =SUM(L7:L16) -> 25 | M6: =SUM(M7:M16) -> 1 | ... V6: =SUM(V7:V16) -> 3
A7: 中央 | B7: =SUM(F7,I7,L7,O7,S7) -> 1744 | C7: =SUM(G7,J7,M7,P7,T7) -> 1474 | D7: =SUM(H7,K7,N7,Q7,U7) -> 267 | E7: =SUM(R7,V7) -> 3 | F7: =SUM(G7:H7) -> 1227 | G7: 991 | H7: 236 | I7: =SUM(J7:K7) -> 508 | J7: 482 | K7: 26 | L7: =SUM(M7:N7) -> 3 | M7: 0 | N7: 3 | O7: =SUM(P7:R7) -> 5 | P7: 1 | Q7: 2 | R7: 2 | S7: =SUM(T7:V7) -> 1 | T7: 0 | U7: 0 | V7: 1
A8: 北 | B8: =SUM(F8,I8,L8,O8,S8) -> 1847 | C8: =SUM(G8,J8,M8,P8,T8) -> 1688 | D8: =SUM(H8,K8,N8,Q8,U8) -> 159 | E8: =SUM(R8,V8) -> 0 | F8: =SUM(G8:H8) -> 1127 | G8: 1065 | H8: 62 | I8: =SUM(J8:K8) -> 710 | J8: 621 | K8: 89 | L8: =SUM(M8:N8) -> 8 | M8: 0 | N8: 8 | O8: =SUM(P8:R8) -> 2 | P8: 2 | Q8: 0 | R8: 0 | S8: =SUM(T8:V8) -> 0 | T8: 0 | U8: 0 | V8: 0
A9: 東 | B9: =SUM(F9,I9,L9,O9,S9) -> 1978 | C9: =SUM(G9,J9,M9,P9,T9) -> 1916 | D9: =SUM(H9,K9,N9,Q9,U9) -> 59 | E9: =SUM(R9,V9) -> 3 | F9: =SUM(G9:H9) -> 1695 | G9: 1650 | H9: 45 | I9: =SUM(J9:K9) -> 275 | J9: 264 | K9: 11 | L9: =SUM(M9:N9) -> 3 | M9: 0 | N9: 3 | O9: =SUM(P9:R9) -> 4 | P9: 2 | Q9: 0 | R9: 2 | S9: =SUM(T9:V9) -> 1 | T9: 0 | U9: 0 | V9: 1
A10: 白石 | B10: =SUM(F10,I10,L10,O10,S10) -> 1711 | C10: =SUM(G10,J10,M10,P10,T10) -> 1635 | D10: =SUM(H10,K10,N10,Q10,U10) -> 75 | E10: =SUM(R10,V10) -> 1 | F10: =SUM(G10:H10) -> 1437 | G10: 1370 | H10: 67 | I10: =SUM(J10:K10) -> 271 | J10: 265 | K10: 6 | L10: =SUM(M10:N10) -> 0 | M10: 0 | N10: 0 | O10: =SUM(P10:R10) -> 2 | P10: 0 | Q10: 2 | R10: 0 | S10: =SUM(T10:V10) -> 1 | T10: 0 | U10: 0 | V10: 1
A11: 厚別 | B11: =SUM(F11,I11,L11,O11,S11) -> 661 | C11: =SUM(G11,J11,M11,P11,T11) -> 637 | D11: =SUM(H11,K11,N11,Q11,U11) -> 24 | E11: =SUM(R11,V11) -> 0 | F11: =SUM(G11:H11) -> 346 | G11: 324 | H11: 22 | I11: =SUM(J11:K11) -> 314 | J11: 313 | K11: 1 | L11: =SUM(M11:N11) -> 0 | M11: 0 | N11: 0 | O11: =SUM(P11:R11) -> 0 | P11: 0 | Q11: 0 | R11: 0 | S11: =SUM(T11:V11) -> 1 | T11: 0 | U11: 1 | V11: 0
A12: 豊平 | B12: =SUM(F12,I12,L12,O12,S12) -> 1682 | C12: =SUM(G12,J12,M12,P12,T12) -> 1600 | D12: =SUM(H12,K12,N12,Q12,U12) -> 82 | E12: =SUM(R12,V12) -> 0 | F12: =SUM(G12:H12) -> 994 | G12: 924 | H12: 70 | I12: =SUM(J12:K12) -> 685 | J12: 675 | K12: 10 | L12: =SUM(M12:N12) -> 1 | M12: 0 | N12: 1 | O12: =SUM(P12:R12) -> 1 | P12: 0 | Q12: 1 | R12: 0 | S12: =SUM(T12:V12) -> 1 | T12: 1 | U12: 0 | V12: 0
A13: 清田 | B13: =SUM(F13,I13,L13,O13,S13) -> 644 | C13: =SUM(G13,J13,M13,P13,T13) -> 622 | D13: =SUM(H13,K13,N13,Q13,U13) -> 22 | E13: =SUM(R13,V13) -> 0 | F13: =SUM(G13:H13) -> 198 | G13: 179 | H13: 19 | I13: =SUM(J13:K13) -> 444 | J13: 443 | K13: 1 | L13: =SUM(M13:N13) -> 0 | M13: 0 | N13: 0 | O13: =SUM(P13:R13) -> 1 | P13: 0 | Q13: 1 | R13: 0 | S13: =SUM(T13:V13) -> 1 | T13: 0 | U13: 1 | V13: 0
A14: 南 | B14: =SUM(F14,I14,L14,O14,S14) -> 642 | C14: =SUM(G14,J14,M14,P14,T14) -> 626 | D14: =SUM(H14,K14,N14,Q14,U14) -> 16 | E14: =SUM(R14,V14) -> 0 | F14: =SUM(G14:H14) -> 359 | G14: 348 | H14: 11 | I14: =SUM(J14:K14) -> 278 | J14: 277 | K14: 1 | L14: =SUM(M14:N14) -> 1 | M14: 0 | N14: 1 | O14: =SUM(P14:R14) -> 3 | P14: 0 | Q14: 3 | R14: 0 | S14: =SUM(T14:V14) -> 1 | T14: 1 | U14: 0 | V14: 0
A15: 西 | B15: =SUM(F15,I15,L15,O15,S15) -> 1530 | C15: =SUM(G15,J15,M15,P15,T15) -> 1219 | D15: =SUM(H15,K15,N15,Q15,U15) -> 310 | E15: =SUM(R15,V15) -> 1 | F15: =SUM(G15:H15) -> 665 | G15: 596 | H15: 69 | I15: =SUM(J15:K15) -> 852 | J15: 621 | K15: 231 | L15: =SUM(M15:N15) -> 8 | M15: 1 | N15: 7 | O15: =SUM(P15:R15) -> 4 | P15: 0 | Q15: 3 | R15: 1 | S15: =SUM(T15:V15) -> 1 | T15: 1 | U15: 0 | V15: 0
A16: 手稲 | B16: =SUM(F16,I16,L16,O16,S16) -> 809 | C16: =SUM(G16,J16,M16,P16,T16) -> 727 | D16: =SUM(H16,K16,N16,Q16,U16) -> 82 | E16: =SUM(R16,V16) -> 0 | F16: =SUM(G16:H16) -> 257 | G16: 242 | H16: 15 | I16: =SUM(J16:K16) -> 547 | J16: 484 | K16: 63 | L16: =SUM(M16:N16) -> 1 | M16: 0 | N16: 1 | O16: =SUM(P16:R16) -> 4 | P16: 1 | Q16: 3 | R16: 0 | S16: =SUM(T16:V16) -> 0 | T16: 0 | U16: 0 | V16: 0

Sheet 6　母の年齢階級，年次別出生数・百分率
A1: 6 母の年齢(5歳階級)別にみた年次別出生数及び百分率
A3: 年次 | B3: 総数 | C3: 14歳以下 | D3: 15～19 | E3: 20～24 | F3: 25～29 | G3: 30～34 | H3: 35～39 | I3: 40～44 | J3: 45～49 | K3: 50～ | L3: 不詳
B4: 出生数
A5: 85 60 | B5: =SUM(C5:L5) -> 19314 | C5: 1 | D5: 248 | E5: 3111 | F5: 8471 | G5: 5770 | H5: 1584 | I5: 123 | J5: 4 | K5: 0 | L5: 2
A6: 1986 昭和61年 | B6: =SUM(C6:L6) -> 19130 | C6: 1 | D6: 232 | E6: 3128 | F6: 8352 | G6: 5706 | H6: 1598 | I6: 107 | J6: 4 | K6: 0 | L6: 2
A7: 1987 昭和62年 | B7: =SUM(C7:L7) -> 18533 | C7: 0 | D7: 229 | E7: 2825 | F7: 8121 | G7: 5577 | H7: 1635 | I7: 140 | J7: 5 | K7: 0 | L7: 1
A8: 1988 昭和63年 | B8: 18216 | C8: 0 | D8: 271 | E8: 2939 | F8: 7803 | G8: 5497 | H8: 1563 | I8: 141 | J8: 2 | K8: 0 | L8: 0
A9: 89 平成元年 | B9: 17479 | C9: 1 | D9: 235 | E9: 2789 | F9: 7339 | G9: 5316 | H9: 1610 | I9: 187 | J9: 1 | K9: 0 | L9: 1
A10: 90 2 | B10: 17425 | C10: 0 | D10: 280 | E10: 2703 | F10: 7330 | G10: 5256 | H10: 1658 | I10: 195 | J10: 3 | K10: 0 | L10: 0
A11: 91 3 | B11: 17458 | C11: 0 | D11: 260 | E11: 2858 | F11: 7149 | G11: 5439 | H11: 1542 | I11: 208 | J11: 2 | K11: 0 | L11: 0
A12: 92 4 | B12: 17325 | C12: 0 | D12: 288 | E12: 2818 | F12: 6963 | G12: 5428 | H12: 1598 | I12: 224 | J12: 4 | K12: 0 | L12: 2
A13: 1993 平成5年 | B13: 16371 | C13: 0 | D13: 253 | E13: 2630 | F13: 6609 | G13: 5169 | H13: 1477 | I13: 228 | J13: 5 | K13: 0 | L13: 0
A14: 94 6 | B14: 17057 | C14: 0 | D14: 235 | E14: 2724 | F14: 6763 | G14: 5492 | H14: 1645 | I14: 188 | J14: 9 | K14: 0 | L14: 1
A15: 95 7 | B15: 16227 | C15: 0 | D15: 237 | E15: 2672 | F15: 6369 | G15: 5216 | H15: 1548 | I15: 179 | J15: 6 | K15: 0 | L15: 0
A16: 96 8 | B16: 16339 | C16: 0 | D16: 217 | E16: 2550 | F16: 6288 | G16: 5364 | H16: 1715 | I16: 197 | J16: 8 | K16: 0 | L16: 0
A17: 97 9 | B17: 15873 | C17: 1 | D17: 225 | E17: 2428 | F17: 6157 | G17: 5175 | H17: 1663 | I17: 216 | J17: 8 | K17: 0 | L17: 0
A18: 1998 平成10年 | B18: 16165 | C18: 2 | D18: 254 | E18: 2393 | F18: 6075 | G18: 5378 | H18: 1831 | I18: 225 | J18: 7 | K18: 0 | L18: 0
A19: 99 11 | B19: 15358 | C19: 1 | D19: 251 | E19: 2217 | F19: 5790 | G19: 5103 | H19: 1782 | I19: 209 | J19: 4 | K19: 0 | L19: 1
... A37: 17 29 | B37: 13821 | C37: 0 | D37: 121 | E37: 1144 | F37: 3423 | G37: 5100 | H37: 3212 | I37: 798 | J37: 23 | K37: 0 | L37: 0
A38: 18 30 | B38: =SUM(C38:L38) -> 13248 | C38: ='7 母の年齢階級・性別，区別出生数・百分率'!D5 -> 3 | D38: ='7 母の年齢階級・性別，区別出生数・百分率'!E5 -> 102 | E38: ='7 母の年齢階級・性別，区別出生数・百分率'!F5 -> 1125 | F38: ='7 母の年齢階級・性別，区別出生数・百分率'!G5 -> 3246 | G38: ='7 母の年齢階級・性別，区別出生数・百分率'!H5 -> 4783 | H38: ='7 母の年齢階級・性別，区別出生数・百分率'!I5 -> 3230 | I38: ='7 母の年齢階級・性別，区別出生数・百分率'!J5 -> 739 | J38: ='7 母の年齢階級・性別，区別出生数・百分率'!K5 -> 20 | ... L38: ='7 母の年齢階級・性別，区別出生数・百分率'!M5 -> 0
B39: 百分率
A40: 85 60 | B40: =SUM(C40:L40) -> 100 | C40: =C5/$B5*100 -> 0.0051775914 | D40: =D5/$B5*100 -> 1.2840427 | E40: =E5/$B5*100 -> 16.107487 | F40: =F5/$B5*100 -> 43.859377 | G40: =G5/$B5*100 -> 29.874702 | H40: =H5/$B5*100 -> 8.2013048 | I40: =I5/$B5*100 -> 0.63684374 | J40: =J5/$B5*100 -> 0.020710366 | ... L40: =L5/$B5*100 -> 0.010355183
A41: 1986 昭和61年 | B41: =SUM(C41:L41) -> 100 | C41: =C6/$B6*100 -> 0.0052273915 | D41: =D6/$B6*100 -> 1.2127548 | E41: =E6/$B6*100 -> 16.351281 | F41: =F6/$B6*100 -> 43.659174 | G41: =G6/$B6*100 -> 29.827496 | H41: =H6/$B6*100 -> 8.3533717 | I41: =I6/$B6*100 -> 0.55933089 | J41: =J6/$B6*100 -> 0.020909566 | ... L41: =L6/$B6*100 -> 0.010454783
A42: 1987 昭和62年 | B42: =SUM(C42:L42) -> 100 | C42: =C7/$B7*100 -> 0 | D42: =D7/$B7*100 -> 1.2356337 | E42: =E7/$B7*100 -> 15.24308 | F42: =F7/$B7*100 -> 43.819133 | G42: =G7/$B7*100 -> 30.092268 | H42: =H7/$B7*100 -> 8.8221011 | I42: =I7/$B7*100 -> 0.75540927 | J42: =J7/$B7*100 -> 0.026978902 | ... L42: =L7/$B7*100 -> 0.0053957805
A43: 1988 昭和63年 | B43: 100 | C43: 0 | D43: 1.4877031 | E43: 16.134168 | F43: 42.835968 | G43: 30.176768 | H43: 8.5803689 | I43: 0.7740448 | J43: 0.010979359 | K43: 0 | L43: 0
A44: 89 平成元年 | B44: 100 | C44: 0.0057211511 | D44: 1.3444705 | E44: 15.95629 | F44: 41.987528 | G44: 30.413639 | H44: 9.2110533 | I44: 1.0698553 | J44: 0.0057211511 | K44: 0 | L44: 0.0057211511
A45: 90 2 | B45: 100 | C45: 0 | D45: 1.6068867 | E45: 15.512195 | F45: 42.065997 | G45: 30.163558 | H45: 9.5150646 | I45: 1.1190818 | J45: 0.017216643 | K45: 0 | L45: 0
A46: 91 3 | B46: 100 | C46: 0 | D46: 1.4892886 | E46: 16.370718 | F46: 40.949708 | G46: 31.154771 | H46: 8.8326269 | I46: 1.1914309 | J46: 0.011456066 | K46: 0 | L46: 0
A47: 92 4 | B47: 100 | C47: 0 | D47: 1.6623377 | E47: 16.265512 | F47: 40.190476 | G47: 31.330447 | H47: 9.2236652 | I47: 1.2929293 | J47: 0.023088023 | K47: 0 | L47: 0.011544012
A48: 1993 平成5年 | B48: 100 | C48: 0 | D48: 1.5454157 | E48: 16.064993 | F48: 40.370167 | G48: 31.574125 | H48: 9.0220512 | I48: 1.3927066 | J48: 0.030541812 | K48: 0 | L48: 0
A49: 94 6 | B49: 100 | C49: 0 | D49: 1.3777335 | E49: 15.969983 | F49: 39.649411 | G49: 32.197925 | H49: 9.6441344 | I49: 1.1021868 | J49: 0.052764261 | K49: 0 | L49: 0.0058626957
A50: 95 7 | B50: 100 | C50: 0 | D50: 1.4605287 | E50: 16.466383 | F50: 39.249399 | G50: 32.143958 | H50: 9.5396561 | I50: 1.1030998 | J50: 0.036975411 | K50: 0 | L50: 0
A51: 96 8 | B51: 100 | C51: 0 | D51: 1.3281107 | E51: 15.60683 | F51: 38.484607 | G51: 32.829427 | H51: 10.496358 | I51: 1.2057041 | J51: 0.048962605 | K51: 0 | L51: 0
A52: 97 9 | B52: 100 | C52: 0.0063000063 | D52: 1.4175014 | E52: 15.296415 | F52: 38.789139 | G52: 32.602533 | H52: 10.47691 | I52: 1.3608014 | J52: 0.05040005 | K52: 0 | L52: 0
A53: 1998 平成10年 | B53: 100 | C53: 0.01237241 | D53: 1.571296 | E53: 14.803588 | F53: 37.581194 | G53: 33.269409 | H53: 11.326941 | I53: 1.3918961 | J53: 0.043303433 | K53: 0 | L53: 0
A54: 99 11 | B54: 100 | C54: 0.0065112645 | D54: 1.6343274 | E54: 14.435473 | F54: 37.700221 | G54: 33.226983 | H54: 11.603073 | I54: 1.3608543 | J54: 0.026045058 | K54: 0 | L54: 0.0065112645
... A72: 17 29 | B72: 100 | C72: 0 | D72: 0.87547934 | E72: 8.2772592 | F72: 24.766659 | G72: 36.900369 | H72: 23.239997 | I72: 5.7738224 | J72: 0.16641343 | K72: 0 | L72: 0
A73: 18 30 | B73: =SUM(C73:L73) -> 100 | C73: =C38/$B38*100 -> 0.022644928 | D73: =D38/$B38*100 -> 0.76992754 | E73: =E38/$B38*100 -> 8.4918478 | F73: =F38/$B38*100 -> 24.501812 | G73: =G38/$B38*100 -> 36.103563 | H73: =H38/$B38*100 -> 24.381039 | I73: =I38/$B38*100 -> 5.5782005 | J73: =J38/$B38*100 -> 0.15096618 | ... L73: =L38/$B38*100 -> 0

Sheet 7　母の年齢階級・性別，区別出生数・百分率
A1: 7 母の年齢(5歳階級)・性別にみた区別出生数及び百分率
M2: ='3 月・性別，区別出生数・出生率'!$O$2 -> 平成30年
A3: 区・性 | C3: 総数 | D3: 14歳以下 | E3: 15～19 | F3: 20～24 | G3: 25～29 | H3: 30～34 | I3: 35～39 | J3: 40～44 | K3: 45～49 | L3: 50～ | M3: 不詳
C4: 出生数
A5: 総数 | C5: =SUM(C8,C11,C14,C17,C20,C23,C26,C29,C32,C35) -> 13248 | D5: =SUM(D8,D11,D14,D17,D20,D23,D26,D29,D32,D35) -> 3 | E5: =SUM(E8,E11,E14,E17,E20,E23,E26,E29,E32,E35) -> 102 | F5: =SUM(F8,F11,F14,F17,F20,F23,F26,F29,F32,F35) -> 1125 | G5: =SUM(G8,G11,G14,G17,G20,G23,G26,G29,G32,G35) -> 3246 | H5: =SUM(H8,H11,H14,H17,H20,H23,H26,H29,H32,H35) -> 4783 | I5: =SUM(I8,I11,I14,I17,I20,I23,I26,I29,I32,I35) -> 3230 | J5: =SUM(J8,J11,J14,J17,J20,J23,J26,J29,J32,J35) -> 739 | ... M5: =SUM(M8,M11,M14,M17,M20,M23,M26,M29,M32,M35) -> 0
B6: 男 | C6: =SUM(C9,C12,C15,C18,C21,C24,C27,C30,C33,C36) -> 6744 | D6: =SUM(D9,D12,D15,D18,D21,D24,D27,D30,D33,D36) -> 0 | E6: =SUM(E9,E12,E15,E18,E21,E24,E27,E30,E33,E36) -> 60 | F6: =SUM(F9,F12,F15,F18,F21,F24,F27,F30,F33,F36) -> 562 | G6: =SUM(G9,G12,G15,G18,G21,G24,G27,G30,G33,G36) -> 1619 | H6: =SUM(H9,H12,H15,H18,H21,H24,H27,H30,H33,H36) -> 2447 | I6: =SUM(I9,I12,I15,I18,I21,I24,I27,I30,I33,I36) -> 1666 | J6: =SUM(J9,J12,J15,J18,J21,J24,J27,J30,J33,J36) -> 378 | ... M6: =SUM(M9,M12,M15,M18,M21,M24,M27,M30,M33,M36) -> 0
B7: 女 | C7: =SUM(C10,C13,C16,C19,C22,C25,C28,C31,C34,C37) -> 6504 | D7: =SUM(D10,D13,D16,D19,D22,D25,D28,D31,D34,D37) -> 3 | E7: =SUM(E10,E13,E16,E19,E22,E25,E28,E31,E34,E37) -> 42 | F7: =SUM(F10,F13,F16,F19,F22,F25,F28,F31,F34,F37) -> 563 | G7: =SUM(G10,G13,G16,G19,G22,G25,G28,G31,G34,G37) -> 1627 | H7: =SUM(H10,H13,H16,H19,H22,H25,H28,H31,H34,H37) -> 2336 | I7: =SUM(I10,I13,I16,I19,I22,I25,I28,I31,I34,I37) -> 1564 | J7: =SUM(J10,J13,J16,J19,J22,J25,J28,J31,J34,J37) -> 361 | ... M7: =SUM(M10,M13,M16,M19,M22,M25,M28,M31,M34,M37) -> 0
A8: 中央 | C8: =SUM(D8:M8) -> 1744 | D8: =SUM(D9:D10) -> 0 | E8: =SUM(E9:E10) -> 9 | F8: =SUM(F9:F10) -> 126 | G8: =SUM(G9:G10) -> 383 | H8: =SUM(H9:H10) -> 615 | I8: =SUM(I9:I10) -> 465 | J8: =SUM(J9:J10) -> 144 | K8: =SUM(K9:K10) -> 2 | ... M8: =SUM(M9:M10) -> 0
B9: 男 | C9: =SUM(D9:M9) -> 918 | D9: 0 | E9: 6 | F9: 60 | G9: 207 | H9: 316 | I9: 254 | J9: 74 | K9: 1 | L9: 0 | M9: 0
B10: 女 | C10: =SUM(D10:M10) -> 826 | D10: 0 | E10: 3 | F10: 66 | G10: 176 | H10: 299 | I10: 211 | J10: 70 | K10: 1 | L10: 0 | M10: 0
A11: 北 | C11: =SUM(D11:M11) -> 1847 | D11: =SUM(D12:D13) -> 1 | E11: =SUM(E12:E13) -> 13 | F11: =SUM(F12:F13) -> 159 | G11: =SUM(G12:G13) -> 457 | H11: =SUM(H12:H13) -> 651 | I11: =SUM(I12:I13) -> 459 | J11: =SUM(J12:J13) -> 105 | K11: =SUM(K12:K13) -> 2 | ... M11: =SUM(M12:M13) -> 0
B12: 男 | C12: =SUM(D12:M12) -> 922 | D12: 0 | E12: 3 | F12: 85 | G12: 215 | H12: 331 | I12: 227 | J12: 59 | K12: 2 | L12: 0 | M12: 0
B13: 女 | C13: =SUM(D13:M13) -> 925 | D13: 1 | E13: 10 | F13: 74 | G13: 242 | H13: 320 | I13: 232 | J13: 46 | K13: 0 | L13: 0 | M13: 0
A14: 東 | C14: =SUM(D14:M14) -> 1978 | D14: =SUM(D15:D16) -> 1 | E14: =SUM(E15:E16) -> 27 | F14: =SUM(F15:F16) -> 173 | G14: =SUM(G15:G16) -> 521 | H14: =SUM(H15:H16) -> 719 | I14: =SUM(I15:I16) -> 433 | J14: =SUM(J15:J16) -> 100 | K14: =SUM(K15:K16) -> 4 | ... M14: =SUM(M15:M16) -> 0
B15: 男 | C15: =SUM(D15:M15) -> 995 | D15: 0 | E15: 19 | F15: 78 | G15: 268 | H15: 375 | I15: 205 | J15: 50 | K15: 0 | L15: 0 | M15: 0
B16: 女 | C16: =SUM(D16:M16) -> 983 | D16: 1 | E16: 8 | F16: 95 | G16: 253 | H16: 344 | I16: 228 | J16: 50 | K16: 4 | L16: 0 | M16: 0
A17: 白石 | C17: =SUM(D17:M17) -> 1711 | D17: =SUM(D18:D19) -> 0 | E17: =SUM(E18:E19) -> 10 | F17: =SUM(F18:F19) -> 184 | G17: =SUM(G18:G19) -> 440 | H17: =SUM(H18:H19) -> 620 | I17: =SUM(I18:I19) -> 380 | J17: =SUM(J18:J19) -> 76 | K17: =SUM(K18:K19) -> 1 | ... M17: =SUM(M18:M19) -> 0
B18: 男 | C18: =SUM(D18:M18) -> 882 | D18: 0 | E18: 5 | F18: 98 | G18: 214 | H18: 317 | I18: 211 | J18: 36 | K18: 1 | L18: 0 | M18: 0
B19: 女 | C19: =SUM(D19:M19) -> 829 | D19: 0 | E19: 5 | F19: 86 | G19: 226 | H19: 303 | I19: 169 | J19: 40 | K19: 0 | L19: 0 | M19: 0
A20: 厚別 | C20: =SUM(D20:M20) -> 661 | D20: =SUM(D21:D22) -> 0 | E20: =SUM(E21:E22) -> 6 | F20: =SUM(F21:F22) -> 45 | G20: =SUM(G21:G22) -> 145 | H20: =SUM(H21:H22) -> 247 | I20: =SUM(I21:I22) -> 175 | J20: =SUM(J21:J22) -> 43 | K20: =SUM(K21:K22) -> 0 | ... M20: =SUM(M21:M22) -> 0
B21: 男 | C21: =SUM(D21:M21) -> 360 | D21: 0 | E21: 5 | F21: 27 | G21: 78 | H21: 131 | I21: 94 | J21: 25 | K21: 0 | L21: 0 | M21: 0
B22: 女 | C22: =SUM(D22:M22) -> 301 | D22: 0 | E22: 1 | F22: 18 | G22: 67 | H22: 116 | I22: 81 | J22: 18 | K22: 0 | L22: 0 | M22: 0
A23: 豊平 | C23: =SUM(D23:M23) -> 1682 | D23: =SUM(D24:D25) -> 0 | E23: =SUM(E24:E25) -> 18 | F23: =SUM(F24:F25) -> 145 | G23: =SUM(G24:G25) -> 457 | H23: =SUM(H24:H25) -> 630 | I23: =SUM(I24:I25) -> 352 | J23: =SUM(J24:J25) -> 79 | K23: =SUM(K24:K25) -> 1 | ... M23: =SUM(M24:M25) -> 0
B24: 男 | C24: =SUM(D24:M24) -> 855 | D24: 0 | E24: 13 | F24: 64 | G24: 241 | H24: 319 | I24: 178 | J24: 39 | K24: 1 | L24: 0 | M24: 0
B25: 女 | C25: =SUM(D25:M25) -> 827 | D25: 0 | E25: 5 | F25: 81 | G25: 216 | H25: 311 | I25: 174 | J25: 40 | K25: 0 | L25: 0 | M25: 0
A26: 清田 | C26: =SUM(D26:M26) -> 644 | D26: =SUM(D27:D28) -> 0 | E26: =SUM(E27:E28) -> 3 | F26: =SUM(F27:F28) -> 57 | G26: =SUM(G27:G28) -> 136 | H26: =SUM(H27:H28) -> 214 | I26: =SUM(I27:I28) -> 192 | J26: =SUM(J27:J28) -> 39 | K26: =SUM(K27:K28) -> 3 | ... M26: =SUM(M27:M28) -> 0
B27: 男 | C27: =SUM(D27:M27) -> 319 | D27: 0 | E27: 2 | F27: 30 | G27: 71 | H27: 99 | I27: 98 | J27: 16 | K27: 3 | L27: 0 | M27: 0
B28: 女 | C28: =SUM(D28:M28) -> 325 | D28: 0 | E28: 1 | F28: 27 | G28: 65 | H28: 115 | I28: 94 | J28: 23 | K28: 0 | L28: 0 | M28: 0
A29: 南 | C29: =SUM(D29:M29) -> 642 | D29: =SUM(D30:D31) -> 0 | E29: =SUM(E30:E31) -> 5 | F29: =SUM(F30:F31) -> 49 | G29: =SUM(G30:G31) -> 158 | H29: =SUM(H30:H31) -> 235 | I29: =SUM(I30:I31) -> 157 | J29: =SUM(J30:J31) -> 36 | K29: =SUM(K30:K31) -> 2 | ... M29: =SUM(M30:M31) -> 0
B30: 男 | C30: =SUM(D30:M30) -> 326 | D30: 0 | E30: 3 | F30: 25 | G30: 68 | H30: 125 | I30: 84 | J30: 20 | K30: 1 | L30: 0 | M30: 0
B31: 女 | C31: =SUM(D31:M31) -> 316 | D31: 0 | E31: 2 | F31: 24 | G31: 90 | H31: 110 | I31: 73 | J31: 16 | K31: 1 | L31: 0 | M31: 0
A32: 西 | C32: =SUM(D32:M32) -> 1530 | D32: =SUM(D33:D34) -> 1 | E32: =SUM(E33:E34) -> 6 | F32: =SUM(F33:F34) -> 108 | G32: =SUM(G33:G34) -> 377 | H32: =SUM(H33:H34) -> 549 | I32: =SUM(I33:I34) -> 413 | J32: =SUM(J33:J34) -> 73 | K32: =SUM(K33:K34) -> 3 | ... M32: =SUM(M33:M34) -> 0
B33: 男 | C33: =SUM(D33:M33) -> 772 | D33: 0 | E33: 3 | F33: 54 | G33: 182 | H33: 283 | I33: 213 | J33: 35 | K33: 2 | L33: 0 | M33: 0
B34: 女 | C34: =SUM(D34:M34) -> 758 | D34: 1 | E34: 3 | F34: 54 | G34: 195 | H34: 266 | I34: 200 | J34: 38 | K34: 1 | L34: 0 | M34: 0
A35: 手稲 | C35: =SUM(D35:M35) -> 809 | D35: =SUM(D36:D37) -> 0 | E35: =SUM(E36:E37) -> 5 | F35: =SUM(F36:F37) -> 79 | G35: =SUM(G36:G37) -> 172 | H35: =SUM(H36:H37) -> 303 | I35: =SUM(I36:I37) -> 204 | J35: =SUM(J36:J37) -> 44 | K35: =SUM(K36:K37) -> 2 | ... M35: =SUM(M36:M37) -> 0
B36: 男 | C36: =SUM(D36:M36) -> 395 | D36: 0 | E36: 1 | F36: 41 | G36: 75 | H36: 151 | I36: 102 | J36: 24 | K36: 1 | L36: 0 | M36: 0
B37: 女 | C37: =SUM(D37:M37) -> 414 | D37: 0 | E37: 4 | F37: 38 | G37: 97 | H37: 152 | I37: 102 | J37: 20 | K37: 1 | L37: 0 | M37: 0
C38: 百分率
A39: 総数 | C39: =C5/$C5*100 -> 100 | D39: =D5/$C5*100 -> 0.022644928 | E39: =E5/$C5*100 -> 0.76992754 | F39: =F5/$C5*100 -> 8.4918478 | G39: =G5/$C5*100 -> 24.501812 | H39: =H5/$C5*100 -> 36.103563 | I39: =I5/$C5*100 -> 24.381039 | J39: =J5/$C5*100 -> 5.5782005 | ... M39: =M5/$C5*100 -> 0
A40: 中央 | C40: =C8/$C8*100 -> 100 | D40: =D8/$C8*100 -> 0 | E40: =E8/$C8*100 -> 0.51605505 | F40: =F8/$C8*100 -> 7.2247706 | G40: =G8/$C8*100 -> 21.961009 | H40: =H8/$C8*100 -> 35.263761 | I40: =I8/$C8*100 -> 26.662844 | J40: =J8/$C8*100 -> 8.2568807 | ... M40: =M8/$C8*100 -> 0
...

Sheet 8出生順位，年次別出生数・百分率
A1: 8 出生順位別にみた年次別出生数及び百分率
A3: 年次 | B3: 総数 | C3: 第1子 | D3: 第2子 | E3: 第3子 | F3: 第4子 | G3: 第5子以上 | H3: 不詳
B4: 出生数
A5: 85 60 | B5: =SUM(C5:H5) -> 19314 | C5: 8813 | D5: 7402 | E5: 2574 | F5: 397 | G5: 128 | H5: 0
A6: 1986 昭和61年 | B6: =SUM(C6:H6) -> 19130 | C6: 8707 | D6: 7360 | E6: 2519 | F6: 438 | G6: 106 | H6: 0
A7: 1987 昭和62年 | B7: =SUM(C7:H7) -> 18533 | C7: 8440 | D7: 7071 | E7: 2547 | F7: 379 | G7: 96 | H7: 0
A8: 1988 昭和63年 | B8: 18216 | C8: 8247 | D8: 7039 | E8: 2442 | F8: 409 | G8: 79 | H8: 0
A9: 89 平成元年 | B9: 17479 | C9: 8068 | D9: 6558 | E9: 2343 | F9: 405 | G9: 105 | H9: 0
A10: 90 2 | B10: 17425 | C10: 8151 | D10: 6509 | E10: 2265 | F10: 400 | G10: 100 | H10: 0
A11: 91 3 | B11: 17458 | C11: 8473 | D11: 6332 | E11: 2225 | F11: 338 | G11: 90 | H11: 0
A12: 92 4 | B12: 17325 | C12: 8611 | D12: 6055 | E12: 2151 | F12: 385 | G12: 123 | H12: 0
A13: 1993 平成5年 | B13: 16371 | C13: 8292 | D13: 5780 | E13: 1891 | F13: 319 | G13: 89 | H13: 0
A14: 94 6 | B14: 17057 | C14: 8701 | D14: 6017 | E14: 1931 | F14: 324 | G14: 84 | H14: 0
A15: 95 7 | B15: 16227 | C15: 8331 | D15: 5674 | E15: 1803 | F15: 335 | G15: 84 | H15: 0
A16: 96 8 | B16: 16339 | C16: 8468 | D16: 5704 | E16: 1765 | F16: 310 | G16: 92 | H16: 0
A17: 97 9 | B17: 15873 | C17: 8245 | D17: 5666 | E17: 1605 | F17: 275 | G17: 82 | H17: 0
A18: 1998 平成10年 | B18: 16165 | C18: 8476 | D18: 5687 | E18: 1612 | F18: 300 | G18: 90 | H18: 0
A19: 99 11 | B19: 15358 | C19: 8177 | D19: 5381 | E19: 1459 | F19: 251 | G19: 90 | H19: 0
... A37: 17 29 | B37: 13821 | C37: 7001 | D37: 4932 | E37: 1449 | F37: 312 | G37: 127 | H37: 0
A38: 18 30 | B38: =SUM(C38:H38) -> 13248 | C38: ='9 区・出生順位別，出生数'!$D$5 -> 6691 | D38: ='9 区・出生順位別，出生数'!$E$5 -> 4753 | E38: ='9 区・出生順位別，出生数'!$F$5 -> 1413 | F38: ='9 区・出生順位別，出生数'!$G$5 -> 287 | G38: ='9 区・出生順位別，出生数'!$H$5 -> 104 | H38: ='9 区・出生順位別，出生数'!$I$5 -> 0
B39: 百分率
A40: 85 60 | B40: =SUM(C40:H40) -> 100 | C40: =C5/$B5*100 -> 45.630113 | D40: =D5/$B5*100 -> 38.324531 | E40: =E5/$B5*100 -> 13.32712 | F40: =F5/$B5*100 -> 2.0555038 | G40: =G5/$B5*100 -> 0.6627317 | H40: =H5/$B5*100 -> 0
A41: 1986 昭和61年 | B41: =SUM(C41:H41) -> 100 | C41: =C6/$B6*100 -> 45.514898 | D41: =D6/$B6*100 -> 38.473602 | E41: =E6/$B6*100 -> 13.167799 | F41: =F6/$B6*100 -> 2.2895975 | G41: =G6/$B6*100 -> 0.5541035 | H41: =H6/$B6*100 -> 0
A42: 1987 昭和62年 | B42: =SUM(C42:H42) -> 100 | C42: =C7/$B7*100 -> 45.540387 | D42: =D7/$B7*100 -> 38.153564 | E42: =E7/$B7*100 -> 13.743053 | F42: =F7/$B7*100 -> 2.0450008 | G42: =G7/$B7*100 -> 0.51799493 | H42: =H7/$B7*100 -> 0
A43: 1988 昭和63年 | B43: 100 | C43: 45.273386 | D43: 38.641853 | E43: 13.405797 | F43: 2.2452789 | G43: 0.43368467 | H43: 0
A44: 89 平成元年 | B44: 100 | C44: 46.158247 | D44: 37.519309 | E44: 13.404657 | F44: 2.3170662 | G44: 0.60072087 | H44: 0
A45: 90 2 | B45: 100 | C45: 46.777618 | D45: 37.354376 | E45: 12.998565 | F45: 2.2955524 | G45: 0.57388809 | H45: 0
A46: 91 3 | B46: 100 | C46: 48.533624 | D46: 36.269905 | E46: 12.744873 | F46: 1.9360752 | G46: 0.51552297 | H46: 0
A47: 92 4 | B47: 100 | C47: 49.702742 | D47: 34.949495 | E47: 12.415584 | F47: 2.2222222 | G47: 0.70995671 | H47: 0
A48: 1993 平成5年 | B48: 100 | C48: 50.650541 | D48: 35.306334 | E48: 11.550913 | F48: 1.9485676 | G48: 0.54364425 | H48: 0
A49: 94 6 | B49: 100 | C49: 51.011315 | D49: 35.27584 | E49: 11.320865 | F49: 1.8995134 | G49: 0.49246644 | H49: 0
A50: 95 7 | B50: 100 | C50: 51.340359 | D50: 34.966414 | E50: 11.111111 | F50: 2.0644605 | G50: 0.51765576 | H50: 0
A51: 96 8 | B51: 100 | C51: 51.826917 | D51: 34.910337 | E51: 10.802375 | F51: 1.8973009 | G51: 0.56306996 | H51: 0
A52: 97 9 | B52: 100 | C52: 51.943552 | D52: 35.695836 | E52: 10.11151 | F52: 1.7325017 | G52: 0.51660052 | H52: 0
A53: 1998 平成10年 | B53: 100 | C53: 52.434272 | D53: 35.180946 | E53: 9.9721621 | F53: 1.8558614 | G53: 0.55675843 | H53: 0
A54: 99 11 | B54: 100 | C54: 53.24261 | D54: 35.037114 | E54: 9.4999349 | F54: 1.6343274 | G54: 0.5860138 | H54: 0
... A72: 17 29 | B72: 100 | C72: 50.654801 | D72: 35.684827 | E72: 10.484046 | F72: 2.2574343 | G72: 0.91889154 | H72: 0
A73: 18 30 | B73: =SUM(C73:H73) -> 100 | C73: =C38/$B38*100 -> 50.505737 | D73: =D38/$B38*100 -> 35.877114 | E73: =E38/$B38*100 -> 10.665761 | F73: =F38/$B38*100 -> 2.1663647 | G73: =G38/$B38*100 -> 0.78502415 | H73: =H38/$B38*100 -> 0

Sheet 9　区・出生順位別，出生数
A1: 9 出生順位・性別にみた区別出生数及び百分率
I2: ='3 月・性別，区別出生数・出生率'!$O$2 -> 平成30年
A3: 区・性 | C3: 総数 | D3: 第1子 | E3: 第2子 | F3: 第3子 | G3: 第4子 | H3: 第5子～ | I3: 不詳
C4: 出生数
A5: 総数 | C5: =SUM(C8,C11,C14,C17,C20,C23,C26,C29,C32,C35) -> 13248 | D5: =SUM(D8,D11,D14,D17,D20,D23,D26,D29,D32,D35) -> 6691 | E5: =SUM(E8,E11,E14,E17,E20,E23,E26,E29,E32,E35) -> 4753 | F5: =SUM(F8,F11,F14,F17,F20,F23,F26,F29,F32,F35) -> 1413 | G5: =SUM(G8,G11,G14,G17,G20,G23,G26,G29,G32,G35) -> 287 | H5: =SUM(H8,H11,H14,H17,H20,H23,H26,H29,H32,H35) -> 104 | I5: =SUM(I8,I11,I14,I17,I20,I23,I26,I29,I32,I35) -> 0
B6: 男 | C6: =SUM(C9,C12,C15,C18,C21,C24,C27,C30,C33,C36) -> 6744 | D6: =SUM(D9,D12,D15,D18,D21,D24,D27,D30,D33,D36) -> 3415 | E6: =SUM(E9,E12,E15,E18,E21,E24,E27,E30,E33,E36) -> 2398 | F6: =SUM(F9,F12,F15,F18,F21,F24,F27,F30,F33,F36) -> 739 | G6: =SUM(G9,G12,G15,G18,G21,G24,G27,G30,G33,G36) -> 140 | H6: =SUM(H9,H12,H15,H18,H21,H24,H27,H30,H33,H36) -> 52 | I6: =SUM(I9,I12,I15,I18,I21,I24,I27,I30,I33,I36) -> 0
B7: 女 | C7: =SUM(C10,C13,C16,C19,C22,C25,C28,C31,C34,C37) -> 6504 | D7: =SUM(D10,D13,D16,D19,D22,D25,D28,D31,D34,D37) -> 3276 | E7: =SUM(E10,E13,E16,E19,E22,E25,E28,E31,E34,E37) -> 2355 | F7: =SUM(F10,F13,F16,F19,F22,F25,F28,F31,F34,F37) -> 674 | G7: =SUM(G10,G13,G16,G19,G22,G25,G28,G31,G34,G37) -> 147 | H7: =SUM(H10,H13,H16,H19,H22,H25,H28,H31,H34,H37) -> 52 | I7: =SUM(I10,I13,I16,I19,I22,I25,I28,I31,I34,I37) -> 0
A8: 中央 | C8: =SUM(D8:J8) -> 1744 | D8: =SUM(D9:D10) -> 985 | E8: =SUM(E9:E10) -> 582 | F8: =SUM(F9:F10) -> 153 | G8: =SUM(G9:G10) -> 14 | H8: =SUM(H9:H10) -> 10 | I8: =SUM(I9:I10) -> 0
B9: 男 | C9: =SUM(D9:J9) -> 918 | D9: 527 | E9: 297 | F9: 79 | G9: 10 | H9: 5 | I9: 0
B10: 女 | C10: =SUM(D10:J10) -> 826 | D10: 458 | E10: 285 | F10: 74 | G10: 4 | H10: 5 | I10: 0
A11: 北 | C11: =SUM(D11:J11) -> 1847 | D11: =SUM(D12:D13) -> 853 | E11: =SUM(E12:E13) -> 723 | F11: =SUM(F12:F13) -> 202 | G11: =SUM(G12:G13) -> 51 | H11: =SUM(H12:H13) -> 18 | I11: =SUM(I12:I13) -> 0
B12: 男 | C12: =SUM(D12:J12) -> 922 | D12: 414 | E12: 365 | F12: 109 | G12: 27 | H12: 7 | I12: 0
B13: 女 | C13: =SUM(D13:J13) -> 925 | D13: 439 | E13: 358 | F13: 93 | G13: 24 | H13: 11 | I13: 0
A14: 東 | C14: =SUM(D14:J14) -> 1978 | D14: =SUM(D15:D16) -> 972 | E14: =SUM(E15:E16) -> 721 | F14: =SUM(F15:F16) -> 215 | G14: =SUM(G15:G16) -> 54 | H14: =SUM(H15:H16) -> 16 | I14: =SUM(I15:I16) -> 0
B15: 男 | C15: =SUM(D15:J15) -> 995 | D15: 488 | E15: 347 | F15: 120 | G15: 29 | H15: 11 | I15: 0
B16: 女 | C16: =SUM(D16:J16) -> 983 | D16: 484 | E16: 374 | F16: 95 | G16: 25 | H16: 5 | I16: 0
A17: 白石 | C17: =SUM(D17:J17) -> 1711 | D17: =SUM(D18:D19) -> 945 | E17: =SUM(E18:E19) -> 556 | F17: =SUM(F18:F19) -> 166 | G17: =SUM(G18:G19) -> 30 | H17: =SUM(H18:H19) -> 14 | I17: =SUM(I18:I19) -> 0
B18: 男 | C18: =SUM(D18:J18) -> 882 | D18: 492 | E18: 281 | F18: 88 | G18: 15 | H18: 6 | I18: 0
B19: 女 | C19: =SUM(D19:J19) -> 829 | D19: 453 | E19: 275 | F19: 78 | G19: 15 | H19: 8 | I19: 0
A20: 厚別 | C20: =SUM(D20:J20) -> 661 | D20: =SUM(D21:D22) -> 320 | E20: =SUM(E21:E22) -> 234 | F20: =SUM(F21:F22) -> 80 | G20: =SUM(G21:G22) -> 18 | H20: =SUM(H21:H22) -> 9 | I20: =SUM(I21:I22) -> 0
B21: 男 | C21: =SUM(D21:J21) -> 360 | D21: 171 | E21: 125 | F21: 50 | G21: 10 | H21: 4 | I21: 0
B22: 女 | C22: =SUM(D22:J22) -> 301 | D22: 149 | E22: 109 | F22: 30 | G22: 8 | H22: 5 | I22: 0
A23: 豊平 | C23: =SUM(D23:J23) -> 1682 | D23: =SUM(D24:D25) -> 957 | E23: =SUM(E24:E25) -> 550 | F23: =SUM(F24:F25) -> 145 | G23: =SUM(G24:G25) -> 23 | H23: =SUM(H24:H25) -> 7 | I23: =SUM(I24:I25) -> 0
B24: 男 | C24: =SUM(D24:J24) -> 855 | D24: 497 | E24: 274 | F24: 69 | G24: 13 | H24: 2 | I24: 0
B25: 女 | C25: =SUM(D25:J25) -> 827 | D25: 460 | E25: 276 | F25: 76 | G25: 10 | H25: 5 | I25: 0
A26: 清田 | C26: =SUM(D26:J26) -> 644 | D26: =SUM(D27:D28) -> 230 | E26: =SUM(E27:E28) -> 271 | F26: =SUM(F27:F28) -> 103 | G26: =SUM(G27:G28) -> 30 | H26: =SUM(H27:H28) -> 10 | I26: =SUM(I27:I28) -> 0
B27: 男 | C27: =SUM(D27:J27) -> 319 | D27: 111 | E27: 140 | F27: 49 | G27: 11 | H27: 8 | I27: 0
B28: 女 | C28: =SUM(D28:J28) -> 325 | D28: 119 | E28: 131 | F28: 54 | G28: 19 | H28: 2 | I28: 0
A29: 南 | C29: =SUM(D29:J29) -> 642 | D29: =SUM(D30:D31) -> 274 | E29: =SUM(E30:E31) -> 255 | F29: =SUM(F30:F31) -> 91 | G29: =SUM(G30:G31) -> 17 | H29: =SUM(H30:H31) -> 5 | I29: =SUM(I30:I31) -> 0
B30: 男 | C30: =SUM(D30:J30) -> 326 | D30: 135 | E30: 126 | F30: 52 | G30: 10 | H30: 3 | I30: 0
B31: 女 | C31: =SUM(D31:J31) -> 316 | D31: 139 | E31: 129 | F31: 39 | G31: 7 | H31: 2 | I31: 0
A32: 西 | C32: =SUM(D32:J32) -> 1530 | D32: =SUM(D33:D34) -> 804 | E32: =SUM(E33:E34) -> 539 | F32: =SUM(F33:F34) -> 149 | G32: =SUM(G33:G34) -> 29 | H32: =SUM(H33:H34) -> 9 | I32: =SUM(I33:I34) -> 0
B33: 男 | C33: =SUM(D33:J33) -> 772 | D33: 415 | E33: 276 | F33: 69 | G33: 8 | H33: 4 | I33: 0
B34: 女 | C34: =SUM(D34:J34) -> 758 | D34: 389 | E34: 263 | F34: 80 | G34: 21 | H34: 5 | I34: 0
A35: 手稲 | C35: =SUM(D35:J35) -> 809 | D35: =SUM(D36:D37) -> 351 | E35: =SUM(E36:E37) -> 322 | F35: =SUM(F36:F37) -> 109 | G35: =SUM(G36:G37) -> 21 | H35: =SUM(H36:H37) -> 6 | I35: =SUM(I36:I37) -> 0
B36: 男 | C36: =SUM(D36:J36) -> 395 | D36: 165 | E36: 167 | F36: 54 | G36: 7 | H36: 2 | I36: 0
B37: 女 | C37: =SUM(D37:J37) -> 414 | D37: 186 | E37: 155 | F37: 55 | G37: 14 | H37: 4 | I37: 0
C38: 百分率
A39: 総数 | C39: ='9 区・出生順位別，出生数'!C5/'9 区・出生順位別，出生数'!$C$5*100 -> 100 | D39: ='9 区・出生順位別，出生数'!D5/'9 区・出生順位別，出生数'!$C$5*100 -> 50.505737 | E39: ='9 区・出生順位別，出生数'!E5/'9 区・出生順位別，出生数'!$C$5*100 -> 35.877114 | F39: ='9 区・出生順位別，出生数'!F5/'9 区・出生順位別，出生数'!$C$5*100 -> 10.665761 | G39: ='9 区・出生順位別，出生数'!G5/'9 区・出生順位別，出生数'!$C$5*100 -> 2.1663647 | H39: ='9 区・出生順位別，出生数'!H5/'9 区・出生順位別，出生数'!$C$5*100 -> 0.78502415 | I39: ='9 区・出生順位別，出生数'!I5/'9 区・出生順位別，出生数'!$C$5*100 -> 0
A40: 中央 | C40: ='9 区・出生順位別，出生数'!C8/'9 区・出生順位別，出生数'!$C$8*100 -> 100 | D40: ='9 区・出生順位別，出生数'!D8/'9 区・出生順位別，出生数'!$C$8*100 -> 56.479358 | E40: ='9 区・出生順位別，出生数'!E8/'9 区・出生順位別，出生数'!$C$8*100 -> 33.37156 | F40: ='9 区・出生順位別，出生数'!F8/'9 区・出生順位別，出生数'!$C$8*100 -> 8.7729358 | G40: ='9 区・出生順位別，出生数'!G8/'9 区・出生順位別，出生数'!$C$8*100 -> 0.80275229 | H40: ='9 区・出生順位別，出生数'!H8/'9 区・出生順位別，出生数'!$C$8*100 -> 0.5733945 | I40: ='9 区・出生順位別，出生数'!I8/'9 区・出生順位別，出生数'!$C$8*100 -> 0
...

Sheet 10　出生順位別，母の年齢別出生数
A1: 10 出生順位別にみた母の年齢（5歳階級）別出生数
H2: ='3 月・性別，区別出生数・出生率'!$O$2 -> 平成30年
A3: 母の年齢 | B3: 総数 | C3: 第1子 | D3: 第2子 | E3: 第3子 | F3: 第4子 | G3: 第5子～ | H3: 不 詳
A4: 15～49歳 | B4: =SUM(C4:H4) -> 13245 | C4: =SUM(C5:C11) -> 6688 | D4: =SUM(D5:D11) -> 4753 | E4: =SUM(E5:E11) -> 1413 | F4: =SUM(F5:F11) -> 287 | G4: =SUM(G5:G11) -> 104 | H4: =SUM(H5:H11) -> 0
