Workbook

Sheet 1 年次別，死産数・死産率・死産性比
A1: 第5章 死 産
A2: 1 年次別にみた死産数・死産率（出産千対）及び死産性比
A4: 年 次 | B4: 出生数 | C4: 死産数 | G4: 死産率 | H4: 死産性比
C5: 総数 | D5: 男 | E5: 女 | F5: 不詳
A6: 1950 昭和25年 | B6: 8178 | C6: 1394 | D6: … | E6: … | F6: … | G6: 145.6331 | H6: …
A7: 55 30 | B7: 7551 | C7: 1091 | D7: … | E7: … | F7: … | G7: 126.24393 | H7: …
A8: 60 35 | B8: 9392 | C8: 1501 | D8: 805 | E8: 573 | F8: 123 | G8: 137.79491 | H8: 140.48866
A9: 65 40 | B9: 16370 | C9: 2122 | D9: … | E9: … | F9: … | G9: 114.75233 | H9: …
A10: 70 45 | B10: 20411 | C10: 2081 | D10: … | E10: … | F10: … | G10: 92.521786 | H10: …
A11: 72 47 | B11: 22017 | C11: 1928 | D11: … | E11: … | F11: … | G11: 80.517853 | H11: …
A12: 73 48 | B12: 23759 | C12: 2080 | D12: 866 | E12: 570 | F12: 644 | G12: 80.498471 | H12: 151.92982
A13: 74 49 | B13: 24525 | C13: 2024 | D13: 791 | E13: 522 | F13: 711 | G13: 76.236393 | H13: 151.53257
A14: 75 50 | B14: 23404 | C14: 1940 | D14: 787 | E14: 494 | F14: 659 | G14: 76.546717 | H14: 159.31174
A15: 76 51 | B15: 22910 | C15: 1981 | D15: 732 | E15: 494 | F15: 755 | G15: 79.586999 | H15: 148.17814
A16: 77 52 | B16: 22286 | C16: 1835 | D16: 651 | E16: 462 | F16: 722 | G16: 76.07479 | H16: 140.90909
A17: 78 53 | B17: 22251 | C17: 1755 | D17: 656 | E17: 416 | F17: 683 | G17: 73.106723 | H17: 157.69231
A18: 79 54 | B18: 21577 | C18: 1675 | D18: 634 | E18: 401 | F18: 640 | G18: 72.036814 | H18: 158.10474
A19: 80 55 | B19: 20931 | C19: 1566 | D19: 606 | E19: 391 | F19: 569 | G19: 69.609281 | H19: 154.98721
A20: 81 56 | B20: 19944 | C20: 1523 | D20: 582 | E20: 371 | F20: 570 | G20: 70.946103 | H20: 156.87332
A21: 82 57 | B21: 20727 | C21: 1534 | D21: 566 | E21: 377 | F21: 591 | G21: 68.909752 | H21: 150.13263
A22: 83 58 | B22: 20608 | C22: 1451 | D22: 544 | E22: 348 | F22: 559 | G22: 65.77814 | H22: 156.32184
A23: 84 59 | B23: 20274 | C23: 1576 | D23: 659 | E23: 368 | F23: 549 | G23: 72.128146 | H23: 179.07609
... A46: 07 19 | B46: 14498 | C46: 557 | D46: 241 | E46: 104 | F46: 212 | G46: 36.997675 | H46: 231.73077
A47: 08 20 | B47: =[1]出生数!$B45 -> 14845 | C47: =SUM(D47:F47) -> 496 | D47: 210 | E47: 104 | F47: 182 | G47: =C47/(B47+C47)*1000 -> 32.33166 | H47: =D47/E47*100 -> 201.92308
A48: 09 21 | B48: 14506 | C48: 468 | D48: 199 | E48: 87 | F48: 182 | G48: 31.254174 | H48: 228.73563
A49: 10 22 | B49: 14739 | C49: =SUM(D49:F49) -> 443 | D49: 199 | E49: 98 | F49: 146 | G49: =C49/(B49+C49)*1000 -> 29.179291 | H49: =D49/E49*100 -> 203.06122
A50: 11 23 | B50: 14491 | C50: 504 | D50: 251 | E50: 80 | F50: 173 | G50: 33.611204 | H50: 313.75
A51: 12 24 | B51: 14487 | C51: 446 | D51: 195 | E51: 95 | F51: 156 | G51: 29.866738 | H51: 205.26316
A52: 13 25 | B52: 14591 | C52: 448 | D52: 204 | E52: 78 | F52: 166 | G52: 29.789215 | H52: 261.53846
A53: 14 26 | B53: 14568 | C53: 430 | D53: 182 | E53: 84 | F53: 164 | G53: 28.670489 | H53: 216.66667
A54: 15 27 | B54: 14589 | C54: 426 | D54: 188 | E54: 74 | F54: 164 | G54: 28.371628 | H54: 254.05405
A55: 16 28 | B55: 14021 | C55: 344 | D55: 167 | E55: 70 | F55: 107 | G55: 23.947094 | H55: 238.57143
A56: 17 29 | B56: 13821 | C56: 402 | D56: 190 | E56: 87 | F56: 125 | G56: 28.264079 | H56: 218.3908
A57: 18 30 | B57: ='[2]3 月・性別，区別出生数・出生率'!$C$5 -> 13248 | C57: =SUM(D57:F57) -> 346 | D57: ='[3]■1 年次別，死産数・死産率・死産性比'!$D$6 -> 166 | E57: ='[3]■1 年次別，死産数・死産率・死産性比'!$E$6 -> 76 | F57: ='[3]■1 年次別，死産数・死産率・死産性比'!$F$6 -> 104 | G57: =C57/(B57+C57)*1000 -> 25.452405 | H57: =D57/E57*100 -> 218.42105
A58: 1) 本市の集計による。

Sheet 2 年次別・自然－人工別，死産数・死産率・割合
A1: 2 年次別にみた自然-人工別死産数・死産率（出産千対）及び全死産中人工死産の占める割合
A3: 年 次 | B3: 死産数 | E3: 死産率 | H3: 全死産中人工 死産の占める 割合 (％)
B4: 総数 | C4: 自然死産 | D4: 人工死産 | E4: 総数 | F4: 自然死産 | G4: 人工死産
A5: 1950 昭和25年 | B5: 1394 | C5: … | D5: … | E5: 145.6331 | F5: ・ | G5: ・ | H5: ・
A6: 55 30 | B6: 1091 | C6: 320 | D6: 771 | E6: 126.24393 | F6: 37.028466 | G6: 89.215459 | H6: 70.669111
A7: 60 35 | B7: 1501 | C7: 479 | D7: 1022 | E7: 137.79491 | F7: 43.973194 | G7: 93.82172 | H7: 68.087941
A8: 65 40 | B8: 2122 | C8: 782 | D8: 1340 | E8: 114.75233 | F8: 42.288557 | G8: 72.463768 | H8: 63.147974
A9: 70 45 | B9: 2081 | C9: 924 | D9: 1157 | E9: 92.521786 | F9: 41.081273 | G9: 51.440512 | H9: 55.59827
A10: 72 47 | B10: 1928 | C10: 898 | D10: 1030 | E10: 80.517853 | F10: 37.50261 | G10: 43.015243 | H10: 53.423237
A11: 73 48 | B11: 2080 | C11: 1019 | D11: 1061 | E11: 80.498471 | F11: 39.436511 | G11: 41.061961 | H11: 51.009615
A12: 74 49 | B12: 2024 | C12: 1074 | D12: 950 | E12: 76.236393 | F12: 40.453501 | G12: 35.782892 | H12: 46.936759
A13: 75 50 | B13: 1940 | C13: 943 | D13: 997 | E13: 76.546717 | F13: 37.208018 | G13: 39.338699 | H13: 51.391753
A14: 76 51 | B14: 1981 | C14: 913 | D14: 1068 | E14: 79.586999 | F14: 36.679924 | G14: 42.907075 | H14: 53.912166
A15: 77 52 | B15: 1835 | C15: 854 | D15: 981 | E15: 76.07479 | F15: 35.404834 | G15: 40.669956 | H15: 53.46049
A16: 78 53 | B16: 1755 | C16: 841 | D16: 914 | E16: 73.106723 | F16: 35.032908 | G16: 38.073815 | H16: 52.079772
A17: 79 54 | B17: 1675 | C17: 778 | D17: 897 | E17: 72.036814 | F17: 33.459487 | G17: 38.577327 | H17: 53.552239
... A51: 13 25 | B51: 448 | C51: 145 | D51: 303 | E51: 29.789215 | F51: 9.6415985 | G51: 20.147616 | H51: 67.633929
A52: 14 26 | B52: 430 | C52: 2) 175 | D52: 254 | E52: 28.670489 | F52: 11.668222 | G52: 16.935591 | H52: 59.069767
A53: 15 27 | B53: 426 | C53: 2) 160 | D53: 266 | E53: 28.371628 | F53: 10.656011 | G53: 17.715618 | H53: 62.441315
A54: 16 28 | B54: 344 | C54: 108 | D54: 236 | E54: 23.947094 | F54: 7.5182736 | G54: 16.42882 | H54: 68.604651
A55: 17 29 | B55: 402 | C55: 178 | D55: 224 | E55: 28.264079 | F55: 12.514941 | G55: 15.749139 | H55: 55.721393
A56: 18 30 | B56: =IF(SUM(C56,D56)='1 年次別，死産数・死産率・死産性比'!C57,SUM(C56,D56),"「不詳」があり合計が合いません。") -> 346 | C56: ='4 月・自然-人工別，区別死産数'!B$17 -> 138 | D56: ='4 月・自然-人工別，区別死産数'!B$29 -> 208 | E56: =IF(B56="「不詳」があり合計が合いません。","「不詳」があり合計が合いません。",B56/($B56+'1 年次別，死産数・死産率・死産性比'!B57)*1000) -> 25.452405 | F56: =IF(B56="「不詳」があり合計が合いません。","「不詳」があり合計が合いません。",C56/($B56+'1 年次別，死産数・死産率・死産性比'!B57)*1000) -> 10.151537 | G56: =IF(B56="「不詳」があり合計が合いません。","「不詳」があり合計が合いません。",D56/($B56+'1 年次別，死産数・死産率・死産性比'!B57)*1000) -> 15.300868 | H56: =IF(B56="「不詳」があり合計が合いません。","「不詳」があり合計が合いません。",D56/B56*100) -> 60.115607
A57: 1) 本市の集計による。
A58: 2) 自然死産・人口死産の別の不明（1胎）については、自然死産に計上している。

Sheet 3-総数 死産数及び死産率，自然－人工･年次･区別
A1: 3 自然-人工・区別にみた年次別死産数及び死産率(出産千対）
A3: 総 数
A4: 年次 | B4: 総数 | C4: 中央区 | D4: 北区 | E4: 東区 | F4: 白石区 | G4: 厚別区 | H4: 豊平区 | I4: 清田区 | J4: 南区 | K4: 西区 | L4: 手稲区
B5: 死産数
A6: 85 60 | B6: 1598 | C6: 270 | D6: 216 | E6: 237 | F6: 250 | G6: … | H6: 272 | I6: … | J6: 104 | K6: 249 | L6: …
A7: 1986 昭和61年 | B7: 1484 | C7: 241 | D7: 190 | E7: 214 | F7: 248 | G7: … | H7: 248 | I7: … | J7: 87 | K7: 256 | L7: …
A8: 1987 昭和62年 | B8: 1362 | C8: 227 | D8: 171 | E8: 198 | F8: 227 | G8: … | H8: 244 | I8: … | J8: 89 | K8: 206 | L8: …
A9: 1988 昭和63年 | B9: 1264 | C9: 219 | D9: 155 | E9: 183 | F9: 217 | G9: … | H9: 194 | I9: … | J9: 76 | K9: 220 | L9: …
A10: 89 平成元年 | B10: 1169 | C10: 157 | D10: 155 | E10: 180 | F10: 215 | G10: … | H10: 184 | I10: … | J10: 84 | K10: 194 | L10: …
A11: 90 2 | B11: 1199 | C11: 175 | D11: 151 | E11: 162 | F11: 167 | G11: 72 | H11: 192 | I11: … | J11: 67 | K11: 137 | L11: 76
A12: 91 3 | B12: 1028 | C12: 136 | D12: 140 | E12: 145 | F12: 145 | G12: 64 | H12: 156 | I12: … | J12: 65 | K12: 108 | L12: 69
A13: 92 4 | B13: 956 | C13: 121 | D13: 118 | E13: 143 | F13: 132 | G13: 62 | H13: 152 | I13: … | J13: 52 | K13: 121 | L13: 55
A14: 1993 平成5年 | B14: 892 | C14: 129 | D14: 134 | E14: 121 | F14: 118 | G14: 67 | H14: 135 | I14: … | J14: 59 | K14: 80 | L14: 49
A15: 94 6 | B15: 833 | C15: 107 | D15: 94 | E15: 128 | F15: 111 | G15: 59 | H15: 135 | I15: … | J15: 66 | K15: 87 | L15: 46
A16: 95 7 | B16: 734 | C16: 89 | D16: 108 | E16: 112 | F16: 102 | G16: 47 | H16: 126 | I16: … | J16: 49 | K16: 68 | L16: 33
A17: 96 8 | B17: 714 | C17: 79 | D17: 115 | E17: 115 | F17: 93 | G17: 43 | H17: 110 | I17: … | J17: 39 | K17: 73 | L17: 47
A18: 97 9 | B18: 756 | C18: 84 | D18: 115 | E18: 99 | F18: 107 | G18: 38 | H18: 126 | I18: … | J18: 39 | K18: 101 | L18: 47
A19: 1998 平成10年 | B19: 711 | C19: 80 | D19: 109 | E19: 114 | F19: 85 | G19: 49 | H19: 83 | I19: 36 | J19: 34 | K19: 77 | L19: 44
A20: 99 11 | B20: 683 | C20: 74 | D20: 100 | E20: 103 | F20: 73 | G20: 43 | H20: 74 | I20: 44 | J20: 55 | K20: 77 | L20: 40
A21: 2000 12 | B21: 720 | C21: 95 | D21: 107 | E21: 97 | F21: 78 | G21: 46 | H21: 91 | I21: 39 | J21: 45 | K21: 75 | L21: 47
A22: 01 13 | B22: 718 | C22: 84 | D22: 94 | E22: 117 | F22: 90 | G22: 39 | H22: 97 | I22: 43 | J22: 50 | K22: 71 | L22: 33
A23: 02 14 | B23: 602 | C23: 75 | D23: 89 | E23: 87 | F23: 88 | G23: 40 | H23: 63 | I23: 29 | J23: 37 | K23: 56 | L23: 38
A24: 03 15 | B24: 631 | C24: 72 | D24: 95 | E24: 80 | F24: 78 | G24: 38 | H24: 84 | I24: 33 | J24: 45 | K24: 74 | L24: 32
A25: 04 16 | B25: 601 | C25: 76 | D25: 86 | E25: 86 | F25: 78 | G25: 27 | H25: 79 | I25: 30 | J25: 41 | K25: 63 | L25: 35
A26: 05 17 | B26: 602 | C26: 94 | D26: 81 | E26: 96 | F26: 64 | G26: 31 | H26: 68 | I26: 31 | J26: 35 | K26: 64 | L26: 38
A27: 06 18 | B27: 545 | C27: 72 | D27: 78 | E27: 80 | F27: 72 | G27: 28 | H27: 73 | I27: 27 | J27: 28 | K27: 53 | L27: 34
A28: 07 19 | B28: 557 | C28: 69 | D28: 78 | E28: 84 | F28: 79 | G28: 25 | H28: 67 | I28: 29 | J28: 37 | K28: 55 | L28: 34
A29: 08 20 | B29: 496 | C29: 68 | D29: 62 | E29: 74 | F29: 74 | G29: 28 | H29: 62 | I29: 23 | J29: 32 | K29: 43 | L29: 30
A30: 09 21 | B30: 468 | C30: 52 | D30: 73 | E30: 60 | F30: 63 | G30: 32 | H30: 60 | I30: 20 | J30: 26 | K30: 55 | L30: 27
... A38: 17 29 | B38: 402 | C38: 71 | D38: 45 | E38: 52 | F38: 54 | G38: 18 | H38: 61 | I38: 19 | J38: 26 | K38: 38 | L38: 18
A39: 18 30 | B39: =IF(SUM('3-自然'!B39,'3-人工'!B39)='1 年次別，死産数・死産率・死産性比'!C57,SUM('3-自然'!B39,'3-人工'!B39),"「不詳」があり合計が合いません。") -> 346 | C39: =SUM('3-自然'!C39,'3-人工'!C39) -> 79 | D39: =SUM('3-自然'!D39,'3-人工'!D39) -> 37 | E39: =SUM('3-自然'!E39,'3-人工'!E39) -> 54 | F39: =SUM('3-自然'!F39,'3-人工'!F39) -> 35 | G39: =SUM('3-自然'!G39,'3-人工'!G39) -> 16 | H39: =SUM('3-自然'!H39,'3-人工'!H39) -> 37 | I39: =SUM('3-自然'!I39,'3-人工'!I39) -> 10 | J39: =SUM('3-自然'!J39,'3-人工'!J39) -> 22 | ... L39: =SUM('3-自然'!L39,'3-人工'!L39) -> 16
B40: 死産率
A41: 85 60 | B41: 76.415455 | C41: 123.34399 | D41: 81.756245 | E41: 70.076878 | F41: 63.85696 | G41: ・ | H41: 80.023536 | I41: ・ | J41: 57.395143 | K41: 69.689337 | L41: ・
A42: 1986 昭和61年 | B42: 71.98991 | C42: 110.90658 | D42: 74.80315 | E42: 66.090179 | F42: 60.443578 | G42: ・ | H42: 73.264402 | I42: ・ | J42: 49.856734 | K42: 74.635569 | L42: ・
A43: 1987 昭和62年 | B43: 68.459412 | C43: 109.23965 | D43: 71.909167 | E43: 65.519523 | F43: 57.584982 | G43: ・ | H43: 73.141487 | I43: ・ | J43: 54.136253 | K43: 58.941345 | L43: ・
A44: 1988 昭和63年 | B44: 64.887064 | C44: 109.28144 | D44: 67.303517 | E44: 61.970877 | F44: 54.82567 | G44: ・ | H44: 60.099133 | I44: ・ | J44: 44.94382 | K44: 65.809153 | L44: ・
A45: 89 平成元年 | B45: 62.687688 | C45: 90.229885 | D45: 71.959146 | E45: 63.224447 | F45: 54.931017 | G45: ・ | H45: 59.106971 | I45: ・ | J45: 52.5 | K45: 59.146341 | L45: ・
A46: 90 2 | B46: 64.379296 | C46: 98.9819 | D46: 70.429104 | E46: 56.544503 | F46: 68.02444 | G46: 49.180328 | H46: 61.204973 | I46: ・ | J46: 42.191436 | K46: 66.699124 | L46: 66.144473
A47: 91 3 | B47: 55.609651 | C47: 83.333333 | D47: 63.463282 | E47: 48.414023 | F47: 58.326629 | G47: 46.444122 | H47: 52.436975 | I47: ・ | J47: 42.59502 | K47: 51.428571 | L47: 58.080808
A48: 92 4 | B48: 52.294732 | C48: 76.77665 | D48: 53.153153 | E48: 50.405358 | F48: 52.990767 | G48: 44.54023 | H48: 50.148466 | I48: ・ | J48: 36.312849 | K48: 58.454106 | L48: 44.642857
A49: 1993 平成5年 | B49: 51.671204 | C49: 89.707928 | D49: 62.675398 | E49: 44.306115 | F49: 53.709604 | G49: 50.642479 | H49: 46.842471 | I49: ・ | J49: 40.915395 | K49: 41.972718 | L49: 40.630182
A50: 94 6 | B50: 46.562325 | C50: 70.81403 | D50: 41.048035 | E50: 46.511628 | F50: 48.387097 | G50: 42.385057 | H50: 45.500506 | I50: ・ | J50: 45.051195 | K50: 43.961597 | L50: 37.096774
A51: 95 7 | B51: 43.27575 | C51: 62.986553 | D51: 50.092764 | E51: 41.791045 | F51: 47.574627 | G51: 38.149351 | H51: 43.523316 | I51: ・ | J51: 34.313725 | K51: 35.902851 | L51: 29.490617
A52: 96 8 | B52: 41.869466 | C52: 55.283415 | D52: 50.505051 | E52: 42.279412 | F52: 42.699725 | G52: 32.849503 | H52: 38.501925 | I52: ・ | J52: 28.592375 | K52: 40.065862 | L52: 42.84412
A53: 97 9 | B53: 45.462746 | C53: 57.811425 | D53: 52.995392 | E53: 37.274096 | F53: 51.025274 | G53: 32.702238 | H53: 44.522968 | I53: ・ | J53: 29.930929 | K53: 55.955679 | L53: 40.763226
A54: 1998 平成10年 | B54: 42.130837 | C54: 54.719562 | D54: 50.556586 | E54: 41.319319 | F54: 39.0625 | G54: 41.315346 | H54: 42.089249 | I54: 42.654028 | J54: 27.134876 | K54: 39.772727 | L54: 38.869258
A55: 99 11 | B55: 42.578393 | C55: 52.48227 | D55: 48.100048 | E55: 40.140296 | F55: 36.067194 | G55: 37.620297 | H55: 38.085435 | I55: 51.703878 | J55: 46.888321 | K55: 42.122538 | L55: 39.0625
A56: 2000 12 | B56: 44.854224 | C56: 67.18529 | D56: 52.093476 | E56: 36.384096 | F56: 38.141809 | G56: 41.40414 | H56: 47.54441 | I56: 47.387606 | J56: 38.994801 | K56: 41.689828 | L56: 43.843284
A57: 01 13 | B57: 44.791017 | C57: 57.377049 | D57: 45.279383 | E57: 44.810417 | F57: 43.124102 | G57: 36.346692 | H57: 51.871658 | I57: 49.596309 | J57: 44.052863 | K57: 38.172043 | L57: 33.43465
A58: 02 14 | B58: 37.208727 | C58: 48.764629 | D58: 40.769583 | E58: 34.198113 | F58: 41.884817 | G58: 37.593985 | H58: 32.126466 | I58: 34.198113 | J58: 35.339064 | K58: 30.484486 | L58: 35.984848
A59: 03 15 | B59: 40.371081 | C59: 48.648649 | D59: 45.195052 | E59: 32.076985 | F59: 39.57382 | G59: 38.657172 | H59: 45.307443 | I59: 38.686987 | J59: 42.016807 | K59: 40.59243 | L59: 32.032032
A60: 04 16 | B60: 39.153094 | C60: 49.000645 | D60: 40.681173 | E60: 36.119278 | F60: 39.755352 | G60: 26.89243 | H60: 42.473118 | I60: 39.787798 | J60: 41.289023 | K60: 34.80663 | L60: 38.002172
A61: 05 17 | B61: 40.714189 | C61: 62.708472 | D61: 39.647577 | E61: 40.69521 | F61: 33.126294 | G61: 35.107588 | H61: 38.746439 | I61: 42.524005 | J61: 38.293217 | K61: 36.972848 | L61: 40.382572
A62: 06 18 | B62: 35.679214 | C62: 44.334975 | D62: 37.626628 | E62: 33.444816 | F62: 36.382011 | G62: 32 | H62: 39.331897 | I62: 33.088235 | J62: 31.85438 | K62: 29.460812 | L62: 34.623218
A63: 07 19 | B63: 36.997675 | C63: 43.341709 | D63: 37.249284 | E63: 36.066982 | F63: 40.953862 | G63: 28.376844 | H63: 37.45109 | I63: 38.258575 | J63: 40.570175 | K63: 31.126203 | L63: 33.864542
A64: 08 20 | B64: 32.33166 | C64: 39.85932 | D64: 28.663893 | E64: 31.21046 | F64: 36.870952 | G64: 32.295271 | H64: 33.916849 | I64: 27.710843 | J64: 35.087719 | K64: 24.798155 | L64: 32.502709
A65: 09 21 | B65: 31.254174 | C65: 31.862745 | D65: 34.352941 | E65: 26.304253 | F65: 33.262936 | G65: 37.60282 | H65: 33.688939 | I65: 25.220681 | J65: 28.985507 | K65: 31.609195 | L65: 27.55102
... A73: 17 29 | B73: 28.264079 | C73: 38.524145 | D73: 23.413111 | E73: 23.755139 | F73: 30.150754 | G73: 25.210084 | H73: 33.813747 | I73: 29.6875 | J73: 34.946237 | K73: 22.485207 | L73: 20.316027
A74: 18 30 | B74: =IF(SUM('3-自然'!B39,'3-人工'!B39)='1 年次別，死産数・死産率・死産性比'!C57,SUM('3-自然'!B74,'3-人工'!B74),"「不詳」があり合計が合いません。") -> 25.452405 | C74: =SUM('3-自然'!C74,'3-人工'!C74) -> 43.335162 | D74: =SUM('3-自然'!D74,'3-人工'!D74) -> 19.639066 | E74: =SUM('3-自然'!E74,'3-人工'!E74) -> 26.574803 | F74: =SUM('3-自然'!F74,'3-人工'!F74) -> 20.045819 | G74: =SUM('3-自然'!G74,'3-人工'!G74) -> 23.633678 | H74: =SUM('3-自然'!H74,'3-人工'!H74) -> 21.524142 | I74: =SUM('3-自然'!I74,'3-人工'!I74) -> 15.29052 | J74: =SUM('3-自然'!J74,'3-人工'!J74) -> 33.13253 | ... L74: =SUM('3-自然'!L74,'3-人工'!L74) -> 19.393939

Sheet 3-自然
A1: 3 自然-人工・区別にみた年次別死産数及び死産率(出産千対）（つづき）
A3: 自然死産
A4: 年次 | B4: 総数 | C4: 中央区 | D4: 北区 | E4: 東区 | F4: 白石区 | G4: 厚別区 | H4: 豊平区 | I4: 清田区 | J4: 南区 | K4: 西区 | L4: 手稲区
B5: 自然死産数
A6: 85 60 | B6: 539 | C6: 65 | D6: 58 | E6: 75 | F6: 85 | G6: … | H6: 75 | I6: … | J6: 51 | K6: 130 | L6: …
A7: 1986 昭和61年 | B7: 472 | C7: 51 | D7: 69 | E7: 55 | F7: 84 | G7: … | H7: 73 | I7: … | J7: 35 | K7: 105 | L7: …
A8: 1987 昭和62年 | B8: 451 | C8: 47 | D8: 60 | E8: 70 | F8: 66 | G8: … | H8: 87 | I8: … | J8: 34 | K8: 87 | L8: …
A9: 1988 昭和63年 | B9: 361 | C9: 45 | D9: 43 | E9: 63 | F9: 59 | G9: … | H9: 49 | I9: … | J9: 32 | K9: 70 | L9: …
A10: 89 平成元年 | B10: 346 | C10: 31 | D10: 39 | E10: 66 | F10: 69 | G10: … | H10: 46 | I10: … | J10: 29 | K10: 66 | L10: …
A11: 90 2 | B11: 399 | C11: 40 | D11: 54 | E11: 62 | F11: 46 | G11: 29 | H11: 53 | I11: … | J11: 27 | K11: 49 | L11: 39
A12: 91 3 | B12: 324 | C12: 20 | D12: 34 | E12: 51 | F12: 48 | G12: 18 | H12: 51 | I12: … | J12: 28 | K12: 41 | L12: 33
A13: 92 4 | B13: 325 | C13: 27 | D13: 48 | E13: 53 | F13: 39 | G13: 24 | H13: 51 | I13: … | J13: 17 | K13: 44 | L13: 22
A14: 1993 平成5年 | B14: 283 | C14: 35 | D14: 34 | E14: 46 | F14: 39 | G14: 16 | H14: 45 | I14: … | J14: 29 | K14: 28 | L14: 11
A15: 94 6 | B15: 286 | C15: 27 | D15: 35 | E15: 51 | F15: 32 | G15: 26 | H15: 42 | I15: … | J15: 32 | K15: 27 | L15: 14
A16: 95 7 | B16: 240 | C16: 18 | D16: 40 | E16: 37 | F16: 27 | G16: 13 | H16: 46 | I16: … | J16: 22 | K16: 20 | L16: 17
A17: 96 8 | B17: 241 | C17: 15 | D17: 46 | E17: 46 | F17: 23 | G17: 16 | H17: 34 | I17: … | J17: 18 | K17: 24 | L17: 19
A18: 97 9 | B18: 249 | C18: 18 | D18: 45 | E18: 34 | F18: 36 | G18: 5 | H18: 39 | I18: … | J18: 19 | K18: 31 | L18: 22
A19: 1998 平成10年 | B19: 234 | C19: 18 | D19: 34 | E19: 45 | F19: 27 | G19: 12 | H19: 31 | I19: 19 | J19: 13 | K19: 20 | L19: 15
A20: 99 11 | B20: 199 | C20: 14 | D20: 25 | E20: 38 | F20: 16 | G20: 10 | H20: 26 | I20: 15 | J20: 21 | K20: 27 | L20: 7
A21: 2000 12 | B21: 223 | C21: 25 | D21: 29 | E21: 34 | F21: 23 | G21: 19 | H21: 27 | I21: 12 | J21: 14 | K21: 22 | L21: 18
A22: 01 13 | B22: 213 | C22: 19 | D22: 22 | E22: 32 | F22: 22 | G22: 12 | H22: 30 | I22: 17 | J22: 23 | K22: 24 | L22: 12
A23: 02 14 | B23: 175 | C23: 17 | D23: 19 | E23: 25 | F23: 23 | G23: 9 | H23: 24 | I23: 10 | J23: 18 | K23: 21 | L23: 9
A24: 03 15 | B24: 197 | C24: 14 | D24: 31 | E24: 21 | F24: 20 | G24: 16 | H24: 20 | I24: 22 | J24: 13 | K24: 29 | L24: 11 | N24: 総数 | O24: 中央 | P24: 北 | Q24: 東 | R24: 白石 | S24: 厚別 | T24: 豊平 | U24: 清田 | V24: 南 | W24: 西 | X24: 手稲
A25: 04 16 | B25: 196 | C25: 21 | D25: 30 | E25: 29 | F25: 25 | G25: 13 | H25: 28 | I25: 8 | J25: 14 | K25: 19 | L25: 9 | N25: 14749 | O25: 1475 | P25: 2028 | Q25: 2295 | R25: 1884 | S25: 977 | T25: 1781 | U25: 724 | V25: 952 | W25: 1747 | X25: 886
A26: 05 17 | B26: 191 | C26: 17 | D26: 30 | E26: 35 | F26: 21 | G26: 10 | H26: 20 | I26: 9 | J26: 11 | K26: 22 | L26: 16 | N26: 14184 | O26: 1405 | P26: 1962 | Q26: 2263 | R26: 1868 | S26: 852 | T26: 1687 | U26: 698 | V26: 879 | W26: 1667 | X26: 903
A27: 06 18 | B27: 212 | C27: 24 | D27: 24 | E27: 32 | F27: 27 | G27: 11 | H27: 32 | I27: 12 | J27: 17 | K27: 19 | L27: 14 | N27: 14730 | O27: 1552 | P27: 1995 | Q27: 2312 | R27: 1907 | S27: 847 | T27: 1783 | U27: 789 | V27: 851 | W27: 1746 | X27: 948
A28: 07 19 | B28: 199 | C28: 24 | D28: 29 | E28: 32 | F28: 26 | G28: 9 | H28: 24 | I28: 9 | J28: 18 | K28: 17 | L28: 11 | N28: 14498 | O28: 1523 | P28: 2016 | Q28: 2245 | R28: 1850 | S28: 856 | T28: 1722 | U28: 729 | V28: 875 | W28: 1712 | X28: 970
A29: 08 20 | B29: 190 | C29: 14 | D29: 25 | E29: 38 | F29: 21 | G29: 10 | H29: 26 | I29: 12 | J29: 19 | K29: 17 | L29: 8 | N29: 14845 | O29: 1638 | P29: 2101 | Q29: 2297 | R29: 1933 | S29: 839 | T29: 1766 | U29: 807 | V29: 880 | W29: 1691 | X29: 893
A30: 09 21 | B30: 175 | C30: 14 | D30: 30 | E30: 24 | F30: 24 | G30: 13 | H30: 20 | I30: 6 | J30: 9 | K30: 24 | L30: 11 | N30: 14506 | O30: 1580 | P30: 2052 | Q30: 2221 | R30: 1831 | S30: 819 | T30: 1721 | U30: 773 | V30: 871 | W30: 1685 | X30: 953
A31: 10 22 | B31: 171 | C31: 17 | D31: 27 | E31: 20 | F31: 14 | G31: 6 | H31: 31 | I31: 14 | J31: 7 | K31: 21 | L31: 14 | N31: 14739 | O31: 1751 | P31: 2006 | Q31: 2237 | R31: 1955 | S31: 865 | T31: 1751 | U31: 752 | V31: 834 | W31: 1672 | X31: 916
A32: 11 23 | B32: 192 | C32: 20 | D32: 26 | E32: 33 | F32: 20 | G32: 10 | H32: 24 | I32: 8 | J32: 13 | K32: 20 | L32: 18 | N32: 14491 | O32: 1706 | P32: 1920 | Q32: 2141 | R32: 1887 | S32: 780 | T32: 1824 | U32: 763 | V32: 804 | W32: 1739 | X32: 927
A33: 12 24 | B33: 180 | C33: 25 | D33: 35 | E33: 27 | F33: 20 | G33: 11 | H33: 19 | I33: 11 | J33: 8 | K33: 13 | L33: 11 | N33: 14487 | O33: 1750 | P33: 1933 | Q33: 2151 | R33: 1921 | S33: 727 | T33: 1836 | U33: 754 | V33: 822 | W33: 1666 | X33: 927
A34: 13 25 | B34: 145 | C34: 15 | D34: 24 | E34: 21 | F34: 26 | G34: 7 | H34: 14 | I34: 7 | J34: 6 | K34: 13 | L34: 12 | N34: 14591 | O34: 1897 | P34: 1979 | Q34: 2110 | R34: 1872 | S34: 801 | T34: 1790 | U34: 705 | V34: 778 | W34: 1715 | X34: 944
A35: 14 1） 26 | B35: 175 | C35: 24 | D35: 19 | E35: 40 | F35: 24 | G35: 6 | H35: 17 | I35: 5 | J35: 10 | K35: 20 | L35: 10 | N35: 14568 | O35: 1845 | P35: 1952 | Q35: 2171 | R35: 1939 | S35: 776 | T35: 1879 | U35: 660 | V35: 789 | W35: 1611 | X35: 946
A36: 15 1） 27 | B36: 160 | C36: 23 | D36: 21 | E36: 26 | F36: 22 | G36: 3 | H36: 19 | I36: 6 | J36: 9 | K36: 20 | L36: 11 | N36: 14589 | O36: 1874 | P36: 2041 | Q36: 2128 | R36: 1891 | S36: 746 | T36: 1888 | U36: 645 | V36: 769 | W36: 1657 | X36: 950
... A38: 17 29 | B38: 178 | C38: 23 | D38: 19 | E38: 24 | F38: 23 | G38: 8 | H38: 24 | I38: 11 | J38: 14 | K38: 21 | L38: 11 | N38: 13821 | O38: 1772 | P38: 1877 | Q38: 2137 | R38: 1737 | S38: 696 | T38: 1743 | U38: 621 | V38: 718 | W38: 1652 | X38: 868
A39: 18 30 | B39: =SUM(C39:L39) -> 138 | C39: ='4 月・自然-人工別，区別死産数'!$B$18 -> 21 | D39: ='4 月・自然-人工別，区別死産数'!$B$19 -> 20 | E39: ='4 月・自然-人工別，区別死産数'!$B$20 -> 17 | F39: ='4 月・自然-人工別，区別死産数'!$B$21 -> 17 | G39: ='4 月・自然-人工別，区別死産数'!$B$22 -> 8 | H39: ='4 月・自然-人工別，区別死産数'!$B$23 -> 16 | I39: ='4 月・自然-人工別，区別死産数'!$B$24 -> 3 | J39: ='4 月・自然-人工別，区別死産数'!$B$25 -> 12 | K39: ='4 月・自然-人工別，区別死産数'!$B$26 -> 17 | L39: ='4 月・自然-人工別，区別死産数'!$B$27 -> 7 | N39: =[1]出生数!G$19 -> 13248 | O39: =[1]出生数!H$19 -> 1744 | P39: =[1]出生数!I$19 -> 1847 | Q39: =[1]出生数!J$19 -> 1978 | R39: =[1]出生数!K$19 -> 1711 | S39: =[1]出生数!L$19 -> 661 | T39: =[1]出生数!M$19 -> 1682 | U39: =[1]出生数!N$19 -> 644 | ... X39: =[1]出生数!Q$19 -> 809
B40: 自然死産率
A41: 85 60 | B41: 25.774675 | C41: 29.693924 | D41: 21.953066 | E41: 22.176227 | F41: 21.711367 | G41: ・ | H41: 22.065313 | I41: ・ | J41: 28.145695 | K41: 36.383991 | L41: ・
A42: 1986 昭和61年 | B42: 22.89706 | C42: 23.469857 | D42: 27.165354 | E42: 16.985794 | F42: 20.472825 | G42: ・ | H42: 21.565731 | I42: ・ | J42: 20.057307 | K42: 30.612245 | L42: ・
A43: 1987 昭和62年 | B43: 22.669012 | C43: 22.617902 | D43: 25.231287 | E43: 23.163468 | F43: 16.74277 | G43: ・ | H43: 26.079137 | I43: ・ | J43: 20.681265 | K43: 24.892704 | L43: ・
A44: 1988 昭和63年 | B44: 18.531828 | C44: 22.45509 | D44: 18.671298 | E44: 21.334236 | F44: 14.906518 | G44: ・ | H44: 15.179678 | I44: ・ | J44: 18.923714 | K44: 20.939276 | L44: ・
A45: 89 平成元年 | B45: 18.554269 | C45: 17.816092 | D45: 18.10585 | E45: 23.182297 | F45: 17.629024 | G45: ・ | H45: 14.776743 | I45: ・ | J45: 18.125 | K45: 20.121951 | L45: ・
A46: 90 2 | B46: 21.423969 | C46: 22.624434 | D46: 25.186567 | E46: 21.640489 | F46: 18.737271 | G46: 19.808743 | H46: 16.895123 | I46: ・ | J46: 17.002519 | K46: 23.855891 | L46: 33.942559
A47: 91 3 | B47: 17.526777 | C47: 12.254902 | D47: 15.412511 | E47: 17.028381 | F47: 19.308126 | G47: 13.062409 | H47: 17.142857 | I47: ・ | J47: 18.348624 | K47: 19.52381 | L47: 27.777778
A48: 92 4 | B48: 17.778021 | C48: 17.13198 | D48: 21.621622 | E48: 18.681706 | F48: 15.656363 | G48: 17.241379 | H48: 16.82613 | I48: ・ | J48: 11.871508 | K48: 21.256039 | L48: 17.857143
A49: 1993 平成5年 | B49: 16.393443 | C49: 24.33936 | D49: 15.902713 | E49: 16.843647 | F49: 17.751479 | G49: 12.093726 | H49: 15.614157 | I49: ・ | J49: 20.110957 | K49: 14.690451 | L49: 9.1210614
A50: 94 6 | B50: 15.986585 | C50: 17.868961 | D50: 15.283843 | E50: 18.531977 | F50: 13.949433 | G50: 18.678161 | H50: 14.155713 | I50: ・ | J50: 21.843003 | K50: 13.643254 | L50: 11.290323
A51: 95 7 | B51: 14.150109 | C51: 12.738854 | D51: 18.552876 | E51: 13.80597 | F51: 12.593284 | G51: 10.551948 | H51: 15.889465 | I51: ・ | J51: 15.406162 | K51: 10.559662 | L51: 15.192136
A52: 96 8 | B52: 14.132411 | C52: 10.496851 | D52: 20.20202 | E52: 16.911765 | F52: 10.560147 | G52: 12.223071 | H52: 11.900595 | I52: ・ | J52: 13.196481 | K52: 13.172338 | L52: 17.319964
A53: 97 9 | B53: 14.973841 | C53: 12.388162 | D53: 20.737327 | E53: 12.801205 | F53: 17.167382 | G53: 4.302926 | H53: 13.780919 | I53: ・ | J53: 14.581734 | K53: 17.174515 | L53: 19.080659
A54: 1998 平成10年 | B54: 13.865845 | C54: 12.311902 | D54: 15.769944 | E54: 16.310257 | F54: 12.408088 | G54: 10.118044 | H54: 15.720081 | I54: 22.511848 | J54: 10.3751 | K54: 10.330579 | L54: 13.250883
A55: 99 11 | B55: 12.40571 | C55: 9.929078 | D55: 12.025012 | E55: 14.809041 | F55: 7.9051383 | G55: 8.7489064 | H55: 13.381369 | I55: 17.626322 | J55: 17.902813 | K55: 14.770241 | L55: 6.8359375
A56: 2000 12 | B56: 13.89235 | C56: 17.680339 | D56: 14.118793 | E56: 12.753188 | F56: 11.246944 | G56: 17.10171 | H56: 14.106583 | I56: 14.580802 | J56: 12.131716 | K56: 12.229016 | L56: 16.791045
A57: 01 13 | B57: 13.287586 | C57: 12.978142 | D57: 10.597303 | E57: 12.255841 | F57: 10.541447 | G57: 11.183597 | H57: 16.042781 | I57: 19.607843 | J57: 20.264317 | K57: 12.903226 | L57: 12.158055
A58: 02 14 | B58: 10.816491 | C58: 11.053316 | D58: 8.7036189 | E58: 9.827044 | F58: 10.947168 | G58: 8.4586466 | H58: 12.238654 | I58: 11.792453 | J58: 17.191977 | K58: 11.431682 | L58: 8.5227273
A59: 03 15 | B59: 12.603967 | C59: 9.4594595 | D59: 14.747859 | E59: 8.4202085 | F59: 10.147133 | G59: 16.276704 | H59: 10.787487 | I59: 25.791325 | J59: 12.138189 | K59: 15.907844 | L59: 11.011011
A60: 04 16 | B60: 12.76873 | C60: 13.539652 | D60: 14.191107 | E60: 12.179756 | F60: 12.7421 | G60: 12.948207 | H60: 15.053763 | I60: 10.61008 | J60: 14.098691 | K60: 10.497238 | L60: 9.771987
A61: 05 17 | B61: 12.917625 | C61: 11.340894 | D61: 14.684288 | E61: 14.836795 | F61: 10.869565 | G61: 11.325028 | H61: 11.396011 | I61: 12.345679 | J61: 12.035011 | K61: 12.709417 | L61: 17.003188
A62: 06 18 | B62: 13.878887 | C62: 14.778325 | D62: 11.577424 | E62: 13.377926 | F62: 13.643254 | G62: 12.571429 | H62: 17.241379 | I62: 14.705882 | J62: 19.340159 | K62: 10.561423 | L62: 14.256619
A63: 07 19 | B63: 13.2182 | C63: 15.075377 | D63: 13.849093 | E63: 13.739802 | F63: 13.478486 | G63: 10.215664 | H63: 13.415316 | I63: 11.873351 | J63: 19.736842 | K63: 9.6208263 | L63: 10.956175
A64: 08 20 | B64: 12.385112 | C64: 8.2063306 | D64: 11.558021 | E64: 16.026993 | F64: 10.463378 | G64: 11.534025 | H64: 14.223195 | I64: 14.457831 | J64: 20.833333 | K64: 9.8039216 | L64: 8.6673889
A65: 09 21 | B65: 11.686924 | C65: 8.5784314 | D65: 14.117647 | E65: 10.521701 | F65: 12.671595 | G65: 15.276146 | H65: 11.229646 | I65: 7.5662043 | J65: 10.033445 | K65: 13.793103 | L65: 11.22449
... A73: 17 29 | B73: 12.514941 | C73: 12.479653 | D73: 9.8855359 | E73: 10.96391 | F73: 12.841988 | G73: 11.204482 | H73: 13.303769 | I73: 17.1875 | J73: 18.817204 | K73: 12.426036 | L73: 12.41535
A74: 18 30 | B74: =B39/('3-総数 死産数及び死産率，自然－人工･年次･区別'!B39+N39)*1000 -> 10.151537 | C74: =C39/('3-総数 死産数及び死産率，自然－人工･年次･区別'!C39+O39)*1000 -> 11.519473 | D74: =D39/('3-総数 死産数及び死産率，自然－人工･年次･区別'!D39+P39)*1000 -> 10.615711 | E74: =E39/('3-総数 死産数及び死産率，自然－人工･年次･区別'!E39+Q39)*1000 -> 8.3661417 | F74: =F39/('3-総数 死産数及び死産率，自然－人工･年次･区別'!F39+R39)*1000 -> 9.7365407 | G74: =G39/('3-総数 死産数及び死産率，自然－人工･年次･区別'!G39+S39)*1000 -> 11.816839 | H74: =H39/('3-総数 死産数及び死産率，自然－人工･年次･区別'!H39+T39)*1000 -> 9.3077371 | I74: =I39/('3-総数 死産数及び死産率，自然－人工･年次･区別'!I39+U39)*1000 -> 4.587156 | ... L74: =L39/('3-総数 死産数及び死産率，自然－人工･年次･区別'!L39+X39)*1000 -> 8.4848485
A75: 1) 自然死産・人口死産の別の不明（1胎）については、自然死産に計上している。

Sheet 3-人工
A1: 3 自然-人工・区別にみた年次別死産数及び死産率(出産千対）（つづき）
A3: 人工死産
A4: 年次 | B4: 総数 | C4: 中央区 | D4: 北区 | E4: 東区 | F4: 白石区 | G4: 厚別区 | H4: 豊平区 | I4: 清田区 | J4: 南区 | K4: 西区 | L4: 手稲区
B5: 人工死産数
A6: 85 60 | B6: 1059 | C6: 205 | D6: 158 | E6: 162 | F6: 165 | G6: … | H6: 197 | I6: … | J6: 53 | K6: 119 | L6: …
A7: 1986 昭和61年 | B7: 1012 | C7: 190 | D7: 121 | E7: 159 | F7: 164 | G7: … | H7: 175 | I7: … | J7: 52 | K7: 151 | L7: …
A8: 1987 昭和62年 | B8: 911 | C8: 180 | D8: 111 | E8: 128 | F8: 161 | G8: … | H8: 157 | I8: … | J8: 55 | K8: 119 | L8: …
A9: 1988 昭和63年 | B9: 903 | C9: 174 | D9: 112 | E9: 120 | F9: 158 | G9: … | H9: 145 | I9: … | J9: 44 | K9: 150 | L9: …
A10: 89 平成元年 | B10: 823 | C10: 126 | D10: 116 | E10: 114 | F10: 146 | G10: … | H10: 138 | I10: … | J10: 55 | K10: 128 | L10: …
A11: 90 2 | B11: 800 | C11: 135 | D11: 97 | E11: 100 | F11: 121 | G11: 43 | H11: 139 | I11: … | J11: 40 | K11: 88 | L11: 37
A12: 91 3 | B12: 704 | C12: 116 | D12: 106 | E12: 94 | F12: 97 | G12: 46 | H12: 105 | I12: … | J12: 37 | K12: 67 | L12: 36
A13: 92 4 | B13: 631 | C13: 94 | D13: 70 | E13: 90 | F13: 93 | G13: 38 | H13: 101 | I13: … | J13: 35 | K13: 77 | L13: 33
A14: 1993 平成5年 | B14: 609 | C14: 94 | D14: 100 | E14: 75 | F14: 79 | G14: 51 | H14: 90 | I14: … | J14: 30 | K14: 52 | L14: 38
A15: 94 6 | B15: 547 | C15: 80 | D15: 59 | E15: 77 | F15: 79 | G15: 33 | H15: 93 | I15: … | J15: 34 | K15: 60 | L15: 32
A16: 95 7 | B16: 494 | C16: 71 | D16: 68 | E16: 75 | F16: 75 | G16: 34 | H16: 80 | I16: … | J16: 27 | K16: 48 | L16: 16
A17: 96 8 | B17: 473 | C17: 64 | D17: 69 | E17: 69 | F17: 70 | G17: 27 | H17: 76 | I17: … | J17: 21 | K17: 49 | L17: 28
A18: 97 9 | B18: 507 | C18: 66 | D18: 70 | E18: 65 | F18: 71 | G18: 33 | H18: 87 | I18: … | J18: 20 | K18: 70 | L18: 25
A19: 1998 平成10年 | B19: 477 | C19: 62 | D19: 75 | E19: 69 | F19: 58 | G19: 37 | H19: 52 | I19: 17 | J19: 21 | K19: 57 | L19: 29
A20: 99 11 | B20: 484 | C20: 60 | D20: 75 | E20: 65 | F20: 57 | G20: 33 | H20: 48 | I20: 29 | J20: 34 | K20: 50 | L20: 33
A21: 2000 12 | B21: 497 | C21: 70 | D21: 78 | E21: 63 | F21: 55 | G21: 27 | H21: 64 | I21: 27 | J21: 31 | K21: 53 | L21: 29
A22: 01 13 | B22: 505 | C22: 65 | D22: 72 | E22: 85 | F22: 68 | G22: 27 | H22: 67 | I22: 26 | J22: 27 | K22: 47 | L22: 21
A23: 02 14 | B23: 427 | C23: 58 | D23: 70 | E23: 62 | F23: 65 | G23: 31 | H23: 39 | I23: 19 | J23: 19 | K23: 35 | L23: 29
A24: 03 15 | B24: 434 | C24: 58 | D24: 64 | E24: 59 | F24: 58 | G24: 22 | H24: 64 | I24: 11 | J24: 32 | K24: 45 | L24: 21 | N24: 総数 | O24: 中央 | P24: 北 | Q24: 東 | R24: 白石 | S24: 厚別 | T24: 豊平 | U24: 清田 | V24: 南 | W24: 西 | X24: 手稲
A25: 04 16 | B25: 405 | C25: 55 | D25: 56 | E25: 57 | F25: 53 | G25: 14 | H25: 51 | I25: 22 | J25: 27 | K25: 44 | L25: 26 | N25: 14749 | O25: 1475 | P25: 2028 | Q25: 2295 | R25: 1884 | S25: 977 | T25: 1781 | U25: 724 | V25: 952 | W25: 1747 | X25: 886
A26: 05 17 | B26: 411 | C26: 77 | D26: 51 | E26: 61 | F26: 43 | G26: 21 | H26: 48 | I26: 22 | J26: 24 | K26: 42 | L26: 22 | N26: 14184 | O26: 1405 | P26: 1962 | Q26: 2263 | R26: 1868 | S26: 852 | T26: 1687 | U26: 698 | V26: 879 | W26: 1667 | X26: 903
A27: 06 18 | B27: 333 | C27: 48 | D27: 54 | E27: 48 | F27: 45 | G27: 17 | H27: 41 | I27: 15 | J27: 11 | K27: 34 | L27: 20 | N27: 14730 | O27: 1552 | P27: 1995 | Q27: 2312 | R27: 1907 | S27: 847 | T27: 1783 | U27: 789 | V27: 851 | W27: 1746 | X27: 948
A28: 07 19 | B28: 358 | C28: 45 | D28: 49 | E28: 52 | F28: 53 | G28: 16 | H28: 43 | I28: 20 | J28: 19 | K28: 38 | L28: 23 | N28: 14498 | O28: 1523 | P28: 2016 | Q28: 2245 | R28: 1850 | S28: 856 | T28: 1722 | U28: 729 | V28: 875 | W28: 1712 | X28: 970
A29: 08 20 | B29: 306 | C29: 54 | D29: 37 | E29: 36 | F29: 53 | G29: 18 | H29: 36 | I29: 11 | J29: 13 | K29: 26 | L29: 22 | N29: 14845 | O29: 1638 | P29: 2101 | Q29: 2297 | R29: 1933 | S29: 839 | T29: 1766 | U29: 807 | V29: 880 | W29: 1691 | X29: 893
A30: 09 21 | B30: 293 | C30: 38 | D30: 43 | E30: 36 | F30: 39 | G30: 19 | H30: 40 | I30: 14 | J30: 17 | K30: 31 | L30: 16 | N30: 14506 | O30: 1580 | P30: 2052 | Q30: 2221 | R30: 1831 | S30: 819 | T30: 1721 | U30: 773 | V30: 871 | W30: 1685 | X30: 953
A31: 10 22 | B31: 272 | C31: 40 | D31: 37 | E31: 41 | F31: 30 | G31: 10 | H31: 35 | I31: 16 | J31: 16 | K31: 28 | L31: 19 | N31: 14739 | O31: 1751 | P31: 2006 | Q31: 2237 | R31: 1955 | S31: 865 | T31: 1751 | U31: 752 | V31: 834 | W31: 1672 | X31: 916
A32: 11 23 | B32: 312 | C32: 48 | D32: 46 | E32: 47 | F32: 39 | G32: 19 | H32: 32 | I32: 21 | J32: 14 | K32: 26 | L32: 20 | N32: 14491 | O32: 1706 | P32: 1920 | Q32: 2141 | R32: 1887 | S32: 780 | T32: 1824 | U32: 763 | V32: 804 | W32: 1739 | X32: 927
A33: 12 24 | B33: 266 | C33: 49 | D33: 31 | E33: 33 | F33: 37 | G33: 16 | H33: 28 | I33: 10 | J33: 15 | K33: 26 | L33: 21 | N33: 14487 | O33: 1750 | P33: 1933 | Q33: 2151 | R33: 1921 | S33: 727 | T33: 1836 | U33: 754 | V33: 822 | W33: 1666 | X33: 927
A34: 13 25 | B34: 303 | C34: 62 | D34: 45 | E34: 40 | F34: 47 | G34: 8 | H34: 28 | I34: 15 | J34: 15 | K34: 31 | L34: 12 | N34: 14591 | O34: 1897 | P34: 1979 | Q34: 2110 | R34: 1872 | S34: 801 | T34: 1790 | U34: 705 | V34: 778 | W34: 1715 | X34: 944
A35: 14 26 | B35: 254 | C35: 42 | D35: 29 | E35: 32 | F35: 28 | G35: 17 | H35: 31 | I35: 10 | J35: 18 | K35: 26 | L35: 21 | N35: 14568 | O35: 1845 | P35: 1952 | Q35: 2171 | R35: 1939 | S35: 776 | T35: 1879 | U35: 660 | V35: 789 | W35: 1611 | X35: 946
A36: 15 27 | B36: 266 | C36: 56 | D36: 38 | E36: 40 | F36: 38 | G36: 10 | H36: 38 | I36: 9 | J36: 11 | K36: 21 | L36: 5 | N36: 14589 | O36: 1874 | P36: 2041 | Q36: 2128 | R36: 1891 | S36: 746 | T36: 1888 | U36: 645 | V36: 769 | W36: 1657 | X36: 950
... A38: 17 29 | B38: 224 | C38: 48 | D38: 26 | E38: 28 | F38: 31 | G38: 10 | H38: 37 | I38: 8 | J38: 12 | K38: 17 | L38: 7 | N38: 13821 | O38: 1772 | P38: 1877 | Q38: 2137 | R38: 1737 | S38: 696 | T38: 1743 | U38: 621 | V38: 718 | W38: 1652 | X38: 868
A39: 18 30 | B39: =SUM(C39:L39) -> 208 | C39: ='4 月・自然-人工別，区別死産数'!$B$30 -> 58 | D39: ='4 月・自然-人工別，区別死産数'!$B$31 -> 17 | E39: ='4 月・自然-人工別，区別死産数'!$B$32 -> 37 | F39: ='4 月・自然-人工別，区別死産数'!$B$33 -> 18 | G39: ='4 月・自然-人工別，区別死産数'!$B$34 -> 8 | H39: ='4 月・自然-人工別，区別死産数'!$B$35 -> 21 | I39: ='4 月・自然-人工別，区別死産数'!$B$36 -> 7 | J39: ='4 月・自然-人工別，区別死産数'!$B$37 -> 10 | K39: ='4 月・自然-人工別，区別死産数'!$B$38 -> 23 | L39: ='4 月・自然-人工別，区別死産数'!$B$39 -> 9 | N39: =[1]出生数!G$19 -> 13248 | O39: =[1]出生数!H$19 -> 1744 | P39: =[1]出生数!I$19 -> 1847 | Q39: =[1]出生数!J$19 -> 1978 | R39: =[1]出生数!K$19 -> 1711 | S39: =[1]出生数!L$19 -> 661 | T39: =[1]出生数!M$19 -> 1682 | U39: =[1]出生数!N$19 -> 644 | ... X39: =[1]出生数!Q$19 -> 809
B40: 人工死産率
A41: 85 60 | B41: 50.64078 | C41: 93.650069 | D41: 59.803179 | E41: 47.900651 | F41: 42.145594 | G41: ・ | H41: 57.958223 | I41: ・ | J41: 29.249448 | K41: 33.305346 | L41: ・
A42: 1986 昭和61年 | B42: 49.09285 | C42: 87.436723 | D42: 47.637795 | E42: 49.104385 | F42: 39.970753 | G42: ・ | H42: 51.698671 | I42: ・ | J42: 29.799427 | K42: 44.023324 | L42: ・
A43: 1987 昭和62年 | B43: 45.7904 | C43: 86.621752 | D43: 46.677881 | E43: 42.356056 | F43: 40.842212 | G43: ・ | H43: 47.06235 | I43: ・ | J43: 33.454988 | K43: 34.048641 | L43: ・
A44: 1988 昭和63年 | B44: 46.355236 | C44: 86.826347 | D44: 48.632219 | E44: 40.636641 | F44: 39.919151 | G44: ・ | H44: 44.919455 | I44: ・ | J44: 26.020106 | K44: 44.869877 | L44: ・
A45: 89 平成元年 | B45: 44.133419 | C45: 72.413793 | D45: 53.853296 | E45: 40.04215 | F45: 37.301993 | G45: ・ | H45: 44.330228 | I45: ・ | J45: 34.375 | K45: 39.02439 | L45: ・
A46: 90 2 | B46: 42.955326 | C46: 76.357466 | D46: 45.242537 | E46: 34.904014 | F46: 49.287169 | G46: 29.371585 | H46: 44.30985 | I46: ・ | J46: 25.188917 | K46: 42.843233 | L46: 32.201915
A47: 91 3 | B47: 38.082874 | C47: 71.078431 | D47: 48.050771 | E47: 31.385643 | F47: 39.018504 | G47: 33.381713 | H47: 35.294118 | I47: ・ | J47: 24.246396 | K47: 31.904762 | L47: 30.30303
A48: 92 4 | B48: 34.516711 | C48: 59.64467 | D48: 31.531532 | E48: 31.723652 | F48: 37.334404 | G48: 27.298851 | H48: 33.322336 | I48: ・ | J48: 24.441341 | K48: 37.198068 | L48: 26.785714
A49: 1993 平成5年 | B49: 35.277762 | C49: 65.368567 | D49: 46.772685 | E49: 27.462468 | F49: 35.958125 | G49: 38.548753 | H49: 31.228314 | I49: ・ | J49: 20.804438 | K49: 27.282267 | L49: 31.509121
A50: 94 6 | B50: 30.575741 | C50: 52.945069 | D50: 25.764192 | E50: 27.979651 | F50: 34.437663 | G50: 23.706897 | H50: 31.344793 | I50: ・ | J50: 23.208191 | K50: 30.318343 | L50: 25.806452
A51: 95 7 | B51: 29.125641 | C51: 50.2477 | D51: 31.539889 | E51: 27.985075 | F51: 34.981343 | G51: 27.597403 | H51: 27.633851 | I51: ・ | J51: 18.907563 | K51: 25.343189 | L51: 14.298481
A52: 96 8 | B52: 27.737055 | C52: 44.786564 | D52: 30.30303 | E52: 25.367647 | F52: 32.139578 | G52: 20.626432 | H52: 26.60133 | I52: ・ | J52: 15.395894 | K52: 26.893524 | L52: 25.524157
A53: 97 9 | B53: 30.488905 | C53: 45.423262 | D53: 32.258065 | E53: 24.472892 | F53: 33.857892 | G53: 28.399312 | H53: 30.742049 | I53: ・ | J53: 15.349194 | K53: 38.781163 | L53: 21.682567
A54: 1998 平成10年 | B54: 28.264992 | C54: 42.407661 | D54: 34.786642 | E54: 25.009061 | F54: 26.654412 | G54: 31.197302 | H54: 26.369168 | I54: 20.14218 | J54: 16.759777 | K54: 29.442149 | L54: 25.618375
A55: 99 11 | B55: 30.172683 | C55: 42.553191 | D55: 36.075036 | E55: 25.331255 | F55: 28.162055 | G55: 28.871391 | H55: 24.704066 | I55: 34.077556 | J55: 28.985507 | K55: 27.352298 | L55: 32.226562
A56: 2000 12 | B56: 30.961874 | C56: 49.50495 | D56: 37.974684 | E56: 23.630908 | F56: 26.894866 | G56: 24.30243 | H56: 33.437827 | I56: 32.806804 | J56: 26.863085 | K56: 29.460812 | L56: 27.052239
A57: 01 13 | B57: 31.503431 | C57: 44.398907 | D57: 34.682081 | E57: 32.554577 | F57: 32.582655 | G57: 25.163094 | H57: 35.828877 | I57: 29.988466 | J57: 23.788546 | K57: 25.268817 | L57: 21.276596
A58: 02 14 | B58: 26.392237 | C58: 37.711313 | D58: 32.065964 | E58: 24.371069 | F58: 30.937649 | G58: 29.135338 | H58: 19.887812 | I58: 22.40566 | J58: 18.147087 | K58: 19.052803 | L58: 27.462121
A59: 03 15 | B59: 27.767115 | C59: 39.189189 | D59: 30.447193 | E59: 23.656776 | F59: 29.426687 | G59: 22.380468 | H59: 34.519957 | I59: 12.895662 | J59: 29.878618 | K59: 24.684586 | L59: 21.021021
A60: 04 16 | B60: 26.384365 | C60: 35.460993 | D60: 26.490066 | E60: 23.939521 | F60: 27.013252 | G60: 13.944223 | H60: 27.419355 | I60: 29.177719 | J60: 27.190332 | K60: 24.309392 | L60: 28.230185
A61: 05 17 | B61: 27.796564 | C61: 51.367578 | D61: 24.963289 | E61: 25.858415 | F61: 22.256729 | G61: 23.782559 | H61: 27.350427 | I61: 30.178326 | J61: 26.258206 | K61: 24.263432 | L61: 23.379384
A62: 06 18 | B62: 21.800327 | C62: 29.55665 | D62: 26.049204 | E62: 20.06689 | F62: 22.738757 | G62: 19.428571 | H62: 22.090517 | I62: 18.382353 | J62: 12.514221 | K62: 18.899389 | L62: 20.366599
A63: 07 19 | B63: 23.779475 | C63: 28.266332 | D63: 23.400191 | E63: 22.327179 | F63: 27.475376 | G63: 18.16118 | H63: 24.035774 | I63: 26.385224 | J63: 20.833333 | K63: 21.505376 | L63: 22.908367
A64: 08 20 | B64: 19.946548 | C64: 31.652989 | D64: 17.105871 | E64: 15.183467 | F64: 26.407573 | G64: 20.761246 | H64: 19.693654 | I64: 13.253012 | J64: 14.254386 | K64: 14.994233 | L64: 23.83532
A65: 09 21 | B65: 19.56725 | C65: 23.284314 | D65: 20.235294 | E65: 15.782552 | F65: 20.591341 | G65: 22.326675 | H65: 22.459293 | I65: 17.654477 | J65: 18.952062 | K65: 17.816092 | L65: 16.326531
... A73: 17 29 | B73: 15.749139 | C73: 26.044493 | D73: 13.527575 | E73: 12.791229 | F73: 17.308766 | G73: 14.005602 | H73: 20.509978 | I73: 12.5 | J73: 16.129032 | K73: 10.059172 | L73: 7.9006772
A74: 18 30 | B74: =B39/('3-総数 死産数及び死産率，自然－人工･年次･区別'!B39+'3-人工'!N39)*1000 -> 15.300868 | C74: =C39/('3-総数 死産数及び死産率，自然－人工･年次･区別'!C39+'3-人工'!O39)*1000 -> 31.815688 | D74: =D39/('3-総数 死産数及び死産率，自然－人工･年次･区別'!D39+'3-人工'!P39)*1000 -> 9.0233546 | E74: =E39/('3-総数 死産数及び死産率，自然－人工･年次･区別'!E39+'3-人工'!Q39)*1000 -> 18.208661 | F74: =F39/('3-総数 死産数及び死産率，自然－人工･年次･区別'!F39+'3-人工'!R39)*1000 -> 10.309278 | G74: =G39/('3-総数 死産数及び死産率，自然－人工･年次･区別'!G39+'3-人工'!S39)*1000 -> 11.816839 | H74: =H39/('3-総数 死産数及び死産率，自然－人工･年次･区別'!H39+'3-人工'!T39)*1000 -> 12.216405 | I74: =I39/('3-総数 死産数及び死産率，自然－人工･年次･区別'!I39+'3-人工'!U39)*1000 -> 10.703364 | ... L74: =L39/('3-総数 死産数及び死産率，自然－人工･年次･区別'!L39+'3-人工'!X39)*1000 -> 10.909091

Sheet 4　月・自然-人工別，区別死産数
A1: 4 月・自然－人工別にみた区別死産数
N2: 平成30年
A3: 区 | B3: 総数 | C3: 1 月 | D3: 2 月 | E3: 3 月 | F3: 4 月 | G3: 5 月 | H3: 6 月 | I3: 7 月 | J3: 8 月 | K3: 9 月 | L3: 10月 | M3: 11月 | N3: 12月
B4: 死産数
A5: 総数 | B5: =SUM(B17,B29) -> 346 | C5: =SUM(C17,C29) -> 35 | D5: =SUM(D17,D29) -> 21 | E5: =SUM(E17,E29) -> 26 | F5: =SUM(F17,F29) -> 22 | G5: =SUM(G17,G29) -> 29 | H5: =SUM(H17,H29) -> 30 | I5: =SUM(I17,I29) -> 23 | ... N5: =SUM(N17,N29) -> 27
A6: 中央 | B6: =SUM(B18,B30) -> 79 | C6: =SUM(C18,C30) -> 8 | D6: =SUM(D18,D30) -> 6 | E6: =SUM(E18,E30) -> 4 | F6: =SUM(F18,F30) -> 4 | G6: =SUM(G18,G30) -> 5 | H6: =SUM(H18,H30) -> 14 | I6: =SUM(I18,I30) -> 5 | ... N6: =SUM(N18,N30) -> 2
A7: 北 | B7: =SUM(B19,B31) -> 37 | C7: =SUM(C19,C31) -> 4 | D7: =SUM(D19,D31) -> 3 | E7: =SUM(E19,E31) -> 4 | F7: =SUM(F19,F31) -> 4 | G7: =SUM(G19,G31) -> 2 | H7: =SUM(H19,H31) -> 0 | I7: =SUM(I19,I31) -> 3 | ... N7: =SUM(N19,N31) -> 4
A8: 東 | B8: =SUM(B20,B32) -> 54 | C8: =SUM(C20,C32) -> 6 | D8: =SUM(D20,D32) -> 4 | E8: =SUM(E20,E32) -> 4 | F8: =SUM(F20,F32) -> 5 | G8: =SUM(G20,G32) -> 4 | H8: =SUM(H20,H32) -> 7 | I8: =SUM(I20,I32) -> 2 | ... N8: =SUM(N20,N32) -> 4
A9: 白石 | B9: =SUM(B21,B33) -> 35 | C9: =SUM(C21,C33) -> 2 | D9: =SUM(D21,D33) -> 1 | E9: =SUM(E21,E33) -> 5 | F9: =SUM(F21,F33) -> 2 | G9: =SUM(G21,G33) -> 3 | H9: =SUM(H21,H33) -> 3 | I9: =SUM(I21,I33) -> 3 | ... N9: =SUM(N21,N33) -> 1
A10: 厚別 | B10: =SUM(B22,B34) -> 16 | C10: =SUM(C22,C34) -> 1 | D10: =SUM(D22,D34) -> 0 | E10: =SUM(E22,E34) -> 2 | F10: =SUM(F22,F34) -> 2 | G10: =SUM(G22,G34) -> 1 | H10: =SUM(H22,H34) -> 2 | I10: =SUM(I22,I34) -> 2 | ... N10: =SUM(N22,N34) -> 2
A11: 豊平 | B11: =SUM(B23,B35) -> 37 | C11: =SUM(C23,C35) -> 4 | D11: =SUM(D23,D35) -> 1 | E11: =SUM(E23,E35) -> 3 | F11: =SUM(F23,F35) -> 3 | G11: =SUM(G23,G35) -> 6 | H11: =SUM(H23,H35) -> 0 | I11: =SUM(I23,I35) -> 3 | ... N11: =SUM(N23,N35) -> 3
A12: 清田 | B12: =SUM(B24,B36) -> 10 | C12: =SUM(C24,C36) -> 2 | D12: =SUM(D24,D36) -> 0 | E12: =SUM(E24,E36) -> 0 | F12: =SUM(F24,F36) -> 1 | G12: =SUM(G24,G36) -> 2 | H12: =SUM(H24,H36) -> 1 | I12: =SUM(I24,I36) -> 0 | ... N12: =SUM(N24,N36) -> 0
A13: 南 | B13: =SUM(B25,B37) -> 22 | C13: =SUM(C25,C37) -> 1 | D13: =SUM(D25,D37) -> 2 | E13: =SUM(E25,E37) -> 1 | F13: =SUM(F25,F37) -> 0 | G13: =SUM(G25,G37) -> 1 | H13: =SUM(H25,H37) -> 1 | I13: =SUM(I25,I37) -> 1 | ... N13: =SUM(N25,N37) -> 5
A14: 西 | B14: =SUM(B26,B38) -> 40 | C14: =SUM(C26,C38) -> 5 | D14: =SUM(D26,D38) -> 4 | E14: =SUM(E26,E38) -> 2 | F14: =SUM(F26,F38) -> 1 | G14: =SUM(G26,G38) -> 3 | H14: =SUM(H26,H38) -> 1 | I14: =SUM(I26,I38) -> 4 | ... N14: =SUM(N26,N38) -> 2
A15: 手稲 | B15: =SUM(B27,B39) -> 16 | C15: =SUM(C27,C39) -> 2 | D15: =SUM(D27,D39) -> 0 | E15: =SUM(E27,E39) -> 1 | F15: =SUM(F27,F39) -> 0 | G15: =SUM(G27,G39) -> 2 | H15: =SUM(H27,H39) -> 1 | I15: =SUM(I27,I39) -> 0 | ... N15: =SUM(N27,N39) -> 4
B16: 自然死産
A17: 総数 | B17: =SUM(C17:N17) -> 138 | C17: =SUM(C18:C27) -> 14 | D17: =SUM(D18:D27) -> 11 | E17: =SUM(E18:E27) -> 12 | F17: =SUM(F18:F27) -> 8 | G17: =SUM(G18:G27) -> 14 | H17: =SUM(H18:H27) -> 11 | I17: =SUM(I18:I27) -> 5 | J17: =SUM(J18:J27) -> 14 | ... N17: =SUM(N18:N27) -> 9
A18: 中央 | B18: =SUM(C18:N18) -> 21 | C18: 0 | D18: 3 | E18: 1 | F18: 1 | G18: 1 | H18: 2 | I18: 1 | J18: 2 | K18: 1 | L18: 4 | M18: 5 | N18: 0
A19: 北 | B19: =SUM(C19:N19) -> 20 | C19: 2 | D19: 3 | E19: 4 | F19: 2 | G19: 1 | H19: 0 | I19: 0 | J19: 2 | K19: 0 | L19: 3 | M19: 2 | N19: 1
A20: 東 | B20: =SUM(C20:N20) -> 17 | C20: 4 | D20: 3 | E20: 1 | F20: 1 | G20: 2 | H20: 3 | I20: 1 | J20: 0 | K20: 1 | L20: 1 | M20: 0 | N20: 0
A21: 白石 | B21: =SUM(C21:N21) -> 17 | C21: 2 | D21: 0 | E21: 1 | F21: 2 | G21: 1 | H21: 1 | I21: 1 | J21: 2 | K21: 2 | L21: 1 | M21: 3 | N21: 1
A22: 厚別 | B22: =SUM(C22:N22) -> 8 | C22: 1 | D22: 0 | E22: 1 | F22: 0 | G22: 1 | H22: 2 | I22: 1 | J22: 1 | K22: 1 | L22: 0 | M22: 0 | N22: 0
A23: 豊平 | B23: =SUM(C23:N23) -> 16 | C23: 1 | D23: 0 | E23: 2 | F23: 2 | G23: 2 | H23: 0 | I23: 1 | J23: 1 | K23: 3 | L23: 0 | M23: 2 | N23: 2
A24: 清田 | B24: =SUM(C24:N24) -> 3 | C24: 0 | D24: 0 | E24: 0 | F24: 0 | G24: 1 | H24: 0 | I24: 0 | J24: 1 | K24: 0 | L24: 1 | M24: 0 | N24: 0
A25: 南 | B25: =SUM(C25:N25) -> 12 | C25: 1 | D25: 1 | E25: 0 | F25: 0 | G25: 1 | H25: 1 | I25: 0 | J25: 2 | K25: 2 | L25: 1 | M25: 0 | N25: 3
A26: 西 | B26: =SUM(C26:N26) -> 17 | C26: 2 | D26: 1 | E26: 1 | F26: 0 | G26: 3 | H26: 1 | I26: 0 | J26: 3 | K26: 1 | L26: 2 | M26: 3 | N26: 0
A27: 手稲 | B27: =SUM(C27:N27) -> 7 | C27: 1 | D27: 0 | E27: 1 | F27: 0 | G27: 1 | H27: 1 | I27: 0 | J27: 0 | K27: 0 | L27: 0 | M27: 1 | N27: 2
B28: 人工死産
A29: 総数 | B29: =SUM(C29:N29) -> 208 | C29: =SUM(C30:C39) -> 21 | D29: =SUM(D30:D39) -> 10 | E29: =SUM(E30:E39) -> 14 | F29: =SUM(F30:F39) -> 14 | G29: =SUM(G30:G39) -> 15 | H29: =SUM(H30:H39) -> 19 | I29: =SUM(I30:I39) -> 18 | J29: =SUM(J30:J39) -> 21 | ... N29: =SUM(N30:N39) -> 18
A30: 中央 | B30: =SUM(C30:N30) -> 58 | C30: 8 | D30: 3 | E30: 3 | F30: 3 | G30: 4 | H30: 12 | I30: 4 | J30: 1 | K30: 4 | L30: 8 | M30: 6 | N30: 2
A31: 北 | B31: =SUM(C31:N31) -> 17 | C31: 2 | D31: 0 | E31: 0 | F31: 2 | G31: 1 | H31: 0 | I31: 3 | J31: 3 | K31: 0 | L31: 3 | M31: 0 | N31: 3
A32: 東 | B32: =SUM(C32:N32) -> 37 | C32: 2 | D32: 1 | E32: 3 | F32: 4 | G32: 2 | H32: 4 | I32: 1 | J32: 6 | K32: 3 | L32: 5 | M32: 2 | N32: 4
A33: 白石 | B33: =SUM(C33:N33) -> 18 | C33: 0 | D33: 1 | E33: 4 | F33: 0 | G33: 2 | H33: 2 | I33: 2 | J33: 2 | K33: 1 | L33: 2 | M33: 2 | N33: 0
A34: 厚別 | B34: =SUM(C34:N34) -> 8 | C34: 0 | D34: 0 | E34: 1 | F34: 2 | G34: 0 | H34: 0 | I34: 1 | J34: 0 | K34: 0 | L34: 1 | M34: 1 | N34: 2
A35: 豊平 | B35: =SUM(C35:N35) -> 21 | C35: 3 | D35: 1 | E35: 1 | F35: 1 | G35: 4 | H35: 0 | I35: 2 | J35: 1 | K35: 1 | L35: 4 | M35: 2 | N35: 1
A36: 清田 | B36: =SUM(C36:N36) -> 7 | C36: 2 | D36: 0 | E36: 0 | F36: 1 | G36: 1 | H36: 1 | I36: 0 | J36: 1 | K36: 0 | L36: 1 | M36: 0 | N36: 0
A37: 南 | B37: =SUM(C37:N37) -> 10 | C37: 0 | D37: 1 | E37: 1 | F37: 0 | G37: 0 | H37: 0 | I37: 1 | J37: 1 | K37: 1 | L37: 1 | M37: 2 | N37: 2
A38: 西 | B38: =SUM(C38:N38) -> 23 | C38: 3 | D38: 3 | E38: 1 | F38: 1 | G38: 0 | H38: 0 | I38: 4 | J38: 2 | K38: 2 | L38: 3 | M38: 2 | N38: 2
A39: 手稲 | B39: =SUM(C39:N39) -> 9 | C39: 1 | D39: 0 | E39: 0 | F39: 0 | G39: 1 | H39: 0 | I39: 0 | J39: 4 | K39: 0 | L39: 0 | M39: 1 | N39: 2

Sheet 5　月・自然-人工別，区別死産率
A1: 5 月・自然－人工別にみた区別死産率(出産千対）
N2: ='4 月・自然-人工別，区別死産数'!$N$2 -> 平成30年
A3: 区 | B3: 総数 | C3: 1 月 | D3: 2 月 | E3: 3 月 | F3: 4 月 | G3: 5 月 | H3: 6 月 | I3: 7 月 | J3: 8 月 | K3: 9 月 | L3: 10月 | M3: 11月 | N3: 12月
B4: 死産率 | P4: =[1]出生数!G3 -> 総数 | Q4: =[1]出生数!V3 -> １月 | R4: =[1]出生数!W3 -> ２月 | S4: =[1]出生数!X3 -> ３月 | T4: =[1]出生数!Y3 -> ４月 | U4: =[1]出生数!Z3 -> ５月 | V4: =[1]出生数!AA3 -> ６月 | W4: =[1]出生数!AB3 -> ７月 | X4: =[1]出生数!AC3 -> ８月 | ... AB4: =[1]出生数!AG3 -> １２月
A5: 総数 | B5: ='4 月・自然-人工別，区別死産数'!B5/('4 月・自然-人工別，区別死産数'!B5+'5 月・自然-人工別，区別死産率'!P5)*1000 -> 25.452405 | C5: ='4 月・自然-人工別，区別死産数'!C5/('4 月・自然-人工別，区別死産数'!C5+'5 月・自然-人工別，区別死産率'!Q5)*1000 -> 29.91453 | D5: ='4 月・自然-人工別，区別死産数'!D5/('4 月・自然-人工別，区別死産数'!D5+'5 月・自然-人工別，区別死産率'!R5)*1000 -> 19.301471 | E5: ='4 月・自然-人工別，区別死産数'!E5/('4 月・自然-人工別，区別死産数'!E5+'5 月・自然-人工別，区別死産率'!S5)*1000 -> 23.550725 | F5: ='4 月・自然-人工別，区別死産数'!F5/('4 月・自然-人工別，区別死産数'!F5+'5 月・自然-人工別，区別死産率'!T5)*1000 -> 20.20202 | G5: ='4 月・自然-人工別，区別死産数'!G5/('4 月・自然-人工別，区別死産数'!G5+'5 月・自然-人工別，区別死産率'!U5)*1000 -> 25.064823 | H5: ='4 月・自然-人工別，区別死産数'!H5/('4 月・自然-人工別，区別死産数'!H5+'5 月・自然-人工別，区別死産率'!V5)*1000 -> 26.315789 | I5: ='4 月・自然-人工別，区別死産数'!I5/('4 月・自然-人工別，区別死産数'!I5+'5 月・自然-人工別，区別死産率'!W5)*1000 -> 20 | ... N5: ='4 月・自然-人工別，区別死産数'!N5/('4 月・自然-人工別，区別死産数'!N5+'5 月・自然-人工別，区別死産率'!AB5)*1000 -> 25.862069 | P5: =[1]出生数!G4 -> 13248 | Q5: =[1]出生数!V4 -> 1135 | R5: =[1]出生数!W4 -> 1067 | S5: =[1]出生数!X4 -> 1078 | T5: =[1]出生数!Y4 -> 1067 | U5: =[1]出生数!Z4 -> 1128 | V5: =[1]出生数!AA4 -> 1110 | W5: =[1]出生数!AB4 -> 1127 | X5: =[1]出生数!AC4 -> 1218 | ... AB5: =[1]出生数!AG4 -> 1017
A6: 中央 | B6: ='4 月・自然-人工別，区別死産数'!B6/('4 月・自然-人工別，区別死産数'!B6+'5 月・自然-人工別，区別死産率'!P6)*1000 -> 43.335162 | C6: ='4 月・自然-人工別，区別死産数'!C6/('4 月・自然-人工別，区別死産数'!C6+'5 月・自然-人工別，区別死産率'!Q6)*1000 -> 55.172414 | D6: ='4 月・自然-人工別，区別死産数'!D6/('4 月・自然-人工別，区別死産数'!D6+'5 月・自然-人工別，区別死産率'!R6)*1000 -> 37.974684 | E6: ='4 月・自然-人工別，区別死産数'!E6/('4 月・自然-人工別，区別死産数'!E6+'5 月・自然-人工別，区別死産率'!S6)*1000 -> 25.974026 | F6: ='4 月・自然-人工別，区別死産数'!F6/('4 月・自然-人工別，区別死産数'!F6+'5 月・自然-人工別，区別死産率'!T6)*1000 -> 29.19708 | G6: ='4 月・自然-人工別，区別死産数'!G6/('4 月・自然-人工別，区別死産数'!G6+'5 月・自然-人工別，区別死産率'!U6)*1000 -> 31.25 | H6: ='4 月・自然-人工別，区別死産数'!H6/('4 月・自然-人工別，区別死産数'!H6+'5 月・自然-人工別，区別死産率'!V6)*1000 -> 88.050314 | I6: ='4 月・自然-人工別，区別死産数'!I6/('4 月・自然-人工別，区別死産数'!I6+'5 月・自然-人工別，区別死産率'!W6)*1000 -> 36.231884 | ... N6: ='4 月・自然-人工別，区別死産数'!N6/('4 月・自然-人工別，区別死産数'!N6+'5 月・自然-人工別，区別死産率'!AB6)*1000 -> 13.422819 | P6: =[1]出生数!G5 -> 1744 | Q6: =[1]出生数!V5 -> 137 | R6: =[1]出生数!W5 -> 152 | S6: =[1]出生数!X5 -> 150 | T6: =[1]出生数!Y5 -> 133 | U6: =[1]出生数!Z5 -> 155 | V6: =[1]出生数!AA5 -> 145 | W6: =[1]出生数!AB5 -> 133 | X6: =[1]出生数!AC5 -> 167 | ... AB6: =[1]出生数!AG5 -> 147
A7: 北 | B7: ='4 月・自然-人工別，区別死産数'!B7/('4 月・自然-人工別，区別死産数'!B7+'5 月・自然-人工別，区別死産率'!P7)*1000 -> 19.639066 | C7: ='4 月・自然-人工別，区別死産数'!C7/('4 月・自然-人工別，区別死産数'!C7+'5 月・自然-人工別，区別死産率'!Q7)*1000 -> 23.121387 | D7: ='4 月・自然-人工別，区別死産数'!D7/('4 月・自然-人工別，区別死産数'!D7+'5 月・自然-人工別，区別死産率'!R7)*1000 -> 21.126761 | E7: ='4 月・自然-人工別，区別死産数'!E7/('4 月・自然-人工別，区別死産数'!E7+'5 月・自然-人工別，区別死産率'!S7)*1000 -> 28.368794 | F7: ='4 月・自然-人工別，区別死産数'!F7/('4 月・自然-人工別，区別死産数'!F7+'5 月・自然-人工別，区別死産率'!T7)*1000 -> 28.368794 | G7: ='4 月・自然-人工別，区別死産数'!G7/('4 月・自然-人工別，区別死産数'!G7+'5 月・自然-人工別，区別死産率'!U7)*1000 -> 11.363636 | H7: ='4 月・自然-人工別，区別死産数'!H7/('4 月・自然-人工別，区別死産数'!H7+'5 月・自然-人工別，区別死産率'!V7)*1000 -> 0 | I7: ='4 月・自然-人工別，区別死産数'!I7/('4 月・自然-人工別，区別死産数'!I7+'5 月・自然-人工別，区別死産率'!W7)*1000 -> 17.751479 | ... N7: ='4 月・自然-人工別，区別死産数'!N7/('4 月・自然-人工別，区別死産数'!N7+'5 月・自然-人工別，区別死産率'!AB7)*1000 -> 28.985507 | P7: =[1]出生数!G6 -> 1847 | Q7: =[1]出生数!V6 -> 169 | R7: =[1]出生数!W6 -> 139 | S7: =[1]出生数!X6 -> 137 | T7: =[1]出生数!Y6 -> 137 | U7: =[1]出生数!Z6 -> 174 | V7: =[1]出生数!AA6 -> 164 | W7: =[1]出生数!AB6 -> 166 | X7: =[1]出生数!AC6 -> 183 | ... AB7: =[1]出生数!AG6 -> 134
A8: 東 | B8: ='4 月・自然-人工別，区別死産数'!B8/('4 月・自然-人工別，区別死産数'!B8+'5 月・自然-人工別，区別死産率'!P8)*1000 -> 26.574803 | C8: ='4 月・自然-人工別，区別死産数'!C8/('4 月・自然-人工別，区別死産数'!C8+'5 月・自然-人工別，区別死産率'!Q8)*1000 -> 34.682081 | D8: ='4 月・自然-人工別，区別死産数'!D8/('4 月・自然-人工別，区別死産数'!D8+'5 月・自然-人工別，区別死産率'!R8)*1000 -> 29.411765 | E8: ='4 月・自然-人工別，区別死産数'!E8/('4 月・自然-人工別，区別死産数'!E8+'5 月・自然-人工別，区別死産率'!S8)*1000 -> 24.242424 | F8: ='4 月・自然-人工別，区別死産数'!F8/('4 月・自然-人工別，区別死産数'!F8+'5 月・自然-人工別，区別死産率'!T8)*1000 -> 28.409091 | G8: ='4 月・自然-人工別，区別死産数'!G8/('4 月・自然-人工別，区別死産数'!G8+'5 月・自然-人工別，区別死産率'!U8)*1000 -> 24.096386 | H8: ='4 月・自然-人工別，区別死産数'!H8/('4 月・自然-人工別，区別死産数'!H8+'5 月・自然-人工別，区別死産率'!V8)*1000 -> 40.697674 | I8: ='4 月・自然-人工別，区別死産数'!I8/('4 月・自然-人工別，区別死産数'!I8+'5 月・自然-人工別，区別死産率'!W8)*1000 -> 11.049724 | ... N8: ='4 月・自然-人工別，区別死産数'!N8/('4 月・自然-人工別，区別死産数'!N8+'5 月・自然-人工別，区別死産率'!AB8)*1000 -> 26.666667 | P8: =[1]出生数!G7 -> 1978 | Q8: =[1]出生数!V7 -> 167 | R8: =[1]出生数!W7 -> 132 | S8: =[1]出生数!X7 -> 161 | T8: =[1]出生数!Y7 -> 171 | U8: =[1]出生数!Z7 -> 162 | V8: =[1]出生数!AA7 -> 165 | W8: =[1]出生数!AB7 -> 179 | X8: =[1]出生数!AC7 -> 171 | ... AB8: =[1]出生数!AG7 -> 146
A9: 白石 | B9: ='4 月・自然-人工別，区別死産数'!B9/('4 月・自然-人工別，区別死産数'!B9+'5 月・自然-人工別，区別死産率'!P9)*1000 -> 20.045819 | C9: ='4 月・自然-人工別，区別死産数'!C9/('4 月・自然-人工別，区別死産数'!C9+'5 月・自然-人工別，区別死産率'!Q9)*1000 -> 13.69863 | D9: ='4 月・自然-人工別，区別死産数'!D9/('4 月・自然-人工別，区別死産数'!D9+'5 月・自然-人工別，区別死産率'!R9)*1000 -> 6.7114094 | E9: ='4 月・自然-人工別，区別死産数'!E9/('4 月・自然-人工別，区別死産数'!E9+'5 月・自然-人工別，区別死産率'!S9)*1000 -> 39.0625 | F9: ='4 月・自然-人工別，区別死産数'!F9/('4 月・自然-人工別，区別死産数'!F9+'5 月・自然-人工別，区別死産率'!T9)*1000 -> 14.285714 | G9: ='4 月・自然-人工別，区別死産数'!G9/('4 月・自然-人工別，区別死産数'!G9+'5 月・自然-人工別，区別死産率'!U9)*1000 -> 21.126761 | H9: ='4 月・自然-人工別，区別死産数'!H9/('4 月・自然-人工別，区別死産数'!H9+'5 月・自然-人工別，区別死産率'!V9)*1000 -> 21.276596 | I9: ='4 月・自然-人工別，区別死産数'!I9/('4 月・自然-人工別，区別死産数'!I9+'5 月・自然-人工別，区別死産率'!W9)*1000 -> 20.547945 | ... N9: ='4 月・自然-人工別，区別死産数'!N9/('4 月・自然-人工別，区別死産数'!N9+'5 月・自然-人工別，区別死産率'!AB9)*1000 -> 7.518797 | P9: =[1]出生数!G8 -> 1711 | Q9: =[1]出生数!V8 -> 144 | R9: =[1]出生数!W8 -> 148 | S9: =[1]出生数!X8 -> 123 | T9: =[1]出生数!Y8 -> 138 | U9: =[1]出生数!Z8 -> 139 | V9: =[1]出生数!AA8 -> 138 | W9: =[1]出生数!AB8 -> 143 | X9: =[1]出生数!AC8 -> 145 | ... AB9: =[1]出生数!AG8 -> 132
A10: 厚別 | B10: ='4 月・自然-人工別，区別死産数'!B10/('4 月・自然-人工別，区別死産数'!B10+'5 月・自然-人工別，区別死産率'!P10)*1000 -> 23.633678 | C10: ='4 月・自然-人工別，区別死産数'!C10/('4 月・自然-人工別，区別死産数'!C10+'5 月・自然-人工別，区別死産率'!Q10)*1000 -> 18.518519 | D10: ='4 月・自然-人工別，区別死産数'!D10/('4 月・自然-人工別，区別死産数'!D10+'5 月・自然-人工別，区別死産率'!R10)*1000 -> 0 | E10: ='4 月・自然-人工別，区別死産数'!E10/('4 月・自然-人工別，区別死産数'!E10+'5 月・自然-人工別，区別死産率'!S10)*1000 -> 38.461538 | F10: ='4 月・自然-人工別，区別死産数'!F10/('4 月・自然-人工別，区別死産数'!F10+'5 月・自然-人工別，区別死産率'!T10)*1000 -> 32.258065 | G10: ='4 月・自然-人工別，区別死産数'!G10/('4 月・自然-人工別，区別死産数'!G10+'5 月・自然-人工別，区別死産率'!U10)*1000 -> 23.809524 | H10: ='4 月・自然-人工別，区別死産数'!H10/('4 月・自然-人工別，区別死産数'!H10+'5 月・自然-人工別，区別死産率'!V10)*1000 -> 38.461538 | I10: ='4 月・自然-人工別，区別死産数'!I10/('4 月・自然-人工別，区別死産数'!I10+'5 月・自然-人工別，区別死産率'!W10)*1000 -> 40 | ... N10: ='4 月・自然-人工別，区別死産数'!N10/('4 月・自然-人工別，区別死産数'!N10+'5 月・自然-人工別，区別死産率'!AB10)*1000 -> 35.714286 | P10: =[1]出生数!G9 -> 661 | Q10: =[1]出生数!V9 -> 53 | R10: =[1]出生数!W9 -> 53 | S10: =[1]出生数!X9 -> 50 | T10: =[1]出生数!Y9 -> 60 | U10: =[1]出生数!Z9 -> 41 | V10: =[1]出生数!AA9 -> 50 | W10: =[1]出生数!AB9 -> 48 | X10: =[1]出生数!AC9 -> 81 | ... AB10: =[1]出生数!AG9 -> 54
A11: 豊平 | B11: ='4 月・自然-人工別，区別死産数'!B11/('4 月・自然-人工別，区別死産数'!B11+'5 月・自然-人工別，区別死産率'!P11)*1000 -> 21.524142 | C11: ='4 月・自然-人工別，区別死産数'!C11/('4 月・自然-人工別，区別死産数'!C11+'5 月・自然-人工別，区別死産率'!Q11)*1000 -> 23.121387 | D11: ='4 月・自然-人工別，区別死産数'!D11/('4 月・自然-人工別，区別死産数'!D11+'5 月・自然-人工別，区別死産率'!R11)*1000 -> 6.4516129 | E11: ='4 月・自然-人工別，区別死産数'!E11/('4 月・自然-人工別，区別死産数'!E11+'5 月・自然-人工別，区別死産率'!S11)*1000 -> 20.833333 | F11: ='4 月・自然-人工別，区別死産数'!F11/('4 月・自然-人工別，区別死産数'!F11+'5 月・自然-人工別，区別死産率'!T11)*1000 -> 21.89781 | G11: ='4 月・自然-人工別，区別死産数'!G11/('4 月・自然-人工別，区別死産数'!G11+'5 月・自然-人工別，区別死産率'!U11)*1000 -> 43.478261 | H11: ='4 月・自然-人工別，区別死産数'!H11/('4 月・自然-人工別，区別死産数'!H11+'5 月・自然-人工別，区別死産率'!V11)*1000 -> 0 | I11: ='4 月・自然-人工別，区別死産数'!I11/('4 月・自然-人工別，区別死産数'!I11+'5 月・自然-人工別，区別死産率'!W11)*1000 -> 20.547945 | ... N11: ='4 月・自然-人工別，区別死産数'!N11/('4 月・自然-人工別，区別死産数'!N11+'5 月・自然-人工別，区別死産率'!AB11)*1000 -> 23.622047 | P11: =[1]出生数!G10 -> 1682 | Q11: =[1]出生数!V10 -> 169 | R11: =[1]出生数!W10 -> 154 | S11: =[1]出生数!X10 -> 141 | T11: =[1]出生数!Y10 -> 134 | U11: =[1]出生数!Z10 -> 132 | V11: =[1]出生数!AA10 -> 142 | W11: =[1]出生数!AB10 -> 143 | X11: =[1]出生数!AC10 -> 153 | ... AB11: =[1]出生数!AG10 -> 124
A12: 清田 | B12: ='4 月・自然-人工別，区別死産数'!B12/('4 月・自然-人工別，区別死産数'!B12+'5 月・自然-人工別，区別死産率'!P12)*1000 -> 15.29052 | C12: ='4 月・自然-人工別，区別死産数'!C12/('4 月・自然-人工別，区別死産数'!C12+'5 月・自然-人工別，区別死産率'!Q12)*1000 -> 37.037037 | D12: ='4 月・自然-人工別，区別死産数'!D12/('4 月・自然-人工別，区別死産数'!D12+'5 月・自然-人工別，区別死産率'!R12)*1000 -> 0 | E12: ='4 月・自然-人工別，区別死産数'!E12/('4 月・自然-人工別，区別死産数'!E12+'5 月・自然-人工別，区別死産率'!S12)*1000 -> 0 | F12: ='4 月・自然-人工別，区別死産数'!F12/('4 月・自然-人工別，区別死産数'!F12+'5 月・自然-人工別，区別死産率'!T12)*1000 -> 20 | G12: ='4 月・自然-人工別，区別死産数'!G12/('4 月・自然-人工別，区別死産数'!G12+'5 月・自然-人工別，区別死産率'!U12)*1000 -> 34.482759 | H12: ='4 月・自然-人工別，区別死産数'!H12/('4 月・自然-人工別，区別死産数'!H12+'5 月・自然-人工別，区別死産率'!V12)*1000 -> 14.705882 | I12: ='4 月・自然-人工別，区別死産数'!I12/('4 月・自然-人工別，区別死産数'!I12+'5 月・自然-人工別，区別死産率'!W12)*1000 -> 0 | ... N12: ='4 月・自然-人工別，区別死産数'!N12/('4 月・自然-人工別，区別死産数'!N12+'5 月・自然-人工別，区別死産率'!AB12)*1000 -> 0 | P12: =[1]出生数!G11 -> 644 | Q12: =[1]出生数!V11 -> 52 | R12: =[1]出生数!W11 -> 61 | S12: =[1]出生数!X11 -> 57 | T12: =[1]出生数!Y11 -> 49 | U12: =[1]出生数!Z11 -> 56 | V12: =[1]出生数!AA11 -> 67 | W12: =[1]出生数!AB11 -> 42 | X12: =[1]出生数!AC11 -> 62 | ... AB12: =[1]出生数!AG11 -> 54
A13: 南 | B13: ='4 月・自然-人工別，区別死産数'!B13/('4 月・自然-人工別，区別死産数'!B13+'5 月・自然-人工別，区別死産率'!P13)*1000 -> 33.13253 | C13: ='4 月・自然-人工別，区別死産数'!C13/('4 月・自然-人工別，区別死産数'!C13+'5 月・自然-人工別，区別死産率'!Q13)*1000 -> 22.222222 | D13: ='4 月・自然-人工別，区別死産数'!D13/('4 月・自然-人工別，区別死産数'!D13+'5 月・自然-人工別，区別死産率'!R13)*1000 -> 43.478261 | E13: ='4 月・自然-人工別，区別死産数'!E13/('4 月・自然-人工別，区別死産数'!E13+'5 月・自然-人工別，区別死産率'!S13)*1000 -> 15.873016 | F13: ='4 月・自然-人工別，区別死産数'!F13/('4 月・自然-人工別，区別死産数'!F13+'5 月・自然-人工別，区別死産率'!T13)*1000 -> 0 | G13: ='4 月・自然-人工別，区別死産数'!G13/('4 月・自然-人工別，区別死産数'!G13+'5 月・自然-人工別，区別死産率'!U13)*1000 -> 18.518519 | H13: ='4 月・自然-人工別，区別死産数'!H13/('4 月・自然-人工別，区別死産数'!H13+'5 月・自然-人工別，区別死産率'!V13)*1000 -> 17.241379 | I13: ='4 月・自然-人工別，区別死産数'!I13/('4 月・自然-人工別，区別死産数'!I13+'5 月・自然-人工別，区別死産率'!W13)*1000 -> 15.384615 | ... N13: ='4 月・自然-人工別，区別死産数'!N13/('4 月・自然-人工別，区別死産数'!N13+'5 月・自然-人工別，区別死産率'!AB13)*1000 -> 75.757576 | P13: =[1]出生数!G12 -> 642 | Q13: =[1]出生数!V12 -> 44 | R13: =[1]出生数!W12 -> 44 | S13: =[1]出生数!X12 -> 62 | T13: =[1]出生数!Y12 -> 47 | U13: =[1]出生数!Z12 -> 53 | V13: =[1]出生数!AA12 -> 57 | W13: =[1]出生数!AB12 -> 64 | X13: =[1]出生数!AC12 -> 46 | ... AB13: =[1]出生数!AG12 -> 61
A14: 西 | B14: ='4 月・自然-人工別，区別死産数'!B14/('4 月・自然-人工別，区別死産数'!B14+'5 月・自然-人工別，区別死産率'!P14)*1000 -> 25.477707 | C14: ='4 月・自然-人工別，区別死産数'!C14/('4 月・自然-人工別，区別死産数'!C14+'5 月・自然-人工別，区別死産率'!Q14)*1000 -> 36.231884 | D14: ='4 月・自然-人工別，区別死産数'!D14/('4 月・自然-人工別，区別死産数'!D14+'5 月・自然-人工別，区別死産率'!R14)*1000 -> 34.188034 | E14: ='4 月・自然-人工別，区別死産数'!E14/('4 月・自然-人工別，区別死産数'!E14+'5 月・自然-人工別，区別死産率'!S14)*1000 -> 16.393443 | F14: ='4 月・自然-人工別，区別死産数'!F14/('4 月・自然-人工別，区別死産数'!F14+'5 月・自然-人工別，区別死産率'!T14)*1000 -> 8.0645161 | G14: ='4 月・自然-人工別，区別死産数'!G14/('4 月・自然-人工別，区別死産数'!G14+'5 月・自然-人工別，区別死産率'!U14)*1000 -> 20.547945 | H14: ='4 月・自然-人工別，区別死産数'!H14/('4 月・自然-人工別，区別死産数'!H14+'5 月・自然-人工別，区別死産率'!V14)*1000 -> 7.4074074 | I14: ='4 月・自然-人工別，区別死産数'!I14/('4 月・自然-人工別，区別死産数'!I14+'5 月・自然-人工別，区別死産率'!W14)*1000 -> 26.845638 | ... N14: ='4 月・自然-人工別，区別死産数'!N14/('4 月・自然-人工別，区別死産数'!N14+'5 月・自然-人工別，区別死産率'!AB14)*1000 -> 17.391304 | P14: =[1]出生数!G13 -> 1530 | Q14: =[1]出生数!V13 -> 133 | R14: =[1]出生数!W13 -> 113 | S14: =[1]出生数!X13 -> 120 | T14: =[1]出生数!Y13 -> 123 | U14: =[1]出生数!Z13 -> 143 | V14: =[1]出生数!AA13 -> 134 | W14: =[1]出生数!AB13 -> 145 | X14: =[1]出生数!AC13 -> 133 | ... AB14: =[1]出生数!AG13 -> 113
A15: 手稲 | B15: ='4 月・自然-人工別，区別死産数'!B15/('4 月・自然-人工別，区別死産数'!B15+'5 月・自然-人工別，区別死産率'!P15)*1000 -> 19.393939 | C15: ='4 月・自然-人工別，区別死産数'!C15/('4 月・自然-人工別，区別死産数'!C15+'5 月・自然-人工別，区別死産率'!Q15)*1000 -> 28.985507 | D15: ='4 月・自然-人工別，区別死産数'!D15/('4 月・自然-人工別，区別死産数'!D15+'5 月・自然-人工別，区別死産率'!R15)*1000 -> 0 | E15: ='4 月・自然-人工別，区別死産数'!E15/('4 月・自然-人工別，区別死産数'!E15+'5 月・自然-人工別，区別死産率'!S15)*1000 -> 12.820513 | F15: ='4 月・自然-人工別，区別死産数'!F15/('4 月・自然-人工別，区別死産数'!F15+'5 月・自然-人工別，区別死産率'!T15)*1000 -> 0 | G15: ='4 月・自然-人工別，区別死産数'!G15/('4 月・自然-人工別，区別死産数'!G15+'5 月・自然-人工別，区別死産率'!U15)*1000 -> 26.666667 | H15: ='4 月・自然-人工別，区別死産数'!H15/('4 月・自然-人工別，区別死産数'!H15+'5 月・自然-人工別，区別死産率'!V15)*1000 -> 20.408163 | I15: ='4 月・自然-人工別，区別死産数'!I15/('4 月・自然-人工別，区別死産数'!I15+'5 月・自然-人工別，区別死産率'!W15)*1000 -> 0 | ... N15: ='4 月・自然-人工別，区別死産数'!N15/('4 月・自然-人工別，区別死産数'!N15+'5 月・自然-人工別，区別死産率'!AB15)*1000 -> 71.428571 | P15: =[1]出生数!G14 -> 809 | Q15: =[1]出生数!V14 -> 67 | R15: =[1]出生数!W14 -> 71 | S15: =[1]出生数!X14 -> 77 | T15: =[1]出生数!Y14 -> 75 | U15: =[1]出生数!Z14 -> 73 | V15: =[1]出生数!AA14 -> 48 | W15: =[1]出生数!AB14 -> 64 | X15: =[1]出生数!AC14 -> 77 | ... AB15: =[1]出生数!AG14 -> 52
B16: 自然死産率
A17: 総数 | B17: ='4 月・自然-人工別，区別死産数'!B17/('4 月・自然-人工別，区別死産数'!B5+'5 月・自然-人工別，区別死産率'!P5)*1000 -> 10.151537 | C17: ='4 月・自然-人工別，区別死産数'!C17/('4 月・自然-人工別，区別死産数'!C5+'5 月・自然-人工別，区別死産率'!Q5)*1000 -> 11.965812 | D17: ='4 月・自然-人工別，区別死産数'!D17/('4 月・自然-人工別，区別死産数'!D5+'5 月・自然-人工別，区別死産率'!R5)*1000 -> 10.110294 | E17: ='4 月・自然-人工別，区別死産数'!E17/('4 月・自然-人工別，区別死産数'!E5+'5 月・自然-人工別，区別死産率'!S5)*1000 -> 10.869565 | F17: ='4 月・自然-人工別，区別死産数'!F17/('4 月・自然-人工別，区別死産数'!F5+'5 月・自然-人工別，区別死産率'!T5)*1000 -> 7.3461892 | G17: ='4 月・自然-人工別，区別死産数'!G17/('4 月・自然-人工別，区別死産数'!G5+'5 月・自然-人工別，区別死産率'!U5)*1000 -> 12.100259 | H17: ='4 月・自然-人工別，区別死産数'!H17/('4 月・自然-人工別，区別死産数'!H5+'5 月・自然-人工別，区別死産率'!V5)*1000 -> 9.6491228 | I17: ='4 月・自然-人工別，区別死産数'!I17/('4 月・自然-人工別，区別死産数'!I5+'5 月・自然-人工別，区別死産率'!W5)*1000 -> 4.3478261 | ... N17: ='4 月・自然-人工別，区別死産数'!N17/('4 月・自然-人工別，区別死産数'!N5+'5 月・自然-人工別，区別死産率'!AB5)*1000 -> 8.6206897
A18: 中央 | B18: ='4 月・自然-人工別，区別死産数'!B18/('4 月・自然-人工別，区別死産数'!B6+'5 月・自然-人工別，区別死産率'!P6)*1000 -> 11.519473 | C18: ='4 月・自然-人工別，区別死産数'!C18/('4 月・自然-人工別，区別死産数'!C6+'5 月・自然-人工別，区別死産率'!Q6)*1000 -> 0 | D18: ='4 月・自然-人工別，区別死産数'!D18/('4 月・自然-人工別，区別死産数'!D6+'5 月・自然-人工別，区別死産率'!R6)*1000 -> 18.987342 | E18: ='4 月・自然-人工別，区別死産数'!E18/('4 月・自然-人工別，区別死産数'!E6+'5 月・自然-人工別，区別死産率'!S6)*1000 -> 6.4935065 | F18: ='4 月・自然-人工別，区別死産数'!F18/('4 月・自然-人工別，区別死産数'!F6+'5 月・自然-人工別，区別死産率'!T6)*1000 -> 7.2992701 | G18: ='4 月・自然-人工別，区別死産数'!G18/('4 月・自然-人工別，区別死産数'!G6+'5 月・自然-人工別，区別死産率'!U6)*1000 -> 6.25 | H18: ='4 月・自然-人工別，区別死産数'!H18/('4 月・自然-人工別，区別死産数'!H6+'5 月・自然-人工別，区別死産率'!V6)*1000 -> 12.578616 | I18: ='4 月・自然-人工別，区別死産数'!I18/('4 月・自然-人工別，区別死産数'!I6+'5 月・自然-人工別，区別死産率'!W6)*1000 -> 7.2463768 | ... N18: ='4 月・自然-人工別，区別死産数'!N18/('4 月・自然-人工別，区別死産数'!N6+'5 月・自然-人工別，区別死産率'!AB6)*1000 -> 0
A19: 北 | B19: ='4 月・自然-人工別，区別死産数'!B19/('4 月・自然-人工別，区別死産数'!B7+'5 月・自然-人工別，区別死産率'!P7)*1000 -> 10.615711 | C19: ='4 月・自然-人工別，区別死産数'!C19/('4 月・自然-人工別，区別死産数'!C7+'5 月・自然-人工別，区別死産率'!Q7)*1000 -> 11.560694 | D19: ='4 月・自然-人工別，区別死産数'!D19/('4 月・自然-人工別，区別死産数'!D7+'5 月・自然-人工別，区別死産率'!R7)*1000 -> 21.126761 | E19: ='4 月・自然-人工別，区別死産数'!E19/('4 月・自然-人工別，区別死産数'!E7+'5 月・自然-人工別，区別死産率'!S7)*1000 -> 28.368794 | F19: ='4 月・自然-人工別，区別死産数'!F19/('4 月・自然-人工別，区別死産数'!F7+'5 月・自然-人工別，区別死産率'!T7)*1000 -> 14.184397 | G19: ='4 月・自然-人工別，区別死産数'!G19/('4 月・自然-人工別，区別死産数'!G7+'5 月・自然-人工別，区別死産率'!U7)*1000 -> 5.6818182 | H19: ='4 月・自然-人工別，区別死産数'!H19/('4 月・自然-人工別，区別死産数'!H7+'5 月・自然-人工別，区別死産率'!V7)*1000 -> 0 | I19: ='4 月・自然-人工別，区別死産数'!I19/('4 月・自然-人工別，区別死産数'!I7+'5 月・自然-人工別，区別死産率'!W7)*1000 -> 0 | ... N19: ='4 月・自然-人工別，区別死産数'!N19/('4 月・自然-人工別，区別死産数'!N7+'5 月・自然-人工別，区別死産率'!AB7)*1000 -> 7.2463768
A20: 東 | B20: ='4 月・自然-人工別，区別死産数'!B20/('4 月・自然-人工別，区別死産数'!B8+'5 月・自然-人工別，区別死産率'!P8)*1000 -> 8.3661417 | C20: ='4 月・自然-人工別，区別死産数'!C20/('4 月・自然-人工別，区別死産数'!C8+'5 月・自然-人工別，区別死産率'!Q8)*1000 -> 23.121387 | D20: ='4 月・自然-人工別，区別死産数'!D20/('4 月・自然-人工別，区別死産数'!D8+'5 月・自然-人工別，区別死産率'!R8)*1000 -> 22.058824 | E20: ='4 月・自然-人工別，区別死産数'!E20/('4 月・自然-人工別，区別死産数'!E8+'5 月・自然-人工別，区別死産率'!S8)*1000 -> 6.0606061 | F20: ='4 月・自然-人工別，区別死産数'!F20/('4 月・自然-人工別，区別死産数'!F8+'5 月・自然-人工別，区別死産率'!T8)*1000 -> 5.6818182 | G20: ='4 月・自然-人工別，区別死産数'!G20/('4 月・自然-人工別，区別死産数'!G8+'5 月・自然-人工別，区別死産率'!U8)*1000 -> 12.048193 | H20: ='4 月・自然-人工別，区別死産数'!H20/('4 月・自然-人工別，区別死産数'!H8+'5 月・自然-人工別，区別死産率'!V8)*1000 -> 17.44186 | I20: ='4 月・自然-人工別，区別死産数'!I20/('4 月・自然-人工別，区別死産数'!I8+'5 月・自然-人工別，区別死産率'!W8)*1000 -> 5.5248619 | ... N20: ='4 月・自然-人工別，区別死産数'!N20/('4 月・自然-人工別，区別死産数'!N8+'5 月・自然-人工別，区別死産率'!AB8)*1000 -> 0
A21: 白石 | B21: ='4 月・自然-人工別，区別死産数'!B21/('4 月・自然-人工別，区別死産数'!B9+'5 月・自然-人工別，区別死産率'!P9)*1000 -> 9.7365407 | C21: ='4 月・自然-人工別，区別死産数'!C21/('4 月・自然-人工別，区別死産数'!C9+'5 月・自然-人工別，区別死産率'!Q9)*1000 -> 13.69863 | D21: ='4 月・自然-人工別，区別死産数'!D21/('4 月・自然-人工別，区別死産数'!D9+'5 月・自然-人工別，区別死産率'!R9)*1000 -> 0 | E21: ='4 月・自然-人工別，区別死産数'!E21/('4 月・自然-人工別，区別死産数'!E9+'5 月・自然-人工別，区別死産率'!S9)*1000 -> 7.8125 | F21: ='4 月・自然-人工別，区別死産数'!F21/('4 月・自然-人工別，区別死産数'!F9+'5 月・自然-人工別，区別死産率'!T9)*1000 -> 14.285714 | G21: ='4 月・自然-人工別，区別死産数'!G21/('4 月・自然-人工別，区別死産数'!G9+'5 月・自然-人工別，区別死産率'!U9)*1000 -> 7.0422535 | H21: ='4 月・自然-人工別，区別死産数'!H21/('4 月・自然-人工別，区別死産数'!H9+'5 月・自然-人工別，区別死産率'!V9)*1000 -> 7.0921986 | I21: ='4 月・自然-人工別，区別死産数'!I21/('4 月・自然-人工別，区別死産数'!I9+'5 月・自然-人工別，区別死産率'!W9)*1000 -> 6.8493151 | ... N21: ='4 月・自然-人工別，区別死産数'!N21/('4 月・自然-人工別，区別死産数'!N9+'5 月・自然-人工別，区別死産率'!AB9)*1000 -> 7.518797
A22: 厚別 | B22: ='4 月・自然-人工別，区別死産数'!B22/('4 月・自然-人工別，区別死産数'!B10+'5 月・自然-人工別，区別死産率'!P10)*1000 -> 11.816839 | C22: ='4 月・自然-人工別，区別死産数'!C22/('4 月・自然-人工別，区別死産数'!C10+'5 月・自然-人工別，区別死産率'!Q10)*1000 -> 18.518519 | D22: ='4 月・自然-人工別，区別死産数'!D22/('4 月・自然-人工別，区別死産数'!D10+'5 月・自然-人工別，区別死産率'!R10)*1000 -> 0 | E22: ='4 月・自然-人工別，区別死産数'!E22/('4 月・自然-人工別，区別死産数'!E10+'5 月・自然-人工別，区別死産率'!S10)*1000 -> 19.230769 | F22: ='4 月・自然-人工別，区別死産数'!F22/('4 月・自然-人工別，区別死産数'!F10+'5 月・自然-人工別，区別死産率'!T10)*1000 -> 0 | G22: ='4 月・自然-人工別，区別死産数'!G22/('4 月・自然-人工別，区別死産数'!G10+'5 月・自然-人工別，区別死産率'!U10)*1000 -> 23.809524 | H22: ='4 月・自然-人工別，区別死産数'!H22/('4 月・自然-人工別，区別死産数'!H10+'5 月・自然-人工別，区別死産率'!V10)*1000 -> 38.461538 | I22: ='4 月・自然-人工別，区別死産数'!I22/('4 月・自然-人工別，区別死産数'!I10+'5 月・自然-人工別，区別死産率'!W10)*1000 -> 20 | ... N22: ='4 月・自然-人工別，区別死産数'!N22/('4 月・自然-人工別，区別死産数'!N10+'5 月・自然-人工別，区別死産率'!AB10)*1000 -> 0
A23: 豊平 | B23: ='4 月・自然-人工別，区別死産数'!B23/('4 月・自然-人工別，区別死産数'!B11+'5 月・自然-人工別，区別死産率'!P11)*1000 -> 9.3077371 | C23: ='4 月・自然-人工別，区別死産数'!C23/('4 月・自然-人工別，区別死産数'!C11+'5 月・自然-人工別，区別死産率'!Q11)*1000 -> 5.7803468 | D23: ='4 月・自然-人工別，区別死産数'!D23/('4 月・自然-人工別，区別死産数'!D11+'5 月・自然-人工別，区別死産率'!R11)*1000 -> 0 | E23: ='4 月・自然-人工別，区別死産数'!E23/('4 月・自然-人工別，区別死産数'!E11+'5 月・自然-人工別，区別死産率'!S11)*1000 -> 13.888889 | F23: ='4 月・自然-人工別，区別死産数'!F23/('4 月・自然-人工別，区別死産数'!F11+'5 月・自然-人工別，区別死産率'!T11)*1000 -> 14.59854 | G23: ='4 月・自然-人工別，区別死産数'!G23/('4 月・自然-人工別，区別死産数'!G11+'5 月・自然-人工別，区別死産率'!U11)*1000 -> 14.492754 | H23: ='4 月・自然-人工別，区別死産数'!H23/('4 月・自然-人工別，区別死産数'!H11+'5 月・自然-人工別，区別死産率'!V11)*1000 -> 0 | I23: ='4 月・自然-人工別，区別死産数'!I23/('4 月・自然-人工別，区別死産数'!I11+'5 月・自然-人工別，区別死産率'!W11)*1000 -> 6.8493151 | ... N23: ='4 月・自然-人工別，区別死産数'!N23/('4 月・自然-人工別，区別死産数'!N11+'5 月・自然-人工別，区別死産率'!AB11)*1000 -> 15.748031
A24: 清田 | B24: ='4 月・自然-人工別，区別死産数'!B24/('4 月・自然-人工別，区別死産数'!B12+'5 月・自然-人工別，区別死産率'!P12)*1000 -> 4.587156 | C24: ='4 月・自然-人工別，区別死産数'!C24/('4 月・自然-人工別，区別死産数'!C12+'5 月・自然-人工別，区別死産率'!Q12)*1000 -> 0 | D24: ='4 月・自然-人工別，区別死産数'!D24/('4 月・自然-人工別，区別死産数'!D12+'5 月・自然-人工別，区別死産率'!R12)*1000 -> 0 | E24: ='4 月・自然-人工別，区別死産数'!E24/('4 月・自然-人工別，区別死産数'!E12+'5 月・自然-人工別，区別死産率'!S12)*1000 -> 0 | F24: ='4 月・自然-人工別，区別死産数'!F24/('4 月・自然-人工別，区別死産数'!F12+'5 月・自然-人工別，区別死産率'!T12)*1000 -> 0 | G24: ='4 月・自然-人工別，区別死産数'!G24/('4 月・自然-人工別，区別死産数'!G12+'5 月・自然-人工別，区別死産率'!U12)*1000 -> 17.241379 | H24: ='4 月・自然-人工別，区別死産数'!H24/('4 月・自然-人工別，区別死産数'!H12+'5 月・自然-人工別，区別死産率'!V12)*1000 -> 0 | I24: ='4 月・自然-人工別，区別死産数'!I24/('4 月・自然-人工別，区別死産数'!I12+'5 月・自然-人工別，区別死産率'!W12)*1000 -> 0 | ... N24: ='4 月・自然-人工別，区別死産数'!N24/('4 月・自然-人工別，区別死産数'!N12+'5 月・自然-人工別，区別死産率'!AB12)*1000 -> 0
A25: 南 | B25: ='4 月・自然-人工別，区別死産数'!B25/('4 月・自然-人工別，区別死産数'!B13+'5 月・自然-人工別，区別死産率'!P13)*1000 -> 18.072289 | C25: ='4 月・自然-人工別，区別死産数'!C25/('4 月・自然-人工別，区別死産数'!C13+'5 月・自然-人工別，区別死産率'!Q13)*1000 -> 22.222222 | D25: ='4 月・自然-人工別，区別死産数'!D25/('4 月・自然-人工別，区別死産数'!D13+'5 月・自然-人工別，区別死産率'!R13)*1000 -> 21.73913 | E25: ='4 月・自然-人工別，区別死産数'!E25/('4 月・自然-人工別，区別死産数'!E13+'5 月・自然-人工別，区別死産率'!S13)*1000 -> 0 | F25: ='4 月・自然-人工別，区別死産数'!F25/('4 月・自然-人工別，区別死産数'!F13+'5 月・自然-人工別，区別死産率'!T13)*1000 -> 0 | G25: ='4 月・自然-人工別，区別死産数'!G25/('4 月・自然-人工別，区別死産数'!G13+'5 月・自然-人工別，区別死産率'!U13)*1000 -> 18.518519 | H25: ='4 月・自然-人工別，区別死産数'!H25/('4 月・自然-人工別，区別死産数'!H13+'5 月・自然-人工別，区別死産率'!V13)*1000 -> 17.241379 | I25: ='4 月・自然-人工別，区別死産数'!I25/('4 月・自然-人工別，区別死産数'!I13+'5 月・自然-人工別，区別死産率'!W13)*1000 -> 0 | ... N25: ='4 月・自然-人工別，区別死産数'!N25/('4 月・自然-人工別，区別死産数'!N13+'5 月・自然-人工別，区別死産率'!AB13)*1000 -> 45.454545
A26: 西 | B26: ='4 月・自然-人工別，区別死産数'!B26/('4 月・自然-人工別，区別死産数'!B14+'5 月・自然-人工別，区別死産率'!P14)*1000 -> 10.828025 | C26: ='4 月・自然-人工別，区別死産数'!C26/('4 月・自然-人工別，区別死産数'!C14+'5 月・自然-人工別，区別死産率'!Q14)*1000 -> 14.492754 | D26: ='4 月・自然-人工別，区別死産数'!D26/('4 月・自然-人工別，区別死産数'!D14+'5 月・自然-人工別，区別死産率'!R14)*1000 -> 8.5470085 | E26: ='4 月・自然-人工別，区別死産数'!E26/('4 月・自然-人工別，区別死産数'!E14+'5 月・自然-人工別，区別死産率'!S14)*1000 -> 8.1967213 | F26: ='4 月・自然-人工別，区別死産数'!F26/('4 月・自然-人工別，区別死産数'!F14+'5 月・自然-人工別，区別死産率'!T14)*1000 -> 0 | G26: ='4 月・自然-人工別，区別死産数'!G26/('4 月・自然-人工別，区別死産数'!G14+'5 月・自然-人工別，区別死産率'!U14)*1000 -> 20.547945 | H26: ='4 月・自然-人工別，区別死産数'!H26/('4 月・自然-人工別，区別死産数'!H14+'5 月・自然-人工別，区別死産率'!V14)*1000 -> 7.4074074 | I26: ='4 月・自然-人工別，区別死産数'!I26/('4 月・自然-人工別，区別死産数'!I14+'5 月・自然-人工別，区別死産率'!W14)*1000 -> 0 | ... N26: ='4 月・自然-人工別，区別死産数'!N26/('4 月・自然-人工別，区別死産数'!N14+'5 月・自然-人工別，区別死産率'!AB14)*1000 -> 0
A27: 手稲 | B27: ='4 月・自然-人工別，区別死産数'!B27/('4 月・自然-人工別，区別死産数'!B15+'5 月・自然-人工別，区別死産率'!P15)*1000 -> 8.4848485 | C27: ='4 月・自然-人工別，区別死産数'!C27/('4 月・自然-人工別，区別死産数'!C15+'5 月・自然-人工別，区別死産率'!Q15)*1000 -> 14.492754 | D27: ='4 月・自然-人工別，区別死産数'!D27/('4 月・自然-人工別，区別死産数'!D15+'5 月・自然-人工別，区別死産率'!R15)*1000 -> 0 | E27: ='4 月・自然-人工別，区別死産数'!E27/('4 月・自然-人工別，区別死産数'!E15+'5 月・自然-人工別，区別死産率'!S15)*1000 -> 12.820513 | F27: ='4 月・自然-人工別，区別死産数'!F27/('4 月・自然-人工別，区別死産数'!F15+'5 月・自然-人工別，区別死産率'!T15)*1000 -> 0 | G27: ='4 月・自然-人工別，区別死産数'!G27/('4 月・自然-人工別，区別死産数'!G15+'5 月・自然-人工別，区別死産率'!U15)*1000 -> 13.333333 | H27: ='4 月・自然-人工別，区別死産数'!H27/('4 月・自然-人工別，区別死産数'!H15+'5 月・自然-人工別，区別死産率'!V15)*1000 -> 20.408163 | I27: ='4 月・自然-人工別，区別死産数'!I27/('4 月・自然-人工別，区別死産数'!I15+'5 月・自然-人工別，区別死産率'!W15)*1000 -> 0 | ... N27: ='4 月・自然-人工別，区別死産数'!N27/('4 月・自然-人工別，区別死産数'!N15+'5 月・自然-人工別，区別死産率'!AB15)*1000 -> 35.714286
B28: 人工死産率
A29: 総数 | B29: ='4 月・自然-人工別，区別死産数'!B29/('4 月・自然-人工別，区別死産数'!B5+'5 月・自然-人工別，区別死産率'!P5)*1000 -> 15.300868 | C29: ='4 月・自然-人工別，区別死産数'!C29/('4 月・自然-人工別，区別死産数'!C5+'5 月・自然-人工別，区別死産率'!Q5)*1000 -> 17.948718 | D29: ='4 月・自然-人工別，区別死産数'!D29/('4 月・自然-人工別，区別死産数'!D5+'5 月・自然-人工別，区別死産率'!R5)*1000 -> 9.1911765 | E29: ='4 月・自然-人工別，区別死産数'!E29/('4 月・自然-人工別，区別死産数'!E5+'5 月・自然-人工別，区別死産率'!S5)*1000 -> 12.681159 | F29: ='4 月・自然-人工別，区別死産数'!F29/('4 月・自然-人工別，区別死産数'!F5+'5 月・自然-人工別，区別死産率'!T5)*1000 -> 12.855831 | G29: ='4 月・自然-人工別，区別死産数'!G29/('4 月・自然-人工別，区別死産数'!G5+'5 月・自然-人工別，区別死産率'!U5)*1000 -> 12.964564 | H29: ='4 月・自然-人工別，区別死産数'!H29/('4 月・自然-人工別，区別死産数'!H5+'5 月・自然-人工別，区別死産率'!V5)*1000 -> 16.666667 | I29: ='4 月・自然-人工別，区別死産数'!I29/('4 月・自然-人工別，区別死産数'!I5+'5 月・自然-人工別，区別死産率'!W5)*1000 -> 15.652174 | ... N29: ='4 月・自然-人工別，区別死産数'!N29/('4 月・自然-人工別，区別死産数'!N5+'5 月・自然-人工別，区別死産率'!AB5)*1000 -> 17.241379
A30: 中央 | B30: ='4 月・自然-人工別，区別死産数'!B30/('4 月・自然-人工別，区別死産数'!B6+'5 月・自然-人工別，区別死産率'!P6)*1000 -> 31.815688 | C30: ='4 月・自然-人工別，区別死産数'!C30/('4 月・自然-人工別，区別死産数'!C6+'5 月・自然-人工別，区別死産率'!Q6)*1000 -> 55.172414 | D30: ='4 月・自然-人工別，区別死産数'!D30/('4 月・自然-人工別，区別死産数'!D6+'5 月・自然-人工別，区別死産率'!R6)*1000 -> 18.987342 | E30: ='4 月・自然-人工別，区別死産数'!E30/('4 月・自然-人工別，区別死産数'!E6+'5 月・自然-人工別，区別死産率'!S6)*1000 -> 19.480519 | F30: ='4 月・自然-人工別，区別死産数'!F30/('4 月・自然-人工別，区別死産数'!F6+'5 月・自然-人工別，区別死産率'!T6)*1000 -> 21.89781 | G30: ='4 月・自然-人工別，区別死産数'!G30/('4 月・自然-人工別，区別死産数'!G6+'5 月・自然-人工別，区別死産率'!U6)*1000 -> 25 | H30: ='4 月・自然-人工別，区別死産数'!H30/('4 月・自然-人工別，区別死産数'!H6+'5 月・自然-人工別，区別死産率'!V6)*1000 -> 75.471698 | I30: ='4 月・自然-人工別，区別死産数'!I30/('4 月・自然-人工別，区別死産数'!I6+'5 月・自然-人工別，区別死産率'!W6)*1000 -> 28.985507 | ... N30: ='4 月・自然-人工別，区別死産数'!N30/('4 月・自然-人工別，区別死産数'!N6+'5 月・自然-人工別，区別死産率'!AB6)*1000 -> 13.422819
A31: 北 | B31: ='4 月・自然-人工別，区別死産数'!B31/('4 月・自然-人工別，区別死産数'!B7+'5 月・自然-人工別，区別死産率'!P7)*1000 -> 9.0233546 | C31: ='4 月・自然-人工別，区別死産数'!C31/('4 月・自然-人工別，区別死産数'!C7+'5 月・自然-人工別，区別死産率'!Q7)*1000 -> 11.560694 | D31: ='4 月・自然-人工別，区別死産数'!D31/('4 月・自然-人工別，区別死産数'!D7+'5 月・自然-人工別，区別死産率'!R7)*1000 -> 0 | E31: ='4 月・自然-人工別，区別死産数'!E31/('4 月・自然-人工別，区別死産数'!E7+'5 月・自然-人工別，区別死産率'!S7)*1000 -> 0 | F31: ='4 月・自然-人工別，区別死産数'!F31/('4 月・自然-人工別，区別死産数'!F7+'5 月・自然-人工別，区別死産率'!T7)*1000 -> 14.184397 | G31: ='4 月・自然-人工別，区別死産数'!G31/('4 月・自然-人工別，区別死産数'!G7+'5 月・自然-人工別，区別死産率'!U7)*1000 -> 5.6818182 | H31: ='4 月・自然-人工別，区別死産数'!H31/('4 月・自然-人工別，区別死産数'!H7+'5 月・自然-人工別，区別死産率'!V7)*1000 -> 0 | I31: ='4 月・自然-人工別，区別死産数'!I31/('4 月・自然-人工別，区別死産数'!I7+'5 月・自然-人工別，区別死産率'!W7)*1000 -> 17.751479 | ... N31: ='4 月・自然-人工別，区別死産数'!N31/('4 月・自然-人工別，区別死産数'!N7+'5 月・自然-人工別，区別死産率'!AB7)*1000 -> 21.73913
A32: 東 | B32: ='4 月・自然-人工別，区別死産数'!B32/('4 月・自然-人工別，区別死産数'!B8+'5 月・自然-人工別，区別死産率'!P8)*1000 -> 18.208661 | C32: ='4 月・自然-人工別，区別死産数'!C32/('4 月・自然-人工別，区別死産数'!C8+'5 月・自然-人工別，区別死産率'!Q8)*1000 -> 11.560694 | D32: ='4 月・自然-人工別，区別死産数'!D32/('4 月・自然-人工別，区別死産数'!D8+'5 月・自然-人工別，区別死産率'!R8)*1000 -> 7.3529412 | E32: ='4 月・自然-人工別，区別死産数'!E32/('4 月・自然-人工別，区別死産数'!E8+'5 月・自然-人工別，区別死産率'!S8)*1000 -> 18.181818 | F32: ='4 月・自然-人工別，区別死産数'!F32/('4 月・自然-人工別，区別死産数'!F8+'5 月・自然-人工別，区別死産率'!T8)*1000 -> 22.727273 | G32: ='4 月・自然-人工別，区別死産数'!G32/('4 月・自然-人工別，区別死産数'!G8+'5 月・自然-人工別，区別死産率'!U8)*1000 -> 12.048193 | H32: ='4 月・自然-人工別，区別死産数'!H32/('4 月・自然-人工別，区別死産数'!H8+'5 月・自然-人工別，区別死産率'!V8)*1000 -> 23.255814 | I32: ='4 月・自然-人工別，区別死産数'!I32/('4 月・自然-人工別，区別死産数'!I8+'5 月・自然-人工別，区別死産率'!W8)*1000 -> 5.5248619 | ... N32: ='4 月・自然-人工別，区別死産数'!N32/('4 月・自然-人工別，区別死産数'!N8+'5 月・自然-人工別，区別死産率'!AB8)*1000 -> 26.666667
A33: 白石 | B33: ='4 月・自然-人工別，区別死産数'!B33/('4 月・自然-人工別，区別死産数'!B9+'5 月・自然-人工別，区別死産率'!P9)*1000 -> 10.309278 | C33: ='4 月・自然-人工別，区別死産数'!C33/('4 月・自然-人工別，区別死産数'!C9+'5 月・自然-人工別，区別死産率'!Q9)*1000 -> 0 | D33: ='4 月・自然-人工別，区別死産数'!D33/('4 月・自然-人工別，区別死産数'!D9+'5 月・自然-人工別，区別死産率'!R9)*1000 -> 6.7114094 | E33: ='4 月・自然-人工別，区別死産数'!E33/('4 月・自然-人工別，区別死産数'!E9+'5 月・自然-人工別，区別死産率'!S9)*1000 -> 31.25 | F33: ='4 月・自然-人工別，区別死産数'!F33/('4 月・自然-人工別，区別死産数'!F9+'5 月・自然-人工別，区別死産率'!T9)*1000 -> 0 | G33: ='4 月・自然-人工別，区別死産数'!G33/('4 月・自然-人工別，区別死産数'!G9+'5 月・自然-人工別，区別死産率'!U9)*1000 -> 14.084507 | H33: ='4 月・自然-人工別，区別死産数'!H33/('4 月・自然-人工別，区別死産数'!H9+'5 月・自然-人工別，区別死産率'!V9)*1000 -> 14.184397 | I33: ='4 月・自然-人工別，区別死産数'!I33/('4 月・自然-人工別，区別死産数'!I9+'5 月・自然-人工別，区別死産率'!W9)*1000 -> 13.69863 | ... N33: ='4 月・自然-人工別，区別死産数'!N33/('4 月・自然-人工別，区別死産数'!N9+'5 月・自然-人工別，区別死産率'!AB9)*1000 -> 0
A34: 厚別 | B34: ='4 月・自然-人工別，区別死産数'!B34/('4 月・自然-人工別，区別死産数'!B10+'5 月・自然-人工別，区別死産率'!P10)*1000 -> 11.816839 | C34: ='4 月・自然-人工別，区別死産数'!C34/('4 月・自然-人工別，区別死産数'!C10+'5 月・自然-人工別，区別死産率'!Q10)*1000 -> 0 | D34: ='4 月・自然-人工別，区別死産数'!D34/('4 月・自然-人工別，区別死産数'!D10+'5 月・自然-人工別，区別死産率'!R10)*1000 -> 0 | E34: ='4 月・自然-人工別，区別死産数'!E34/('4 月・自然-人工別，区別死産数'!E10+'5 月・自然-人工別，区別死産率'!S10)*1000 -> 19.230769 | F34: ='4 月・自然-人工別，区別死産数'!F34/('4 月・自然-人工別，区別死産数'!F10+'5 月・自然-人工別，区別死産率'!T10)*1000 -> 32.258065 | G34: ='4 月・自然-人工別，区別死産数'!G34/('4 月・自然-人工別，区別死産数'!G10+'5 月・自然-人工別，区別死産率'!U10)*1000 -> 0 | H34: ='4 月・自然-人工別，区別死産数'!H34/('4 月・自然-人工別，区別死産数'!H10+'5 月・自然-人工別，区別死産率'!V10)*1000 -> 0 | I34: ='4 月・自然-人工別，区別死産数'!I34/('4 月・自然-人工別，区別死産数'!I10+'5 月・自然-人工別，区別死産率'!W10)*1000 -> 20 | ... N34: ='4 月・自然-人工別，区別死産数'!N34/('4 月・自然-人工別，区別死産数'!N10+'5 月・自然-人工別，区別死産率'!AB10)*1000 -> 35.714286
A35: 豊平 | B35: ='4 月・自然-人工別，区別死産数'!B35/('4 月・自然-人工別，区別死産数'!B11+'5 月・自然-人工別，区別死産率'!P11)*1000 -> 12.216405 | C35: ='4 月・自然-人工別，区別死産数'!C35/('4 月・自然-人工別，区別死産数'!C11+'5 月・自然-人工別，区別死産率'!Q11)*1000 -> 17.34104 | D35: ='4 月・自然-人工別，区別死産数'!D35/('4 月・自然-人工別，区別死産数'!D11+'5 月・自然-人工別，区別死産率'!R11)*1000 -> 6.4516129 | E35: ='4 月・自然-人工別，区別死産数'!E35/('4 月・自然-人工別，区別死産数'!E11+'5 月・自然-人工別，区別死産率'!S11)*1000 -> 6.9444444 | F35: ='4 月・自然-人工別，区別死産数'!F35/('4 月・自然-人工別，区別死産数'!F11+'5 月・自然-人工別，区別死産率'!T11)*1000 -> 7.2992701 | G35: ='4 月・自然-人工別，区別死産数'!G35/('4 月・自然-人工別，区別死産数'!G11+'5 月・自然-人工別，区別死産率'!U11)*1000 -> 28.985507 | H35: ='4 月・自然-人工別，区別死産数'!H35/('4 月・自然-人工別，区別死産数'!H11+'5 月・自然-人工別，区別死産率'!V11)*1000 -> 0 | I35: ='4 月・自然-人工別，区別死産数'!I35/('4 月・自然-人工別，区別死産数'!I11+'5 月・自然-人工別，区別死産率'!W11)*1000 -> 13.69863 | ... N35: ='4 月・自然-人工別，区別死産数'!N35/('4 月・自然-人工別，区別死産数'!N11+'5 月・自然-人工別，区別死産率'!AB11)*1000 -> 7.8740157
A36: 清田 | B36: ='4 月・自然-人工別，区別死産数'!B36/('4 月・自然-人工別，区別死産数'!B12+'5 月・自然-人工別，区別死産率'!P12)*1000 -> 10.703364 | C36: ='4 月・自然-人工別，区別死産数'!C36/('4 月・自然-人工別，区別死産数'!C12+'5 月・自然-人工別，区別死産率'!Q12)*1000 -> 37.037037 | D36: ='4 月・自然-人工別，区別死産数'!D36/('4 月・自然-人工別，区別死産数'!D12+'5 月・自然-人工別，区別死産率'!R12)*1000 -> 0 | E36: ='4 月・自然-人工別，区別死産数'!E36/('4 月・自然-人工別，区別死産数'!E12+'5 月・自然-人工別，区別死産率'!S12)*1000 -> 0 | F36: ='4 月・自然-人工別，区別死産数'!F36/('4 月・自然-人工別，区別死産数'!F12+'5 月・自然-人工別，区別死産率'!T12)*1000 -> 20 | G36: ='4 月・自然-人工別，区別死産数'!G36/('4 月・自然-人工別，区別死産数'!G12+'5 月・自然-人工別，区別死産率'!U12)*1000 -> 17.241379 | H36: ='4 月・自然-人工別，区別死産数'!H36/('4 月・自然-人工別，区別死産数'!H12+'5 月・自然-人工別，区別死産率'!V12)*1000 -> 14.705882 | I36: ='4 月・自然-人工別，区別死産数'!I36/('4 月・自然-人工別，区別死産数'!I12+'5 月・自然-人工別，区別死産率'!W12)*1000 -> 0 | ... N36: ='4 月・自然-人工別，区別死産数'!N36/('4 月・自然-人工別，区別死産数'!N12+'5 月・自然-人工別，区別死産率'!AB12)*1000 -> 0
A37: 南 | B37: ='4 月・自然-人工別，区別死産数'!B37/('4 月・自然-人工別，区別死産数'!B13+'5 月・自然-人工別，区別死産率'!P13)*1000 -> 15.060241 | C37: ='4 月・自然-人工別，区別死産数'!C37/('4 月・自然-人工別，区別死産数'!C13+'5 月・自然-人工別，区別死産率'!Q13)*1000 -> 0 | D37: ='4 月・自然-人工別，区別死産数'!D37/('4 月・自然-人工別，区別死産数'!D13+'5 月・自然-人工別，区別死産率'!R13)*1000 -> 21.73913 | E37: ='4 月・自然-人工別，区別死産数'!E37/('4 月・自然-人工別，区別死産数'!E13+'5 月・自然-人工別，区別死産率'!S13)*1000 -> 15.873016 | F37: ='4 月・自然-人工別，区別死産数'!F37/('4 月・自然-人工別，区別死産数'!F13+'5 月・自然-人工別，区別死産率'!T13)*1000 -> 0 | G37: ='4 月・自然-人工別，区別死産数'!G37/('4 月・自然-人工別，区別死産数'!G13+'5 月・自然-人工別，区別死産率'!U13)*1000 -> 0 | H37: ='4 月・自然-人工別，区別死産数'!H37/('4 月・自然-人工別，区別死産数'!H13+'5 月・自然-人工別，区別死産率'!V13)*1000 -> 0 | I37: ='4 月・自然-人工別，区別死産数'!I37/('4 月・自然-人工別，区別死産数'!I13+'5 月・自然-人工別，区別死産率'!W13)*1000 -> 15.384615 | ... N37: ='4 月・自然-人工別，区別死産数'!N37/('4 月・自然-人工別，区別死産数'!N13+'5 月・自然-人工別，区別死産率'!AB13)*1000 -> 30.30303
A38: 西 | B38: ='4 月・自然-人工別，区別死産数'!B38/('4 月・自然-人工別，区別死産数'!B14+'5 月・自然-人工別，区別死産率'!P14)*1000 -> 14.649682 | C38: ='4 月・自然-人工別，区別死産数'!C38/('4 月・自然-人工別，区別死産数'!C14+'5 月・自然-人工別，区別死産率'!Q14)*1000 -> 21.73913 | D38: ='4 月・自然-人工別，区別死産数'!D38/('4 月・自然-人工別，区別死産数'!D14+'5 月・自然-人工別，区別死産率'!R14)*1000 -> 25.641026 | E38: ='4 月・自然-人工別，区別死産数'!E38/('4 月・自然-人工別，区別死産数'!E14+'5 月・自然-人工別，区別死産率'!S14)*1000 -> 8.1967213 | F38: ='4 月・自然-人工別，区別死産数'!F38/('4 月・自然-人工別，区別死産数'!F14+'5 月・自然-人工別，区別死産率'!T14)*1000 -> 8.0645161 | G38: ='4 月・自然-人工別，区別死産数'!G38/('4 月・自然-人工別，区別死産数'!G14+'5 月・自然-人工別，区別死産率'!U14)*1000 -> 0 | H38: ='4 月・自然-人工別，区別死産数'!H38/('4 月・自然-人工別，区別死産数'!H14+'5 月・自然-人工別，区別死産率'!V14)*1000 -> 0 | I38: ='4 月・自然-人工別，区別死産数'!I38/('4 月・自然-人工別，区別死産数'!I14+'5 月・自然-人工別，区別死産率'!W14)*1000 -> 26.845638 | ... N38: ='4 月・自然-人工別，区別死産数'!N38/('4 月・自然-人工別，区別死産数'!N14+'5 月・自然-人工別，区別死産率'!AB14)*1000 -> 17.391304
A39: 手稲 | B39: ='4 月・自然-人工別，区別死産数'!B39/('4 月・自然-人工別，区別死産数'!B15+'5 月・自然-人工別，区別死産率'!P15)*1000 -> 10.909091 | C39: ='4 月・自然-人工別，区別死産数'!C39/('4 月・自然-人工別，区別死産数'!C15+'5 月・自然-人工別，区別死産率'!Q15)*1000 -> 14.492754 | D39: ='4 月・自然-人工別，区別死産数'!D39/('4 月・自然-人工別，区別死産数'!D15+'5 月・自然-人工別，区別死産率'!R15)*1000 -> 0 | E39: ='4 月・自然-人工別，区別死産数'!E39/('4 月・自然-人工別，区別死産数'!E15+'5 月・自然-人工別，区別死産率'!S15)*1000 -> 0 | F39: ='4 月・自然-人工別，区別死産数'!F39/('4 月・自然-人工別，区別死産数'!F15+'5 月・自然-人工別，区別死産率'!T15)*1000 -> 0 | G39: ='4 月・自然-人工別，区別死産数'!G39/('4 月・自然-人工別，区別死産数'!G15+'5 月・自然-人工別，区別死産率'!U15)*1000 -> 13.333333 | H39: ='4 月・自然-人工別，区別死産数'!H39/('4 月・自然-人工別，区別死産数'!H15+'5 月・自然-人工別，区別死産率'!V15)*1000 -> 0 | I39: ='4 月・自然-人工別，区別死産数'!I39/('4 月・自然-人工別，区別死産数'!I15+'5 月・自然-人工別，区別死産率'!W15)*1000 -> 0 | ... N39: ='4 月・自然-人工別，区別死産数'!N39/('4 月・自然-人工別，区別死産数'!N15+'5 月・自然-人工別，区別死産率'!AB15)*1000 -> 35.714286

Sheet 6　自然-人工・出産の場所別，死産数・百分率
A1: 6 自然-人工・出生の場所別にみた年次別死産数及び百分率
A3: 年次 | B3: 自然死産 | H3: 人工死産
B4: 総数 | C4: 病院 | D4: 診療所 | E4: 助産所 | F4: 自宅 | G4: その他 | H4: 総数 | I4: 病院 | J4: 診療所 | K4: 助産所 | L4: 自宅 | M4: その他
B5: 死産数
A6: 85 60 | B6: 539 | C6: 270 | D6: 264 | E6: 1 | F6: 3 | G6: 1 | H6: 1059 | I6: 368 | J6: 691 | K6: 0 | L6: 0 | M6: 0
A7: 1986 昭和61年 | B7: 472 | C7: 215 | D7: 242 | E7: 1 | F7: 11 | G7: 3 | H7: 1012 | I7: 296 | J7: 716 | K7: 0 | L7: 0 | M7: 0
A8: 1987 昭和62年 | B8: 451 | C8: 224 | D8: 219 | E8: 2 | F8: 6 | G8: 0 | H8: 911 | I8: 329 | J8: 582 | K8: 0 | L8: 0 | M8: 0
A9: 1988 昭和63年 | B9: 361 | C9: 198 | D9: 162 | E9: 1 | F9: 0 | G9: 0 | H9: 903 | I9: 363 | J9: 540 | K9: 0 | L9: 0 | M9: 0
A10: 89 平成元年 | B10: 346 | C10: 216 | D10: 125 | E10: 1 | F10: 3 | G10: 1 | H10: 823 | I10: 368 | J10: 455 | K10: 0 | L10: 0 | M10: 0
A11: 90 2 | B11: 399 | C11: 235 | D11: 161 | E11: 0 | F11: 3 | G11: 0 | H11: 800 | I11: 364 | J11: 436 | K11: 0 | L11: 0 | M11: 0
A12: 91 3 | B12: 324 | C12: 203 | D12: 120 | E12: 0 | F12: 1 | G12: 0 | H12: 704 | I12: 340 | J12: 364 | K12: 0 | L12: 0 | M12: 0
A13: 92 4 | B13: 325 | C13: 208 | D13: 112 | E13: 0 | F13: 5 | G13: 0 | H13: 631 | I13: 282 | J13: 349 | K13: 0 | L13: 0 | M13: 0
A14: 1993 平成5年 | B14: 283 | C14: 185 | D14: 93 | E14: 0 | F14: 5 | G14: 0 | H14: 609 | I14: 291 | J14: 318 | K14: 0 | L14: 0 | M14: 0
A15: 94 6 | B15: 286 | C15: 178 | D15: 106 | E15: 1 | F15: 0 | G15: 1 | H15: 547 | I15: 264 | J15: 283 | K15: 0 | L15: 0 | M15: 0
A16: 95 7 | B16: 240 | C16: 150 | D16: 86 | E16: 1 | F16: 3 | G16: 0 | H16: 494 | I16: 252 | J16: 242 | K16: 0 | L16: 0 | M16: 0
A17: 96 8 | B17: 241 | C17: 131 | D17: 107 | E17: 0 | F17: 3 | G17: 0 | H17: 473 | I17: 199 | J17: 274 | K17: 0 | L17: 0 | M17: 0
... A30: 09 21 | B30: 175 | C30: 92 | D30: 80 | E30: 0 | F30: 3 | G30: 0 | H30: 293 | I30: 168 | J30: 125 | K30: 0 | L30: 0 | M30: 0
A31: 10 22 | B31: =SUM(C31:G31) -> 171 | C31: 92 | D31: 76 | E31: 0 | F31: 3 | G31: 0 | H31: =SUM(I31:M31) -> 272 | I31: 137 | J31: 135 | K31: 0 | L31: 0 | M31: 0
A32: 11 23 | B32: 192 | C32: 124 | D32: 63 | E32: 0 | F32: 5 | G32: 0 | H32: 312 | I32: 109 | J32: 203 | K32: 0 | L32: 0 | M32: 0
A33: 12 24 | B33: 180 | C33: 113 | D33: 64 | E33: 0 | F33: 3 | G33: 0 | H33: 266 | I33: 99 | J33: 167 | K33: 0 | L33: 0 | M33: 0
A34: 13 25 | B34: 145 | C34: 78 | D34: 65 | E34: 0 | F34: 2 | G34: 0 | H34: 303 | I34: 117 | J34: 186 | K34: 0 | L34: 0 | M34: 0
A35: 15 1）26 | B35: 175 | C35: 116 | D35: 58 | E35: 0 | F35: 1 | G35: 0 | H35: 254 | I35: 90 | J35: 164 | K35: 0 | L35: 0 | M35: 0
A36: 15 1）27 | B36: 160 | C36: 104 | D36: 54 | E36: 0 | F36: 2 | G36: 0 | H36: 266 | I36: 97 | J36: 169 | K36: 0 | L36: 0 | M36: 0
A37: 16 28 | B37: 108 | C37: 77 | D37: 28 | E37: 0 | F37: 3 | G37: 0 | H37: 236 | I37: 82 | J37: 154 | K37: 0 | L37: 0 | M37: 0
A38: 17 29 | B38: 178 | C38: 104 | D38: 70 | E38: 0 | F38: 4 | G38: 0 | H38: 224 | I38: 64 | J38: 160 | K38: 0 | L38: 0 | M38: 0
A39: 18 30 | B39: =SUM(C39:G39) -> 138 | C39: ='[3]■6 自然-人工・出産の場所別，死産数・百分率'!$C$6 -> 88 | D39: ='[3]■6 自然-人工・出産の場所別，死産数・百分率'!$D$6 -> 47 | E39: ='[3]■6 自然-人工・出産の場所別，死産数・百分率'!$E$6 -> 0 | F39: ='[3]■6 自然-人工・出産の場所別，死産数・百分率'!$F$6 -> 3 | G39: ='[3]■6 自然-人工・出産の場所別，死産数・百分率'!$G$6 -> 0 | H39: =SUM(I39:M39) -> 208 | I39: ='[3]■6 自然-人工・出産の場所別，死産数・百分率'!$I$6 -> 67 | J39: ='[3]■6 自然-人工・出産の場所別，死産数・百分率'!$J$6 -> 141 | K39: ='[3]■6 自然-人工・出産の場所別，死産数・百分率'!$K$6 -> 0 | L39: ='[3]■6 自然-人工・出産の場所別，死産数・百分率'!$L$6 -> 0 | M39: ='[3]■6 自然-人工・出産の場所別，死産数・百分率'!$M$6 -> 0
B40: 百分率
A41: 85 60 | B41: 100 | C41: 50.092764 | D41: 48.979592 | E41: 0.18552876 | F41: 0.55658627 | G41: 0.18552876 | H41: 100 | I41: 34.749764 | J41: 65.250236 | K41: 0 | L41: 0 | M41: 0
A42: 1986 昭和61年 | B42: 100 | C42: 45.550847 | D42: 51.271186 | E42: 0.21186441 | F42: 2.3305085 | G42: 0.63559322 | H42: 100 | I42: 29.249012 | J42: 70.750988 | K42: 0 | L42: 0 | M42: 0
A43: 1987 昭和62年 | B43: 100 | C43: 49.667406 | D43: 48.558758 | E43: 0.44345898 | F43: 1.3303769 | G43: 0 | H43: 100 | I43: 36.11416 | J43: 63.88584 | K43: 0 | L43: 0 | M43: 0
A44: 1988 昭和63年 | B44: 100 | C44: 54.847645 | D44: 44.875346 | E44: 0.27700831 | F44: 0 | G44: 0 | H44: 100 | I44: 40.199336 | J44: 59.800664 | K44: 0 | L44: 0 | M44: 0
A45: 89 平成元年 | B45: 100 | C45: 62.427746 | D45: 36.127168 | E45: 0.28901734 | F45: 0.86705202 | G45: 0.28901734 | H45: 100 | I45: 44.714459 | J45: 55.285541 | K45: 0 | L45: 0 | M45: 0
A46: 90 2 | B46: 100 | C46: 58.897243 | D46: 40.350877 | E46: 0 | F46: 0.7518797 | G46: 0 | H46: 100 | I46: 45.5 | J46: 54.5 | K46: 0 | L46: 0 | M46: 0
A47: 91 3 | B47: 100 | C47: 62.654321 | D47: 37.037037 | E47: 0 | F47: 0.30864198 | G47: 0 | H47: 100 | I47: 48.295455 | J47: 51.704545 | K47: 0 | L47: 0 | M47: 0
A48: 92 4 | B48: 100 | C48: 64 | D48: 34.461538 | E48: 0 | F48: 1.5384615 | G48: 0 | H48: 100 | I48: 44.690967 | J48: 55.309033 | K48: 0 | L48: 0 | M48: 0
A49: 1993 平成5年 | B49: 100 | C49: 65.371025 | D49: 32.862191 | E49: 0 | F49: 1.7667845 | G49: 0 | H49: 100 | I49: 47.783251 | J49: 52.216749 | K49: 0 | L49: 0 | M49: 0
A50: 94 6 | B50: 100 | C50: 62.237762 | D50: 37.062937 | E50: 0.34965035 | F50: 0 | G50: 0.34965035 | H50: 100 | I50: 48.263254 | J50: 51.736746 | K50: 0 | L50: 0 | M50: 0
A51: 95 7 | B51: 100 | C51: 62.5 | D51: 35.833333 | E51: 0.41666667 | F51: 1.25 | G51: 0 | H51: 100 | I51: 51.012146 | J51: 48.987854 | K51: 0 | L51: 0 | M51: 0
A52: 96 8 | B52: 100 | C52: 54.356846 | D52: 44.39834 | E52: 0 | F52: 1.2448133 | G52: 0 | H52: 100 | I52: 42.071882 | J52: 57.928118 | K52: 0 | L52: 0 | M52: 0
... A65: 09 21 | B65: 100 | C65: 52.571429 | D65: 45.714286 | E65: 0 | F65: 1.7142857 | G65: 0 | H65: 100 | I65: 57.337884 | J65: 42.662116 | K65: 0 | L65: 0 | M65: 0
A66: 10 22 | B66: =SUM(C66:G66) -> 100 | C66: =C31/$B31*100 -> 53.80117 | D66: =D31/$B31*100 -> 44.444444 | E66: =E31/$B31*100 -> 0 | F66: =F31/$B31*100 -> 1.754386 | G66: =G31/$B31*100 -> 0 | H66: =SUM(I66:M66) -> 100 | I66: =I31/$H31*100 -> 50.367647 | J66: =J31/$H31*100 -> 49.632353 | K66: =K31/$H31*100 -> 0 | L66: =L31/$H31*100 -> 0 | M66: =M31/$H31*100 -> 0
A67: 11 23 | B67: 100 | C67: 64.583333 | D67: 32.8125 | E67: 0 | F67: 2.6041667 | G67: 0 | H67: 100 | I67: 34.935897 | J67: 65.064103 | K67: 0 | L67: 0 | M67: 0
A68: 12 24 | B68: 100 | C68: 62.777778 | D68: 35.555556 | E68: 0 | F68: 1.6666667 | G68: 0 | H68: 100 | I68: 37.218045 | J68: 62.781955 | K68: 0 | L68: 0 | M68: 0
A69: 13 25 | B69: 100 | C69: 53.793103 | D69: 44.827586 | E69: 0 | F69: 1.3793103 | G69: 0 | H69: 100 | I69: 38.613861 | J69: 61.386139 | K69: 0 | L69: 0 | M69: 0
A70: 14 26 | B70: 100 | C70: 66.285714 | D70: 33.142857 | E70: 0 | F70: 0.57142857 | G70: 0 | H70: 100 | I70: 35.433071 | J70: 64.566929 | K70: 0 | L70: 0 | M70: 0
A71: 15 27 | B71: 100 | C71: 65 | D71: 33.75 | E71: 0 | F71: 1.25 | G71: 0 | H71: 100 | I71: 36.466165 | J71: 63.533835 | K71: 0 | L71: 0 | M71: 0
A72: 16 28 | B72: 100 | C72: 71.296296 | D72: 25.925926 | E72: 0 | F72: 2.7777778 | G72: 0 | H72: 100 | I72: 34.745763 | J72: 65.254237 | K72: 0 | L72: 0 | M72: 0
A73: 17 29 | B73: 100 | C73: 58.426966 | D73: 39.325843 | E73: 0 | F73: 2.247191 | G73: 0 | H73: 100 | I73: 28.571429 | J73: 71.428571 | K73: 0 | L73: 0 | M73: 0
A74: 18 30 | B74: =SUM(C74:G74) -> 100 | C74: =C39/$B39*100 -> 63.768116 | D74: =D39/$B39*100 -> 34.057971 | E74: =E39/$B39*100 -> 0 | F74: =F39/$B39*100 -> 2.173913 | G74: =G39/$B39*100 -> 0 | H74: =SUM(I74:M74) -> 100 | I74: =I39/$H39*100 -> 32.211538 | J74: =J39/$H39*100 -> 67.788462 | K74: =K39/$H39*100 -> 0 | L74: =L39/$H39*100 -> 0 | M74: =M39/$H39*100 -> 0
A75: 1) 自然死産・人口死産の別の不明（1胎）については、自然死産に計上している。

Sheet 7　母の年齢階級別死産数・百分率
A1: 7 自然－人工別にみた母の年齢（5歳階級)別死産数・死産率（出産千対）及び百分率
D2: ='4 月・自然-人工別，区別死産数'!$N$2 -> 平成30年
A3: 母の年齢 | B3: 総 数 | C3: 自 然 死 産 | D3: 人 工 死 産
B4: 死産数
A5: 総 数 | B5: =SUM(C5,D5) -> 346 | C5: =SUM(C6:C14) -> 138 | D5: =SUM(D6:D14) -> 208
A6: 19歳以下 | B6: =SUM(C6,D6) -> 24 | C6: 1 | D6: 23
A7: 20～24 | B7: =SUM(C7,D7) -> 76 | C7: 9 | D7: 67
A8: 25～29 | B8: =SUM(C8,D8) -> 64 | C8: 27 | D8: 37
A9: 30～34 | B9: =SUM(C9,D9) -> 82 | C9: 41 | D9: 41
A10: 35～39 | B10: =SUM(C10,D10) -> 67 | C10: 44 | D10: 23
A11: 40～44 | B11: =SUM(C11,D11) -> 32 | C11: 16 | D11: 16
A12: 45～49 | B12: =SUM(C12,D12) -> 1 | C12: 0 | D12: 1
A13: 50歳～ | B13: =SUM(C13,D13) -> 0 | C13: 0 | D13: 0
A14: 不 詳 | B14: =SUM(C14,D14) -> 0 | C14: 0 | D14: 0
B15: 死産率
A16: 総 数 | B16: =IF(B5=0,0,B5/($G16+$B5)*1000) -> 25.452405 | C16: =IF(C5=0,0,C5/($G16+$B5)*1000) -> 10.151537 | D16: =IF(D5=0,0,D5/($G16+$B5)*1000) -> 15.300868 | F16: 総数 | G16: =[1]出生数!G22 -> 13248
A17: 19歳以下 | B17: =IF(B6=0,0,B6/($G17+$G18+$B6)*1000) -> 186.04651 | C17: =IF(C6=0,0,C6/($G17+$G18+$B6)*1000) -> 7.751938 | D17: =IF(D6=0,0,D6/($G17+$G18+$B6)*1000) -> 178.29457 | F17: ～14歳 | G17: =[1]出生数!G23 -> 3
A18: 20～24 | B18: =IF(B7=0,0,B7/($G19+$B7)*1000) -> 63.2806 | C18: =IF(C7=0,0,C7/($G19+$B7)*1000) -> 7.4937552 | D18: =IF(D7=0,0,D7/($G19+$B7)*1000) -> 55.786844 | F18: 15～19 | G18: =[1]出生数!G24 -> 102
A19: 25～29 | B19: =IF(B8=0,0,B8/($G20+$B8)*1000) -> 19.335347 | C19: =IF(C8=0,0,C8/($G20+$B8)*1000) -> 8.1570997 | D19: =IF(D8=0,0,D8/($G20+$B8)*1000) -> 11.178248 | F19: 20～24 | G19: =[1]出生数!G25 -> 1125
A20: 30～34 | B20: =IF(B9=0,0,B9/($G21+$B9)*1000) -> 16.855087 | C20: =IF(C9=0,0,C9/($G21+$B9)*1000) -> 8.4275437 | D20: =IF(D9=0,0,D9/($G21+$B9)*1000) -> 8.4275437 | F20: 25～29 | G20: =[1]出生数!G26 -> 3246
A21: 35～39 | B21: =IF(B10=0,0,B10/($G22+$B10)*1000) -> 20.321504 | C21: =IF(C10=0,0,C10/($G22+$B10)*1000) -> 13.345466 | D21: =IF(D10=0,0,D10/($G22+$B10)*1000) -> 6.9760388 | F21: 30～34 | G21: =[1]出生数!G27 -> 4783
A22: 40～44 | B22: =IF(B11=0,0,B11/($G23+$B11)*1000) -> 41.50454 | C22: =IF(C11=0,0,C11/($G23+$B11)*1000) -> 20.75227 | D22: =IF(D11=0,0,D11/($G23+$B11)*1000) -> 20.75227 | F22: 35～39 | G22: =[1]出生数!G28 -> 3230
A23: 45～49 | B23: =IF(B12=0,0,B12/($G24+$B12)*1000) -> 47.619048 | C23: =IF(C12=0,0,C12/($G24+$B12)*1000) -> 0 | D23: =IF(D12=0,0,D12/($G24+$B12)*1000) -> 47.619048 | F23: 40～44 | G23: =[1]出生数!G29 -> 739
A24: 50歳～ | B24: =IF(B13=0,0,B13/($G25+$B13)*1000) -> 0 | C24: =IF(C13=0,0,C13/($G25+$B13)*1000) -> 0 | D24: =IF(D13=0,0,D13/($G25+$B13)*1000) -> 0 | F24: 45～49 | G24: =[1]出生数!G30 -> 20
B25: 百分率 | F25: 50～ | G25: =[1]出生数!G31 -> 0
A26: 総 数 | B26: =SUM(C26:D26) -> 100 | C26: =IF(C5=0,0,C5/$B5*100) -> 39.884393 | D26: =IF(D5=0,0,D5/$B5*100) -> 60.115607 | F26: 不詳 | G26: =[1]出生数!G32 -> 0
A27: 19歳以下 | B27: =SUM(C27:D27) -> 100 | C27: =IF(C6=0,0,C6/$B6*100) -> 4.1666667 | D27: =IF(D6=0,0,D6/$B6*100) -> 95.833333
A28: 20～24 | B28: =SUM(C28:D28) -> 100 | C28: =IF(C7=0,0,C7/$B7*100) -> 11.842105 | D28: =IF(D7=0,0,D7/$B7*100) -> 88.157895
A29: 25～29 | B29: =SUM(C29:D29) -> 100 | C29: =IF(C8=0,0,C8/$B8*100) -> 42.1875 | D29: =IF(D8=0,0,D8/$B8*100) -> 57.8125
A30: 30～34 | B30: =SUM(C30:D30) -> 100 | C30: =IF(C9=0,0,C9/$B9*100) -> 50 | D30: =IF(D9=0,0,D9/$B9*100) -> 50
A31: 35～39 | B31: =SUM(C31:D31) -> 100 | C31: =IF(C10=0,0,C10/$B10*100) -> 65.671642 | D31: =IF(D10=0,0,D10/$B10*100) -> 34.328358
A32: 40～44 | B32: =SUM(C32:D32) -> 100 | C32: =IF(C11=0,0,C11/$B11*100) -> 50 | D32: =IF(D11=0,0,D11/$B11*100) -> 50
A33: 45～49 | B33: =SUM(C33:D33) -> 100 | C33: =IF(C12=0,0,C12/$B12*100) -> 0 | D33: =IF(D12=0,0,D12/$B12*100) -> 100
A34: 50歳～ | B34: =SUM(C34:D34) -> 0 | C34: =IF(C13=0,0,C13/$B13*100) -> 0 | D34: =IF(D13=0,0,D13/$B13*100) -> 0

Sheet 8-総数　妊娠期間別，自然－人工・年次別死産数・百分率
A1: 8 自然-人工・妊娠期間別にみた年次別死産数及び百分率
A3: 総 数
A4: 年次 | B4: 総数 | C4: 満12～ 15週 | D4: 16～ 19週 | E4: 20～ 23週 | F4: 24～ 27週 | G4: 28～ 31週 | H4: 32～ 35週 | I4: 36～ 39週 | J4: 40週 ～ | K4: 不詳 | L4: (再 掲）
L5: 早期(満37週未満） | P5: 正期 | Q5: 過期
L6: 満22週 未 満 | M6: 22～ 27週 | N6: 28～ 31週 | O6: 32～ 36週 | P6: 37～ 41週 | Q6: 42週 ～
B7: 死産数
A8: 85 60 | B8: 1598 | C8: 668 | D8: 421 | E8: 358 | F8: 50 | G8: 26 | H8: 28 | I8: 32 | J8: 15 | K8: 0 | L8: =SUM('8-自然'!L8,'8-人工'!L8) -> 1497 | M8: =SUM('8-自然'!M8,'8-人工'!M8) -> 0 | N8: 26 | O8: 38 | P8: 36 | Q8: 1
A9: 1986 昭和61年 | B9: 1484 | C9: 622 | D9: 414 | E9: 324 | F9: 47 | G9: 29 | H9: 18 | I9: 14 | J9: 16 | K9: 0 | L9: =SUM('8-自然'!L9,'8-人工'!L9) -> 1407 | M9: =SUM('8-自然'!M9,'8-人工'!M9) -> 0 | N9: 29 | O9: 21 | P9: 26 | Q9: 1
A10: 1987 昭和62年 | B10: 1362 | C10: 559 | D10: 387 | E10: 304 | F10: 34 | G10: 21 | H10: 20 | I10: 27 | J10: 10 | K10: 0 | L10: =SUM('8-自然'!L10,'8-人工'!L10) -> 1284 | M10: =SUM('8-自然'!M10,'8-人工'!M10) -> 0 | N10: 21 | O10: 23 | P10: 32 | Q10: 2
A11: 1988 昭和63年 | B11: 1264 | C11: 525 | D11: 372 | E11: 278 | F11: 29 | G11: 19 | H11: 10 | I11: 22 | J11: 9 | K11: 0 | L11: =SUM('8-自然'!L11,'8-人工'!L11) -> 1204 | M11: =SUM('8-自然'!M11,'8-人工'!M11) -> 0 | N11: 19 | O11: 15 | P11: 25 | Q11: 1
A12: 89 平成元年 | B12: 1169 | C12: 481 | D12: 351 | E12: 242 | F12: 24 | G12: 18 | H12: 19 | I12: 25 | J12: 9 | K12: 0 | L12: =SUM('8-自然'!L12,'8-人工'!L12) -> 1098 | M12: =SUM('8-自然'!M12,'8-人工'!M12) -> 0 | N12: 18 | O12: 26 | P12: 27 | Q12: 0
A13: 90 2 | B13: 1199 | C13: 519 | D13: 336 | E13: 247 | F13: 29 | G13: 22 | H13: 19 | I13: 19 | J13: 7 | K13: 1 | L13: =SUM('8-自然'!L13,'8-人工'!L13) -> 1131 | M13: =SUM('8-自然'!M13,'8-人工'!M13) -> 0 | N13: 22 | O13: 25 | P13: 20 | Q13: 0
A14: 91 3 | B14: 1028 | C14: 438 | D14: 341 | E14: 179 | F14: 16 | G14: 12 | H14: 20 | I14: 12 | J14: 10 | K14: 0 | L14: =SUM('8-自然'!L14,'8-人工'!L14) -> 974 | M14: =SUM('8-自然'!M14,'8-人工'!M14) -> 0 | N14: 12 | O14: 26 | P14: 14 | Q14: 2
A15: 92 4 | B15: 956 | C15: 389 | D15: 337 | E15: 154 | F15: 18 | G15: 19 | H15: 19 | I15: 16 | J15: 4 | K15: 0 | L15: =SUM('8-自然'!L15,'8-人工'!L15) -> 898 | M15: =SUM('8-自然'!M15,'8-人工'!M15) -> 0 | N15: 19 | O15: 23 | P15: 16 | Q15: 0
A16: 1993 平成5年 | B16: 892 | C16: 388 | D16: 286 | E16: 159 | F16: 16 | G16: 13 | H16: 13 | I16: 15 | J16: 2 | K16: 0 | L16: =SUM('8-自然'!L16,'8-人工'!L16) -> 849 | M16: =SUM('8-自然'!M16,'8-人工'!M16) -> 0 | N16: 13 | O16: 18 | P16: 12 | Q16: 0
A17: 94 6 | B17: 833 | C17: 350 | D17: 274 | E17: 144 | F17: 14 | G17: 22 | H17: 15 | I17: 10 | J17: 4 | K17: 0 | L17: =SUM('8-自然'!L17,'8-人工'!L17) -> 782 | M17: =SUM('8-自然'!M17,'8-人工'!M17) -> 0 | N17: 22 | O17: 17 | P17: 12 | Q17: 0
A18: 95 7 | B18: 734 | C18: 297 | D18: 268 | E18: 119 | F18: 14 | G18: 11 | H18: 12 | I18: 10 | J18: 3 | K18: 0 | L18: 665 | M18: 33 | N18: 11 | O18: 16 | P18: 8 | Q18: 1
A19: 96 8 | B19: 714 | C19: 287 | D19: 264 | E19: 105 | F19: 19 | G19: 8 | H19: 11 | I19: 15 | J19: 5 | K19: 0 | L19: 642 | M19: 33 | N19: 8 | O19: 14 | P19: 17 | Q19: 0
A20: 97 9 | B20: 756 | C20: 309 | D20: 263 | E20: 126 | F20: 13 | G20: 18 | H20: 10 | I20: 12 | J20: 5 | K20: 0 | L20: 683 | M20: 28 | N20: 18 | O20: 15 | P20: 12 | Q20: 0
A21: 1998 平成10年 | B21: 711 | C21: 313 | D21: 204 | E21: 134 | F21: 15 | G21: 13 | H21: 14 | I21: 14 | J21: 4 | K21: 0 | L21: 635 | M21: 31 | N21: 13 | O21: 20 | P21: 12 | Q21: 0
A22: 99 11 | B22: 683 | C22: 297 | D22: 215 | E22: 131 | F22: 15 | G22: 10 | H22: 10 | I22: 5 | J22: 0 | K22: 0 | L22: 630 | M22: 28 | N22: 10 | O22: 13 | P22: 2 | Q22: 0
A23: 2000 12 | B23: 720 | C23: 305 | D23: 226 | E23: 145 | F23: 17 | G23: 10 | H23: 7 | I23: 8 | J23: 2 | K23: 0 | L23: 665 | M23: 28 | N23: 10 | O23: 8 | P23: 9 | Q23: 0
A24: 01 13 | B24: 718 | C24: 293 | D24: 230 | E24: 129 | F24: 20 | G24: 7 | H24: 20 | I24: 12 | J24: 7 | K24: 0 | L24: 641 | M24: 31 | N24: 7 | O24: 23 | P24: 15 | Q24: 1
A25: 02 14 | B25: 602 | C25: 261 | D25: 196 | E25: 115 | F25: 7 | G25: 4 | H25: 7 | I25: 10 | J25: 2 | K25: 0 | L25: 559 | M25: 20 | N25: 4 | O25: 9 | P25: 9 | Q25: 1
A26: 03 15 | B26: 631 | C26: 275 | D26: 197 | E26: 113 | F26: 18 | G26: 11 | H26: 7 | I26: 9 | J26: 1 | K26: 0 | L26: 571 | M26: 32 | N26: 11 | O26: 11 | P26: 6 | Q26: 0
A27: 04 16 | B27: 601 | C27: 290 | D27: 159 | E27: 112 | F27: 12 | G27: 3 | H27: 7 | I27: 16 | J27: 2 | K27: 0 | L27: 554 | M27: 19 | N27: 3 | O27: 9 | P27: 16 | Q27: 0
A28: 05 17 | B28: 602 | C28: 311 | D28: 153 | E28: 102 | F28: 6 | G28: 7 | H28: 9 | I28: 10 | J28: 4 | K28: 0 | L28: 555 | M28: 17 | N28: 7 | O28: 13 | P28: 8 | Q28: 2
A29: 06 18 | B29: 545 | C29: 242 | D29: 168 | E29: 97 | F29: 12 | G29: 8 | H29: 9 | I29: 7 | J29: 2 | K29: 0 | L29: 490 | M29: 29 | N29: 8 | O29: 11 | P29: 7 | Q29: 0
... A40: 17 29 | B40: 402 | C40: 151 | D40: 135 | E40: 81 | F40: 10 | G40: 8 | H40: 10 | I40: 5 | J40: 2 | K40: 0 | L40: 357 | M40: 20 | N40: 8 | O40: 13 | P40: 4 | Q40: 0
A41: 18 30 | B41: =IF(SUM(C41:K41)='1 年次別，死産数・死産率・死産性比'!C57,SUM(C41:K41),"「不詳」があり合計が合いません。") -> 346 | C41: =SUM('8-自然'!C41,'8-人工'!C41) -> 137 | D41: =SUM('8-自然'!D41,'8-人工'!D41) -> 114 | E41: =SUM('8-自然'!E41,'8-人工'!E41) -> 69 | F41: =SUM('8-自然'!F41,'8-人工'!F41) -> 7 | G41: =SUM('8-自然'!G41,'8-人工'!G41) -> 5 | H41: =SUM('8-自然'!H41,'8-人工'!H41) -> 7 | I41: =SUM('8-自然'!I41,'8-人工'!I41) -> 6 | J41: =SUM('8-自然'!J41,'8-人工'!J41) -> 0 | ... Q41: =SUM('8-自然'!Q41,'8-人工'!Q41) -> 0
B42: 百分率
A43: 85 60 | B43: 100 | C43: 41.802253 | D43: 26.345432 | E43: 22.403004 | F43: 3.1289111 | G43: 1.6270338 | H43: 1.7521902 | I43: 2.0025031 | J43: 0.93867334 | K43: 0 | L43: =L8/$B8*100 -> 93.679599 | M43: =M8/$B8*100 -> 0 | N43: 1.6270338 | O43: 2.3779725 | P43: 2.252816 | Q43: 0.062578223
A44: 1986 昭和61年 | B44: 100 | C44: 41.913747 | D44: 27.897574 | E44: 21.832884 | F44: 3.1671159 | G44: 1.9541779 | H44: 1.212938 | I44: 0.94339623 | J44: 1.0781671 | K44: 0 | L44: =L9/$B9*100 -> 94.811321 | M44: =M9/$B9*100 -> 0 | N44: 1.9541779 | O44: 1.4150943 | P44: 1.7520216 | Q44: 0.067385445
A45: 1987 昭和62年 | B45: 100 | C45: 41.042584 | D45: 28.414097 | E45: 22.320117 | F45: 2.4963289 | G45: 1.5418502 | H45: 1.4684288 | I45: 1.9823789 | J45: 0.73421439 | K45: 0 | L45: =L10/$B10*100 -> 94.273128 | M45: =M10/$B10*100 -> 0 | N45: 1.5418502 | O45: 1.6886931 | P45: 2.349486 | Q45: 0.14684288
A46: 1988 昭和63年 | B46: 100 | C46: 41.53481 | D46: 29.43038 | E46: 21.993671 | F46: 2.2943038 | G46: 1.5031646 | H46: 0.79113924 | I46: 1.7405063 | J46: 0.71202532 | K46: 0 | L46: =L11/$B11*100 -> 95.253165 | M46: =M11/$B11*100 -> 0 | N46: 1.5031646 | O46: 1.1867089 | P46: 1.9778481 | Q46: 0.079113924
A47: 89 平成元年 | B47: 100 | C47: 41.146279 | D47: 30.025663 | E47: 20.701454 | F47: 2.0530368 | G47: 1.5397776 | H47: 1.6253208 | I47: 2.13858 | J47: 0.76988879 | K47: 0 | L47: =L12/$B12*100 -> 93.926433 | M47: =M12/$B12*100 -> 0 | N47: 1.5397776 | O47: 2.2241232 | P47: 2.3096664 | Q47: 0
A48: 90 2 | B48: 100 | C48: 43.286072 | D48: 28.023353 | E48: 20.6005 | F48: 2.4186822 | G48: 1.8348624 | H48: 1.5846539 | I48: 1.5846539 | J48: 0.58381985 | K48: 0.083402836 | L48: =L13/$B13*100 -> 94.328607 | M48: =M13/$B13*100 -> 0 | N48: 1.8348624 | O48: 2.0850709 | P48: 1.6680567 | Q48: 0
A49: 91 3 | B49: 100 | C49: 42.607004 | D49: 33.171206 | E49: 17.412451 | F49: 1.5564202 | G49: 1.1673152 | H49: 1.9455253 | I49: 1.1673152 | J49: 0.97276265 | K49: 0 | L49: =L14/$B14*100 -> 94.747082 | M49: =M14/$B14*100 -> 0 | N49: 1.1673152 | O49: 2.5291829 | P49: 1.3618677 | Q49: 0.19455253
A50: 92 4 | B50: 100 | C50: 40.690377 | D50: 35.251046 | E50: 16.108787 | F50: 1.8828452 | G50: 1.9874477 | H50: 1.9874477 | I50: 1.6736402 | J50: 0.41841004 | K50: 0 | L50: =L15/$B15*100 -> 93.933054 | M50: =M15/$B15*100 -> 0 | N50: 1.9874477 | O50: 2.4058577 | P50: 1.6736402 | Q50: 0
A51: 1993 平成5年 | B51: 100 | C51: 43.497758 | D51: 32.06278 | E51: 17.825112 | F51: 1.793722 | G51: 1.4573991 | H51: 1.4573991 | I51: 1.6816143 | J51: 0.22421525 | K51: 0 | L51: =L16/$B16*100 -> 95.179372 | M51: =M16/$B16*100 -> 0 | N51: 1.4573991 | O51: 2.0179372 | P51: 1.3452915 | Q51: 0
A52: 94 6 | B52: 100 | C52: 42.016807 | D52: 32.893157 | E52: 17.286915 | F52: 1.6806723 | G52: 2.6410564 | H52: 1.8007203 | I52: 1.2004802 | J52: 0.48019208 | K52: 0 | L52: =L17/$B17*100 -> 93.877551 | M52: =M17/$B17*100 -> 0 | N52: 2.6410564 | O52: 2.0408163 | P52: 1.4405762 | Q52: 0
A53: 95 7 | B53: 100 | C53: 40.463215 | D53: 36.512262 | E53: 16.212534 | F53: 1.9073569 | G53: 1.4986376 | H53: 1.6348774 | I53: 1.3623978 | J53: 0.40871935 | K53: 0 | L53: 90.599455 | M53: 4.4959128 | N53: 1.4986376 | O53: 2.1798365 | P53: 1.0899183 | Q53: 0.13623978
A54: 96 8 | B54: 100 | C54: 40.196078 | D54: 36.97479 | E54: 14.705882 | F54: 2.6610644 | G54: 1.1204482 | H54: 1.5406162 | I54: 2.1008403 | J54: 0.70028011 | K54: 0 | L54: 89.915966 | M54: 4.6218487 | N54: 1.1204482 | O54: 1.9607843 | P54: 2.3809524 | Q54: 0
A55: 97 9 | B55: 100 | C55: 40.873016 | D55: 34.78836 | E55: 16.666667 | F55: 1.7195767 | G55: 2.3809524 | H55: 1.3227513 | I55: 1.5873016 | J55: 0.66137566 | K55: 0 | L55: 90.343915 | M55: 3.7037037 | N55: 2.3809524 | O55: 1.984127 | P55: 1.5873016 | Q55: 0
A56: 1998 平成10年 | B56: 100 | C56: 44.022504 | D56: 28.691983 | E56: 18.846695 | F56: 2.1097046 | G56: 1.8284107 | H56: 1.9690577 | I56: 1.9690577 | J56: 0.5625879 | K56: 0 | L56: 89.31083 | M56: 4.3600563 | N56: 1.8284107 | O56: 2.8129395 | P56: 1.6877637 | Q56: 0
A57: 99 11 | B57: 100 | C57: 43.484627 | D57: 31.47877 | E57: 19.180088 | F57: 2.1961933 | G57: 1.4641288 | H57: 1.4641288 | I57: 0.73206442 | J57: 0 | K57: 0 | L57: 92.240117 | M57: 4.0995608 | N57: 1.4641288 | O57: 1.9033675 | P57: 0.29282577 | Q57: 0
A58: 2000 12 | B58: 100 | C58: 42.361111 | D58: 31.388889 | E58: 20.138889 | F58: 2.3611111 | G58: 1.3888889 | H58: 0.97222222 | I58: 1.1111111 | J58: 0.27777778 | K58: 0 | L58: 92.361111 | M58: 3.8888889 | N58: 1.3888889 | O58: 1.1111111 | P58: 1.25 | Q58: 0
A59: 01 13 | B59: 100 | C59: 40.807799 | D59: 32.033426 | E59: 17.966574 | F59: 2.7855153 | G59: 0.97493036 | H59: 2.7855153 | I59: 1.6713092 | J59: 0.97493036 | K59: 0 | L59: 89.275766 | M59: 4.3175487 | N59: 0.97493036 | O59: 3.2033426 | P59: 2.0891365 | Q59: 0.13927577
A60: 02 14 | B60: 100 | C60: 43.355482 | D60: 32.55814 | E60: 19.10299 | F60: 1.1627907 | G60: 0.66445183 | H60: 1.1627907 | I60: 1.6611296 | J60: 0.33222591 | K60: 0 | L60: 92.857143 | M60: 3.3222591 | N60: 0.66445183 | O60: 1.4950166 | P60: 1.4950166 | Q60: 0.16611296
A61: 03 15 | B61: 100 | C61: 43.581616 | D61: 31.220285 | E61: 17.908082 | F61: 2.8526149 | G61: 1.7432647 | H61: 1.1093502 | I61: 1.4263074 | J61: 0.15847861 | K61: 0 | L61: 90.491284 | M61: 5.0713154 | N61: 1.7432647 | O61: 1.7432647 | P61: 0.95087163 | Q61: 0
A62: 04 16 | B62: 100 | C62: 48.252912 | D62: 26.455907 | E62: 18.635607 | F62: 1.9966722 | G62: 0.49916805 | H62: 1.1647255 | I62: 2.6622296 | J62: 0.3327787 | K62: 0 | L62: 92.1797 | M62: 3.1613977 | N62: 0.49916805 | O62: 1.4975042 | P62: 2.6622296 | Q62: 0
A63: 05 17 | B63: 100 | C63: 51.66113 | D63: 25.415282 | E63: 16.943522 | F63: 0.99667774 | G63: 1.1627907 | H63: 1.4950166 | I63: 1.6611296 | J63: 0.66445183 | K63: 0 | L63: 92.192691 | M63: 2.8239203 | N63: 1.1627907 | O63: 2.1594684 | P63: 1.3289037 | Q63: 0.33222591
A64: 06 18 | B64: 100 | C64: 44.40367 | D64: 30.825688 | E64: 17.798165 | F64: 2.2018349 | G64: 1.4678899 | H64: 1.6513761 | I64: 1.2844037 | J64: 0.36697248 | K64: 0 | L64: 89.908257 | M64: 5.3211009 | N64: 1.4678899 | O64: 2.0183486 | P64: 1.2844037 | Q64: 0
... A75: 17 29 | B75: 100 | C75: 37.562189 | D75: 33.58209 | E75: 20.149254 | F75: 2.4875622 | G75: 1.9900498 | H75: 2.4875622 | I75: 1.2437811 | J75: 0.49751244 | K75: 0 | L75: 88.80597 | M75: 4.9751244 | N75: 1.9900498 | O75: 3.2338308 | P75: 0.99502488 | Q75: 0
A76: 18 30 | B76: =SUM(C76:K76) -> 100 | C76: =C41/$B41*100 -> 39.595376 | D76: =D41/$B41*100 -> 32.947977 | E76: =E41/$B41*100 -> 19.942197 | F76: =F41/$B41*100 -> 2.0231214 | G76: =G41/$B41*100 -> 1.4450867 | H76: =H41/$B41*100 -> 2.0231214 | I76: =I41/$B41*100 -> 1.734104 | J76: =J41/$B41*100 -> 0 | ... Q76: =Q41/$B41*100 -> 0
A77: 1) 自然死産・人口死産の別の不明（1胎）については、自然死産に計上している。

Sheet 8-自然
A1: 8 自然-人工・妊娠期間別にみた年次別死産数及び百分率(つづき）
A3: 自然死産
A4: 年次 | B4: 総数 | C4: 満12～ 15週 | D4: 16～ 19週 | E4: 20～ 23週 | F4: 24～ 27週 | G4: 28～ 31週 | H4: 32～ 35週 | I4: 36～ 39週 | J4: 40週 ～ | K4: 不詳 | L4: (再 掲）
L5: 早期(満37週未満） | P5: 正期 | Q5: 過期
L6: 満22週 未 満 | M6: 22～ 27週 | N6: 28～ 31週 | O6: 32～ 36週 | P6: 37～ 41週 | Q6: 42週 ～
B7: 自然死産数
A8: 85 60 | B8: 539 | C8: 173 | D8: 116 | E8: 101 | F8: 49 | G8: 25 | H8: 28 | I8: 32 | J8: 15 | K8: 0 | L8: 439 | N8: 25 | O8: 38 | P8: 36 | Q8: 1
A9: 1986 昭和61年 | B9: 472 | C9: 158 | D9: 116 | E9: 74 | F9: 47 | G9: 29 | H9: 18 | I9: 14 | J9: 16 | K9: 0 | L9: 395 | N9: 29 | O9: 21 | P9: 26 | Q9: 1
A10: 1987 昭和62年 | B10: 451 | C10: 130 | D10: 124 | E10: 85 | F10: 34 | G10: 21 | H10: 20 | I10: 27 | J10: 10 | K10: 0 | L10: 373 | N10: 21 | O10: 23 | P10: 32 | Q10: 2
A11: 1988 昭和63年 | B11: 361 | C11: 94 | D11: 108 | E11: 70 | F11: 29 | G11: 19 | H11: 10 | I11: 22 | J11: 9 | K11: 0 | L11: 301 | N11: 19 | O11: 15 | P11: 25 | Q11: 1
A12: 89 平成元年 | B12: 346 | C12: 77 | D12: 109 | E12: 65 | F12: 24 | G12: 18 | H12: 19 | I12: 25 | J12: 9 | K12: 0 | L12: 275 | N12: 18 | O12: 26 | P12: 27 | Q12: 0
A13: 90 2 | B13: 399 | C13: 104 | D13: 116 | E13: 82 | F13: 29 | G13: 22 | H13: 19 | I13: 19 | J13: 7 | K13: 1 | L13: 331 | N13: 22 | O13: 25 | P13: 20 | Q13: 0
A14: 91 3 | B14: 324 | C14: 97 | D14: 102 | E14: 55 | F14: 16 | G14: 12 | H14: 20 | I14: 12 | J14: 10 | K14: 0 | L14: 270 | N14: 12 | O14: 26 | P14: 14 | Q14: 2
A15: 92 4 | B15: 325 | C15: 99 | D15: 94 | E15: 56 | F15: 18 | G15: 19 | H15: 19 | I15: 16 | J15: 4 | K15: 0 | L15: 267 | N15: 19 | O15: 23 | P15: 16 | Q15: 0
A16: 1993 平成5年 | B16: 283 | C16: 83 | D16: 87 | E16: 54 | F16: 16 | G16: 13 | H16: 13 | I16: 15 | J16: 2 | K16: 0 | L16: 240 | N16: 13 | O16: 18 | P16: 12 | Q16: 0
A17: 94 6 | B17: 286 | C17: 69 | D17: 86 | E17: 68 | F17: 13 | G17: 21 | H17: 15 | I17: 10 | J17: 4 | K17: 0 | L17: 236 | N17: 21 | O17: 17 | P17: 12 | Q17: 0
A18: 95 7 | B18: 240 | C18: 64 | D18: 81 | E18: 48 | F18: 14 | G18: 10 | H18: 10 | I18: 10 | J18: 3 | K18: 0 | L18: 174 | M18: 33 | N18: 10 | O18: 14 | P18: 8 | Q18: 1
A19: 96 8 | B19: 241 | C19: 66 | D19: 76 | E19: 41 | F19: 19 | G19: 8 | H19: 11 | I19: 15 | J19: 5 | K19: 0 | L19: 169 | M19: 33 | N19: 8 | O19: 14 | P19: 17 | Q19: 0
A20: 97 9 | B20: 249 | C20: 58 | D20: 77 | E20: 56 | F20: 13 | G20: 18 | H20: 10 | I20: 12 | J20: 5 | K20: 0 | L20: 176 | M20: 28 | N20: 18 | O20: 15 | P20: 12 | Q20: 0
A21: 1998 平成10年 | B21: 234 | C21: 68 | D21: 54 | E21: 52 | F21: 15 | G21: 13 | H21: 14 | I21: 14 | J21: 4 | K21: 0 | L21: 158 | M21: 31 | N21: 13 | O21: 20 | P21: 12 | Q21: 0
A22: 99 11 | B22: 199 | C22: 48 | D22: 58 | E22: 53 | F22: 15 | G22: 10 | H22: 10 | I22: 5 | J22: 0 | K22: 0 | L22: 146 | M22: 28 | N22: 10 | O22: 13 | P22: 2 | Q22: 0
A23: 2000 12 | B23: 223 | C23: 56 | D23: 82 | E23: 41 | F23: 17 | G23: 10 | H23: 7 | I23: 8 | J23: 2 | K23: 0 | L23: 168 | M23: 28 | N23: 10 | O23: 8 | P23: 9 | Q23: 0
A24: 01 13 | B24: 213 | C24: 52 | D24: 60 | E24: 35 | F24: 20 | G24: 7 | H24: 20 | I24: 12 | J24: 7 | K24: 0 | L24: 136 | M24: 31 | N24: 7 | O24: 23 | P24: 15 | Q24: 1
A25: 02 14 | B25: 175 | C25: 51 | D25: 55 | E25: 39 | F25: 7 | G25: 4 | H25: 7 | I25: 10 | J25: 2 | K25: 0 | L25: 132 | M25: 20 | N25: 4 | O25: 9 | P25: 9 | Q25: 1
A26: 03 15 | B26: 197 | C26: 68 | D26: 37 | E26: 46 | F26: 18 | G26: 11 | H26: 7 | I26: 9 | J26: 1 | K26: 0 | L26: 137 | M26: 32 | N26: 11 | O26: 11 | P26: 6 | Q26: 0
A27: 04 16 | B27: 196 | C27: 66 | D27: 51 | E27: 39 | F27: 12 | G27: 3 | H27: 7 | I27: 16 | J27: 2 | K27: 0 | L27: 149 | M27: 19 | N27: 3 | O27: 9 | P27: 16 | Q27: 0
A28: 05 17 | B28: 191 | C28: 74 | D28: 46 | E28: 35 | F28: 6 | G28: 7 | H28: 9 | I28: 10 | J28: 4 | K28: 0 | L28: 144 | M28: 17 | N28: 7 | O28: 13 | P28: 8 | Q28: 2
A29: 06 18 | B29: 212 | C29: 64 | D29: 64 | E29: 46 | F29: 12 | G29: 8 | H29: 9 | I29: 7 | J29: 2 | K29: 0 | L29: 157 | M29: 29 | N29: 8 | O29: 11 | P29: 7 | Q29: 0
... A40: 17 29 | B40: 178 | C40: 62 | D40: 56 | E40: 25 | F40: 10 | G40: 8 | H40: 10 | I40: 5 | J40: 2 | K40: 0 | L40: 133 | M40: 20 | N40: 8 | O40: 13 | P40: 4 | Q40: 0
A41: 18 30 | B41: =SUM(C41:K41) -> 138 | C41: ='[3]■8-自然'!$C$8 -> 40 | D41: ='[3]■8-自然'!$D$8 -> 45 | E41: ='[3]■8-自然'!$E$8 -> 27 | F41: ='[3]■8-自然'!$F$8 -> 7 | G41: ='[3]■8-自然'!$G$8 -> 5 | H41: ='[3]■8-自然'!$H$8 -> 7 | I41: ='[3]■8-自然'!$I$8 -> 6 | J41: ='[3]■8-自然'!$J$8 -> 0 | K41: ='[3]■8-自然'!$K$8 -> 1 | L41: ='[3]■8-自然'!$L$8 -> 105 | M41: ='[3]■8-自然'!$M$8 -> 14 | N41: ='[3]■8-自然'!$N$8 -> 5 | O41: ='[3]■8-自然'!$O$8 -> 8 | P41: ='[3]■8-自然'!$P$8 -> 5 | Q41: ='[3]■8-自然'!$Q$8 -> 0
B42: 百分率
A43: 85 60 | B43: 100 | C43: 32.096475 | D43: 21.521336 | E43: 18.738404 | F43: 9.0909091 | G43: 4.6382189 | H43: 5.1948052 | I43: 5.9369202 | J43: 2.7829314 | K43: 0 | L43: =L8/$B8*100 -> 81.447124 | M43: =M8/$B8*100 -> 0 | N43: 4.6382189 | O43: 7.0500928 | P43: 6.6790353 | Q43: 0.18552876
A44: 1986 昭和61年 | B44: 100 | C44: 33.474576 | D44: 24.576271 | E44: 15.677966 | F44: 9.9576271 | G44: 6.1440678 | H44: 3.8135593 | I44: 2.9661017 | J44: 3.3898305 | K44: 0 | L44: =L9/$B9*100 -> 83.686441 | M44: =M9/$B9*100 -> 0 | N44: 6.1440678 | O44: 4.4491525 | P44: 5.5084746 | Q44: 0.21186441
A45: 1987 昭和62年 | B45: 100 | C45: 28.824834 | D45: 27.494457 | E45: 18.847007 | F45: 7.5388027 | G45: 4.6563193 | H45: 4.4345898 | I45: 5.9866962 | J45: 2.2172949 | K45: 0 | L45: =L10/$B10*100 -> 82.7051 | M45: =M10/$B10*100 -> 0 | N45: 4.6563193 | O45: 5.0997783 | P45: 7.0953437 | Q45: 0.44345898
A46: 1988 昭和63年 | B46: 100 | C46: 26.038781 | D46: 29.916898 | E46: 19.390582 | F46: 8.033241 | G46: 5.2631579 | H46: 2.7700831 | I46: 6.0941828 | J46: 2.4930748 | K46: 0 | L46: =L11/$B11*100 -> 83.379501 | M46: =M11/$B11*100 -> 0 | N46: 5.2631579 | O46: 4.1551247 | P46: 6.9252078 | Q46: 0.27700831
A47: 89 平成元年 | B47: 100 | C47: 22.254335 | D47: 31.50289 | E47: 18.786127 | F47: 6.9364162 | G47: 5.2023121 | H47: 5.4913295 | I47: 7.2254335 | J47: 2.6011561 | K47: 0 | L47: =L12/$B12*100 -> 79.479769 | M47: =M12/$B12*100 -> 0 | N47: 5.2023121 | O47: 7.5144509 | P47: 7.8034682 | Q47: 0
A48: 90 2 | B48: 100 | C48: 26.065163 | D48: 29.072682 | E48: 20.551378 | F48: 7.2681704 | G48: 5.5137845 | H48: 4.7619048 | I48: 4.7619048 | J48: 1.754386 | K48: 0.25062657 | L48: =L13/$B13*100 -> 82.957393 | M48: =M13/$B13*100 -> 0 | N48: 5.5137845 | O48: 6.2656642 | P48: 5.0125313 | Q48: 0
A49: 91 3 | B49: 100 | C49: 29.938272 | D49: 31.481481 | E49: 16.975309 | F49: 4.9382716 | G49: 3.7037037 | H49: 6.1728395 | I49: 3.7037037 | J49: 3.0864198 | K49: 0 | L49: =L14/$B14*100 -> 83.333333 | M49: =M14/$B14*100 -> 0 | N49: 3.7037037 | O49: 8.0246914 | P49: 4.3209877 | Q49: 0.61728395
A50: 92 4 | B50: 100 | C50: 30.461538 | D50: 28.923077 | E50: 17.230769 | F50: 5.5384615 | G50: 5.8461538 | H50: 5.8461538 | I50: 4.9230769 | J50: 1.2307692 | K50: 0 | L50: =L15/$B15*100 -> 82.153846 | M50: =M15/$B15*100 -> 0 | N50: 5.8461538 | O50: 7.0769231 | P50: 4.9230769 | Q50: 0
A51: 1993 平成5年 | B51: 100 | C51: 29.328622 | D51: 30.742049 | E51: 19.081272 | F51: 5.6537102 | G51: 4.5936396 | H51: 4.5936396 | I51: 5.3003534 | J51: 0.70671378 | K51: 0 | L51: =L16/$B16*100 -> 84.805654 | M51: =M16/$B16*100 -> 0 | N51: 4.5936396 | O51: 6.360424 | P51: 4.2402827 | Q51: 0
A52: 94 6 | B52: 100 | C52: 24.125874 | D52: 30.06993 | E52: 23.776224 | F52: 4.5454545 | G52: 7.3426573 | H52: 5.2447552 | I52: 3.4965035 | J52: 1.3986014 | K52: 0 | L52: =L17/$B17*100 -> 82.517483 | M52: =M17/$B17*100 -> 0 | N52: 7.3426573 | O52: 5.9440559 | P52: 4.1958042 | Q52: 0
A53: 95 7 | B53: 100 | C53: 26.666667 | D53: 33.75 | E53: 20 | F53: 5.8333333 | G53: 4.1666667 | H53: 4.1666667 | I53: 4.1666667 | J53: 1.25 | K53: 0 | L53: 72.5 | M53: 13.75 | N53: 4.1666667 | O53: 5.8333333 | P53: 3.3333333 | Q53: 0.41666667
A54: 96 8 | B54: 100 | C54: 27.385892 | D54: 31.53527 | E54: 17.012448 | F54: 7.8838174 | G54: 3.3195021 | H54: 4.5643154 | I54: 6.2240664 | J54: 2.0746888 | K54: 0 | L54: 70.124481 | M54: 13.692946 | N54: 3.3195021 | O54: 5.8091286 | P54: 7.0539419 | Q54: 0
A55: 97 9 | B55: 100 | C55: 23.293173 | D55: 30.923695 | E55: 22.48996 | F55: 5.2208835 | G55: 7.2289157 | H55: 4.0160643 | I55: 4.8192771 | J55: 2.0080321 | K55: 0 | L55: 70.682731 | M55: 11.24498 | N55: 7.2289157 | O55: 6.0240964 | P55: 4.8192771 | Q55: 0
A56: 1998 平成10年 | B56: 100 | C56: 29.059829 | D56: 23.076923 | E56: 22.222222 | F56: 6.4102564 | G56: 5.5555556 | H56: 5.982906 | I56: 5.982906 | J56: 1.7094017 | K56: 0 | L56: 67.521368 | M56: 13.247863 | N56: 5.5555556 | O56: 8.5470085 | P56: 5.1282051 | Q56: 0
A57: 99 11 | B57: 100 | C57: 24.120603 | D57: 29.145729 | E57: 26.633166 | F57: 7.5376884 | G57: 5.0251256 | H57: 5.0251256 | I57: 2.5125628 | J57: 0 | K57: 0 | L57: 73.366834 | M57: 14.070352 | N57: 5.0251256 | O57: 6.5326633 | P57: 1.0050251 | Q57: 0
A58: 2000 12 | B58: 100 | C58: 25.112108 | D58: 36.7713 | E58: 18.38565 | F58: 7.6233184 | G58: 4.4843049 | H58: 3.1390135 | I58: 3.5874439 | J58: 0.89686099 | K58: 0 | L58: 75.336323 | M58: 12.556054 | N58: 4.4843049 | O58: 3.5874439 | P58: 4.0358744 | Q58: 0
A59: 01 13 | B59: 100 | C59: 24.413146 | D59: 28.169014 | E59: 16.431925 | F59: 9.3896714 | G59: 3.286385 | H59: 9.3896714 | I59: 5.6338028 | J59: 3.286385 | K59: 0 | L59: 63.849765 | M59: 14.553991 | N59: 3.286385 | O59: 10.798122 | P59: 7.0422535 | Q59: 0.46948357
A60: 02 14 | B60: 100 | C60: 29.142857 | D60: 31.428571 | E60: 22.285714 | F60: 4 | G60: 2.2857143 | H60: 4 | I60: 5.7142857 | J60: 1.1428571 | K60: 0 | L60: 75.428571 | M60: 11.428571 | N60: 2.2857143 | O60: 5.1428571 | P60: 5.1428571 | Q60: 0.57142857
A61: 03 15 | B61: 100 | C61: 34.517766 | D61: 18.781726 | E61: 23.350254 | F61: 9.1370558 | G61: 5.5837563 | H61: 3.5532995 | I61: 4.5685279 | J61: 0.50761421 | K61: 0 | L61: 69.543147 | M61: 16.243655 | N61: 5.5837563 | O61: 5.5837563 | P61: 3.0456853 | Q61: 0
A62: 04 16 | B62: 100 | C62: 33.673469 | D62: 26.020408 | E62: 19.897959 | F62: 6.122449 | G62: 1.5306122 | H62: 3.5714286 | I62: 8.1632653 | J62: 1.0204082 | K62: 0 | L62: 76.020408 | M62: 9.6938776 | N62: 1.5306122 | O62: 4.5918367 | P62: 8.1632653 | Q62: 0
A63: 05 17 | B63: 100 | C63: 38.743455 | D63: 24.08377 | E63: 18.324607 | F63: 3.1413613 | G63: 3.6649215 | H63: 4.7120419 | I63: 5.2356021 | J63: 2.0942408 | K63: 0 | L63: 75.39267 | M63: 8.9005236 | N63: 3.6649215 | O63: 6.8062827 | P63: 4.1884817 | Q63: 1.0471204
A64: 06 18 | B64: 100 | C64: 30.188679 | D64: 30.188679 | E64: 21.698113 | F64: 5.6603774 | G64: 3.7735849 | H64: 4.245283 | I64: 3.3018868 | J64: 0.94339623 | K64: 0 | L64: 74.056604 | M64: 13.679245 | N64: 3.7735849 | O64: 5.1886792 | P64: 3.3018868 | Q64: 0
... A75: 17 29 | B75: 100 | C75: 34.831461 | D75: 31.460674 | E75: 14.044944 | F75: 5.6179775 | G75: 4.494382 | H75: 5.6179775 | I75: 2.8089888 | J75: 1.1235955 | K75: 0 | L75: 74.719101 | M75: 11.235955 | N75: 4.494382 | O75: 7.3033708 | P75: 2.247191 | Q75: 0
A76: 18 30 | B76: =SUM(C76:K76) -> 100 | C76: =C41/$B41*100 -> 28.985507 | D76: =D41/$B41*100 -> 32.608696 | E76: =E41/$B41*100 -> 19.565217 | F76: =F41/$B41*100 -> 5.0724638 | G76: =G41/$B41*100 -> 3.6231884 | H76: =H41/$B41*100 -> 5.0724638 | I76: =I41/$B41*100 -> 4.3478261 | J76: =J41/$B41*100 -> 0 | ... Q76: =Q41/$B41*100 -> 0
A77: 1) 自然死産・人口死産の別の不明（1胎）については、自然死産に計上している。

Sheet 8-人工
A1: 8 自然-人工・妊娠期間別にみた年次別死産数及び百分率(つづき）
A3: 人工死産
A4: 年次 | B4: 総数 | C4: 満12～ 15週 | D4: 16～ 19週 | E4: 20～ 23週 | F4: 24～ 27週 | G4: 28～ 31週 | H4: 32～ 35週 | I4: 36～ 39週 | J4: 40週 ～ | K4: 不詳 | L4: (再 掲）
L5: 早期(満37週未満） | P5: 正期 | Q5: 過期
L6: 満22週 未 満 | M6: 22～ 27週 | N6: 28～ 31週 | O6: 32～ 36週 | P6: 37～ 41週 | Q6: 42週 ～
B7: 人工死産数
A8: 85 60 | B8: 1059 | C8: 495 | D8: 305 | E8: 257 | F8: 1 | G8: 1 | H8: 0 | I8: 0 | J8: 0 | K8: 0 | L8: 1058 | N8: 1 | O8: 0 | P8: 0 | Q8: 0
A9: 1986 昭和61年 | B9: 1012 | C9: 464 | D9: 298 | E9: 250 | F9: 0 | G9: 0 | H9: 0 | I9: 0 | J9: 0 | K9: 0 | L9: 1012 | N9: 0 | O9: 0 | P9: 0 | Q9: 0
A10: 1987 昭和62年 | B10: 911 | C10: 429 | D10: 263 | E10: 219 | F10: 0 | G10: 0 | H10: 0 | I10: 0 | J10: 0 | K10: 0 | L10: 911 | N10: 0 | O10: 0 | P10: 0 | Q10: 0
A11: 1988 昭和63年 | B11: 903 | C11: 431 | D11: 264 | E11: 208 | F11: 0 | G11: 0 | H11: 0 | I11: 0 | J11: 0 | K11: 0 | L11: 903 | N11: 0 | O11: 0 | P11: 0 | Q11: 0
A12: 89 平成元年 | B12: 823 | C12: 404 | D12: 242 | E12: 177 | F12: 0 | G12: 0 | H12: 0 | I12: 0 | J12: 0 | K12: 0 | L12: 823 | N12: 0 | O12: 0 | P12: 0 | Q12: 0
A13: 90 2 | B13: 800 | C13: 415 | D13: 220 | E13: 165 | F13: 0 | G13: 0 | H13: 0 | I13: 0 | J13: 0 | K13: 0 | L13: 800 | N13: 0 | O13: 0 | P13: 0 | Q13: 0
A14: 91 3 | B14: 704 | C14: 341 | D14: 239 | E14: 124 | F14: 0 | G14: 0 | H14: 0 | I14: 0 | J14: 0 | K14: 0 | L14: 704 | N14: 0 | O14: 0 | P14: 0 | Q14: 0
A15: 92 4 | B15: 631 | C15: 290 | D15: 243 | E15: 98 | F15: 0 | G15: 0 | H15: 0 | I15: 0 | J15: 0 | K15: 0 | L15: 631 | N15: 0 | O15: 0 | P15: 0 | Q15: 0
A16: 1993 平成5年 | B16: 609 | C16: 305 | D16: 199 | E16: 105 | F16: 0 | G16: 0 | H16: 0 | I16: 0 | J16: 0 | K16: 0 | L16: 609 | N16: 0 | O16: 0 | P16: 0 | Q16: 0
A17: 94 6 | B17: 547 | C17: 281 | D17: 188 | E17: 76 | F17: 1 | G17: 1 | H17: 0 | I17: 0 | J17: 0 | K17: 0 | L17: 546 | N17: 1 | O17: 0 | P17: 0 | Q17: 0
A18: 95 7 | B18: 494 | C18: 233 | D18: 187 | E18: 71 | F18: 0 | G18: 1 | H18: 2 | I18: 0 | J18: 0 | K18: 0 | L18: 491 | M18: 0 | N18: 1 | O18: 2 | P18: 0 | Q18: 0
A19: 96 8 | B19: 473 | C19: 221 | D19: 188 | E19: 64 | F19: 0 | G19: 0 | H19: 0 | I19: 0 | J19: 0 | K19: 0 | L19: 473 | M19: 0 | N19: 0 | O19: 0 | P19: 0 | Q19: 0
A20: 97 9 | B20: 507 | C20: 251 | D20: 186 | E20: 70 | F20: 0 | G20: 0 | H20: 0 | I20: 0 | J20: 0 | K20: 0 | L20: 507 | M20: 0 | N20: 0 | O20: 0 | P20: 0 | Q20: 0
A21: 1998 平成10年 | B21: 477 | C21: 245 | D21: 150 | E21: 82 | F21: 0 | G21: 0 | H21: 0 | I21: 0 | J21: 0 | K21: 0 | L21: 477 | M21: 0 | N21: 0 | O21: 0 | P21: 0 | Q21: 0
A22: 99 11 | B22: 484 | C22: 249 | D22: 157 | E22: 78 | F22: 0 | G22: 0 | H22: 0 | I22: 0 | J22: 0 | K22: 0 | L22: 484 | M22: 0 | N22: 0 | O22: 0 | P22: 0 | Q22: 0
A23: 2000 12 | B23: 497 | C23: 249 | D23: 144 | E23: 104 | F23: 0 | G23: 0 | H23: 0 | I23: 0 | J23: 0 | K23: 0 | L23: 497 | M23: 0 | N23: 0 | O23: 0 | P23: 0 | Q23: 0
A24: 01 13 | B24: 505 | C24: 241 | D24: 170 | E24: 94 | F24: 0 | G24: 0 | H24: 0 | I24: 0 | J24: 0 | K24: 0 | L24: 505 | M24: 0 | N24: 0 | O24: 0 | P24: 0 | Q24: 0
A25: 02 14 | B25: 427 | C25: 210 | D25: 141 | E25: 76 | F25: 0 | G25: 0 | H25: 0 | I25: 0 | J25: 0 | K25: 0 | L25: 427 | M25: 0 | N25: 0 | O25: 0 | P25: 0 | Q25: 0
A26: 03 15 | B26: 434 | C26: 207 | D26: 160 | E26: 67 | F26: 0 | G26: 0 | H26: 0 | I26: 0 | J26: 0 | K26: 0 | L26: 434 | M26: 0 | N26: 0 | O26: 0 | P26: 0 | Q26: 0
A27: 04 16 | B27: 405 | C27: 224 | D27: 108 | E27: 73 | F27: 0 | G27: 0 | H27: 0 | I27: 0 | J27: 0 | K27: 0 | L27: 405 | M27: 0 | N27: 0 | O27: 0 | P27: 0 | Q27: 0
A28: 05 17 | B28: 411 | C28: 237 | D28: 107 | E28: 67 | F28: 0 | G28: 0 | H28: 0 | I28: 0 | J28: 0 | K28: 0 | L28: 411 | M28: 0 | N28: 0 | O28: 0 | P28: 0 | Q28: 0
A29: 06 18 | B29: 333 | C29: 178 | D29: 104 | E29: 51 | F29: 0 | G29: 0 | H29: 0 | I29: 0 | J29: 0 | K29: 0 | L29: 333 | M29: 0 | N29: 0 | O29: 0 | P29: 0 | Q29: 0
... A40: 17 29 | B40: 224 | C40: 89 | D40: 79 | E40: 56 | F40: 0 | G40: 0 | H40: 0 | I40: 0 | J40: 0 | K40: 0 | L40: 224 | M40: 0 | N40: 0 | O40: 0 | P40: 0 | Q40: 0
A41: 18 30 | B41: =SUM(C41:K41) -> 208 | C41: ='[3]■8-人工'!$C$8 -> 97 | D41: ='[3]■8-人工'!$D$8 -> 69 | E41: ='[3]■8-人工'!$E$8 -> 42 | F41: ='[3]■8-人工'!$F$8 -> 0 | G41: ='[3]■8-人工'!$G$8 -> 0 | H41: ='[3]■8-人工'!$H$8 -> 0 | I41: ='[3]■8-人工'!$I$8 -> 0 | J41: ='[3]■8-人工'!$J$8 -> 0 | K41: ='[3]■8-人工'!$K$8 -> 0 | L41: ='[3]■8-人工'!$L$8 -> 208 | M41: ='[3]■8-人工'!$M$8 -> 0 | N41: ='[3]■8-人工'!$N$8 -> 0 | O41: ='[3]■8-人工'!$O$8 -> 0 | P41: ='[3]■8-人工'!$P$8 -> 0 | Q41: ='[3]■8-人工'!$Q$8 -> 0
B42: 百分率
A43: 85 60 | B43: 100 | C43: 46.74221 | D43: 28.800755 | E43: 24.268178 | F43: 0.094428706 | G43: 0.094428706 | H43: 0 | I43: 0 | J43: 0 | K43: 0 | L43: =L8/$B8*100 -> 99.905571 | N43: 0.094428706 | O43: 0 | P43: 0 | Q43: 0
A44: 1986 昭和61年 | B44: 100 | C44: 45.849802 | D44: 29.44664 | E44: 24.703557 | F44: 0 | G44: 0 | H44: 0 | I44: 0 | J44: 0 | K44: 0 | L44: =L9/$B9*100 -> 100 | N44: 0 | O44: 0 | P44: 0 | Q44: 0
A45: 1987 昭和62年 | B45: 100 | C45: 47.091109 | D45: 28.869374 | E45: 24.039517 | F45: 0 | G45: 0 | H45: 0 | I45: 0 | J45: 0 | K45: 0 | L45: =L10/$B10*100 -> 100 | N45: 0 | O45: 0 | P45: 0 | Q45: 0
A46: 1988 昭和63年 | B46: 100 | C46: 47.72979 | D46: 29.23588 | E46: 23.03433 | F46: 0 | G46: 0 | H46: 0 | I46: 0 | J46: 0 | K46: 0 | L46: =L11/$B11*100 -> 100 | N46: 0 | O46: 0 | P46: 0 | Q46: 0
A47: 89 平成元年 | B47: 100 | C47: 49.0887 | D47: 29.404617 | E47: 21.506683 | F47: 0 | G47: 0 | H47: 0 | I47: 0 | J47: 0 | K47: 0 | L47: =L12/$B12*100 -> 100 | N47: 0 | O47: 0 | P47: 0 | Q47: 0
A48: 90 2 | B48: 100 | C48: 51.875 | D48: 27.5 | E48: 20.625 | F48: 0 | G48: 0 | H48: 0 | I48: 0 | J48: 0 | K48: 0 | L48: =L13/$B13*100 -> 100 | N48: 0 | O48: 0 | P48: 0 | Q48: 0
A49: 91 3 | B49: 100 | C49: 48.4375 | D49: 33.948864 | E49: 17.613636 | F49: 0 | G49: 0 | H49: 0 | I49: 0 | J49: 0 | K49: 0 | L49: =L14/$B14*100 -> 100 | N49: 0 | O49: 0 | P49: 0 | Q49: 0
A50: 92 4 | B50: 100 | C50: 45.958796 | D50: 38.510301 | E50: 15.530903 | F50: 0 | G50: 0 | H50: 0 | I50: 0 | J50: 0 | K50: 0 | L50: =L15/$B15*100 -> 100 | N50: 0 | O50: 0 | P50: 0 | Q50: 0
A51: 1993 平成5年 | B51: 100 | C51: 50.082102 | D51: 32.676519 | E51: 17.241379 | F51: 0 | G51: 0 | H51: 0 | I51: 0 | J51: 0 | K51: 0 | L51: =L16/$B16*100 -> 100 | N51: 0 | O51: 0 | P51: 0 | Q51: 0
A52: 94 6 | B52: 100 | C52: 51.371115 | D52: 34.369287 | E52: 13.893967 | F52: 0.18281536 | G52: 0.18281536 | H52: 0 | I52: 0 | J52: 0 | K52: 0 | L52: =L17/$B17*100 -> 99.817185 | N52: 0.18281536 | O52: 0 | P52: 0 | Q52: 0
A53: 95 7 | B53: 100 | C53: 47.165992 | D53: 37.854251 | E53: 14.37247 | F53: 0 | G53: 0.20242915 | H53: 0.4048583 | I53: 0 | J53: 0 | K53: 0 | L53: 99.392713 | M53: 0 | N53: 0.20242915 | O53: 0.4048583 | P53: 0 | Q53: 0
A54: 96 8 | B54: 100 | C54: 46.723044 | D54: 39.7463 | E54: 13.530655 | F54: 0 | G54: 0 | H54: 0 | I54: 0 | J54: 0 | K54: 0 | L54: 100 | M54: 0 | N54: 0 | O54: 0 | P54: 0 | Q54: 0
A55: 97 9 | B55: 100 | C55: 49.506903 | D55: 36.686391 | E55: 13.806706 | F55: 0 | G55: 0 | H55: 0 | I55: 0 | J55: 0 | K55: 0 | L55: 100 | M55: 0 | N55: 0 | O55: 0 | P55: 0 | Q55: 0
A56: 1998 平成10年 | B56: 100 | C56: 51.362683 | D56: 31.446541 | E56: 17.190776 | F56: 0 | G56: 0 | H56: 0 | I56: 0 | J56: 0 | K56: 0 | L56: 100 | M56: 0 | N56: 0 | O56: 0 | P56: 0 | Q56: 0
A57: 99 11 | B57: 100 | C57: 51.446281 | D57: 32.438017 | E57: 16.115702 | F57: 0 | G57: 0 | H57: 0 | I57: 0 | J57: 0 | K57: 0 | L57: 100 | M57: 0 | N57: 0 | O57: 0 | P57: 0 | Q57: 0
A58: 2000 12 | B58: 100 | C58: 50.100604 | D58: 28.973843 | E58: 20.925553 | F58: 0 | G58: 0 | H58: 0 | I58: 0 | J58: 0 | K58: 0 | L58: 100 | M58: 0 | N58: 0 | O58: 0 | P58: 0 | Q58: 0
A59: 01 13 | B59: 100 | C59: 47.722772 | D59: 33.663366 | E59: 18.613861 | F59: 0 | G59: 0 | H59: 0 | I59: 0 | J59: 0 | K59: 0 | L59: 100 | M59: 0 | N59: 0 | O59: 0 | P59: 0 | Q59: 0
A60: 02 14 | B60: 100 | C60: 49.180328 | D60: 33.021077 | E60: 17.798595 | F60: 0 | G60: 0 | H60: 0 | I60: 0 | J60: 0 | K60: 0 | L60: 100 | M60: 0 | N60: 0 | O60: 0 | P60: 0 | Q60: 0
A61: 03 15 | B61: 100 | C61: 47.695853 | D61: 36.866359 | E61: 15.437788 | F61: 0 | G61: 0 | H61: 0 | I61: 0 | J61: 0 | K61: 0 | L61: 100 | M61: 0 | N61: 0 | O61: 0 | P61: 0 | Q61: 0
A62: 04 16 | B62: 100 | C62: 55.308642 | D62: 26.666667 | E62: 18.024691 | F62: 0 | G62: 0 | H62: 0 | I62: 0 | J62: 0 | K62: 0 | L62: 100 | M62: 0 | N62: 0 | O62: 0 | P62: 0 | Q62: 0
A63: 05 17 | B63: 100 | C63: 57.664234 | D63: 26.034063 | E63: 16.301703 | F63: 0 | G63: 0 | H63: 0 | I63: 0 | J63: 0 | K63: 0 | L63: 100 | M63: 0 | N63: 0 | O63: 0 | P63: 0 | Q63: 0
A64: 06 18 | B64: 100 | C64: 53.453453 | D64: 31.231231 | E64: 15.315315 | F64: 0 | G64: 0 | H64: 0 | I64: 0 | J64: 0 | K64: 0 | L64: 100 | M64: 0 | N64: 0 | O64: 0 | P64: 0 | Q64: 0
A65: 07 19 | B65: 100 | C65: 51.675978 | D65: 30.726257 | E65: 17.597765 | F65: 0 | G65: 0 | H65: 0 | I65: 0 | J65: 0 | K65: 0 | L65: 100 | M65: 0 | N65: 0 | O65: 0 | P65: 0 | Q65: 0
A66: 08 20 | B66: =SUM(C66:K66) -> 100 | C66: =C31/$B31*100 -> 50.980392 | D66: =D31/$B31*100 -> 29.411765 | E66: =E31/$B31*100 -> 19.607843 | F66: =F31/$B31*100 -> 0 | G66: =G31/$B31*100 -> 0 | H66: =H31/$B31*100 -> 0 | I66: =I31/$B31*100 -> 0 | J66: =J31/$B31*100 -> 0 | ... Q66: =Q31/$B31*100 -> 0
A67: 09 21 | B67: 100 | C67: 51.535836 | D67: 27.303754 | E67: 20.819113 | F67: 0.34129693 | G67: 0 | H67: 0 | I67: 0 | J67: 0 | K67: 0 | L67: 99.658703 | M67: 0.34129693 | N67: 0 | O67: 0 | P67: 0 | Q67: 0
A68: 10 22 | B68: =SUM(C68:K68) -> 100 | C68: =C33/$B33*100 -> 50.367647 | D68: =D33/$B33*100 -> 28.308824 | E68: =E33/$B33*100 -> 21.323529 | F68: =F33/$B33*100 -> 0 | G68: =G33/$B33*100 -> 0 | H68: =H33/$B33*100 -> 0 | I68: =I33/$B33*100 -> 0 | J68: =J33/$B33*100 -> 0 | ... Q68: =Q33/$B33*100 -> 0
A69: 11 23 | B69: 100 | C69: 50.961538 | D69: 30.448718 | E69: 18.589744 | F69: 0 | G69: 0 | H69: 0 | I69: 0 | J69: 0 | K69: 0 | L69: 100 | M69: 0 | N69: 0 | O69: 0 | P69: 0 | Q69: 0
A70: 12 24 | B70: 100 | C70: 50 | D70: 32.706767 | E70: 17.293233 | F70: 0 | G70: 0 | H70: 0 | I70: 0 | J70: 0 | K70: 0 | L70: 100 | M70: 0 | N70: 0 | O70: 0 | P70: 0 | Q70: 0
A71: 13 25 | B71: 100 | C71: 52.145215 | D71: 29.372937 | E71: 18.481848 | F71: 0 | G71: 0 | H71: 0 | I71: 0 | J71: 0 | K71: 0 | L71: 100 | M71: 0 | N71: 0 | O71: 0 | P71: 0 | Q71: 0
A72: 14 26 | B72: 100 | C72: 51.181102 | D72: 30.708661 | E72: 18.110236 | F72: 0 | G72: 0 | H72: 0 | I72: 0 | J72: 0 | K72: 0 | L72: 100 | M72: 0 | N72: 0 | O72: 0 | P72: 0 | Q72: 0
A73: 15 27 | B73: 100 | C73: 46.616541 | D73: 31.203008 | E73: 22.180451 | F73: 0 | G73: 0 | H73: 0 | I73: 0 | J73: 0 | K73: 0 | L73: 100 | M73: 0 | N73: 0 | O73: 0 | P73: 0 | Q73: 0
A74: 16 28 | B74: 100 | C74: 43.2 | D74: 31.2 | E74: 22.2 | F74: 0 | G74: 0 | H74: 0 | I74: 0 | J74: 0 | K74: 0 | L74: 100 | M74: 0 | N74: 0 | O74: 0 | P74: 0 | Q74: 0
A75: 17 29 | B75: 100 | C75: 39.732143 | D75: 35.267857 | E75: 25 | F75: 0 | G75: 0 | H75: 0 | I75: 0 | J75: 0 | K75: 0 | L75: 100 | M75: 0 | N75: 0 | O75: 0 | P75: 0 | Q75: 0
A76: 18 30 | B76: =SUM(C76:K76) -> 100 | C76: =C41/$B41*100 -> 46.634615 | D76: =D41/$B41*100 -> 33.173077 | E76: =E41/$B41*100 -> 20.192308 | F76: =F41/$B41*100 -> 0 | G76: =G41/$B41*100 -> 0 | H76: =H41/$B41*100 -> 0 | I76: =I41/$B41*100 -> 0 | J76: =J41/$B41*100 -> 0 | ... Q76: =Q41/$B41*100 -> 0
A77: 1) 満28週未満

Sheet 9　妊娠期間・自然－人工別，死産原因別死産数
A1: 9 自然－人工・妊娠期間別にみた死産原因別死産数
R2: ='4 月・自然-人工別，区別死産数'!$N$2 -> 平成30年
A3: 死 因 基 本 分類コード | C3: 死産原因 | D3: 総数 | E3: 満12～ 15週 | F3: １6～１9週 | G3: 20～23週 | H3: 24～27週 | I3: 28～31週 | J3: 32～35週 | K3: 36～39週 | L3: 40週～ | M3: 不 詳 | N3: (再 掲）
N4: 早 期 (満37週未満) | R4: 正期 | S4: 過期
N5: 22週未満 | O5: 22～27週 | P5: 28～31週 | Q5: 32～36週 | R5: 37～41週 | S5: 42週～
C6: 総 数 | D6: =SUM(D8,D53) -> 346 | E6: =SUM(E8,E53) -> 137 | F6: =SUM(F8,F53) -> 114 | G6: =SUM(G8,G53) -> 69 | H6: =SUM(H8,H53) -> 7 | I6: =SUM(I8,I53) -> 5 | J6: =SUM(J8,J53) -> 7 | K6: =SUM(K8,K53) -> 6 | ... S6: =SUM(S8,S53) -> 0
C8: 自 然 死 産 | D8: =SUM(D9,D25,D37:D51) -> 138 | E8: =SUM(E9,E25,E37:E51) -> 40 | F8: =SUM(F9,F25,F37:F51) -> 45 | G8: =SUM(G9,G25,G37:G51) -> 27 | H8: =SUM(H9,H25,H37:H51) -> 7 | I8: =SUM(I9,I25,I37:I51) -> 5 | J8: =SUM(J9,J25,J37:J51) -> 7 | K8: =SUM(K9,K25,K37:K51) -> 6 | ... S8: =SUM(S9,S25,S37:S51) -> 0
A9: ⅩⅥ | C9: 周産期に発生した病態 | D9: =SUM(D10,D16:D24) -> 127 | E9: =SUM(E10,E16:E24) -> 38 | F9: =SUM(F10,F16:F24) -> 41 | G9: =SUM(G10,G16:G24) -> 24 | H9: =SUM(H10,H16:H24) -> 7 | I9: =SUM(I10,I16:I24) -> 5 | J9: =SUM(J10,J16:J24) -> 6 | K9: =SUM(K10,K16:K24) -> 5 | ... S9: =SUM(S10,S16:S24) -> 0
A10: Ｐ00-Ｐ04 | C10: 母体側要因並びに妊娠及び分娩の合併症により影響を受けた胎児及び新生児 | D10: =SUM(E10:M10) -> 77 | E10: =SUM(E11:E15) -> 14 | F10: =SUM(F11:F15) -> 28 | G10: =SUM(G11:G15) -> 19 | H10: =SUM(H11:H15) -> 6 | I10: =SUM(I11:I15) -> 3 | J10: =SUM(J11:J15) -> 3 | K10: =SUM(K11:K15) -> 3 | L10: =SUM(L11:L15) -> 0 | ... S10: =SUM(S11:S15) -> 0
A11: (再掲) | B11: P00 | C11: 現在の妊娠とは無関係の場合もありうる母体の病態により影響を受けた胎児及び新生児 | D11: =SUM(E11:M11) -> 43 | E11: 8 | F11: 14 | G11: 9 | H11: 5 | I11: 2 | J11: 3 | K11: 1 | L11: 0 | M11: 1 | N11: 28 | O11: 8 | P11: 2 | Q11: 3 | R11: 1 | S11: 0
B12: P01 | C12: 母体の妊娠合併症により影響を受けた胎児及び新生児 | D12: =SUM(E12:M12) -> 20 | E12: 4 | F12: 10 | G12: 5 | H12: 1 | I12: 0 | J12: 0 | K12: 0 | L12: 0 | M12: 0 | N12: 17 | O12: 3 | P12: 0 | Q12: 0 | R12: 0 | S12: 0
B13: P02 | C13: 胎盤、臍帯及び卵膜の合併症により影響を受けた胎児及び新生児 | D13: =SUM(E13:M13) -> 12 | E13: 2 | F13: 4 | G13: 4 | H13: 0 | I13: 1 | J13: 0 | K13: 1 | L13: 0 | M13: 0 | N13: 10 | O13: 0 | P13: 1 | Q13: 0 | R13: 1 | S13: 0
B14: P03 | C14: その他の分娩合併症により影響を受けた胎児及び新生児 | D14: =SUM(E14:M14) -> 2 | E14: 0 | F14: 0 | G14: 1 | H14: 0 | I14: 0 | J14: 0 | K14: 1 | L14: 0 | M14: 0 | N14: 1 | O14: 0 | P14: 0 | Q14: 0 | R14: 1 | S14: 0
B15: P04 | C15: 胎盤又は母乳を介して有害な影響を受けた胎児及び新生児 | D15: =SUM(E15:M15) -> 0 | E15: 0 | F15: 0 | G15: 0 | H15: 0 | I15: 0 | J15: 0 | K15: 0 | L15: 0 | M15: 0 | N15: 0 | O15: 0 | P15: 0 | Q15: 0 | R15: 0 | S15: 0
A16: Ｐ05-Ｐ08 | C16: 妊娠期間及び胎児発育に関連する障害 | D16: =SUM(E16:M16) -> 0 | E16: 0 | F16: 0 | G16: 0 | H16: 0 | I16: 0 | J16: 0 | K16: 0 | L16: 0 | M16: 0 | N16: 0 | O16: 0 | P16: 0 | Q16: 0 | R16: 0 | S16: 0
A17: Ｐ10-Ｐ15 | C17: 出 産 外 傷 | D17: =SUM(E17:M17) -> 0 | E17: 0 | F17: 0 | G17: 0 | H17: 0 | I17: 0 | J17: 0 | K17: 0 | L17: 0 | M17: 0 | N17: 0 | O17: 0 | P17: 0 | Q17: 0 | R17: 0 | S17: 0
A18: Ｐ20-Ｐ29 | C18: 周産期に特異的な呼吸障害及び心血管障害 | D18: =SUM(E18:M18) -> 1 | E18: 0 | F18: 0 | G18: 0 | H18: 0 | I18: 1 | J18: 0 | K18: 0 | L18: 0 | M18: 0 | N18: 0 | O18: 0 | P18: 1 | Q18: 0 | R18: 0 | S18: 0
A19: Ｐ35-Ｐ39 | C19: 周産期に特異的な感染症 | D19: =SUM(E19:M19) -> 0 | E19: 0 | F19: 0 | G19: 0 | H19: 0 | I19: 0 | J19: 0 | K19: 0 | L19: 0 | M19: 0 | N19: 0 | O19: 0 | P19: 0 | Q19: 0 | R19: 0 | S19: 0
A20: Ｐ50-Ｐ61 | C20: 胎児及び新生児の出血性障害及び血液障害 | D20: =SUM(E20:M20) -> 2 | E20: 0 | F20: 0 | G20: 1 | H20: 0 | I20: 0 | J20: 1 | K20: 0 | L20: 0 | M20: 0 | N20: 0 | O20: 1 | P20: 0 | Q20: 1 | R20: 0 | S20: 0
A21: Ｐ70-Ｐ74 | C21: 胎児及び新生児に特異的な一過性の内分泌障害及び代謝障害 | D21: =SUM(E21:M21) -> 0 | E21: 0 | F21: 0 | G21: 0 | H21: 0 | I21: 0 | J21: 0 | K21: 0 | L21: 0 | M21: 0 | N21: 0 | O21: 0 | P21: 0 | Q21: 0 | R21: 0 | S21: 0
A22: Ｐ76-Ｐ78 | C22: 胎児及び新生児の消化器系障害 | D22: =SUM(E22:M22) -> 0 | E22: 0 | F22: 0 | G22: 0 | H22: 0 | I22: 0 | J22: 0 | K22: 0 | L22: 0 | M22: 0 | N22: 0 | O22: 0 | P22: 0 | Q22: 0 | R22: 0 | S22: 0
A23: Ｐ80-Ｐ83 | C23: 胎児及び新生児の外皮及び体温調節に関連する病態 | D23: =SUM(E23:M23) -> 6 | E23: 4 | F23: 2 | G23: 0 | H23: 0 | I23: 0 | J23: 0 | K23: 0 | L23: 0 | M23: 0 | N23: 6 | O23: 0 | P23: 0 | Q23: 0 | R23: 0 | S23: 0
A24: Ｐ90-Ｐ96 | C24: 周産期に発生したその他の障害 | D24: =SUM(E24:M24) -> 41 | E24: 20 | F24: 11 | G24: 4 | H24: 1 | I24: 1 | J24: 2 | K24: 2 | L24: 0 | M24: 0 | N24: 34 | O24: 2 | P24: 1 | Q24: 3 | R24: 1 | S24: 0
A25: ⅩⅦ | C25: 先天奇形、変形及び染色体異常 | D25: =SUM(E25:M25) -> 11 | E25: =SUM(E26:E36) -> 2 | F25: =SUM(F26:F36) -> 4 | G25: =SUM(G26:G36) -> 3 | H25: =SUM(H26:H36) -> 0 | I25: =SUM(I26:I36) -> 0 | J25: =SUM(J26:J36) -> 1 | K25: =SUM(K26:K36) -> 1 | L25: =SUM(L26:L36) -> 0 | ... S25: =SUM(S26:S36) -> 0
A26: Q00-Q07 | C26: 神経系の先天奇形 | D26: =SUM(E26:M26) -> 0 | E26: 0 | F26: 0 | G26: 0 | H26: 0 | I26: 0 | J26: 0 | K26: 0 | L26: 0 | M26: 0 | N26: 0 | O26: 0 | P26: 0 | Q26: 0 | R26: 0 | S26: 0
A27: Q10-Q18 | C27: 眼、耳、顔面及び頚部の先天奇形 | D27: =SUM(E27:M27) -> 0 | E27: 0 | F27: 0 | G27: 0 | H27: 0 | I27: 0 | J27: 0 | K27: 0 | L27: 0 | M27: 0 | N27: 0 | O27: 0 | P27: 0 | Q27: 0 | R27: 0 | S27: 0
A28: Q20-Q28 | C28: 循環器系の先天奇形 | D28: =SUM(E28:M28) -> 1 | E28: 0 | F28: 0 | G28: 0 | H28: 0 | I28: 0 | J28: 1 | K28: 0 | L28: 0 | M28: 0 | N28: 0 | O28: 0 | P28: 0 | Q28: 1 | R28: 0 | S28: 0
A29: Q30-Q34 | C29: 呼吸器系の先天奇形 | D29: =SUM(E29:M29) -> 1 | E29: 0 | F29: 0 | G29: 1 | H29: 0 | I29: 0 | J29: 0 | K29: 0 | L29: 0 | M29: 0 | N29: 1 | O29: 0 | P29: 0 | Q29: 0 | R29: 0 | S29: 0
A30: Q35-Q37 | C30: 唇裂及び口蓋裂 | D30: =SUM(E30:M30) -> 0 | E30: 0 | F30: 0 | G30: 0 | H30: 0 | I30: 0 | J30: 0 | K30: 0 | L30: 0 | M30: 0 | N30: 0 | O30: 0 | P30: 0 | Q30: 0 | R30: 0 | S30: 0
A31: Q38-Q45 | C31: 消化器系のその他の先天奇形 | D31: =SUM(E31:M31) -> 0 | E31: 0 | F31: 0 | G31: 0 | H31: 0 | I31: 0 | J31: 0 | K31: 0 | L31: 0 | M31: 0 | N31: 0 | O31: 0 | P31: 0 | Q31: 0 | R31: 0 | S31: 0
A32: Q50-Q56 | C32: 性器の先天奇形 | D32: =SUM(E32:M32) -> 0 | E32: 0 | F32: 0 | G32: 0 | H32: 0 | I32: 0 | J32: 0 | K32: 0 | L32: 0 | M32: 0 | N32: 0 | O32: 0 | P32: 0 | Q32: 0 | R32: 0 | S32: 0
A33: Q60-Q64 | C33: 尿路系の先天奇形 | D33: =SUM(E33:M33) -> 0 | E33: 0 | F33: 0 | G33: 0 | H33: 0 | I33: 0 | J33: 0 | K33: 0 | L33: 0 | M33: 0 | N33: 0 | O33: 0 | P33: 0 | Q33: 0 | R33: 0 | S33: 0
A34: Q65-Q79 | C34: 筋骨格系の先天奇形及び変形 | D34: =SUM(E34:M34) -> 2 | E34: 1 | F34: 1 | G34: 0 | H34: 0 | I34: 0 | J34: 0 | K34: 0 | L34: 0 | M34: 0 | N34: 2 | O34: 0 | P34: 0 | Q34: 0 | R34: 0 | S34: 0
A35: Q80-Q89 | C35: その他の先天奇形 | D35: =SUM(E35:M35) -> 2 | E35: 1 | F35: 1 | G35: 0 | H35: 0 | I35: 0 | J35: 0 | K35: 0 | L35: 0 | M35: 0 | N35: 2 | O35: 0 | P35: 0 | Q35: 0 | R35: 0 | S35: 0
A36: Q90-Q99 | C36: 染色体異常、その他に分類されないもの | D36: =SUM(E36:M36) -> 5 | E36: 0 | F36: 2 | G36: 2 | H36: 0 | I36: 0 | J36: 0 | K36: 1 | L36: 0 | M36: 0 | N36: 4 | O36: 0 | P36: 0 | Q36: 0 | R36: 1 | S36: 0
A37: Ⅰ | C37: 感染症及び寄生虫症 | D37: =SUM(E37:M37) -> 0 | E37: 0 | F37: 0 | G37: 0 | H37: 0 | I37: 0 | J37: 0 | K37: 0 | L37: 0 | M37: 0 | N37: 0 | O37: 0 | P37: 0 | Q37: 0 | R37: 0 | S37: 0
... A51: ⅩⅧ | C51: 症状、微候及び異常臨床所見・異常検査所見で他に分類されないもの | D51: =SUM(E51:M51) -> 0 | E51: 0 | F51: 0 | G51: 0 | H51: 0 | I51: 0 | J51: 0 | K51: 0 | L51: 0 | M51: 0 | N51: 0 | O51: 0 | P51: 0 | Q51: 0 | R51: 0 | S51: 0
C53: 人 工 死 産 | D53: =SUM(D54,D60) -> 208 | E53: =SUM(E54,E60) -> 97 | F53: =SUM(F54,F60) -> 69 | G53: =SUM(G54,G60) -> 42 | H53: =SUM(H54,H60) -> 0 | I53: =SUM(I54,I60) -> 0 | J53: =SUM(J54,J60) -> 0 | K53: =SUM(K54,K60) -> 0 | ... S53: =SUM(S54,S60) -> 0
A54: P00-P04 | C54: 母体側要因並びに妊娠及び分娩の合併症により影響を受けた胎児及び新生児 | D54: =SUM(E54:M54) -> 77 | E54: =SUM(E55:E59) -> 34 | F54: =SUM(F55:F59) -> 24 | G54: =SUM(G55:G59) -> 19 | H54: =SUM(H55:H59) -> 0 | I54: =SUM(I55:I59) -> 0 | J54: =SUM(J55:J59) -> 0 | K54: =SUM(K55:K59) -> 0 | L54: =SUM(L55:L59) -> 0 | ... S54: =SUM(S55:S59) -> 0
A55: (再掲) | B55: P00 | C55: 現在の妊娠とは無関係の場合もありうる母体の病態により影響を受けた胎児及び新生児 | D55: =SUM(E55:M55) -> 73 | E55: 32 | F55: 23 | G55: 18 | H55: 0 | I55: 0 | J55: 0 | K55: 0 | L55: 0 | M55: 0 | N55: 73 | O55: 0 | P55: 0 | Q55: 0 | R55: 0 | S55: 0
B56: P01 | C56: 母体の妊娠合併症により影響を受けた胎児及び新生児 | D56: =SUM(E56:M56) -> 3 | E56: 2 | F56: 0 | G56: 1 | H56: 0 | I56: 0 | J56: 0 | K56: 0 | L56: 0 | M56: 0 | N56: 3 | O56: 0 | P56: 0 | Q56: 0 | R56: 0 | S56: 0
B57: P02 | C57: 胎盤、臍帯及び卵膜の合併症により影響を受けた胎児及び新生児 | D57: =SUM(E57:M57) -> 0 | E57: 0 | F57: 0 | G57: 0 | H57: 0 | I57: 0 | J57: 0 | K57: 0 | L57: 0 | M57: 0 | N57: 0 | O57: 0 | P57: 0 | Q57: 0 | R57: 0 | S57: 0
B58: P03 | C58: その他の分娩合併症により影響を受けた胎児及び新生児 | D58: =SUM(E58:M58) -> 1 | E58: 0 | F58: 1 | G58: 0 | H58: 0 | I58: 0 | J58: 0 | K58: 0 | L58: 0 | M58: 0 | N58: 1 | O58: 0 | P58: 0 | Q58: 0 | R58: 0 | S58: 0
B59: P04 | C59: 胎盤又は母乳を介して有害な影響を受けた胎児及び新生児 | D59: =SUM(E59:M59) -> 0 | E59: 0 | F59: 0 | G59: 0 | H59: 0 | I59: 0 | J59: 0 | K59: 0 | L59: 0 | M59: 0 | N59: 0 | O59: 0 | P59: 0 | Q59: 0 | R59: 0 | S59: 0
A60: P97 | C60: 母体保護法による人工妊娠中絶、母体の病態によらないもの | D60: =SUM(E60:M60) -> 131 | E60: 63 | F60: 45 | G60: 23 | H60: 0 | I60: 0 | J60: 0 | K60: 0 | L60: 0 | M60: 0 | N60: 131 | O60: 0 | P60: 0 | Q60: 0 | R60: 0 | S60: 0

Sheet 7　自然－人工・嫡出子－非摘出子別，区別死産数・百分率
A1: ７ 自然－人工・嫡出子-嫡出でない子別にみた区別死産数及び百分率
A3: 区 | B3: 総 数 | E3: 自 然 死 産 | H3: 人 工 死 産
B4: 総 数 | C4: 嫡出子 | D4: 嫡出でない子 | E4: 総 数 | F4: 嫡出子 | G4: 嫡出でない子 | H4: 総 数 | I4: 嫡出子 | J4: 嫡出でない子
B5: 死産数
A6: 総数 | B6: =SUM(E6,H6) -> 0 | C6: =SUM(F6,I6) -> 0 | D6: =SUM(G6,J6) -> 0 | E6: =SUM(F6:G6) -> 0 | F6: =SUM(F7:F16) -> 0 | G6: =SUM(G7:G16) -> 0 | H6: =SUM(I6:J6) -> 0 | I6: =SUM(I7:I16) -> 0 | J6: =SUM(J7:J16) -> 0
A7: 中央 | B7: =SUM(E7,H7) -> 0 | C7: =SUM(F7,I7) -> 0 | D7: =SUM(G7,J7) -> 0 | E7: =SUM(F7:G7) -> 0 | H7: =SUM(I7:J7) -> 0
A8: 北 | B8: =SUM(E8,H8) -> 0 | C8: =SUM(F8,I8) -> 0 | D8: =SUM(G8,J8) -> 0 | E8: =SUM(F8:G8) -> 0 | H8: =SUM(I8:J8) -> 0
A9: 東 | B9: =SUM(E9,H9) -> 0 | C9: =SUM(F9,I9) -> 0 | D9: =SUM(G9,J9) -> 0 | E9: =SUM(F9:G9) -> 0 | H9: =SUM(I9:J9) -> 0
A10: 白石 | B10: =SUM(E10,H10) -> 0 | C10: =SUM(F10,I10) -> 0 | D10: =SUM(G10,J10) -> 0 | E10: =SUM(F10:G10) -> 0 | H10: =SUM(I10:J10) -> 0
A11: 厚別 | B11: =SUM(E11,H11) -> 0 | C11: =SUM(F11,I11) -> 0 | D11: =SUM(G11,J11) -> 0 | E11: =SUM(F11:G11) -> 0 | H11: =SUM(I11:J11) -> 0
A12: 豊平 | B12: =SUM(E12,H12) -> 0 | C12: =SUM(F12,I12) -> 0 | D12: =SUM(G12,J12) -> 0 | E12: =SUM(F12:G12) -> 0 | H12: =SUM(I12:J12) -> 0
A13: 清田 | B13: =SUM(E13,H13) -> 0 | C13: =SUM(F13,I13) -> 0 | D13: =SUM(G13,J13) -> 0 | E13: =SUM(F13:G13) -> 0 | H13: =SUM(I13:J13) -> 0
A14: 南 | B14: =SUM(E14,H14) -> 0 | C14: =SUM(F14,I14) -> 0 | D14: =SUM(G14,J14) -> 0 | E14: =SUM(F14:G14) -> 0 | H14: =SUM(I14:J14) -> 0
A15: 西 | B15: =SUM(E15,H15) -> 0 | C15: =SUM(F15,I15) -> 0 | D15: =SUM(G15,J15) -> 0 | E15: =SUM(F15:G15) -> 0 | H15: =SUM(I15:J15) -> 0
A16: 手稲 | B16: =SUM(E16,H16) -> 0 | C16: =SUM(F16,I16) -> 0 | D16: =SUM(G16,J16) -> 0 | E16: =SUM(F16:G16) -> 0 | H16: =SUM(I16:J16) -> 0
B17: 百分率
A18: 総数 | B18: =SUM(C18:D18) -> #DIV/0! | C18: =C6/$B6*100 -> #DIV/0! | D18: =D6/$B6*100 -> #DIV/0! | E18: =E6/$B6*100 -> #DIV/0! | F18: =F6/$B6*100 -> #DIV/0! | G18: =G6/$B6*100 -> #DIV/0! | H18: =H6/$B6*100 -> #DIV/0! | I18: =I6/$B6*100 -> #DIV/0! | J18: =J6/$B6*100 -> #DIV/0!
A19: 中央 | B19: =SUM(C19:D19) -> #DIV/0! | C19: =C7/$B7*100 -> #DIV/0! | D19: =D7/$B7*100 -> #DIV/0! | E19: =E7/$B7*100 -> #DIV/0! | F19: =F7/$B7*100 -> #DIV/0! | G19: =G7/$B7*100 -> #DIV/0! | H19: =H7/$B7*100 -> #DIV/0! | I19: =I7/$B7*100 -> #DIV/0! | J19: =J7/$B7*100 -> #DIV/0!
A20: 北 | B20: =SUM(C20:D20) -> #DIV/0! | C20: =C8/$B8*100 -> #DIV/0! | D20: =D8/$B8*100 -> #DIV/0! | E20: =E8/$B8*100 -> #DIV/0! | F20: =F8/$B8*100 -> #DIV/0! | G20: =G8/$B8*100 -> #DIV/0! | H20: =H8/$B8*100 -> #DIV/0! | I20: =I8/$B8*100 -> #DIV/0! | J20: =J8/$B8*100 -> #DIV/0!
A21: 東 | B21: =SUM(C21:D21) -> #DIV/0! | C21: =C9/$B9*100 -> #DIV/0! | D21: =D9/$B9*100 -> #DIV/0! | E21: =E9/$B9*100 -> #DIV/0! | F21: =F9/$B9*100 -> #DIV/0! | G21: =G9/$B9*100 -> #DIV/0! | H21: =H9/$B9*100 -> #DIV/0! | I21: =I9/$B9*100 -> #DIV/0! | J21: =J9/$B9*100 -> #DIV/0!
A22: 白石 | B22: =SUM(C22:D22) -> #DIV/0! | C22: =C10/$B10*100 -> #DIV/0! | D22: =D10/$B10*100 -> #DIV/0! | E22: =E10/$B10*100 -> #DIV/0! | F22: =F10/$B10*100 -> #DIV/0! | G22: =G10/$B10*100 -> #DIV/0! | H22: =H10/$B10*100 -> #DIV/0! | I22: =I10/$B10*100 -> #DIV/0! | J22: =J10/$B10*100 -> #DIV/0!
A23: 厚別 | B23: =SUM(C23:D23) -> #DIV/0! | C23: =C11/$B11*100 -> #DIV/0! | D23: =D11/$B11*100 -> #DIV/0! | E23: =E11/$B11*100 -> #DIV/0! | F23: =F11/$B11*100 -> #DIV/0! | G23: =G11/$B11*100 -> #DIV/0! | H23: =H11/$B11*100 -> #DIV/0! | I23: =I11/$B11*100 -> #DIV/0! | J23: =J11/$B11*100 -> #DIV/0!
A24: 豊平 | B24: =SUM(C24:D24) -> #DIV/0! | C24: =C12/$B12*100 -> #DIV/0! | D24: =D12/$B12*100 -> #DIV/0! | E24: =E12/$B12*100 -> #DIV/0! | F24: =F12/$B12*100 -> #DIV/0! | G24: =G12/$B12*100 -> #DIV/0! | H24: =H12/$B12*100 -> #DIV/0! | I24: =I12/$B12*100 -> #DIV/0! | J24: =J12/$B12*100 -> #DIV/0!
A25: 清田 | B25: =SUM(C25:D25) -> #DIV/0! | C25: =C13/$B13*100 -> #DIV/0! | D25: =D13/$B13*100 -> #DIV/0! | E25: =E13/$B13*100 -> #DIV/0! | F25: =F13/$B13*100 -> #DIV/0! | G25: =G13/$B13*100 -> #DIV/0! | H25: =H13/$B13*100 -> #DIV/0! | I25: =I13/$B13*100 -> #DIV/0! | J25: =J13/$B13*100 -> #DIV/0!
A26: 南 | B26: =SUM(C26:D26) -> #DIV/0! | C26: =C14/$B14*100 -> #DIV/0! | D26: =D14/$B14*100 -> #DIV/0! | E26: =E14/$B14*100 -> #DIV/0! | F26: =F14/$B14*100 -> #DIV/0! | G26: =G14/$B14*100 -> #DIV/0! | H26: =H14/$B14*100 -> #DIV/0! | I26: =I14/$B14*100 -> #DIV/0! | J26: =J14/$B14*100 -> #DIV/0!
A27: 西 | B27: =SUM(C27:D27) -> #DIV/0! | C27: =C15/$B15*100 -> #DIV/0! | D27: =D15/$B15*100 -> #DIV/0! | E27: =E15/$B15*100 -> #DIV/0! | F27: =F15/$B15*100 -> #DIV/0! | G27: =G15/$B15*100 -> #DIV/0! | H27: =H15/$B15*100 -> #DIV/0! | I27: =I15/$B15*100 -> #DIV/0! | J27: =J15/$B15*100 -> #DIV/0!
A28: 手稲 | B28: =SUM(C28:D28) -> #DIV/0! | C28: =C16/$B16*100 -> #DIV/0! | D28: =D16/$B16*100 -> #DIV/0! | E28: =E16/$B16*100 -> #DIV/0! | F28: =F16/$B16*100 -> #DIV/0! | G28: =G16/$B16*100 -> #DIV/0! | H28: =H16/$B16*100 -> #DIV/0! | I28: =I16/$B16*100 -> #DIV/0! | J28: =J16/$B16*100 -> #DIV/0!
