Workbook

Sheet 1 年次別，死産数・死産率・死産性比
A1: 第5章 死 産
A2: 1 年次別にみた死産数・死産率（出産千対）及び死産性比
A4: 年 次 | B4: 出生数 | C4: 死産数 | G4: 死産率 | H4: 死産性比
C5: 総数 | D5: 男 | E5: 女 | F5: 不詳
A6: 1950 昭和25年 | B6: 8178 | C6: 1394 | D6: … | E6: … | F6: … | G6: 145.6331 | H6: …
A7: 55 30 | B7: 7551 | C7: 1091 | D7: … | E7: … | F7: … | G7: 126.24393 | H7: …
A8: 60 35 | B8: 9392 | C8: 1501 | D8: 805 | E8: 573 | F8: 123 | G8: 137.79491 | H8: 140.48866
A9: 65 40 | B9: 16370 | C9: 2122 | D9: … | E9: … | F9: … | G9: 114.75233 | H9: …
A10: 70 45 | B10: 20411 | C10: 2081 | D10: … | E10: … | F10: … | G10: 92.521786 | H10: …
A11: 72 47 | B11: 22017 | C11: 1928 | D11: … | E11: … | F11: … | G11: 80.517853 | H11: …
A12: 73 48 | B12: 23759 | C12: 2080 | D12: 866 | E12: 570 | F12: 644 | G12: 80.498471 | H12: 151.92982
A13: 74 49 | B13: 24525 | C13: 2024 | D13: 791 | E13: 522 | F13: 711 | G13: 76.236393 | H13: 151.53257
A14: 75 50 | B14: 23404 | C14: 1940 | D14: 787 | E14: 494 | F14: 659 | G14: 76.546717 | H14: 159.31174
A15: 76 51 | B15: 22910 | C15: 1981 | D15: 732 | E15: 494 | F15: 755 | G15: 79.586999 | H15: 148.17814
A16: 77 52 | B16: 22286 | C16: 1835 | D16: 651 | E16: 462 | F16: 722 | G16: 76.07479 | H16: 140.90909
A17: 78 53 | B17: 22251 | C17: 1755 | D17: 656 | E17: 416 | F17: 683 | G17: 73.106723 | H17: 157.69231
A18: 79 54 | B18: 21577 | C18: 1675 | D18: 634 | E18: 401 | F18: 640 | G18: 72.036814 | H18: 158.10474
A19: 80 55 | B19: 20931 | C19: 1566 | D19: 606 | E19: 391 | F19: 569 | G19: 69.609281 | H19: 154.98721
A20: 81 56 | B20: 19944 | C20: 1523 | D20: 582 | E20: 371 | F20: 570 | G20: 70.946103 | H20: 156.87332
A21: 82 57 | B21: 20727 | C21: 1534 | D21: 566 | E21: 377 | F21: 591 | G21: 68.909752 | H21: 150.13263
A22: 83 58 | B22: 20608 | C22: 1451 | D22: 544 | E22: 348 | F22: 559 | G22: 65.77814 | H22: 156.32184
A23: 84 59 | B23: 20274 | C23: 1576 | D23: 659 | E23: 368 | F23: 549 | G23: 72.128146 | H23: 179.07609
... A46: 07 19 | B46: 14498 | C46: 557 | D46: 241 | E46: 104 | F46: 212 | G46: 36.997675 | H46: 231.73077
A47: 08 20 | B47: =[1]出生数!$B45 -> 14845 | C47: =SUM(D47:F47) -> 496 | D47: 210 | E47: 104 | F47: 182 | G47: =C47/(B47+C47)*1000 -> 32.33166 | H47: =D47/E47*100 -> 201.92308
A48: 09 21 | B48: 14506 | C48: 468 | D48: 199 | E48: 87 | F48: 182 | G48: 31.254174 | H48: 228.73563
A49: 10 22 | B49: 14739 | C49: =SUM(D49:F49) -> 443 | D49: 199 | E49: 98 | F49: 146 | G49: =C49/(B49+C49)*1000 -> 29.179291 | H49: =D49/E49*100 -> 203.06122
A50: 11 23 | B50: 14491 | C50: 504 | D50: 251 | E50: 80 | F50: 173 | G50: 33.611204 | H50: 313.75
A51: 12 24 | B51: 14487 | C51: 446 | D51: 195 | E51: 95 | F51: 156 | G51: 29.866738 | H51: 205.26316
A52: 13 25 | B52: 14591 | C52: 448 | D52: 204 | E52: 78 | F52: 166 | G52: 29.789215 | H52: 261.53846
A53: 14 26 | B53: 14568 | C53: 430 | D53: 182 | E53: 84 | F53: 164 | G53: 28.670489 | H53: 216.66667
A54: 15 27 | B54: 14589 | C54: 426 | D54: 188 | E54: 74 | F54: 164 | G54: 28.371628 | H54: 254.05405
A55: 16 28 | B55: 14021 | C55: 344 | D55: 167 | E55: 70 | F55: 107 | G55: 23.947094 | H55: 238.57143
A56: 17 29 | B56: 13821 | C56: 402 | D56: 190 | E56: 87 | F56: 125 | G56: 28.264079 | H56: 218.3908
A57: 18 30 | B57: ='[2]3 月・性別，区別出生数・出生率'!$C$5 -> 13248 | C57: =SUM(D57:F57) -> 346 | D57: ='[3]■1 年次別，死産数・死産率・死産性比'!$D$6 -> 166 | E57: ='[3]■1 年次別，死産数・死産率・死産性比'!$E$6 -> 76 | F57: ='[3]■1 年次別，死産数・死産率・死産性比'!$F$6 -> 104 | G57: =C57/(B57+C57)*1000 -> 25.452405 | H57: =D57/E57*100 -> 218.42105
A58: 1) 本市の集計による。

Sheet 2 年次別・自然－人工別，死産数・死産率・割合
A1: 2 年次別にみた自然-人工別死産数・死産率（出産千対）及び全死産中人工死産の占める割合
A3: 年 次 | B3: 死産数 | E3: 死産率 | H3: 全死産中人工 死産の占める 割合 (％)
B4: 総数 | C4: 自然死産 | D4: 人工死産 | E4: 総数 | F4: 自然死産 | G4: 人工死産
A5: 1950 昭和25年 | B5: 1394 | C5: … | D5: … | E5: 145.6331 | F5: ・ | G5: ・ | H5: ・
A6: 55 30 | B6: 1091 | C6: 320 | D6: 771 | E6: 126.24393 | F6: 37.028466 | G6: 89.215459 | H6: 70.669111
A7: 60 35 | B7: 1501 | C7: 479 | D7: 1022 | E7: 137.79491 | F7: 43.973194 | G7: 93.82172 | H7: 68.087941
A8: 65 40 | B8: 2122 | C8: 782 | D8: 1340 | E8: 114.75233 | F8: 42.288557 | G8: 72.463768 | H8: 63.147974
A9: 70 45 | B9: 2081 | C9: 924 | D9: 1157 | E9: 92.521786 | F9: 41.081273 | G9: 51.440512 | H9: 55.59827
A10: 72 47 | B10: 1928 | C10: 898 | D10: 1030 | E10: 80.517853 | F10: 37.50261 | G10: 43.015243 | H10: 53.423237
A11: 73 48 | B11: 2080 | C11: 1019 | D11: 1061 | E11: 80.498471 | F11: 39.436511 | G11: 41.061961 | H11: 51.009615
A12: 74 49 | B12: 2024 | C12: 1074 | D12: 950 | E12: 76.236393 | F12: 40.453501 | G12: 35.782892 | H12: 46.936759
A13: 75 50 | B13: 1940 | C13: 943 | D13: 997 | E13: 76.546717 | F13: 37.208018 | G13: 39.338699 | H13: 51.391753
A14: 76 51 | B14: 1981 | C14: 913 | D14: 1068 | E14: 79.586999 | F14: 36.679924 | G14: 42.907075 | H14: 53.912166
A15: 77 52 | B15: 1835 | C15: 854 | D15: 981 | E15: 76.07479 | F15: 35.404834 | G15: 40.669956 | H15: 53.46049
A16: 78 53 | B16: 1755 | C16: 841 | D16: 914 | E16: 73.106723 | F16: 35.032908 | G16: 38.073815 | H16: 52.079772
A17: 79 54 | B17: 1675 | C17: 778 | D17: 897 | E17: 72.036814 | F17: 33.459487 | G17: 38.577327 | H17: 53.552239
... A51: 13 25 | B51: 448 | C51: 145 | D51: 303 | E51: 29.789215 | F51: 9.6415985 | G51: 20.147616 | H51: 67.633929
A52: 14 26 | B52: 430 | C52: 2) 175 | D52: 254 | E52: 28.670489 | F52: 11.668222 | G52: 16.935591 | H52: 59.069767
A53: 15 27 | B53: 426 | C53: 2) 160 | D53: 266 | E53: 28.371628 | F53: 10.656011 | G53: 17.715618 | H53: 62.441315
A54: 16 28 | B54: 344 | C54: 108 | D54: 236 | E54: 23.947094 | F54: 7.5182736 | G54: 16.42882 | H54: 68.604651
A55: 17 29 | B55: 402 | C55: 178 | D55: 224 | E55: 28.264079 | F55: 12.514941 | G55: 15.749139 | H55: 55.721393
A56: 18 30 | B56: =IF(SUM(C56,D56)='1 年次別，死産数・死産率・死産性比'!C57,SUM(C56,D56),"「不詳」があり合計が合いません。") -> 346 | C56: ='4 月・自然-人工別，区別死産数'!B$17 -> 138 | D56: ='4 月・自然-人工別，区別死産数'!B$29 -> 208 | E56: =IF(B56="「不詳」があり合計が合いません。","「不詳」があり合計が合いません。",B56/($B56+'1 年次別，死産数・死産率・死産性比'!B57)*1000) -> 25.452405 | F56: =IF(B56="「不詳」があり合計が合いません。","「不詳」があり合計が合いません。",C56/($B56+'1 年次別，死産数・死産率・死産性比'!B57)*1000) -> 10.151537 | G56: =IF(B56="「不詳」があり合計が合いません。","「不詳」があり合計が合いません。",D56/($B56+'1 年次別，死産数・死産率・死産性比'!B57)*1000) -> 15.300868 | H56: =IF(B56="「不詳」があり合計が合いません。","「不詳」があり合計が合いません。",D56/B56*100) -> 60.115607
A57: 1) 本市の集計による。
A58: 2) 自然死産・人口死産の別の不明（1胎）については、自然死産に計上している。

Sheet 3-総数 死産数及び死産率，自然－人工･年次･区別
A1: 3 自然-人工・区別にみた年次別死産数及び死産率(出産千対）
A3: 総 数
A4: 年次 | B4: 総数 | C4: 中央区 | D4: 北区 | E4: 東区 | F4: 白石区 | G4: 厚別区 | H4: 豊平区 | I4: 清田区 | J4: 南区 | K4: 西区 | L4: 手稲区
B5: 死産数
A6: 85 60 | B6: 1598 | C6: 270 | D6: 216 | E6: 237 | F6: 250 | G6: … | H6: 272 | I6: … | J6: 104 | K6: 249 | L6: …
A7: 1986 昭和61年 | B7: 1484 | C7: 241 | D7: 190 | E7: 214 | F7: 248 | G7: … | H7: 248 | I7: … | J7: 87 | K7: 256 | L7: …
A8: 1987 昭和62年 | B8: 1362 | C8: 227 | D8: 171 | E8: 198 | F8: 227 | G8: … | H8: 244 | I8: … | J8: 89 | K8: 206 | L8: …
A9: 1988 昭和63年 | B9: 1264 | C9: 219 | D9: 155 | E9: 183 | F9: 217 | G9: … | H9: 194 | I9: … | J9: 76 | K9: 220 | L9: …
A10: 89 平成元年 | B10: 1169 | C10: 157 | D10: 155 | E10: 180 | F10: 215 | G10: … | H10: 184 | I10: … | J10: 84 | K10: 194 | L10: …
A11: 90 2 | B11: 1199 | C11: 175 | D11: 151 | E11: 162 | F11: 167 | G11: 72 | H11: 192 | I11: … | J11: 67 | K11: 137 | L11: 76
A12: 91 3 | B12: 1028 | C12: 136 | D12: 140 | E12: 145 | F12: 145 | G12: 64 | H12: 156 | I12: … | J12: 65 | K12: 108 | L12: 69
A13: 92 4 | B13: 956 | C13: 121 | D13: 118 | E13: 143 | F13: 132 | G13: 62 | H13: 152 | I13: … | J13: 52 | K13: 121 | L13: 55
A14: 1993 平成5年 | B14: 892 | C14: 129 | D14: 134 | E14: 121 | F14: 118 | G14: 67 | H14: 135 | I14: … | J14: 59 | K14: 80 | L14: 49
A15: 94 6 | B15: 833 | C15: 107 | D15: 94 | E15: 128 | F15: 111 | G15: 59 | H15: 135 | I15: … | J15: 66 | K15: 87 | L15: 46
A16: 95 7 | B16: 734 | C16: 89 | D16: 108 | E16: 112 | F16: 102 | G16: 47 | H16: 126 | I16: … | J16: 49 | K16: 68 | L16: 33
A17: 96 8 | B17: 714 | C17: 79 | D17: 115 | E17: 115 | F17: 93 | G17: 43 | H17: 110 | I17: … | J17: 39 | K17: 73 | L17: 47
A18: 97 9 | B18: 756 | C18: 84 | D18: 115 | E18: 99 | F18: 107 | G18: 38 | H18: 126 | I18: … | J18: 39 | K18: 101 | L18: 47
A19: 1998 平成10年 | B19: 711 | C19: 80 | D19: 109 | E19: 114 | F19: 85 | G19: 49 | H19: 83 | I19: 36 | J19: 34 | K19: 77 | L19: 44
A20: 99 11 | B20: 683 | C20: 74 | D20: 100 | E20: 103 | F20: 73 | G20: 43 | H20: 74 | I20: 44 | J20: 55 | K20: 77 | L20: 40
A21: 2000 12 | B21: 720 | C21: 95 | D21: 107 | E21: 97 | F21: 78 | G21: 46 | H21: 91 | I21: 39 | J21: 45 | K21: 75 | L21: 47
A22: 01 13 | B22: 718 | C22: 84 | D22: 94 | E22: 117 | F22: 90 | G22: 39 | H22: 97 | I22: 43 | J22: 50 | K22: 71 | L22: 33
A23: 02 14 | B23: 602 | C23: 75 | D23: 89 | E23: 87 | F23: 88 | G23: 40 | H23: 63 | I23: 29 | J23: 37 | K23: 56 | L23: 38
A24: 03 15 | B24: 631 | C24: 72 | D24: 95 | E24: 80 | F24: 78 | G24: 38 | H24: 84 | I24: 33 | J24: 45 | K24: 74 | L24: 32
A25: 04 16 | B25: 601 | C25: 76 | D25: 86 | E25: 86 | F25: 78 | G25: 27 | H25: 79 | I25: 30 | J25: 41 | K25: 63 | L25: 35
A26: 05 17 | B26: 602 | C26: 94 | D26: 81 | E26: 96 | F26: 64 | G26: 31 | H26: 68 | I26: 31 | J26: 35 | K26: 64 | L26: 38
A27: 06 18 | B27: 545 | C27: 72 | D27: 78 | E27: 80 | F27: 72 | G27: 28 | H27: 73 | I27: 27 | J27: 28 | K27: 53 | L27: 34
A28: 07 19 | B28: 557 | C28: 69 | D28: 78 | E28: 84 | F28: 79 | G28: 25 | H28: 67 | I28: 29 | J28: 37 | K28: 55 | L28: 34
A29: 08 20 | B29: 496 | C29: 68 | D29: 62 | E29: 74 | F29: 74 | G29: 28 | H29: 62 | I29: 23 | J29: 32 | K29: 43 | L29: 30
A30: 09 21 | B30: 468 | C30: 52 | D30: 73 | E30: 60 | F30: 63 | G30: 32 | H30: 60 | I30: 20 | J30: 26 | K30: 55 | L30: 27
... A38: 17 29 | B38: 402 | C38: 71 | D38: 45 | E38: 52 | F38: 54 | G38: 18 | H38: 61 | I38: 19 | J38: 26 | K38: 38 | L38: 18
A39: 18 30 | B39: =IF(SUM('3-自然'!B39,'3-人工'!B39)='1 年次別，死産数・死産率・死産性比'!C57,SUM('3-自然'!B39,'3-人工'!B39),"「不詳」があり合計が合いません。") -> 346 | C39: =SUM('3-自然'!C39,'3-人工'!C39) -> 79 | D39: =SUM('3-自然'!D39,'3-人工'!D39) -> 37 | E39: =SUM('3-自然'!E39,'3-人工'!E39) -> 54 | F39: =SUM('3-自然'!F39,'3-人工'!F39) -> 35 | G39: =SUM('3-自然'!G39,'3-人工'!G39) -> 16 | H39: =SUM('3-自然'!H39,'3-人工'!H39) -> 37 | I39: =SUM('3-自然'!I39,'3-人工'!I39) -> 10 | J39: =SUM('3-自然'!J39,'3-人工'!J39) -> 22 | ... L39: =SUM('3-自然'!L39,'3-人工'!L39) -> 16
B40: 死産率
A41: 85 60 | B41: 76.415455 | C41: 123.34399 | D41: 81.756245 | E41: 70.076878 | F41: 63.85696 | G41: ・ | H41: 80.023536 | I41: ・ | J41: 57.395143 | K41: 69.689337 | L41: ・
A42: 1986 昭和61年 | B42: 71.98991 | C42: 110.90658 | D42: 74.80315 | E42: 66.090179 | F42: 60.443578 | G42: ・ | H42: 73.264402 | I42: ・ | J42: 49.856734 | K42: 74.635569 | L42: ・
A43: 1987 昭和62年 | B43: 68.459412 | C43: 109.23965 | D43: 71.909167 | E43: 65.519523 | F43: 57.584982 | G43: ・ | H43: 73.141487 | I43: ・ | J43: 54.136253 | K43: 58.941345 | L43: ・
A44: 1988 昭和63年 | B44: 64.887064 | C44: 109.28144 | D44: 67.303517 | E44: 61.970877 | F44: 54.82567 | G44: ・ | H44: 60.099133 | I44: ・ | J44: 44.94382 | K44: 65.809153 | L44: ・
A45: 89 平成元年 | B45: 62.687688 | C45: 90.229885 | D45: 71.959146 | E45: 63.224447 | F45: 54.931017 | G45: ・ | H45: 59.106971 | I45: ・ | J45: 52.5 | K45: 59.146341 | L45: ・
A46: 90 2 | B46: 64.379296 | C46: 98.9819 | D46: 70.429104 | E46: 56.544503 | F46: 68.02444 | G46: 49.180328 | H46: 61.204973 | I46: ・ | J46: 42.191436 | K46: 66.699124 | L46: 66.144473
A47: 91 3 | B47: 55.609651 | C47: 83.333333 | D47: 63.463282 | E47: 48.414023 | F47: 58.326629 | G47: 46.444122 | H47: 52.436975 | I47: ・ | J47: 42.59502 | K47: 51.428571 | L47: 58.080808
A48: 92 4 | B48: 52.294732 | C48: 76.77665 | D48: 53.153153 | E48: 50.405358 | F48: 52.990767 | G48: 44.54023 | H48: 50.148466 | I48: ・ | J48: 36.312849 | K48: 58.454106 | L48: 44.642857
...

Sheet 3-自然
A1: 3 自然-人工・区別にみた年次別死産数及び死産率(出産千対）（つづき）
A3: 自然死産
A4: 年次 | B4: 総数 | C4: 中央区 | D4: 北区 | E4: 東区 | F4: 白石区 | G4: 厚別区 | H4: 豊平区 | I4: 清田区 | J4: 南区 | K4: 西区 | L4: 手稲区
B5: 自然死産数
A6: 85 60 | B6: 539 | C6: 65 | D6: 58 | E6: 75 | F6: 85 | G6: … | H6: 75 | I6: … | J6: 51 | K6: 130 | L6: …
A7: 1986 昭和61年 | B7: 472 | C7: 51 | D7: 69 | E7: 55 | F7: 84 | G7: … | H7: 73 | I7: … | J7: 35 | K7: 105 | L7: …
A8: 1987 昭和62年 | B8: 451 | C8: 47 | D8: 60 | E8: 70 | F8: 66 | G8: … | H8: 87 | I8: … | J8: 34 | K8: 87 | L8: …
A9: 1988 昭和63年 | B9: 361 | C9: 45 | D9: 43 | E9: 63 | F9: 59 | G9: … | H9: 49 | I9: … | J9: 32 | K9: 70 | L9: …
A10: 89 平成元年 | B10: 346 | C10: 31 | D10: 39 | E10: 66 | F10: 69 | G10: … | H10: 46 | I10: … | J10: 29 | K10: 66 | L10: …
A11: 90 2 | B11: 399 | C11: 40 | D11: 54 | E11: 62 | F11: 46 | G11: 29 | H11: 53 | I11: … | J11: 27 | K11: 49 | L11: 39
A12: 91 3 | B12: 324 | C12: 20 | D12: 34 | E12: 51 | F12: 48 | G12: 18 | H12: 51 | I12: … | J12: 28 | K12: 41 | L12: 33
A13: 92 4 | B13: 325 | C13: 27 | D13: 48 | E13: 53 | F13: 39 | G13: 24 | H13: 51 | I13: … | J13: 17 | K13: 44 | L13: 22
A14: 1993 平成5年 | B14: 283 | C14: 35 | D14: 34 | E14: 46 | F14: 39 | G14: 16 | H14: 45 | I14: … | J14: 29 | K14: 28 | L14: 11
A15: 94 6 | B15: 286 | C15: 27 | D15: 35 | E15: 51 | F15: 32 | G15: 26 | H15: 42 | I15: … | J15: 32 | K15: 27 | L15: 14
A16: 95 7 | B16: 240 | C16: 18 | D16: 40 | E16: 37 | F16: 27 | G16: 13 | H16: 46 | I16: … | J16: 22 | K16: 20 | L16: 17
A17: 96 8 | B17: 241 | C17: 15 | D17: 46 | E17: 46 | F17: 23 | G17: 16 | H17: 34 | I17: … | J17: 18 | K17: 24 | L17: 19
A18: 97 9 | B18: 249 | C18: 18 | D18: 45 | E18: 34 | F18: 36 | G18: 5 | H18: 39 | I18: … | J18: 19 | K18: 31 | L18: 22
A19: 1998 平成10年 | B19: 234 | C19: 18 | D19: 34 | E19: 45 | F19: 27 | G19: 12 | H19: 31 | I19: 19 | J19: 13 | K19: 20 | L19: 15
A20: 99 11 | B20: 199 | C20: 14 | D20: 25 | E20: 38 | F20: 16 | G20: 10 | H20: 26 | I20: 15 | J20: 21 | K20: 27 | L20: 7
A21: 2000 12 | B21: 223 | C21: 25 | D21: 29 | E21: 34 | F21: 23 | G21: 19 | H21: 27 | I21: 12 | J21: 14 | K21: 22 | L21: 18
A22: 01 13 | B22: 213 | C22: 19 | D22: 22 | E22: 32 | F22: 22 | G22: 12 | H22: 30 | I22: 17 | J22: 23 | K22: 24 | L22: 12
A23: 02 14 | B23: 175 | C23: 17 | D23: 19 | E23: 25 | F23: 23 | G23: 9 | H23: 24 | I23: 10 | J23: 18 | K23: 21 | L23: 9
A24: 03 15 | B24: 197 | C24: 14 | D24: 31 | E24: 21 | F24: 20 | G24: 16 | H24: 20 | I24: 22 | J24: 13 | K24: 29 | L24: 11 | N24: 総数 | O24: 中央 | P24: 北 | Q24: 東 | R24: 白石 | S24: 厚別 | T24: 豊平 | U24: 清田 | V24: 南 | W24: 西 | X24: 手稲
A25: 04 16 | B25: 196 | C25: 21 | D25: 30 | E25: 29 | F25: 25 | G25: 13 | H25: 28 | I25: 8 | J25: 14 | K25: 19 | L25: 9 | N25: 14749 | O25: 1475 | P25: 2028 | Q25: 2295 | R25: 1884 | S25: 977 | T25: 1781 | U25: 724 | V25: 952 | W25: 1747 | X25: 886
A26: 05 17 | B26: 191 | C26: 17 | D26: 30 | E26: 35 | F26: 21 | G26: 10 | H26: 20 | I26: 9 | J26: 11 | K26: 22 | L26: 16 | N26: 14184 | O26: 1405 | P26: 1962 | Q26: 2263 | R26: 1868 | S26: 852 | T26: 1687 | U26: 698 | V26: 879 | W26: 1667 | X26: 903
A27: 06 18 | B27: 212 | C27: 24 | D27: 24 | E27: 32 | F27: 27 | G27: 11 | H27: 32 | I27: 12 | J27: 17 | K27: 19 | L27: 14 | N27: 14730 | O27: 1552 | P27: 1995 | Q27: 2312 | R27: 1907 | S27: 847 | T27: 1783 | U27: 789 | V27: 851 | W27: 1746 | X27: 948
A28: 07 19 | B28: 199 | C28: 24 | D28: 29 | E28: 32 | F28: 26 | G28: 9 | H28: 24 | I28: 9 | J28: 18 | K28: 17 | L28: 11 | N28: 14498 | O28: 1523 | P28: 2016 | Q28: 2245 | R28: 1850 | S28: 856 | T28: 1722 | U28: 729 | V28: 875 | W28: 1712 | X28: 970
A29: 08 20 | B29: 190 | C29: 14 | D29: 25 | E29: 38 | F29: 21 | G29: 10 | H29: 26 | I29: 12 | J29: 19 | K29: 17 | L29: 8 | N29: 14845 | O29: 1638 | P29: 2101 | Q29: 2297 | R29: 1933 | S29: 839 | T29: 1766 | U29: 807 | V29: 880 | W29: 1691 | X29: 893
A30: 09 21 | B30: 175 | C30: 14 | D30: 30 | E30: 24 | F30: 24 | G30: 13 | H30: 20 | I30: 6 | J30: 9 | K30: 24 | L30: 11 | N30: 14506 | O30: 1580 | P30: 2052 | Q30: 2221 | R30: 1831 | S30: 819 | T30: 1721 | U30: 773 | V30: 871 | W30: 1685 | X30: 953
A31: 10 22 | B31: 171 | C31: 17 | D31: 27 | E31: 20 | F31: 14 | G31: 6 | H31: 31 | I31: 14 | J31: 7 | K31: 21 | L31: 14 | N31: 14739 | O31: 1751 | P31: 2006 | Q31: 2237 | R31: 1955 | S31: 865 | T31: 1751 | U31: 752 | V31: 834 | W31: 1672 | X31: 916
A32: 11 23 | B32: 192 | C32: 20 | D32: 26 | E32: 33 | F32: 20 | G32: 10 | H32: 24 | I32: 8 | J32: 13 | K32: 20 | L32: 18 | N32: 14491 | O32: 1706 | P32: 1920 | Q32: 2141 | R32: 1887 | S32: 780 | T32: 1824 | U32: 763 | V32: 804 | W32: 1739 | X32: 927
A33: 12 24 | B33: 180 | C33: 25 | D33: 35 | E33: 27 | F33: 20 | G33: 11 | H33: 19 | I33: 11 | J33: 8 | K33: 13 | L33: 11 | N33: 14487 | O33: 1750 | P33: 1933 | Q33: 2151 | R33: 1921 | S33: 727 | T33: 1836 | U33: 754 | V33: 822 | W33: 1666 | X33: 927
A34: 13 25 | B34: 145 | C34: 15 | D34: 24 | E34: 21 | F34: 26 | G34: 7 | H34: 14 | I34: 7 | J34: 6 | K34: 13 | L34: 12 | N34: 14591 | O34: 1897 | P34: 1979 | Q34: 2110 | R34: 1872 | S34: 801 | T34: 1790 | U34: 705 | V34: 778 | W34: 1715 | X34: 944
A35: 14 1） 26 | B35: 175 | C35: 24 | D35: 19 | E35: 40 | F35: 24 | G35: 6 | H35: 17 | I35: 5 | J35: 10 | K35: 20 | L35: 10 | N35: 14568 | O35: 1845 | P35: 1952 | Q35: 2171 | R35: 1939 | S35: 776 | T35: 1879 | U35: 660 | V35: 789 | W35: 1611 | X35: 946
A36: 15 1） 27 | B36: 160 | C36: 23 | D36: 21 | E36: 26 | F36: 22 | G36: 3 | H36: 19 | I36: 6 | J36: 9 | K36: 20 | L36: 11 | N36: 14589 | O36: 1874 | P36: 2041 | Q36: 2128 | R36: 1891 | S36: 746 | T36: 1888 | U36: 645 | V36: 769 | W36: 1657 | X36: 950
... A38: 17 29 | B38: 178 | C38: 23 | D38: 19 | E38: 24 | F38: 23 | G38: 8 | H38: 24 | I38: 11 | J38: 14 | K38: 21 | L38: 11 | N38: 13821 | O38: 1772 | P38: 1877 | Q38: 2137 | R38: 1737 | S38: 696 | T38: 1743 | U38: 621 | V38: 718 | W38: 1652 | X38: 868
A39: 18 30 | B39: =SUM(C39:L39) -> 138 | C39: ='4 月・自然-人工別，区別死産数'!$B$18 -> 21 | D39: ='4 月・自然-人工別，区別死産数'!$B$19 -> 20 | E39: ='4 月・自然-人工別，区別死産数'!$B$20 -> 17 | F39: ='4 月・自然-人工別，区別死産数'!$B$21 -> 17 | G39: ='4 月・自然-人工別，区別死産数'!$B$22 -> 8 | H39: ='4 月・自然-人工別，区別死産数'!$B$23 -> 16 | I39: ='4 月・自然-人工別，区別死産数'!$B$24 -> 3 | J39: ='4 月・自然-人工別，区別死産数'!$B$25 -> 12 | K39: ='4 月・自然-人工別，区別死産数'!$B$26 -> 17 | L39: ='4 月・自然-人工別，区別死産数'!$B$27 -> 7 | N39: =[1]出生数!G$19 -> 13248 | O39: =[1]出生数!H$19 -> 1744 | P39: =[1]出生数!I$19 -> 1847 | Q39: =[1]出生数!J$19 -> 1978 | R39: =[1]出生数!K$19 -> 1711 | S39: =[1]出生数!L$19 -> 661 | T39: =[1]出生数!M$19 -> 1682 | U39: =[1]出生数!N$19 -> 644 | ... X39: =[1]出生数!Q$19 -> 809
B40: 自然死産率
A41: 85 60 | B41: 25.774675 | C41: 29.693924 | D41: 21.953066 | E41: 22.176227 | F41: 21.711367 | G41: ・ | H41: 22.065313 | I41: ・ | J41: 28.145695 | K41: 36.383991 | L41: ・
A42: 1986 昭和61年 | B42: 22.89706 | C42: 23.469857 | D42: 27.165354 | E42: 16.985794 | F42: 20.472825 | G42: ・ | H42: 21.565731 | I42: ・ | J42: 20.057307 | K42: 30.612245 | L42: ・
...

Sheet 3-人工
A1: 3 自然-人工・区別にみた年次別死産数及び死産率(出産千対）（つづき）
A3: 人工死産
A4: 年次 | B4: 総数 | C4: 中央区 | D4: 北区 | E4: 東区 | F4: 白石区 | G4: 厚別区 | H4: 豊平区 | I4: 清田区 | J4: 南区 | K4: 西区 | L4: 手稲区
B5: 人工死産数
A6: 85 60 | B6: 1059 | C6: 205 | D6: 158 | E6: 162 | F6: 165 | G6: … | H6: 197 | I6: … | J6: 53 | K6: 119 | L6: …
A7: 1986 昭和61年 | B7: 1012 | C7: 190 | D7: 121 | E7: 159 | F7: 164 | G7: … | H7: 175 | I7: … | J7: 52 | K7: 151 | L7: …
A8: 1987 昭和62年 | B8: 911 | C8: 180 | D8: 111 | E8: 128 | F8: 161 | G8: … | H8: 157 | I8: … | J8: 55 | K8: 119 | L8: …
A9: 1988 昭和63年 | B9: 903 | C9: 174 | D9: 112 | E9: 120 | F9: 158 | G9: … | H9: 145 | I9: … | J9: 44 | K9: 150 | L9: …
A10: 89 平成元年 | B10: 823 | C10: 126 | D10: 116 | E10: 114 | F10: 146 | G10: … | H10: 138 | I10: … | J10: 55 | K10: 128 | L10: …
A11: 90 2 | B11: 800 | C11: 135 | D11: 97 | E11: 100 | F11: 121 | G11: 43 | H11: 139 | I11: … | J11: 40 | K11: 88 | L11: 37
A12: 91 3 | B12: 704 | C12: 116 | D12: 106 | E12: 94 | F12: 97 | G12: 46 | H12: 105 | I12: … | J12: 37 | K12: 67 | L12: 36
A13: 92 4 | B13: 631 | C13: 94 | D13: 70 | E13: 90 | F13: 93 | G13: 38 | H13: 101 | I13: … | J13: 35 | K13: 77 | L13: 33
A14: 1993 平成5年 | B14: 609 | C14: 94 | D14: 100 | E14: 75 | F14: 79 | G14: 51 | H14: 90 | I14: … | J14: 30 | K14: 52 | L14: 38
A15: 94 6 | B15: 547 | C15: 80 | D15: 59 | E15: 77 | F15: 79 | G15: 33 | H15: 93 | I15: … | J15: 34 | K15: 60 | L15: 32
A16: 95 7 | B16: 494 | C16: 71 | D16: 68 | E16: 75 | F16: 75 | G16: 34 | H16: 80 | I16: … | J16: 27 | K16: 48 | L16: 16
A17: 96 8 | B17: 473 | C17: 64 | D17: 69 | E17: 69 | F17: 70 | G17: 27 | H17: 76 | I17: … | J17: 21 | K17: 49 | L17: 28
A18: 97 9 | B18: 507 | C18: 66 | D18: 70 | E18: 65 | F18: 71 | G18: 33 | H18: 87 | I18: … | J18: 20 | K18: 70 | L18: 25
A19: 1998 平成10年 | B19: 477 | C19: 62 | D19: 75 | E19: 69 | F19: 58 | G19: 37 | H19: 52 | I19: 17 | J19: 21 | K19: 57 | L19: 29
A20: 99 11 | B20: 484 | C20: 60 | D20: 75 | E20: 65 | F20: 57 | G20: 33 | H20: 48 | I20: 29 | J20: 34 | K20: 50 | L20: 33
A21: 2000 12 | B21: 497 | C21: 70 | D21: 78 | E21: 63 | F21: 55 | G21: 27 | H21: 64 | I21: 27 | J21: 31 | K21: 53 | L21: 29
A22: 01 13 | B22: 505 | C22: 65 | D22: 72 | E22: 85 | F22: 68 | G22: 27 | H22: 67 | I22: 26 | J22: 27 | K22: 47 | L22: 21
A23: 02 14 | B23: 427 | C23: 58 | D23: 70 | E23: 62 | F23: 65 | G23: 31 | H23: 39 | I23: 19 | J23: 19 | K23: 35 | L23: 29
A24: 03 15 | B24: 434 | C24: 58 | D24: 64 | E24: 59 | F24: 58 | G24: 22 | H24: 64 | I24: 11 | J24: 32 | K24: 45 | L24: 21 | N24: 総数 | O24: 中央 | P24: 北 | Q24: 東 | R24: 白石 | S24: 厚別 | T24: 豊平 | U24: 清田 | V24: 南 | W24: 西 | X24: 手稲
A25: 04 16 | B25: 405 | C25: 55 | D25: 56 | E25: 57 | F25: 53 | G25: 14 | H25: 51 | I25: 22 | J25: 27 | K25: 44 | L25: 26 | N25: 14749 | O25: 1475 | P25: 2028 | Q25: 2295 | R25: 1884 | S25: 977 | T25: 1781 | U25: 724 | V25: 952 | W25: 1747 | X25: 886
A26: 05 17 | B26: 411 | C26: 77 | D26: 51 | E26: 61 | F26: 43 | G26: 21 | H26: 48 | I26: 22 | J26: 24 | K26: 42 | L26: 22 | N26: 14184 | O26: 1405 | P26: 1962 | Q26: 2263 | R26: 1868 | S26: 852 | T26: 1687 | U26: 698 | V26: 879 | W26: 1667 | X26: 903
A27: 06 18 | B27: 333 | C27: 48 | D27: 54 | E27: 48 | F27: 45 | G27: 17 | H27: 41 | I27: 15 | J27: 11 | K27: 34 | L27: 20 | N27: 14730 | O27: 1552 | P27: 1995 | Q27: 2312 | R27: 1907 | S27: 847 | T27: 1783 | U27: 789 | V27: 851 | W27: 1746 | X27: 948
A28: 07 19 | B28: 358 | C28: 45 | D28: 49 | E28: 52 | F28: 53 | G28: 16 | H28: 43 | I28: 20 | J28: 19 | K28: 38 | L28: 23 | N28: 14498 | O28: 1523 | P28: 2016 | Q28: 2245 | R28: 1850 | S28: 856 | T28: 1722 | U28: 729 | V28: 875 | W28: 1712 | X28: 970
A29: 08 20 | B29: 306 | C29: 54 | D29: 37 | E29: 36 | F29: 53 | G29: 18 | H29: 36 | I29: 11 | J29: 13 | K29: 26 | L29: 22 | N29: 14845 | O29: 1638 | P29: 2101 | Q29: 2297 | R29: 1933 | S29: 839 | T29: 1766 | U29: 807 | V29: 880 | W29: 1691 | X29: 893
A30: 09 21 | B30: 293 | C30: 38 | D30: 43 | E30: 36 | F30: 39 | G30: 19 | H30: 40 | I30: 14 | J30: 17 | K30: 31 | L30: 16 | N30: 14506 | O30: 1580 | P30: 2052 | Q30: 2221 | R30: 1831 | S30: 819 | T30: 1721 | U30: 773 | V30: 871 | W30: 1685 | X30: 953
A31: 10 22 | B31: 272 | C31: 40 | D31: 37 | E31: 41 | F31: 30 | G31: 10 | H31: 35 | I31: 16 | J31: 16 | K31: 28 | L31: 19 | N31: 14739 | O31: 1751 | P31: 2006 | Q31: 2237 | R31: 1955 | S31: 865 | T31: 1751 | U31: 752 | V31: 834 | W31: 1672 | X31: 916
A32: 11 23 | B32: 312 | C32: 48 | D32: 46 | E32: 47 | F32: 39 | G32: 19 | H32: 32 | I32: 21 | J32: 14 | K32: 26 | L32: 20 | N32: 14491 | O32: 1706 | P32: 1920 | Q32: 2141 | R32: 1887 | S32: 780 | T32: 1824 | U32: 763 | V32: 804 | W32: 1739 | X32: 927
A33: 12 24 | B33: 266 | C33: 49 | D33: 31 | E33: 33 | F33: 37 | G33: 16 | H33: 28 | I33: 10 | J33: 15 | K33: 26 | L33: 21 | N33: 14487 | O33: 1750 | P33: 1933 | Q33: 2151 | R33: 1921 | S33: 727 | T33: 1836 | U33: 754 | V33: 822 | W33: 1666 | X33: 927
A34: 13 25 | B34: 303 | C34: 62 | D34: 45 | E34: 40 | F34: 47 | G34: 8 | H34: 28 | I34: 15 | J34: 15 | K34: 31 | L34: 12 | N34: 14591 | O34: 1897 | P34: 1979 | Q34: 2110 | R34: 1872 | S34: 801 | T34: 1790 | U34: 705 | V34: 778 | W34: 1715 | X34: 944
A35: 14 26 | B35: 254 | C35: 42 | D35: 29 | E35: 32 | F35: 28 | G35: 17 | H35: 31 | I35: 10 | J35: 18 | K35: 26 | L35: 21 | N35: 14568 | O35: 1845 | P35: 1952 | Q35: 2171 | R35: 1939 | S35: 776 | T35: 1879 | U35: 660 | V35: 789 | W35: 1611 | X35: 946
A36: 15 27 | B36: 266 | C36: 56 | D36: 38 | E36: 40 | F36: 38 | G36: 10 | H36: 38 | I36: 9 | J36: 11 | K36: 21 | L36: 5 | N36: 14589 | O36: 1874 | P36: 2041 | Q36: 2128 | R36: 1891 | S36: 746 | T36: 1888 | U36: 645 | V36: 769 | W36: 1657 | X36: 950
... A38: 17 29 | B38: 224 | C38: 48 | D38: 26 | E38: 28 | F38: 31 | G38: 10 | H38: 37 | I38: 8 | J38: 12 | K38: 17 | L38: 7 | N38: 13821 | O38: 1772 | P38: 1877 | Q38: 2137 | R38: 1737 | S38: 696 | T38: 1743 | U38: 621 | V38: 718 | W38: 1652 | X38: 868
A39: 18 30 | B39: =SUM(C39:L39) -> 208 | C39: ='4 月・自然-人工別，区別死産数'!$B$30 -> 58 | D39: ='4 月・自然-人工別，区別死産数'!$B$31 -> 17 | E39: ='4 月・自然-人工別，区別死産数'!$B$32 -> 37 | F39: ='4 月・自然-人工別，区別死産数'!$B$33 -> 18 | G39: ='4 月・自然-人工別，区別死産数'!$B$34 -> 8 | H39: ='4 月・自然-人工別，区別死産数'!$B$35 -> 21 | I39: ='4 月・自然-人工別，区別死産数'!$B$36 -> 7 | J39: ='4 月・自然-人工別，区別死産数'!$B$37 -> 10 | K39: ='4 月・自然-人工別，区別死産数'!$B$38 -> 23 | L39: ='4 月・自然-人工別，区別死産数'!$B$39 -> 9 | N39: =[1]出生数!G$19 -> 13248 | O39: =[1]出生数!H$19 -> 1744 | P39: =[1]出生数!I$19 -> 1847 | Q39: =[1]出生数!J$19 -> 1978 | R39: =[1]出生数!K$19 -> 1711 | S39: =[1]出生数!L$19 -> 661 | T39: =[1]出生数!M$19 -> 1682 | U39: =[1]出生数!N$19 -> 644 | ... X39: =[1]出生数!Q$19 -> 809
B40: 人工死産率
A41: 85 60 | B41: 50.64078 | C41: 93.650069 | D41: 59.803179 | E41: 47.900651 | F41: 42.145594 | G41: ・ | H41: 57.958223 | I41: ・ | J41: 29.249448 | K41: 33.305346 | L41: ・
A42: 1986 昭和61年 | B42: 49.09285 | C42: 87.436723 | D42: 47.637795 | E42: 49.104385 | F42: 39.970753 | G42: ・ | H42: 51.698671 | I42: ・ | J42: 29.799427 | K42: 44.023324 | L42: ・
...

Sheet 4　月・自然-人工別，区別死産数
A1: 4 月・自然－人工別にみた区別死産数
N2: 平成30年
A3: 区 | B3: 総数 | C3: 1 月 | D3: 2 月 | E3: 3 月 | F3: 4 月 | G3: 5 月 | H3: 6 月 | I3: 7 月 | J3: 8 月 | K3: 9 月 | L3: 10月 | M3: 11月 | N3: 12月
B4: 死産数
A5: 総数 | B5: =SUM(B17,B29) -> 346 | C5: =SUM(C17,C29) -> 35 | D5: =SUM(D17,D29) -> 21 | E5: =SUM(E17,E29) -> 26 | F5: =SUM(F17,F29) -> 22 | G5: =SUM(G17,G29) -> 29 | H5: =SUM(H17,H29) -> 30 | I5: =SUM(I17,I29) -> 23 | ... N5: =SUM(N17,N29) -> 27
A6: 中央 | B6: =SUM(B18,B30) -> 79 | C6: =SUM(C18,C30) -> 8 | D6: =SUM(D18,D30) -> 6 | E6: =SUM(E18,E30) -> 4 | F6: =SUM(F18,F30) -> 4 | G6: =SUM(G18,G30) -> 5 | H6: =SUM(H18,H30) -> 14 | I6: =SUM(I18,I30) -> 5 | ... N6: =SUM(N18,N30) -> 2
A7: 北 | B7: =SUM(B19,B31) -> 37 | C7: =SUM(C19,C31) -> 4 | D7: =SUM(D19,D31) -> 3 | E7: =SUM(E19,E31) -> 4 | F7: =SUM(F19,F31) -> 4 | G7: =SUM(G19,G31) -> 2 | H7: =SUM(H19,H31) -> 0 | I7: =SUM(I19,I31) -> 3 | ... N7: =SUM(N19,N31) -> 4
A8: 東 | B8: =SUM(B20,B32) -> 54 | C8: =SUM(C20,C32) -> 6 | D8: =SUM(D20,D32) -> 4 | E8: =SUM(E20,E32) -> 4 | F8: =SUM(F20,F32) -> 5 | G8: =SUM(G20,G32) -> 4 | H8: =SUM(H20,H32) -> 7 | I8: =SUM(I20,I32) -> 2 | ... N8: =SUM(N20,N32) -> 4
A9: 白石 | B9: =SUM(B21,B33) -> 35 | C9: =SUM(C21,C33) -> 2 | D9: =SUM(D21,D33) -> 1 | E9: =SUM(E21,E33) -> 5 | F9: =SUM(F21,F33) -> 2 | G9: =SUM(G21,G33) -> 3 | H9: =SUM(H21,H33) -> 3 | I9: =SUM(I21,I33) -> 3 | ... N9: =SUM(N21,N33) -> 1
A10: 厚別 | B10: =SUM(B22,B34) -> 16 | C10: =SUM(C22,C34) -> 1 | D10: =SUM(D22,D34) -> 0 | E10: =SUM(E22,E34) -> 2 | F10: =SUM(F22,F34) -> 2 | G10: =SUM(G22,G34) -> 1 | H10: =SUM(H22,H34) -> 2 | I10: =SUM(I22,I34) -> 2 | ... N10: =SUM(N22,N34) -> 2
A11: 豊平 | B11: =SUM(B23,B35) -> 37 | C11: =SUM(C23,C35) -> 4 | D11: =SUM(D23,D35) -> 1 | E11: =SUM(E23,E35) -> 3 | F11: =SUM(F23,F35) -> 3 | G11: =SUM(G23,G35) -> 6 | H11: =SUM(H23,H35) -> 0 | I11: =SUM(I23,I35) -> 3 | ... N11: =SUM(N23,N35) -> 3
A12: 清田 | B12: =SUM(B24,B36) -> 10 | C12: =SUM(C24,C36) -> 2 | D12: =SUM(D24,D36) -> 0 | E12: =SUM(E24,E36) -> 0 | F12: =SUM(F24,F36) -> 1 | G12: =SUM(G24,G36) -> 2 | H12: =SUM(H24,H36) -> 1 | I12: =SUM(I24,I36) -> 0 | ... N12: =SUM(N24,N36) -> 0
A13: 南 | B13: =SUM(B25,B37) -> 22 | C13: =SUM(C25,C37) -> 1 | D13: =SUM(D25,D37) -> 2 | E13: =SUM(E25,E37) -> 1 | F13: =SUM(F25,F37) -> 0 | G13: =SUM(G25,G37) -> 1 | H13: =SUM(H25,H37) -> 1 | I13: =SUM(I25,I37) -> 1 | ... N13: =SUM(N25,N37) -> 5
A14: 西 | B14: =SUM(B26,B38) -> 40 | C14: =SUM(C26,C38) -> 5 | D14: =SUM(D26,D38) -> 4 | E14: =SUM(E26,E38) -> 2 | F14: =SUM(F26,F38) -> 1 | G14: =SUM(G26,G38) -> 3 | H14: =SUM(H26,H38) -> 1 | I14: =SUM(I26,I38) -> 4 | ... N14: =SUM(N26,N38) -> 2
A15: 手稲 | B15: =SUM(B27,B39) -> 16 | C15: =SUM(C27,C39) -> 2 | D15: =SUM(D27,D39) -> 0 | E15: =SUM(E27,E39) -> 1 | F15: =SUM(F27,F39) -> 0 | G15: =SUM(G27,G39) -> 2 | H15: =SUM(H27,H39) -> 1 | I15: =SUM(I27,I39) -> 0 | ... N15: =SUM(N27,N39) -> 4
B16: 自然死産
A17: 総数 | B17: =SUM(C17:N17) -> 138 | C17: =SUM(C18:C27) -> 14 | D17: =SUM(D18:D27) -> 11 | E17: =SUM(E18:E27) -> 12 | F17: =SUM(F18:F27) -> 8 | G17: =SUM(G18:G27) -> 14 | H17: =SUM(H18:H27) -> 11 | I17: =SUM(I18:I27) -> 5 | J17: =SUM(J18:J27) -> 14 | ... N17: =SUM(N18:N27) -> 9
A18: 中央 | B18: =SUM(C18:N18) -> 21 | C18: 0 | D18: 3 | E18: 1 | F18: 1 | G18: 1 | H18: 2 | I18: 1 | J18: 2 | K18: 1 | L18: 4 | M18: 5 | N18: 0
A19: 北 | B19: =SUM(C19:N19) -> 20 | C19: 2 | D19: 3 | E19: 4 | F19: 2 | G19: 1 | H19: 0 | I19: 0 | J19: 2 | K19: 0 | L19: 3 | M19: 2 | N19: 1
A20: 東 | B20: =SUM(C20:N20) -> 17 | C20: 4 | D20: 3 | E20: 1 | F20: 1 | G20: 2 | H20: 3 | I20: 1 | J20: 0 | K20: 1 | L20: 1 | M20: 0 | N20: 0
A21: 白石 | B21: =SUM(C21:N21) -> 17 | C21: 2 | D21: 0 | E21: 1 | F21: 2 | G21: 1 | H21: 1 | I21: 1 | J21: 2 | K21: 2 | L21: 1 | M21: 3 | N21: 1
A22: 厚別 | B22: =SUM(C22:N22) -> 8 | C22: 1 | D22: 0 | E22: 1 | F22: 0 | G22: 1 | H22: 2 | I22: 1 | J22: 1 | K22: 1 | L22: 0 | M22: 0 | N22: 0
A23: 豊平 | B23: =SUM(C23:N23) -> 16 | C23: 1 | D23: 0 | E23: 2 | F23: 2 | G23: 2 | H23: 0 | I23: 1 | J23: 1 | K23: 3 | L23: 0 | M23: 2 | N23: 2
A24: 清田 | B24: =SUM(C24:N24) -> 3 | C24: 0 | D24: 0 | E24: 0 | F24: 0 | G24: 1 | H24: 0 | I24: 0 | J24: 1 | K24: 0 | L24: 1 | M24: 0 | N24: 0
A25: 南 | B25: =SUM(C25:N25) -> 12 | C25: 1 | D25: 1 | E25: 0 | F25: 0 | G25: 1 | H25: 1 | I25: 0 | J25: 2 | K25: 2 | L25: 1 | M25: 0 | N25: 3
A26: 西 | B26: =SUM(C26:N26) -> 17 | C26: 2 | D26: 1 | E26: 1 | F26: 0 | G26: 3 | H26: 1 | I26: 0 | J26: 3 | K26: 1 | L26: 2 | M26: 3 | N26: 0
A27: 手稲 | B27: =SUM(C27:N27) -> 7 | C27: 1 | D27: 0 | E27: 1 | F27: 0 | G27: 1 | H27: 1 | I27: 0 | J27: 0 | K27: 0 | L27: 0 | M27: 1 | N27: 2
B28: 人工死産
A29: 総数 | B29: =SUM(C29:N29) -> 208 | C29: =SUM(C30:C39) -> 21 | D29: =SUM(D30:D39) -> 10 | E29: =SUM(E30:E39) -> 14 | F29: =SUM(F30:F39) -> 14 | G29: =SUM(G30:G39) -> 15 | H29: =SUM(H30:H39) -> 19 | I29: =SUM(I30:I39) -> 18 | J29: =SUM(J30:J39) -> 21 | ... N29: =SUM(N30:N39) -> 18
A30: 中央 | B30: =SUM(C30:N30) -> 58 | C30: 8 | D30: 3 | E30: 3 | F30: 3 | G30: 4 | H30: 12 | I30: 4 | J30: 1 | K30: 4 | L30: 8 | M30: 6 | N30: 2
A31: 北 | B31: =SUM(C31:N31) -> 17 | C31: 2 | D31: 0 | E31: 0 | F31: 2 | G31: 1 | H31: 0 | I31: 3 | J31: 3 | K31: 0 | L31: 3 | M31: 0 | N31: 3
A32: 東 | B32: =SUM(C32:N32) -> 37 | C32: 2 | D32: 1 | E32: 3 | F32: 4 | G32: 2 | H32: 4 | I32: 1 | J32: 6 | K32: 3 | L32: 5 | M32: 2 | N32: 4
A33: 白石 | B33: =SUM(C33:N33) -> 18 | C33: 0 | D33: 1 | E33: 4 | F33: 0 | G33: 2 | H33: 2 | I33: 2 | J33: 2 | K33: 1 | L33: 2 | M33: 2 | N33: 0
A34: 厚別 | B34: =SUM(C34:N34) -> 8 | C34: 0 | D34: 0 | E34: 1 | F34: 2 | G34: 0 | H34: 0 | I34: 1 | J34: 0 | K34: 0 | L34: 1 | M34: 1 | N34: 2
A35: 豊平 | B35: =SUM(C35:N35) -> 21 | C35: 3 | D35: 1 | E35: 1 | F35: 1 | G35: 4 | H35: 0 | I35: 2 | J35: 1 | K35: 1 | L35: 4 | M35: 2 | N35: 1
A36: 清田 | B36: =SUM(C36:N36) -> 7 | C36: 2 | D36: 0 | E36: 0 | F36: 1 | G36: 1 | H36: 1 | I36: 0 | J36: 1 | K36: 0 | L36: 1 | M36: 0 | N36: 0
A37: 南 | B37: =SUM(C37:N37) -> 10 | C37: 0 | D37: 1 | E37: 1 | F37: 0 | G37: 0 | H37: 0 | I37: 1 | J37: 1 | K37: 1 | L37: 1 | M37: 2 | N37: 2
A38: 西 | B38: =SUM(C38:N38) -> 23 | C38: 3 | D38: 3 | E38: 1 | F38: 1 | G38: 0 | H38: 0 | I38: 4 | J38: 2 | K38: 2 | L38: 3 | M38: 2 | N38: 2
A39: 手稲 | B39: =SUM(C39:N39) -> 9 | C39: 1 | D39: 0 | E39: 0 | F39: 0 | G39: 1 | H39: 0 | I39: 0 | J39: 4 | K39: 0 | L39: 0 | M39: 1 | N39: 2

Sheet 5　月・自然-人工別，区別死産率
A1: 5 月・自然－人工別にみた区別死産率(出産千対）
N2: ='4 月・自然-人工別，区別死産数'!$N$2 -> 平成30年
A3: 区 | B3: 総数 | C3: 1 月 | D3: 2 月 | E3: 3 月 | F3: 4 月 | G3: 5 月 | H3: 6 月 | I3: 7 月 | J3: 8 月 | K3: 9 月 | L3: 10月 | M3: 11月 | N3: 12月
B4: 死産率 | P4: =[1]出生数!G3 -> 総数 | Q4: =[1]出生数!V3 -> １月 | R4: =[1]出生数!W3 -> ２月 | S4: =[1]出生数!X3 -> ３月 | T4: =[1]出生数!Y3 -> ４月 | U4: =[1]出生数!Z3 -> ５月 | V4: =[1]出生数!AA3 -> ６月 | W4: =[1]出生数!AB3 -> ７月 | X4: =[1]出生数!AC3 -> ８月 | ... AB4: =[1]出生数!AG3 -> １２月
A5: 総数 | B5: ='4 月・自然-人工別，区別死産数'!B5/('4 月・自然-人工別，区別死産数'!B5+'5 月・自然-人工別，区別死産率'!P5)*1000 -> 25.452405 | C5: ='4 月・自然-人工別，区別死産数'!C5/('4 月・自然-人工別，区別死産数'!C5+'5 月・自然-人工別，区別死産率'!Q5)*1000 -> 29.91453 | D5: ='4 月・自然-人工別，区別死産数'!D5/('4 月・自然-人工別，区別死産数'!D5+'5 月・自然-人工別，区別死産率'!R5)*1000 -> 19.301471 | E5: ='4 月・自然-人工別，区別死産数'!E5/('4 月・自然-人工別，区別死産数'!E5+'5 月・自然-人工別，区別死産率'!S5)*1000 -> 23.550725 | F5: ='4 月・自然-人工別，区別死産数'!F5/('4 月・自然-人工別，区別死産数'!F5+'5 月・自然-人工別，区別死産率'!T5)*1000 -> 20.20202 | G5: ='4 月・自然-人工別，区別死産数'!G5/('4 月・自然-人工別，区別死産数'!G5+'5 月・自然-人工別，区別死産率'!U5)*1000 -> 25.064823 | H5: ='4 月・自然-人工別，区別死産数'!H5/('4 月・自然-人工別，区別死産数'!H5+'5 月・自然-人工別，区別死産率'!V5)*1000 -> 26.315789 | I5: ='4 月・自然-人工別，区別死産数'!I5/('4 月・自然-人工別，区別死産数'!I5+'5 月・自然-人工別，区別死産率'!W5)*1000 -> 20 | ... N5: ='4 月・自然-人工別，区別死産数'!N5/('4 月・自然-人工別，区別死産数'!N5+'5 月・自然-人工別，区別死産率'!AB5)*1000 -> 25.862069 | P5: =[1]出生数!G4 -> 13248 | Q5: =[1]出生数!V4 -> 1135 | R5: =[1]出生数!W4 -> 1067 | S5: =[1]出生数!X4 -> 1078 | T5: =[1]出生数!Y4 -> 1067 | U5: =[1]出生数!Z4 -> 1128 | V5: =[1]出生数!AA4 -> 1110 | W5: =[1]出生数!AB4 -> 1127 | X5: =[1]出生数!AC4 -> 1218 | ... AB5: =[1]出生数!AG4 -> 1017
A6: 中央 | B6: ='4 月・自然-人工別，区別死産数'!B6/('4 月・自然-人工別，区別死産数'!B6+'5 月・自然-人工別，区別死産率'!P6)*1000 -> 43.335162 | C6: ='4 月・自然-人工別，区別死産数'!C6/('4 月・自然-人工別，区別死産数'!C6+'5 月・自然-人工別，区別死産率'!Q6)*1000 -> 55.172414 | D6: ='4 月・自然-人工別，区別死産数'!D6/('4 月・自然-人工別，区別死産数'!D6+'5 月・自然-人工別，区別死産率'!R6)*1000 -> 37.974684 | E6: ='4 月・自然-人工別，区別死産数'!E6/('4 月・自然-人工別，区別死産数'!E6+'5 月・自然-人工別，区別死産率'!S6)*1000 -> 25.974026 | F6: ='4 月・自然-人工別，区別死産数'!F6/('4 月・自然-人工別，区別死産数'!F6+'5 月・自然-人工別，区別死産率'!T6)*1000 -> 29.19708 | G6: ='4 月・自然-人工別，区別死産数'!G6/('4 月・自然-人工別，区別死産数'!G6+'5 月・自然-人工別，区別死産率'!U6)*1000 -> 31.25 | H6: ='4 月・自然-人工別，区別死産数'!H6/('4 月・自然-人工別，区別死産数'!H6+'5 月・自然-人工別，区別死産率'!V6)*1000 -> 88.050314 | I6: ='4 月・自然-人工別，区別死産数'!I6/('4 月・自然-人工別，区別死産数'!I6+'5 月・自然-人工別，区別死産率'!W6)*1000 -> 36.231884 | ... N6: ='4 月・自然-人工別，区別死産数'!N6/('4 月・自然-人工別，区別死産数'!N6+'5 月・自然-人工別，区別死産率'!AB6)*1000 -> 13.422819 | P6: =[1]出生数!G5 -> 1744 | Q6: =[1]出生数!V5 -> 137 | R6: =[1]出生数!W5 -> 152 | S6: =[1]出生数!X5 -> 150 | T6: =[1]出生数!Y5 -> 133 | U6: =[1]出生数!Z5 -> 155 | V6: =[1]出生数!AA5 -> 145 | W6: =[1]出生数!AB5 -> 133 | X6: =[1]出生数!AC5 -> 167 | ... AB6: =[1]出生数!AG5 -> 147
A7: 北 | B7: ='4 月・自然-人工別，区別死産数'!B7/('4 月・自然-人工別，区別死産数'!B7+'5 月・自然-人工別，区別死産率'!P7)*1000 -> 19.639066 | C7: ='4 月・自然-人工別，区別死産数'!C7/('4 月・自然-人工別，区別死産数'!C7+'5 月・自然-人工別，区別死産率'!Q7)*1000 -> 23.121387 | D7: ='4 月・自然-人工別，区別死産数'!D7/('4 月・自然-人工別，区別死産数'!D7+'5 月・自然-人工別，区別死産率'!R7)*1000 -> 21.126761 | E7: ='4 月・自然-人工別，区別死産数'!E7/('4 月・自然-人工別，区別死産数'!E7+'5 月・自然-人工別，区別死産率'!S7)*1000 -> 28.368794 | F7: ='4 月・自然-人工別，区別死産数'!F7/('4 月・自然-人工別，区別死産数'!F7+'5 月・自然-人工別，区別死産率'!T7)*1000 -> 28.368794 | G7: ='4 月・自然-人工別，区別死産数'!G7/('4 月・自然-人工別，区別死産数'!G7+'5 月・自然-人工別，区別死産率'!U7)*1000 -> 11.363636 | H7: ='4 月・自然-人工別，区別死産数'!H7/('4 月・自然-人工別，区別死産数'!H7+'5 月・自然-人工別，区別死産率'!V7)*1000 -> 0 | I7: ='4 月・自然-人工別，区別死産数'!I7/('4 月・自然-人工別，区別死産数'!I7+'5 月・自然-人工別，区別死産率'!W7)*1000 -> 17.751479 | ... N7: ='4 月・自然-人工別，区別死産数'!N7/('4 月・自然-人工別，区別死産数'!N7+'5 月・自然-人工別，区別死産率'!AB7)*1000 -> 28.985507 | P7: =[1]出生数!G6 -> 1847 | Q7: =[1]出生数!V6 -> 169 | R7: =[1]出生数!W6 -> 139 | S7: =[1]出生数!X6 -> 137 | T7: =[1]出生数!Y6 -> 137 | U7: =[1]出生数!Z6 -> 174 | V7: =[1]出生数!AA6 -> 164 | W7: =[1]出生数!AB6 -> 166 | X7: =[1]出生数!AC6 -> 183 | ... AB7: =[1]出生数!AG6 -> 134
A8: 東 | B8: ='4 月・自然-人工別，区別死産数'!B8/('4 月・自然-人工別，区別死産数'!B8+'5 月・自然-人工別，区別死産率'!P8)*1000 -> 26.574803 | C8: ='4 月・自然-人工別，区別死産数'!C8/('4 月・自然-人工別，区別死産数'!C8+'5 月・自然-人工別，区別死産率'!Q8)*1000 -> 34.682081 | D8: ='4 月・自然-人工別，区別死産数'!D8/('4 月・自然-人工別，区別死産数'!D8+'5 月・自然-人工別，区別死産率'!R8)*1000 -> 29.411765 | E8: ='4 月・自然-人工別，区別死産数'!E8/('4 月・自然-人工別，区別死産数'!E8+'5 月・自然-人工別，区別死産率'!S8)*1000 -> 24.242424 | F8: ='4 月・自然-人工別，区別死産数'!F8/('4 月・自然-人工別，区別死産数'!F8+'5 月・自然-人工別，区別死産率'!T8)*1000 -> 28.409091 | G8: ='4 月・自然-人工別，区別死産数'!G8/('4 月・自然-人工別，区別死産数'!G8+'5 月・自然-人工別，区別死産率'!U8)*1000 -> 24.096386 | H8: ='4 月・自然-人工別，区別死産数'!H8/('4 月・自然-人工別，区別死産数'!H8+'5 月・自然-人工別，区別死産率'!V8)*1000 -> 40.697674 | I8: ='4 月・自然-人工別，区別死産数'!I8/('4 月・自然-人工別，区別死産数'!I8+'5 月・自然-人工別，区別死産率'!W8)*1000 -> 11.049724 | ... N8: ='4 月・自然-人工別，区別死産数'!N8/('4 月・自然-人工別，区別死産数'!N8+'5 月・自然-人工別，区別死産率'!AB8)*1000 -> 26.666667 | P8: =[1]出生数!G7 -> 1978 | Q8: =[1]出生数!V7 -> 167 | R8: =[1]出生数!W7 -> 132 | S8: =[1]出生数!X7 -> 161 | T8: =[1]出生数!Y7 -> 171 | U8: =[1]出生数!Z7 -> 162 | V8: =[1]出生数!AA7 -> 165 | W8: =[1]出生数!AB7 -> 179 | X8: =[1]出生数!AC7 -> 171 | ... AB8: =[1]出生数!AG7 -> 146
A9: 白石 | B9: ='4 月・自然-人工別，区別死産数'!B9/('4 月・自然-人工別，区別死産数'!B9+'5 月・自然-人工別，区別死産率'!P9)*1000 -> 20.045819 | C9: ='4 月・自然-人工別，区別死産数'!C9/('4 月・自然-人工別，区別死産数'!C9+'5 月・自然-人工別，区別死産率'!Q9)*1000 -> 13.69863 | D9: ='4 月・自然-人工別，区別死産数'!D9/('4 月・自然-人工別，区別死産数'!D9+'5 月・自然-人工別，区別死産率'!R9)*1000 -> 6.7114094 | E9: ='4 月・自然-人工別，区別死産数'!E9/('4 月・自然-人工別，区別死産数'!E9+'5 月・自然-人工別，区別死産率'!S9)*1000 -> 39.0625 | F9: ='4 月・自然-人工別，区別死産数'!F9/('4 月・自然-人工別，区別死産数'!F9+'5 月・自然-人工別，区別死産率'!T9)*1000 -> 14.285714 | G9: ='4 月・自然-人工別，区別死産数'!G9/('4 月・自然-人工別，区別死産数'!G9+'5 月・自然-人工別，区別死産率'!U9)*1000 -> 21.126761 | H9: ='4 月・自然-人工別，区別死産数'!H9/('4 月・自然-人工別，区別死産数'!H9+'5 月・自然-人工別，区別死産率'!V9)*1000 -> 21.276596 | I9: ='4 月・自然-人工別，区別死産数'!I9/('4 月・自然-人工別，区別死産数'!I9+'5 月・自然-人工別，区別死産率'!W9)*1000 -> 20.547945 | ... N9: ='4 月・自然-人工別，区別死産数'!N9/('4 月・自然-人工別，区別死産数'!N9+'5 月・自然-人工別，区別死産率'!AB9)*1000 -> 7.518797 | P9: =[1]出生数!G8 -> 1711 | Q9: =[1]出生数!V8 -> 144 | R9: =[1]出生数!W8 -> 148 | S9: =[1]出生数!X8 -> 123 | T9: =[1]出生数!Y8 -> 138 | U9: =[1]出生数!Z8 -> 139 | V9: =[1]出生数!AA8 -> 138 | W9: =[1]出生数!AB8 -> 143 | X9: =[1]出生数!AC8 -> 145 | ... AB9: =[1]出生数!AG8 -> 132
A10: 厚別 | B10: ='4 月・自然-人工別，区別死産数'!B10/('4 月・自然-人工別，区別死産数'!B10+'5 月・自然-人工別，区別死産率'!P10)*1000 -> 23.633678 | C10: ='4 月・自然-人工別，区別死産数'!C10/('4 月・自然-人工別，区別死産数'!C10+'5 月・自然-人工別，区別死産率'!Q10)*1000 -> 18.518519 | D10: ='4 月・自然-人工別，区別死産数'!D10/('4 月・自然-人工別，区別死産数'!D10+'5 月・自然-人工別，区別死産率'!R10)*1000 -> 0 | E10: ='4 月・自然-人工別，区別死産数'!E10/('4 月・自然-人工別，区別死産数'!E10+'5 月・自然-人工別，区別死産率'!S10)*1000 -> 38.461538 | F10: ='4 月・自然-人工別，区別死産数'!F10/('4 月・自然-人工別，区別死産数'!F10+'5 月・自然-人工別，区別死産率'!T10)*1000 -> 32.258065 | G10: ='4 月・自然-人工別，区別死産数'!G10/('4 月・自然-人工別，区別死産数'!G10+'5 月・自然-人工別，区別死産率'!U10)*1000 -> 23.809524 | H10: ='4 月・自然-人工別，区別死産数'!H10/('4 月・自然-人工別，区別死産数'!H10+'5 月・自然-人工別，区別死産率'!V10)*1000 -> 38.461538 | I10: ='4 月・自然-人工別，区別死産数'!I10/('4 月・自然-人工別，区別死産数'!I10+'5 月・自然-人工別，区別死産率'!W10)*1000 -> 40 | ... N10: ='4 月・自然-人工別，区別死産数'!N10/('4 月・自然-人工別，区別死産数'!N10+'5 月・自然-人工別，区別死産率'!AB10)*1000 -> 35.714286 | P10: =[1]出生数!G9 -> 661 | Q10: =[1]出生数!V9 -> 53 | R10: =[1]出生数!W9 -> 53 | S10: =[1]出生数!X9 -> 50 | T10: =[1]出生数!Y9 -> 60 | U10: =[1]出生数!Z9 -> 41 | V10: =[1]出生数!AA9 -> 50 | W10: =[1]出生数!AB9 -> 48 | X10: =[1]出生数!AC9 -> 81 | ... AB10: =[1]出生数!AG9 -> 54
A11: 豊平 | B11: ='4 月・自然-人工別，区別死産数'!B11/('4 月・自然-人工別，区別死産数'!B11+'5 月・自然-人工別，区別死産率'!P11)*1000 -> 21.524142 | C11: ='4 月・自然-人工別，区別死産数'!C11/('4 月・自然-人工別，区別死産数'!C11+'5 月・自然-人工別，区別死産率'!Q11)*1000 -> 23.121387 | D11: ='4 月・自然-人工別，区別死産数'!D11/('4 月・自然-人工別，区別死産数'!D11+'5 月・自然-人工別，区別死産率'!R11)*1000 -> 6.4516129 | E11: ='4 月・自然-人工別，区別死産数'!E11/('4 月・自然-人工別，区別死産数'!E11+'5 月・自然-人工別，区別死産率'!S11)*1000 -> 20.833333 | F11: ='4 月・自然-人工別，区別死産数'!F11/('4 月・自然-人工別，区別死産数'!F11+'5 月・自然-人工別，区別死産率'!T11)*1000 -> 21.89781 | G11: ='4 月・自然-人工別，区別死産数'!G11/('4 月・自然-人工別，区別死産数'!G11+'5 月・自然-人工別，区別死産率'!U11)*1000 -> 43.478261 | H11: ='4 月・自然-人工別，区別死産数'!H11/('4 月・自然-人工別，区別死産数'!H11+'5 月・自然-人工別，区別死産率'!V11)*1000 -> 0 | I11: ='4 月・自然-人工別，区別死産数'!I11/('4 月・自然-人工別，区別死産数'!I11+'5 月・自然-人工別，区別死産率'!W11)*1000 -> 20.547945 | ... N11: ='4 月・自然-人工別，区別死産数'!N11/('4 月・自然-人工別，区別死産数'!N11+'5 月・自然-人工別，区別死産率'!AB11)*1000 -> 23.622047 | P11: =[1]出生数!G10 -> 1682 | Q11: =[1]出生数!V10 -> 169 | R11: =[1]出生数!W10 -> 154 | S11: =[1]出生数!X10 -> 141 | T11: =[1]出生数!Y10 -> 134 | U11: =[1]出生数!Z10 -> 132 | V11: =[1]出生数!AA10 -> 142 | W11: =[1]出生数!AB10 -> 143 | X11: =[1]出生数!AC10 -> 153 | ... AB11: =[1]出生数!AG10 -> 124
A12: 清田 | B12: ='4 月・自然-人工別，区別死産数'!B12/('4 月・自然-人工別，区別死産数'!B12+'5 月・自然-人工別，区別死産率'!P12)*1000 -> 15.29052 | C12: ='4 月・自然-人工別，区別死産数'!C12/('4 月・自然-人工別，区別死産数'!C12+'5 月・自然-人工別，区別死産率'!Q12)*1000 -> 37.037037 | D12: ='4 月・自然-人工別，区別死産数'!D12/('4 月・自然-人工別，区別死産数'!D12+'5 月・自然-人工別，区別死産率'!R12)*1000 -> 0 | E12: ='4 月・自然-人工別，区別死産数'!E12/('4 月・自然-人工別，区別死産数'!E12+'5 月・自然-人工別，区別死産率'!S12)*1000 -> 0 | F12: ='4 月・自然-人工別，区別死産数'!F12/('4 月・自然-人工別，区別死産数'!F12+'5 月・自然-人工別，区別死産率'!T12)*1000 -> 20 | G12: ='4 月・自然-人工別，区別死産数'!G12/('4 月・自然-人工別，区別死産数'!G12+'5 月・自然-人工別，区別死産率'!U12)*1000 -> 34.482759 | H12: ='4 月・自然-人工別，区別死産数'!H12/('4 月・自然-人工別，区別死産数'!H12+'5 月・自然-人工別，区別死産率'!V12)*1000 -> 14.705882 | I12: ='4 月・自然-人工別，区別死産数'!I12/('4 月・自然-人工別，区別死産数'!I12+'5 月・自然-人工別，区別死産率'!W12)*1000 -> 0 | ... N12: ='4 月・自然-人工別，区別死産数'!N12/('4 月・自然-人工別，区別死産数'!N12+'5 月・自然-人工別，区別死産率'!AB12)*1000 -> 0 | P12: =[1]出生数!G11 -> 644 | Q12: =[1]出生数!V11 -> 52 | R12: =[1]出生数!W11 -> 61 | S12: =[1]出生数!X11 -> 57 | T12: =[1]出生数!Y11 -> 49 | U12: =[1]出生数!Z11 -> 56 | V12: =[1]出生数!AA11 -> 67 | W12: =[1]出生数!AB11 -> 42 | X12: =[1]出生数!AC11 -> 62 | ... AB12: =[1]出生数!AG11 -> 54
A13: 南 | B13: ='4 月・自然-人工別，区別死産数'!B13/('4 月・自然-人工別，区別死産数'!B13+'5 月・自然-人工別，区別死産率'!P13)*1000 -> 33.13253 | C13: ='4 月・自然-人工別，区別死産数'!C13/('4 月・自然-人工別，区別死産数'!C13+'5 月・自然-人工別，区別死産率'!Q13)*1000 -> 22.222222 | D13: ='4 月・自然-人工別，区別死産数'!D13/('4 月・自然-人工別，区別死産数'!D13+'5 月・自然-人工別，区別死産率'!R13)*1000 -> 43.478261 | E13: ='4 月・自然-人工別，区別死産数'!E13/('4 月・自然-人工別，区別死産数'!E13+'5 月・自然-人工別，区別死産率'!S13)*1000 -> 15.873016 | F13: ='4 月・自然-人工別，区別死産数'!F13/('4 月・自然-人工別，区別死産数'!F13+'5 月・自然-人工別，区別死産率'!T13)*1000 -> 0 | G13: ='4 月・自然-人工別，区別死産数'!G13/('4 月・自然-人工別，区別死産数'!G13+'5 月・自然-人工別，区別死産率'!U13)*1000 -> 18.518519 | H13: ='4 月・自然-人工別，区別死産数'!H13/('4 月・自然-人工別，区別死産数'!H13+'5 月・自然-人工別，区別死産率'!V13)*1000 -> 17.241379 | I13: ='4 月・自然-人工別，区別死産数'!I13/('4 月・自然-人工別，区別死産数'!I13+'5 月・自然-人工別，区別死産率'!W13)*1000 -> 15.384615 | ... N13: ='4 月・自然-人工別，区別死産数'!N13/('4 月・自然-人工別，区別死産数'!N13+'5 月・自然-人工別，区別死産率'!AB13)*1000 -> 75.757576 | P13: =[1]出生数!G12 -> 642 | Q13: =[1]出生数!V12 -> 44 | R13: =[1]出生数!W12 -> 44 | S13: =[1]出生数!X12 -> 62 | T13: =[1]出生数!Y12 -> 47 | U13: =[1]出生数!Z12 -> 53 | V13: =[1]出生数!AA12 -> 57 | W13: =[1]出生数!AB12 -> 64 | X13: =[1]出生数!AC12 -> 46 | ... AB13: =[1]出生数!AG12 -> 61
A14: 西 | B14: ='4 月・自然-人工別，区別死産数'!B14/('4 月・自然-人工別，区別死産数'!B14+'5 月・自然-人工別，区別死産率'!P14)*1000 -> 25.477707 | C14: ='4 月・自然-人工別，区別死産数'!C14/('4 月・自然-人工別，区別死産数'!C14+'5 月・自然-人工別，区別死産率'!Q14)*1000 -> 36.231884 | D14: ='4 月・自然-人工別，区別死産数'!D14/('4 月・自然-人工別，区別死産数'!D14+'5 月・自然-人工別，区別死産率'!R14)*1000 -> 34.188034 | E14: ='4 月・自然-人工別，区別死産数'!E14/('4 月・自然-人工別，区別死産数'!E14+'5 月・自然-人工別，区別死産率'!S14)*1000 -> 16.393443 | F14: ='4 月・自然-人工別，区別死産数'!F14/('4 月・自然-人工別，区別死産数'!F14+'5 月・自然-人工別，区別死産率'!T14)*1000 -> 8.0645161 | G14: ='4 月・自然-人工別，区別死産数'!G14/('4 月・自然-人工別，区別死産数'!G14+'5 月・自然-人工別，区別死産率'!U14)*1000 -> 20.547945 | H14: ='4 月・自然-人工別，区別死産数'!H14/('4 月・自然-人工別，区別死産数'!H14+'5 月・自然-人工別，区別死産率'!V14)*1000 -> 7.4074074 | I14: ='4 月・自然-人工別，区別死産数'!I14/('4 月・自然-人工別，区別死産数'!I14+'5 月・自然-人工別，区別死産率'!W14)*1000 -> 26.845638 | ... N14: ='4 月・自然-人工別，区別死産数'!N14/('4 月・自然-人工別，区別死産数'!N14+'5 月・自然-人工別，区別死産率'!AB14)*1000 -> 17.391304 | P14: =[1]出生数!G13 -> 1530 | Q14: =[1]出生数!V13 -> 133 | R14: =[1]出生数!W13 -> 113 | S14: =[1]出生数!X13 -> 120 | T14: =[1]出生数!Y13 -> 123 | U14: =[1]出生数!Z13 -> 143 | V14: =[1]出生数!AA13 -> 134 | W14: =[1]出生数!AB13 -> 145 | X14: =[1]出生数!AC13 -> 133 | ... AB14: =[1]出生数!AG13 -> 113
A15: 手稲 | B15: ='4 月・自然-人工別，区別死産数'!B15/('4 月・自然-人工別，区別死産数'!B15+'5 月・自然-人工別，区別死産率'!P15)*1000 -> 19.393939 | C15: ='4 月・自然-人工別，区別死産数'!C15/('4 月・自然-人工別，区別死産数'!C15+'5 月・自然-人工別，区別死産率'!Q15)*1000 -> 28.985507 | D15: ='4 月・自然-人工別，区別死産数'!D15/('4 月・自然-人工別，区別死産数'!D15+'5 月・自然-人工別，区別死産率'!R15)*1000 -> 0 | E15: ='4 月・自然-人工別，区別死産数'!E15/('4 月・自然-人工別，区別死産数'!E15+'5 月・自然-人工別，区別死産率'!S15)*1000 -> 12.820513 | F15: ='4 月・自然-人工別，区別死産数'!F15/('4 月・自然-人工別，区別死産数'!F15+'5 月・自然-人工別，区別死産率'!T15)*1000 -> 0 | G15: ='4 月・自然-人工別，区別死産数'!G15/('4 月・自然-人工別，区別死産数'!G15+'5 月・自然-人工別，区別死産率'!U15)*1000 -> 26.666667 | H15: ='4 月・自然-人工別，区別死産数'!H15/('4 月・自然-人工別，区別死産数'!H15+'5 月・自然-人工別，区別死産率'!V15)*1000 -> 20.408163 | I15: ='4 月・自然-人工別，区別死産数'!I15/('4 月・自然-人工別，区別死産数'!I15+'5 月・自然-人工別，区別死産率'!W15)*1000 -> 0 | ... N15: ='4 月・自然-人工別，区別死産数'!N15/('4 月・自然-人工別，区別死産数'!N15+'5 月・自然-人工別，区別死産率'!AB15)*1000 -> 71.428571 | P15: =[1]出生数!G14 -> 809 | Q15: =[1]出生数!V14 -> 67 | R15: =[1]出生数!W14 -> 71 | S15: =[1]出生数!X14 -> 77 | T15: =[1]出生数!Y14 -> 75 | U15: =[1]出生数!Z14 -> 73 | V15: =[1]出生数!AA14 -> 48 | W15: =[1]出生数!AB14 -> 64 | X15: =[1]出生数!AC14 -> 77 | ... AB15: =[1]出生数!AG14 -> 52
B16: 自然死産率
A17: 総数 | B17: ='4 月・自然-人工別，区別死産数'!B17/('4 月・自然-人工別，区別死産数'!B5+'5 月・自然-人工別，区別死産率'!P5)*1000 -> 10.151537 | C17: ='4 月・自然-人工別，区別死産数'!C17/('4 月・自然-人工別，区別死産数'!C5+'5 月・自然-人工別，区別死産率'!Q5)*1000 -> 11.965812 | D17: ='4 月・自然-人工別，区別死産数'!D17/('4 月・自然-人工別，区別死産数'!D5+'5 月・自然-人工別，区別死産率'!R5)*1000 -> 10.110294 | E17: ='4 月・自然-人工別，区別死産数'!E17/('4 月・自然-人工別，区別死産数'!E5+'5 月・自然-人工別，区別死産率'!S5)*1000 -> 10.869565 | F17: ='4 月・自然-人工別，区別死産数'!F17/('4 月・自然-人工別，区別死産数'!F5+'5 月・自然-人工別，区別死産率'!T5)*1000 -> 7.3461892 | G17: ='4 月・自然-人工別，区別死産数'!G17/('4 月・自然-人工別，区別死産数'!G5+'5 月・自然-人工別，区別死産率'!U5)*1000 -> 12.100259 | H17: ='4 月・自然-人工別，区別死産数'!H17/('4 月・自然-人工別，区別死産数'!H5+'5 月・自然-人工別，区別死産率'!V5)*1000 -> 9.6491228 | I17: ='4 月・自然-人工別，区別死産数'!I17/('4 月・自然-人工別，区別死産数'!I5+'5 月・自然-人工別，区別死産率'!W5)*1000 -> 4.3478261 | ... N17: ='4 月・自然-人工別，区別死産数'!N17/('4 月・自然-人工別，区別死産数'!N5+'5 月・自然-人工別，区別死産率'!AB5)*1000 -> 8.6206897
A18: 中央 | B18: ='4 月・自然-人工別，区別死産数'!B18/('4 月・自然-人工別，区別死産数'!B6+'5 月・自然-人工別，区別死産率'!P6)*1000 -> 11.519473 | C18: ='4 月・自然-人工別，区別死産数'!C18/('4 月・自然-人工別，区別死産数'!C6+'5 月・自然-人工別，区別死産率'!Q6)*1000 -> 0 | D18: ='4 月・自然-人工別，区別死産数'!D18/('4 月・自然-人工別，区別死産数'!D6+'5 月・自然-人工別，区別死産率'!R6)*1000 -> 18.987342 | E18: ='4 月・自然-人工別，区別死産数'!E18/('4 月・自然-人工別，区別死産数'!E6+'5 月・自然-人工別，区別死産率'!S6)*1000 -> 6.4935065 | F18: ='4 月・自然-人工別，区別死産数'!F18/('4 月・自然-人工別，区別死産数'!F6+'5 月・自然-人工別，区別死産率'!T6)*1000 -> 7.2992701 | G18: ='4 月・自然-人工別，区別死産数'!G18/('4 月・自然-人工別，区別死産数'!G6+'5 月・自然-人工別，区別死産率'!U6)*1000 -> 6.25 | H18: ='4 月・自然-人工別，区別死産数'!H18/('4 月・自然-人工別，区別死産数'!H6+'5 月・自然-人工別，区別死産率'!V6)*1000 -> 12.578616 | I18: ='4 月・自然-人工別，区別死産数'!I18/('4 月・自然-人工別，区別死産数'!I6+'5 月・自然-人工別，区別死産率'!W6)*1000 -> 7.2463768 | ... N18: ='4 月・自然-人工別，区別死産数'!N18/('4 月・自然-人工別，区別死産数'!N6+'5 月・自然-人工別，区別死産率'!AB6)*1000 -> 0
A19: 北 | B19: ='4 月・自然-人工別，区別死産数'!B19/('4 月・自然-人工別，区別死産数'!B7+'5 月・自然-人工別，区別死産率'!P7)*1000 -> 10.615711 | C19: ='4 月・自然-人工別，区別死産数'!C19/('4 月・自然-人工別，区別死産数'!C7+'5 月・自然-人工別，区別死産率'!Q7)*1000 -> 11.560694 | D19: ='4 月・自然-人工別，区別死産数'!D19/('4 月・自然-人工別，区別死産数'!D7+'5 月・自然-人工別，区別死産率'!R7)*1000 -> 21.126761 | E19: ='4 月・自然-人工別，区別死産数'!E19/('4 月・自然-人工別，区別死産数'!E7+'5 月・自然-人工別，区別死産率'!S7)*1000 -> 28.368794 | F19: ='4 月・自然-人工別，区別死産数'!F19/('4 月・自然-人工別，区別死産数'!F7+'5 月・自然-人工別，区別死産率'!T7)*1000 -> 14.184397 | G19: ='4 月・自然-人工別，区別死産数'!G19/('4 月・自然-人工別，区別死産数'!G7+'5 月・自然-人工別，区別死産率'!U7)*1000 -> 5.6818182 | H19: ='4 月・自然-人工別，区別死産数'!H19/('4 月・自然-人工別，区別死産数'!H7+'5 月・自然-人工別，区別死産率'!V7)*1000 -> 0 | I19: ='4 月・自然-人工別，区別死産数'!I19/('4 月・自然-人工別，区別死産数'!I7+'5 月・自然-人工別，区別死産率'!W7)*1000 -> 0 | ... N19: ='4 月・自然-人工別，区別死産数'!N19/('4 月・自然-人工別，区別死産数'!N7+'5 月・自然-人工別，区別死産率'!AB7)*1000 -> 7.2463768
A20: 東 | B20: ='4 月・自然-人工別，区別死産数'!B20/('4 月・自然-人工別，区別死産数'!B8+'5 月・自然-人工別，区別死産率'!P8)*1000 -> 8.3661417 | C20: ='4 月・自然-人工別，区別死産数'!C20/('4 月・自然-人工別，区別死産数'!C8+'5 月・自然-人工別，区別死産率'!Q8)*1000 -> 23.121387 | D20: ='4 月・自然-人工別，区別死産数'!D20/('4 月・自然-人工別，区別死産数'!D8+'5 月・自然-人工別，区別死産率'!R8)*1000 -> 22.058824 | E20: ='4 月・自然-人工別，区別死産数'!E20/('4 月・自然-人工別，区別死産数'!E8+'5 月・自然-人工別，区別死産率'!S8)*1000 -> 6.0606061 | F20: ='4 月・自然-人工別，区別死産数'!F20/('4 月・自然-人工別，区別死産数'!F8+'5 月・自然-人工別，区別死産率'!T8)*1000 -> 5.6818182 | G20: ='4 月・自然-人工別，区別死産数'!G20/('4 月・自然-人工別，区別死産数'!G8+'5 月・自然-人工別，区別死産率'!U8)*1000 -> 12.048193 | H20: ='4 月・自然-人工別，区別死産数'!H20/('4 月・自然-人工別，区別死産数'!H8+'5 月・自然-人工別，区別死産率'!V8)*1000 -> 17.44186 | I20: ='4 月・自然-人工別，区別死産数'!I20/('4 月・自然-人工別，区別死産数'!I8+'5 月・自然-人工別，区別死産率'!W8)*1000 -> 5.5248619 | ... N20: ='4 月・自然-人工別，区別死産数'!N20/('4 月・自然-人工別，区別死産数'!N8+'5 月・自然-人工別，区別死産率'!AB8)*1000 -> 0
A21: 白石 | B21: ='4 月・自然-人工別，区別死産数'!B21/('4 月・自然-人工別，区別死産数'!B9+'5 月・自然-人工別，区別死産率'!P9)*1000 -> 9.7365407 | C21: ='4 月・自然-人工別，区別死産数'!C21/('4 月・自然-人工別，区別死産数'!C9+'5 月・自然-人工別，区別死産率'!Q9)*1000 -> 13.69863 | D21: ='4 月・自然-人工別，区別死産数'!D21/('4 月・自然-人工別，区別死産数'!D9+'5 月・自然-人工別，区別死産率'!R9)*1000 -> 0 | E21: ='4 月・自然-人工別，区別死産数'!E21/('4 月・自然-人工別，区別死産数'!E9+'5 月・自然-人工別，区別死産率'!S9)*1000 -> 7.8125 | F21: ='4 月・自然-人工別，区別死産数'!F21/('4 月・自然-人工別，区別死産数'!F9+'5 月・自然-人工別，区別死産率'!T9)*1000 -> 14.285714 | G21: ='4 月・自然-人工別，区別死産数'!G21/('4 月・自然-人工別，区別死産数'!G9+'5 月・自然-人工別，区別死産率'!U9)*1000 -> 7.0422535 | H21: ='4 月・自然-人工別，区別死産数'!H21/('4 月・自然-人工別，区別死産数'!H9+'5 月・自然-人工別，区別死産率'!V9)*1000 -> 7.0921986 | I21: ='4 月・自然-人工別，区別死産数'!I21/('4 月・自然-人工別，区別死産数'!I9+'5 月・自然-人工別，区別死産率'!W9)*1000 -> 6.8493151 | ... N21: ='4 月・自然-人工別，区別死産数'!N21/('4 月・自然-人工別，区別死産数'!N9+'5 月・自然-人工別，区別死産率'!AB9)*1000 -> 7.518797
A22: 厚別 | B22: ='4 月・自然-人工別，区別死産数'!B22/('4 月・自然-人工別，区別死産数'!B10+'5 月・自然-人工別，区別死産率'!P10)*1000 -> 11.816839 | C22: ='4 月・自然-人工別，区別死産数'!C22/('4 月・自然-人工別，区別死産数'!C10+'5 月・自然-人工別，区別死産率'!Q10)*1000 -> 18.518519 | D22: ='4 月・自然-人工別，区別死産数'!D22/('4 月・自然-人工別，区別死産数'!D10+'5 月・自然-人工別，区別死産率'!R10)*1000 -> 0 | E22: ='4 月・自然-人工別，区別死産数'!E22/('4 月・自然-人工別，区別死産数'!E10+'5 月・自然-人工別，区別死産率'!S10)*1000 -> 19.230769 | F22: ='4 月・自然-人工別，区別死産数'!F22/('4 月・自然-人工別，区別死産数'!F10+'5 月・自然-人工別，区別死産率'!T10)*1000 -> 0 | G22: ='4 月・自然-人工別，区別死産数'!G22/('4 月・自然-人工別，区別死産数'!G10+'5 月・自然-人工別，区別死産率'!U10)*1000 -> 23.809524 | H22: ='4 月・自然-人工別，区別死産数'!H22/('4 月・自然-人工別，区別死産数'!H10+'5 月・自然-人工別，区別死産率'!V10)*1000 -> 38.461538 | I22: ='4 月・自然-人工別，区別死産数'!I22/('4 月・自然-人工別，区別死産数'!I10+'5 月・自然-人工別，区別死産率'!W10)*1000 -> 20 | ... N22: ='4 月・自然-人工別，区別死産数'!N22/('4 月・自然-人工別，区別死産数'!N10+'5 月・自然-人工別，区別死産率'!AB10)*1000 -> 0
A23: 豊平 | B23: ='4 月・自然-人工別，区別死産数'!B23/('4 月・自然-人工別，区別死産数'!B11+'5 月・自然-人工別，区別死産率'!P11)*1000 -> 9.3077371 | C23: ='4 月・自然-人工別，区別死産数'!C23/('4 月・自然-人工別，区別死産数'!C11+'5 月・自然-人工別，区別死産率'!Q11)*1000 -> 5.7803468 | D23: ='4 月・自然-人工別，区別死産数'!D23/('4 月・自然-人工別，区別死産数'!D11+'5 月・自然-人工別，区別死産率'!R11)*1000 -> 0 | E23: ='4 月・自然-人工別，区別死産数'!E23/('4 月・自然-人工別，区別死産数'!E11+'5 月・自然-人工別，区別死産率'!S11)*1000 -> 13.888889 | F23: ='4 月・自然-人工別，区別死産数'!F23/('4 月・自然-人工別，区別死産数'!F11+'5 月・自然-人工別，区別死産率'!T11)*1000 -> 14.59854 | G23: ='4 月・自然-人工別，区別死産数'!G23/('4 月・自然-人工別，区別死産数'!G11+'5 月・自然-人工別，区別死産率'!U11)*1000 -> 14.492754 | H23: ='4 月・自然-人工別，区別死産数'!H23/('4 月・自然-人工別，区別死産数'!H11+'5 月・自然-人工別，区別死産率'!V11)*1000 -> 0 | I23: ='4 月・自然-人工別，区別死産数'!I23/('4 月・自然-人工別，区別死産数'!I11+'5 月・自然-人工別，区別死産率'!W11)*1000 -> 6.8493151 | ... N23: ='4 月・自然-人工別，区別死産数'!N23/('4 月・自然-人工別，区別死産数'!N11+'5 月・自然-人工別，区別死産率'!AB11)*1000 -> 15.748031
A24: 清田 | B24: ='4 月・自然-人工別，区別死産数'!B24/('4 月・自然-人工別，区別死産数'!B12+'5 月・自然-人工別，区別死産率'!P12)*1000 -> 4.587156 | C24: ='4 月・自然-人工別，区別死産数'!C24/('4 月・自然-人工別，区別死産数'!C12+'5 月・自然-人工別，区別死産率'!Q12)*1000 -> 0 | D24: ='4 月・自然-人工別，区別死産数'!D24/('4 月・自然-人工別，区別死産数'!D12+'5 月・自然-人工別，区別死産率'!R12)*1000 -> 0 | E24: ='4 月・自然-人工別，区別死産数'!E24/('4 月・自然-人工別，区別死産数'!E12+'5 月・自然-人工別，区別死産率'!S12)*1000 -> 0 | F24: ='4 月・自然-人工別，区別死産数'!F24/('4 月・自然-人工別，区別死産数'!F12+'5 月・自然-人工別，区別死産率'!T12)*1000 -> 0 | G24: ='4 月・自然-人工別，区別死産数'!G24/('4 月・自然-人工別，区別死産数'!G12+'5 月・自然-人工別，区別死産率'!U12)*1000 -> 17.241379 | H24: ='4 月・自然-人工別，区別死産数'!H24/('4 月・自然-人工別，区別死産数'!H12+'5 月・自然-人工別，区別死産率'!V12)*1000 -> 0 | I24: ='4 月・自然-人工別，区別死産数'!I24/('4 月・自然-人工別，区別死産数'!I12+'5 月・自然-人工別，区別死産率'!W12)*1000 -> 0 | ... N24: ='4 月・自然-人工別，区別死産数'!N24/('4 月・自然-人工別，区別死産数'!N12+'5 月・自然-人工別，区別死産率'!AB12)*1000 -> 0
A25: 南 | B25: ='4 月・自然-人工別，区別死産数'!B25/('4 月・自然-人工別，区別死産数'!B13+'5 月・自然-人工別，区別死産率'!P13)*1000 -> 18.072289 | C25: ='4 月・自然-人工別，区別死産数'!C25/('4 月・自然-人工別，区別死産数'!C13+'5 月・自然-人工別，区別死産率'!Q13)*1000 -> 22.222222 | D25: ='4 月・自然-人工別，区別死産数'!D25/('4 月・自然-人工別，区別死産数'!D13+'5 月・自然-人工別，区別死産率'!R13)*1000 -> 21.73913 | E25: ='4 月・自然-人工別，区別死産数'!E25/('4 月・自然-人工別，区別死産数'!E13+'5 月・自然-人工別，区別死産率'!S13)*1000 -> 0 | F25: ='4 月・自然-人工別，区別死産数'!F25/('4 月・自然-人工別，区別死産数'!F13+'5 月・自然-人工別，区別死産率'!T13)*1000 -> 0 | G25: ='4 月・自然-人工別，区別死産数'!G25/('4 月・自然-人工別，区別死産数'!G13+'5 月・自然-人工別，区別死産率'!U13)*1000 -> 18.518519 | H25: ='4 月・自然-人工別，区別死産数'!H25/('4 月・自然-人工別，区別死産数'!H13+'5 月・自然-人工別，区別死産率'!V13)*1000 -> 17.241379 | I25: ='4 月・自然-人工別，区別死産数'!I25/('4 月・自然-人工別，区別死産数'!I13+'5 月・自然-人工別，区別死産率'!W13)*1000 -> 0 | ... N25: ='4 月・自然-人工別，区別死産数'!N25/('4 月・自然-人工別，区別死産数'!N13+'5 月・自然-人工別，区別死産率'!AB13)*1000 -> 45.454545
A26: 西 | B26: ='4 月・自然-人工別，区別死産数'!B26/('4 月・自然-人工別，区別死産数'!B14+'5 月・自然-人工別，区別死産率'!P14)*1000 -> 10.828025 | C26: ='4 月・自然-人工別，区別死産数'!C26/('4 月・自然-人工別，区別死産数'!C14+'5 月・自然-人工別，区別死産率'!Q14)*1000 -> 14.492754 | D26: ='4 月・自然-人工別，区別死産数'!D26/('4 月・自然-人工別，区別死産数'!D14+'5 月・自然-人工別，区別死産率'!R14)*1000 -> 8.5470085 | E26: ='4 月・自然-人工別，区別死産数'!E26/('4 月・自然-人工別，区別死産数'!E14+'5 月・自然-人工別，区別死産率'!S14)*1000 -> 8.1967213 | F26: ='4 月・自然-人工別，区別死産数'!F26/('4 月・自然-人工別，区別死産数'!F14+'5 月・自然-人工別，区別死産率'!T14)*1000 -> 0 | G26: ='4 月・自然-人工別，区別死産数'!G26/('4 月・自然-人工別，区別死産数'!G14+'5 月・自然-人工別，区別死産率'!U14)*1000 -> 20.547945 | H26: ='4 月・自然-人工別，区別死産数'!H26/('4 月・自然-人工別，区別死産数'!H14+'5 月・自然-人工別，区別死産率'!V14)*1000 -> 7.4074074 | I26: ='4 月・自然-人工別，区別死産数'!I26/('4 月・自然-人工別，区別死産数'!I14+'5 月・自然-人工別，区別死産率'!W14)*1000 -> 0 | ... N26: ='4 月・自然-人工別，区別死産数'!N26/('4 月・自然-人工別，区別死産数'!N14+'5 月・自然-人工別，区別死産率'!AB14)*1000 -> 0
A27: 手稲 | B27: ='4 月・自然-人工別，区別死産数'!B27/('4 月・自然-人工別，区別死産数'!B15+'5 月・自然-人工別，区別死産率'!P15)*1000 -> 8.4848485 | C27: ='4 月・自然-人工別，区別死産数'!C27/('4 月・自然-人工別，区別死産数'!C15+'5 月・自然-人工別，区別死産率'!Q15)*1000 -> 14.492754 | D27: ='4 月・自然-人工別，区別死産数'!D27/('4 月・自然-人工別，区別死産数'!D15+'5 月・自然-人工別，区別死産率'!R15)*1000 -> 0 | E27: ='4 月・自然-人工別，区別死産数'!E27/('4 月・自然-人工別，区別死産数'!E15+'5 月・自然-人工別，区別死産率'!S15)*1000 -> 12.820513 | F27: ='4 月・自然-人工別，区別死産数'!F27/('4 月・自然-人工別，区別死産数'!F15+'5 月・自然-人工別，区別死産率'!T15)*1000 -> 0 | G27: ='4 月・自然-人工別，区別死産数'!G27/('4 月・自然-人工別，区別死産数'!G15+'5 月・自然-人工別，区別死産率'!U15)*1000 -> 13.333333 | H27: ='4 月・自然-人工別，区別死産数'!H27/('4 月・自然-人工別，区別死産数'!H15+'5 月・自然-人工別，区別死産率'!V15)*1000 -> 20.408163 | I27: ='4 月・自然-人工別，区別死産数'!I27/('4 月・自然-人工別，区別死産数'!I15+'5 月・自然-人工別，区別死産率'!W15)*1000 -> 0 | ... N27: ='4 月・自然-人工別，区別死産数'!N27/('4 月・自然-人工別，区別死産数'!N15+'5 月・自然-人工別，区別死産率'!AB15)*1000 -> 35.714286
B28: 人工死産率
A29: 総数 | B29: ='4 月・自然-人工別，区別死産数'!B29/('4 月・自然-人工別，区別死産数'!B5+'5 月・自然-人工別，区別死産率'!P5)*1000 -> 15.300868 | C29: ='4 月・自然-人工別，区別死産数'!C29/('4 月・自然-人工別，区別死産数'!C5+'5 月・自然-人工別，区別死産率'!Q5)*1000 -> 17.948718 | D29: ='4 月・自然-人工別，区別死産数'!D29/('4 月・自然-人工別，区別死産数'!D5+'5 月・自然-人工別，区別死産率'!R5)*1000 -> 9.1911765 | E29: ='4 月・自然-人工別，区別死産数'!E29/('4 月・自然-人工別，区別死産数'!E5+'5 月・自然-人工別，区別死産率'!S5)*1000 -> 12.681159 | F29: ='4 月・自然-人工別，区別死産数'!F29/('4 月・自然-人工別，区別死産数'!F5+'5 月・自然-人工別，区別死産率'!T5)*1000 -> 12.855831 | G29: ='4 月・自然-人工別，区別死産数'!G29/('4 月・自然-人工別，区別死産数'!G5+'5 月・自然-人工別，区別死産率'!U5)*1000 -> 12.964564 | H29: ='4 月・自然-人工別，区別死産数'!H29/('4 月・自然-人工別，区別死産数'!H5+'5 月・自然-人工別，区別死産率'!V5)*1000 -> 16.666667 | I29: ='4 月・自然-人工別，区別死産数'!I29/('4 月・自然-人工別，区別死産数'!I5+'5 月・自然-人工別，区別死産率'!W5)*1000 -> 15.652174 | ... N29: ='4 月・自然-人工別，区別死産数'!N29/('4 月・自然-人工別，区別死産数'!N5+'5 月・自然-人工別，区別死産率'!AB5)*1000 -> 17.241379
A30: 中央 | B30: ='4 月・自然-人工別，区別死産数'!B30/('4 月・自然-人工別，区別死産数'!B6+'5 月・自然-人工別，区別死産率'!P6)*1000 -> 31.815688 | C30: ='4 月・自然-人工別，区別死産数'!C30/('4 月・自然-人工別，区別死産数'!C6+'5 月・自然-人工別，区別死産率'!Q6)*1000 -> 55.172414 | D30: ='4 月・自然-人工別，区別死産数'!D30/('4 月・自然-人工別，区別死産数'!D6+'5 月・自然-人工別，区別死産率'!R6)*1000 -> 18.987342 | E30: ='4 月・自然-人工別，区別死産数'!E30/('4 月・自然-人工別，区別死産数'!E6+'5 月・自然-人工別，区別死産率'!S6)*1000 -> 19.480519 | F30: ='4 月・自然-人工別，区別死産数'!F30/('4 月・自然-人工別，区別死産数'!F6+'5 月・自然-人工別，区別死産率'!T6)*1000 -> 21.89781 | G30: ='4 月・自然-人工別，区別死産数'!G30/('4 月・自然-人工別，区別死産数'!G6+'5 月・自然-人工別，区別死産率'!U6)*1000 -> 25 | H30: ='4 月・自然-人工別，区別死産数'!H30/('4 月・自然-人工別，区別死産数'!H6+'5 月・自然-人工別，区別死産率'!V6)*1000 -> 75.471698 | I30: ='4 月・自然-人工別，区別死産数'!I30/('4 月・自然-人工別，区別死産数'!I6+'5 月・自然-人工別，区別死産率'!W6)*1000 -> 28.985507 | ... N30: ='4 月・自然-人工別，区別死産数'!N30/('4 月・自然-人工別，区別死産数'!N6+'5 月・自然-人工別，区別死産率'!AB6)*1000 -> 13.422819
A31: 北 | B31: ='4 月・自然-人工別，区別死産数'!B31/('4 月・自然-人工別，区別死産数'!B7+'5 月・自然-人工別，区別死産率'!P7)*1000 -> 9.0233546 | C31: ='4 月・自然-人工別，区別死産数'!C31/('4 月・自然-人工別，区別死産数'!C7+'5 月・自然-人工別，区別死産率'!Q7)*1000 -> 11.560694 | D31: ='4 月・自然-人工別，区別死産数'!D31/('4 月・自然-人工別，区別死産数'!D7+'5 月・自然-人工別，区別死産率'!R7)*1000 -> 0 | E31: ='4 月・自然-人工別，区別死産数'!E31/('4 月・自然-人工別，区別死産数'!E7+'5 月・自然-人工別，区別死産率'!S7)*1000 -> 0 | F31: ='4 月・自然-人工別，区別死産数'!F31/('4 月・自然-人工別，区別死産数'!F7+'5 月・自然-人工別，区別死産率'!T7)*1000 -> 14.184397 | G31: ='4 月・自然-人工別，区別死産数'!G31/('4 月・自然-人工別，区別死産数'!G7+'5 月・自然-人工別，区別死産率'!U7)*1000 -> 5.6818182 | H31: ='4 月・自然-人工別，区別死産数'!H31/('4 月・自然-人工別，区別死産数'!H7+'5 月・自然-人工別，区別死産率'!V7)*1000 -> 0 | I31: ='4 月・自然-人工別，区別死産数'!I31/('4 月・自然-人工別，区別死産数'!I7+'5 月・自然-人工別，区別死産率'!W7)*1000 -> 17.751479 | ... N31: ='4 月・自然-人工別，区別死産数'!N31/('4 月・自然-人工別，区別死産数'!N7+'5 月・自然-人工別，区別死産率'!AB7)*1000 -> 21.73913
A32: 東 | B32: ='4 月・自然-人工別，区別死産数'!B32/('4 月・自然-人工別，区別死産数'!B8+'5 月・自然-人工別，区別死産率'!P8)*1000 -> 18.208661 | C32: ='4 月・自然-人工別，区別死産数'!C32/('4 月・自然-人工別，区別死産数'!C8+'5 月・自然-人工別，区別死産率'!Q8)*1000 -> 11.560694 | D32: ='4 月・自然-人工別，区別死産数'!D32/('4 月・自然-人工別，区別死産数'!D8+'5 月・自然-人工別，区別死産率'!R8)*1000 -> 7.3529412 | E32: ='4 月・自然-人工別，区別死産数'!E32/('4 月・自然-人工別，区別死産数'!E8+'5 月・自然-人工別，区別死産率'!S8)*1000 -> 18.181818 | F32: ='4 月・自然-人工別，区別死産数'!F32/('4 月・自然-人工別，区別死産数'!F8+'5 月・自然-人工別，区別死産率'!T8)*1000 -> 22.727273 | G32: ='4 月・自然-人工別，区別死産数'!G32/('4 月・自然-人工別，区別死産数'!G8+'5 月・自然-人工別，区別死産率'!U8)*1000 -> 12.048193 | H32: ='4 月・自然-人工別，区別死産数'!H32/('4 月・自然-人工別，区別死産数'!H8+'5 月・自然-人工別，区別死産率'!V8)*1000 -> 23.255814 | I32: ='4 月・自然-人工別，区別死産数'!I32/('4 月・自然-人工別，区別死産数'!I8+'5 月・自然-人工別，区別死産率'!W8)*1000 -> 5.5248619 | ... N32: ='4 月・自然-人工別，区別死産数'!N32/('4 月・自然-人工別，区別死産数'!N8+'5 月・自然-人工別，区別死産率'!AB8)*1000 -> 26.666667
A33: 白石 | B33: ='4 月・自然-人工別，区別死産数'!B33/('4 月・自然-人工別，区別死産数'!B9+'5 月・自然-人工別，区別死産率'!P9)*1000 -> 10.309278 | C33: ='4 月・自然-人工別，区別死産数'!C33/('4 月・自然-人工別，区別死産数'!C9+'5 月・自然-人工別，区別死産率'!Q9)*1000 -> 0 | D33: ='4 月・自然-人工別，区別死産数'!D33/('4 月・自然-人工別，区別死産数'!D9+'5 月・自然-人工別，区別死産率'!R9)*1000 -> 6.7114094 | E33: ='4 月・自然-人工別，区別死産数'!E33/('4 月・自然-人工別，区別死産数'!E9+'5 月・自然-人工別，区別死産率'!S9)*1000 -> 31.25 | F33: ='4 月・自然-人工別，区別死産数'!F33/('4 月・自然-人工別，区別死産数'!F9+'5 月・自然-人工別，区別死産率'!T9)*1000 -> 0 | G33: ='4 月・自然-人工別，区別死産数'!G33/('4 月・自然-人工別，区別死産数'!G9+'5 月・自然-人工別，区別死産率'!U9)*1000 -> 14.084507 | H33: ='4 月・自然-人工別，区別死産数'!H33/('4 月・自然-人工別，区別死産数'!H9+'5 月・自然-人工別，区別死産率'!V9)*1000 -> 14.184397 | I33: ='4 月・自然-人工別，区別死産数'!I33/('4 月・自然-人工別，区別死産数'!I9+'5 月・自然-人工別，区別死産率'!W9)*1000 -> 13.69863 | ... N33: ='4 月・自然-人工別，区別死産数'!N33/('4 月・自然-人工別，区別死産数'!N9+'5 月・自然-人工別，区別死産率'!AB9)*1000 -> 0
A34: 厚別 | B34: ='4 月・自然-人工別，区別死産数'!B34/('4 月・自然-人工別，区別死産数'!B10+'5 月・自然-人工別，区別死産率'!P10)*1000 -> 11.816839 | C34: ='4 月・自然-人工別，区別死産数'!C34/('4 月・自然-人工別，区別死産数'!C10+'5 月・自然-人工別，区別死産率'!Q10)*1000 -> 0 | D34: ='4 月・自然-人工別，区別死産数'!D34/('4 月・自然-人工別，区別死産数'!D10+'5 月・自然-人工別，区別死産率'!R10)*1000 -> 0 | E34: ='4 月・自然-人工別，区別死産数'!E34/('4 月・自然-人工別，区別死産数'!E10+'5 月・自然-人工別，区別死産率'!S10)*1000 -> 19.230769 | F34: ='4 月・自然-人工別，区別死産数'!F34/('4 月・自然-人工別，区別死産数'!F10+'5 月・自然-人工別，区別死産率'!T10)*1000 -> 32.258065 | G34: ='4 月・自然-人工別，区別死産数'!G34/('4 月・自然-人工別，区別死産数'!G10+'5 月・自然-人工別，区別死産率'!U10)*1000 -> 0 | H34: ='4 月・自然-人工別，区別死産数'!H34/('4 月・自然-人工別，区別死産数'!H10+'5 月・自然-人工別，区別死産率'!V10)*1000 -> 0 | I34: ='4 月・自然-人工別，区別死産数'!I34/('4 月・自然-人工別，区別死産数'!I10+'5 月・自然-人工別，区別死産率'!W10)*1000 -> 20 | ... N34: ='4 月・自然-人工別，区別死産数'!N34/('4 月・自然-人工別，区別死産数'!N10+'5 月・自然-人工別，区別死産率'!AB10)*1000 -> 35.714286
A35: 豊平 | B35: ='4 月・自然-人工別，区別死産数'!B35/('4 月・自然-人工別，区別死産数'!B11+'5 月・自然-人工別，区別死産率'!P11)*1000 -> 12.216405 | C35: ='4 月・自然-人工別，区別死産数'!C35/('4 月・自然-人工別，区別死産数'!C11+'5 月・自然-人工別，区別死産率'!Q11)*1000 -> 17.34104 | D35: ='4 月・自然-人工別，区別死産数'!D35/('4 月・自然-人工別，区別死産数'!D11+'5 月・自然-人工別，区別死産率'!R11)*1000 -> 6.4516129 | E35: ='4 月・自然-人工別，区別死産数'!E35/('4 月・自然-人工別，区別死産数'!E11+'5 月・自然-人工別，区別死産率'!S11)*1000 -> 6.9444444 | F35: ='4 月・自然-人工別，区別死産数'!F35/('4 月・自然-人工別，区別死産数'!F11+'5 月・自然-人工別，区別死産率'!T11)*1000 -> 7.2992701 | G35: ='4 月・自然-人工別，区別死産数'!G35/('4 月・自然-人工別，区別死産数'!G11+'5 月・自然-人工別，区別死産率'!U11)*1000 -> 28.985507 | H35: ='4 月・自然-人工別，区別死産数'!H35/('4 月・自然-人工別，区別死産数'!H11+'5 月・自然-人工別，区別死産率'!V11)*1000 -> 0 | I35: ='4 月・自然-人工別，区別死産数'!I35/('4 月・自然-人工別，区別死産数'!I11+'5 月・自然-人工別，区別死産率'!W11)*1000 -> 13.69863 | ... N35: ='4 月・自然-人工別，区別死産数'!N35/('4 月・自然-人工別，区別死産数'!N11+'5 月・自然-人工別，区別死産率'!AB11)*1000 -> 7.8740157
