Workbook

Sheet 1　年次別，死亡数・粗死亡率・年齢調整死亡率・死亡性比
A1: 第3章 死 亡
A2: 1 年次別にみた死亡数・粗死亡率(人口千対)・年齢調整死亡率及び死亡性比
A4: 年次 | B4: 死亡数 | E4: 粗死亡率 | H4: 年齢調整死亡率 2) | K4: 死亡性比
B5: 総数 | C5: 男 | D5: 女 | E5: 総数 | F5: 男 | G5: 女 | H5: 総数 | I5: 男 | J5: 女
A6: 1950 昭和25年 | B6: 2568 | C6: 1369 | D6: 1199 | E6: 8.1822527 | F6: 8.7593576 | G6: 7.6097994 | H6: 14.383146 | I6: … | J6: … | K6: 114.17848 | M6: 313850 | N6: 156290 | O6: 157560
A7: 55 30 | B7: 2565 | C7: 1376 | D7: 1189 | E7: 6.0123764 | F7: 6.4017568 | G7: 5.6169955 | H7: 11.339229 | I7: … | J7: … | K7: 115.7275 | M7: 426620 | N7: 214941 | O7: 211679
A8: 60 35 | B8: 2927 | C8: 1603 | D8: 1316 | E8: 5.5875947 | F8: 6.0635405 | G8: 5.0718382 | H8: 11.73702 | I8: 14.421391 | J8: 9.7224069 | K8: 121.80851 | M8: 523839 | N8: 264367 | O8: 259472
A9: 65 40 | B9: 3893 | C9: 2143 | D9: 1750 | E9: 4.8974221 | F9: 5.3555586 | G9: 4.4330396 | H9: 10.687308 | I9: 12.716137 | J9: 9.0231122 | K9: 122.45714 | M9: 794908 | N9: 400145 | O9: 394763
A10: 70 45 | B10: 4660 | C10: 2647 | D10: 2013 | E10: 4.6132996 | F10: 5.2607834 | G10: 3.9706805 | H10: 9.1140726 | I10: 11.194551 | J10: 7.4089445 | K10: 131.49528 | M10: 1010123 | N10: 503157 | O10: 506966
A11: 72 47 | B11: 4775 | C11: 2707 | D11: 2068 | E11: 4.3444557 | F11: 4.9521886 | G11: 3.7431558 | H11: … | I11: … | J11: … | K11: 130.89942 | M11: 1099102 | N11: 546627 | O11: 552475
A12: 73 48 | B12: 5173 | C12: 2872 | D12: 2301 | E12: 4.4889823 | F12: 5.0084491 | G12: 3.9744639 | H12: … | I12: … | J12: … | K12: 124.8153 | M12: 1152377 | N12: 573431 | O12: 578946
A13: 74 49 | B13: 5156 | C13: 2821 | D13: 2335 | E13: 4.2913097 | F13: 4.7438234 | G13: 3.8478651 | H13: 8.4017736 | I13: 10.025517 | J13: 7.0718195 | K13: 120.8137 | M13: 1201498 | N13: 594668 | O13: 606830
A14: 75 50 | B14: 5405 | C14: 2919 | D14: 2486 | E14: 4.3567172 | F14: 4.7499483 | G14: 3.9707386 | H14: 8.263264 | I14: 9.7778434 | J14: 7.0238914 | K14: 117.41754 | M14: 1240613 | N14: 614533 | O14: 626080
A15: 76 51 | B15: 5460 | C15: 3069 | D15: 2391 | E15: 4.2805132 | F15: 4.8631843 | G15: 3.7099677 | H15: 7.0150413 | I15: 8.5754261 | J15: 6.3331775 | K15: 128.35634 | M15: 1275548 | N15: 631068 | O15: 644480
A16: 77 52 | B16: 5623 | C16: 3107 | D16: 2516 | E16: 4.3065286 | F16: 4.8175099 | G16: 3.8077769 | H16: 7.8802163 | I16: 9.8353788 | J16: 6.407402 | K16: 123.48967 | M16: 1305692 | N16: 644939 | O16: 660753
A17: 78 53 | B17: 5717 | C17: 3172 | D17: 2545 | E17: 4.2865294 | F17: 4.8199289 | G17: 3.766955 | H17: 7.5349266 | I17: 9.1911779 | J17: 6.1738203 | K17: 124.63654 | M17: 1333713 | N17: 658101 | O17: 675612
A18: 79 54 | B18: 5835 | C18: 3267 | D18: 2568 | E18: 4.2680839 | F18: 4.8449742 | G18: 3.7066065 | H18: 7.1541373 | I18: 8.7082431 | J18: 5.8451066 | K18: 127.21963 | M18: 1367124 | N18: 674307 | O18: 692817
A19: 80 55 | B19: 6342 | C19: 3443 | D19: 2899 | E19: 4.524322 | F19: 4.9822229 | G19: 4.079077 | H19: 7.5469717 | I19: 9.1681149 | J19: 6.26174 | K19: 118.76509 | M19: 1401757 | N19: 691057 | O19: 710700
A20: 81 56 | B20: 6437 | C20: 3610 | D20: 2827 | E20: 4.4938753 | F20: 5.1188974 | G20: 3.8877062 | H20: 7.242967 | I20: 9.0188351 | J20: 5.8083436 | K20: 127.69721 | M20: 1432394 | N20: 705230 | O20: 727164
A21: 82 57 | B21: 6676 | C21: 3730 | D21: 2946 | E21: 4.5629892 | F21: 5.1859792 | G21: 3.9605877 | H21: 7.0524685 | I21: 8.7978857 | J21: 5.6429004 | K21: 126.61236 | M21: 1463076 | N21: 719247 | O21: 743829
A22: 83 58 | B22: 6882 | C22: 3887 | D22: 2995 | E22: 4.6083782 | F22: 5.3048769 | G22: 3.9374478 | H22: 6.8065841 | I22: 8.6452246 | J22: 5.3524417 | K22: 129.78297 | M22: 1493367 | N22: 732722 | O22: 760645
A23: 84 59 | B23: 6856 | C23: 3824 | D23: 3032 | E23: 4.5112267 | F23: 5.1415472 | G23: 3.9071208 | H23: 6.4124387 | I23: 8.0338479 | J23: 5.1062922 | K23: 126.12137 | M23: 1519764 | N23: 743745 | O23: 776019
A24: 85 60 | B24: 7226 | C24: 3968 | D24: 3258 | E24: 4.6927929 | F24: 5.2801486 | G24: 4.1328709 | H24: 6.4448127 | I24: 8.1003392 | J24: 5.1585586 | K24: 121.79251 | M24: 1539808 | N24: 751494 | O24: 788314
... A56: 17 29 | B56: 18668 | C56: 9534 | D56: 9134 | E56: 9.510331 | F56: 10.429931 | G56: 8.7088513 | H56: 3.4688829 | I56: 4.7328623 | J56: 2.5444055 | K56: 104.37924 | M56: 1962918 | N56: 914100 | O56: 1048818
A57: 18 30 | B57: =SUM(C57:D57) -> 19343 | C57: ='3 月・性別，区別死亡数'!$C$6 -> 9925 | D57: ='3 月・性別，区別死亡数'!$C$7 -> 9418 | E57: =B57/M57*1000 -> 9.8390592 | F57: =C57/N57*1000 -> 10.848761 | G57: =D57/O57*1000 -> 8.9602308 | H57: =調整死亡率算出!$E$11/100 -> 3.4798424 | I57: =調整死亡率算出!$E$12/100 -> 4.7834869 | J57: =調整死亡率算出!$E$13/100 -> 2.5265219 | K57: =C57/D57*100 -> 105.38331 | M57: =[1]人口!$B$42 -> 1965940 | N57: =[1]人口!$B$43 -> 914851 | O57: =[1]人口!$B$44 -> 1051089
A58: 1) 本市の集計による。
A59: * 昭和35年の総数には性別不詳を含む。
A60: 2) 住民基本台帳の人口により算出。
A61: 3) 率算出に用いた人口は「平成27年国勢調査 年齢・国籍不詳をあん分した人口（参考表）（総務省統計局）おける日本人人口による。

Sheet 2　区別，年次別死亡数・死亡率
A1: 2 区別にみた年次別死亡数及び粗死亡率(人口千対)
A3: 年次 | B3: 総数 | C3: 中央区 | D3: 北区 | E3: 東区 | F3: 白石区 | G3: 厚別区 | H3: 豊平区 | I3: 清田区 | J3: 南区 | K3: 西区 | L3: 手稲区
B4: 死亡数 | N4: =[1]年次別人口!C3 -> 総数 | O4: =[1]年次別人口!D3 -> 中央区 | P4: =[1]年次別人口!E3 -> 北区 | Q4: =[1]年次別人口!F3 -> 東区 | R4: =[1]年次別人口!G3 -> 白石区 | S4: =[1]年次別人口!H3 -> 厚別区 | T4: =[1]年次別人口!I3 -> 豊平区 | U4: =[1]年次別人口!J3 -> 清田区 | ... X4: =[1]年次別人口!M3 -> 手稲区
A5: 85 60 | B5: =SUM(C5:L5) -> 7226 | C5: 1081 | D5: 1010 | E5: 1094 | F5: 1107 | G5: … | H5: 1092 | I5: … | J5: 596 | K5: 1246 | L5: … | N5: =[1]年次別人口!C4 -> 1539808 | O5: =[1]年次別人口!D4 -> 180845 | P5: =[1]年次別人口!E4 -> 212508 | Q5: =[1]年次別人口!F4 -> 224539 | R5: =[1]年次別人口!G4 -> 263938 | S5: =[1]年次別人口!H4 -> 0 | T5: =[1]年次別人口!I4 -> 249956 | U5: =[1]年次別人口!J4 -> 0 | ... X5: =[1]年次別人口!M4 -> 0
A6: 1986 昭和61年 | B6: =SUM(C6:L6) -> 7127 | C6: 993 | D6: 1002 | E6: 1076 | F6: 1210 | G6: … | H6: 1044 | I6: … | J6: 602 | K6: 1200 | L6: … | N6: =[1]年次別人口!C5 -> 1566871 | O6: =[1]年次別人口!D5 -> 182427 | P6: =[1]年次別人口!E5 -> 214728 | Q6: =[1]年次別人口!F5 -> 224730 | R6: =[1]年次別人口!G5 -> 272037 | S6: =[1]年次別人口!H5 -> 0 | T6: =[1]年次別人口!I5 -> 255105 | U6: =[1]年次別人口!J5 -> 0 | ... X6: =[1]年次別人口!M5 -> 0
A7: 1987 昭和62年 | B7: =SUM(C7:L7) -> 7074 | C7: 1021 | D7: 941 | E7: 1036 | F7: 1138 | G7: … | H7: 1061 | I7: … | J7: 618 | K7: 1259 | L7: … | N7: =[1]年次別人口!C6 -> 1593205 | O7: =[1]年次別人口!D6 -> 182818 | P7: =[1]年次別人口!E6 -> 217384 | Q7: =[1]年次別人口!F6 -> 225693 | R7: =[1]年次別人口!G6 -> 280378 | S7: =[1]年次別人口!H6 -> 0 | T7: =[1]年次別人口!I6 -> 260488 | U7: =[1]年次別人口!J6 -> 0 | ... X7: =[1]年次別人口!M6 -> 0
A8: 1988 昭和63年 | B8: =SUM(C8:L8) -> 7761 | C8: 1071 | D8: 1069 | E8: 1091 | F8: 1309 | G8: … | H8: 1152 | I8: … | J8: 648 | K8: 1421 | L8: … | N8: =[1]年次別人口!C7 -> 1618861 | O8: =[1]年次別人口!D7 -> 182735 | P8: =[1]年次別人口!E7 -> 220308 | Q8: =[1]年次別人口!F7 -> 227252 | R8: =[1]年次別人口!G7 -> 287265 | S8: =[1]年次別人口!H7 -> 0 | T8: =[1]年次別人口!I7 -> 266739 | U8: =[1]年次別人口!J7 -> 0 | ... X8: =[1]年次別人口!M7 -> 0
A9: 89 平成元年 | B9: =SUM(C9:L9) -> 8103 | C9: 1093 | D9: 1081 | E9: 1196 | F9: 1362 | G9: … | H9: 1277 | I9: … | J9: 698 | K9: 1396 | L9: … | N9: =[1]年次別人口!C8 -> 1645095 | O9: =[1]年次別人口!D8 -> 181535 | P9: =[1]年次別人口!E8 -> 224721 | Q9: =[1]年次別人口!F8 -> 230623 | R9: =[1]年次別人口!G8 -> 294751 | S9: =[1]年次別人口!H8 -> 0 | T9: =[1]年次別人口!I8 -> 272011 | U9: =[1]年次別人口!J8 -> 0 | ... X9: =[1]年次別人口!M8 -> 0
A10: 90 2 | B10: =SUM(C10:L10) -> 8278 | C10: 1082 | D10: 1121 | E10: 1199 | F10: 978 | G10: 408 | H10: 1286 | I10: … | J10: 726 | K10: 957 | L10: 521 | N10: =[1]年次別人口!C9 -> 1667984 | O10: =[1]年次別人口!D9 -> 179184 | P10: =[1]年次別人口!E9 -> 230918 | Q10: =[1]年次別人口!F9 -> 232999 | R10: =[1]年次別人口!G9 -> 188043 | S10: =[1]年次別人口!H9 -> 112623 | T10: =[1]年次別人口!I9 -> 277801 | U10: =[1]年次別人口!J9 -> 0 | ... X10: =[1]年次別人口!M9 -> 110974
A11: 91 3 | B11: =SUM(C11:L11) -> 8342 | C11: 1094 | D11: 1112 | E11: 1124 | F11: 884 | G11: 431 | H11: 1336 | I11: … | J11: 811 | K11: 995 | L11: 555 | N11: =[1]年次別人口!C10 -> 1694988 | O11: =[1]年次別人口!D10 -> 177997 | P11: =[1]年次別人口!E10 -> 234595 | Q11: =[1]年次別人口!F10 -> 236454 | R11: =[1]年次別人口!G10 -> 190543 | S11: =[1]年次別人口!H10 -> 115650 | T11: =[1]年次別人口!I10 -> 281463 | U11: =[1]年次別人口!J10 -> 0 | ... X11: =[1]年次別人口!M10 -> 115307
A12: 92 4 | B12: =SUM(C12:L12) -> 8808 | C12: 1074 | D12: 1119 | E12: 1241 | F12: 1002 | G12: 482 | H12: 1432 | I12: … | J12: 818 | K12: 1037 | L12: 603 | N12: =[1]年次別人口!C11 -> 1714488 | O12: =[1]年次別人口!D11 -> 176981 | P12: =[1]年次別人口!E11 -> 239907 | Q12: =[1]年次別人口!F11 -> 237749 | R12: =[1]年次別人口!G11 -> 191928 | S12: =[1]年次別人口!H11 -> 117351 | T12: =[1]年次別人口!I11 -> 285597 | U12: =[1]年次別人口!J11 -> 0 | ... X12: =[1]年次別人口!M11 -> 119703
A13: 1993 平成5年 | B13: =SUM(C13:L13) -> 9428 | C13: 1155 | D13: 1284 | E13: 1303 | F13: 1084 | G13: 565 | H13: 1513 | I13: … | J13: 849 | K13: 1065 | L13: 610 | N13: =[1]年次別人口!C12 -> 1728466 | O13: =[1]年次別人口!D12 -> 174994 | P13: =[1]年次別人口!E12 -> 243771 | Q13: =[1]年次別人口!F12 -> 238168 | R13: =[1]年次別人口!G12 -> 191918 | S13: =[1]年次別人口!H12 -> 119386 | T13: =[1]年次別人口!I12 -> 288941 | U13: =[1]年次別人口!J12 -> 0 | ... X13: =[1]年次別人口!M12 -> 124259
A14: 94 6 | B14: =SUM(C14:L14) -> 8934 | C14: 1034 | D14: 1227 | E14: 1233 | F14: 1059 | G14: 515 | H14: 1453 | I14: … | J14: 803 | K14: 1019 | L14: 591 | N14: =[1]年次別人口!C13 -> 1740534 | O14: =[1]年次別人口!D13 -> 173594 | P14: =[1]年次別人口!E13 -> 247942 | Q14: =[1]年次別人口!F13 -> 238547 | R14: =[1]年次別人口!G13 -> 191099 | S14: =[1]年次別人口!H13 -> 121427 | T14: =[1]年次別人口!I13 -> 292470 | U14: =[1]年次別人口!J13 -> 0 | ... X14: =[1]年次別人口!M13 -> 127384
A15: 95 7 | B15: =SUM(C15:L15) -> 9398 | C15: 1123 | D15: 1280 | E15: 1283 | F15: 1068 | G15: 549 | H15: 1548 | I15: … | J15: 844 | K15: 1053 | L15: 650 | N15: =[1]年次別人口!C14 -> 1752009 | O15: =[1]年次別人口!D14 -> 173358 | P15: =[1]年次別人口!E14 -> 251419 | Q15: =[1]年次別人口!F14 -> 241319 | R15: =[1]年次別人口!G14 -> 192102 | S15: =[1]年次別人口!H14 -> 122738 | T15: =[1]年次別人口!I14 -> 296647 | U15: =[1]年次別人口!J14 -> 0 | ... X15: =[1]年次別人口!M14 -> 129484
A16: 96 8 | B16: =SUM(C16:L16) -> 9512 | C16: 1098 | D16: 1363 | E16: 1352 | F16: 933 | G16: 557 | H16: 1542 | I16: … | J16: 946 | K16: 1054 | L16: 667 | N16: =[1]年次別人口!C15 -> 1774540 | O16: =[1]年次別人口!D15 -> 175812 | P16: =[1]年次別人口!E15 -> 253271 | Q16: =[1]年次別人口!F15 -> 243767 | R16: =[1]年次別人口!G15 -> 193494 | S16: =[1]年次別人口!H15 -> 124213 | T16: =[1]年次別人口!I15 -> 300609 | U16: =[1]年次別人口!J15 -> 0 | ... X16: =[1]年次別人口!M15 -> 131914
A17: 97 9 | B17: =SUM(C17:L17) -> 9840 | C17: 1158 | D17: 1313 | E17: 1298 | F17: 1063 | G17: 639 | H17: 1638 | I17: … | J17: 920 | K17: 1130 | L17: 681 | N17: =[1]年次別人口!C16 -> 1791221 | O17: =[1]年次別人口!D16 -> 178405 | P17: =[1]年次別人口!E16 -> 255530 | Q17: =[1]年次別人口!F16 -> 245544 | R17: =[1]年次別人口!G16 -> 194555 | S17: =[1]年次別人口!H16 -> 124531 | T17: =[1]年次別人口!I16 -> 305192 | U17: =[1]年次別人口!J16 -> 0 | ... X17: =[1]年次別人口!M16 -> 133440
A18: 1998 平成10年 | B18: =SUM(C18:L18) -> 9995 | C18: 1107 | D18: 1412 | E18: 1369 | F18: 1114 | G18: 609 | H18: 1080 | I18: 682 | J18: 954 | K18: 1112 | L18: 556 | N18: =[1]年次別人口!C17 -> 1803546 | O18: =[1]年次別人口!D17 -> 179801 | P18: =[1]年次別人口!E17 -> 257132 | Q18: =[1]年次別人口!F17 -> 247420 | R18: =[1]年次別人口!G17 -> 194903 | S18: =[1]年次別人口!H17 -> 125679 | T18: =[1]年次別人口!I17 -> 202316 | U18: =[1]年次別人口!J17 -> 106984 | ... X18: =[1]年次別人口!M17 -> 134246
A19: 99 11 | B19: =SUM(C19:L19) -> 10806 | C19: 1209 | D19: 1537 | E19: 1420 | F19: 1183 | G19: 644 | H19: 1201 | I19: 574 | J19: 1000 | K19: 1281 | L19: 757 | N19: =[1]年次別人口!C18 -> 1812029 | O19: =[1]年次別人口!D18 -> 180515 | P19: =[1]年次別人口!E18 -> 258640 | Q19: =[1]年次別人口!F18 -> 247756 | R19: =[1]年次別人口!G18 -> 195162 | S19: =[1]年次別人口!H18 -> 126780 | T19: =[1]年次別人口!I18 -> 203514 | U19: =[1]年次別人口!J18 -> 108731 | ... X19: =[1]年次別人口!M18 -> 135293
A20: 2000 12 | B20: =SUM(C20:L20) -> 10800 | C20: 1238 | D20: 1447 | E20: 1430 | F20: 1175 | G20: 674 | H20: 1207 | I20: 645 | J20: 1026 | K20: 1190 | L20: 768 | N20: =[1]年次別人口!C19 -> 1816677 | O20: =[1]年次別人口!D19 -> 180488 | P20: =[1]年次別人口!E19 -> 259139 | Q20: =[1]年次別人口!F19 -> 248140 | R20: =[1]年次別人口!G19 -> 196793 | S20: =[1]年次別人口!H19 -> 127325 | T20: =[1]年次別人口!I19 -> 203918 | U20: =[1]年次別人口!J19 -> 109635 | ... X20: =[1]年次別人口!M19 -> 135785
A21: 01 13 | B21: =SUM(C21:L21) -> 10803 | C21: 1213 | D21: 1504 | E21: 1409 | F21: 1243 | G21: 677 | H21: 1224 | I21: 511 | J21: 1020 | K21: 1205 | L21: 797 | N21: =[1]年次別人口!C20 -> 1834684 | O21: =[1]年次別人口!D20 -> 185064 | P21: =[1]年次別人口!E20 -> 262443 | Q21: =[1]年次別人口!F20 -> 249707 | R21: =[1]年次別人口!G20 -> 198580 | S21: =[1]年次別人口!H20 -> 128443 | T21: =[1]年次別人口!I20 -> 205066 | U21: =[1]年次別人口!J20 -> 110759 | ... X21: =[1]年次別人口!M20 -> 136580
A22: 02 14 | B22: =SUM(C22:L22) -> 11151 | C22: 1249 | D22: 1601 | E22: 1488 | F22: 1268 | G22: 691 | H22: 1202 | I22: 603 | J22: 1024 | K22: 1236 | L22: 789 | N22: =[1]年次別人口!C21 -> 1848276 | O22: =[1]年次別人口!D21 -> 190254 | P22: =[1]年次別人口!E21 -> 265023 | Q22: =[1]年次別人口!F21 -> 251256 | R22: =[1]年次別人口!G21 -> 199164 | S22: =[1]年次別人口!H21 -> 129105 | T22: =[1]年次別人口!I21 -> 205981 | U22: =[1]年次別人口!J21 -> 111613 | ... X22: =[1]年次別人口!M21 -> 137261
A23: 03 15 | B23: =SUM(C23:L23) -> 11769 | C23: 1290 | D23: 1610 | E23: 1651 | F23: 1241 | G23: 803 | H23: 1201 | I23: 610 | J23: 1104 | K23: 1360 | L23: 899 | N23: =[1]年次別人口!C22 -> 1862361 | O23: =[1]年次別人口!D22 -> 194901 | P23: =[1]年次別人口!E22 -> 268387 | Q23: =[1]年次別人口!F22 -> 252494 | R23: =[1]年次別人口!G22 -> 200077 | S23: =[1]年次別人口!H22 -> 129660 | T23: =[1]年次別人口!I22 -> 207859 | U23: =[1]年次別人口!J22 -> 112333 | ... X23: =[1]年次別人口!M22 -> 137634
A24: 04 16 | B24: 12348 | C24: 1432 | D24: 1844 | E24: 1675 | F24: 1340 | G24: 751 | H24: 1296 | I24: 626 | J24: 1129 | K24: 1400 | L24: 855 | N24: =[1]年次別人口!C23 -> 1872703 | O24: =[1]年次別人口!D23 -> 198946 | P24: =[1]年次別人口!E23 -> 271222 | Q24: =[1]年次別人口!F23 -> 253520 | R24: =[1]年次別人口!G23 -> 200856 | S24: =[1]年次別人口!H23 -> 129645 | T24: =[1]年次別人口!I23 -> 208605 | U24: =[1]年次別人口!J23 -> 112473 | ... X24: =[1]年次別人口!M23 -> 137562
A25: 05 17 | B25: =SUM(C25:L25) -> 13105 | C25: 1481 | D25: 1924 | E25: 1760 | F25: 1420 | G25: 832 | H25: 1413 | I25: 651 | J25: 1172 | K25: 1537 | L25: 915 | N25: =[1]年次別人口!C24 -> 1874479 | O25: =[1]年次別人口!D24 -> 201612 | P25: =[1]年次別人口!E24 -> 271750 | Q25: =[1]年次別人口!F24 -> 253138 | R25: =[1]年次別人口!G24 -> 200866 | S25: =[1]年次別人口!H24 -> 129346 | T25: =[1]年次別人口!I24 -> 208576 | U25: =[1]年次別人口!J24 -> 112398 | ... X25: =[1]年次別人口!M24 -> 137383
A26: 06 18 | B26: =SUM(C26:L26) -> 13268 | C26: 1447 | D26: 1940 | E26: 1789 | F26: 1435 | G26: 867 | H26: 1402 | I26: 732 | J26: 1203 | K26: 1481 | L26: 972 | N26: 1889460 | O26: 206768 | P26: 273792 | Q26: 254899 | R26: 202638 | S26: 129500 | T26: 209102 | U26: 113572 | V26: 151858 | W26: 208975 | X26: 138356
A27: 07 19 | B27: 14044 | C27: 1576 | D27: 1962 | E27: 1758 | F27: 1507 | G27: 982 | H27: 1543 | I27: 772 | J27: 1278 | K27: 1584 | L27: 1082 | N27: 1895901 | O27: 210166 | P27: 276240 | Q27: 255210 | R27: 203006 | S27: 128963 | T27: 209334 | U27: 114646 | V27: 150261 | W27: 209532 | X27: 138543
A28: 08 20 | B28: 14366 | C28: 1547 | D28: 2023 | E28: 1894 | F28: 1573 | G28: 966 | H28: 1613 | I28: 784 | J28: 1297 | K28: 1615 | L28: 1054 | N28: 1900815 | O28: 213591 | P28: 276624 | Q28: 255365 | R28: 203180 | S28: 129034 | T28: 209789 | U28: 115606 | V28: 148867 | W28: 210231 | X28: 138647
A29: 09 21 | B29: 14506 | C29: 1571 | D29: 2057 | E29: 1860 | F29: 1581 | G29: 934 | H29: 1540 | I29: 856 | J29: 1362 | K29: 1654 | L29: 1091 | N29: 1907404 | O29: 216780 | P29: 278310 | Q29: 255376 | R29: 203764 | S29: 128668 | T29: 211014 | U29: 116022 | V29: 147757 | W29: 210564 | X29: 139149
A30: 10 22 | B30: 15482 | C30: 1679 | D30: 2252 | E30: 2085 | F30: 1617 | G30: 980 | H30: 1666 | I30: 851 | J30: 1484 | K30: 1702 | L30: 1166 | N30: 1906674 | O30: 218964 | P30: 277240 | Q30: 254909 | R30: 203771 | S30: 128133 | T30: 211221 | U30: 116261 | V30: 145958 | W30: 210771 | X30: 139446
A31: 11 23 | B31: 15926 | C31: 1710 | D31: 2296 | E31: 2100 | F31: 1733 | G31: 1085 | H31: 1703 | I31: 889 | J31: 1508 | K31: 1760 | L31: 1142 | N31: 1921935 | O31: 223614 | P31: 280423 | Q31: 256523 | R31: 205395 | S31: 128630 | T31: 213788 | U31: 116589 | V31: 145217 | W31: 211671 | X31: 140085
A32: 12 24 | B32: 16228 | C32: 1844 | D32: 2279 | E32: 2089 | F32: 1735 | G32: 1064 | H32: 1782 | I32: 892 | J32: 1459 | K32: 1770 | L32: 1314 | N32: 1928776 | O32: 226938 | P32: 281330 | Q32: 257367 | R32: 206800 | S32: 128739 | T32: 215694 | U32: 116655 | V32: 144080 | W32: 210751 | X32: 140422
A33: 13 25 | B33: 16844 | C33: 1851 | D33: 2423 | E33: 2184 | F33: 1819 | G33: 1085 | H33: 1873 | I33: 929 | J33: 1494 | K33: 1881 | L33: 1305 | N33: 1936189 | O33: 230015 | P33: 281985 | Q33: 258747 | R33: 208404 | S33: 128663 | T33: 217208 | U33: 116279 | V33: 143100 | W33: 211268 | X33: 140520
A34: 14 26 | B34: 17668 | C34: 1954 | D34: 2573 | E34: 2325 | F34: 1949 | G34: 1200 | H34: 1883 | I34: 960 | J34: 1582 | K34: 1885 | L34: 1357 | N34: 1942648 | O34: 233080 | P34: 283513 | Q34: 259508 | R34: 209064 | S34: 128133 | T34: 218136 | U34: 116199 | V34: 141960 | W34: 212322 | X34: 140733
A35: 15 27 | B35: 17523 | C35: 1894 | D35: 2571 | E35: 2253 | F35: 1885 | G35: 1193 | H35: 1866 | I35: 994 | J35: 1524 | K35: 1969 | L35: 1374 | N35: 1943527 | O35: 235736 | P35: 283298 | Q35: 260791 | R35: 208989 | S35: 127359 | T35: 217532 | U35: 115326 | V35: 140753 | W35: 213012 | X35: 140740
A36: 16 28 | B36: 18504 | C36: 1995 | D36: 2558 | E36: 2449 | F36: 2027 | G36: 1282 | H36: 2074 | I36: 1036 | J36: 1607 | K36: 2042 | L36: 1434 | N36: 1958405 | O36: 239820 | P36: 286905 | Q36: 263476 | R36: 210171 | S36: 126906 | T36: 219660 | U36: 115905 | V36: 140184 | W36: 214169 | X36: 141209
A37: 17 29 | B37: 18668 | C37: 2002 | D37: 2540 | E37: 2413 | F37: 2074 | G37: 1245 | H37: 2025 | I37: 1135 | J37: 1763 | K37: 2041 | L37: 1430 | N37: 1962918 | O37: 241267 | P37: 287761 | Q37: 264312 | R37: 210686 | S37: 126421 | T37: 220905 | U37: 115746 | V37: 139157 | W37: 214973 | X37: 141690
A38: 18 30 | B38: =SUM(C38:L38) -> 19343 | C38: ='3 月・性別，区別死亡数'!$C$8 -> 2174 | D38: ='3 月・性別，区別死亡数'!$C$11 -> 2842 | E38: ='3 月・性別，区別死亡数'!$C$14 -> 2512 | F38: ='3 月・性別，区別死亡数'!$C$17 -> 2032 | G38: ='3 月・性別，区別死亡数'!$C$20 -> 1268 | H38: ='3 月・性別，区別死亡数'!$C$23 -> 2047 | I38: ='3 月・性別，区別死亡数'!$C$26 -> 1137 | J38: ='3 月・性別，区別死亡数'!$C$29 -> 1710 | K38: ='3 月・性別，区別死亡数'!$C$32 -> 2067 | L38: ='3 月・性別，区別死亡数'!$C$35 -> 1554 | N38: =[1]年次別人口!C37 -> 1965940 | O38: =[1]年次別人口!D37 -> 242916 | P38: =[1]年次別人口!E37 -> 288114 | Q38: =[1]年次別人口!F37 -> 264183 | R38: =[1]年次別人口!G37 -> 211496 | S38: =[1]年次別人口!H37 -> 126230 | T38: =[1]年次別人口!I37 -> 222042 | U38: =[1]年次別人口!J37 -> 115272 | ... X38: =[1]年次別人口!M37 -> 141894
B39: 粗死亡率
A40: 85 60 | B40: =B5/N5*1000 -> 4.6927929 | C40: =C5/O5*1000 -> 5.9774945 | D40: =D5/P5*1000 -> 4.7527622 | E40: =E5/Q5*1000 -> 4.8722048 | F40: =F5/R5*1000 -> 4.1941668 | G40: ・ | H40: =H5/T5*1000 -> 4.3687689 | I40: ・ | J40: =J5/V5*1000 -> 4.2047932 | K40: =K5/W5*1000 -> 4.6242346 | L40: ・
A41: 1986 昭和61年 | B41: =B6/N6*1000 -> 4.5485557 | C41: =C6/O6*1000 -> 5.4432732 | D41: =D6/P6*1000 -> 4.6663686 | E41: =E6/Q6*1000 -> 4.7879678 | F41: =F6/R6*1000 -> 4.4479244 | G41: ・ | H41: =H6/T6*1000 -> 4.0924325 | I41: ・ | J41: =J6/V6*1000 -> 4.212972 | K41: =K6/W6*1000 -> 4.3643981 | L41: ・
A42: 1987 昭和62年 | B42: 4.4401066 | C42: 5.5847892 | D42: 4.3287454 | E42: 4.5903063 | F42: 4.0588063 | G42: ・ | H42: 4.0731243 | I42: ・ | J42: 4.275426 | K42: 4.4661703 | L42: ・
A43: 1988 昭和63年 | B43: 4.7941114 | C43: 5.8609462 | D43: 4.8522977 | E43: 4.8008378 | F43: 4.5567681 | G43: ・ | H43: 4.3188285 | I43: ・ | J43: 4.4486856 | K43: 4.9186399 | L43: ・
A44: 89 平成元年 | B44: 4.9255514 | C44: 6.0208775 | D44: 4.8104094 | E44: 5.1859528 | F44: 4.6208495 | G44: ・ | H44: 4.6946631 | I44: ・ | J44: 4.7633671 | K44: 4.7335031 | L44: ・
A45: 90 2 | B45: 4.9628773 | C45: 6.0384856 | D45: 4.8545371 | E45: 5.1459448 | F45: 5.2009381 | G45: 3.6227058 | H45: 4.629213 | I45: ・ | J45: 4.8924141 | K45: 5.0155393 | L45: 4.6947934
A46: 91 3 | B46: 4.9215688 | C46: 6.146171 | D46: 4.740084 | E46: 4.7535673 | F46: 4.6393727 | G46: 3.7267618 | H46: 4.7466274 | I46: ・ | J46: 5.3930761 | K46: 5.1661206 | L46: 4.8132377
A47: 92 4 | B47: 5.1373938 | C47: 6.068448 | D47: 4.6643074 | E47: 5.2197906 | F47: 5.2207078 | G47: 4.1073361 | H47: 5.0140583 | I47: ・ | J47: 5.3810833 | K47: 5.3658839 | L47: 5.0374677
A48: 1993 平成5年 | B48: 5.4545476 | C48: 6.6002263 | D48: 5.2672385 | E48: 5.4709281 | F48: 5.6482456 | G48: 4.7325482 | H48: 5.2363631 | I48: ・ | J48: 5.5482943 | K48: 5.4894361 | L48: 4.9091012
A49: 94 6 | B49: 5.1329075 | C49: 5.9564271 | D49: 4.948738 | E49: 5.1687927 | F49: 5.5416303 | G49: 4.2412314 | H49: 4.9680309 | I49: ・ | J49: 5.1982858 | K49: 5.2635113 | L49: 4.6395152
A50: 95 7 | B50: 5.3641277 | C50: 6.4779243 | D50: 5.0911029 | E50: 5.3166141 | F50: 5.5595465 | G50: 4.4729424 | H50: 5.2183235 | I50: ・ | J50: 5.4224221 | K50: 5.4192313 | L50: 5.0199252
A51: 96 8 | B51: 5.3602624 | C51: 6.2453075 | D51: 5.3815873 | E51: 5.5462798 | F51: 4.8218549 | G51: 4.4842327 | H51: 5.1295869 | I51: ・ | J51: 6.0319707 | K51: 5.4154314 | L51: 5.0563246
A52: 97 9 | B52: 5.4934595 | C52: 6.4908495 | D52: 5.1383399 | E52: 5.2862216 | F52: 5.4637506 | G52: 5.1312525 | H52: 5.3671132 | I52: ・ | J52: 5.8488083 | K52: 5.7440006 | L52: 5.1034173
A53: 1998 平成10年 | B53: 5.5418603 | C53: 6.1568067 | D53: 5.491343 | E53: 5.5331016 | F53: 5.7156637 | G53: 4.8456783 | H53: 5.3381838 | I53: 6.374785 | J53: 6.0595282 | K53: 5.6267615 | L53: 4.1416504
A54: 99 11 | B54: 5.9634807 | C54: 6.6975044 | D54: 5.942623 | E54: 5.7314455 | F54: 6.0616309 | G54: 5.0796656 | H54: 5.9013139 | I54: 5.2790832 | J54: 6.3632661 | K54: 6.4538557 | L54: 5.5952636
A55: 2000 12 | B55: 5.9449203 | C55: 6.8591818 | D55: 5.5838758 | E55: 5.7628758 | F55: 5.9707408 | G55: 5.2935402 | H55: 5.9190459 | I55: 5.8831578 | J55: 6.558383 | K55: 5.9795089 | L55: 5.6560003
A56: 01 13 | B56: =B21/[1]年次別人口!C20*1000 -> 5.8882075 | C56: =C21/[1]年次別人口!D20*1000 -> 6.5544893 | D56: =D21/[1]年次別人口!E20*1000 -> 5.7307682 | E56: =E21/[1]年次別人口!F20*1000 -> 5.6426131 | F56: =F21/[1]年次別人口!G20*1000 -> 6.259442 | G56: =G21/[1]年次別人口!H20*1000 -> 5.2708205 | H56: =H21/[1]年次別人口!I20*1000 -> 5.96881 | I56: =I21/[1]年次別人口!J20*1000 -> 4.6136206 | ... L56: =L21/[1]年次別人口!M20*1000 -> 5.8354078
A57: 02 14 | B57: =B22/[1]年次別人口!C21*1000 -> 6.0331898 | C57: =C22/[1]年次別人口!D21*1000 -> 6.564908 | D57: =D22/[1]年次別人口!E21*1000 -> 6.0409851 | E57: =E22/[1]年次別人口!F21*1000 -> 5.9222466 | F57: =F22/[1]年次別人口!G21*1000 -> 6.3666124 | G57: =G22/[1]年次別人口!H21*1000 -> 5.3522327 | H57: =H22/[1]年次別人口!I21*1000 -> 5.8354897 | I57: =I22/[1]年次別人口!J21*1000 -> 5.4025965 | ... L57: =L22/[1]年次別人口!M21*1000 -> 5.7481732
A58: 03 15 | B58: =B23/[1]年次別人口!C22*1000 -> 6.3193978 | C58: =C23/[1]年次別人口!D22*1000 -> 6.6187449 | D58: =D23/[1]年次別人口!E22*1000 -> 5.9988002 | E58: =E23/[1]年次別人口!F22*1000 -> 6.5387692 | F58: =F23/[1]年次別人口!G22*1000 -> 6.202612 | G58: =G23/[1]年次別人口!H22*1000 -> 6.1931205 | H58: =H23/[1]年次別人口!I22*1000 -> 5.7779552 | I58: =I23/[1]年次別人口!J22*1000 -> 5.4302832 | ... L58: =L23/[1]年次別人口!M22*1000 -> 6.5318163
A59: 04 16 | B59: 6.6 | C59: 7.2 | D59: 6.8 | E59: 6.6 | F59: 6.7 | G59: 5.8 | H59: 6.2 | I59: 5.6 | J59: 7.3 | K59: 6.8 | L59: 6.2
A60: 05 17 | B60: =B25/N25*1000 -> 6.991276 | C60: =C25/O25*1000 -> 7.3457929 | D60: =D25/P25*1000 -> 7.0800368 | E60: =E25/Q25*1000 -> 6.9527293 | F60: =F25/R25*1000 -> 7.0693895 | G60: =G25/S25*1000 -> 6.4323597 | H60: =H25/T25*1000 -> 6.7745091 | I60: =I25/U25*1000 -> 5.791918 | ... L60: =L25/X25*1000 -> 6.6602127
A61: 06 18 | B61: =B26/[1]年次別人口!C25*1000 -> 7.0221121 | C61: =C26/[1]年次別人口!D25*1000 -> 6.9981815 | D61: =D26/[1]年次別人口!E25*1000 -> 7.0856709 | E61: =E26/[1]年次別人口!F25*1000 -> 7.0184661 | F61: =F26/[1]年次別人口!G25*1000 -> 7.0815938 | G61: =G26/[1]年次別人口!H25*1000 -> 6.6949807 | H61: =H26/[1]年次別人口!I25*1000 -> 6.7048617 | I61: =I26/[1]年次別人口!J25*1000 -> 6.4452506 | ... L61: =L26/[1]年次別人口!M25*1000 -> 7.0253549
A62: 07 19 | B62: =B27/[1]年次別人口!C26*1000 -> 7.4075598 | C62: =C27/[1]年次別人口!D26*1000 -> 7.4988343 | D62: =D27/[1]年次別人口!E26*1000 -> 7.1025195 | E62: =E27/[1]年次別人口!F26*1000 -> 6.8884448 | F62: =F27/[1]年次別人口!G26*1000 -> 7.4234259 | G62: =G27/[1]年次別人口!H26*1000 -> 7.6145871 | H62: =H27/[1]年次別人口!I26*1000 -> 7.3709956 | I62: =I27/[1]年次別人口!J26*1000 -> 6.7337718 | ... L62: =L27/[1]年次別人口!M26*1000 -> 7.8098496
A63: 08 20 | B63: =B28/[1]年次別人口!C27*1000 -> 7.5578107 | C63: =C28/[1]年次別人口!D27*1000 -> 7.2428145 | D63: =D28/[1]年次別人口!E27*1000 -> 7.313176 | E63: =E28/[1]年次別人口!F27*1000 -> 7.4168347 | F63: =F28/[1]年次別人口!G27*1000 -> 7.7419037 | G63: =G28/[1]年次別人口!H27*1000 -> 7.4863989 | H63: =H28/[1]年次別人口!I27*1000 -> 7.6886777 | I63: =I28/[1]年次別人口!J27*1000 -> 6.7816549 | ... L63: =L28/[1]年次別人口!M27*1000 -> 7.6020397
A64: 09 21 | B64: =B29/[1]年次別人口!C28*1000 -> 7.605101 | C64: =C29/[1]年次別人口!D28*1000 -> 7.2469785 | D64: =D29/[1]年次別人口!E28*1000 -> 7.3910388 | E64: =E29/[1]年次別人口!F28*1000 -> 7.2833782 | F64: =F29/[1]年次別人口!G28*1000 -> 7.7589761 | G64: =G29/[1]年次別人口!H28*1000 -> 7.2589921 | H64: =H29/[1]年次別人口!I28*1000 -> 7.298094 | I64: =I29/[1]年次別人口!J28*1000 -> 7.3779111 | ... L64: =L29/[1]年次別人口!M28*1000 -> 7.8405163
A65: 10 22 | B65: =B30/[1]年次別人口!C28*1000 -> 8.1167912 | C65: =C30/[1]年次別人口!D28*1000 -> 7.7451794 | D65: =D30/[1]年次別人口!E28*1000 -> 8.0916963 | E65: =E30/[1]年次別人口!F28*1000 -> 8.1644321 | F65: =F30/[1]年次別人口!G28*1000 -> 7.935651 | G65: =G30/[1]年次別人口!H28*1000 -> 7.6165014 | H65: =H30/[1]年次別人口!I28*1000 -> 7.8952107 | I65: =I30/[1]年次別人口!J28*1000 -> 7.3348158 | ... L65: =L30/[1]年次別人口!M28*1000 -> 8.3795069
A66: 11 23 | B66: 8.2864405 | C66: 7.6471062 | D66: 8.1876308 | E66: 8.1864004 | F66: 8.4374011 | G66: 8.4350463 | H66: 7.9658353 | I66: 7.6250761 | J66: 10.384459 | K66: 8.3147904 | L66: 8.1521933
A67: 12 24 | B67: 8.4136261 | C67: 8.1255673 | D67: 8.1008069 | E67: 8.1168137 | F67: 8.3897485 | G67: 8.2647838 | H67: 8.2617041 | I67: 7.6464789 | J67: 10.126319 | K67: 8.3985367 | L67: 9.3575081
A68: 13 25 | B68: 8.6995639 | C68: 8.0473013 | D68: 8.5926556 | E68: 8.4406776 | F68: 8.7282394 | G68: 8.4328828 | H68: 8.623071 | I68: 7.9894048 | J68: 10.440252 | K68: 8.9033834 | L68: 9.2869342
A69: 14 26 | B69: 9.0948026 | C69: 8.3833877 | D69: 9.0754216 | E69: 8.9592614 | F69: 9.3225041 | G69: 9.3652689 | H69: 8.6322294 | I69: 8.261689 | J69: 11.143984 | K69: 8.8780249 | L69: 9.6423724
A70: 15 1)27 | B70: 9.0160826 | C70: 8.0344114 | D70: 9.0752494 | E70: 8.6391018 | F70: 9.0196135 | G70: 9.3672218 | H70: 8.5780483 | I70: 8.6190451 | J70: 10.827478 | K70: 9.2436107 | L70: 9.762683
A71: 16 28 | B71: 9.4485053 | C71: 8.3187391 | D71: 8.9158432 | E71: 9.2949642 | F71: 9.6445276 | G71: 10.101965 | H71: 9.4418647 | I71: 8.9383547 | J71: 11.463505 | K71: 9.5345265 | L71: 10.15516
A72: 17 29 | B72: 9.510331 | C72: 8.2978609 | D72: 8.8267694 | E72: 9.1293623 | F72: 9.8440333 | G72: 9.8480474 | H72: 9.1668364 | I72: 9.8059544 | J72: 12.669143 | K72: 9.4942156 | L72: 10.092455
A73: 18 30 | B73: =B38/[1]年次別人口!C37*1000 -> 9.8390592 | C73: =C38/[1]年次別人口!D37*1000 -> 8.9495957 | D73: =D38/[1]年次別人口!E37*1000 -> 9.864151 | E73: =E38/[1]年次別人口!F37*1000 -> 9.5085604 | F73: =F38/[1]年次別人口!G37*1000 -> 9.6077467 | G73: =G38/[1]年次別人口!H37*1000 -> 10.045156 | H73: =H38/[1]年次別人口!I37*1000 -> 9.2189766 | I73: =I38/[1]年次別人口!J37*1000 -> 9.8636269 | ... L73: =L38/[1]年次別人口!M37*1000 -> 10.951837
A74: 1) 率算出に用いた人口は「平成27年国勢調査 年齢・国籍不詳をあん分した人口（参考表）（総務省統計局）おける日本人
A75: 人口による。

Sheet 3　月・性別，区別死亡数
A1: 3 月・性別にみた区別死亡数及び粗死亡率(人口千対)
O2: 平成30年
A3: 区 ・ 性 | C3: 総 数 | D3: 1 月 | E3: 2 月 | F3: 3 月 | G3: 4 月 | H3: 5 月 | I3: 6 月 | J3: 7 月 | K3: 8 月 | L3: 9 月 | M3: 10月 | N3: 11月 | O3: 12月
C4: 死亡数
A5: 総数 | C5: =SUM(C8,C11,C14,C17,C20,C23,C26,C29,C32,C35) -> 19343 | D5: =SUM(D8,D11,D14,D17,D20,D23,D26,D29,D32,D35) -> 1833 | E5: =SUM(E8,E11,E14,E17,E20,E23,E26,E29,E32,E35) -> 1624 | F5: =SUM(F8,F11,F14,F17,F20,F23,F26,F29,F32,F35) -> 1724 | G5: =SUM(G8,G11,G14,G17,G20,G23,G26,G29,G32,G35) -> 1536 | H5: =SUM(H8,H11,H14,H17,H20,H23,H26,H29,H32,H35) -> 1563 | I5: =SUM(I8,I11,I14,I17,I20,I23,I26,I29,I32,I35) -> 1432 | J5: =SUM(J8,J11,J14,J17,J20,J23,J26,J29,J32,J35) -> 1520 | ... O5: =SUM(O8,O11,O14,O17,O20,O23,O26,O29,O32,O35) -> 1726
B6: 男 | C6: =SUM(C9,C12,C15,C18,C21,C24,C27,C30,C33,C36) -> 9925 | D6: =SUM(D9,D12,D15,D18,D21,D24,D27,D30,D33,D36) -> 916 | E6: =SUM(E9,E12,E15,E18,E21,E24,E27,E30,E33,E36) -> 881 | F6: =SUM(F9,F12,F15,F18,F21,F24,F27,F30,F33,F36) -> 881 | G6: =SUM(G9,G12,G15,G18,G21,G24,G27,G30,G33,G36) -> 786 | H6: =SUM(H9,H12,H15,H18,H21,H24,H27,H30,H33,H36) -> 797 | I6: =SUM(I9,I12,I15,I18,I21,I24,I27,I30,I33,I36) -> 747 | J6: =SUM(J9,J12,J15,J18,J21,J24,J27,J30,J33,J36) -> 770 | ... O6: =SUM(O9,O12,O15,O18,O21,O24,O27,O30,O33,O36) -> 910
B7: 女 | C7: =SUM(C10,C13,C16,C19,C22,C25,C28,C31,C34,C37) -> 9418 | D7: =SUM(D10,D13,D16,D19,D22,D25,D28,D31,D34,D37) -> 917 | E7: =SUM(E10,E13,E16,E19,E22,E25,E28,E31,E34,E37) -> 743 | F7: =SUM(F10,F13,F16,F19,F22,F25,F28,F31,F34,F37) -> 843 | G7: =SUM(G10,G13,G16,G19,G22,G25,G28,G31,G34,G37) -> 750 | H7: =SUM(H10,H13,H16,H19,H22,H25,H28,H31,H34,H37) -> 766 | I7: =SUM(I10,I13,I16,I19,I22,I25,I28,I31,I34,I37) -> 685 | J7: =SUM(J10,J13,J16,J19,J22,J25,J28,J31,J34,J37) -> 750 | ... O7: =SUM(O10,O13,O16,O19,O22,O25,O28,O31,O34,O37) -> 816
A8: 中央 | C8: =SUM(D8:O8) -> 2174 | D8: =SUM(D9:D10) -> 212 | E8: =SUM(E9:E10) -> 185 | F8: =SUM(F9:F10) -> 203 | G8: =SUM(G9:G10) -> 177 | H8: =SUM(H9:H10) -> 149 | I8: =SUM(I9:I10) -> 157 | J8: =SUM(J9:J10) -> 188 | K8: =SUM(K9:K10) -> 164 | ... O8: =SUM(O9:O10) -> 194
B9: 男 | C9: =SUM(D9:O9) -> 1056 | D9: 104 | E9: 95 | F9: 100 | G9: 84 | H9: 68 | I9: 79 | J9: 77 | K9: 76 | L9: 95 | M9: 75 | N9: 96 | O9: 107
B10: 女 | C10: =SUM(D10:O10) -> 1118 | D10: 108 | E10: 90 | F10: 103 | G10: 93 | H10: 81 | I10: 78 | J10: 111 | K10: 88 | L10: 91 | M10: 85 | N10: 103 | O10: 87
A11: 北 | C11: =SUM(D11:O11) -> 2842 | D11: =SUM(D12:D13) -> 267 | E11: =SUM(E12:E13) -> 239 | F11: =SUM(F12:F13) -> 262 | G11: =SUM(G12:G13) -> 239 | H11: =SUM(H12:H13) -> 205 | I11: =SUM(I12:I13) -> 224 | J11: =SUM(J12:J13) -> 216 | K11: =SUM(K12:K13) -> 216 | ... O11: =SUM(O12:O13) -> 221
B12: 男 | C12: =SUM(D12:O12) -> 1477 | D12: 140 | E12: 137 | F12: 141 | G12: 120 | H12: 102 | I12: 125 | J12: 109 | K12: 113 | L12: 131 | M12: 133 | N12: 116 | O12: 110
B13: 女 | C13: =SUM(D13:O13) -> 1365 | D13: 127 | E13: 102 | F13: 121 | G13: 119 | H13: 103 | I13: 99 | J13: 107 | K13: 103 | L13: 123 | M13: 126 | N13: 124 | O13: 111
A14: 東 | C14: =SUM(D14:O14) -> 2512 | D14: =SUM(D15:D16) -> 244 | E14: =SUM(E15:E16) -> 230 | F14: =SUM(F15:F16) -> 219 | G14: =SUM(G15:G16) -> 196 | H14: =SUM(H15:H16) -> 219 | I14: =SUM(I15:I16) -> 174 | J14: =SUM(J15:J16) -> 201 | K14: =SUM(K15:K16) -> 189 | ... O14: =SUM(O15:O16) -> 224
B15: 男 | C15: =SUM(D15:O15) -> 1319 | D15: 118 | E15: 131 | F15: 124 | G15: 108 | H15: 118 | I15: 91 | J15: 105 | K15: 91 | L15: 99 | M15: 105 | N15: 110 | O15: 119
B16: 女 | C16: =SUM(D16:O16) -> 1193 | D16: 126 | E16: 99 | F16: 95 | G16: 88 | H16: 101 | I16: 83 | J16: 96 | K16: 98 | L16: 94 | M16: 101 | N16: 107 | O16: 105
A17: 白石 | C17: =SUM(D17:O17) -> 2032 | D17: =SUM(D18:D19) -> 195 | E17: =SUM(E18:E19) -> 158 | F17: =SUM(F18:F19) -> 173 | G17: =SUM(G18:G19) -> 160 | H17: =SUM(H18:H19) -> 181 | I17: =SUM(I18:I19) -> 151 | J17: =SUM(J18:J19) -> 167 | K17: =SUM(K18:K19) -> 148 | ... O17: =SUM(O18:O19) -> 195
B18: 男 | C18: =SUM(D18:O18) -> 1053 | D18: 87 | E18: 83 | F18: 84 | G18: 91 | H18: 98 | I18: 79 | J18: 84 | K18: 74 | L18: 78 | M18: 95 | N18: 101 | O18: 99
B19: 女 | C19: =SUM(D19:O19) -> 979 | D19: 108 | E19: 75 | F19: 89 | G19: 69 | H19: 83 | I19: 72 | J19: 83 | K19: 74 | L19: 80 | M19: 84 | N19: 66 | O19: 96
A20: 厚別 | C20: =SUM(D20:O20) -> 1268 | D20: =SUM(D21:D22) -> 114 | E20: =SUM(E21:E22) -> 102 | F20: =SUM(F21:F22) -> 95 | G20: =SUM(G21:G22) -> 113 | H20: =SUM(H21:H22) -> 99 | I20: =SUM(I21:I22) -> 91 | J20: =SUM(J21:J22) -> 100 | K20: =SUM(K21:K22) -> 106 | ... O20: =SUM(O21:O22) -> 121
B21: 男 | C21: =SUM(D21:O21) -> 625 | D21: 63 | E21: 52 | F21: 47 | G21: 59 | H21: 47 | I21: 37 | J21: 51 | K21: 54 | L21: 44 | M21: 51 | N21: 63 | O21: 57
B22: 女 | C22: =SUM(D22:O22) -> 643 | D22: 51 | E22: 50 | F22: 48 | G22: 54 | H22: 52 | I22: 54 | J22: 49 | K22: 52 | L22: 61 | M22: 58 | N22: 50 | O22: 64
A23: 豊平 | C23: =SUM(D23:O23) -> 2047 | D23: =SUM(D24:D25) -> 185 | E23: =SUM(E24:E25) -> 173 | F23: =SUM(F24:F25) -> 177 | G23: =SUM(G24:G25) -> 164 | H23: =SUM(H24:H25) -> 167 | I23: =SUM(I24:I25) -> 133 | J23: =SUM(J24:J25) -> 173 | K23: =SUM(K24:K25) -> 180 | ... O23: =SUM(O24:O25) -> 185
B24: 男 | C24: =SUM(D24:O24) -> 1047 | D24: 86 | E24: 103 | F24: 88 | G24: 86 | H24: 77 | I24: 72 | J24: 84 | K24: 85 | L24: 88 | M24: 71 | N24: 104 | O24: 103
B25: 女 | C25: =SUM(D25:O25) -> 1000 | D25: 99 | E25: 70 | F25: 89 | G25: 78 | H25: 90 | I25: 61 | J25: 89 | K25: 95 | L25: 82 | M25: 77 | N25: 88 | O25: 82
A26: 清田 | C26: =SUM(D26:O26) -> 1137 | D26: =SUM(D27:D28) -> 114 | E26: =SUM(E27:E28) -> 107 | F26: =SUM(F27:F28) -> 94 | G26: =SUM(G27:G28) -> 96 | H26: =SUM(H27:H28) -> 100 | I26: =SUM(I27:I28) -> 83 | J26: =SUM(J27:J28) -> 84 | K26: =SUM(K27:K28) -> 79 | ... O26: =SUM(O27:O28) -> 87
B27: 男 | C27: =SUM(D27:O27) -> 600 | D27: 53 | E27: 52 | F27: 48 | G27: 45 | H27: 61 | I27: 51 | J27: 49 | K27: 43 | L27: 53 | M27: 47 | N27: 45 | O27: 53
B28: 女 | C28: =SUM(D28:O28) -> 537 | D28: 61 | E28: 55 | F28: 46 | G28: 51 | H28: 39 | I28: 32 | J28: 35 | K28: 36 | L28: 39 | M28: 63 | N28: 46 | O28: 34
A29: 南 | C29: =SUM(D29:O29) -> 1710 | D29: =SUM(D30:D31) -> 146 | E29: =SUM(E30:E31) -> 135 | F29: =SUM(F30:F31) -> 157 | G29: =SUM(G30:G31) -> 138 | H29: =SUM(H30:H31) -> 167 | I29: =SUM(I30:I31) -> 108 | J29: =SUM(J30:J31) -> 121 | K29: =SUM(K30:K31) -> 146 | ... O29: =SUM(O30:O31) -> 164
B30: 男 | C30: =SUM(D30:O30) -> 886 | D30: 79 | E30: 72 | F30: 70 | G30: 77 | H30: 81 | I30: 55 | J30: 70 | K30: 74 | L30: 73 | M30: 77 | N30: 75 | O30: 83
B31: 女 | C31: =SUM(D31:O31) -> 824 | D31: 67 | E31: 63 | F31: 87 | G31: 61 | H31: 86 | I31: 53 | J31: 51 | K31: 72 | L31: 63 | M31: 74 | N31: 66 | O31: 81
A32: 西 | C32: =SUM(D32:O32) -> 2067 | D32: =SUM(D33:D34) -> 211 | E32: =SUM(E33:E34) -> 165 | F32: =SUM(F33:F34) -> 203 | G32: =SUM(G33:G34) -> 135 | H32: =SUM(H33:H34) -> 155 | I32: =SUM(I33:I34) -> 182 | J32: =SUM(J33:J34) -> 166 | K32: =SUM(K33:K34) -> 164 | ... O32: =SUM(O33:O34) -> 173
B33: 男 | C33: =SUM(D33:O33) -> 1055 | D33: 110 | E33: 87 | F33: 100 | G33: 64 | H33: 78 | I33: 95 | J33: 82 | K33: 92 | L33: 81 | M33: 79 | N33: 93 | O33: 94
B34: 女 | C34: =SUM(D34:O34) -> 1012 | D34: 101 | E34: 78 | F34: 103 | G34: 71 | H34: 77 | I34: 87 | J34: 84 | K34: 72 | L34: 84 | M34: 83 | N34: 93 | O34: 79
A35: 手稲 | C35: =SUM(D35:O35) -> 1554 | D35: =SUM(D36:D37) -> 145 | E35: =SUM(E36:E37) -> 130 | F35: =SUM(F36:F37) -> 141 | G35: =SUM(G36:G37) -> 118 | H35: =SUM(H36:H37) -> 121 | I35: =SUM(I36:I37) -> 129 | J35: =SUM(J36:J37) -> 104 | K35: =SUM(K36:K37) -> 108 | ... O35: =SUM(O36:O37) -> 162
B36: 男 | C36: =SUM(D36:O36) -> 807 | D36: 76 | E36: 69 | F36: 79 | G36: 52 | H36: 67 | I36: 63 | J36: 59 | K36: 58 | L36: 69 | M36: 54 | N36: 76 | O36: 85
B37: 女 | C37: =SUM(D37:O37) -> 747 | D37: 69 | E37: 61 | F37: 62 | G37: 66 | H37: 54 | I37: 66 | J37: 45 | K37: 50 | L37: 66 | M37: 65 | N37: 66 | O37: 77
C38: 粗死亡率 | Q38: =[1]人口!B9 -> (国調年)日本人推計人口 (国調年以外)国調ベース人口 | R38: =[1]人口!C9 -> １月 | S38: =[1]人口!D9 -> ２月 | T38: =[1]人口!E9 -> ３月 | U38: =[1]人口!F9 -> ４月 | V38: =[1]人口!G9 -> ５月 | W38: =[1]人口!H9 -> ６月 | X38: =[1]人口!I9 -> ７月 | ... AC38: =[1]人口!N9 -> １２月
A39: 総数 | C39: =C5/Q39*1000 -> 9.8390592 | D39: =D5/(R39/$Q$50*R$50)*1000 -> 10.990941 | E39: =E5/(S39/$Q$50*S$50)*1000 -> 10.784585 | F39: =F5/(T39/$Q$50*T$50)*1000 -> 10.342923 | G39: =G5/(U39/$Q$50*U$50)*1000 -> 9.5287384 | H39: =H5/(V39/$Q$50*V$50)*1000 -> 9.3637927 | I39: =I5/(W39/$Q$50*W$50)*1000 -> 8.8624875 | J39: =J5/(X39/$Q$50*X$50)*1000 -> 9.1041407 | K39: =K5/(Y39/$Q$50*Y$50)*1000 -> 8.9830288 | ... O39: =O5/(AC39/$Q$50*AC$50)*1000 -> 10.333087 | Q39: =[1]人口!B10 -> 1965940 | R39: =[1]人口!C10 -> 1963626 | S39: =[1]人口!D10 -> 1962987 | T39: =[1]人口!E10 -> 1962570 | U39: =[1]人口!F10 -> 1961225 | V39: =[1]人口!G10 -> 1965343 | W39: =[1]人口!H10 -> 1965889 | X39: =[1]人口!I10 -> 1965784 | ... AC39: =[1]人口!N10 -> 1966717
A40: 中央 | C40: =C8/Q40*1000 -> 8.9495957 | D40: =D8/(R40/$Q$50*R$50)*1000 -> 10.332729 | E40: =E8/(S40/$Q$50*S$50)*1000 -> 9.9834292 | F40: =F8/(T40/$Q$50*T$50)*1000 -> 9.8954273 | G40: =G8/(U40/$Q$50*U$50)*1000 -> 8.918366 | H40: =H8/(V40/$Q$50*V$50)*1000 -> 7.2394982 | I40: =I8/(W40/$Q$50*W$50)*1000 -> 7.8738589 | J40: =J8/(X40/$Q$50*X$50)*1000 -> 9.1211514 | K40: =K8/(Y40/$Q$50*Y$50)*1000 -> 7.9489208 | ... O40: =O8/(AC40/$Q$50*AC$50)*1000 -> 9.3964546 | Q40: =[1]人口!B11 -> 242916 | R40: =[1]人口!C11 -> 241575 | S40: =[1]人口!D11 -> 241561 | T40: =[1]人口!E11 -> 241542 | U40: =[1]人口!F11 -> 241468 | V40: =[1]人口!G11 -> 242331 | W40: =[1]人口!H11 -> 242596 | X40: =[1]人口!I11 -> 242683 | ... AC40: =[1]人口!N11 -> 243091
A41: 北 | C41: =C11/Q41*1000 -> 9.864151 | D41: =D11/(R41/$Q$50*R$50)*1000 -> 10.920702 | E41: =E11/(S41/$Q$50*S$50)*1000 -> 10.820876 | F41: =F11/(T41/$Q$50*T$50)*1000 -> 10.716157 | G41: =G11/(U41/$Q$50*U$50)*1000 -> 10.1284 | H41: =H11/(V41/$Q$50*V$50)*1000 -> 8.3911048 | I41: =I11/(W41/$Q$50*W$50)*1000 -> 9.4720403 | J41: =J11/(X41/$Q$50*X$50)*1000 -> 8.839331 | K41: =K11/(Y41/$Q$50*Y$50)*1000 -> 8.8334976 | ... O41: =O11/(AC41/$Q$50*AC$50)*1000 -> 9.0242479 | Q41: =[1]人口!B12 -> 288114 | R41: =[1]人口!C12 -> 287867 | S41: =[1]人口!D12 -> 287919 | T41: =[1]人口!E12 -> 287868 | U41: =[1]人口!F12 -> 287097 | V41: =[1]人口!G12 -> 287651 | W41: =[1]人口!H12 -> 287724 | X41: =[1]人口!I12 -> 287717 | ... AC41: =[1]人口!N12 -> 288345
A42: 東 | C42: =C14/Q42*1000 -> 9.5085604 | D42: =D14/(R42/$Q$50*R$50)*1000 -> 10.866486 | E42: =E14/(S42/$Q$50*S$50)*1000 -> 11.347373 | F42: =F14/(T42/$Q$50*T$50)*1000 -> 9.7687829 | G42: =G14/(U42/$Q$50*U$50)*1000 -> 9.0381348 | H42: =H14/(V42/$Q$50*V$50)*1000 -> 9.7579882 | I42: =I14/(W42/$Q$50*W$50)*1000 -> 8.0087161 | J42: =J14/(X42/$Q$50*X$50)*1000 -> 8.9549113 | K42: =K14/(Y42/$Q$50*Y$50)*1000 -> 8.4217874 | ... O42: =O14/(AC42/$Q$50*AC$50)*1000 -> 9.9858371 | Q42: =[1]人口!B13 -> 264183 | R42: =[1]人口!C13 -> 264382 | S42: =[1]人口!D13 -> 264221 | T42: =[1]人口!E13 -> 263958 | U42: =[1]人口!F13 -> 263845 | V42: =[1]人口!G13 -> 264250 | W42: =[1]人口!H13 -> 264337 | X42: =[1]人口!I13 -> 264281 | ... AC42: =[1]人口!N13 -> 264116
A43: 白石 | C43: =C17/Q43*1000 -> 9.6077467 | D43: =D17/(R43/$Q$50*R$50)*1000 -> 10.894065 | E43: =E17/(S43/$Q$50*S$50)*1000 -> 9.7748215 | F43: =F17/(T43/$Q$50*T$50)*1000 -> 9.6665044 | G43: =G17/(U43/$Q$50*U$50)*1000 -> 9.239483 | H43: =H17/(V43/$Q$50*V$50)*1000 -> 10.097697 | I43: =I17/(W43/$Q$50*W$50)*1000 -> 8.6995296 | J43: =J17/(X43/$Q$50*X$50)*1000 -> 9.3092052 | K43: =K17/(Y43/$Q$50*Y$50)*1000 -> 8.2437903 | ... O43: =O17/(AC43/$Q$50*AC$50)*1000 -> 10.844154 | Q43: =[1]人口!B14 -> 211496 | R43: =[1]人口!C14 -> 210754 | S43: =[1]人口!D14 -> 210709 | T43: =[1]人口!E14 -> 210721 | U43: =[1]人口!F14 -> 210690 | V43: =[1]人口!G14 -> 211051 | W43: =[1]人口!H14 -> 211180 | X43: =[1]人口!I14 -> 211220 | ... AC43: =[1]人口!N14 -> 211724
A44: 厚別 | C44: =C20/Q44*1000 -> 10.045156 | D44: =D20/(R44/$Q$50*R$50)*1000 -> 10.622912 | E44: =E20/(S44/$Q$50*S$50)*1000 -> 10.530323 | F44: =F20/(T44/$Q$50*T$50)*1000 -> 8.8567025 | G44: =G20/(U44/$Q$50*U$50)*1000 -> 10.891926 | H44: =H20/(V44/$Q$50*V$50)*1000 -> 9.222387 | I44: =I20/(W44/$Q$50*W$50)*1000 -> 8.7599923 | J44: =J20/(X44/$Q$50*X$50)*1000 -> 9.321959 | K44: =K20/(Y44/$Q$50*Y$50)*1000 -> 9.8840937 | ... O44: =O20/(AC44/$Q$50*AC$50)*1000 -> 11.292624 | Q44: =[1]人口!B15 -> 126230 | R44: =[1]人口!C15 -> 126355 | S44: =[1]人口!D15 -> 126268 | T44: =[1]人口!E15 -> 126294 | U44: =[1]人口!F15 -> 126225 | V44: =[1]人口!G15 -> 126393 | W44: =[1]人口!H15 -> 126389 | X44: =[1]人口!I15 -> 126306 | ... AC44: =[1]人口!N15 -> 126160
A45: 豊平 | C45: =C23/Q45*1000 -> 9.2189766 | D45: =D23/(R45/$Q$50*R$50)*1000 -> 9.8438871 | E45: =E23/(S45/$Q$50*S$50)*1000 -> 10.191976 | F45: =F23/(T45/$Q$50*T$50)*1000 -> 9.4254468 | G45: =G23/(U45/$Q$50*U$50)*1000 -> 9.0131192 | H45: =H23/(V45/$Q$50*V$50)*1000 -> 8.8624332 | I45: =I23/(W45/$Q$50*W$50)*1000 -> 7.2917652 | J45: =J23/(X45/$Q$50*X$50)*1000 -> 9.1776588 | K45: =K23/(Y45/$Q$50*Y$50)*1000 -> 9.5499558 | ... O45: =O23/(AC45/$Q$50*AC$50)*1000 -> 9.7999091 | Q45: =[1]人口!B16 -> 222042 | R45: =[1]人口!C16 -> 221277 | S45: =[1]人口!D16 -> 221270 | T45: =[1]人口!E16 -> 221107 | U45: =[1]人口!F16 -> 221381 | V45: =[1]人口!G16 -> 221868 | W45: =[1]人口!H16 -> 221917 | X45: =[1]人口!I16 -> 221945 | ... AC45: =[1]人口!N16 -> 222270
A46: 清田 | C46: =C26/Q46*1000 -> 9.8636269 | D46: =D26/(R46/$Q$50*R$50)*1000 -> 11.604002 | E46: =E26/(S46/$Q$50*S$50)*1000 -> 12.060191 | F46: =F26/(T46/$Q$50*T$50)*1000 -> 9.5687081 | G46: =G26/(U46/$Q$50*U$50)*1000 -> 10.115094 | H46: =H26/(V46/$Q$50*V$50)*1000 -> 10.201615 | I46: =I26/(W46/$Q$50*W$50)*1000 -> 8.7549706 | J46: =J26/(X46/$Q$50*X$50)*1000 -> 8.5750772 | K46: =K26/(Y46/$Q$50*Y$50)*1000 -> 8.0629782 | ... O46: =O26/(AC46/$Q$50*AC$50)*1000 -> 8.893127 | Q46: =[1]人口!B17 -> 115272 | R46: =[1]人口!C17 -> 115672 | S46: =[1]人口!D17 -> 115655 | T46: =[1]人口!E17 -> 115666 | U46: =[1]人口!F17 -> 115471 | V46: =[1]人口!G17 -> 115415 | W46: =[1]人口!H17 -> 115344 | X46: =[1]人口!I17 -> 115338 | ... AC46: =[1]人口!N17 -> 115185
A47: 南 | C47: =C29/Q47*1000 -> 12.404698 | D47: =D29/(R47/$Q$50*R$50)*1000 -> 12.379161 | E47: =E29/(S47/$Q$50*S$50)*1000 -> 12.704274 | F47: =F29/(T47/$Q$50*T$50)*1000 -> 13.354923 | G47: =G29/(U47/$Q$50*U$50)*1000 -> 12.159794 | H47: =H29/(V47/$Q$50*V$50)*1000 -> 14.15942 | I47: =I29/(W47/$Q$50*W$50)*1000 -> 9.4685642 | J47: =J29/(X47/$Q$50*X$50)*1000 -> 10.266983 | K47: =K29/(Y47/$Q$50*Y$50)*1000 -> 12.428926 | ... O47: =O29/(AC47/$Q$50*AC$50)*1000 -> 14.016287 | Q47: =[1]人口!B18 -> 137851 | R47: =[1]人口!C18 -> 138865 | S47: =[1]人口!D18 -> 138522 | T47: =[1]人口!E18 -> 138417 | U47: =[1]人口!F18 -> 138078 | V47: =[1]人口!G18 -> 138868 | W47: =[1]人口!H18 -> 138775 | X47: =[1]人口!I18 -> 138763 | ... AC47: =[1]人口!N18 -> 137766
A48: 西 | C48: =C32/Q48*1000 -> 9.5720147 | D48: =D32/(R48/$Q$50*R$50)*1000 -> 11.557504 | E48: =E32/(S48/$Q$50*S$50)*1000 -> 10.004479 | F48: =F32/(T48/$Q$50*T$50)*1000 -> 11.113411 | G48: =G32/(U48/$Q$50*U$50)*1000 -> 7.6321512 | H48: =H32/(V48/$Q$50*V$50)*1000 -> 8.4629831 | I48: =I32/(W48/$Q$50*W$50)*1000 -> 10.263708 | J48: =J32/(X48/$Q$50*X$50)*1000 -> 9.0599268 | K48: =K32/(Y48/$Q$50*Y$50)*1000 -> 8.9456292 | ... O48: =O32/(AC48/$Q$50*AC$50)*1000 -> 9.4251952 | Q48: =[1]人口!B19 -> 215942 | R48: =[1]人口!C19 -> 214956 | S48: =[1]人口!D19 -> 214993 | T48: =[1]人口!E19 -> 215070 | U48: =[1]人口!F19 -> 215208 | V48: =[1]人口!G19 -> 215645 | W48: =[1]人口!H19 -> 215744 | X48: =[1]人口!I19 -> 215732 | ... AC48: =[1]人口!N19 -> 216116
A49: 手稲 | C49: =C35/Q49*1000 -> 10.951837 | D49: =D35/(R49/$Q$50*R$50)*1000 -> 12.029467 | E49: =E35/(S49/$Q$50*S$50)*1000 -> 11.945124 | F49: =F35/(T49/$Q$50*T$50)*1000 -> 11.69729 | G49: =G35/(U49/$Q$50*U$50)*1000 -> 10.127303 | H49: =H35/(V49/$Q$50*V$50)*1000 -> 10.042062 | I49: =I35/(W49/$Q$50*W$50)*1000 -> 11.061931 | J49: =J35/(X49/$Q$50*X$50)*1000 -> 8.6355766 | K49: =K35/(Y49/$Q$50*Y$50)*1000 -> 8.9607629 | ... O49: =O35/(AC49/$Q$50*AC$50)*1000 -> 13.43783 | Q49: =[1]人口!B20 -> 141894 | R49: =[1]人口!C20 -> 141923 | S49: =[1]人口!D20 -> 141869 | T49: =[1]人口!E20 -> 141927 | U49: =[1]人口!F20 -> 141762 | V49: =[1]人口!G20 -> 141871 | W49: =[1]人口!H20 -> 141883 | X49: =[1]人口!I20 -> 141799 | ... AC49: =[1]人口!N20 -> 141944
Q50: =[1]人口!B21 -> 365 | R50: =[1]人口!C21 -> 31 | S50: =[1]人口!D21 -> 28 | T50: =[1]人口!E21 -> 31 | U50: =[1]人口!F21 -> 30 | V50: =[1]人口!G21 -> 31 | W50: =[1]人口!H21 -> 30 | X50: =[1]人口!I21 -> 31 | ... AC50: =[1]人口!N21 -> 31

Sheet 4 年次別，死因順位
A1: 4 年次別にみた死因順位
A3: 年次 | B3: 第1位 | D3: 第2位 | F3: 第3位 | H3: 第4位 | J3: 第5位 | L3: 第6位 | N3: 第7位 | P3: 第8位 | R3: 第9位 | T3: 第10位
B4: 死 因 | C4: 死亡数 死亡率 | D4: 死 因 | E4: 死亡数 死亡率 | F4: 死 因 | G4: 死亡数 死亡率 | H4: 死 因 | I4: 死亡数 死亡率 | J4: 死 因 | K4: 死亡数 死亡率 | L4: 死 因 | M4: 死亡数 死亡率 | N4: 死 因 | O4: 死亡数 死亡率 | P4: 死 因 | Q4: 死亡数 死亡率 | R4: 死 因 | S4: 死亡数 死亡率 | T4: 死 因 | U4: 死亡数 死亡率
A5: 1985 昭和60年 | B5: 悪性新生物 | C5: 1986 | D5: 心疾患 | E5: 1511 | F5: 脳血管疾患 | G5: 1075 | H5: 肺炎及び 気管支炎 | I5: 544 | J5: 不慮の事故 及び有害作用 | K5: 266 | L5: 自 殺 | M5: 261 | N5: 腎炎，ﾈﾌﾛｰｾﾞ症 候群及びﾈﾌﾛｰｾﾞ | O5: 176 | P5: 慢性肝疾患 及び肝硬変 | Q5: 152 | R5: 良性及び性質 不詳の新生物 | S5: 118 | T5: 糖尿病 | U5: 89
C6: 128.97712 | E6: 98.129117 | G6: 69.813899 | I6: 35.32908 | K6: 17.274881 | M6: 16.950165 | O6: 11.429996 | Q6: 9.8713606 | S6: 7.6632931 | U6: 5.7799414
A7: 86 61 | B7: 悪性新生物 | C7: 2075 | D7: 心疾患 | E7: 1468 | F7: 脳血管疾患 | G7: 940 | H7: 肺炎及び 気管支炎 | I7: 502 | J7: 自 殺 | K7: 287 | L7: 不慮の事故 及び有害作用 | M7: 265 | N7: 腎炎，ﾈﾌﾛｰｾﾞ症 候群及びﾈﾌﾛｰｾﾞ | O7: 184 | P7: 慢性肝疾患 及び肝硬変 | Q7: 176 | R7: 良性及び性質 不詳の新生物 | S7: 107 | T7: 糖尿病 | U7: 98
C8: 132.42954 | E8: 93.689908 | G8: 59.992175 | I8: 32.038375 | K8: 18.31676 | M8: 16.912688 | O8: 11.743149 | Q8: 11.232578 | S8: 6.8288966 | U8: 6.2545034
A9: 1987 昭和62年 | B9: 悪性新生物 | C9: 2071 | D9: 心疾患 | E9: 1496 | F9: 脳血管疾患 | G9: 908 | H9: 肺炎及び 気管支炎 | I9: 500 | J9: 不慮の事故 及び有害作用 | K9: 255 | L9: 自 殺 | M9: 238 | N9: 腎炎、ﾈﾌﾛｰｾﾞ症 候群及びﾈﾌﾛｰｾﾞ | O9: 206 | P9: 良性及び性質 不詳の新生物 | Q9: 130 | R9: 慢性肝疾患 及び肝硬変 | S9: 128 | T9: 糖尿病 | U9: 98
C10: 129.98955 | E10: 93.898776 | G10: 56.992038 | I10: 31.383281 | K10: 16.005473 | M10: 14.938442 | O10: 12.929912 | Q10: 8.159653 | S10: 8.0341199 | U10: 6.1511231
A11: 1988 昭和63年 | B11: 悪性新生物 | C11: 2288 | D11: 心疾患 | E11: 1716 | F11: 脳血管疾患 | G11: 899 | H11: 肺炎及び 気管支炎 | I11: 589 | J11: 不慮の事故 及び有害作用 | K11: 302 | L11: 自 殺 | M11: 275 | N11: 腎炎、ﾈﾌﾛｰｾﾞ症 候群及びﾈﾌﾛｰｾﾞ | O11: 207 | P11: 慢性肝疾患 及び肝硬変 | Q11: 165 | R11: 良性及び性質 不詳の新生物 | S11: 115 | T11: 糖尿病 | U11: 101
C12: 141.33394 | E12: 106.00045 | G12: 55.532872 | I12: 36.383606 | K12: 18.655091 | M12: 16.987252 | O12: 12.786768 | Q12: 10.192351 | S12: 7.10376 | U12: 6.2389544
A13: 89 平成元年 | B13: 悪性新生物 | C13: 2524 | D13: 心疾患 | E13: 1673 | F13: 脳血管疾患 | G13: 906 | H13: 肺炎及び 気管支炎 | I13: 745 | J13: 不慮の事故 及び有害作用 | K13: 274 | L13: 自 殺 | M13: 251 | N13: 腎炎、ﾈﾌﾛｰｾﾞ症 候群及びﾈﾌﾛｰｾﾞ | O13: 220 | P13: 慢性肝疾患 及び肝硬変 | Q13: 171 | R13: 良性及び性質 不詳の新生物 | S13: 121 | T13: 糖尿病 | U13: 108
C14: 153.42579 | E14: 101.69625 | G14: 55.072807 | I14: 45.286138 | K14: 16.655573 | M14: 15.257478 | O14: 13.373088 | Q14: 10.394536 | S14: 7.3551983 | U14: 6.5649704
A15: 90 2 | B15: 悪性新生物 | C15: 2483 | D15: 心疾患 | E15: 1786 | F15: 肺炎及び 気管支炎 | G15: 870 | H15: 脳血管疾患 | I15: 859 | J15: 不慮の事故 及び有害作用 | K15: 343 | L15: 腎炎、ﾈﾌﾛｰｾﾞ症 候群及びﾈﾌﾛｰｾﾞ | M15: 230 | N15: 自殺 | O15: 208 | P15: 慢性肝疾患 及び肝硬変 | Q15: 153 | R15: 糖尿病 | S15: 121 | T15: 良性及び性質 不詳の新生物 | U15: 103
C16: 148.86234 | E16: 107.07537 | G16: 52.158774 | I16: 51.499295 | K16: 20.563746 | M16: 13.789101 | O16: 12.470144 | Q16: 9.1727499 | S16: 7.2542662 | U16: 6.1751192
A17: 91 3 | B17: 悪性新生物 | C17: 2569 | D17: 心疾患 | E17: 1714 | F17: 脳血管疾患 | G17: 905 | H17: 肺炎及び 気管支炎 | I17: 776 | J17: 不慮の事故 及び有害作用 | K17: 304 | L17: 腎炎、ﾈﾌﾛｰｾﾞ症 候群及びﾈﾌﾛｰｾﾞ | M17: 229 | N17: 自殺 | O17: 192 | P17: 慢性肝疾患 及び肝硬変 | Q17: 176 | R17: 糖尿病 | S17: 126 | T17: 良性及び性質 不詳の新生物 | U17: 117
C18: 151.56449 | E18: 101.12166 | G18: 53.392708 | I18: 45.782035 | K18: 17.93523 | M18: 13.51042 | O18: 11.327514 | Q18: 10.383554 | S18: 7.4336809 | U18: 6.9027037
A19: 92 4 | B19: 悪性新生物 | C19: 2684 | D19: 心疾患 | E19: 1894 | F19: 脳血管疾患 | G19: 955 | H19: 肺炎及び 気管支炎 | I19: 861 | J19: 不慮の事故 及び有害作用 | K19: 296 | L19: 腎炎、ﾈﾌﾛｰｾﾞ症 候群及びﾈﾌﾛｰｾﾞ | M19: 248 | N19: 自殺 | O19: 219 | P19: 慢性肝疾患 及び肝硬変 | Q19: 169 | R19: 糖尿病 | S19: 106 | T19: 良性及び性質 不詳の新生物 | U19: 102
C20: 156.54819 | E20: 110.4703 | G20: 55.701761 | I20: 50.219074 | K20: 17.264629 | M20: 14.46496 | O20: 12.773493 | Q20: 9.8571702 | S20: 6.1826038 | U20: 5.949298
A21: 1993 平成5年 | B21: 悪性新生物 | C21: 2767 | D21: 心疾患 | E21: 1944 | F21: 肺炎及び 気管支炎 | G21: 1142 | H21: 脳血管疾患 | I21: 982 | J21: 不慮の事故 及び有害作用 | K21: 326 | L21: 自 殺 | M21: 241 | N21: 腎炎、ﾈﾌﾛｰｾﾞ症 候群及びﾈﾌﾛｰｾﾞ | O21: 229 | P21: 慢性肝疾患 及び肝硬変 | Q21: 192 | R21: 糖尿病 | S21: 123 | T21: 循環系のその 他の疾患 | U21: 119
C22: 160.08414 | E22: 112.46967 | G22: 66.070145 | I22: 56.813383 | K22: 18.860654 | M22: 13.942999 | O22: 13.248742 | Q22: 11.108116 | S22: 7.1161365 | U22: 6.8847174
A23: 94 6 | B23: 悪性新生物 | C23: 2779 | D23: 心疾患 | E23: 1637 | F23: 脳血管疾患 | G23: 1005 | H23: 肺炎及び 気管支炎 | I23: 971 | J23: 不慮の事故 及び有害作用 | K23: 349 | L23: 腎炎、ﾈﾌﾛｰｾﾞ症 候群及びﾈﾌﾛｰｾﾞ | M23: 255 | N23: 自殺 | O23: 222 | P23: 慢性肝疾患 及び肝硬変 | Q23: 161 | R23: 糖尿病 | S23: 125 | T23: 循環系のその 他の疾患 | U23: 113
C24: 159.66364 | E24: 94.051596 | G24: 57.7409 | I24: 55.787477 | K24: 20.051318 | M24: 14.650676 | O24: 12.754706 | Q24: 9.2500348 | S24: 7.181704 | U24: 6.4922604
A25: 95 7 | B25: 悪性新生物 | C25: 3083 | D25: 心疾患 | E25: 1574 | F25: 脳血管疾患 | G25: 1278 | H25: 肺 炎 | I25: 727 | J25: 不慮の事故 | K25: 377 | L25: 自 殺 | M25: 228 | N25: 腎 不 全 | O25: 204 | P25: 肝疾患 | Q25: 156 | R25: 糖尿病 | S25: 142 | T25: 慢性閉塞性 肺疾患 | U25: 129
C26: 175.96942 | E26: 89.839721 | G26: 72.944831 | I26: 41.495221 | K26: 21.518154 | M26: 13.013632 | O26: 11.643776 | Q26: 8.9040638 | S26: 8.1049812 | U26: 7.3629759
A27: 96 8 | B27: 悪性新生物 | C27: 3295 | D27: 心疾患 | E27: 1536 | F27: 脳血管疾患 | G27: 1292 | H27: 肺 炎 | I27: 689 | J27: 不慮の事故 | K27: 356 | L27: 自 殺 | M27: 248 | N27: 腎 不 全 | O27: 228 | P27: 肝疾患 | Q27: 158 | R27: 糖尿病 | S27: 133 | T27: 慢性閉塞性 肺疾患 | U27: 102
C28: 185.68192 | E28: 86.557643 | G28: 72.807601 | I28: 38.826964 | K28: 20.061537 | M28: 13.975453 | O28: 12.8484 | Q28: 8.9037159 | S28: 7.4949001 | U28: 5.7479685
A29: 97 9 | B29: 悪性新生物 | C29: 3352 | D29: 心疾患 | E29: 1541 | F29: 脳血管疾患 | G29: 1345 | H29: 肺 炎 | I29: 728 | J29: 不慮の事故 | K29: 370 | L29: 自 殺 | M29: 308 | N29: 腎 不 全 | O29: 234 | P29: 肝疾患 | Q29: 183 | R29: 糖尿病 | S29: 130 | T29: 慢性閉塞性 肺疾患 | U29: 122
C30: 187.13492 | E30: 86.030702 | G30: 75.088445 | I30: 40.642668 | K30: 20.656301 | M30: 17.194975 | O30: 13.063715 | Q30: 10.216495 | S30: 7.2576192 | U30: 6.8109965
A31: 98 10 | B31: 悪性新生物 | C31: 3439 | D31: 心疾患 | E31: 1591 | F31: 脳血管疾患 | G31: 1307 | H31: 肺 炎 | I31: 748 | J31: 自 殺 | K31: 413 | L31: 不慮の事故 | M31: 322 | N31: 腎 不 全 | O31: 198 | P31: 肝疾患 | Q31: 145 | R31: 糖尿病 | S31: 144 | T31: その他の 新生物 | U31: 94
C32: 190.67992 | E32: 88.215105 | G32: 72.468348 | I32: 41.473852 | K32: 22.899333 | M32: 17.853717 | O32: 10.978373 | Q32: 8.0397173 | S32: 7.984271 | U32: 5.2119547
A33: 99 11 | B33: 悪性新生物 | C33: 3515 | D33: 心疾患 | E33: 1726 | F33: 脳血管疾患 | G33: 1418 | H33: 肺 炎 | I33: 910 | J33: 自 殺 | K33: 442 | L33: 不慮の事故 | M33: 360 | N33: 腎 不 全 | O33: 222 | P33: 肝疾患 | Q33: 166 | R33: 糖尿病 | S33: 158 | T33: その他の 新生物 | U33: 124
C34: 193.98144 | E34: 95.252339 | G34: 78.254818 | I34: 50.219947 | K34: 24.392546 | M34: 19.867232 | O34: 12.25146 | Q34: 9.1610013 | S34: 8.7195072 | U34: 6.8431576
A35: 2000 12 | B35: 悪性新生物 | C35: 3727 | D35: 心疾患 | E35: 1651 | F35: 脳血管疾患 | G35: 1439 | H35: 肺 炎 | I35: 820 | J35: 自 殺 | K35: 475 | L35: 不慮の事故 | M35: 355 | N35: 腎 不 全 | O35: 228 | P35: 肝疾患 | Q35: 148 | R35: 糖尿病 | S35: 141 | T35: 慢性閉塞性 肺疾患 | U35: 125
C36: 205.1548 | E36: 90.880217 | G36: 79.210559 | I36: 45.137358 | K36: 26.14664 | M36: 19.541173 | O36: 12.550387 | Q36: 8.1467427 | S36: 7.7614237 | U36: 6.8806948
A37: 01 13 | B37: 悪性新生物 | C37: 3765 | D37: 心疾患 | E37: 1669 | F37: 脳血管疾患 | G37: 1341 | H37: 肺 炎 | I37: 803 | J37: 不慮の事故 | K37: 375 | L37: 自 殺 | M37: 351 | N37: 腎 不 全 | O37: 257 | P37: 糖尿病 | Q37: 161 | R37: 肝疾患 | S37: 135 | U37: 128
C38: 205.21245 | E38: 90.969344 | G38: 73.091606 | I38: 43.767755 | K38: 20.439487 | M38: 19.13136 | O38: 14.007862 | Q38: 8.7753531 | S38: 7.3582154 | U38: 6.9766783
A39: 02 14 | B39: 悪性新生物 | C39: 3926 | D39: 心疾患 | E39: 1624 | F39: 脳血管疾患 | G39: 1415 | H39: 肺 炎 | I39: 820 | J39: 自 殺 | K39: 394 | L39: 不慮の事故 | M39: 363 | N39: 腎 不 全 | O39: 289 | P39: 肝 疾 患 | Q39: 150 | R39: 大動脈瘤及び解離 | S39: 139 | T39: 糖 尿 病 | U39: 136
C40: 212.41416 | E40: 87.865665 | G40: 76.55783 | I40: 44.365668 | K40: 21.317163 | M40: 19.639924 | O40: 15.636193 | Q40: 8.115671 | S40: 7.5205218 | U40: 7.3582084
A41: 03 15 | B41: 悪性新生物 | C41: 3997 | D41: 心疾患 | E41: 1761 | F41: 脳血管疾患 | G41: 1468 | H41: 肺 炎 | I41: 960 | J41: 自 殺 | K41: 467 | L41: 不慮の事故 | M41: 390 | N41: 腎 不 全 | O41: 278 | P41: 肝 疾 患 | Q41: 148 | R41: 慢性閉塞性肺疾患 | S41: 144 | T41: 糖 尿 病 | U41: 140
C42: 214.62004 | E42: 94.557392 | G42: 78.824675 | I42: 51.547471 | K42: 25.075697 | M42: 20.94116 | O42: 14.927289 | Q42: 7.9469018 | S42: 7.7321207 | U42: 7.5173395
A43: 04 16 | B43: 悪性新生物 | C43: 4372 | D43: 心疾患 | E43: 1793 | F43: 脳血管疾患 | G43: 1423 | H43: 肺 炎 | I43: 1022 | J43: 自 殺 | K43: 442 | L43: 不慮の事故 | M43: 399 | N43: 腎 不 全 | O43: 236 | P43: 肝 疾 患 | Q43: 166 | R43: 慢性閉塞性肺疾患 | S43: 147 | T43: 糖 尿 病 | U43: 132
C44: 233.45934 | E44: 95.743959 | G44: 75.986422 | I44: 54.573523 | K44: 23.602248 | M44: 21.306101 | O44: 12.602105 | Q44: 8.8641926 | S44: 7.8496163 | U44: 7.048635
A45: 05 17 | B45: 悪性新生物 | C45: 4490 | D45: 心疾患 | E45: 1933 | F45: 脳血管疾患 | G45: 1598 | H45: 肺 炎 | I45: 1054 | J45: 自 殺 | K45: 472 | L45: 不慮の事故 | M45: 346 | N45: 腎 不 全 | O45: 291 | P45: 肝 疾 患 | Q45: 169 | R45: 慢性閉塞性肺疾患 | S45: 138 | T45: 糖 尿 病 | U45: 164
C46: 239.5 | E46: 103.1 | G46: 85.3 | I46: 56.2 | K46: 25.2 | M46: 18.5 | O46: 15.471621 | Q46: 8.9852371 | S46: 7.4 | U46: 8.7194017
A47: 06 18 | B47: 悪性新生物 | C47: 4565 | D47: 心疾患 | E47: 2074 | F47: 脳血管疾患 | G47: 1408 | H47: 肺 炎 | I47: 1117 | J47: 不慮の事故 | K47: 415 | L47: 自 殺 | M47: 409 | N47: 腎 不 全 | O47: 287 | P47: 糖 尿 病 | Q47: 174 | R47: 肝 疾 患 | S47: 159 | T47: 大動脈瘤及び解離 | U47: 152
C48: 241.60342 | E48: 109.76681 | G48: 74.518646 | I48: 59.11742 | K48: 21.963947 | M48: 21.646396 | O48: 15.189525 | Q48: 9.2089803 | S48: 8.4151027 | U48: 8.0446265
A49: 07 19 | B49: 悪性新生物 | C49: 4695 | D49: 心疾患 | E49: 2268 | F49: 脳血管疾患 | G49: 1492 | H49: 肺 炎 | I49: 1172 | J49: 自 殺 | K49: 419 | L49: 不慮の事故 | M49: 372 | N49: 腎 不 全 | O49: 326 | P49: 糖 尿 病 | Q49: 177 | R49: 敗 血 症 | S49: 171 | T49: 慢性閉塞性肺疾患 | U49: 164
C50: 247.63951 | E50: 119.6265 | G50: 78.696092 | I50: 61.817574 | K50: 22.10031 | M50: 19.621278 | O50: 17.194991 | Q50: 9.3359305 | S50: 9.0194583 | U50: 8.6502407
A51: 08 20 | B51: 悪性新生物 | C51: 4735 | D51: 心疾患 | E51: 2219 | F51: 脳血管疾患 | G51: 1380 | H51: 肺 炎 | I51: 1298 | J51: 自 殺 | K51: 477 | L51: 不慮の事故 | M51: 367 | N51: 腎 不 全 | O51: 341 | P51: 大動脈瘤及び解離 | Q51: 192 | R51: 糖 尿 病 | S51: 188 | T51: 敗 血 症 | U51: 185
C52: 249.10367 | E52: 116.7394 | G52: 72.600437 | I52: 68.286498 | K52: 25.094499 | M52: 19.307508 | O52: 17.939673 | Q52: 10.10093 | S52: 9.8904943 | U52: 9.7326673
A53: 09 21 | B53: 悪性新生物 | C53: 4981 | D53: 心疾患 | E53: 2137 | F53: 脳血管疾患 | G53: 1335 | H53: 肺 炎 | I53: 1222 | J53: 自 殺 | K53: 420 | L53: 不慮の事故 | M53: 383 | N53: 腎 不 全 | O53: 356 | P53: 老衰 | Q53: 231 | R53: 肝疾患 | S53: 201 | T53: 大動脈瘤及び解離 | U53: 200
C54: 261.14027 | E54: 112.03709 | G54: 69.990416 | I54: 64.066134 | K54: 22.019457 | M54: 20.079648 | O54: 18.664111 | Q54: 12.110701 | S54: 10.537883 | U54: 10.485456
A55: 10 22 | B55: 悪性新生物 | C55: 5256 | D55: 心疾患 | E55: 2313 | F55: 肺 炎 | G55: 1439 | H55: 脳血管疾患 | I55: 1372 | J55: 自 殺 | K55: 431 | L55: 不慮の事故 | M55: 387 | N55: 腎不全 | O55: 329 | P55: 老衰 | Q55: 222 | R55: 大動脈瘤及び解離 | S55: 207 | T55: 慢性閉塞性肺疾患 | U55: 194
C56: 275.66328 | E56: 121.31072 | G56: 75.471738 | I56: 71.957765 | K56: 22.604808 | M56: 20.297125 | O56: 17.255178 | Q56: 11.643312 | S56: 10.856602 | U56: 10.174786
A57: 11 23 | B57: 悪性新生物 | C57: 5326 | D57: 心疾患 | E57: 2421 | F57: 肺 炎 | G57: 1473 | H57: 脳血管疾患 | I57: 1368 | J57: 不慮の事故 | K57: 449 | L57: 自 殺 | M57: 434 | N57: 腎 不 全 | O57: 411 | P57: 老 衰 | Q57: 256 | R57: 糖 尿 病 | S57: 211 | T57: 大動脈瘤及び解離 | U57: 197
A58: 11 23 | B58: 悪性新生物 | C58: 277.11655 | D58: 心疾患 | E58: 125.9668 | F58: 肺 炎 | G58: 76.64151 | H58: 脳血管疾患 | I58: 71.178266 | J58: 不慮の事故 | K58: 23.361872 | L58: 自 殺 | M58: 22.581409 | N58: 腎 不 全 | O58: 21.384698 | P58: 老 衰 | Q58: 13.319909 | R58: 糖 尿 病 | S58: 10.978519 | T58: 大動脈瘤及び解離 | U58: 10.250087
A59: 12 24 | B59: 悪性新生物 | C59: 5302 | D59: 心疾患 | E59: 2363 | F59: 肺 炎 | G59: 1581 | H59: 脳血管疾患 | I59: 1348 | J59: 自 殺 | K59: 403 | L59: 老 衰 | M59: 392 | N59: 腎 不 全 | O59: 387 | P59: 不慮の事故 | Q59: 366 | R59: 敗 血 症 | S59: 239 | T59: 肝 疾 患 | U59: 223
A60: 12 24 | B60: 悪性新生物 | C60: 274.88936 | D60: 心疾患 | E60: 122.51293 | F60: 肺 炎 | G60: 81.969083 | H60: 脳血管疾患 | I60: 69.888883 | J60: 自 殺 | K60: 20.89408 | L60: 老 衰 | M60: 20.32377 | N60: 腎 不 全 | O60: 20.064538 | P60: 不慮の事故 | Q60: 18.975765 | R60: 敗 血 症 | S60: 12.391278 | T60: 肝 疾 患 | U60: 11.561737
A61: 13 25 | B61: 悪性新生物 | C61: 5674 | D61: 心疾患 | E61: 2287 | F61: 肺 炎 | G61: 1477 | H61: 脳血管疾患 | I61: 1384 | J61: 老 衰 | K61: 514 | L61: 腎 不 全 | M61: 407 | N61: 自 殺 | O61: 374 | P61: 不慮の事故 | Q61: 370 | R61: 敗 血 症 | S61: 241 | T61: 大動脈瘤及び解離 | U61: 230
A62: 13 25 | B62: 悪性新生物 | C62: 293.0499 | D62: 心疾患 | E62: 118.11863 | F62: 肺 炎 | G62: 76.283875 | H62: 脳血管疾患 | I62: 71.480625 | J62: 老 衰 | K62: 26.546995 | L62: 腎 不 全 | M62: 21.020675 | N62: 自 殺 | O62: 19.316296 | P62: 不慮の事故 | Q62: 19.109705 | R62: 敗 血 症 | S62: 12.447132 | T62: 大動脈瘤及び解離 | U62: 11.879006
A63: 14 26 | B63: 悪性新生物 | C63: 5783 | D63: 心疾患 | E63: 2393 | F63: 肺 炎 | G63: 1597 | H63: 脳血管疾患 | I63: 1389 | J63: 老 衰 | K63: 626 | L63: 不慮の事故 | M63: 411 | N63: 腎 不 全 | O63: 400 | P63: 自 殺 | Q63: 345 | R63: 敗 血 症 | S63: 239 | T63: 大動脈瘤及び解離 | U63: 223
A64: 14 26 | B64: 悪性新生物 | C64: 297.68646 | D64: 心疾患 | E64: 123.18238 | F64: 肺 炎 | G64: 82.207379 | H64: 脳血管疾患 | I64: 71.500344 | J64: 老 衰 | K64: 32.224057 | L64: 不慮の事故 | M64: 21.156689 | N64: 腎 不 全 | O64: 20.590452 | P64: 自 殺 | Q64: 17.759265 | R64: 敗 血 症 | S64: 12.302795 | T64: 大動脈瘤及び解離 | U64: 11.479177
A65: 15 2）27 | B65: 悪性新生物 | C65: 5769 | D65: 心疾患 | E65: 2303 | F65: 肺 炎 | G65: 1567 | H65: 脳血管疾患 | I65: 1361 | J65: 老 衰 | K65: 715 | L65: 腎 不 全 | M65: 418 | N65: 不慮の事故 | O65: 395 | P65: 自 殺 | Q65: 322 | R65: 大動脈瘤及び解離 | S65: 250 | T65: 肝 疾 患 | U65: 228
A66: 15 2）27 | B66: 悪性新生物 | C66: 296.83148 | D66: 心疾患 | E66: 118.49591 | F66: 肺 炎 | G66: 80.626613 | H66: 脳血管疾患 | I66: 70.027327 | J66: 老 衰 | K66: 36.788787 | L66: 腎 不 全 | M66: 21.507291 | N66: 不慮の事故 | O66: 20.323875 | P66: 自 殺 | Q66: 16.567817 | R66: 大動脈瘤及び解離 | S66: 12.863212 | T66: 肝 疾 患 | U66: 11.731249
A67: 16 28 | B67: 悪性新生物 | C67: 6003 | D67: 心疾患 | E67: 2414 | F67: 肺 炎 | G67: 1736 | H67: 脳血管疾患 | I67: 1448 | J67: 老 衰 | K67: 893 | L67: 不慮の事故 | M67: 449 | N67: 腎 不 全 | O67: 436 | P67: 自 殺 | Q67: 315 | R67: 大動脈瘤及び解離 | S67: 266 | T67: 敗 血 症 | U67: 217
A68: 16 28 | B68: 悪性新生物 | C68: 306.52495 | D68: 心疾患 | E68: 123.26357 | F68: 肺 炎 | G68: 88.643565 | H68: 脳血管疾患 | I68: 73.93772 | J68: 老 衰 | K68: 45.598331 | L68: 不慮の事故 | M68: 22.926821 | N68: 腎 不 全 | O68: 22.263015 | P68: 自 殺 | Q68: 16.084518 | R68: 大動脈瘤及び解離 | S68: 13.582482 | T68: 敗 血 症 | U68: 11.080446
... A70: 17 29 | B70: 悪性新生物 | C70: 300.98048 | D70: 心疾患 | E70: 126.44441 | F70: 脳血管疾患 | G70: 73.411115 | H70: 肺 炎 | I70: 69.284606 | J70: 老 衰 | K70: 48.753947 | L70: 不慮の事故 | M70: 22.21183 | N70: 腎 不 全 | O70: 19.970269 | P70: 自 殺 | Q70: 16.251316 | R70: 大動脈瘤及び解離 | S70: 15.487147 | T70: 血管性及び詳細不明の痴呆 | U70: 14.875812
A71: 18 30 | B71: ='[2]■4 年次別，死因順位'!$B$5 -> 悪性新生物 | C71: ='[2]■4 年次別，死因順位'!$C$5 -> 6115 | D71: ='[2]■4 年次別，死因順位'!$D$5 -> 心疾患 | E71: ='[2]■4 年次別，死因順位'!$E$5 -> 2540 | F71: ='[2]■4 年次別，死因順位'!$F$5 -> 脳血管疾患 | G71: ='[2]■4 年次別，死因順位'!$G$5 -> 1418 | H71: ='[2]■4 年次別，死因順位'!$H$5 -> 肺 炎 | I71: ='[2]■4 年次別，死因順位'!$I$5 -> 1348 | J71: ='[2]■4 年次別，死因順位'!$J$5 -> 老 衰 | K71: ='[2]■4 年次別，死因順位'!$K$5 -> 1019 | L71: ='[2]■4 年次別，死因順位'!$L$5 -> 不慮の事故 | M71: ='[2]■4 年次別，死因順位'!$M$5 -> 483 | N71: ='[2]■4 年次別，死因順位'!$N$5 -> 腎 不 全 | O71: ='[2]■4 年次別，死因順位'!$O$5 -> 412 | P71: ='[2]■4 年次別，死因順位'!$P$5 -> 血管性及び詳細不明の痴呆 | Q71: ='[2]■4 年次別，死因順位'!$Q$5 -> 383 | R71: ='[2]■4 年次別，死因順位'!$R$5 -> 自 殺 | S71: ='[2]■4 年次別，死因順位'!$S$5 -> 299 | T71: ='[2]■4 年次別，死因順位'!$T$5 -> 大動脈瘤及び解離 | U71: ='[2]■4 年次別，死因順位'!$U$5 -> 266
C72: =C71/'1 年次別，死亡数・粗死亡率・年齢調整死亡率・死亡性比'!$M57*100000 -> 311.04713 | E72: =E71/'1 年次別，死亡数・粗死亡率・年齢調整死亡率・死亡性比'!$M57*100000 -> 129.20028 | G72: =G71/'1 年次別，死亡数・粗死亡率・年齢調整死亡率・死亡性比'!$M57*100000 -> 72.128346 | I72: =I71/'1 年次別，死亡数・粗死亡率・年齢調整死亡率・死亡性比'!$M57*100000 -> 68.567708 | K72: =K71/'1 年次別，死亡数・粗死亡率・年齢調整死亡率・死亡性比'!$M57*100000 -> 51.832711 | M72: =M71/'1 年次別，死亡数・粗死亡率・年齢調整死亡率・死亡性比'!$M57*100000 -> 24.5684 | O72: =O71/'1 年次別，死亡数・粗死亡率・年齢調整死亡率・死亡性比'!$M57*100000 -> 20.956896 | Q72: =Q71/'1 年次別，死亡数・粗死亡率・年齢調整死亡率・死亡性比'!$M57*100000 -> 19.481775 | S72: =S71/'1 年次別，死亡数・粗死亡率・年齢調整死亡率・死亡性比'!$M57*100000 -> 15.209009 | U72: =U71/'1 年次別，死亡数・粗死亡率・年齢調整死亡率・死亡性比'!$M57*100000 -> 13.530423
A73: * 死亡率は人口10万対
A74: 1) 率算出に用いた人口は国勢調査年は国勢調査の総人口、国勢調査年以外は推計人口（国勢調査ベース）による（平成27年については2）を参照）。
A75: 2) 率算出に用いた人口は「平成27年国勢調査 年齢・国籍不詳をあん分した人口（参考表）（総務省統計局）おける日本人人口による。

Sheet 5　死因順位・総数
A1: 5 性・年齢(5歳階級)別にみた死因順位
A3: 死亡数、死亡率(人口10万対)、割合(％)2) | E3: 総数 | W3: ='3 月・性別，区別死亡数'!$O$2 -> 平成30年
A4: 年齢 | B4: 人口1） | C4: 死亡 総数 | D4: 第1位 | H4: 第2位 | L4: 第3位 | P4: 第4位 | T4: 第5位
D5: 死 因 | E5: 死亡数 | F5: 死亡率 | G5: 割合 (％) | H5: 死 因 | I5: 死亡数 | J5: 死亡率 | K5: 割合 (％) | L5: 死 因 | M5: 死亡数 | N5: 死亡率 | O5: 割合 (％) | P5: 死 因 | Q5: 死亡数 | R5: 死亡率 | S5: 割合 (％) | T5: 死 因 | U5: 死亡数 | V5: 死亡率 | W5: 割合 (％)
A6: 総数 | B6: =[1]人口!$B$39 -> 1965940 | C6: ='9 性・年齢別，区別死亡数'!B6 -> 19343 | D6: 悪性新生物 | E6: 6115 | F6: =IF(E6>0,E6/$B6*100000,"") -> 311.04713 | G6: =IF(E6>0,E6/$C6*100,"") -> 31.613504 | H6: 心疾患 | I6: 2540 | J6: =IF(I6>0,I6/$B6*100000,"") -> 129.20028 | K6: =IF(I6>0,I6/$C6*100,"") -> 13.131365 | L6: 脳血管疾患 | M6: 1418 | N6: =IF(M6>0,M6/$B6*100000,"") -> 72.128346 | O6: =IF(M6>0,M6/$C6*100,"") -> 7.3308173 | P6: 肺 炎 | Q6: 1348 | R6: =IF(Q6>0,Q6/$B6*100000,"") -> 68.567708 | S6: =IF(Q6>0,Q6/$C6*100,"") -> 6.9689293 | T6: 老 衰 | U6: 1019 | V6: =IF(U6>0,U6/$B6*100000,"") -> 51.832711 | W6: =IF(U6>0,U6/$C6*100,"") -> 5.2680556 | Y6: 悪性新生物
A7: 0歳 3） | B7: =[1]出生数!$G$4 -> 13248 | C7: ='9 性・年齢別，区別死亡数'!$C$6 -> 34 | D7: 先天奇形，変形及び染色体異常 | E7: 13 | F7: =IF(E7>0,E7/$B7*100000,"") -> 98.128019 | G7: =IF(E7>0,E7/$C7*100,"") -> 38.235294 | H7: 周産期に特異的な呼吸障害及び心血管障害 | I7: 8 | J7: =IF(I7>0,I7/$B7*100000,"") -> 60.386473 | K7: =IF(I7>0,I7/$C7*100,"") -> 23.529412 | L7: 心疾患 その他の周産期に発生した病態 その他のすべての疾患 | M7: 2 | N7: =IF(M7>0,M7/$B7*100000,"") -> 15.096618 | O7: =IF(M7>0,M7/$C7*100,"") -> 5.8823529 | R7: =IF(Q7>0,Q7/$B7*100000,"") | S7: =IF(Q7>0,Q7/$C7*100,"") | V7: =IF(U7>0,U7/$B7*100000,"") | W7: =IF(U7>0,U7/$C7*100,"") | Y7: 心疾患
A8: 1～ 4 | B8: ='[1]年齢階級・区別人口(住基）'!$E$3-'[1]年齢階級・区別人口(住基）'!$D$3 -> 56816 | C8: =SUM('9 性・年齢別，区別死亡数'!$D$6:$G$6) -> 10 | D8: 敗 血 症 心疾患 | E8: 2 | F8: =IF(E8>0,E8/$B8*100000,"") -> 3.5201352 | G8: =IF(E8>0,E8/$C8*100,"") -> 20 | J8: =IF(I8>0,I8/$B8*100000,"") | K8: =IF(I8>0,I8/$C8*100,"") | L8: 悪性新生物 その他の新生物 肝 疾 患 | M8: 1 | N8: =IF(M8>0,M8/$B8*100000,"") -> 1.7600676 | O8: =IF(M8>0,M8/$C8*100,"") -> 10 | R8: =IF(Q8>0,Q8/$B8*100000,"") | S8: =IF(Q8>0,Q8/$C8*100,"") | V8: =IF(U8>0,U8/$B8*100000,"") | W8: =IF(U8>0,U8/$C8*100,"") | Y8: 脳血管疾患
A9: 5～ 9 | B9: ='[1]年齢階級・区別人口(住基）'!$F$3 -> 74513 | C9: ='9 性・年齢別，区別死亡数'!$I$6 -> 4 | D9: 悪性新生物 | E9: 2 | F9: =IF(E9>0,E9/$B9*100000,"") -> 2.6840954 | G9: =IF(E9>0,E9/$C9*100,"") -> 50 | H9: 心疾患 | I9: 1 | J9: =IF(I9>0,I9/$B9*100000,"") -> 1.3420477 | K9: =IF(I9>0,I9/$C9*100,"") -> 25 | N9: =IF(M9>0,M9/$B9*100000,"") | O9: =IF(M9>0,M9/$C9*100,"") | R9: =IF(Q9>0,Q9/$B9*100000,"") | S9: =IF(Q9>0,Q9/$C9*100,"") | V9: =IF(U9>0,U9/$B9*100000,"") | W9: =IF(U9>0,U9/$C9*100,"") | Y9: 肺 炎
A10: 10～14 | B10: ='[1]年齢階級・区別人口(住基）'!$G$3 -> 76328 | C10: ='9 性・年齢別，区別死亡数'!$J$6 -> 7 | D10: 悪性新生物 糖 尿 病 髄 膜 炎 心疾患 脳血管疾患 先天奇形，変形及び染色体異常 自 殺 | E10: 1 | F10: =IF(E10>0,E10/$B10*100000,"") -> 1.3101352 | G10: =IF(E10>0,E10/$C10*100,"") -> 14.285714 | J10: =IF(I10>0,I10/$B10*100000,"") | K10: =IF(I10>0,I10/$C10*100,"") | N10: =IF(M10>0,M10/$B10*100000,"") | O10: =IF(M10>0,M10/$C10*100,"") | R10: =IF(Q10>0,Q10/$B10*100000,"") | S10: =IF(Q10>0,Q10/$C10*100,"") | V10: =IF(U10>0,U10/$B10*100000,"") | W10: =IF(U10>0,U10/$C10*100,"") | Y10: 不慮の事故
A11: 15～19 | B11: ='[1]年齢階級・区別人口(住基）'!$H$3 -> 81718 | C11: ='9 性・年齢別，区別死亡数'!$K$6 -> 19 | D11: 自 殺 | E11: 6 | F11: =IF(E11>0,E11/$B11*100000,"") -> 7.3423236 | G11: =IF(E11>0,E11/$C11*100,"") -> 31.578947 | H11: 不慮の事故 | I11: 4 | J11: =IF(I11>0,I11/$B11*100000,"") -> 4.8948824 | K11: =IF(I11>0,I11/$C11*100,"") -> 21.052632 | L11: 悪性新生物 | M11: 3 | N11: =IF(M11>0,M11/$B11*100000,"") -> 3.6711618 | O11: =IF(M11>0,M11/$C11*100,"") -> 15.789474 | P11: 敗 血 症 その他の新生物 他 殺 | Q11: 1 | R11: =IF(Q11>0,Q11/$B11*100000,"") -> 1.2237206 | S11: =IF(Q11>0,Q11/$C11*100,"") -> 5.2631579 | V11: =IF(U11>0,U11/$B11*100000,"") | W11: =IF(U11>0,U11/$C11*100,"") | Y11: 自 殺
A12: 20～24 | B12: ='[1]年齢階級・区別人口(住基）'!$I$3 -> 95417 | C12: ='9 性・年齢別，区別死亡数'!$L$6 -> 40 | D12: 自 殺 | E12: 25 | F12: =IF(E12>0,E12/$B12*100000,"") -> 26.200782 | G12: =IF(E12>0,E12/$C12*100,"") -> 62.5 | H12: 不慮の事故 | I12: 4 | J12: =IF(I12>0,I12/$B12*100000,"") -> 4.1921251 | K12: =IF(I12>0,I12/$C12*100,"") -> 10 | L12: 悪性新生物 | M12: 2 | N12: =IF(M12>0,M12/$B12*100000,"") -> 2.0960625 | O12: =IF(M12>0,M12/$C12*100,"") -> 5 | P12: その他の新生物 先天奇形，変形及び染色体異常 他 殺 | Q12: 1 | R12: =IF(Q12>0,Q12/$B12*100000,"") -> 1.0480313 | S12: =IF(Q12>0,Q12/$C12*100,"") -> 2.5 | V12: =IF(U12>0,U12/$B12*100000,"") | W12: =IF(U12>0,U12/$C12*100,"") | Y12: 腎 不 全
A13: 25～29 | B13: ='[1]年齢階級・区別人口(住基）'!$J$3 -> 99856 | C13: ='9 性・年齢別，区別死亡数'!$M$6 -> 34 | D13: 自 殺 | E13: 15 | F13: =IF(E13>0,E13/$B13*100000,"") -> 15.021631 | G13: =IF(E13>0,E13/$C13*100,"") -> 44.117647 | H13: 悪性新生物 不慮の事故 | I13: 4 | J13: =IF(I13>0,I13/$B13*100000,"") -> 4.0057683 | K13: =IF(I13>0,I13/$C13*100,"") -> 11.764706 | N13: =IF(M13>0,M13/$B13*100000,"") | O13: =IF(M13>0,M13/$C13*100,"") | P13: 心疾患 | Q13: 3 | R13: =IF(Q13>0,Q13/$B13*100000,"") -> 3.0043262 | S13: =IF(Q13>0,Q13/$C13*100,"") -> 8.8235294 | T13: その他の新生物 先天奇形，変形及び染色体異常 | U13: 1 | V13: =IF(U13>0,U13/$B13*100000,"") -> 1.0014421 | W13: =IF(U13>0,U13/$C13*100,"") -> 2.9411765 | Y13: 老 衰
A14: 30～34 | B14: ='[1]年齢階級・区別人口(住基）'!$K$3 -> 115082 | C14: ='9 性・年齢別，区別死亡数'!$N$6 -> 59 | D14: 自 殺 | E14: 25 | F14: =IF(E14>0,E14/$B14*100000,"") -> 21.723641 | G14: =IF(E14>0,E14/$C14*100,"") -> 42.372881 | H14: 悪性新生物 | I14: 10 | J14: =IF(I14>0,I14/$B14*100000,"") -> 8.6894562 | K14: =IF(I14>0,I14/$C14*100,"") -> 16.949153 | L14: 不慮の事故 | M14: 8 | N14: =IF(M14>0,M14/$B14*100000,"") -> 6.951565 | O14: =IF(M14>0,M14/$C14*100,"") -> 13.559322 | P14: 心疾患 | Q14: 5 | R14: =IF(Q14>0,Q14/$B14*100000,"") -> 4.3447281 | S14: =IF(Q14>0,Q14/$C14*100,"") -> 8.4745763 | T14: 敗 血 症 髄 膜 炎 脳血管疾患 肝 疾 患 腎 不 全 先天奇形，変形及び染色体異常 | U14: 1 | V14: =IF(U14>0,U14/$B14*100000,"") -> 0.86894562 | W14: =IF(U14>0,U14/$C14*100,"") -> 1.6949153 | Y14: 慢性閉塞性 肺疾患
A15: 35～39 | B15: ='[1]年齢階級・区別人口(住基）'!$L$3 -> 126631 | C15: ='9 性・年齢別，区別死亡数'!$O$6 -> 92 | D15: 自 殺 | E15: 20 | F15: =IF(E15>0,E15/$B15*100000,"") -> 15.793921 | G15: =IF(E15>0,E15/$C15*100,"") -> 21.73913 | H15: 悪性新生物 | I15: 17 | J15: =IF(I15>0,I15/$B15*100000,"") -> 13.424833 | K15: =IF(I15>0,I15/$C15*100,"") -> 18.478261 | L15: 心疾患 不慮の事故 | M15: 8 | N15: =IF(M15>0,M15/$B15*100000,"") -> 6.3175684 | O15: =IF(M15>0,M15/$C15*100,"") -> 8.6956522 | R15: =IF(Q15>0,Q15/$B15*100000,"") | S15: =IF(Q15>0,Q15/$C15*100,"") | T15: 肝 疾 患 | U15: 7 | V15: =IF(U15>0,U15/$B15*100000,"") -> 5.5278723 | W15: =IF(U15>0,U15/$C15*100,"") -> 7.6086957 | Y15: その他の 新生物
A16: 40～44 | B16: ='[1]年齢階級・区別人口(住基）'!$M$3 -> 147253 | C16: ='9 性・年齢別，区別死亡数'!$P$6 -> 155 | D16: 悪性新生物 | E16: 45 | F16: =IF(E16>0,E16/$B16*100000,"") -> 30.559649 | G16: =IF(E16>0,E16/$C16*100,"") -> 29.032258 | H16: 自 殺 | I16: 33 | J16: =IF(I16>0,I16/$B16*100000,"") -> 22.410409 | K16: =IF(I16>0,I16/$C16*100,"") -> 21.290323 | L16: 脳血管疾患 | M16: 20 | N16: =IF(M16>0,M16/$B16*100000,"") -> 13.582066 | O16: =IF(M16>0,M16/$C16*100,"") -> 12.903226 | P16: 心疾患 | Q16: 14 | R16: =IF(Q16>0,Q16/$B16*100000,"") -> 9.5074464 | S16: =IF(Q16>0,Q16/$C16*100,"") -> 9.0322581 | T16: 肝 疾 患 不慮の事故 | U16: 7 | V16: =IF(U16>0,U16/$B16*100000,"") -> 4.7537232 | W16: =IF(U16>0,U16/$C16*100,"") -> 4.516129 | Y16: 糖 尿 病
A17: 45～49 | B17: ='[1]年齢階級・区別人口(住基）'!$N$3 -> 153168 | C17: ='9 性・年齢別，区別死亡数'!$Q$6 -> 214 | D17: 悪性新生物 | E17: 82 | F17: =IF(E17>0,E17/$B17*100000,"") -> 53.535987 | G17: =IF(E17>0,E17/$C17*100,"") -> 38.317757 | H17: 自 殺 | I17: 30 | J17: =IF(I17>0,I17/$B17*100000,"") -> 19.586337 | K17: =IF(I17>0,I17/$C17*100,"") -> 14.018692 | L17: 脳血管疾患 | M17: 19 | N17: =IF(M17>0,M17/$B17*100000,"") -> 12.40468 | O17: =IF(M17>0,M17/$C17*100,"") -> 8.8785047 | P17: 心疾患 | Q17: 18 | R17: =IF(Q17>0,Q17/$B17*100000,"") -> 11.751802 | S17: =IF(Q17>0,Q17/$C17*100,"") -> 8.411215 | T17: 不慮の事故 | U17: 11 | V17: =IF(U17>0,U17/$B17*100000,"") -> 7.1816567 | W17: =IF(U17>0,U17/$C17*100,"") -> 5.1401869 | Y17: 先天奇形， 変形及び 染色体異常
A18: 50～54 | B18: ='[1]年齢階級・区別人口(住基）'!$O$3 -> 133525 | C18: ='9 性・年齢別，区別死亡数'!$R$6 -> 321 | D18: 悪性新生物 | E18: 147 | F18: =IF(E18>0,E18/$B18*100000,"") -> 110.09174 | G18: =IF(E18>0,E18/$C18*100,"") -> 45.794393 | H18: 自 殺 | I18: 28 | J18: =IF(I18>0,I18/$B18*100000,"") -> 20.969856 | K18: =IF(I18>0,I18/$C18*100,"") -> 8.7227414 | L18: 心疾患 | M18: 27 | N18: =IF(M18>0,M18/$B18*100000,"") -> 20.220932 | O18: =IF(M18>0,M18/$C18*100,"") -> 8.411215 | P18: 肝 疾 患 | Q18: 21 | R18: =IF(Q18>0,Q18/$B18*100000,"") -> 15.727392 | S18: =IF(Q18>0,Q18/$C18*100,"") -> 6.5420561 | T18: 脳血管疾患 不慮の事故 | U18: 15 | V18: =IF(U18>0,U18/$B18*100000,"") -> 11.233851 | W18: =IF(U18>0,U18/$C18*100,"") -> 4.6728972 | Y18: 周産期に 発生した病態
A19: 55～59 | B19: ='[1]年齢階級・区別人口(住基）'!$P$3 -> 125451 | C19: ='9 性・年齢別，区別死亡数'!$S$6 -> 476 | D19: 悪性新生物 | E19: 245 | F19: =IF(E19>0,E19/$B19*100000,"") -> 195.29537 | G19: =IF(E19>0,E19/$C19*100,"") -> 51.470588 | H19: 心疾患 | I19: 40 | J19: =IF(I19>0,I19/$B19*100000,"") -> 31.884959 | K19: =IF(I19>0,I19/$C19*100,"") -> 8.4033613 | L19: 自 殺 | M19: 31 | N19: =IF(M19>0,M19/$B19*100000,"") -> 24.710843 | O19: =IF(M19>0,M19/$C19*100,"") -> 6.512605 | P19: 脳血管疾患 | Q19: 29 | R19: =IF(Q19>0,Q19/$B19*100000,"") -> 23.116595 | S19: =IF(Q19>0,Q19/$C19*100,"") -> 6.092437 | T19: 肝 疾 患 | U19: 16 | V19: =IF(U19>0,U19/$B19*100000,"") -> 12.753984 | W19: =IF(U19>0,U19/$C19*100,"") -> 3.3613445 | Y19: 乳幼児突然死 症候群
A20: 60～64 | B20: ='[1]年齢階級・区別人口(住基）'!$Q$3 -> 123510 | C20: ='9 性・年齢別，区別死亡数'!$T$6 -> 708 | D20: 悪性新生物 | E20: 349 | F20: =IF(E20>0,E20/$B20*100000,"") -> 282.56821 | G20: =IF(E20>0,E20/$C20*100,"") -> 49.293785 | H20: 心疾患 | I20: 60 | J20: =IF(I20>0,I20/$B20*100000,"") -> 48.579062 | K20: =IF(I20>0,I20/$C20*100,"") -> 8.4745763 | L20: 脳血管疾患 | M20: 48 | N20: =IF(M20>0,M20/$B20*100000,"") -> 38.86325 | O20: =IF(M20>0,M20/$C20*100,"") -> 6.779661 | P20: 肝 疾 患 | Q20: 25 | R20: =IF(Q20>0,Q20/$B20*100000,"") -> 20.241276 | S20: =IF(Q20>0,Q20/$C20*100,"") -> 3.5310734 | T20: 不慮の事故 | U20: 24 | V20: =IF(U20>0,U20/$B20*100000,"") -> 19.431625 | W20: =IF(U20>0,U20/$C20*100,"") -> 3.3898305 | Y20: インフルエンザ
A21: 65～69 | B21: ='[1]年齢階級・区別人口(住基）'!$R$3 -> 151394 | C21: ='9 性・年齢別，区別死亡数'!$U$6 -> 1373 | D21: 悪性新生物 | E21: 724 | F21: =IF(E21>0,E21/$B21*100000,"") -> 478.22239 | G21: =IF(E21>0,E21/$C21*100,"") -> 52.731245 | H21: 心疾患 | I21: 110 | J21: =IF(I21>0,I21/$B21*100000,"") -> 72.658097 | K21: =IF(I21>0,I21/$C21*100,"") -> 8.0116533 | L21: 脳血管疾患 | M21: 78 | N21: =IF(M21>0,M21/$B21*100000,"") -> 51.521196 | O21: =IF(M21>0,M21/$C21*100,"") -> 5.6809905 | P21: 肺 炎 不慮の事故 | Q21: 38 | R21: =IF(Q21>0,Q21/$B21*100000,"") -> 25.10007 | S21: =IF(Q21>0,Q21/$C21*100,"") -> 2.7676621 | V21: =IF(U21>0,U21/$B21*100000,"") | W21: =IF(U21>0,U21/$C21*100,"") | Y21: 敗 血 症
A22: 70～74 | B22: ='[1]年齢階級・区別人口(住基）'!$S$3 -> 120560 | C22: ='9 性・年齢別，区別死亡数'!$V$6 -> 1757 | D22: 悪性新生物 | E22: 855 | F22: =IF(E22>0,E22/$B22*100000,"") -> 709.19044 | G22: =IF(E22>0,E22/$C22*100,"") -> 48.662493 | H22: 心疾患 | I22: 179 | J22: =IF(I22>0,I22/$B22*100000,"") -> 148.47379 | K22: =IF(I22>0,I22/$C22*100,"") -> 10.18782 | L22: 脳血管疾患 | M22: 105 | N22: =IF(M22>0,M22/$B22*100000,"") -> 87.093563 | O22: =IF(M22>0,M22/$C22*100,"") -> 5.9760956 | P22: 肺 炎 | Q22: 64 | R22: =IF(Q22>0,Q22/$B22*100000,"") -> 53.085601 | S22: =IF(Q22>0,Q22/$C22*100,"") -> 3.6425726 | T22: 不慮の事故 | U22: 41 | V22: =IF(U22>0,U22/$B22*100000,"") -> 34.007963 | W22: =IF(U22>0,U22/$C22*100,"") -> 2.3335231 | Y22: ヘルニア及び 腸閉塞
A23: 75～79 | B23: ='[1]年齢階級・区別人口(住基）'!$T$3 -> 94743 | C23: ='9 性・年齢別，区別死亡数'!$W$6 -> 2274 | D23: 悪性新生物 | E23: 958 | F23: =IF(E23>0,E23/$B23*100000,"") -> 1011.1565 | G23: =IF(E23>0,E23/$C23*100,"") -> 42.128408 | H23: 心疾患 | I23: 237 | J23: =IF(I23>0,I23/$B23*100000,"") -> 250.15041 | K23: =IF(I23>0,I23/$C23*100,"") -> 10.422164 | L23: 脳血管疾患 | M23: 158 | N23: =IF(M23>0,M23/$B23*100000,"") -> 166.76694 | O23: =IF(M23>0,M23/$C23*100,"") -> 6.9481091 | P23: 肺 炎 | Q23: 119 | R23: =IF(Q23>0,Q23/$B23*100000,"") -> 125.60295 | S23: =IF(Q23>0,Q23/$C23*100,"") -> 5.2330695 | T23: 腎 不 全 | U23: 45 | V23: =IF(U23>0,U23/$B23*100000,"") -> 47.496913 | W23: =IF(U23>0,U23/$C23*100,"") -> 1.9788918 | Y23: 貧 血
A24: 80～84 | B24: ='[1]年齢階級・区別人口(住基）'!$U$3 -> 73002 | C24: ='9 性・年齢別，区別死亡数'!$X$6 -> 3058 | D24: 悪性新生物 | E24: 999 | F24: =IF(E24>0,E24/$B24*100000,"") -> 1368.4557 | G24: =IF(E24>0,E24/$C24*100,"") -> 32.668411 | H24: 心疾患 | I24: 365 | J24: =IF(I24>0,I24/$B24*100000,"") -> 499.9863 | K24: =IF(I24>0,I24/$C24*100,"") -> 11.935906 | L24: 脳血管疾患 | M24: 237 | N24: =IF(M24>0,M24/$B24*100000,"") -> 324.64864 | O24: =IF(M24>0,M24/$C24*100,"") -> 7.7501635 | P24: 肺 炎 | Q24: 209 | R24: =IF(Q24>0,Q24/$B24*100000,"") -> 286.29353 | S24: =IF(Q24>0,Q24/$C24*100,"") -> 6.8345324 | T24: 不慮の事故 | U24: 80 | V24: =IF(U24>0,U24/$B24*100000,"") -> 109.58604 | W24: =IF(U24>0,U24/$C24*100,"") -> 2.6160889 | Y24: 喘 息
A25: 85～89 | B25: ='[1]年齢階級・区別人口(住基）'!$V$3 -> 49321 | C25: ='9 性・年齢別，区別死亡数'!$Y$6 -> 3763 | D25: 悪性新生物 | E25: 963 | F25: =IF(E25>0,E25/$B25*100000,"") -> 1952.5152 | G25: =IF(E25>0,E25/$C25*100,"") -> 25.591284 | H25: 心疾患 | I25: 511 | J25: =IF(I25>0,I25/$B25*100000,"") -> 1036.0698 | K25: =IF(I25>0,I25/$C25*100,"") -> 13.579591 | L25: 肺 炎 | M25: 359 | N25: =IF(M25>0,M25/$B25*100000,"") -> 727.88467 | O25: =IF(M25>0,M25/$C25*100,"") -> 9.5402604 | P25: 脳血管疾患 | Q25: 318 | R25: =IF(Q25>0,Q25/$B25*100000,"") -> 644.75578 | S25: =IF(Q25>0,Q25/$C25*100,"") -> 8.4507042 | T25: 老 衰 | U25: 203 | V25: =IF(U25>0,U25/$B25*100000,"") -> 411.58938 | W25: =IF(U25>0,U25/$C25*100,"") -> 5.3946319
A26: 90歳～ | B26: =SUM('[1]年齢階級・区別人口(住基）'!$W$3:$Y$3) -> 30150 | C26: =SUM('9 性・年齢別，区別死亡数'!Z6:AB6) -> 4945 | D26: 心疾患 | E26: 957 | F26: =IF(E26>0,E26/$B26*100000,"") -> 3174.1294 | G26: =IF(E26>0,E26/$C26*100,"") -> 19.352882 | H26: 老 衰 | I26: 718 | J26: =IF(I26>0,I26/$B26*100000,"") -> 2381.4262 | K26: =IF(I26>0,I26/$C26*100,"") -> 14.519717 | L26: 悪性新生物 | M26: 708 | N26: =IF(M26>0,M26/$B26*100000,"") -> 2348.2587 | O26: =IF(M26>0,M26/$C26*100,"") -> 14.317492 | P26: 肺 炎 | Q26: 521 | R26: =IF(Q26>0,Q26/$B26*100000,"") -> 1728.0265 | S26: =IF(Q26>0,Q26/$C26*100,"") -> 10.535895 | T26: 脳血管疾患 | U26: 384 | V26: =IF(U26>0,U26/$B26*100000,"") -> 1273.6318 | W26: =IF(U26>0,U26/$C26*100,"") -> 7.7654196
A27: 1) 総数は国勢調査による日本人人口、年齢別は住民基本台帳による10月1日現在の人口である。 | L27: 2） それぞれの年齢階級別死亡数を100とした場合の割合である。
A28: 3) 乳児の死因については乳児死因簡単分類を使用。死亡率は出生10万対の率である。 | L28: 4) 出生数
A29: 注) 「心疾患」は「心疾患(高血圧症を除く）」である。

Sheet 5　死因順位・男
A1: 5 性・年齢(5歳階級)別にみた死因順位(つづき)
A3: 死亡数、死亡率(人口10万対)、割合(％)2) | E3: 男 | W3: ='3 月・性別，区別死亡数'!$O$2 -> 平成30年
A4: 年齢 | B4: 人口1） | C4: 死亡 総数 | D4: 第1位 | H4: 第2位 | L4: 第3位 | P4: 第4位 | T4: 第5位
D5: 死 因 | E5: 死亡数 | F5: 死亡率 | G5: 割合 (％) | H5: 死 因 | I5: 死亡数 | J5: 死亡率 | K5: 割合 (％) | L5: 死 因 | M5: 死亡数 | N5: 死亡率 | O5: 割合 (％) | P5: 死 因 | Q5: 死亡数 | R5: 死亡率 | S5: 割合 (％) | T5: 死 因 | U5: 死亡数 | V5: 死亡率 | W5: 割合 (％)
A6: 総数 | B6: =[1]人口!$B$40 -> 914851 | C6: ='9 性・年齢別，区別死亡数'!B18 -> 9925 | D6: 悪性新生物 | E6: 3430 | F6: =IF(E6>0,E6/$B6*100000,"") -> 374.92444 | G6: =IF(E6>0,E6/$C6*100,"") -> 34.559194 | H6: 心疾患 | I6: 1161 | J6: =IF(I6>0,I6/$B6*100000,"") -> 126.90591 | K6: =IF(I6>0,I6/$C6*100,"") -> 11.697733 | L6: 肺 炎 | M6: 760 | N6: =IF(M6>0,M6/$B6*100000,"") -> 83.073637 | O6: =IF(M6>0,M6/$C6*100,"") -> 7.6574307 | P6: 脳血管疾患 | Q6: 724 | R6: =IF(Q6>0,Q6/$B6*100000,"") -> 79.13857 | S6: =IF(Q6>0,Q6/$C6*100,"") -> 7.2947103 | T6: 老 衰 | U6: 269 | V6: =IF(U6>0,U6/$B6*100000,"") -> 29.403695 | W6: =IF(U6>0,U6/$C6*100,"") -> 2.7103275 | Y6: 悪性新生物
A7: 0歳 3） | B7: =[1]出生数!$H$4 -> 6744 | C7: ='9 性・年齢別，区別死亡数'!$C$18 -> 16 | D7: 周産期に特異的な呼吸障害及び心血管障害 | E7: 6 | F7: =IF(E7>0,E7/$B7*100000,"") -> 88.967972 | G7: =IF(E7>0,E7/$C7*100,"") -> 37.5 | H7: 先天奇形，変形及び染色体異常 | I7: 5 | J7: =IF(I7>0,I7/$B7*100000,"") -> 74.139976 | K7: =IF(I7>0,I7/$C7*100,"") -> 31.25 | L7: 敗血症（新生児の細菌性敗血症を除く） 胎児及び新生児の出血性障害及び血液障害 その他の周産期に発生した病態 その他のすべての疾患 | M7: 1 | N7: =IF(M7>0,M7/$B7*100000,"") -> 14.827995 | O7: =IF(M7>0,M7/$C7*100,"") -> 6.25 | R7: =IF(Q7>0,Q7/$B7*100000,"") | S7: =IF(Q7>0,Q7/$C7*100,"") | V7: =IF(U7>0,U7/$B7*100000,"") | W7: =IF(U7>0,U7/$C7*100,"") | Y7: 心疾患
A8: 1～ 4 | B8: ='[1]年齢階級・区別人口(住基）'!$E$4-'[1]年齢階級・区別人口(住基）'!$D$4 -> 29190 | C8: =SUM('9 性・年齢別，区別死亡数'!$D$18:$G$18) -> 3 | D8: 敗 血 症 | E8: 1 | F8: =IF(E8>0,E8/$B8*100000,"") -> 3.4258308 | G8: =IF(E8>0,E8/$C8*100,"") -> 33.333333 | J8: =IF(I8>0,I8/$B8*100000,"") | K8: =IF(I8>0,I8/$C8*100,"") | N8: =IF(M8>0,M8/$B8*100000,"") | O8: =IF(M8>0,M8/$C8*100,"") | R8: =IF(Q8>0,Q8/$B8*100000,"") | S8: =IF(Q8>0,Q8/$C8*100,"") | V8: =IF(U8>0,U8/$B8*100000,"") | W8: =IF(U8>0,U8/$C8*100,"") | Y8: 脳血管疾患
A9: 5～ 9 | B9: ='[1]年齢階級・区別人口(住基）'!$F$4 -> 38133 | C9: ='9 性・年齢別，区別死亡数'!$I$18 -> 3 | D9: 悪性新生物 | E9: 2 | F9: =IF(E9>0,E9/$B9*100000,"") -> 5.2448011 | G9: =IF(E9>0,E9/$C9*100,"") -> 66.666667 | J9: =IF(I9>0,I9/$B9*100000,"") | K9: =IF(I9>0,I9/$C9*100,"") | N9: =IF(M9>0,M9/$B9*100000,"") | O9: =IF(M9>0,M9/$C9*100,"") | R9: =IF(Q9>0,Q9/$B9*100000,"") | S9: =IF(Q9>0,Q9/$C9*100,"") | V9: =IF(U9>0,U9/$B9*100000,"") | W9: =IF(U9>0,U9/$C9*100,"") | Y9: 肺 炎
A10: 10～14 | B10: ='[1]年齢階級・区別人口(住基）'!$G$4 -> 38840 | C10: ='9 性・年齢別，区別死亡数'!$J$18 -> 6 | D10: 悪性新生物 糖 尿 病 髄 膜 炎 脳血管疾患 先天奇形，変形及び染色体異常 自 殺 | E10: 1 | F10: =IF(E10>0,E10/$B10*100000,"") -> 2.5746653 | G10: =IF(E10>0,E10/$C10*100,"") -> 16.666667 | J10: =IF(I10>0,I10/$B10*100000,"") | K10: =IF(I10>0,I10/$C10*100,"") | N10: =IF(M10>0,M10/$B10*100000,"") | O10: =IF(M10>0,M10/$C10*100,"") | R10: =IF(Q10>0,Q10/$B10*100000,"") | S10: =IF(Q10>0,Q10/$C10*100,"") | V10: =IF(U10>0,U10/$B10*100000,"") | W10: =IF(U10>0,U10/$C10*100,"") | Y10: 不慮の事故
A11: 15～19 | B11: ='[1]年齢階級・区別人口(住基）'!$H$4 -> 41296 | C11: ='9 性・年齢別，区別死亡数'!$K$18 -> 15 | D11: 不慮の事故 自 殺 | E11: 4 | F11: =IF(E11>0,E11/$B11*100000,"") -> 9.6861682 | G11: =IF(E11>0,E11/$C11*100,"") -> 26.666667 | J11: =IF(I11>0,I11/$B11*100000,"") | K11: =IF(I11>0,I11/$C11*100,"") | L11: 悪性新生物 | M11: 2 | N11: =IF(M11>0,M11/$B11*100000,"") -> 4.8430841 | O11: =IF(M11>0,M11/$C11*100,"") -> 13.333333 | P11: その他の新生物 他 殺 | Q11: 1 | R11: =IF(Q11>0,Q11/$B11*100000,"") -> 2.421542 | S11: =IF(Q11>0,Q11/$C11*100,"") -> 6.6666667 | V11: =IF(U11>0,U11/$B11*100000,"") | W11: =IF(U11>0,U11/$C11*100,"") | Y11: 自 殺
A12: 20～24 | B12: ='[1]年齢階級・区別人口(住基）'!$I$4 -> 46391 | C12: ='9 性・年齢別，区別死亡数'!$L$18 -> 27 | D12: 自 殺 | E12: 21 | F12: =IF(E12>0,E12/$B12*100000,"") -> 45.267401 | G12: =IF(E12>0,E12/$C12*100,"") -> 77.777778 | H12: 不慮の事故 | I12: 2 | J12: =IF(I12>0,I12/$B12*100000,"") -> 4.311181 | K12: =IF(I12>0,I12/$C12*100,"") -> 7.4074074 | L12: 悪性新生物 その他の新生物 | M12: 1 | N12: =IF(M12>0,M12/$B12*100000,"") -> 2.1555905 | O12: =IF(M12>0,M12/$C12*100,"") -> 3.7037037 | R12: =IF(Q12>0,Q12/$B12*100000,"") | S12: =IF(Q12>0,Q12/$C12*100,"") | V12: =IF(U12>0,U12/$B12*100000,"") | W12: =IF(U12>0,U12/$C12*100,"") | Y12: 腎 不 全
A13: 25～29 | B13: ='[1]年齢階級・区別人口(住基）'!$J$4 -> 47325 | C13: ='9 性・年齢別，区別死亡数'!$M$18 -> 24 | D13: 自 殺 | E13: 9 | F13: =IF(E13>0,E13/$B13*100000,"") -> 19.017433 | G13: =IF(E13>0,E13/$C13*100,"") -> 37.5 | H13: 悪性新生物 心疾患 不慮の事故 | I13: 3 | J13: =IF(I13>0,I13/$B13*100000,"") -> 6.3391442 | K13: =IF(I13>0,I13/$C13*100,"") -> 12.5 | N13: =IF(M13>0,M13/$B13*100000,"") | O13: =IF(M13>0,M13/$C13*100,"") | R13: =IF(Q13>0,Q13/$B13*100000,"") | S13: =IF(Q13>0,Q13/$C13*100,"") | T13: その他の新生物 | U13: 1 | V13: =IF(U13>0,U13/$B13*100000,"") -> 2.1130481 | W13: =IF(U13>0,U13/$C13*100,"") -> 4.1666667 | Y13: 老 衰
A14: 30～34 | B14: ='[1]年齢階級・区別人口(住基）'!$K$4 -> 55925 | C14: ='9 性・年齢別，区別死亡数'!$N$18 -> 40 | D14: 自 殺 | E14: 19 | F14: =IF(E14>0,E14/$B14*100000,"") -> 33.974072 | G14: =IF(E14>0,E14/$C14*100,"") -> 47.5 | H14: 悪性新生物 | I14: 6 | J14: =IF(I14>0,I14/$B14*100000,"") -> 10.728654 | K14: =IF(I14>0,I14/$C14*100,"") -> 15 | L14: 不慮の事故 | M14: 5 | N14: =IF(M14>0,M14/$B14*100000,"") -> 8.9405454 | O14: =IF(M14>0,M14/$C14*100,"") -> 12.5 | P14: 心疾患 | Q14: 4 | R14: =IF(Q14>0,Q14/$B14*100000,"") -> 7.1524363 | S14: =IF(Q14>0,Q14/$C14*100,"") -> 10 | T14: 脳血管疾患 肝 疾 患 | U14: 1 | V14: =IF(U14>0,U14/$B14*100000,"") -> 1.7881091 | W14: =IF(U14>0,U14/$C14*100,"") -> 2.5 | Y14: 慢性閉塞性肺疾患
A15: 35～39 | B15: ='[1]年齢階級・区別人口(住基）'!$L$4 -> 61208 | C15: ='9 性・年齢別，区別死亡数'!$O$18 -> 56 | D15: 自 殺 | E15: 13 | F15: =IF(E15>0,E15/$B15*100000,"") -> 21.239054 | G15: =IF(E15>0,E15/$C15*100,"") -> 23.214286 | H15: 悪性新生物 不慮の事故 | I15: 6 | J15: =IF(I15>0,I15/$B15*100000,"") -> 9.8026402 | K15: =IF(I15>0,I15/$C15*100,"") -> 10.714286 | N15: =IF(M15>0,M15/$B15*100000,"") | O15: =IF(M15>0,M15/$C15*100,"") | P15: 心疾患 | Q15: 5 | R15: =IF(Q15>0,Q15/$B15*100000,"") -> 8.1688668 | S15: =IF(Q15>0,Q15/$C15*100,"") -> 8.9285714 | T15: 脳血管疾患 肝 疾 患 | U15: 4 | V15: =IF(U15>0,U15/$B15*100000,"") -> 6.5350935 | W15: =IF(U15>0,U15/$C15*100,"") -> 7.1428571 | Y15: その他の新生物
A16: 40～44 | B16: ='[1]年齢階級・区別人口(住基）'!$M$4 -> 71422 | C16: ='9 性・年齢別，区別死亡数'!$P$18 -> 89 | D16: 自 殺 | E16: 23 | F16: =IF(E16>0,E16/$B16*100000,"") -> 32.202963 | G16: =IF(E16>0,E16/$C16*100,"") -> 25.842697 | H16: 悪性新生物 | I16: 16 | J16: =IF(I16>0,I16/$B16*100000,"") -> 22.402061 | K16: =IF(I16>0,I16/$C16*100,"") -> 17.977528 | L16: 心疾患 脳血管疾患 | M16: 13 | N16: =IF(M16>0,M16/$B16*100000,"") -> 18.201675 | O16: =IF(M16>0,M16/$C16*100,"") -> 14.606742 | R16: =IF(Q16>0,Q16/$B16*100000,"") | S16: =IF(Q16>0,Q16/$C16*100,"") | T16: 肝 疾 患 | U16: 5 | V16: =IF(U16>0,U16/$B16*100000,"") -> 7.0006441 | W16: =IF(U16>0,U16/$C16*100,"") -> 5.6179775 | Y16: 糖 尿 病
A17: 45～49 | B17: ='[1]年齢階級・区別人口(住基）'!$N$4 -> 73677 | C17: ='9 性・年齢別，区別死亡数'!$Q$18 -> 123 | D17: 悪性新生物 | E17: 29 | F17: =IF(E17>0,E17/$B17*100000,"") -> 39.360995 | G17: =IF(E17>0,E17/$C17*100,"") -> 23.577236 | H17: 自 殺 | I17: 22 | J17: =IF(I17>0,I17/$B17*100000,"") -> 29.860065 | K17: =IF(I17>0,I17/$C17*100,"") -> 17.886179 | L17: 脳血管疾患 | M17: 16 | N17: =IF(M17>0,M17/$B17*100000,"") -> 21.716411 | O17: =IF(M17>0,M17/$C17*100,"") -> 13.00813 | P17: 心疾患 | Q17: 15 | R17: =IF(Q17>0,Q17/$B17*100000,"") -> 20.359135 | S17: =IF(Q17>0,Q17/$C17*100,"") -> 12.195122 | T17: 不慮の事故 | U17: 7 | V17: =IF(U17>0,U17/$B17*100000,"") -> 9.5009297 | W17: =IF(U17>0,U17/$C17*100,"") -> 5.6910569 | Y17: 先天奇形，変形 及び染色体異常
A18: 50～54 | B18: ='[1]年齢階級・区別人口(住基）'!$O$4 -> 62919 | C18: ='9 性・年齢別，区別死亡数'!$R$18 -> 194 | D18: 悪性新生物 | E18: 62 | F18: =IF(E18>0,E18/$B18*100000,"") -> 98.539392 | G18: =IF(E18>0,E18/$C18*100,"") -> 31.958763 | H18: 心疾患 | I18: 24 | J18: =IF(I18>0,I18/$B18*100000,"") -> 38.144281 | K18: =IF(I18>0,I18/$C18*100,"") -> 12.371134 | L18: 自 殺 | M18: 21 | N18: =IF(M18>0,M18/$B18*100000,"") -> 33.376246 | O18: =IF(M18>0,M18/$C18*100,"") -> 10.824742 | P18: 肝 疾 患 | Q18: 17 | R18: =IF(Q18>0,Q18/$B18*100000,"") -> 27.018866 | S18: =IF(Q18>0,Q18/$C18*100,"") -> 8.7628866 | T18: 脳血管疾患 | U18: 10 | V18: =IF(U18>0,U18/$B18*100000,"") -> 15.89345 | W18: =IF(U18>0,U18/$C18*100,"") -> 5.1546392 | Y18: 周産期に 発生した病態
A19: 55～59 | B19: ='[1]年齢階級・区別人口(住基）'!$P$4 -> 59201 | C19: ='9 性・年齢別，区別死亡数'!$S$18 -> 288 | D19: 悪性新生物 | E19: 129 | F19: =IF(E19>0,E19/$B19*100000,"") -> 217.90172 | G19: =IF(E19>0,E19/$C19*100,"") -> 44.791667 | H19: 心疾患 | I19: 37 | J19: =IF(I19>0,I19/$B19*100000,"") -> 62.498944 | K19: =IF(I19>0,I19/$C19*100,"") -> 12.847222 | L19: 自 殺 | M19: 20 | N19: =IF(M19>0,M19/$B19*100000,"") -> 33.783213 | O19: =IF(M19>0,M19/$C19*100,"") -> 6.9444444 | P19: 脳血管疾患 | Q19: 17 | R19: =IF(Q19>0,Q19/$B19*100000,"") -> 28.715731 | S19: =IF(Q19>0,Q19/$C19*100,"") -> 5.9027778 | T19: 肝 疾 患 不慮の事故 | U19: 11 | V19: =IF(U19>0,U19/$B19*100000,"") -> 18.580767 | W19: =IF(U19>0,U19/$C19*100,"") -> 3.8194444 | Y19: 乳幼児突然死 症候群
A20: 60～64 | B20: ='[1]年齢階級・区別人口(住基）'!$Q$4 -> 58650 | C20: ='9 性・年齢別，区別死亡数'!$T$18 -> 456 | D20: 悪性新生物 | E20: 199 | F20: =IF(E20>0,E20/$B20*100000,"") -> 339.30094 | G20: =IF(E20>0,E20/$C20*100,"") -> 43.640351 | H20: 心疾患 | I20: 42 | J20: =IF(I20>0,I20/$B20*100000,"") -> 71.611253 | K20: =IF(I20>0,I20/$C20*100,"") -> 9.2105263 | L20: 脳血管疾患 | M20: 28 | N20: =IF(M20>0,M20/$B20*100000,"") -> 47.740835 | O20: =IF(M20>0,M20/$C20*100,"") -> 6.1403509 | P20: 肝 疾 患 | Q20: 21 | R20: =IF(Q20>0,Q20/$B20*100000,"") -> 35.805627 | S20: =IF(Q20>0,Q20/$C20*100,"") -> 4.6052632 | T20: 不慮の事故 | U20: 19 | V20: =IF(U20>0,U20/$B20*100000,"") -> 32.395567 | W20: =IF(U20>0,U20/$C20*100,"") -> 4.1666667 | Y20: インフルエンザ
A21: 65～69 | B21: ='[1]年齢階級・区別人口(住基）'!$R$4 -> 70271 | C21: ='9 性・年齢別，区別死亡数'!$U$18 -> 892 | D21: 悪性新生物 | E21: 455 | F21: =IF(E21>0,E21/$B21*100000,"") -> 647.49328 | G21: =IF(E21>0,E21/$C21*100,"") -> 51.008969 | H21: 心疾患 | I21: 75 | J21: =IF(I21>0,I21/$B21*100000,"") -> 106.72966 | K21: =IF(I21>0,I21/$C21*100,"") -> 8.4080717 | L21: 脳血管疾患 | M21: 53 | N21: =IF(M21>0,M21/$B21*100000,"") -> 75.422294 | O21: =IF(M21>0,M21/$C21*100,"") -> 5.941704 | P21: 肺 炎 | Q21: 30 | R21: =IF(Q21>0,Q21/$B21*100000,"") -> 42.691864 | S21: =IF(Q21>0,Q21/$C21*100,"") -> 3.3632287 | T21: 大動脈瘤及び解離 不慮の事故 | U21: 21 | V21: =IF(U21>0,U21/$B21*100000,"") -> 29.884305 | W21: =IF(U21>0,U21/$C21*100,"") -> 2.3542601 | Y21: 敗 血 症
A22: 70～74 | B22: ='[1]年齢階級・区別人口(住基）'!$S$4 -> 54228 | C22: ='9 性・年齢別，区別死亡数'!$V$18 -> 1174 | D22: 悪性新生物 | E22: 553 | F22: =IF(E22>0,E22/$B22*100000,"") -> 1019.7684 | G22: =IF(E22>0,E22/$C22*100,"") -> 47.103918 | H22: 心疾患 | I22: 123 | J22: =IF(I22>0,I22/$B22*100000,"") -> 226.82009 | K22: =IF(I22>0,I22/$C22*100,"") -> 10.477002 | L22: 脳血管疾患 | M22: 70 | N22: =IF(M22>0,M22/$B22*100000,"") -> 129.08461 | O22: =IF(M22>0,M22/$C22*100,"") -> 5.9625213 | P22: 肺 炎 | Q22: 47 | R22: =IF(Q22>0,Q22/$B22*100000,"") -> 86.671092 | S22: =IF(Q22>0,Q22/$C22*100,"") -> 4.0034072 | T22: 肝 疾 患 不慮の事故 | U22: 28 | V22: =IF(U22>0,U22/$B22*100000,"") -> 51.633842 | W22: =IF(U22>0,U22/$C22*100,"") -> 2.3850085 | Y22: ヘルニア及び腸閉塞
A23: 75～79 | B23: ='[1]年齢階級・区別人口(住基）'!$T$4 -> 39893 | C23: ='9 性・年齢別，区別死亡数'!$W$18 -> 1403 | D23: 悪性新生物 | E23: 577 | F23: =IF(E23>0,E23/$B23*100000,"") -> 1446.369 | G23: =IF(E23>0,E23/$C23*100,"") -> 41.126158 | H23: 心疾患 | I23: 155 | J23: =IF(I23>0,I23/$B23*100000,"") -> 388.53934 | K23: =IF(I23>0,I23/$C23*100,"") -> 11.047755 | L23: 脳血管疾患 | M23: 107 | N23: =IF(M23>0,M23/$B23*100000,"") -> 268.21748 | O23: =IF(M23>0,M23/$C23*100,"") -> 7.6265146 | P23: 肺 炎 | Q23: 78 | R23: =IF(Q23>0,Q23/$B23*100000,"") -> 195.52302 | S23: =IF(Q23>0,Q23/$C23*100,"") -> 5.5595153 | T23: 腎 不 全 | U23: 30 | V23: =IF(U23>0,U23/$B23*100000,"") -> 75.201163 | W23: =IF(U23>0,U23/$C23*100,"") -> 2.1382751 | Y23: 貧 血
A24: 80～84 | B24: ='[1]年齢階級・区別人口(住基）'!$U$4 -> 28036 | C24: ='9 性・年齢別，区別死亡数'!$X$18 -> 1738 | D24: 悪性新生物 | E24: 585 | F24: =IF(E24>0,E24/$B24*100000,"") -> 2086.6029 | G24: =IF(E24>0,E24/$C24*100,"") -> 33.659379 | H24: 心疾患 | I24: 198 | J24: =IF(I24>0,I24/$B24*100000,"") -> 706.23484 | K24: =IF(I24>0,I24/$C24*100,"") -> 11.392405 | L24: 肺 炎 | M24: 145 | N24: =IF(M24>0,M24/$B24*100000,"") -> 517.19218 | O24: =IF(M24>0,M24/$C24*100,"") -> 8.3429229 | P24: 脳血管疾患 | Q24: 139 | R24: =IF(Q24>0,Q24/$B24*100000,"") -> 495.79113 | S24: =IF(Q24>0,Q24/$C24*100,"") -> 7.9976985 | T24: 慢性閉塞性肺疾患 | U24: 42 | V24: =IF(U24>0,U24/$B24*100000,"") -> 149.80739 | W24: =IF(U24>0,U24/$C24*100,"") -> 2.4165708 | Y24: 喘 息
A25: 85～89 | B25: ='[1]年齢階級・区別人口(住基）'!$V$4 -> 16527 | C25: ='9 性・年齢別，区別死亡数'!$Y$18 -> 1833 | D25: 悪性新生物 | E25: 512 | F25: =IF(E25>0,E25/$B25*100000,"") -> 3097.9609 | G25: =IF(E25>0,E25/$C25*100,"") -> 27.932351 | H25: 心疾患 | I25: 226 | J25: =IF(I25>0,I25/$B25*100000,"") -> 1367.4593 | K25: =IF(I25>0,I25/$C25*100,"") -> 12.329514 | L25: 肺 炎 | M25: 215 | N25: =IF(M25>0,M25/$B25*100000,"") -> 1300.9016 | O25: =IF(M25>0,M25/$C25*100,"") -> 11.729405 | P25: 脳血管疾患 | Q25: 148 | R25: =IF(Q25>0,Q25/$B25*100000,"") -> 895.50433 | S25: =IF(Q25>0,Q25/$C25*100,"") -> 8.0741953 | T25: 老 衰 | U25: 79 | V25: =IF(U25>0,U25/$B25*100000,"") -> 478.00569 | W25: =IF(U25>0,U25/$C25*100,"") -> 4.3098745 | Y25: 肝 疾 患
A26: 90歳～ | B26: =SUM('[1]年齢階級・区別人口(住基）'!$W$4:$Y$4) -> 7345 | C26: =SUM('9 性・年齢別，区別死亡数'!Z18:AB18) -> 1545 | D26: 悪性新生物 | E26: 292 | F26: =IF(E26>0,E26/$B26*100000,"") -> 3975.4935 | G26: =IF(E26>0,E26/$C26*100,"") -> 18.899676 | H26: 心疾患 | I26: 241 | J26: =IF(I26>0,I26/$B26*100000,"") -> 3281.1436 | K26: =IF(I26>0,I26/$C26*100,"") -> 15.598706 | L26: 肺 炎 | M26: 214 | N26: =IF(M26>0,M26/$B26*100000,"") -> 2913.5466 | O26: =IF(M26>0,M26/$C26*100,"") -> 13.851133 | P26: 老 衰 | Q26: 151 | R26: =IF(Q26>0,Q26/$B26*100000,"") -> 2055.8203 | S26: =IF(Q26>0,Q26/$C26*100,"") -> 9.7734628 | T26: 脳血管疾患 | U26: 117 | V26: =IF(U26>0,U26/$B26*100000,"") -> 1592.9204 | W26: =IF(U26>0,U26/$C26*100,"") -> 7.5728155
A27: 1) 総数は国勢調査による日本人人口、年齢別は住民基本台帳による10月1日現在の人口である。 | L27: 2） それぞれの年齢階級別死亡数を100とした場合の割合である。
A28: 3) 乳児の死因については乳児死因簡単分類を使用。死亡率は出生10万対の率である。 | L28: 4) 出生数
A29: 注) 「心疾患」は「心疾患(高血圧症を除く）」である。

Sheet 5　死因順位・女
A1: 5 性・年齢(5歳階級)別にみた死因順位(つづき)
A3: 死亡数、死亡率(人口10万対)、割合(％)2) | E3: 女 | W3: ='3 月・性別，区別死亡数'!$O$2 -> 平成30年
A4: 年齢 | B4: 人口 1） | C4: 死亡 総数 | D4: 第1位 | H4: 第2位 | L4: 第3位 | P4: 第4位 | T4: 第5位
D5: 死 因 | E5: 死亡数 | F5: 死亡率 | G5: 割合 (％) | H5: 死 因 | I5: 死亡数 | J5: 死亡率 | K5: 割合 (％) | L5: 死 因 | M5: 死亡数 | N5: 死亡率 | O5: 割合 (％) | P5: 死 因 | Q5: 死亡数 | R5: 死亡率 | S5: 割合 (％) | T5: 死 因 | U5: 死亡数 | V5: 死亡率 | W5: 割合 (％)
A6: 総数 | B6: =[1]人口!$B$41 -> 1051089 | C6: ='9 性・年齢別，区別死亡数'!$B$30 -> 9418 | D6: 悪性新生物 | E6: 2685 | F6: =IF(E6>0,E6/$B6*100000,"") -> 255.44935 | G6: =IF(E6>0,E6/$C6*100,"") -> 28.509238 | H6: 心疾患 | I6: 1379 | J6: =IF(I6>0,I6/$B6*100000,"") -> 131.19726 | K6: =IF(I6>0,I6/$C6*100,"") -> 14.642175 | L6: 老 衰 | M6: 750 | N6: =IF(M6>0,M6/$B6*100000,"") -> 71.354567 | O6: =IF(M6>0,M6/$C6*100,"") -> 7.9634742 | P6: 脳血管疾患 | Q6: 694 | R6: =IF(Q6>0,Q6/$B6*100000,"") -> 66.026759 | S6: =IF(Q6>0,Q6/$C6*100,"") -> 7.3688681 | T6: 肺 炎 | U6: 588 | V6: =IF(U6>0,U6/$B6*100000,"") -> 55.94198 | W6: =IF(U6>0,U6/$C6*100,"") -> 6.2433638 | Y6: 悪性新生物
A7: 0歳 3） | B7: =[1]出生数!$I$4 -> 6504 | C7: ='9 性・年齢別，区別死亡数'!$C$30 -> 18 | D7: 先天奇形，変形及び染色体異常 | E7: 8 | F7: =IF(E7>0,E7/$B7*100000,"") -> 123.00123 | G7: =IF(E7>0,E7/$C7*100,"") -> 44.444444 | H7: 心疾患 周産期に特異的な呼吸障害及び心血管障害 | I7: 2 | J7: =IF(I7>0,I7/$B7*100000,"") -> 30.750308 | K7: =IF(I7>0,I7/$C7*100,"") -> 11.111111 | N7: =IF(M7>0,M7/$B7*100000,"") | O7: =IF(M7>0,M7/$C7*100,"") | P7: 肺 炎 肝疾患 周産期に特異的な感染症 その他の周産期に発生した病態 乳幼児突然死症候群 その他のすべての疾患 | Q7: 1 | R7: =IF(Q7>0,Q7/$B7*100000,"") -> 15.375154 | S7: =IF(Q7>0,Q7/$C7*100,"") -> 5.5555556 | V7: =IF(U7>0,U7/$B7*100000,"") | W7: =IF(U7>0,U7/$C7*100,"") | Y7: 心疾患
A8: 1～ 4 | B8: ='[1]年齢階級・区別人口(住基）'!$E$5-'[1]年齢階級・区別人口(住基）'!$D$5 -> 27626 | C8: =SUM('9 性・年齢別，区別死亡数'!$D$30:$G$30) -> 7 | D8: 心疾患 | E8: 2 | F8: =IF(E8>0,E8/$B8*100000,"") -> 7.2395569 | G8: =IF(E8>0,E8/$C8*100,"") -> 28.571429 | H8: 敗 血 症 悪性新生物 その他の新生物 肝 疾 患 | I8: 1 | J8: =IF(I8>0,I8/$B8*100000,"") -> 3.6197785 | K8: =IF(I8>0,I8/$C8*100,"") -> 14.285714 | N8: =IF(M8>0,M8/$B8*100000,"") | O8: =IF(M8>0,M8/$C8*100,"") | R8: =IF(Q8>0,Q8/$B8*100000,"") | S8: =IF(Q8>0,Q8/$C8*100,"") | V8: =IF(U8>0,U8/$B8*100000,"") | W8: =IF(U8>0,U8/$C8*100,"") | Y8: 脳血管疾患
A9: 5～ 9 | B9: ='[1]年齢階級・区別人口(住基）'!$F$5 -> 36380 | C9: ='9 性・年齢別，区別死亡数'!$I$30 -> 1 | D9: 心疾患 | E9: 1 | F9: =IF(E9>0,E9/$B9*100000,"") -> 2.7487631 | G9: =IF(E9>0,E9/$C9*100,"") -> 100 | J9: =IF(I9>0,I9/$B9*100000,"") | K9: =IF(I9>0,I9/$C9*100,"") | N9: =IF(M9>0,M9/$B9*100000,"") | O9: =IF(M9>0,M9/$C9*100,"") | R9: =IF(Q9>0,Q9/$B9*100000,"") | S9: =IF(Q9>0,Q9/$C9*100,"") | V9: =IF(U9>0,U9/$B9*100000,"") | W9: =IF(U9>0,U9/$C9*100,"") | Y9: 肺 炎
A10: 10～14 | B10: ='[1]年齢階級・区別人口(住基）'!$G$5 -> 37488 | C10: ='9 性・年齢別，区別死亡数'!$J$30 -> 1 | D10: 心疾患 | E10: 1 | F10: =IF(E10>0,E10/$B10*100000,"") -> 2.6675203 | G10: =IF(E10>0,E10/$C10*100,"") -> 100 | J10: =IF(I10>0,I10/$B10*100000,"") | K10: =IF(I10>0,I10/$C10*100,"") | N10: =IF(M10>0,M10/$B10*100000,"") | O10: =IF(M10>0,M10/$C10*100,"") | R10: =IF(Q10>0,Q10/$B10*100000,"") | S10: =IF(Q10>0,Q10/$C10*100,"") | V10: =IF(U10>0,U10/$B10*100000,"") | W10: =IF(U10>0,U10/$C10*100,"") | Y10: 不慮の事故
A11: 15～19 | B11: ='[1]年齢階級・区別人口(住基）'!$H$5 -> 40422 | C11: ='9 性・年齢別，区別死亡数'!$K$30 -> 4 | D11: 自 殺 | E11: 2 | F11: =IF(E11>0,E11/$B11*100000,"") -> 4.9478007 | G11: =IF(E11>0,E11/$C11*100,"") -> 50 | H11: 敗 血 症 悪性新生物 | I11: 1 | J11: =IF(I11>0,I11/$B11*100000,"") -> 2.4739004 | K11: =IF(I11>0,I11/$C11*100,"") -> 25 | N11: =IF(M11>0,M11/$B11*100000,"") | O11: =IF(M11>0,M11/$C11*100,"") | R11: =IF(Q11>0,Q11/$B11*100000,"") | S11: =IF(Q11>0,Q11/$C11*100,"") | V11: =IF(U11>0,U11/$B11*100000,"") | W11: =IF(U11>0,U11/$C11*100,"") | Y11: 自 殺
A12: 20～24 | B12: ='[1]年齢階級・区別人口(住基）'!$I$5 -> 49026 | C12: ='9 性・年齢別，区別死亡数'!$L$30 -> 13 | D12: 自 殺 | E12: 4 | F12: =IF(E12>0,E12/$B12*100000,"") -> 8.1589361 | G12: =IF(E12>0,E12/$C12*100,"") -> 30.769231 | H12: 不慮の事故 | I12: 2 | J12: =IF(I12>0,I12/$B12*100000,"") -> 4.079468 | K12: =IF(I12>0,I12/$C12*100,"") -> 15.384615 | L12: 悪性新生物 先天奇形，変形及び染色体異常 他 殺 | M12: 1 | N12: =IF(M12>0,M12/$B12*100000,"") -> 2.039734 | O12: =IF(M12>0,M12/$C12*100,"") -> 7.6923077 | R12: =IF(Q12>0,Q12/$B12*100000,"") | S12: =IF(Q12>0,Q12/$C12*100,"") | V12: =IF(U12>0,U12/$B12*100000,"") | W12: =IF(U12>0,U12/$C12*100,"") | Y12: 腎 不 全
A13: 25～29 | B13: ='[1]年齢階級・区別人口(住基）'!$J$5 -> 52531 | C13: ='9 性・年齢別，区別死亡数'!$M$30 -> 10 | D13: 自 殺 | E13: 6 | F13: =IF(E13>0,E13/$B13*100000,"") -> 11.421827 | G13: =IF(E13>0,E13/$C13*100,"") -> 60 | H13: 悪性新生物 先天奇形，変形及び染色体異常 不慮の事故 | I13: 1 | J13: =IF(I13>0,I13/$B13*100000,"") -> 1.9036379 | K13: =IF(I13>0,I13/$C13*100,"") -> 10 | N13: =IF(M13>0,M13/$B13*100000,"") | O13: =IF(M13>0,M13/$C13*100,"") | R13: =IF(Q13>0,Q13/$B13*100000,"") | S13: =IF(Q13>0,Q13/$C13*100,"") | V13: =IF(U13>0,U13/$B13*100000,"") | W13: =IF(U13>0,U13/$C13*100,"") | Y13: 老 衰
A14: 30～34 | B14: ='[1]年齢階級・区別人口(住基）'!$K$5 -> 59157 | C14: ='9 性・年齢別，区別死亡数'!$N$30 -> 19 | D14: 自 殺 | E14: 6 | F14: =IF(E14>0,E14/$B14*100000,"") -> 10.142502 | G14: =IF(E14>0,E14/$C14*100,"") -> 31.578947 | H14: 悪性新生物 | I14: 4 | J14: =IF(I14>0,I14/$B14*100000,"") -> 6.7616681 | K14: =IF(I14>0,I14/$C14*100,"") -> 21.052632 | L14: 不慮の事故 | M14: 3 | N14: =IF(M14>0,M14/$B14*100000,"") -> 5.0712511 | O14: =IF(M14>0,M14/$C14*100,"") -> 15.789474 | P14: 敗 血 症 髄 膜 炎 心疾患 腎 不 全 先天奇形，変形及び染色体異常 | Q14: 1 | R14: =IF(Q14>0,Q14/$B14*100000,"") -> 1.690417 | S14: =IF(Q14>0,Q14/$C14*100,"") -> 5.2631579 | V14: =IF(U14>0,U14/$B14*100000,"") | W14: =IF(U14>0,U14/$C14*100,"") | Y14: 慢性閉塞性肺疾患
A15: 35～39 | B15: ='[1]年齢階級・区別人口(住基）'!$L$5 -> 65423 | C15: ='9 性・年齢別，区別死亡数'!$O$30 -> 36 | D15: 悪性新生物 | E15: 11 | F15: =IF(E15>0,E15/$B15*100000,"") -> 16.813659 | G15: =IF(E15>0,E15/$C15*100,"") -> 30.555556 | H15: 自 殺 | I15: 7 | J15: =IF(I15>0,I15/$B15*100000,"") -> 10.699601 | K15: =IF(I15>0,I15/$C15*100,"") -> 19.444444 | L15: 心疾患 肝 疾 患 | M15: 3 | N15: =IF(M15>0,M15/$B15*100000,"") -> 4.5855433 | O15: =IF(M15>0,M15/$C15*100,"") -> 8.3333333 | R15: =IF(Q15>0,Q15/$B15*100000,"") | S15: =IF(Q15>0,Q15/$C15*100,"") | T15: 不慮の事故 | U15: 2 | V15: =IF(U15>0,U15/$B15*100000,"") -> 3.0570289 | W15: =IF(U15>0,U15/$C15*100,"") -> 5.5555556 | Y15: その他の新生物
A16: 40～44 | B16: ='[1]年齢階級・区別人口(住基）'!$M$5 -> 75831 | C16: ='9 性・年齢別，区別死亡数'!$P$30 -> 66 | D16: 悪性新生物 | E16: 29 | F16: =IF(E16>0,E16/$B16*100000,"") -> 38.242935 | G16: =IF(E16>0,E16/$C16*100,"") -> 43.939394 | H16: 自 殺 | I16: 10 | J16: =IF(I16>0,I16/$B16*100000,"") -> 13.187219 | K16: =IF(I16>0,I16/$C16*100,"") -> 15.151515 | L16: 脳血管疾患 | M16: 7 | N16: =IF(M16>0,M16/$B16*100000,"") -> 9.2310533 | O16: =IF(M16>0,M16/$C16*100,"") -> 10.606061 | P16: 不慮の事故 | Q16: 6 | R16: =IF(Q16>0,Q16/$B16*100000,"") -> 7.9123314 | S16: =IF(Q16>0,Q16/$C16*100,"") -> 9.0909091 | T16: 肝 疾 患 | U16: 2 | V16: =IF(U16>0,U16/$B16*100000,"") -> 2.6374438 | W16: =IF(U16>0,U16/$C16*100,"") -> 3.030303 | Y16: 糖 尿 病
A17: 45～49 | B17: ='[1]年齢階級・区別人口(住基）'!$N$5 -> 79491 | C17: ='9 性・年齢別，区別死亡数'!$Q$30 -> 91 | D17: 悪性新生物 | E17: 53 | F17: =IF(E17>0,E17/$B17*100000,"") -> 66.674215 | G17: =IF(E17>0,E17/$C17*100,"") -> 58.241758 | H17: 自 殺 | I17: 8 | J17: =IF(I17>0,I17/$B17*100000,"") -> 10.064032 | K17: =IF(I17>0,I17/$C17*100,"") -> 8.7912088 | L17: 不慮の事故 | M17: 4 | N17: =IF(M17>0,M17/$B17*100000,"") -> 5.0320162 | O17: =IF(M17>0,M17/$C17*100,"") -> 4.3956044 | P17: 心疾患 脳血管疾患 | Q17: 3 | R17: =IF(Q17>0,Q17/$B17*100000,"") -> 3.7740122 | S17: =IF(Q17>0,Q17/$C17*100,"") -> 3.2967033 | V17: =IF(U17>0,U17/$B17*100000,"") | W17: =IF(U17>0,U17/$C17*100,"") | Y17: 先天奇形，変形 及び染色体異常
A18: 50～54 | B18: ='[1]年齢階級・区別人口(住基）'!$O$5 -> 70606 | C18: ='9 性・年齢別，区別死亡数'!$R$30 -> 127 | D18: 悪性新生物 | E18: 85 | F18: =IF(E18>0,E18/$B18*100000,"") -> 120.38637 | G18: =IF(E18>0,E18/$C18*100,"") -> 66.929134 | H18: 自 殺 | I18: 7 | J18: =IF(I18>0,I18/$B18*100000,"") -> 9.9141716 | K18: =IF(I18>0,I18/$C18*100,"") -> 5.511811 | L18: 不慮の事故 | M18: 6 | N18: =IF(M18>0,M18/$B18*100000,"") -> 8.4978614 | O18: =IF(M18>0,M18/$C18*100,"") -> 4.7244094 | P18: 脳血管疾患 | Q18: 5 | R18: =IF(Q18>0,Q18/$B18*100000,"") -> 7.0815511 | S18: =IF(Q18>0,Q18/$C18*100,"") -> 3.9370079 | T18: 肝 疾 患 | U18: 4 | V18: =IF(U18>0,U18/$B18*100000,"") -> 5.6652409 | W18: =IF(U18>0,U18/$C18*100,"") -> 3.1496063 | Y18: 周産期に 発生した病態
A19: 55～59 | B19: ='[1]年齢階級・区別人口(住基）'!$P$5 -> 66250 | C19: ='9 性・年齢別，区別死亡数'!$S$30 -> 188 | D19: 悪性新生物 | E19: 116 | F19: =IF(E19>0,E19/$B19*100000,"") -> 175.09434 | G19: =IF(E19>0,E19/$C19*100,"") -> 61.702128 | H19: 脳血管疾患 | I19: 12 | J19: =IF(I19>0,I19/$B19*100000,"") -> 18.113208 | K19: =IF(I19>0,I19/$C19*100,"") -> 6.3829787 | L19: 自 殺 | M19: 11 | N19: =IF(M19>0,M19/$B19*100000,"") -> 16.603774 | O19: =IF(M19>0,M19/$C19*100,"") -> 5.8510638 | P19: 肝 疾 患 | Q19: 5 | R19: =IF(Q19>0,Q19/$B19*100000,"") -> 7.5471698 | S19: =IF(Q19>0,Q19/$C19*100,"") -> 2.6595745 | T19: 不慮の事故 | U19: 4 | V19: =IF(U19>0,U19/$B19*100000,"") -> 6.0377358 | W19: =IF(U19>0,U19/$C19*100,"") -> 2.1276596 | Y19: 乳幼児突然死 症候群
A20: 60～64 | B20: ='[1]年齢階級・区別人口(住基）'!$Q$5 -> 64860 | C20: ='9 性・年齢別，区別死亡数'!$T$30 -> 252 | D20: 悪性新生物 | E20: 150 | F20: =IF(E20>0,E20/$B20*100000,"") -> 231.26735 | G20: =IF(E20>0,E20/$C20*100,"") -> 59.52381 | H20: 脳血管疾患 | I20: 20 | J20: =IF(I20>0,I20/$B20*100000,"") -> 30.835646 | K20: =IF(I20>0,I20/$C20*100,"") -> 7.9365079 | L20: 心疾患 | M20: 18 | N20: =IF(M20>0,M20/$B20*100000,"") -> 27.752081 | O20: =IF(M20>0,M20/$C20*100,"") -> 7.1428571 | P20: その他の新生物 | Q20: 6 | R20: =IF(Q20>0,Q20/$B20*100000,"") -> 9.2506938 | S20: =IF(Q20>0,Q20/$C20*100,"") -> 2.3809524 | T20: 不慮の事故 自 殺 | U20: 5 | V20: =IF(U20>0,U20/$B20*100000,"") -> 7.7089115 | W20: =IF(U20>0,U20/$C20*100,"") -> 1.984127 | Y20: インフルエンザ
A21: 65～69 | B21: ='[1]年齢階級・区別人口(住基）'!$R$5 -> 81123 | C21: ='9 性・年齢別，区別死亡数'!$U$30 -> 481 | D21: 悪性新生物 | E21: 269 | F21: =IF(E21>0,E21/$B21*100000,"") -> 331.59523 | G21: =IF(E21>0,E21/$C21*100,"") -> 55.925156 | H21: 心疾患 | I21: 35 | J21: =IF(I21>0,I21/$B21*100000,"") -> 43.144361 | K21: =IF(I21>0,I21/$C21*100,"") -> 7.2765073 | L21: 脳血管疾患 | M21: 25 | N21: =IF(M21>0,M21/$B21*100000,"") -> 30.817401 | O21: =IF(M21>0,M21/$C21*100,"") -> 5.1975052 | P21: 不慮の事故 | Q21: 17 | R21: =IF(Q21>0,Q21/$B21*100000,"") -> 20.955833 | S21: =IF(Q21>0,Q21/$C21*100,"") -> 3.5343035 | T21: 糖 尿 病 肝 疾 患 | U21: 12 | V21: =IF(U21>0,U21/$B21*100000,"") -> 14.792352 | W21: =IF(U21>0,U21/$C21*100,"") -> 2.4948025 | Y21: 敗 血 症
A22: 70～74 | B22: ='[1]年齢階級・区別人口(住基）'!$S$5 -> 66332 | C22: ='9 性・年齢別，区別死亡数'!$V$30 -> 583 | D22: 悪性新生物 | E22: 302 | F22: =IF(E22>0,E22/$B22*100000,"") -> 455.28553 | G22: =IF(E22>0,E22/$C22*100,"") -> 51.801029 | H22: 心疾患 | I22: 56 | J22: =IF(I22>0,I22/$B22*100000,"") -> 84.423808 | K22: =IF(I22>0,I22/$C22*100,"") -> 9.6054889 | L22: 脳血管疾患 | M22: 35 | N22: =IF(M22>0,M22/$B22*100000,"") -> 52.76488 | O22: =IF(M22>0,M22/$C22*100,"") -> 6.0034305 | P22: 肺 炎 | Q22: 17 | R22: =IF(Q22>0,Q22/$B22*100000,"") -> 25.628656 | S22: =IF(Q22>0,Q22/$C22*100,"") -> 2.915952 | T22: 不慮の事故 | U22: 13 | V22: =IF(U22>0,U22/$B22*100000,"") -> 19.598384 | W22: =IF(U22>0,U22/$C22*100,"") -> 2.2298456 | Y22: ヘルニア及び腸閉塞
A23: 75～79 | B23: ='[1]年齢階級・区別人口(住基）'!$T$5 -> 54850 | C23: ='9 性・年齢別，区別死亡数'!$W$30 -> 871 | D23: 悪性新生物 | E23: 381 | F23: =IF(E23>0,E23/$B23*100000,"") -> 694.6217 | G23: =IF(E23>0,E23/$C23*100,"") -> 43.742824 | H23: 心疾患 | I23: 82 | J23: =IF(I23>0,I23/$B23*100000,"") -> 149.49863 | K23: =IF(I23>0,I23/$C23*100,"") -> 9.4144661 | L23: 脳血管疾患 | M23: 51 | N23: =IF(M23>0,M23/$B23*100000,"") -> 92.980857 | O23: =IF(M23>0,M23/$C23*100,"") -> 5.8553387 | P23: 肺 炎 | Q23: 41 | R23: =IF(Q23>0,Q23/$B23*100000,"") -> 74.749316 | S23: =IF(Q23>0,Q23/$C23*100,"") -> 4.7072331 | T23: 不慮の事故 | U23: 20 | V23: =IF(U23>0,U23/$B23*100000,"") -> 36.463081 | W23: =IF(U23>0,U23/$C23*100,"") -> 2.2962113 | Y23: 貧 血
A24: 80～84 | B24: ='[1]年齢階級・区別人口(住基）'!$U$5 -> 44966 | C24: ='9 性・年齢別，区別死亡数'!$X$30 -> 1320 | D24: 悪性新生物 | E24: 414 | F24: =IF(E24>0,E24/$B24*100000,"") -> 920.69564 | G24: =IF(E24>0,E24/$C24*100,"") -> 31.363636 | H24: 心疾患 | I24: 167 | J24: =IF(I24>0,I24/$B24*100000,"") -> 371.39172 | K24: =IF(I24>0,I24/$C24*100,"") -> 12.651515 | L24: 脳血管疾患 | M24: 98 | N24: =IF(M24>0,M24/$B24*100000,"") -> 217.94245 | O24: =IF(M24>0,M24/$C24*100,"") -> 7.4242424 | P24: 肺 炎 | Q24: 64 | R24: =IF(Q24>0,Q24/$B24*100000,"") -> 142.32976 | S24: =IF(Q24>0,Q24/$C24*100,"") -> 4.8484848 | T24: 老 衰 | U24: 49 | V24: =IF(U24>0,U24/$B24*100000,"") -> 108.97122 | W24: =IF(U24>0,U24/$C24*100,"") -> 3.7121212 | Y24: 喘 息
A25: 85～89 | B25: ='[1]年齢階級・区別人口(住基）'!$V$5 -> 32794 | C25: ='9 性・年齢別，区別死亡数'!$Y$30 -> 1930 | D25: 悪性新生物 | E25: 451 | F25: =IF(E25>0,E25/$B25*100000,"") -> 1375.2516 | G25: =IF(E25>0,E25/$C25*100,"") -> 23.367876 | H25: 心疾患 | I25: 285 | J25: =IF(I25>0,I25/$B25*100000,"") -> 869.06141 | K25: =IF(I25>0,I25/$C25*100,"") -> 14.766839 | L25: 脳血管疾患 | M25: 170 | N25: =IF(M25>0,M25/$B25*100000,"") -> 518.38751 | O25: =IF(M25>0,M25/$C25*100,"") -> 8.8082902 | P25: 肺 炎 | Q25: 144 | R25: =IF(Q25>0,Q25/$B25*100000,"") -> 439.10471 | S25: =IF(Q25>0,Q25/$C25*100,"") -> 7.4611399 | T25: 老 衰 | U25: 124 | V25: =IF(U25>0,U25/$B25*100000,"") -> 378.11795 | W25: =IF(U25>0,U25/$C25*100,"") -> 6.4248705 | Y25: 肝 疾 患
A26: 90歳～ | B26: =SUM('[1]年齢階級・区別人口(住基）'!$W$5:$Y$5) -> 22805 | C26: =SUM('9 性・年齢別，区別死亡数'!Z30:AB30) -> 3400 | D26: 心疾患 | E26: 716 | F26: =IF(E26>0,E26/$B26*100000,"") -> 3139.6624 | G26: =IF(E26>0,E26/$C26*100,"") -> 21.058824 | H26: 老 衰 | I26: 567 | J26: =IF(I26>0,I26/$B26*100000,"") -> 2486.2969 | K26: =IF(I26>0,I26/$C26*100,"") -> 16.676471 | L26: 悪性新生物 | M26: 416 | N26: =IF(M26>0,M26/$B26*100000,"") -> 1824.1614 | O26: =IF(M26>0,M26/$C26*100,"") -> 12.235294 | P26: 肺 炎 | Q26: 307 | R26: =IF(Q26>0,Q26/$B26*100000,"") -> 1346.196 | S26: =IF(Q26>0,Q26/$C26*100,"") -> 9.0294118 | T26: 脳血管疾患 | U26: 267 | V26: =IF(U26>0,U26/$B26*100000,"") -> 1170.7959 | W26: =IF(U26>0,U26/$C26*100,"") -> 7.8529412
A27: 1) 総数は国勢調査による日本人人口、年齢別は住民基本台帳による10月1日現在の人口である。 | L27: 2） それぞれの年齢階級別死亡数を100とした場合の割合である。
A28: 3) 乳児の死因については乳児死因簡単分類を使用。死亡率は出生10万対の率である。 | L28: 4) 出生数
A29: 注) 「心疾患」は「心疾患(高血圧症を除く）」である。

Sheet 6　死亡の場所別，年次別死亡数・百分率
A1: 6 死亡の場所別にみた年次別死亡数及び百分率
A3: 年次 | B3: 総数 | C3: 施設内 | I3: 施設外
C4: 総 数 | D4: 病院 | E4: 診療所 | F4: 介護老人 保健施設 | G4: 助産所 | H4: 老 人 ホーム | I4: 総 数 | J4: 自宅 | K4: その他
B5: 死亡数
A6: 85 60 | B6: =SUM(C6,I6) -> 7226 | C6: =SUM(D6:H6) -> 6241 | D6: 5906 | E6: 335 | F6: … | G6: 0 | H6: … | I6: =SUM(J6:K6) -> 985 | J6: 688 | K6: 297
A7: 1986 昭和61年 | B7: =SUM(C7,I7) -> 7127 | C7: =SUM(D7:H7) -> 6117 | D7: 5855 | E7: 262 | F7: … | G7: 0 | H7: … | I7: =SUM(J7:K7) -> 1010 | J7: 714 | K7: 296
A8: 1987 昭和62年 | B8: =SUM(C8,I8) -> 7074 | C8: =SUM(D8:H8) -> 6167 | D8: 5885 | E8: 282 | F8: … | G8: 0 | H8: … | I8: =SUM(J8:K8) -> 907 | J8: 642 | K8: 265
A9: 1988 昭和63年 | B9: 7761 | C9: 6892 | D9: 6640 | E9: 252 | F9: … | G9: 0 | H9: … | I9: 869 | J9: 610 | K9: 259
A10: 89 平成元年 | B10: 8103 | C10: 7327 | D10: 7097 | E10: 230 | F10: 0 | G10: 0 | H10: … | I10: 776 | J10: 530 | K10: 246
A11: 90 2 | B11: 8278 | C11: 7514 | D11: 7279 | E11: 232 | F11: 3 | G11: 0 | H11: … | I11: 764 | J11: 540 | K11: 224
A12: 91 3 | B12: 8342 | C12: 7535 | D12: 7319 | E12: 213 | F12: 3 | G12: 0 | H12: … | I12: 807 | J12: 576 | K12: 231
A13: 92 4 | B13: 8808 | C13: 7947 | D13: 7709 | E13: 238 | F13: 0 | G13: 0 | H13: … | I13: 861 | J13: 609 | K13: 252
A14: 1993 平成5年 | B14: 9428 | C14: 8497 | D14: 8264 | E14: 230 | F14: 3 | G14: 0 | H14: … | I14: 931 | J14: 654 | K14: 277
A15: 94 6 | B15: 8934 | C15: 8056 | D15: 7827 | E15: 229 | F15: 0 | G15: 0 | H15: … | I15: 878 | J15: 639 | K15: 239
A16: 95 7 | B16: 9398 | C16: 8470 | D16: 8246 | E16: 199 | F16: 5 | G16: 0 | H16: 20 | I16: 928 | J16: 697 | K16: 231
A17: 96 8 | B17: 9512 | C17: 8580 | D17: 8357 | E17: 178 | F17: 10 | G17: 0 | H17: 35 | I17: 932 | J17: 730 | K17: 202
A18: 97 9 | B18: 9840 | C18: 8727 | D18: 8499 | E18: 170 | F18: 21 | G18: 0 | H18: 37 | I18: 1113 | J18: 816 | K18: 297
A19: 1998 平成10年 | B19: 9995 | C19: 8774 | D19: 8536 | E19: 174 | F19: 27 | G19: 0 | H19: 37 | I19: 1221 | J19: 898 | K19: 323
A20: 99 11 | B20: 10806 | C20: 9501 | D20: 9234 | E20: 200 | F20: 27 | G20: 0 | H20: 40 | I20: 1305 | J20: 986 | K20: 319
A21: 2000 12 | B21: 10800 | C21: 9368 | D21: 9081 | E21: 196 | F21: 33 | G21: 0 | H21: 58 | I21: 1432 | J21: 1037 | K21: 395
A22: 01 13 | B22: 10803 | C22: 9462 | D22: 9159 | E22: 200 | F22: 33 | G22: 0 | H22: 70 | I22: 1341 | J22: 988 | K22: 353
A23: 02 14 | B23: 11151 | C23: 9727 | D23: 9450 | E23: 179 | F23: 32 | G23: 0 | H23: 66 | I23: 1424 | J23: 1073 | K23: 351
A24: 03 15 | B24: 11769 | C24: 10185 | D24: 9880 | E24: 211 | F24: 26 | G24: 0 | H24: 68 | I24: 1584 | J24: 1176 | K24: 408
A25: 04 16 | B25: 12348 | C25: 10727 | D25: 10411 | E25: 196 | F25: 51 | G25: 0 | H25: 69 | I25: 1621 | J25: 1175 | K25: 446
A26: 05 17 | B26: 13105 | C26: 11393 | D26: 11076 | E26: 196 | F26: 43 | G26: 0 | H26: 78 | I26: 1712 | J26: 1281 | K26: 431
A27: 06 18 | B27: 13268 | C27: 11530 | D27: 11200 | E27: 210 | F27: 40 | G27: 0 | H27: 80 | I27: 1738 | J27: 1324 | K27: 414
... A38: 17 29 | B38: 18668 | C38: 16210 | D38: 15153 | E38: 249 | F38: 205 | G38: 0 | H38: 603 | I38: 2458 | J38: 2061 | K38: 397
A39: 18 30 | B39: =SUM(C39,I39) -> 19343 | C39: =SUM(D39:H39) -> 16904 | D39: ='7 死亡の場所別，区別死亡数'!D$5 -> 15706 | E39: ='7 死亡の場所別，区別死亡数'!E$5 -> 281 | F39: ='7 死亡の場所別，区別死亡数'!F$5 -> 224 | G39: ='7 死亡の場所別，区別死亡数'!G$5 -> 0 | H39: ='7 死亡の場所別，区別死亡数'!H$5 -> 693 | I39: =SUM(J39:K39) -> 2439 | J39: ='7 死亡の場所別，区別死亡数'!J$5 -> 2088 | K39: ='7 死亡の場所別，区別死亡数'!K$5 -> 351
B40: 百分率
A41: 85 60 | B41: =SUM(C41,I41) -> 100 | C41: =C6/$B6*100 -> 86.368669 | D41: =D6/$B6*100 -> 81.732632 | E41: =E6/$B6*100 -> 4.6360365 | F41: ・ | G41: =G6/$B6*100 -> 0 | H41: ・ | I41: =I6/$B6*100 -> 13.631331 | J41: =J6/$B6*100 -> 9.5211735 | K41: =K6/$B6*100 -> 4.1101578
A42: 1986 昭和61年 | B42: =SUM(C42,I42) -> 100 | C42: =C7/$B7*100 -> 85.828539 | D42: =D7/$B7*100 -> 82.152378 | E42: =E7/$B7*100 -> 3.6761611 | F42: ・ | G42: =G7/$B7*100 -> 0 | H42: ・ | I42: =I7/$B7*100 -> 14.171461 | J42: =J7/$B7*100 -> 10.01824 | K42: =K7/$B7*100 -> 4.1532201
A43: 1987 昭和62年 | B43: =SUM(C43,I43) -> 100 | C43: =C8/$B8*100 -> 87.1784 | D43: =D8/$B8*100 -> 83.191971 | E43: =E8/$B8*100 -> 3.9864292 | F43: ・ | G43: =G8/$B8*100 -> 0 | H43: ・ | I43: =I8/$B8*100 -> 12.8216 | J43: =J8/$B8*100 -> 9.0754877 | K43: =K8/$B8*100 -> 3.7461125
A44: 1988 昭和63年 | B44: 100 | C44: 88.802989 | D44: 85.555985 | E44: 3.2470043 | F44: ・ | G44: 0 | H44: ・ | I44: 11.197011 | J44: 7.8598119 | K44: 3.3371988
A45: 89 平成元年 | B45: 100 | C45: 90.4233 | D45: 87.584845 | E45: 2.8384549 | F45: 0 | G45: 0 | H45: ・ | I45: 9.5767 | J45: 6.5407874 | K45: 3.0359126
A46: 90 2 | B46: 100 | C46: 90.770718 | D46: 87.931868 | E46: 2.8026093 | F46: 0.036240638 | G46: 0 | H46: ・ | I46: 9.2292824 | J46: 6.5233148 | K46: 2.7059676
A47: 91 3 | B47: 100 | C47: 90.326061 | D47: 87.736754 | E47: 2.5533445 | F47: 0.035962599 | G47: 0 | H47: ・ | I47: 9.6739391 | J47: 6.904819 | K47: 2.7691201
A48: 92 4 | B48: 100 | C48: 90.224796 | D48: 87.522707 | E48: 2.702089 | F48: 0 | G48: 0 | H48: ・ | I48: 9.7752044 | J48: 6.9141689 | K48: 2.8610354
A49: 1993 平成5年 | B49: 100 | C49: 90.125159 | D49: 87.653797 | E49: 2.4395418 | F49: 0.03182011 | G49: 0 | H49: ・ | I49: 9.8748409 | J49: 6.936784 | K49: 2.9380569
A50: 94 6 | B50: 100 | C50: 90.172375 | D50: 87.609134 | E50: 2.5632415 | F50: 0 | G50: 0 | H50: ・ | I50: 9.8276248 | J50: 7.1524513 | K50: 2.6751735
A51: 95 7 | B51: 100 | C51: 90.125559 | D51: 87.742073 | E51: 2.1174718 | F51: 0.053202809 | G51: 0 | H51: 0.21281124 | I51: 9.8744414 | J51: 7.4164716 | K51: 2.4579698
A52: 96 8 | B52: 100 | C52: 90.20185 | D52: 87.857443 | E52: 1.8713204 | F52: 0.10513036 | G52: 0 | H52: 0.36795627 | I52: 9.7981497 | J52: 7.6745164 | K52: 2.1236333
A53: 97 9 | B53: 100 | C53: 88.689024 | D53: 86.371951 | E53: 1.7276423 | F53: 0.21341463 | G53: 0 | H53: 0.37601626 | I53: 11.310976 | J53: 8.2926829 | K53: 3.0182927
A54: 1998 平成10年 | B54: 100 | C54: 87.783892 | D54: 85.402701 | E54: 1.7408704 | F54: 0.27013507 | G54: 0 | H54: 0.37018509 | I54: 12.216108 | J54: 8.9844922 | K54: 3.2316158
A55: 99 11 | B55: 100 | C55: 87.923376 | D55: 85.452526 | E55: 1.8508236 | F55: 0.24986119 | G55: 0 | H55: 0.37016472 | I55: 12.076624 | J55: 9.1245604 | K55: 2.9520637
A56: 2000 12 | B56: 100 | C56: 86.740741 | D56: 84.083333 | E56: 1.8148148 | F56: 0.30555556 | G56: 0 | H56: 0.53703704 | I56: 13.259259 | J56: 9.6018519 | K56: 3.6574074
A57: 01 13 | B57: 100 | C57: 87.586781 | D57: 84.782005 | E57: 1.8513376 | F57: 0.3054707 | G57: 0 | H57: 0.64796816 | I57: 12.413219 | J57: 9.1456077 | K57: 3.2676108
A58: 02 14 | B58: 100 | C58: 87.229845 | D58: 84.745763 | E58: 1.6052372 | F58: 0.28696978 | G58: 0 | H58: 0.59187517 | I58: 12.770155 | J58: 9.6224554 | K58: 3.1476998
A59: 03 15 | B59: 100 | C59: 86.540913 | D59: 83.949358 | E59: 1.7928456 | F59: 0.22091936 | G59: 0 | H59: 0.57778911 | I59: 13.459087 | J59: 9.9923528 | K59: 3.4667346
A60: 04 16 | B60: 100 | C60: 86.936284 | D60: 84.3 | E60: 1.6 | F60: 0.4 | G60: 0 | H60: 0.59519267 | I60: 13.063716 | J60: 9.5 | K60: 3.6
A61: 05 17 | B61: 100 | C61: 86.936284 | D61: 84.51736 | E61: 1.4956124 | F61: 0.32811904 | G61: 0 | H61: 0.59519267 | I61: 13.063716 | J61: 9.7748951 | K61: 3.2888211
A62: 06 18 | B62: 100 | C62: 86.900814 | D62: 84.413627 | E62: 1.5827555 | F62: 0.30147724 | G62: 0 | H62: 0.60295448 | I62: 13.099186 | J62: 9.9788966 | K62: 3.1202894
... A73: 17 29 | B73: 100 | C73: 86.833083 | D73: 81.170988 | E73: 1.3338333 | F73: 1.0981358 | G73: 0 | H73: 3.2301264 | I73: 13.166917 | J73: 11.040283 | K73: 2.1266338
A74: 18 30 | B74: =SUM(C74,I74) -> 100 | C74: =C39/$B39*100 -> 87.390787 | D74: =D39/$B39*100 -> 81.197332 | E74: =E39/$B39*100 -> 1.4527219 | F74: =F39/$B39*100 -> 1.1580417 | G74: =G39/$B39*100 -> 0 | H74: =H39/$B39*100 -> 3.5826914 | I74: =I39/$B39*100 -> 12.609213 | J74: =J39/$B39*100 -> 10.794603 | K74: =K39/$B39*100 -> 1.8146099
A75: 注) 平成6年までは老人ホームでの死亡は自宅又はその他に含まれる。

Sheet 7 死亡の場所別，区別死亡数
A1: 7 死亡の場所別にみた区別死亡数
K2: ='3 月・性別，区別死亡数'!$O$2 -> 平成30年
A3: 区 | B3: 総数 | C3: 施設内 | I3: 施設外
C4: 総 数 | D4: 病 院 | E4: 診療所 | F4: 介護老人 保健施設 | G4: 助産所 | H4: 老 人 ホーム | I4: 総 数 | J4: 自 宅 | K4: その他
A5: 総数 | B5: =SUM(B6:B15) -> 19343 | C5: =SUM(C6:C15) -> 16904 | D5: =SUM(D6:D15) -> 15706 | E5: =SUM(E6:E15) -> 281 | F5: =SUM(F6:F15) -> 224 | G5: =SUM(G6:G15) -> 0 | H5: =SUM(H6:H15) -> 693 | I5: =SUM(I6:I15) -> 2439 | ... K5: =SUM(K6:K15) -> 351
A6: 中央 | B6: =SUM(C6,I6) -> 2174 | C6: =SUM(D6:H6) -> 1859 | D6: 1725 | E6: 11 | F6: 44 | G6: 0 | H6: 79 | I6: =SUM(J6:K6) -> 315 | J6: 281 | K6: 34
A7: 北 | B7: =SUM(C7,I7) -> 2842 | C7: =SUM(D7:H7) -> 2438 | D7: 2279 | E7: 54 | F7: 25 | G7: 0 | H7: 80 | I7: =SUM(J7:K7) -> 404 | J7: 347 | K7: 57
A8: 東 | B8: =SUM(C8,I8) -> 2512 | C8: =SUM(D8:H8) -> 2139 | D8: 1965 | E8: 26 | F8: 31 | G8: 0 | H8: 117 | I8: =SUM(J8:K8) -> 373 | J8: 296 | K8: 77
A9: 白石 | B9: =SUM(C9,I9) -> 2032 | C9: =SUM(D9:H9) -> 1774 | D9: 1693 | E9: 9 | F9: 19 | G9: 0 | H9: 53 | I9: =SUM(J9:K9) -> 258 | J9: 207 | K9: 51
A10: 厚別 | B10: =SUM(C10,I10) -> 1268 | C10: =SUM(D10:H10) -> 1147 | D10: 1078 | E10: 9 | F10: 12 | G10: 0 | H10: 48 | I10: =SUM(J10:K10) -> 121 | J10: 99 | K10: 22
A11: 豊平 | B11: =SUM(C11,I11) -> 2047 | C11: =SUM(D11:H11) -> 1803 | D11: 1691 | E11: 9 | F11: 17 | G11: 0 | H11: 86 | I11: =SUM(J11:K11) -> 244 | J11: 205 | K11: 39
A12: 清田 | B12: =SUM(C12,I12) -> 1137 | C12: =SUM(D12:H12) -> 1039 | D12: 972 | E12: 11 | F12: 18 | G12: 0 | H12: 38 | I12: =SUM(J12:K12) -> 98 | J12: 85 | K12: 13
A13: 南 | B13: =SUM(C13,I13) -> 1710 | C13: =SUM(D13:H13) -> 1559 | D13: 1433 | E13: 37 | F13: 14 | G13: 0 | H13: 75 | I13: =SUM(J13:K13) -> 151 | J13: 135 | K13: 16
A14: 西 | B14: =SUM(C14,I14) -> 2067 | C14: =SUM(D14:H14) -> 1786 | D14: 1659 | E14: 30 | F14: 39 | G14: 0 | H14: 58 | I14: =SUM(J14:K14) -> 281 | J14: 255 | K14: 26
A15: 手稲 | B15: =SUM(C15,I15) -> 1554 | C15: =SUM(D15:H15) -> 1360 | D15: 1211 | E15: 85 | F15: 5 | G15: 0 | H15: 59 | I15: =SUM(J15:K15) -> 194 | J15: 178 | K15: 16

Sheet 8 性・年齢別，年次別死亡数
A1: 8 性・年齢（5歳階級）別にみた年次別死亡数
A3: 年次 | B3: 年齢 階級
B4: 総数 | C4: 0歳 | D4: 1 | E4: 2 | F4: 3 | G4: 4 | H4: 0～4 | I4: 5～9 | J4: 10～14 | K4: 15～19 | L4: 20～24 | M4: 25～29 | N4: 30～34 | O4: 35～39 | P4: 40～44 | Q4: 45～49 | R4: 50～54 | S4: 55～59 | T4: 60～64 | U4: 65～69 | V4: 70～74 | W4: 75～79 | X4: 80～84 | Y4: 85～89 | Z4: 90～94 | AA4: 95～99 | AB4: 100～ | AC4: 不 詳
B5: 総数
A6: 85 60 | B6: 7226 | C6: 101 | D6: 13 | E6: 10 | F6: 7 | G6: 5 | H6: 136 | I6: 25 | J6: 25 | K6: 53 | L6: 82 | M6: 76 | N6: 79 | O6: 163 | P6: 171 | Q6: 268 | R6: 377 | S6: 479 | T6: 595 | U6: 702 | V6: 933 | W6: 1073 | X6: 1016 | Y6: 674 | Z6: 234 | AA6: 62 | AB6: 3 | AC6: 0
A7: 1986 昭和61年 | B7: 7127 | C7: 86 | D7: 10 | E7: 12 | F7: 6 | G7: 6 | H7: 120 | I7: 24 | J7: 22 | K7: 42 | L7: 68 | M7: 70 | N7: 79 | O7: 174 | P7: 193 | Q7: 260 | R7: 390 | S7: 505 | T7: 583 | U7: 671 | V7: 891 | W7: 1069 | X7: 1005 | Y7: 655 | Z7: 241 | AA7: 60 | AB7: 5 | AC7: 0
A8: 1987 昭和62年 | B8: 7074 | C8: 88 | D8: 16 | E8: 7 | F8: 9 | G8: 8 | H8: 128 | I8: 14 | J8: 18 | K8: 49 | L8: 68 | M8: 64 | N8: 88 | O8: 156 | P8: 172 | Q8: 258 | R8: 395 | S8: 505 | T8: 589 | U8: 637 | V8: 856 | W8: 1069 | X8: 996 | Y8: 681 | Z8: 264 | AA8: 56 | AB8: 11 | AC8: 0
A9: 1988 昭和63年 | B9: 7761 | C9: 80 | D9: 7 | E9: 1 | F9: 8 | G9: 3 | H9: 99 | I9: 21 | J9: 19 | K9: 64 | L9: 77 | M9: 63 | N9: 82 | O9: 134 | P9: 206 | Q9: 255 | R9: 380 | S9: 494 | T9: 644 | U9: 711 | V9: 964 | W9: 1167 | X9: 1128 | Y9: 822 | Z9: 344 | AA9: 76 | AB9: 10 | AC9: 1
A10: 89 平成元年 | B10: 8103 | C10: 75 | D10: 6 | E10: 11 | F10: 8 | G10: 5 | H10: 105 | I10: 21 | J10: 21 | K10: 66 | L10: 72 | M10: 76 | N10: 70 | O10: 135 | P10: 225 | Q10: 290 | R10: 334 | S10: 523 | T10: 696 | U10: 764 | V10: 1017 | W10: 1197 | X10: 1179 | Y10: 869 | Z10: 362 | AA10: 72 | AB10: 8 | AC10: 1
A11: 90 2 | B11: 8278 | C11: 85 | D11: 10 | E11: 9 | F11: 6 | G11: 7 | H11: 117 | I11: 27 | J11: 10 | K11: 54 | L11: 81 | M11: 52 | N11: 78 | O11: 131 | P11: 201 | Q11: 293 | R11: 339 | S11: 497 | T11: 684 | U11: 830 | V11: 957 | W11: 1185 | X11: 1230 | Y11: 990 | Z11: 418 | AA11: 93 | AB11: 10 | AC11: 1
A12: 91 3 | B12: 8342 | C12: 63 | D12: 6 | E12: 7 | F12: 4 | G12: 3 | H12: 83 | I12: 22 | J12: 12 | K12: 55 | L12: 69 | M12: 72 | N12: 55 | O12: 113 | P12: 223 | Q12: 275 | R12: 415 | S12: 540 | T12: 702 | U12: 891 | V12: 957 | W12: 1175 | X12: 1237 | Y12: 931 | Z12: 395 | AA12: 106 | AB12: 14 | AC12: 0
A13: 92 4 | B13: 8808 | C13: 57 | D13: 11 | E13: 6 | F13: 3 | G13: 2 | H13: 79 | I13: 16 | J13: 25 | K13: 46 | L13: 73 | M13: 68 | N13: 52 | O13: 95 | P13: 228 | Q13: 277 | R13: 380 | S13: 572 | T13: 789 | U13: 923 | V13: 1019 | W13: 1290 | X13: 1353 | Y13: 935 | Z13: 478 | AA13: 106 | AB13: 3 | AC13: 1
A14: 1993 平成5年 | B14: 9428 | C14: 51 | D14: 13 | E14: 7 | F14: 4 | G14: 4 | H14: 79 | I14: 21 | J14: 18 | K14: 39 | L14: 72 | M14: 52 | N14: 92 | O14: 97 | P14: 228 | Q14: 322 | R14: 408 | S14: 576 | T14: 807 | U14: 997 | V14: 1134 | W14: 1239 | X14: 1480 | Y14: 1073 | Z14: 542 | AA14: 135 | AB14: 17 | AC14: 0
A15: 94 6 | B15: 8934 | C15: 65 | D15: 10 | E15: 14 | F15: 11 | G15: 4 | H15: 104 | I15: 21 | J15: 15 | K15: 31 | L15: 66 | M15: 67 | N15: 84 | O15: 92 | P15: 205 | Q15: 324 | R15: 419 | S15: 486 | T15: 677 | U15: 967 | V15: 1014 | W15: 1213 | X15: 1406 | Y15: 1055 | Z15: 540 | AA15: 129 | AB15: 19 | AC15: 0
A16: 95 7 | B16: 9398 | C16: 53 | D16: 11 | E16: 4 | F16: 6 | G16: 2 | H16: 76 | I16: 17 | J16: 16 | K16: 42 | L16: 71 | M16: 57 | N16: 78 | O16: 90 | P16: 178 | Q16: 322 | R16: 407 | S16: 506 | T16: 797 | U16: 1027 | V16: 1071 | W16: 1279 | X16: 1405 | Y16: 1200 | Z16: 593 | AA16: 149 | AB16: 17 | AC16: 0
A17: 96 8 | B17: 9512 | C17: 55 | D17: 10 | E17: 0 | F17: 3 | G17: 3 | H17: 71 | I17: 10 | J17: 10 | K17: 37 | L17: 76 | M17: 68 | N17: 68 | O17: 98 | P17: 202 | Q17: 357 | R17: 389 | S17: 540 | T17: 774 | U17: 1020 | V17: 1146 | W17: 1226 | X17: 1444 | Y17: 1200 | Z17: 592 | AA17: 166 | AB17: 18 | AC17: 0
... A38: 17 29 | B38: 18668 | C38: 25 | D38: 6 | E38: 4 | F38: 1 | G38: 0 | H38: 36 | I38: 2 | J38: 7 | K38: 21 | L38: 27 | M38: 45 | N38: 60 | O38: 86 | P38: 160 | Q38: 242 | R38: 294 | S38: 449 | T38: 737 | U38: 1463 | V38: 1698 | W38: 2072 | X38: 2989 | Y38: 3565 | Z38: 2927 | AA38: 1429 | AB38: 359 | AC38: 0
A39: 18 30 | B39: =SUM(B74,B109) -> 19343 | C39: =SUM(C74,C109) -> 34 | D39: =SUM(D74,D109) -> 5 | E39: =SUM(E74,E109) -> 3 | F39: =SUM(F74,F109) -> 2 | G39: =SUM(G74,G109) -> 0 | H39: =SUM(H74,H109) -> 44 | I39: =SUM(I74,I109) -> 4 | ... AC39: =SUM(AC74,AC109) -> 0
B40: 男
A41: 85 60 | B41: 3968 | C41: 48 | D41: 12 | E41: 8 | F41: 4 | G41: 2 | H41: 74 | I41: 17 | J41: 17 | K41: 37 | L41: 56 | M41: 48 | N41: 41 | O41: 100 | P41: 105 | Q41: 169 | R41: 235 | S41: 317 | T41: 354 | U41: 417 | V41: 538 | W41: 573 | X41: 484 | Y41: 289 | Z41: 78 | AA41: 18 | AB41: 1 | AC41: 0
A42: 1986 昭和61年 | B42: 4021 | C42: 49 | D42: 6 | E42: 7 | F42: 3 | G42: 3 | H42: 68 | I42: 14 | J42: 12 | K42: 30 | L42: 44 | M42: 47 | N42: 53 | O42: 113 | P42: 112 | Q42: 161 | R42: 259 | S42: 358 | T42: 384 | U42: 401 | V42: 509 | W42: 591 | X42: 464 | Y42: 287 | Z42: 95 | AA42: 18 | AB42: 1 | AC42: 0
A43: 1987 昭和62年 | B43: 4036 | C43: 42 | D43: 7 | E43: 2 | F43: 6 | G43: 3 | H43: 60 | I43: 8 | J43: 13 | K43: 37 | L43: 54 | M43: 46 | N43: 55 | O43: 106 | P43: 94 | Q43: 162 | R43: 251 | S43: 343 | T43: 405 | U43: 376 | V43: 522 | W43: 582 | X43: 509 | Y43: 286 | Z43: 102 | AA43: 21 | AB43: 4 | AC43: 0
A44: 1988 昭和63年 | B44: 4316 | C44: 41 | D44: 4 | E44: 0 | F44: 6 | G44: 2 | H44: 53 | I44: 13 | J44: 10 | K44: 38 | L44: 57 | M44: 37 | N44: 54 | O44: 83 | P44: 134 | Q44: 150 | R44: 245 | S44: 337 | T44: 429 | U44: 423 | V44: 589 | W44: 628 | X44: 519 | Y44: 346 | Z44: 139 | AA44: 29 | AB44: 2 | AC44: 1
A45: 89 平成元年 | B45: 4520 | C45: 50 | D45: 5 | E45: 6 | F45: 1 | G45: 2 | H45: 64 | I45: 12 | J45: 14 | K45: 41 | L45: 49 | M45: 48 | N45: 47 | O45: 79 | P45: 137 | Q45: 185 | R45: 200 | S45: 354 | T45: 473 | U45: 463 | V45: 585 | W45: 654 | X45: 596 | Y45: 370 | Z45: 122 | AA45: 24 | AB45: 2 | AC45: 1
A46: 90 2 | B46: 4643 | C46: 45 | D46: 3 | E46: 6 | F46: 4 | G46: 7 | H46: 65 | I46: 21 | J46: 8 | K46: 42 | L46: 55 | M46: 35 | N46: 51 | O46: 79 | P46: 138 | Q46: 184 | R46: 232 | S46: 321 | T46: 473 | U46: 526 | V46: 556 | W46: 648 | X46: 596 | Y46: 429 | Z46: 146 | AA46: 36 | AB46: 1 | AC46: 1
A47: 91 3 | B47: 4785 | C47: 36 | D47: 4 | E47: 3 | F47: 3 | G47: 2 | H47: 48 | I47: 16 | J47: 8 | K47: 44 | L47: 52 | M47: 51 | N47: 35 | O47: 72 | P47: 137 | Q47: 156 | R47: 255 | S47: 366 | T47: 455 | U47: 584 | V47: 576 | W47: 676 | X47: 632 | Y47: 449 | Z47: 138 | AA47: 32 | AB47: 3 | AC47: 0
A48: 92 4 | B48: 4992 | C48: 33 | D48: 7 | E48: 5 | F48: 2 | G48: 0 | H48: 47 | I48: 8 | J48: 7 | K48: 27 | L48: 54 | M48: 48 | N48: 30 | O48: 65 | P48: 148 | Q48: 178 | R48: 264 | S48: 390 | T48: 531 | U48: 588 | V48: 605 | W48: 740 | X48: 667 | Y48: 399 | Z48: 165 | AA48: 30 | AB48: 1 | AC48: 0
A49: 1993 平成5年 | B49: 5271 | C49: 29 | D49: 8 | E49: 5 | F49: 3 | G49: 2 | H49: 47 | I49: 9 | J49: 12 | K49: 26 | L49: 47 | M49: 36 | N49: 52 | O49: 50 | P49: 138 | Q49: 198 | R49: 261 | S49: 394 | T49: 536 | U49: 670 | V49: 688 | W49: 700 | X49: 733 | Y49: 447 | Z49: 186 | AA49: 37 | AB49: 4 | AC49: 0
A50: 94 6 | B50: 5096 | C50: 40 | D50: 4 | E50: 6 | F50: 6 | G50: 2 | H50: 58 | I50: 14 | J50: 8 | K50: 22 | L50: 56 | M50: 47 | N50: 54 | O50: 62 | P50: 143 | Q50: 219 | R50: 274 | S50: 312 | T50: 454 | U50: 651 | V50: 625 | W50: 709 | X50: 705 | Y50: 446 | Z50: 200 | AA50: 36 | AB50: 1 | AC50: 0
A51: 95 7 | B51: 5288 | C51: 26 | D51: 5 | E51: 3 | F51: 3 | G51: 2 | H51: 39 | I51: 8 | J51: 9 | K51: 33 | L51: 56 | M51: 38 | N51: 55 | O51: 60 | P51: 100 | Q51: 198 | R51: 260 | S51: 341 | T51: 542 | U51: 705 | V51: 642 | W51: 742 | X51: 687 | Y51: 523 | Z51: 207 | AA51: 39 | AB51: 4 | AC51: 0
A52: 96 8 | B52: 5383 | C52: 35 | D52: 6 | E52: 0 | F52: 2 | G52: 2 | H52: 45 | I52: 6 | J52: 5 | K52: 27 | L52: 49 | M52: 45 | N52: 50 | O52: 66 | P52: 129 | Q52: 235 | R52: 263 | S52: 360 | T52: 485 | U52: 692 | V52: 710 | W52: 667 | X52: 745 | Y52: 523 | Z52: 210 | AA52: 66 | AB52: 5 | AC52: 0
... A73: 17 29 | B73: 9534 | C73: 9 | D73: 4 | E73: 2 | F73: 1 | G73: 0 | H73: 16 | I73: 1 | J73: 5 | K73: 12 | L73: 14 | M73: 30 | N73: 33 | O73: 49 | P73: 89 | Q73: 136 | R73: 188 | S73: 279 | T73: 510 | U73: 958 | V73: 1110 | W73: 1242 | X73: 1669 | Y73: 1716 | Z73: 1077 | AA73: 342 | AB73: 58 | AC73: 0
A74: 18 30 | B74: =SUM(H74:AC74) -> 9925 | C74: ='9 性・年齢別，区別死亡数'!C$18 -> 16 | D74: ='9 性・年齢別，区別死亡数'!D$18 -> 1 | E74: ='9 性・年齢別，区別死亡数'!E$18 -> 2 | F74: ='9 性・年齢別，区別死亡数'!F$18 -> 0 | G74: ='9 性・年齢別，区別死亡数'!G$18 -> 0 | H74: =SUM(C74:G74) -> 19 | I74: ='9 性・年齢別，区別死亡数'!I$18 -> 3 | J74: ='9 性・年齢別，区別死亡数'!J$18 -> 6 | K74: ='9 性・年齢別，区別死亡数'!K$18 -> 15 | L74: ='9 性・年齢別，区別死亡数'!L$18 -> 27 | M74: ='9 性・年齢別，区別死亡数'!M$18 -> 24 | N74: ='9 性・年齢別，区別死亡数'!N$18 -> 40 | O74: ='9 性・年齢別，区別死亡数'!O$18 -> 56 | P74: ='9 性・年齢別，区別死亡数'!P$18 -> 89 | ... AC74: ='9 性・年齢別，区別死亡数'!AC$18 -> 0
B75: 女
A76: 85 60 | B76: 3258 | C76: 53 | D76: 1 | E76: 2 | F76: 3 | G76: 3 | H76: 62 | I76: 8 | J76: 8 | K76: 16 | L76: 26 | M76: 28 | N76: 38 | O76: 63 | P76: 66 | Q76: 99 | R76: 142 | S76: 162 | T76: 241 | U76: 285 | V76: 395 | W76: 500 | X76: 532 | Y76: 385 | Z76: 156 | AA76: 44 | AB76: 2 | AC76: 0
A77: 1986 昭和61年 | B77: 3106 | C77: 37 | D77: 4 | E77: 5 | F77: 3 | G77: 3 | H77: 52 | I77: 10 | J77: 10 | K77: 12 | L77: 24 | M77: 23 | N77: 26 | O77: 61 | P77: 81 | Q77: 99 | R77: 131 | S77: 147 | T77: 199 | U77: 270 | V77: 382 | W77: 478 | X77: 541 | Y77: 368 | Z77: 146 | AA77: 42 | AB77: 4 | AC77: 0
A78: 1987 昭和62年 | B78: 3038 | C78: 46 | D78: 9 | E78: 5 | F78: 3 | G78: 5 | H78: 68 | I78: 6 | J78: 5 | K78: 12 | L78: 14 | M78: 18 | N78: 33 | O78: 50 | P78: 78 | Q78: 96 | R78: 144 | S78: 162 | T78: 184 | U78: 261 | V78: 334 | W78: 487 | X78: 487 | Y78: 395 | Z78: 162 | AA78: 35 | AB78: 7 | AC78: 0
A79: 1988 昭和63年 | B79: 3445 | C79: 39 | D79: 3 | E79: 1 | F79: 2 | G79: 1 | H79: 46 | I79: 8 | J79: 9 | K79: 26 | L79: 20 | M79: 26 | N79: 28 | O79: 51 | P79: 72 | Q79: 105 | R79: 135 | S79: 157 | T79: 215 | U79: 288 | V79: 375 | W79: 539 | X79: 609 | Y79: 476 | Z79: 205 | AA79: 47 | AB79: 8 | AC79: 0
A80: 89 平成元年 | B80: 3583 | C80: 25 | D80: 1 | E80: 5 | F80: 7 | G80: 3 | H80: 41 | I80: 9 | J80: 7 | K80: 25 | L80: 23 | M80: 28 | N80: 23 | O80: 56 | P80: 88 | Q80: 105 | R80: 134 | S80: 169 | T80: 223 | U80: 301 | V80: 432 | W80: 543 | X80: 583 | Y80: 499 | Z80: 240 | AA80: 48 | AB80: 6 | AC80: 0
A81: 90 2 | B81: 3635 | C81: 40 | D81: 7 | E81: 3 | F81: 2 | G81: 0 | H81: 52 | I81: 6 | J81: 2 | K81: 12 | L81: 26 | M81: 17 | N81: 27 | O81: 52 | P81: 63 | Q81: 109 | R81: 107 | S81: 176 | T81: 211 | U81: 304 | V81: 401 | W81: 537 | X81: 634 | Y81: 561 | Z81: 272 | AA81: 57 | AB81: 9 | AC81: 0
A82: 91 3 | B82: 3557 | C82: 27 | D82: 2 | E82: 4 | F82: 1 | G82: 1 | H82: 35 | I82: 6 | J82: 4 | K82: 11 | L82: 17 | M82: 21 | N82: 20 | O82: 41 | P82: 86 | Q82: 119 | R82: 160 | S82: 174 | T82: 247 | U82: 307 | V82: 381 | W82: 499 | X82: 605 | Y82: 482 | Z82: 257 | AA82: 74 | AB82: 11 | AC82: 0
A83: 92 4 | B83: 3816 | C83: 24 | D83: 4 | E83: 1 | F83: 1 | G83: 2 | H83: 32 | I83: 8 | J83: 18 | K83: 19 | L83: 19 | M83: 20 | N83: 22 | O83: 30 | P83: 80 | Q83: 99 | R83: 116 | S83: 182 | T83: 258 | U83: 335 | V83: 414 | W83: 550 | X83: 686 | Y83: 536 | Z83: 313 | AA83: 76 | AB83: 2 | AC83: 1
A84: 1993 平成5年 | B84: 4157 | C84: 22 | D84: 5 | E84: 2 | F84: 1 | G84: 2 | H84: 32 | I84: 12 | J84: 6 | K84: 13 | L84: 25 | M84: 16 | N84: 40 | O84: 47 | P84: 90 | Q84: 124 | R84: 147 | S84: 182 | T84: 271 | U84: 327 | V84: 446 | W84: 539 | X84: 747 | Y84: 626 | Z84: 356 | AA84: 98 | AB84: 13 | AC84: 0
A85: 94 6 | B85: 3838 | C85: 25 | D85: 6 | E85: 8 | F85: 5 | G85: 2 | H85: 46 | I85: 7 | J85: 7 | K85: 9 | L85: 10 | M85: 20 | N85: 30 | O85: 30 | P85: 62 | Q85: 105 | R85: 145 | S85: 174 | T85: 223 | U85: 316 | V85: 389 | W85: 504 | X85: 701 | Y85: 609 | Z85: 340 | AA85: 93 | AB85: 18 | AC85: 0
A86: 95 7 | B86: 4110 | C86: 27 | D86: 6 | E86: 1 | F86: 3 | G86: 0 | H86: 37 | I86: 9 | J86: 7 | K86: 9 | L86: 15 | M86: 19 | N86: 23 | O86: 30 | P86: 78 | Q86: 124 | R86: 147 | S86: 165 | T86: 255 | U86: 322 | V86: 429 | W86: 537 | X86: 718 | Y86: 677 | Z86: 386 | AA86: 110 | AB86: 13 | AC86: 0
A87: 96 8 | B87: 4129 | C87: 20 | D87: 4 | E87: 0 | F87: 1 | G87: 1 | H87: 26 | I87: 4 | J87: 5 | K87: 10 | L87: 27 | M87: 23 | N87: 18 | O87: 32 | P87: 73 | Q87: 122 | R87: 126 | S87: 180 | T87: 289 | U87: 328 | V87: 436 | W87: 559 | X87: 699 | Y87: 677 | Z87: 382 | AA87: 100 | AB87: 13 | AC87: 0
... A108: 17 29 | B108: 9134 | C108: 16 | D108: 2 | E108: 2 | F108: 0 | G108: 0 | H108: 20 | I108: 1 | J108: 2 | K108: 9 | L108: 13 | M108: 15 | N108: 27 | O108: 37 | P108: 71 | Q108: 106 | R108: 106 | S108: 170 | T108: 227 | U108: 505 | V108: 588 | W108: 830 | X108: 1320 | Y108: 1849 | Z108: 1850 | AA108: 1087 | AB108: 301 | AC108: 0
A109: 18 30 | B109: =SUM(H109:AC109) -> 9418 | C109: ='9 性・年齢別，区別死亡数'!C$30 -> 18 | D109: ='9 性・年齢別，区別死亡数'!D$30 -> 4 | E109: ='9 性・年齢別，区別死亡数'!E$30 -> 1 | F109: ='9 性・年齢別，区別死亡数'!F$30 -> 2 | G109: ='9 性・年齢別，区別死亡数'!G$30 -> 0 | H109: =SUM(C109:G109) -> 25 | I109: ='9 性・年齢別，区別死亡数'!I$30 -> 1 | J109: ='9 性・年齢別，区別死亡数'!J$30 -> 1 | K109: ='9 性・年齢別，区別死亡数'!K$30 -> 4 | L109: ='9 性・年齢別，区別死亡数'!L$30 -> 13 | M109: ='9 性・年齢別，区別死亡数'!M$30 -> 10 | N109: ='9 性・年齢別，区別死亡数'!N$30 -> 19 | O109: ='9 性・年齢別，区別死亡数'!O$30 -> 36 | P109: ='9 性・年齢別，区別死亡数'!P$30 -> 66 | ... AC109: ='9 性・年齢別，区別死亡数'!AC$30 -> 0

Sheet 9 性・年齢別，区別死亡数
A1: 9 性・年齢（5歳階級）別にみた区別死亡数
AC2: ='3 月・性別，区別死亡数'!$O$2 -> 平成30年
A3: 区 | B3: 年齢 階級
B4: 総数 | C4: 0歳 | D4: 1 | E4: 2 | F4: 3 | G4: 4 | H4: 0～4 | I4: 5～9 | J4: 10～14 | K4: 15～19 | L4: 20～24 | M4: 25～29 | N4: 30～34 | O4: 35～39 | P4: 40～44 | Q4: 45～49 | R4: 50～54 | S4: 55～59 | T4: 60～64 | U4: 65～69 | V4: 70～74 | W4: 75～79 | X4: 80～84 | Y4: 85～89 | Z4: 90～94 | AA4: 95～99 | AB4: 100～ | AC4: 不 詳
B5: 総数
A6: 総数 | B6: =SUM(B18,B30) -> 19343 | C6: =SUM(C18,C30) -> 34 | D6: =SUM(D18,D30) -> 5 | E6: =SUM(E18,E30) -> 3 | F6: =SUM(F18,F30) -> 2 | G6: =SUM(G18,G30) -> 0 | H6: =SUM(H18,H30) -> 44 | I6: =SUM(I18,I30) -> 4 | ... AC6: =SUM(AC18,AC30) -> 0
A7: 中央 | B7: =SUM(B19,B31) -> 2174 | C7: =SUM(C19,C31) -> 6 | D7: =SUM(D19,D31) -> 0 | E7: =SUM(E19,E31) -> 0 | F7: =SUM(F19,F31) -> 0 | G7: =SUM(G19,G31) -> 0 | H7: =SUM(H19,H31) -> 6 | I7: =SUM(I19,I31) -> 0 | ... AC7: =SUM(AC19,AC31) -> 0
A8: 北 | B8: =SUM(B20,B32) -> 2842 | C8: =SUM(C20,C32) -> 3 | D8: =SUM(D20,D32) -> 0 | E8: =SUM(E20,E32) -> 0 | F8: =SUM(F20,F32) -> 0 | G8: =SUM(G20,G32) -> 0 | H8: =SUM(H20,H32) -> 3 | I8: =SUM(I20,I32) -> 2 | ... AC8: =SUM(AC20,AC32) -> 0
A9: 東 | B9: =SUM(B21,B33) -> 2512 | C9: =SUM(C21,C33) -> 5 | D9: =SUM(D21,D33) -> 0 | E9: =SUM(E21,E33) -> 0 | F9: =SUM(F21,F33) -> 0 | G9: =SUM(G21,G33) -> 0 | H9: =SUM(H21,H33) -> 5 | I9: =SUM(I21,I33) -> 1 | ... AC9: =SUM(AC21,AC33) -> 0
A10: 白石 | B10: =SUM(B22,B34) -> 2032 | C10: =SUM(C22,C34) -> 4 | D10: =SUM(D22,D34) -> 2 | E10: =SUM(E22,E34) -> 1 | F10: =SUM(F22,F34) -> 0 | G10: =SUM(G22,G34) -> 0 | H10: =SUM(H22,H34) -> 7 | I10: =SUM(I22,I34) -> 1 | ... AC10: =SUM(AC22,AC34) -> 0
A11: 厚別 | B11: =SUM(B23,B35) -> 1268 | C11: =SUM(C23,C35) -> 3 | D11: =SUM(D23,D35) -> 0 | E11: =SUM(E23,E35) -> 0 | F11: =SUM(F23,F35) -> 0 | G11: =SUM(G23,G35) -> 0 | H11: =SUM(H23,H35) -> 3 | I11: =SUM(I23,I35) -> 0 | ... AC11: =SUM(AC23,AC35) -> 0
A12: 豊平 | B12: =SUM(B24,B36) -> 2047 | C12: =SUM(C24,C36) -> 4 | D12: =SUM(D24,D36) -> 0 | E12: =SUM(E24,E36) -> 0 | F12: =SUM(F24,F36) -> 0 | G12: =SUM(G24,G36) -> 0 | H12: =SUM(H24,H36) -> 4 | I12: =SUM(I24,I36) -> 0 | ... AC12: =SUM(AC24,AC36) -> 0
A13: 清田 | B13: =SUM(B25,B37) -> 1137 | C13: =SUM(C25,C37) -> 2 | D13: =SUM(D25,D37) -> 1 | E13: =SUM(E25,E37) -> 0 | F13: =SUM(F25,F37) -> 1 | G13: =SUM(G25,G37) -> 0 | H13: =SUM(H25,H37) -> 4 | I13: =SUM(I25,I37) -> 0 | ... AC13: =SUM(AC25,AC37) -> 0
A14: 南 | B14: =SUM(B26,B38) -> 1710 | C14: =SUM(C26,C38) -> 2 | D14: =SUM(D26,D38) -> 1 | E14: =SUM(E26,E38) -> 0 | F14: =SUM(F26,F38) -> 1 | G14: =SUM(G26,G38) -> 0 | H14: =SUM(H26,H38) -> 4 | I14: =SUM(I26,I38) -> 0 | ... AC14: =SUM(AC26,AC38) -> 0
A15: 西 | B15: =SUM(B27,B39) -> 2067 | C15: =SUM(C27,C39) -> 3 | D15: =SUM(D27,D39) -> 1 | E15: =SUM(E27,E39) -> 1 | F15: =SUM(F27,F39) -> 0 | G15: =SUM(G27,G39) -> 0 | H15: =SUM(H27,H39) -> 5 | I15: =SUM(I27,I39) -> 0 | ... AC15: =SUM(AC27,AC39) -> 0
A16: 手稲 | B16: =SUM(B28,B40) -> 1554 | C16: =SUM(C28,C40) -> 2 | D16: =SUM(D28,D40) -> 0 | E16: =SUM(E28,E40) -> 1 | F16: =SUM(F28,F40) -> 0 | G16: =SUM(G28,G40) -> 0 | H16: =SUM(H28,H40) -> 3 | I16: =SUM(I28,I40) -> 0 | ... AC16: =SUM(AC28,AC40) -> 0
B17: 男
A18: 総数 | B18: =SUM(B19:B28) -> 9925 | C18: =SUM(C19:C28) -> 16 | D18: =SUM(D19:D28) -> 1 | E18: =SUM(E19:E28) -> 2 | F18: =SUM(F19:F28) -> 0 | G18: =SUM(G19:G28) -> 0 | H18: =SUM(H19:H28) -> 19 | I18: =SUM(I19:I28) -> 3 | ... AC18: =SUM(AC19:AC28) -> 0
A19: 中央 | B19: =SUM(H19:AC19) -> 1056 | C19: 3 | D19: 0 | E19: 0 | F19: 0 | G19: 0 | H19: =SUM(C19:G19) -> 3 | I19: 0 | J19: 0 | K19: 3 | L19: 4 | M19: 5 | N19: 10 | O19: 12 | P19: 9 | Q19: 20 | R19: 16 | S19: 39 | T19: 52 | U19: 73 | V19: 117 | W19: 127 | X19: 194 | Y19: 191 | Z19: 133 | AA19: 40 | AB19: 8 | AC19: 0
A20: 北 | B20: =SUM(H20:AC20) -> 1477 | C20: 2 | D20: 0 | E20: 0 | F20: 0 | G20: 0 | H20: =SUM(C20:G20) -> 2 | I20: 2 | J20: 0 | K20: 2 | L20: 4 | M20: 2 | N20: 5 | O20: 6 | P20: 10 | Q20: 22 | R20: 33 | S20: 41 | T20: 69 | U20: 138 | V20: 163 | W20: 216 | X20: 248 | Y20: 271 | Z20: 178 | AA20: 54 | AB20: 11 | AC20: 0
A21: 東 | B21: =SUM(H21:AC21) -> 1319 | C21: 3 | D21: 0 | E21: 0 | F21: 0 | G21: 0 | H21: =SUM(C21:G21) -> 3 | I21: 0 | J21: 1 | K21: 1 | L21: 6 | M21: 6 | N21: 5 | O21: 7 | P21: 15 | Q21: 22 | R21: 24 | S21: 34 | T21: 71 | U21: 125 | V21: 159 | W21: 181 | X21: 205 | Y21: 252 | Z21: 154 | AA21: 38 | AB21: 10 | AC21: 0
A22: 白石 | B22: =SUM(H22:AC22) -> 1053 | C22: 1 | D22: 1 | E22: 1 | F22: 0 | G22: 0 | H22: =SUM(C22:G22) -> 3 | I22: 1 | J22: 1 | K22: 2 | L22: 4 | M22: 2 | N22: 4 | O22: 7 | P22: 17 | Q22: 12 | R22: 29 | S22: 40 | T22: 60 | U22: 113 | V22: 127 | W22: 144 | X22: 186 | Y22: 175 | Z22: 99 | AA22: 20 | AB22: 7 | AC22: 0
A23: 厚別 | B23: =SUM(H23:AC23) -> 625 | C23: 2 | D23: 0 | E23: 0 | F23: 0 | G23: 0 | H23: =SUM(C23:G23) -> 2 | I23: 0 | J23: 0 | K23: 0 | L23: 1 | M23: 1 | N23: 3 | O23: 2 | P23: 8 | Q23: 4 | R23: 11 | S23: 11 | T23: 31 | U23: 53 | V23: 86 | W23: 87 | X23: 116 | Y23: 122 | Z23: 71 | AA23: 12 | AB23: 4 | AC23: 0
A24: 豊平 | B24: =SUM(H24:AC24) -> 1047 | C24: 2 | D24: 0 | E24: 0 | F24: 0 | G24: 0 | H24: =SUM(C24:G24) -> 2 | I24: 0 | J24: 1 | K24: 3 | L24: 1 | M24: 5 | N24: 2 | O24: 8 | P24: 9 | Q24: 6 | R24: 23 | S24: 40 | T24: 50 | U24: 78 | V24: 116 | W24: 139 | X24: 196 | Y24: 208 | Z24: 115 | AA24: 40 | AB24: 5 | AC24: 0
A25: 清田 | B25: =SUM(H25:AC25) -> 600 | C25: 1 | D25: 0 | E25: 0 | F25: 0 | G25: 0 | H25: =SUM(C25:G25) -> 1 | I25: 0 | J25: 0 | K25: 0 | L25: 1 | M25: 0 | N25: 2 | O25: 4 | P25: 6 | Q25: 9 | R25: 13 | S25: 14 | T25: 26 | U25: 50 | V25: 77 | W25: 78 | X25: 112 | Y25: 120 | Z25: 62 | AA25: 20 | AB25: 5 | AC25: 0
A26: 南 | B26: =SUM(H26:AC26) -> 886 | C26: 1 | D26: 0 | E26: 0 | F26: 0 | G26: 0 | H26: =SUM(C26:G26) -> 1 | I26: 0 | J26: 1 | K26: 2 | L26: 1 | M26: 0 | N26: 2 | O26: 3 | P26: 6 | Q26: 9 | R26: 20 | S26: 24 | T26: 25 | U26: 79 | V26: 110 | W26: 130 | X26: 168 | Y26: 164 | Z26: 109 | AA26: 24 | AB26: 8 | AC26: 0
A27: 西 | B27: =SUM(H27:AC27) -> 1055 | C27: 1 | D27: 0 | E27: 0 | F27: 0 | G27: 0 | H27: =SUM(C27:G27) -> 1 | I27: 0 | J27: 2 | K27: 1 | L27: 4 | M27: 3 | N27: 4 | O27: 5 | P27: 6 | Q27: 13 | R27: 18 | S27: 32 | T27: 45 | U27: 101 | V27: 115 | W27: 162 | X27: 181 | Y27: 197 | Z27: 127 | AA27: 33 | AB27: 5 | AC27: 0
A28: 手稲 | B28: =SUM(H28:AC28) -> 807 | C28: 0 | D28: 0 | E28: 1 | F28: 0 | G28: 0 | H28: =SUM(C28:G28) -> 1 | I28: 0 | J28: 0 | K28: 1 | L28: 1 | M28: 0 | N28: 3 | O28: 2 | P28: 3 | Q28: 6 | R28: 7 | S28: 13 | T28: 27 | U28: 82 | V28: 104 | W28: 139 | X28: 132 | Y28: 133 | Z28: 111 | AA28: 36 | AB28: 6 | AC28: 0
B29: 女
A30: 総数 | B30: =SUM(B31:B40) -> 9418 | C30: =SUM(C31:C40) -> 18 | D30: =SUM(D31:D40) -> 4 | E30: =SUM(E31:E40) -> 1 | F30: =SUM(F31:F40) -> 2 | G30: =SUM(G31:G40) -> 0 | H30: =SUM(H31:H40) -> 25 | I30: =SUM(I31:I40) -> 1 | ... AC30: =SUM(AC31:AC40) -> 0
A31: 中央 | B31: =SUM(H31:AC31) -> 1118 | C31: 3 | D31: 0 | E31: 0 | F31: 0 | G31: 0 | H31: =SUM(C31:G31) -> 3 | I31: 0 | J31: 0 | K31: 1 | L31: 2 | M31: 2 | N31: 2 | O31: 4 | P31: 5 | Q31: 14 | R31: 15 | S31: 23 | T31: 24 | U31: 64 | V31: 57 | W31: 95 | X31: 173 | Y31: 214 | Z31: 244 | AA31: 140 | AB31: 36 | AC31: 0
A32: 北 | B32: =SUM(H32:AC32) -> 1365 | C32: 1 | D32: 0 | E32: 0 | F32: 0 | G32: 0 | H32: =SUM(C32:G32) -> 1 | I32: 0 | J32: 0 | K32: 0 | L32: 2 | M32: 3 | N32: 1 | O32: 3 | P32: 12 | Q32: 18 | R32: 11 | S32: 20 | T32: 55 | U32: 56 | V32: 108 | W32: 129 | X32: 188 | Y32: 264 | Z32: 258 | AA32: 184 | AB32: 52 | AC32: 0
A33: 東 | B33: =SUM(H33:AC33) -> 1193 | C33: 2 | D33: 0 | E33: 0 | F33: 0 | G33: 0 | H33: =SUM(C33:G33) -> 2 | I33: 1 | J33: 0 | K33: 1 | L33: 2 | M33: 2 | N33: 4 | O33: 3 | P33: 9 | Q33: 5 | R33: 21 | S33: 29 | T33: 32 | U33: 63 | V33: 64 | W33: 101 | X33: 173 | Y33: 244 | Z33: 248 | AA33: 147 | AB33: 42 | AC33: 0
A34: 白石 | B34: =SUM(H34:AC34) -> 979 | C34: 3 | D34: 1 | E34: 0 | F34: 0 | G34: 0 | H34: =SUM(C34:G34) -> 4 | I34: 0 | J34: 0 | K34: 0 | L34: 1 | M34: 2 | N34: 1 | O34: 3 | P34: 8 | Q34: 17 | R34: 18 | S34: 17 | T34: 20 | U34: 60 | V34: 58 | W34: 103 | X34: 135 | Y34: 208 | Z34: 183 | AA34: 107 | AB34: 34 | AC34: 0
A35: 厚別 | B35: =SUM(H35:AC35) -> 643 | C35: 1 | D35: 0 | E35: 0 | F35: 0 | G35: 0 | H35: =SUM(C35:G35) -> 1 | I35: 0 | J35: 0 | K35: 0 | L35: 1 | M35: 0 | N35: 1 | O35: 0 | P35: 4 | Q35: 5 | R35: 8 | S35: 16 | T35: 21 | U35: 30 | V35: 44 | W35: 46 | X35: 97 | Y35: 145 | Z35: 126 | AA35: 80 | AB35: 18 | AC35: 0
A36: 豊平 | B36: =SUM(H36:AC36) -> 1000 | C36: 2 | D36: 0 | E36: 0 | F36: 0 | G36: 0 | H36: =SUM(C36:G36) -> 2 | I36: 0 | J36: 0 | K36: 0 | L36: 1 | M36: 0 | N36: 4 | O36: 6 | P36: 4 | Q36: 11 | R36: 16 | S36: 19 | T36: 29 | U36: 60 | V36: 59 | W36: 94 | X36: 127 | Y36: 201 | Z36: 233 | AA36: 109 | AB36: 25 | AC36: 0
A37: 清田 | B37: =SUM(H37:AC37) -> 537 | C37: 1 | D37: 1 | E37: 0 | F37: 1 | G37: 0 | H37: =SUM(C37:G37) -> 3 | I37: 0 | J37: 0 | K37: 0 | L37: 0 | M37: 0 | N37: 1 | O37: 1 | P37: 2 | Q37: 3 | R37: 5 | S37: 12 | T37: 10 | U37: 24 | V37: 36 | W37: 48 | X37: 62 | Y37: 134 | Z37: 120 | AA37: 60 | AB37: 16 | AC37: 0
A38: 南 | B38: =SUM(H38:AC38) -> 824 | C38: 1 | D38: 1 | E38: 0 | F38: 1 | G38: 0 | H38: =SUM(C38:G38) -> 3 | I38: 0 | J38: 0 | K38: 1 | L38: 4 | M38: 0 | N38: 2 | O38: 3 | P38: 5 | Q38: 7 | R38: 10 | S38: 21 | T38: 13 | U38: 45 | V38: 42 | W38: 76 | X38: 116 | Y38: 176 | Z38: 180 | AA38: 94 | AB38: 26 | AC38: 0
A39: 西 | B39: =SUM(H39:AC39) -> 1012 | C39: 2 | D39: 1 | E39: 1 | F39: 0 | G39: 0 | H39: =SUM(C39:G39) -> 4 | I39: 0 | J39: 0 | K39: 1 | L39: 0 | M39: 1 | N39: 2 | O39: 4 | P39: 12 | Q39: 8 | R39: 17 | S39: 23 | T39: 29 | U39: 49 | V39: 68 | W39: 105 | X39: 152 | Y39: 191 | Z39: 200 | AA39: 111 | AB39: 35 | AC39: 0
A40: 手稲 | B40: =SUM(H40:AC40) -> 747 | C40: 2 | D40: 0 | E40: 0 | F40: 0 | G40: 0 | H40: =SUM(C40:G40) -> 2 | I40: 0 | J40: 1 | K40: 0 | L40: 0 | M40: 0 | N40: 1 | O40: 9 | P40: 5 | Q40: 3 | R40: 6 | S40: 8 | T40: 19 | U40: 30 | V40: 47 | W40: 74 | X40: 97 | Y40: 153 | Z40: 165 | AA40: 96 | AB40: 31 | AC40: 0

Sheet 10-1 年次別，選択死因分類別死亡数及・率
A1: 10 年次別にみた選択死因分類(主要死因)別死亡数
A3: 簡単分類 番 号 | B3: 死因 | D3: 1985 昭和60年 | E3: 1986 61年 | F3: 1987 62年 | G3: 1988 63年 | H3: 1989 平成元年 | I3: 1990 2年 | J3: 1991 3年 | K3: 1992 4年 | L3: 1993 5年 | M3: 1994 6年
B4: 死 亡 総 数 | D4: 7226 | E4: 7127 | F4: 7074 | G4: 7761 | H4: 8103 | I4: 8278 | J4: 8342 | K4: 8808 | L4: 9428 | M4: 8934
A5: 5～6 | B5: 結 核 | D5: 54 | E5: 39 | F5: 28 | G5: 37 | H5: 29 | I5: 32 | J5: 23 | K5: 28 | L5: 29 | M5: 32
A6: 28～37 | B6: 悪性新生物 | D6: 1986 | E6: 2057 | F6: 2071 | G6: 2288 | H6: 2524 | I6: 2483 | J6: 2569 | K6: 2684 | L6: 2767 | M6: 2779
A7: 28 | B7: （再掲） | C7: 食 道 | D7: 65 | E7: 87 | F7: 83 | G7: 69 | H7: 92 | I7: 105 | J7: 106 | K7: 120 | L7: 95 | M7: 93
A8: 29 | C8: 胃 | D8: 457 | E8: 431 | F8: 423 | G8: 502 | H8: 509 | I8: 453 | J8: 477 | K8: 456 | L8: 479 | M8: 495
A9: 30 | C9: 直腸、直腸Ｓ状結腸移行部及び肛門 | D9: 94 | E9: 78 | F9: 83 | G9: 97 | H9: 104 | I9: 98 | J9: 96 | K9: 90 | L9: 131 | M9: 112
A10: 31 | C10: 肝 | D10: 210 | E10: 212 | F10: 198 | G10: 226 | H10: 229 | I10: 224 | J10: 230 | K10: 287 | L10: 293 | M10: 272
A11: 32 | C11: 膵 | D11: 136 | E11: 144 | F11: 180 | G11: 143 | H11: 186 | I11: 213 | J11: 171 | K11: 181 | L11: 174 | M11: 215
A12: 33 | C12: 気管、気管支及び肺 | D12: 284 | E12: 338 | F12: 343 | G12: 373 | H12: 439 | I12: 426 | J12: 441 | K12: 508 | L12: 476 | M12: 524
A13: 34 | C13: 乳 房 | D13: 72 | E13: 72 | F13: 71 | G13: 78 | H13: 90 | I13: 91 | J13: 90 | K13: 83 | L13: 120 | M13: 92
A14: 35 | C14: 子 宮 | D14: 57 | E14: 48 | F14: 52 | G14: 58 | H14: 58 | I14: 42 | J14: 74 | K14: 52 | L14: 50 | M14: 57
A15: 36 | C15: 白 血 病 | D15: 72 | E15: 64 | F15: 63 | G15: 60 | H15: 75 | I15: 67 | J15: 55 | K15: 66 | L15: 73 | M15: 75
A16: 39 | B16: 糖 尿 病 | D16: 89 | E16: 98 | F16: 98 | G16: 101 | H16: 108 | I16: 121 | J16: 126 | K16: 106 | L16: 123 | M16: 125
A17: 48～49 | B17: 高血圧性疾患 | D17: 69 | E17: 70 | F17: 74 | G17: 46 | H17: 43 | I17: 53 | J17: 56 | K17: 49 | L17: 57 | M17: 51
A18: 46、 51～52、 54～56 | B18: 心 疾 患 | D18: 1511 | E18: 1468 | F18: 1496 | G18: 1716 | H18: 1673 | I18: 1786 | J18: 1714 | K18: 1894 | L18: 1944 | M18: 1637
A19: 51 | B19: （再掲） | C19: 急性心筋梗塞 | D19: 374 | E19: 344 | F19: 369 | G19: 389 | H19: 364 | I19: 370 | J19: 345 | K19: 391 | L19: 375 | M19: 387
A20: 52 | C20: その他虚血性心疾患 | D20: 249 | E20: 237 | F20: 199 | G20: 259 | H20: 227 | I20: 258 | J20: 212 | K20: 203 | L20: 228 | M20: 196
A21: 55 | C21: 心 不 全 | D21: 697 | E21: 700 | F21: 736 | G21: 874 | H21: 874 | I21: 955 | J21: 944 | K21: 1068 | L21: 1120 | M21: 814
A22: 58～60 | B22: 脳血管疾患 | D22: 1075 | E22: 940 | F22: 908 | G22: 899 | H22: 906 | I22: 859 | J22: 905 | K22: 955 | L22: 982 | M22: 1005
A23: 59 | B23: （再掲） | C23: 脳 梗 塞 | D23: 523 | E23: 466 | F23: 449 | G23: 457 | H23: 494 | I23: 463 | J23: 470 | K23: 539 | L23: 539 | M23: 535
A24: 62、63、66 | B24: 肺炎及び気管支炎 | D24: 544 | E24: 502 | F24: 500 | G24: 589 | H24: 745 | I24: 870 | J24: 776 | K24: 861 | L24: 1142 | M24: 971
A25: 63 | B25: （再掲） | C25: 肺 炎 | D25: 485 | E25: 471 | F25: 453 | G25: 537 | H25: 685 | I25: 820 | J25: 732 | K25: 806 | L25: 1066 | M25: 909
A26: 68 | B26: 喘 息 | D26: 39 | E26: 53 | F26: 51 | G26: 52 | H26: 43 | I26: 59 | J26: 43 | K26: 47 | L26: 42 | M26: 50
A27: 69 | B27: 胃及び十二指腸潰瘍 | D27: 33 | E27: 29 | F27: 36 | G27: 29 | H27: 30 | I27: 25 | J27: 28 | K27: 33 | L27: 29 | M27: 33
A28: 73 | B28: 慢性肝疾患及び肝硬変 | D28: 152 | E28: 176 | F28: 128 | G28: 165 | H28: 171 | I28: 153 | J28: 176 | K28: 169 | L28: 192 | M28: 161
A29: 76～77 | B29: 腎炎、ネフローゼ症候群 及びネフローゼ | D29: 176 | E29: 184 | F29: 206 | G29: 207 | H29: 220 | I29: 230 | J29: 229 | K29: 248 | L29: 229 | M29: 255
A30: 88 | B30: 精神病の記載のない老衰 | D30: 67 | E30: 54 | F30: 53 | G30: 65 | H30: 44 | I30: 40 | J30: 47 | K30: 45 | L30: 44 | M30: 39
A31: E104～E114 | B31: 不慮の事故及び有害作用 | D31: 266 | E31: 265 | F31: 255 | G31: 302 | H31: 274 | I31: 343 | J31: 304 | K31: 296 | L31: 326 | M31: 349
A32: E104 | B32: （再掲） | C32: 自動車事故 | D32: 138 | E32: 140 | F32: 122 | G32: 152 | H32: 166 | I32: 203 | J32: 158 | K32: 157 | L32: 149 | M32: 159
A33: E115 | B33: 自 殺 | D33: 261 | E33: 287 | F33: 238 | G33: 275 | H33: 251 | I33: 208 | J33: 192 | K33: 219 | L33: 241 | M33: 222

Sheet 10-2 年次別，選択死因分類別死亡数及・率
A3: 選択死因 分類コード | B3: 死因 | D3: 1995 平成7年 | E3: 1996 8年 | F3: 1997 9年 | G3: 1998 10年 | H3: 1999 11年 | I3: 2000 12年 | J3: 2001 13年 | K3: 2002 14年 | L3: 2003 15年 | M3: 2004 16年 | N3: 2005 17年 | O3: 2006 18年 | P3: 2007 19年 | Q3: 2008 20年 | R3: 2009 21年 | S3: 2010 22年 | T3: 2011 23年 | U3: 2012 24年 | V3: 2013 25年 | W3: 2014 26年 | X3: 2015 27年 | Y3: 2016 28年 | Z3: 2017 29年 | AA3: 2018 30年
B4: 死 亡 総 数 | D4: 9398 | E4: 9512 | F4: 9840 | G4: 9995 | H4: 10806 | I4: 10800 | J4: 10803 | K4: 11151 | L4: 11769 | M4: 12348 | N4: 13105 | O4: 13268 | P4: 14044 | Q4: 14366 | R4: 14506 | S4: 15482 | T4: 15926 | U4: 16228 | V4: 16844 | W4: 17668 | X4: 17523 | Y4: 18504 | Z4: 18668 | AA4: ='11 区別，選択死因分類別死亡数・率'!$F$5 -> 19343
A5: Se 01 | B5: 結 核 | D5: 33 | E5: 18 | F5: 20 | G5: 28 | H5: 32 | I5: 16 | J5: 24 | K5: 31 | L5: 33 | M5: 21 | N5: 25 | O5: 18 | P5: 32 | Q5: 12 | R5: 24 | S5: 26 | T5: 14 | U5: 19 | V5: 22 | W5: 22 | X5: 14 | Y5: 14 | Z5: 23 | AA5: ='11 区別，選択死因分類別死亡数・率'!$F$8 -> 24
A6: Se 02 | B6: 悪性新生物 | D6: 3083 | E6: 3295 | F6: 3352 | G6: 3439 | H6: 3515 | I6: 3727 | J6: 3765 | K6: 3926 | L6: 3997 | M6: 4372 | N6: 4490 | O6: 4565 | P6: 4695 | Q6: 4735 | R6: 4981 | S6: 5256 | T6: 5326 | U6: 5302 | V6: 5674 | W6: 5783 | X6: 5769 | Y6: 6003 | Z6: 5908 | AA6: ='11 区別，選択死因分類別死亡数・率'!$F$11 -> 6115
A7: Se 03 | B7: （再掲） | C7: 食道の悪性新生物 | D7: 112 | E7: 120 | F7: 124 | G7: 121 | H7: 138 | I7: 124 | J7: 163 | K7: 161 | L7: 171 | M7: 165 | N7: 181 | O7: 172 | P7: 180 | Q7: 188 | R7: 169 | S7: 182 | T7: 160 | U7: 187 | V7: 190 | W7: 202 | X7: 166 | Y7: 187 | Z7: 166 | AA7: ='11 区別，選択死因分類別死亡数・率'!$F$14 -> 201
A8: Se 04 | C8: 胃の悪性新生物 | D8: 511 | E8: 555 | F8: 539 | G8: 535 | H8: 534 | I8: 606 | J8: 577 | K8: 531 | L8: 534 | M8: 601 | N8: 602 | O8: 623 | P8: 605 | Q8: 573 | R8: 617 | S8: 629 | T8: 584 | U8: 626 | V8: 652 | W8: 628 | X8: 573 | Y8: 599 | Z8: 597 | AA8: ='11 区別，選択死因分類別死亡数・率'!$F$17 -> 602
A9: Se 05 | C9: 結腸の悪性新生物 | D9: 236 | E9: 293 | F9: 307 | G9: 314 | H9: 304 | I9: 322 | J9: 342 | K9: 341 | L9: 367 | M9: 354 | N9: 370 | O9: 386 | P9: 381 | Q9: 384 | R9: 428 | S9: 438 | T9: 498 | U9: 449 | V9: 530 | W9: 524 | X9: 515 | Y9: 569 | Z9: 562 | AA9: ='11 区別，選択死因分類別死亡数・率'!$F$20 -> 587
A10: Se 06 | C10: 直腸Ｓ状結腸移行部及び直腸の悪性新生物 | D10: 114 | E10: 130 | F10: 127 | G10: 135 | H10: 143 | I10: 153 | J10: 180 | K10: 167 | L10: 168 | M10: 189 | N10: 218 | O10: 175 | P10: 169 | Q10: 169 | R10: 174 | S10: 194 | T10: 205 | U10: 204 | V10: 207 | W10: 204 | X10: 220 | Y10: 239 | Z10: 235 | AA10: ='11 区別，選択死因分類別死亡数・率'!$F$23 -> 244
A11: Se 07 | C11: 肝及び肝内胆管の悪性新生物 | D11: 341 | E11: 313 | F11: 360 | G11: 342 | H11: 323 | I11: 384 | J11: 313 | K11: 361 | L11: 385 | M11: 418 | N11: 373 | O11: 382 | P11: 382 | Q11: 433 | R11: 406 | S11: 431 | T11: 400 | U11: 386 | V11: 400 | W11: 407 | X11: 391 | Y11: 369 | Z11: 417 | AA11: ='11 区別，選択死因分類別死亡数・率'!$F$26 -> 403
A12: Se 08 | C12: 胆のう及びその他の胆道の悪性新生物 | D12: 172 | E12: 180 | F12: 185 | G12: 147 | H12: 170 | I12: 200 | J12: 189 | K12: 199 | L12: 205 | M12: 201 | N12: 242 | O12: 212 | P12: 216 | Q12: 244 | R12: 249 | S12: 249 | T12: 253 | U12: 255 | V12: 248 | W12: 250 | X12: 273 | Y12: 234 | Z12: 246 | AA12: ='11 区別，選択死因分類別死亡数・率'!$F$29 -> 263
A13: Se 09 | C13: 膵の悪性新生物 | D13: 226 | E13: 219 | F13: 245 | G13: 268 | H13: 258 | I13: 290 | J13: 249 | K13: 322 | L13: 320 | M13: 377 | N13: 367 | O13: 374 | P13: 429 | Q13: 440 | R13: 455 | S13: 499 | T13: 491 | U13: 563 | V13: 535 | W13: 583 | X13: 599 | Y13: 631 | Z13: 632 | AA13: ='11 区別，選択死因分類別死亡数・率'!$F$32 -> 634
A14: Se 10 | C14: 気管、気管支及び肺の悪性新生物 | D14: 561 | E14: 617 | F14: 581 | G14: 622 | H14: 665 | I14: 634 | J14: 709 | K14: 742 | L14: 725 | M14: 867 | N14: 907 | O14: 950 | P14: 976 | Q14: 981 | R14: 1104 | S14: 1111 | T14: 1176 | U14: 1094 | V14: 1253 | W14: 1282 | X14: 1292 | Y14: 1334 | Z14: 1301 | AA14: ='11 区別，選択死因分類別死亡数・率'!$F$35 -> 1317
A15: Se 11 | C15: 乳房の悪性新生物 | D15: 122 | E15: 103 | F15: 129 | G15: 136 | H15: 140 | I15: 145 | J15: 164 | K15: 159 | L15: 149 | M15: 185 | N15: 177 | O15: 186 | P15: 227 | Q15: 210 | R15: 188 | S15: 239 | T15: 232 | U15: 212 | V15: 274 | W15: 245 | X15: 260 | Y15: 254 | Z15: 275 | AA15: ='11 区別，選択死因分類別死亡数・率'!$F$38 -> 273
A16: Se 12 | C16: 子宮の悪性新生物 | D16: 50 | E16: 61 | F16: 54 | G16: 61 | H16: 72 | I16: 62 | J16: 70 | K16: 69 | L16: 74 | M16: 77 | N16: 74 | O16: 78 | P16: 82 | Q16: 85 | R16: 75 | S16: 94 | T16: 98 | U16: 98 | V16: 89 | W16: 105 | X16: 91 | Y16: 103 | Z16: 83 | AA16: ='11 区別，選択死因分類別死亡数・率'!$F$41 -> 107
A17: Se 13 | C17: 白 血 病 | D17: 69 | E17: 74 | F17: 71 | G17: 73 | H17: 84 | I17: 98 | J17: 83 | K17: 75 | L17: 95 | M17: 97 | N17: 83 | O17: 96 | P17: 97 | Q17: 102 | R17: 107 | S17: 103 | T17: 123 | U17: 110 | V17: 123 | W17: 121 | X17: 118 | Y17: 147 | Z17: 117 | AA17: ='11 区別，選択死因分類別死亡数・率'!$F$44 -> 136
A18: Se 14 | B18: 糖 尿 病 | D18: 142 | E18: 133 | F18: 130 | G18: 144 | H18: 158 | I18: 141 | J18: 161 | K18: 136 | L18: 140 | M18: 132 | N18: 164 | O18: 174 | P18: 177 | Q18: 188 | R18: 173 | S18: 189 | T18: 211 | U18: 174 | V18: 184 | W18: 202 | X18: 185 | Y18: 198 | Z18: 242 | AA18: ='11 区別，選択死因分類別死亡数・率'!$F$47 -> 241
A19: Se 15 | B19: 高血圧性疾患 | D19: 47 | E19: 45 | F19: 39 | G19: 39 | H19: 34 | I19: 39 | J19: 42 | K19: 44 | L19: 40 | M19: 40 | N19: 34 | O19: 43 | P19: 46 | Q19: 51 | R19: 42 | S19: 51 | T19: 59 | U19: 51 | V19: 59 | W19: 77 | X19: 73 | Y19: 71 | Z19: 105 | AA19: ='11 区別，選択死因分類別死亡数・率'!$F$50 -> 94
A20: Se 16 | B20: 心疾患(高血圧性を除く） | D20: 1574 | E20: 1536 | F20: 1541 | G20: 1591 | H20: 1726 | I20: 1651 | J20: 1669 | K20: 1624 | L20: 1761 | M20: 1793 | N20: 1933 | O20: 2074 | P20: 2268 | Q20: 2219 | R20: 2137 | S20: 2313 | T20: 2421 | U20: 2363 | V20: 2287 | W20: 2393 | X20: 2303 | Y20: 2414 | Z20: 2482 | AA20: ='11 区別，選択死因分類別死亡数・率'!$F$53 -> 2540
A21: Se 17 | B21: （再掲） | C21: 急性心筋梗塞 | D21: 573 | E21: 507 | F21: 515 | G21: 532 | H21: 548 | I21: 507 | J21: 451 | K21: 422 | L21: 507 | M21: 506 | N21: 481 | O21: 477 | P21: 485 | Q21: 434 | R21: 432 | S21: 451 | T21: 419 | U21: 388 | V21: 390 | W21: 380 | X21: 341 | Y21: 347 | Z21: 334 | AA21: ='11 区別，選択死因分類別死亡数・率'!$F$56 -> 291
A22: Se 18 | C22: その他の虚血性心疾患 | D22: 229 | E22: 233 | F22: 227 | G22: 201 | H22: 199 | I22: 201 | J22: 222 | K22: 198 | L22: 241 | M22: 213 | N22: 240 | O22: 245 | P22: 261 | Q22: 249 | R22: 224 | S22: 277 | T22: 290 | U22: 320 | V22: 300 | W22: 323 | X22: 302 | Y22: 314 | Z22: 377 | AA22: ='11 区別，選択死因分類別死亡数・率'!$F$59 -> 438
A23: Se 19 | C23: 不整脈及び伝導障害 | D23: 146 | E23: 135 | F23: 140 | G23: 147 | H23: 200 | I23: 213 | J23: 242 | K23: 224 | L23: 175 | M23: 200 | N23: 256 | O23: 306 | P23: 316 | Q23: 330 | R23: 259 | S23: 308 | T23: 357 | U23: 238 | V23: 331 | W23: 377 | X23: 356 | Y23: 379 | Z23: 303 | AA23: ='11 区別，選択死因分類別死亡数・率'!$F$62 -> 286
A24: Se 20 | C24: 心 不 全 | D24: 427 | E24: 454 | F24: 461 | G24: 511 | H24: 561 | I24: 535 | J24: 526 | K24: 543 | L24: 540 | M24: 653 | N24: 723 | O24: 804 | P24: 971 | Q24: 950 | R24: 995 | S24: 1035 | T24: 1125 | U24: 1143 | V24: 1022 | W24: 1039 | X24: 1032 | Y24: 1053 | Z24: 1146 | AA24: ='11 区別，選択死因分類別死亡数・率'!$F$65 -> 1223
A25: Se 21 | B25: 脳血管疾患 | D25: 1278 | E25: 1292 | F25: 1345 | G25: 1307 | H25: 1418 | I25: 1439 | J25: 1341 | K25: 1415 | L25: 1468 | M25: 1423 | N25: 1598 | O25: 1408 | P25: 1492 | Q25: 1380 | R25: 1335 | S25: 1372 | T25: 1368 | U25: 1348 | V25: 1384 | W25: 1389 | X25: 1361 | Y25: 1448 | Z25: 1441 | AA25: ='11 区別，選択死因分類別死亡数・率'!$F$68 -> 1418
A26: Se 22 | B26: （再掲） | C26: くも膜下出血 | D26: 194 | E26: 190 | F26: 184 | G26: 204 | H26: 213 | I26: 245 | J26: 200 | K26: 221 | L26: 237 | M26: 216 | N26: 258 | O26: 208 | P26: 201 | Q26: 170 | R26: 150 | S26: 170 | T26: 145 | U26: 163 | V26: 147 | W26: 147 | X26: 172 | Y26: 180 | Z26: 179 | AA26: ='11 区別，選択死因分類別死亡数・率'!$F$71 -> 165
A27: Se 23 | C27: 脳 内 出 血 | D27: 271 | E27: 293 | F27: 308 | G27: 311 | H27: 331 | I27: 283 | J27: 296 | K27: 373 | L27: 372 | M27: 307 | N27: 405 | O27: 336 | P27: 370 | Q27: 376 | R27: 373 | S27: 369 | T27: 421 | U27: 372 | V27: 403 | W27: 403 | X27: 390 | Y27: 456 | Z27: 432 | AA27: ='11 区別，選択死因分類別死亡数・率'!$F$74 -> 440
A28: Se 24 | C28: 脳 梗 塞 | D28: 761 | E28: 772 | F28: 828 | G28: 765 | H28: 846 | I28: 884 | J28: 827 | K28: 801 | L28: 837 | M28: 875 | N28: 895 | O28: 845 | P28: 888 | Q28: 811 | R28: 786 | S28: 814 | T28: 785 | U28: 785 | V28: 807 | W28: 819 | X28: 773 | Y28: 783 | Z28: 809 | AA28: ='11 区別，選択死因分類別死亡数・率'!$F$77 -> 795
A29: Se 25 | B29: 大動脈瘤及び解離 | D29: 92 | E29: 82 | F29: 89 | G29: 88 | H29: 94 | I29: 107 | J29: 128 | K29: 139 | L29: 134 | M29: 128 | N29: 151 | O29: 152 | P29: 149 | Q29: 192 | R29: 200 | S29: 207 | T29: 197 | U29: 214 | V29: 230 | W29: 223 | X29: 250 | Y29: 266 | Z29: 304 | AA29: ='11 区別，選択死因分類別死亡数・率'!$F$80 -> 266
A30: Se 26 | B30: 肺 炎 | D30: 727 | E30: 689 | F30: 728 | G30: 748 | H30: 910 | I30: 820 | J30: 803 | K30: 820 | L30: 960 | M30: 1022 | N30: 1054 | O30: 1117 | P30: 1172 | Q30: 1298 | R30: 1222 | S30: 1439 | T30: 1473 | U30: 1581 | V30: 1477 | W30: 1597 | X30: 1567 | Y30: 1736 | Z30: 1360 | AA30: ='11 区別，選択死因分類別死亡数・率'!$F$83 -> 1348
A31: Se 27 | B31: 慢性閉塞性肺疾患 | D31: 129 | E31: 102 | F31: 122 | G31: 93 | H31: 120 | I31: 125 | J31: 128 | K31: 121 | L31: 144 | M31: 147 | N31: 138 | O31: 134 | P31: 164 | Q31: 179 | R31: 172 | S31: 194 | T31: 181 | U31: 191 | V31: 191 | W31: 183 | X31: 193 | Y31: 201 | Z31: 253 | AA31: ='11 区別，選択死因分類別死亡数・率'!$F$86 -> 223
A32: Se 28 | B32: 喘 息 | D32: 61 | E32: 47 | F32: 52 | G32: 52 | H32: 47 | I32: 54 | J32: 38 | K32: 34 | L32: 31 | M32: 19 | N32: 32 | O32: 29 | P32: 28 | Q32: 26 | R32: 27 | S32: 24 | T32: 30 | U32: 27 | V32: 20 | W32: 22 | X32: 19 | Y32: 18 | Z32: 22 | AA32: ='11 区別，選択死因分類別死亡数・率'!$F$89 -> 26
A33: Se 29 | B33: 肝 疾 患 | D33: 156 | E33: 158 | F33: 183 | G33: 145 | H33: 166 | I33: 148 | J33: 135 | K33: 150 | L33: 148 | M33: 166 | N33: 169 | O33: 159 | P33: 157 | Q33: 181 | R33: 201 | S33: 167 | T33: 184 | U33: 223 | V33: 183 | W33: 212 | X33: 228 | Y33: 216 | Z33: 270 | AA33: ='11 区別，選択死因分類別死亡数・率'!$F$92 -> 245
A34: Se 30 | B34: 腎 不 全 | D34: 204 | E34: 228 | F34: 234 | G34: 198 | H34: 222 | I34: 228 | J34: 257 | K34: 289 | L34: 278 | M34: 236 | N34: 291 | O34: 287 | P34: 326 | Q34: 341 | R34: 356 | S34: 329 | T34: 411 | U34: 387 | V34: 407 | W34: 400 | X34: 418 | Y34: 436 | Z34: 392 | AA34: ='11 区別，選択死因分類別死亡数・率'!$F$95 -> 412
A35: Se 31 | B35: 老 衰 | D35: 42 | E35: 48 | F35: 55 | G35: 53 | H35: 71 | I35: 80 | J35: 84 | K35: 98 | L35: 104 | M35: 119 | N35: 121 | O35: 128 | P35: 151 | Q35: 169 | R35: 231 | S35: 222 | T35: 256 | U35: 392 | V35: 514 | W35: 626 | X35: 715 | Y35: 893 | Z35: 957 | AA35: ='11 区別，選択死因分類別死亡数・率'!$F$98 -> 1019
A36: Se 32 | B36: 不慮の事故 | D36: 377 | E36: 356 | F36: 370 | G36: 322 | H36: 360 | I36: 355 | J36: 375 | K36: 363 | L36: 390 | M36: 399 | N36: 346 | O36: 415 | P36: 372 | Q36: 367 | R36: 383 | S36: 387 | T36: 449 | U36: 366 | V36: 370 | W36: 411 | X36: 395 | Y36: 449 | Z36: 436 | AA36: ='11 区別，選択死因分類別死亡数・率'!$F$101 -> 483
A37: Se 33 | B37: （再掲） | C37: 交 通 事 故 | D37: 171 | E37: 156 | F37: 172 | G37: 111 | H37: 134 | I37: 130 | J37: 143 | K37: 133 | L37: 116 | M37: 105 | N37: 86 | O37: 91 | P37: 84 | Q37: 64 | R37: 55 | S37: 67 | T37: 57 | U37: 51 | V37: 53 | W37: 57 | X37: 49 | Y37: 50 | Z37: 44 | AA37: ='11 区別，選択死因分類別死亡数・率'!$F$104 -> 40
A38: Se 34 | B38: 自 殺 | D38: 228 | E38: 248 | F38: 308 | G38: 413 | H38: 442 | I38: 475 | J38: 351 | K38: 394 | L38: 467 | M38: 442 | N38: 472 | O38: 409 | P38: 419 | Q38: 477 | R38: 420 | S38: 431 | T38: 434 | U38: 403 | V38: 374 | W38: 345 | X38: 322 | Y38: 315 | Z38: 319 | AA38: ='11 区別，選択死因分類別死亡数・率'!$F$107 -> 299

Sheet 11 区別，選択死因分類別死亡数・率
A1: 11 区・性別にみた選択死因分類別死亡数・粗死亡率及び年齢調整死亡率（人口10万対)
AL2: ='3 月・性別，区別死亡数'!$O$2 -> 平成30年
A3: 選択死因 分類コード | B3: 死因・性 | F3: 死 亡 数 | Q3: 粗 死 亡 率 （人口10万対） | AB3: 年 齢 調 整 死 亡 率 （人口10万対） 1)
F4: 総数 | G4: 中央区 | H4: 北区 | I4: 東区 | J4: 白石区 | K4: 厚別区 | L4: 豊平区 | M4: 清田区 | N4: 南区 | O4: 西区 | P4: 手稲区 | Q4: 総数 | R4: 中央区 | S4: 北区 | T4: 東区 | U4: 白石区 | V4: 厚別区 | W4: 豊平区 | X4: 清田区 | Y4: 南区 | Z4: 西区 | AA4: 手稲区 | AB4: 総数 | AC4: 中央区 | AD4: 北区 | AE4: 東区 | AF4: 白石区 | AG4: 厚別区 | AH4: 豊平区 | AI4: 清田区 | AJ4: 南区 | AK4: 西区 | AL4: 手稲区
B5: 死 亡 総 数 | E5: 総数 | F5: ='12 区別，5歳階級別，選択死因分類別死亡数'!F7 -> 19343 | G5: ='12-10'!F7 -> 2174 | H5: ='12-20'!F7 -> 2842 | I5: ='12-30'!F7 -> 2512 | J5: ='12-40'!F7 -> 2032 | K5: ='12-45'!F7 -> 1268 | L5: ='12-50'!F7 -> 2047 | M5: ='12-55'!F7 -> 1137 | N5: ='12-60'!F7 -> 1710 | O5: ='12-70'!F7 -> 2067 | P5: ='12-75'!F7 -> 1554 | Q5: =F5/[1]人口!$B$39*100000 -> 983.90592 | R5: =G5/[1]人口!$C$39*100000 -> 894.95957 | S5: =H5/[1]人口!$D$39*100000 -> 986.4151 | T5: =I5/[1]人口!$E$39*100000 -> 950.85604 | U5: =J5/[1]人口!$F$39*100000 -> 960.77467 | V5: =K5/[1]人口!$G$39*100000 -> 1004.5156 | W5: =L5/[1]人口!$H$39*100000 -> 921.89766 | X5: =M5/[1]人口!$I$39*100000 -> 986.36269 | Y5: =N5/[1]人口!$J$39*100000 -> 1240.4698 | Z5: =O5/[1]人口!$K$39*100000 -> 957.20147 | AA5: =P5/[1]人口!$L$39*100000 -> 1095.1837 | AB5: =調整死亡率算出!E11 -> 347.98424 | AC5: ='12-10 算出'!E11 -> 354.46529 | AD5: ='12-20 算出'!E11 -> 356.11848 | AE5: ='12-30 算出'!E11 -> 359.43728 | AF5: ='12-40 算出'!E11 -> 379.38531 | AG5: ='12-45 算出'!E11 -> 310.65065 | AH5: ='12-50 算出'!E11 -> 338.06892 | AI5: ='12-55 算出'!E11 -> 332.4555 | AJ5: ='12-60 算出'!E11 -> 357.5644 | AK5: ='12-70 算出'!E11 -> 334.74267 | AL5: ='12-75 算出'!E11 -> 338.46986
E6: 男 | F6: ='12 区別，5歳階級別，選択死因分類別死亡数'!F8 -> 9925 | G6: ='12-10'!F8 -> 1056 | H6: ='12-20'!F8 -> 1477 | I6: ='12-30'!F8 -> 1319 | J6: ='12-40'!F8 -> 1053 | K6: ='12-45'!F8 -> 625 | L6: ='12-50'!F8 -> 1047 | M6: ='12-55'!F8 -> 600 | N6: ='12-60'!F8 -> 886 | O6: ='12-70'!F8 -> 1055 | P6: ='12-75'!F8 -> 807 | Q6: =F6/[1]人口!$B$40*100000 -> 1084.8761 | R6: =G6/[1]人口!$C$40*100000 -> 961.40715 | S6: =H6/[1]人口!$D$40*100000 -> 1086.6207 | T6: =I6/[1]人口!$E$40*100000 -> 1050.9374 | U6: =J6/[1]人口!$F$40*100000 -> 1057.0803 | V6: =K6/[1]人口!$G$40*100000 -> 1089.0968 | W6: =L6/[1]人口!$H$40*100000 -> 1018.9583 | X6: =M6/[1]人口!$I$40*100000 -> 1104.0777 | Y6: =N6/[1]人口!$J$40*100000 -> 1394.5289 | Z6: =O6/[1]人口!$K$40*100000 -> 1060.2056 | AA6: =P6/[1]人口!$L$40*100000 -> 1214.648 | AB6: =調整死亡率算出!E12 -> 478.34869 | AC6: ='12-10 算出'!E12 -> 497.33685 | AD6: ='12-20 算出'!E12 -> 488.47706 | AE6: ='12-30 算出'!E12 -> 502.58314 | AF6: ='12-40 算出'!E12 -> 526.66759 | AG6: ='12-45 算出'!E12 -> 412.83451 | AH6: ='12-50 算出'!E12 -> 468.67661 | AI6: ='12-55 算出'!E12 -> 465.13764 | AJ6: ='12-60 算出'!E12 -> 475.32083 | AK6: ='12-70 算出'!E12 -> 450.89561 | AL6: ='12-75 算出'!E12 -> 459.63725
E7: 女 | F7: ='12 区別，5歳階級別，選択死因分類別死亡数'!F9 -> 9418 | G7: ='12-10'!F9 -> 1118 | H7: ='12-20'!F9 -> 1365 | I7: ='12-30'!F9 -> 1193 | J7: ='12-40'!F9 -> 979 | K7: ='12-45'!F9 -> 643 | L7: ='12-50'!F9 -> 1000 | M7: ='12-55'!F9 -> 537 | N7: ='12-60'!F9 -> 824 | O7: ='12-70'!F9 -> 1012 | P7: ='12-75'!F9 -> 747 | Q7: =F7/[1]人口!$B$41*100000 -> 896.02308 | R7: =G7/[1]人口!$C$41*100000 -> 840.11512 | S7: =H7/[1]人口!$D$41*100000 -> 896.91697 | T7: =I7/[1]人口!$E$41*100000 -> 860.27864 | U7: =J7/[1]人口!$F$41*100000 -> 875.02905 | V7: =K7/[1]人口!$G$41*100000 -> 934.00927 | W7: =L7/[1]人口!$H$41*100000 -> 838.29323 | X7: =M7/[1]人口!$I$41*100000 -> 881.36817 | Y7: =N7/[1]人口!$J$41*100000 -> 1108.7638 | Z7: =O7/[1]人口!$K$41*100000 -> 869.16939 | AA7: =P7/[1]人口!$L$41*100000 -> 989.99404 | AB7: =調整死亡率算出!E13 -> 252.65219 | AC7: ='12-10 算出'!E13 -> 258.01452 | AD7: ='12-20 算出'!E13 -> 258.7492 | AE7: ='12-30 算出'!E13 -> 253.52017 | AF7: ='12-40 算出'!E13 -> 266.28329 | AG7: ='12-45 算出'!E13 -> 234.01486 | AH7: ='12-50 算出'!E13 -> 245.61016 | AI7: ='12-55 算出'!E13 -> 231.04324 | AJ7: ='12-60 算出'!E13 -> 269.92694 | AK7: ='12-70 算出'!E13 -> 252.76173 | AL7: ='12-75 算出'!E13 -> 251.12741
A8: Se 01 | B8: 結 核 | E8: 総数 | F8: ='12 区別，5歳階級別，選択死因分類別死亡数'!F10 -> 24 | G8: ='12-10'!F10 -> 4 | H8: ='12-20'!F10 -> 2 | I8: ='12-30'!F10 -> 4 | J8: ='12-40'!F10 -> 3 | K8: ='12-45'!F10 -> 1 | L8: ='12-50'!F10 -> 0 | M8: ='12-55'!F10 -> 2 | N8: ='12-60'!F10 -> 2 | O8: ='12-70'!F10 -> 2 | P8: ='12-75'!F10 -> 4 | Q8: =F8/[1]人口!$B$39*100000 -> 1.2207901 | R8: =G8/[1]人口!$C$39*100000 -> 1.6466598 | S8: =H8/[1]人口!$D$39*100000 -> 0.69416967 | T8: =I8/[1]人口!$E$39*100000 -> 1.514102 | U8: =J8/[1]人口!$F$39*100000 -> 1.4184665 | V8: =K8/[1]人口!$G$39*100000 -> 0.79220471 | W8: =L8/[1]人口!$H$39*100000 -> 0 | X8: =M8/[1]人口!$I$39*100000 -> 1.7350267 | Y8: =N8/[1]人口!$J$39*100000 -> 1.4508419 | Z8: =O8/[1]人口!$K$39*100000 -> 0.92617462 | AA8: =P8/[1]人口!$L$39*100000 -> 2.8190057 | AB8: =調整死亡率算出!E14 -> 0.28349543 | AC8: ='12-10 算出'!E14 -> 0.36239522 | AD8: ='12-20 算出'!E14 -> 0.20582349 | AE8: ='12-30 算出'!E14 -> 0.42811111 | AF8: ='12-40 算出'!E14 -> 0.37646877 | AG8: ='12-45 算出'!E14 -> 0.12045361 | AH8: ='12-50 算出'!E14 -> 0 | AI8: ='12-55 算出'!E14 -> 0.28542785 | AJ8: ='12-60 算出'!E14 -> 0.35462751 | AK8: ='12-70 算出'!E14 -> 0.14185972 | AL8: ='12-75 算出'!E14 -> 0.64916549
E9: 男 | F9: ='12 区別，5歳階級別，選択死因分類別死亡数'!F11 -> 10 | G9: ='12-10'!F11 -> 3 | H9: ='12-20'!F11 -> 1 | I9: ='12-30'!F11 -> 1 | J9: ='12-40'!F11 -> 0 | K9: ='12-45'!F11 -> 0 | L9: ='12-50'!F11 -> 0 | M9: ='12-55'!F11 -> 0 | N9: ='12-60'!F11 -> 2 | O9: ='12-70'!F11 -> 1 | P9: ='12-75'!F11 -> 2 | Q9: =F9/[1]人口!$B$40*100000 -> 1.0930742 | R9: =G9/[1]人口!$C$40*100000 -> 2.7312703 | S9: =H9/[1]人口!$D$40*100000 -> 0.73569442 | T9: =I9/[1]人口!$E$40*100000 -> 0.79676831 | U9: =J9/[1]人口!$F$40*100000 -> 0 | V9: =K9/[1]人口!$G$40*100000 -> 0 | W9: =L9/[1]人口!$H$40*100000 -> 0 | X9: =M9/[1]人口!$I$40*100000 -> 0 | Y9: =N9/[1]人口!$J$40*100000 -> 3.1479208 | Z9: =O9/[1]人口!$K$40*100000 -> 1.0049342 | AA9: =P9/[1]人口!$L$40*100000 -> 3.0102801 | AB9: =調整死亡率算出!E15 -> 0.38013661 | AC9: ='12-10 算出'!E15 -> 0.918995 | AD9: ='12-20 算出'!E15 -> 0.34476949 | AE9: ='12-30 算出'!E15 -> 0.33444095 | AF9: ='12-40 算出'!E15 -> 0 | AG9: ='12-45 算出'!E15 -> 0 | AH9: ='12-50 算出'!E15 -> 0 | AI9: ='12-55 算出'!E15 -> 0 | AJ9: ='12-60 算出'!E15 -> 0.86495427 | AK9: ='12-70 算出'!E15 -> 0.23521274 | AL9: ='12-75 算出'!E15 -> 1.0944486
E10: 女 | F10: ='12 区別，5歳階級別，選択死因分類別死亡数'!F12 -> 14 | G10: ='12-10'!F12 -> 1 | H10: ='12-20'!F12 -> 1 | I10: ='12-30'!F12 -> 3 | J10: ='12-40'!F12 -> 3 | K10: ='12-45'!F12 -> 1 | L10: ='12-50'!F12 -> 0 | M10: ='12-55'!F12 -> 2 | N10: ='12-60'!F12 -> 0 | O10: ='12-70'!F12 -> 1 | P10: ='12-75'!F12 -> 2 | Q10: =F10/[1]人口!$B$41*100000 -> 1.3319519 | R10: =G10/[1]人口!$C$41*100000 -> 0.75144465 | S10: =H10/[1]人口!$D$41*100000 -> 0.65708203 | T10: =I10/[1]人口!$E$41*100000 -> 2.1633159 | U10: =J10/[1]人口!$F$41*100000 -> 2.6813965 | V10: =K10/[1]人口!$G$41*100000 -> 1.4525805 | W10: =L10/[1]人口!$H$41*100000 -> 0 | X10: =M10/[1]人口!$I$41*100000 -> 3.282563 | Y10: =N10/[1]人口!$J$41*100000 -> 0 | Z10: =O10/[1]人口!$K$41*100000 -> 0.85886304 | AA10: =P10/[1]人口!$L$41*100000 -> 2.6505864 | AB10: =調整死亡率算出!E16 -> 0.2146683 | AC10: ='12-10 算出'!E16 -> 0.09993476 | AD10: ='12-20 算出'!E16 -> 0.083754113 | AE10: ='12-30 算出'!E16 -> 0.47240992 | AF10: ='12-40 算出'!E16 -> 0.5962765 | AG10: ='12-45 算出'!E16 -> 0.1736676 | AH10: ='12-50 算出'!E16 -> 0 | AI10: ='12-55 算出'!E16 -> 0.40902071 | AJ10: ='12-60 算出'!E16 -> 0 | AK10: ='12-70 算出'!E16 -> 0.10155415 | AL10: ='12-75 算出'!E16 -> 0.2972068
A11: Se 02 | B11: 悪性新生物 | E11: 総数 | F11: ='12 区別，5歳階級別，選択死因分類別死亡数'!F13 -> 6115 | G11: ='12-10'!F13 -> 675 | H11: ='12-20'!F13 -> 914 | I11: ='12-30'!F13 -> 804 | J11: ='12-40'!F13 -> 690 | K11: ='12-45'!F13 -> 417 | L11: ='12-50'!F13 -> 628 | M11: ='12-55'!F13 -> 336 | N11: ='12-60'!F13 -> 527 | O11: ='12-70'!F13 -> 649 | P11: ='12-75'!F13 -> 475 | Q11: =F11/[1]人口!$B$39*100000 -> 311.04713 | R11: =G11/[1]人口!$C$39*100000 -> 277.87383 | S11: =H11/[1]人口!$D$39*100000 -> 317.23554 | T11: =I11/[1]人口!$E$39*100000 -> 304.3345 | U11: =J11/[1]人口!$F$39*100000 -> 326.2473 | V11: =K11/[1]人口!$G$39*100000 -> 330.34936 | W11: =L11/[1]人口!$H$39*100000 -> 282.82937 | X11: =M11/[1]人口!$I$39*100000 -> 291.48449 | Y11: =N11/[1]人口!$J$39*100000 -> 382.29683 | Z11: =O11/[1]人口!$K$39*100000 -> 300.54366 | AA11: =P11/[1]人口!$L$39*100000 -> 334.75693 | AB11: =調整死亡率算出!E17 -> 128.35828 | AC11: ='12-10 算出'!E17 -> 128.55568 | AD11: ='12-20 算出'!E17 -> 132.40106 | AE11: ='12-30 算出'!E17 -> 132.71232 | AF11: ='12-40 算出'!E17 -> 146.39916 | AG11: ='12-45 算出'!E17 -> 126.80301 | AH11: ='12-50 算出'!E17 -> 125.73909 | AI11: ='12-55 算出'!E17 -> 111.29524 | AJ11: ='12-60 算出'!E17 -> 130.5137 | AK11: ='12-70 算出'!E17 -> 121.52429 | AL11: ='12-75 算出'!E17 -> 119.11882
E12: 男 | F12: ='12 区別，5歳階級別，選択死因分類別死亡数'!F14 -> 3430 | G12: ='12-10'!F14 -> 344 | H12: ='12-20'!F14 -> 517 | I12: ='12-30'!F14 -> 473 | J12: ='12-40'!F14 -> 383 | K12: ='12-45'!F14 -> 238 | L12: ='12-50'!F14 -> 342 | M12: ='12-55'!F14 -> 200 | N12: ='12-60'!F14 -> 291 | O12: ='12-70'!F14 -> 352 | P12: ='12-75'!F14 -> 290 | Q12: =F12/[1]人口!$B$40*100000 -> 374.92444 | R12: =G12/[1]人口!$C$40*100000 -> 313.18566 | S12: =H12/[1]人口!$D$40*100000 -> 380.35402 | T12: =I12/[1]人口!$E$40*100000 -> 376.87141 | U12: =J12/[1]人口!$F$40*100000 -> 384.48411 | V12: =K12/[1]人口!$G$40*100000 -> 414.72807 | W12: =L12/[1]人口!$H$40*100000 -> 332.84024 | X12: =M12/[1]人口!$I$40*100000 -> 368.02591 | Y12: =N12/[1]人口!$J$40*100000 -> 458.02248 | Z12: =O12/[1]人口!$K$40*100000 -> 353.73685 | AA12: =P12/[1]人口!$L$40*100000 -> 436.49062 | AB12: =調整死亡率算出!E18 -> 170.92571 | AC12: ='12-10 算出'!E18 -> 167.85625 | AD12: ='12-20 算出'!E18 -> 175.84598 | AE12: ='12-30 算出'!E18 -> 182.61641 | AF12: ='12-40 算出'!E18 -> 196.9972 | AG12: ='12-45 算出'!E18 -> 170.82076 | AH12: ='12-50 算出'!E18 -> 164.83724 | AI12: ='12-55 算出'!E18 -> 155.78624 | AJ12: ='12-60 算出'!E18 -> 161.44637 | AK12: ='12-70 算出'!E18 -> 154.46874 | AL12: ='12-75 算出'!E18 -> 169.45179
E13: 女 | F13: ='12 区別，5歳階級別，選択死因分類別死亡数'!F15 -> 2685 | G13: ='12-10'!F15 -> 331 | H13: ='12-20'!F15 -> 397 | I13: ='12-30'!F15 -> 331 | J13: ='12-40'!F15 -> 307 | K13: ='12-45'!F15 -> 179 | L13: ='12-50'!F15 -> 286 | M13: ='12-55'!F15 -> 136 | N13: ='12-60'!F15 -> 236 | O13: ='12-70'!F15 -> 297 | P13: ='12-75'!F15 -> 185 | Q13: =F13/[1]人口!$B$41*100000 -> 255.44935 | R13: =G13/[1]人口!$C$41*100000 -> 248.72818 | S13: =H13/[1]人口!$D$41*100000 -> 260.86157 | T13: =I13/[1]人口!$E$41*100000 -> 238.68586 | U13: =J13/[1]人口!$F$41*100000 -> 274.39624 | V13: =K13/[1]人口!$G$41*100000 -> 260.01191 | W13: =L13/[1]人口!$H$41*100000 -> 239.75187 | X13: =M13/[1]人口!$I$41*100000 -> 223.21429 | Y13: =N13/[1]人口!$J$41*100000 -> 317.55857 | Z13: =O13/[1]人口!$K$41*100000 -> 255.08232 | AA13: =P13/[1]人口!$L$41*100000 -> 245.17925 | AB13: =調整死亡率算出!E19 -> 98.7429 | AC13: ='12-10 算出'!E19 -> 103.58041 | AD13: ='12-20 算出'!E19 -> 101.93663 | AE13: ='12-30 算出'!E19 -> 98.733378 | AF13: ='12-40 算出'!E19 -> 108.86002 | AG13: ='12-45 算出'!E19 -> 94.618128 | AH13: ='12-50 算出'!E19 -> 98.976446 | AI13: ='12-55 算出'!E19 -> 77.255503 | AJ13: ='12-60 算出'!E19 -> 109.74073 | AK13: ='12-70 算出'!E19 -> 99.98569 | AL13: ='12-75 算出'!E19 -> 83.157428
A14: Se 03 | B14: (再掲) | C14: 食道の悪性新生物 | E14: 総数 | F14: ='12 区別，5歳階級別，選択死因分類別死亡数'!F16 -> 201 | G14: ='12-10'!F16 -> 21 | H14: ='12-20'!F16 -> 28 | I14: ='12-30'!F16 -> 25 | J14: ='12-40'!F16 -> 18 | K14: ='12-45'!F16 -> 17 | L14: ='12-50'!F16 -> 22 | M14: ='12-55'!F16 -> 9 | N14: ='12-60'!F16 -> 18 | O14: ='12-70'!F16 -> 21 | P14: ='12-75'!F16 -> 22 | Q14: =F14/[1]人口!$B$39*100000 -> 10.224117 | R14: =G14/[1]人口!$C$39*100000 -> 8.6449637 | S14: =H14/[1]人口!$D$39*100000 -> 9.7183754 | T14: =I14/[1]人口!$E$39*100000 -> 9.4631373 | U14: =J14/[1]人口!$F$39*100000 -> 8.5107993 | V14: =K14/[1]人口!$G$39*100000 -> 13.46748 | W14: =L14/[1]人口!$H$39*100000 -> 9.9080354 | X14: =M14/[1]人口!$I$39*100000 -> 7.8076202 | Y14: =N14/[1]人口!$J$39*100000 -> 13.057577 | Z14: =O14/[1]人口!$K$39*100000 -> 9.7248335 | AA14: =P14/[1]人口!$L$39*100000 -> 15.504532 | AB14: =調整死亡率算出!E20 -> 4.7233965 | AC14: ='12-10 算出'!E20 -> 5.5981869 | AD14: ='12-20 算出'!E20 -> 4.2652072 | AE14: ='12-30 算出'!E20 -> 4.3486442 | AF14: ='12-40 算出'!E20 -> 4.4477926 | AG14: ='12-45 算出'!E20 -> 5.1411925 | AH14: ='12-50 算出'!E20 -> 4.8601423 | AI14: ='12-55 算出'!E20 -> 3.8238952 | AJ14: ='12-60 算出'!E20 -> 4.9357937 | AK14: ='12-70 算出'!E20 -> 3.966306 | AL14: ='12-75 算出'!E20 -> 5.9877308
E15: 男 | F15: ='12 区別，5歳階級別，選択死因分類別死亡数'!F17 -> 156 | G15: ='12-10'!F17 -> 14 | H15: ='12-20'!F17 -> 20 | I15: ='12-30'!F17 -> 19 | J15: ='12-40'!F17 -> 14 | K15: ='12-45'!F17 -> 14 | L15: ='12-50'!F17 -> 15 | M15: ='12-55'!F17 -> 9 | N15: ='12-60'!F17 -> 13 | O15: ='12-70'!F17 -> 19 | P15: ='12-75'!F17 -> 19 | Q15: =F15/[1]人口!$B$40*100000 -> 17.051957 | R15: =G15/[1]人口!$C$40*100000 -> 12.745928 | S15: =H15/[1]人口!$D$40*100000 -> 14.713888 | T15: =I15/[1]人口!$E$40*100000 -> 15.138598 | U15: =J15/[1]人口!$F$40*100000 -> 14.054249 | V15: =K15/[1]人口!$G$40*100000 -> 24.395769 | W15: =L15/[1]人口!$H$40*100000 -> 14.598256 | X15: =M15/[1]人口!$I$40*100000 -> 16.561166 | Y15: =N15/[1]人口!$J$40*100000 -> 20.461485 | Z15: =O15/[1]人口!$K$40*100000 -> 19.09375 | AA15: =P15/[1]人口!$L$40*100000 -> 28.597661 | AB15: =調整死亡率算出!E21 -> 8.2946595 | AC15: ='12-10 算出'!E21 -> 8.1296874 | AD15: ='12-20 算出'!E21 -> 7.103946 | AE15: ='12-30 算出'!E21 -> 7.3727097 | AF15: ='12-40 算出'!E21 -> 7.318228 | AG15: ='12-45 算出'!E21 -> 10.015201 | AH15: ='12-50 算出'!E21 -> 7.5069132 | AI15: ='12-55 算出'!E21 -> 8.2560004 | AJ15: ='12-60 算出'!E21 -> 9.0643607 | AK15: ='12-70 算出'!E21 -> 8.0310328 | AL15: ='12-75 算出'!E21 -> 12.360977
E16: 女 | F16: ='12 区別，5歳階級別，選択死因分類別死亡数'!F18 -> 45 | G16: ='12-10'!F18 -> 7 | H16: ='12-20'!F18 -> 8 | I16: ='12-30'!F18 -> 6 | J16: ='12-40'!F18 -> 4 | K16: ='12-45'!F18 -> 3 | L16: ='12-50'!F18 -> 7 | M16: ='12-55'!F18 -> 0 | N16: ='12-60'!F18 -> 5 | O16: ='12-70'!F18 -> 2 | P16: ='12-75'!F18 -> 3 | Q16: =F16/[1]人口!$B$41*100000 -> 4.281274 | R16: =G16/[1]人口!$C$41*100000 -> 5.2601126 | S16: =H16/[1]人口!$D$41*100000 -> 5.2566562 | T16: =I16/[1]人口!$E$41*100000 -> 4.3266319 | U16: =J16/[1]人口!$F$41*100000 -> 3.5751953 | V16: =K16/[1]人口!$G$41*100000 -> 4.3577415 | W16: =L16/[1]人口!$H$41*100000 -> 5.8680526 | X16: =M16/[1]人口!$I$41*100000 -> 0 | Y16: =N16/[1]人口!$J$41*100000 -> 6.7279357 | Z16: =O16/[1]人口!$K$41*100000 -> 1.7177261 | AA16: =P16/[1]人口!$L$41*100000 -> 3.9758797 | AB16: =調整死亡率算出!E22 -> 1.9888871 | AC16: ='12-10 算出'!E22 -> 3.767835 | AD16: ='12-20 算出'!E22 -> 2.0219099 | AE16: ='12-30 算出'!E22 -> 2.1137261 | AF16: ='12-40 算出'!E22 -> 2.364931 | AG16: ='12-45 算出'!E22 -> 1.4733577 | AH16: ='12-50 算出'!E22 -> 3.091201 | AI16: ='12-55 算出'!E22 -> 0 | AJ16: ='12-60 算出'!E22 -> 1.4410558 | AK16: ='12-70 算出'!E22 -> 1.121548 | AL16: ='12-75 算出'!E22 -> 0.80150929
A17: Se 04 | C17: 胃の悪性新生物 | E17: 総数 | F17: ='12 区別，5歳階級別，選択死因分類別死亡数'!F19 -> 602 | G17: ='12-10'!F19 -> 64 | H17: ='12-20'!F19 -> 78 | I17: ='12-30'!F19 -> 86 | J17: ='12-40'!F19 -> 60 | K17: ='12-45'!F19 -> 34 | L17: ='12-50'!F19 -> 65 | M17: ='12-55'!F19 -> 39 | N17: ='12-60'!F19 -> 62 | O17: ='12-70'!F19 -> 59 | P17: ='12-75'!F19 -> 55 | Q17: =F17/[1]人口!$B$39*100000 -> 30.621484 | R17: =G17/[1]人口!$C$39*100000 -> 26.346556 | S17: =H17/[1]人口!$D$39*100000 -> 27.072617 | T17: =I17/[1]人口!$E$39*100000 -> 32.553192 | U17: =J17/[1]人口!$F$39*100000 -> 28.369331 | V17: =K17/[1]人口!$G$39*100000 -> 26.93496 | W17: =L17/[1]人口!$H$39*100000 -> 29.273741 | X17: =M17/[1]人口!$I$39*100000 -> 33.833021 | Y17: =N17/[1]人口!$J$39*100000 -> 44.976097 | Z17: =O17/[1]人口!$K$39*100000 -> 27.322151 | AA17: =P17/[1]人口!$L$39*100000 -> 38.761329 | AB17: =調整死亡率算出!E23 -> 11.748148 | AC17: ='12-10 算出'!E23 -> 11.310281 | AD17: ='12-20 算出'!E23 -> 10.656046 | AE17: ='12-30 算出'!E23 -> 13.049154 | AF17: ='12-40 算出'!E23 -> 12.254125 | AG17: ='12-45 算出'!E23 -> 8.5266627 | AH17: ='12-50 算出'!E23 -> 13.144031 | AI17: ='12-55 算出'!E23 -> 11.762698 | AJ17: ='12-60 算出'!E23 -> 12.9705 | AK17: ='12-70 算出'!E23 -> 9.7847537 | AL17: ='12-75 算出'!E23 -> 13.564391
E18: 男 | F18: ='12 区別，5歳階級別，選択死因分類別死亡数'!F20 -> 369 | G18: ='12-10'!F20 -> 37 | H18: ='12-20'!F20 -> 51 | I18: ='12-30'!F20 -> 54 | J18: ='12-40'!F20 -> 39 | K18: ='12-45'!F20 -> 24 | L18: ='12-50'!F20 -> 35 | M18: ='12-55'!F20 -> 26 | N18: ='12-60'!F20 -> 44 | O18: ='12-70'!F20 -> 28 | P18: ='12-75'!F20 -> 31 | Q18: =F18/[1]人口!$B$40*100000 -> 40.334437 | R18: =G18/[1]人口!$C$40*100000 -> 33.685667 | S18: =H18/[1]人口!$D$40*100000 -> 37.520416 | T18: =I18/[1]人口!$E$40*100000 -> 43.025489 | U18: =J18/[1]人口!$F$40*100000 -> 39.151123 | V18: =K18/[1]人口!$G$40*100000 -> 41.821318 | W18: =L18/[1]人口!$H$40*100000 -> 34.062597 | X18: =M18/[1]人口!$I$40*100000 -> 47.843368 | Y18: =N18/[1]人口!$J$40*100000 -> 69.254258 | Z18: =O18/[1]人口!$K$40*100000 -> 28.138158 | AA18: =P18/[1]人口!$L$40*100000 -> 46.659342 | AB18: =調整死亡率算出!E24 -> 17.717901 | AC18: ='12-10 算出'!E24 -> 17.191121 | AD18: ='12-20 算出'!E24 -> 16.53896 | AE18: ='12-30 算出'!E24 -> 20.262086 | AF18: ='12-40 算出'!E24 -> 18.997246 | AG18: ='12-45 算出'!E24 -> 15.279923 | AH18: ='12-50 算出'!E24 -> 17.101046 | AI18: ='12-55 算出'!E24 -> 18.848563 | AJ18: ='12-60 算出'!E24 -> 21.742018 | AK18: ='12-70 算出'!E24 -> 12.556416 | AL18: ='12-75 算出'!E24 -> 18.380715
E19: 女 | F19: ='12 区別，5歳階級別，選択死因分類別死亡数'!F21 -> 233 | G19: ='12-10'!F21 -> 27 | H19: ='12-20'!F21 -> 27 | I19: ='12-30'!F21 -> 32 | J19: ='12-40'!F21 -> 21 | K19: ='12-45'!F21 -> 10 | L19: ='12-50'!F21 -> 30 | M19: ='12-55'!F21 -> 13 | N19: ='12-60'!F21 -> 18 | O19: ='12-70'!F21 -> 31 | P19: ='12-75'!F21 -> 24 | Q19: =F19/[1]人口!$B$41*100000 -> 22.167485 | R19: =G19/[1]人口!$C$41*100000 -> 20.289006 | S19: =H19/[1]人口!$D$41*100000 -> 17.741215 | T19: =I19/[1]人口!$E$41*100000 -> 23.07537 | U19: =J19/[1]人口!$F$41*100000 -> 18.769775 | V19: =K19/[1]人口!$G$41*100000 -> 14.525805 | W19: =L19/[1]人口!$H$41*100000 -> 25.148797 | X19: =M19/[1]人口!$I$41*100000 -> 21.33666 | Y19: =N19/[1]人口!$J$41*100000 -> 24.220569 | Z19: =O19/[1]人口!$K$41*100000 -> 26.624754 | AA19: =P19/[1]人口!$L$41*100000 -> 31.807037 | AB19: =調整死亡率算出!E25 -> 7.4684715 | AC19: ='12-10 算出'!E25 -> 7.5247964 | AD19: ='12-20 算出'!E25 -> 6.3990506 | AE19: ='12-30 算出'!E25 -> 7.7004134 | AF19: ='12-40 算出'!E25 -> 7.3838306 | AG19: ='12-45 算出'!E25 -> 3.7592641 | AH19: ='12-50 算出'!E25 -> 10.41584 | AI19: ='12-55 算出'!E25 -> 6.0857682 | AJ19: ='12-60 算出'!E25 -> 6.7523669 | AK19: ='12-70 算出'!E25 -> 7.6238841 | AL19: ='12-75 算出'!E25 -> 9.8303024
A20: Se 05 | C20: 結腸の悪性新生物 | E20: 総数 | F20: ='12 区別，5歳階級別，選択死因分類別死亡数'!F22 -> 587 | G20: ='12-10'!F22 -> 61 | H20: ='12-20'!F22 -> 85 | I20: ='12-30'!F22 -> 73 | J20: ='12-40'!F22 -> 66 | K20: ='12-45'!F22 -> 50 | L20: ='12-50'!F22 -> 69 | M20: ='12-55'!F22 -> 30 | N20: ='12-60'!F22 -> 48 | O20: ='12-70'!F22 -> 69 | P20: ='12-75'!F22 -> 36 | Q20: =F20/[1]人口!$B$39*100000 -> 29.85849 | R20: =G20/[1]人口!$C$39*100000 -> 25.111561 | S20: =H20/[1]人口!$D$39*100000 -> 29.502211 | T20: =I20/[1]人口!$E$39*100000 -> 27.632361 | U20: =J20/[1]人口!$F$39*100000 -> 31.206264 | V20: =K20/[1]人口!$G$39*100000 -> 39.610235 | W20: =L20/[1]人口!$H$39*100000 -> 31.075202 | X20: =M20/[1]人口!$I$39*100000 -> 26.025401 | Y20: =N20/[1]人口!$J$39*100000 -> 34.820204 | Z20: =O20/[1]人口!$K$39*100000 -> 31.953024 | AA20: =P20/[1]人口!$L$39*100000 -> 25.371052 | AB20: =調整死亡率算出!E26 -> 11.519597 | AC20: ='12-10 算出'!E26 -> 9.5178911 | AD20: ='12-20 算出'!E26 -> 11.525408 | AE20: ='12-30 算出'!E26 -> 12.10249 | AF20: ='12-40 算出'!E26 -> 13.999357 | AG20: ='12-45 算出'!E26 -> 13.182605 | AH20: ='12-50 算出'!E26 -> 12.765689 | AI20: ='12-55 算出'!E26 -> 9.9970615 | AJ20: ='12-60 算出'!E26 -> 11.193126 | AK20: ='12-70 算出'!E26 -> 12.643275 | AL20: ='12-75 算出'!E26 -> 7.5849077
E21: 男 | F21: ='12 区別，5歳階級別，選択死因分類別死亡数'!F23 -> 295 | G21: ='12-10'!F23 -> 22 | H21: ='12-20'!F23 -> 41 | I21: ='12-30'!F23 -> 36 | J21: ='12-40'!F23 -> 34 | K21: ='12-45'!F23 -> 25 | L21: ='12-50'!F23 -> 36 | M21: ='12-55'!F23 -> 15 | N21: ='12-60'!F23 -> 27 | O21: ='12-70'!F23 -> 35 | P21: ='12-75'!F23 -> 24 | Q21: =F21/[1]人口!$B$40*100000 -> 32.245688 | R21: =G21/[1]人口!$C$40*100000 -> 20.029316 | S21: =H21/[1]人口!$D$40*100000 -> 30.163471 | T21: =I21/[1]人口!$E$40*100000 -> 28.683659 | U21: =J21/[1]人口!$F$40*100000 -> 34.131749 | V21: =K21/[1]人口!$G$40*100000 -> 43.563873 | W21: =L21/[1]人口!$H$40*100000 -> 35.035814 | X21: =M21/[1]人口!$I$40*100000 -> 27.601943 | Y21: =N21/[1]人口!$J$40*100000 -> 42.496931 | Z21: =O21/[1]人口!$K$40*100000 -> 35.172698 | AA21: =P21/[1]人口!$L$40*100000 -> 36.123361 | AB21: =調整死亡率算出!E27 -> 14.73926 | AC21: ='12-10 算出'!E27 -> 10.207665 | AD21: ='12-20 算出'!E27 -> 13.950796 | AE21: ='12-30 算出'!E27 -> 15.247652 | AF21: ='12-40 算出'!E27 -> 18.833109 | AG21: ='12-45 算出'!E27 -> 18.282597 | AH21: ='12-50 算出'!E27 -> 16.048744 | AI21: ='12-55 算出'!E27 -> 11.681788 | AJ21: ='12-60 算出'!E27 -> 15.052584 | AK21: ='12-70 算出'!E27 -> 14.924911 | AL21: ='12-75 算出'!E27 -> 12.958519
E22: 女 | F22: ='12 区別，5歳階級別，選択死因分類別死亡数'!F24 -> 292 | G22: ='12-10'!F24 -> 39 | H22: ='12-20'!F24 -> 44 | I22: ='12-30'!F24 -> 37 | J22: ='12-40'!F24 -> 32 | K22: ='12-45'!F24 -> 25 | L22: ='12-50'!F24 -> 33 | M22: ='12-55'!F24 -> 15 | N22: ='12-60'!F24 -> 21 | O22: ='12-70'!F24 -> 34 | P22: ='12-75'!F24 -> 12 | Q22: =F22/[1]人口!$B$41*100000 -> 27.780711 | R22: =G22/[1]人口!$C$41*100000 -> 29.306341 | S22: =H22/[1]人口!$D$41*100000 -> 28.911609 | T22: =I22/[1]人口!$E$41*100000 -> 26.680896 | U22: =J22/[1]人口!$F$41*100000 -> 28.601562 | V22: =K22/[1]人口!$G$41*100000 -> 36.314513 | W22: =L22/[1]人口!$H$41*100000 -> 27.663677 | X22: =M22/[1]人口!$I$41*100000 -> 24.619223 | Y22: =N22/[1]人口!$J$41*100000 -> 28.25733 | Z22: =O22/[1]人口!$K$41*100000 -> 29.201343 | AA22: =P22/[1]人口!$L$41*100000 -> 15.903519 | AB22: =調整死亡率算出!E28 -> 9.0949579 | AC22: ='12-10 算出'!E28 -> 8.8044264 | AD22: ='12-20 算出'!E28 -> 9.7097303 | AE22: ='12-30 算出'!E28 -> 9.2787214 | AF22: ='12-40 算出'!E28 -> 10.097494 | AG22: ='12-45 算出'!E28 -> 9.0911832 | AH22: ='12-50 算出'!E28 -> 10.680678 | AI22: ='12-55 算出'!E28 -> 8.7443397 | AJ22: ='12-60 算出'!E28 -> 8.4138188 | AK22: ='12-70 算出'!E28 -> 11.180271 | AL22: ='12-75 算出'!E28 -> 3.5374627
A23: Se 06 | C23: 直腸Ｓ状結腸移行部及び直腸の悪性新生物 | E23: 総数 | F23: ='12 区別，5歳階級別，選択死因分類別死亡数'!F25 -> 244 | G23: ='12-10'!F25 -> 19 | H23: ='12-20'!F25 -> 44 | I23: ='12-30'!F25 -> 35 | J23: ='12-40'!F25 -> 26 | K23: ='12-45'!F25 -> 21 | L23: ='12-50'!F25 -> 27 | M23: ='12-55'!F25 -> 14 | N23: ='12-60'!F25 -> 23 | O23: ='12-70'!F25 -> 24 | P23: ='12-75'!F25 -> 11 | Q23: =F23/[1]人口!$B$39*100000 -> 12.411366 | R23: =G23/[1]人口!$C$39*100000 -> 7.8216338 | S23: =H23/[1]人口!$D$39*100000 -> 15.271733 | T23: =I23/[1]人口!$E$39*100000 -> 13.248392 | U23: =J23/[1]人口!$F$39*100000 -> 12.293377 | V23: =K23/[1]人口!$G$39*100000 -> 16.636299 | W23: =L23/[1]人口!$H$39*100000 -> 12.159862 | X23: =M23/[1]人口!$I$39*100000 -> 12.145187 | Y23: =N23/[1]人口!$J$39*100000 -> 16.684681 | Z23: =O23/[1]人口!$K$39*100000 -> 11.114095 | AA23: =P23/[1]人口!$L$39*100000 -> 7.7522658 | AB23: =調整死亡率算出!E29 -> 5.8268409 | AC23: ='12-10 算出'!E29 -> 4.3108232 | AD23: ='12-20 算出'!E29 -> 7.3080562 | AE23: ='12-30 算出'!E29 -> 7.3727469 | AF23: ='12-40 算出'!E29 -> 5.9781471 | AG23: ='12-45 算出'!E29 -> 7.4124008 | AH23: ='12-50 算出'!E29 -> 5.774955 | AI23: ='12-55 算出'!E29 -> 4.3942027 | AJ23: ='12-60 算出'!E29 -> 5.6493302 | AK23: ='12-70 算出'!E29 -> 5.0325722 | AL23: ='12-75 算出'!E29 -> 3.3834496
E24: 男 | F24: ='12 区別，5歳階級別，選択死因分類別死亡数'!F26 -> 143 | G24: ='12-10'!F26 -> 11 | H24: ='12-20'!F26 -> 29 | I24: ='12-30'!F26 -> 22 | J24: ='12-40'!F26 -> 15 | K24: ='12-45'!F26 -> 11 | L24: ='12-50'!F26 -> 15 | M24: ='12-55'!F26 -> 7 | N24: ='12-60'!F26 -> 17 | O24: ='12-70'!F26 -> 12 | P24: ='12-75'!F26 -> 4 | Q24: =F24/[1]人口!$B$40*100000 -> 15.630961 | R24: =G24/[1]人口!$C$40*100000 -> 10.014658 | S24: =H24/[1]人口!$D$40*100000 -> 21.335138 | T24: =I24/[1]人口!$E$40*100000 -> 17.528903 | U24: =J24/[1]人口!$F$40*100000 -> 15.058124 | V24: =K24/[1]人口!$G$40*100000 -> 19.168104 | W24: =L24/[1]人口!$H$40*100000 -> 14.598256 | X24: =M24/[1]人口!$I$40*100000 -> 12.880907 | Y24: =N24/[1]人口!$J$40*100000 -> 26.757327 | Z24: =O24/[1]人口!$K$40*100000 -> 12.059211 | AA24: =P24/[1]人口!$L$40*100000 -> 6.0205602 | AB24: =調整死亡率算出!E30 -> 8.2868061 | AC24: ='12-10 算出'!E30 -> 6.2453225 | AD24: ='12-20 算出'!E30 -> 10.8187 | AE24: ='12-30 算出'!E30 -> 10.390409 | AF24: ='12-40 算出'!E30 -> 8.573869 | AG24: ='12-45 算出'!E30 -> 10.235235 | AH24: ='12-50 算出'!E30 -> 9.2521023 | AI24: ='12-55 算出'!E30 -> 4.8744959 | AJ24: ='12-60 算出'!E30 -> 10.524662 | AK24: ='12-70 算出'!E30 -> 6.4459454 | AL24: ='12-75 算出'!E30 -> 2.2177184
E25: 女 | F25: ='12 区別，5歳階級別，選択死因分類別死亡数'!F27 -> 101 | G25: ='12-10'!F27 -> 8 | H25: ='12-20'!F27 -> 15 | I25: ='12-30'!F27 -> 13 | J25: ='12-40'!F27 -> 11 | K25: ='12-45'!F27 -> 10 | L25: ='12-50'!F27 -> 12 | M25: ='12-55'!F27 -> 7 | N25: ='12-60'!F27 -> 6 | O25: ='12-70'!F27 -> 12 | P25: ='12-75'!F27 -> 7 | Q25: =F25/[1]人口!$B$41*100000 -> 9.6090816 | R25: =G25/[1]人口!$C$41*100000 -> 6.0115572 | S25: =H25/[1]人口!$D$41*100000 -> 9.8562305 | T25: =I25/[1]人口!$E$41*100000 -> 9.374369 | U25: =J25/[1]人口!$F$41*100000 -> 9.8317871 | V25: =K25/[1]人口!$G$41*100000 -> 14.525805 | W25: =L25/[1]人口!$H$41*100000 -> 10.059519 | X25: =M25/[1]人口!$I$41*100000 -> 11.488971 | Y25: =N25/[1]人口!$J$41*100000 -> 8.0735229 | Z25: =O25/[1]人口!$K$41*100000 -> 10.306356 | AA25: =P25/[1]人口!$L$41*100000 -> 9.2770525 | AB25: =調整死亡率算出!E31 -> 3.7970343 | AC25: ='12-10 算出'!E31 -> 2.7891559 | AD25: ='12-20 算出'!E31 -> 4.5413179 | AE25: ='12-30 算出'!E31 -> 4.8750085 | AF25: ='12-40 算出'!E31 -> 3.6937714 | AG25: ='12-45 算出'!E31 -> 4.9345211 | AH25: ='12-50 算出'!E31 -> 2.7103444 | AI25: ='12-55 算出'!E31 -> 4.1028941 | AJ25: ='12-60 算出'!E31 -> 1.6509474 | AK25: ='12-70 算出'!E31 -> 3.9450172 | AL25: ='12-75 算出'!E31 -> 4.4853365
A26: Se 07 | C26: 肝及び肝内胆管の悪性新生物 | E26: 総数 | F26: ='12 区別，5歳階級別，選択死因分類別死亡数'!F28 -> 403 | G26: ='12-10'!F28 -> 40 | H26: ='12-20'!F28 -> 71 | I26: ='12-30'!F28 -> 48 | J26: ='12-40'!F28 -> 52 | K26: ='12-45'!F28 -> 26 | L26: ='12-50'!F28 -> 38 | M26: ='12-55'!F28 -> 19 | N26: ='12-60'!F28 -> 37 | O26: ='12-70'!F28 -> 32 | P26: ='12-75'!F28 -> 40 | Q26: =F26/[1]人口!$B$39*100000 -> 20.4991 | R26: =G26/[1]人口!$C$39*100000 -> 16.466598 | S26: =H26/[1]人口!$D$39*100000 -> 24.643023 | T26: =I26/[1]人口!$E$39*100000 -> 18.169224 | U26: =J26/[1]人口!$F$39*100000 -> 24.586753 | V26: =K26/[1]人口!$G$39*100000 -> 20.597322 | W26: =L26/[1]人口!$H$39*100000 -> 17.113879 | X26: =M26/[1]人口!$I$39*100000 -> 16.482754 | Y26: =N26/[1]人口!$J$39*100000 -> 26.840574 | Z26: =O26/[1]人口!$K$39*100000 -> 14.818794 | AA26: =P26/[1]人口!$L$39*100000 -> 28.190057 | AB26: =調整死亡率算出!E32 -> 8.0666315 | AC26: ='12-10 算出'!E32 -> 8.0171805 | AD26: ='12-20 算出'!E32 -> 9.67032 | AE26: ='12-30 算出'!E32 -> 6.8332453 | AF26: ='12-40 算出'!E32 -> 10.085204 | AG26: ='12-45 算出'!E32 -> 8.3931951 | AH26: ='12-50 算出'!E32 -> 6.6578415 | AI26: ='12-55 算出'!E32 -> 7.3751452 | AJ26: ='12-60 算出'!E32 -> 6.9666927 | AK26: ='12-70 算出'!E32 -> 6.1053562 | AL26: ='12-75 算出'!E32 -> 10.409842
E27: 男 | F27: ='12 区別，5歳階級別，選択死因分類別死亡数'!F29 -> 266 | G27: ='12-10'!F29 -> 21 | H27: ='12-20'!F29 -> 43 | I27: ='12-30'!F29 -> 35 | J27: ='12-40'!F29 -> 35 | K27: ='12-45'!F29 -> 20 | L27: ='12-50'!F29 -> 26 | M27: ='12-55'!F29 -> 12 | N27: ='12-60'!F29 -> 27 | O27: ='12-70'!F29 -> 22 | P27: ='12-75'!F29 -> 25 | Q27: =F27/[1]人口!$B$40*100000 -> 29.075773 | R27: =G27/[1]人口!$C$40*100000 -> 19.118892 | S27: =H27/[1]人口!$D$40*100000 -> 31.63486 | T27: =I27/[1]人口!$E$40*100000 -> 27.886891 | U27: =J27/[1]人口!$F$40*100000 -> 35.135624 | V27: =K27/[1]人口!$G$40*100000 -> 34.851099 | W27: =L27/[1]人口!$H$40*100000 -> 25.303644 | X27: =M27/[1]人口!$I$40*100000 -> 22.081555 | Y27: =N27/[1]人口!$J$40*100000 -> 42.496931 | Z27: =O27/[1]人口!$K$40*100000 -> 22.108553 | AA27: =P27/[1]人口!$L$40*100000 -> 37.628501 | AB27: =調整死亡率算出!E33 -> 13.216616 | AC27: ='12-10 算出'!E33 -> 10.978707 | AD27: ='12-20 算出'!E33 -> 14.050086 | AE27: ='12-30 算出'!E33 -> 12.45588 | AF27: ='12-40 算出'!E33 -> 17.283428 | AG27: ='12-45 算出'!E33 -> 15.871874 | AH27: ='12-50 算出'!E33 -> 12.029949 | AI27: ='12-55 算出'!E33 -> 10.003811 | AJ27: ='12-60 算出'!E33 -> 13.309304 | AK27: ='12-70 算出'!E33 -> 10.272584 | AL27: ='12-75 算出'!E33 -> 16.430897
E28: 女 | F28: ='12 区別，5歳階級別，選択死因分類別死亡数'!F30 -> 137 | G28: ='12-10'!F30 -> 19 | H28: ='12-20'!F30 -> 28 | I28: ='12-30'!F30 -> 13 | J28: ='12-40'!F30 -> 17 | K28: ='12-45'!F30 -> 6 | L28: ='12-50'!F30 -> 12 | M28: ='12-55'!F30 -> 7 | N28: ='12-60'!F30 -> 10 | O28: ='12-70'!F30 -> 10 | P28: ='12-75'!F30 -> 15 | Q28: =F28/[1]人口!$B$41*100000 -> 13.034101 | R28: =G28/[1]人口!$C$41*100000 -> 14.277448 | S28: =H28/[1]人口!$D$41*100000 -> 18.398297 | T28: =I28/[1]人口!$E$41*100000 -> 9.374369 | U28: =J28/[1]人口!$F$41*100000 -> 15.19458 | V28: =K28/[1]人口!$G$41*100000 -> 8.7154831 | W28: =L28/[1]人口!$H$41*100000 -> 10.059519 | X28: =M28/[1]人口!$I$41*100000 -> 11.488971 | Y28: =N28/[1]人口!$J$41*100000 -> 13.455871 | Z28: =O28/[1]人口!$K$41*100000 -> 8.5886304 | AA28: =P28/[1]人口!$L$41*100000 -> 19.879398 | AB28: =調整死亡率算出!E34 -> 4.2255232 | AC28: ='12-10 算出'!E34 -> 5.8680445 | AD28: ='12-20 算出'!E34 -> 6.5442638 | AE28: ='12-30 算出'!E34 -> 2.8222144 | AF28: ='12-40 算出'!E34 -> 4.7436034 | AG28: ='12-45 算出'!E34 -> 2.3450378 | AH28: ='12-50 算出'!E34 -> 2.572618 | AI28: ='12-55 算出'!E34 -> 5.397257 | AJ28: ='12-60 算出'!E34 -> 2.2864289 | AK28: ='12-70 算出'!E34 -> 2.9434651 | AL28: ='12-75 算出'!E34 -> 5.6743924
A29: Se 08 | C29: 胆のう及びその他の胆道の悪性新生物 | E29: 総数 | F29: ='12 区別，5歳階級別，選択死因分類別死亡数'!F31 -> 263 | G29: ='12-10'!F31 -> 28 | H29: ='12-20'!F31 -> 37 | I29: ='12-30'!F31 -> 32 | J29: ='12-40'!F31 -> 28 | K29: ='12-45'!F31 -> 12 | L29: ='12-50'!F31 -> 23 | M29: ='12-55'!F31 -> 18 | N29: ='12-60'!F31 -> 26 | O29: ='12-70'!F31 -> 39 | P29: ='12-75'!F31 -> 20 | Q29: =F29/[1]人口!$B$39*100000 -> 13.377824 | R29: =G29/[1]人口!$C$39*100000 -> 11.526618 | S29: =H29/[1]人口!$D$39*100000 -> 12.842139 | T29: =I29/[1]人口!$E$39*100000 -> 12.112816 | U29: =J29/[1]人口!$F$39*100000 -> 13.239021 | V29: =K29/[1]人口!$G$39*100000 -> 9.5064565 | W29: =L29/[1]人口!$H$39*100000 -> 10.358401 | X29: =M29/[1]人口!$I$39*100000 -> 15.61524 | Y29: =N29/[1]人口!$J$39*100000 -> 18.860944 | Z29: =O29/[1]人口!$K$39*100000 -> 18.060405 | AA29: =P29/[1]人口!$L$39*100000 -> 14.095029 | AB29: =調整死亡率算出!E35 -> 4.5843817 | AC29: ='12-10 算出'!E35 -> 4.1151114 | AD29: ='12-20 算出'!E35 -> 4.5347977 | AE29: ='12-30 算出'!E35 -> 4.4712801 | AF29: ='12-40 算出'!E35 -> 4.4461792 | AG29: ='12-45 算出'!E35 -> 2.9280182 | AH29: ='12-50 算出'!E35 -> 4.0098532 | AI29: ='12-55 算出'!E35 -> 5.397258 | AJ29: ='12-60 算出'!E35 -> 5.5608726 | AK29: ='12-70 算出'!E35 -> 6.7809571 | AL29: ='12-75 算出'!E35 -> 3.6201733
E30: 男 | F30: ='12 区別，5歳階級別，選択死因分類別死亡数'!F32 -> 127 | G30: ='12-10'!F32 -> 15 | H30: ='12-20'!F32 -> 15 | I30: ='12-30'!F32 -> 17 | J30: ='12-40'!F32 -> 15 | K30: ='12-45'!F32 -> 5 | L30: ='12-50'!F32 -> 9 | M30: ='12-55'!F32 -> 12 | N30: ='12-60'!F32 -> 14 | O30: ='12-70'!F32 -> 16 | P30: ='12-75'!F32 -> 9 | Q30: =F30/[1]人口!$B$40*100000 -> 13.882042 | R30: =G30/[1]人口!$C$40*100000 -> 13.656352 | S30: =H30/[1]人口!$D$40*100000 -> 11.035416 | T30: =I30/[1]人口!$E$40*100000 -> 13.545061 | U30: =J30/[1]人口!$F$40*100000 -> 15.058124 | V30: =K30/[1]人口!$G$40*100000 -> 8.7127747 | W30: =L30/[1]人口!$H$40*100000 -> 8.7589536 | X30: =M30/[1]人口!$I$40*100000 -> 22.081555 | Y30: =N30/[1]人口!$J$40*100000 -> 22.035446 | Z30: =O30/[1]人口!$K$40*100000 -> 16.078948 | AA30: =P30/[1]人口!$L$40*100000 -> 13.54626 | AB30: =調整死亡率算出!E36 -> 5.7967167 | AC30: ='12-10 算出'!E36 -> 5.6347895 | AD30: ='12-20 算出'!E36 -> 4.9741906 | AE30: ='12-30 算出'!E36 -> 5.9225513 | AF30: ='12-40 算出'!E36 -> 7.0201638 | AG30: ='12-45 算出'!E36 -> 2.7739119 | AH30: ='12-50 算出'!E36 -> 4.5703117 | AI30: ='12-55 算出'!E36 -> 8.6097303 | AJ30: ='12-60 算出'!E36 -> 8.8184061 | AK30: ='12-70 算出'!E36 -> 6.7892735 | AL30: ='12-75 算出'!E36 -> 4.3789707
E31: 女 | F31: ='12 区別，5歳階級別，選択死因分類別死亡数'!F33 -> 136 | G31: ='12-10'!F33 -> 13 | H31: ='12-20'!F33 -> 22 | I31: ='12-30'!F33 -> 15 | J31: ='12-40'!F33 -> 13 | K31: ='12-45'!F33 -> 7 | L31: ='12-50'!F33 -> 14 | M31: ='12-55'!F33 -> 6 | N31: ='12-60'!F33 -> 12 | O31: ='12-70'!F33 -> 23 | P31: ='12-75'!F33 -> 11 | Q31: =F31/[1]人口!$B$41*100000 -> 12.938961 | R31: =G31/[1]人口!$C$41*100000 -> 9.7687805 | S31: =H31/[1]人口!$D$41*100000 -> 14.455805 | T31: =I31/[1]人口!$E$41*100000 -> 10.81658 | U31: =J31/[1]人口!$F$41*100000 -> 11.619385 | V31: =K31/[1]人口!$G$41*100000 -> 10.168064 | W31: =L31/[1]人口!$H$41*100000 -> 11.736105 | X31: =M31/[1]人口!$I$41*100000 -> 9.8476891 | Y31: =N31/[1]人口!$J$41*100000 -> 16.147046 | Z31: =O31/[1]人口!$K$41*100000 -> 19.75385 | AA31: =P31/[1]人口!$L$41*100000 -> 14.578225 | AB31: =調整死亡率算出!E37 -> 3.7529675 | AC31: ='12-10 算出'!E37 -> 3.4459535 | AD31: ='12-20 算出'!E37 -> 4.1835336 | AE31: ='12-30 算出'!E37 -> 3.6472217 | AF31: ='12-40 算出'!E37 -> 2.4048714 | AG31: ='12-45 算出'!E37 -> 3.1591155 | AH31: ='12-50 算出'!E37 -> 3.3786455 | AI31: ='12-55 算出'!E37 -> 3.0215116 | AJ31: ='12-60 算出'!E37 -> 2.7440815 | AK31: ='12-70 算出'!E37 -> 7.0257002 | AL31: ='12-75 算出'!E37 -> 3.1711603
A32: Se 09 | C32: 膵の悪性新生物 | E32: 総数 | F32: ='12 区別，5歳階級別，選択死因分類別死亡数'!F34 -> 634 | G32: ='12-10'!F34 -> 82 | H32: ='12-20'!F34 -> 96 | I32: ='12-30'!F34 -> 76 | J32: ='12-40'!F34 -> 76 | K32: ='12-45'!F34 -> 46 | L32: ='12-50'!F34 -> 53 | M32: ='12-55'!F34 -> 40 | N32: ='12-60'!F34 -> 60 | O32: ='12-70'!F34 -> 60 | P32: ='12-75'!F34 -> 45 | Q32: =F32/[1]人口!$B$39*100000 -> 32.249204 | R32: =G32/[1]人口!$C$39*100000 -> 33.756525 | S32: =H32/[1]人口!$D$39*100000 -> 33.320144 | T32: =I32/[1]人口!$E$39*100000 -> 28.767937 | U32: =J32/[1]人口!$F$39*100000 -> 35.934486 | V32: =K32/[1]人口!$G$39*100000 -> 36.441416 | W32: =L32/[1]人口!$H$39*100000 -> 23.869358 | X32: =M32/[1]人口!$I$39*100000 -> 34.700534 | Y32: =N32/[1]人口!$J$39*100000 -> 43.525256 | Z32: =O32/[1]人口!$K$39*100000 -> 27.785239 | AA32: =P32/[1]人口!$L$39*100000 -> 31.713815 | AB32: =調整死亡率算出!E38 -> 13.062933 | AC32: ='12-10 算出'!E38 -> 15.622352 | AD32: ='12-20 算出'!E38 -> 12.970348 | AE32: ='12-30 算出'!E38 -> 11.777475 | AF32: ='12-40 算出'!E38 -> 16.467424 | AG32: ='12-45 算出'!E38 -> 15.025224 | AH32: ='12-50 算出'!E38 -> 10.733868 | AI32: ='12-55 算出'!E38 -> 13.15981 | AJ32: ='12-60 算出'!E38 -> 14.045267 | AK32: ='12-70 算出'!E38 -> 10.982115 | AL32: ='12-75 算出'!E38 -> 10.840431
E33: 男 | F33: ='12 区別，5歳階級別，選択死因分類別死亡数'!F35 -> 320 | G33: ='12-10'!F35 -> 39 | H33: ='12-20'!F35 -> 44 | I33: ='12-30'!F35 -> 45 | J33: ='12-40'!F35 -> 40 | K33: ='12-45'!F35 -> 23 | L33: ='12-50'!F35 -> 28 | M33: ='12-55'!F35 -> 24 | N33: ='12-60'!F35 -> 27 | O33: ='12-70'!F35 -> 28 | P33: ='12-75'!F35 -> 22 | Q33: =F33/[1]人口!$B$40*100000 -> 34.978374 | R33: =G33/[1]人口!$C$40*100000 -> 35.506514 | S33: =H33/[1]人口!$D$40*100000 -> 32.370555 | T33: =I33/[1]人口!$E$40*100000 -> 35.854574 | U33: =J33/[1]人口!$F$40*100000 -> 40.154998 | V33: =K33/[1]人口!$G$40*100000 -> 40.078763 | W33: =L33/[1]人口!$H$40*100000 -> 27.250078 | X33: =M33/[1]人口!$I$40*100000 -> 44.163109 | Y33: =N33/[1]人口!$J$40*100000 -> 42.496931 | Z33: =O33/[1]人口!$K$40*100000 -> 28.138158 | AA33: =P33/[1]人口!$L$40*100000 -> 33.113081 | AB33: =調整死亡率算出!E39 -> 16.487956 | AC33: ='12-10 算出'!E39 -> 21.221136 | AD33: ='12-20 算出'!E39 -> 14.128241 | AE33: ='12-30 算出'!E39 -> 17.803868 | AF33: ='12-40 算出'!E39 -> 22.622543 | AG33: ='12-45 算出'!E39 -> 16.814194 | AH33: ='12-50 算出'!E39 -> 14.075063 | AI33: ='12-55 算出'!E39 -> 18.906014 | AJ33: ='12-60 算出'!E39 -> 15.520324 | AK33: ='12-70 算出'!E39 -> 11.908328 | AL33: ='12-75 算出'!E39 -> 12.956855
E34: 女 | F34: ='12 区別，5歳階級別，選択死因分類別死亡数'!F36 -> 314 | G34: ='12-10'!F36 -> 43 | H34: ='12-20'!F36 -> 52 | I34: ='12-30'!F36 -> 31 | J34: ='12-40'!F36 -> 36 | K34: ='12-45'!F36 -> 23 | L34: ='12-50'!F36 -> 25 | M34: ='12-55'!F36 -> 16 | N34: ='12-60'!F36 -> 33 | O34: ='12-70'!F36 -> 32 | P34: ='12-75'!F36 -> 23 | Q34: =F34/[1]人口!$B$41*100000 -> 29.873779 | R34: =G34/[1]人口!$C$41*100000 -> 32.31212 | S34: =H34/[1]人口!$D$41*100000 -> 34.168266 | T34: =I34/[1]人口!$E$41*100000 -> 22.354265 | U34: =J34/[1]人口!$F$41*100000 -> 32.176758 | V34: =K34/[1]人口!$G$41*100000 -> 33.409352 | W34: =L34/[1]人口!$H$41*100000 -> 20.957331 | X34: =M34/[1]人口!$I$41*100000 -> 26.260504 | Y34: =N34/[1]人口!$J$41*100000 -> 44.404376 | Z34: =O34/[1]人口!$K$41*100000 -> 27.483617 | AA34: =P34/[1]人口!$L$41*100000 -> 30.481744 | AB34: =調整死亡率算出!E40 -> 10.434513 | AC34: ='12-10 算出'!E40 -> 11.008869 | AD34: ='12-20 算出'!E40 -> 12.278103 | AE34: ='12-30 算出'!E40 -> 7.2990748 | AF34: ='12-40 算出'!E40 -> 10.772317 | AG34: ='12-45 算出'!E40 -> 13.888088 | AH34: ='12-50 算出'!E40 -> 8.3413989 | AI34: ='12-55 算出'!E40 -> 8.7849992 | AJ34: ='12-60 算出'!E40 -> 12.964438 | AK34: ='12-70 算出'!E40 -> 10.444621 | AL34: ='12-75 算出'!E40 -> 9.417132
A35: Se 10 | C35: 気管、気管支及び肺の悪性新生物 | E35: 総数 | F35: ='12 区別，5歳階級別，選択死因分類別死亡数'!F37 -> 1317 | G35: ='12-10'!F37 -> 139 | H35: ='12-20'!F37 -> 208 | I35: ='12-30'!F37 -> 183 | J35: ='12-40'!F37 -> 155 | K35: ='12-45'!F37 -> 89 | L35: ='12-50'!F37 -> 128 | M35: ='12-55'!F37 -> 74 | N35: ='12-60'!F37 -> 101 | O35: ='12-70'!F37 -> 132 | P35: ='12-75'!F37 -> 108 | Q35: =F35/[1]人口!$B$39*100000 -> 66.990854 | R35: =G35/[1]人口!$C$39*100000 -> 57.221426 | S35: =H35/[1]人口!$D$39*100000 -> 72.193646 | T35: =I35/[1]人口!$E$39*100000 -> 69.270165 | U35: =J35/[1]人口!$F$39*100000 -> 73.287438 | V35: =K35/[1]人口!$G$39*100000 -> 70.506219 | W35: =L35/[1]人口!$H$39*100000 -> 57.646752 | X35: =M35/[1]人口!$I$39*100000 -> 64.195989 | Y35: =N35/[1]人口!$J$39*100000 -> 73.267513 | Z35: =O35/[1]人口!$K$39*100000 -> 61.127525 | AA35: =P35/[1]人口!$L$39*100000 -> 76.113155 | AB35: =調整死亡率算出!E41 -> 26.847428 | AC35: ='12-10 算出'!E41 -> 25.86863 | AD35: ='12-20 算出'!E41 -> 29.264541 | AE35: ='12-30 算出'!E41 -> 29.45082 | AF35: ='12-40 算出'!E41 -> 31.478134 | AG35: ='12-45 算出'!E41 -> 27.102993 | AH35: ='12-50 算出'!E41 -> 25.735244 | AI35: ='12-55 算出'!E41 -> 23.816314 | AJ35: ='12-60 算出'!E41 -> 23.103741 | AK35: ='12-70 算出'!E41 -> 24.106115 | AL35: ='12-75 算出'!E41 -> 27.22752
E36: 男 | F36: ='12 区別，5歳階級別，選択死因分類別死亡数'!F38 -> 876 | G36: ='12-10'!F38 -> 84 | H36: ='12-20'!F38 -> 139 | I36: ='12-30'!F38 -> 132 | J36: ='12-40'!F38 -> 100 | K36: ='12-45'!F38 -> 59 | L36: ='12-50'!F38 -> 83 | M36: ='12-55'!F38 -> 51 | N36: ='12-60'!F38 -> 60 | O36: ='12-70'!F38 -> 88 | P36: ='12-75'!F38 -> 80 | Q36: =F36/[1]人口!$B$40*100000 -> 95.753298 | R36: =G36/[1]人口!$C$40*100000 -> 76.475569 | S36: =H36/[1]人口!$D$40*100000 -> 102.26152 | T36: =I36/[1]人口!$E$40*100000 -> 105.17342 | U36: =J36/[1]人口!$F$40*100000 -> 100.3875 | V36: =K36/[1]人口!$G$40*100000 -> 102.81074 | W36: =L36/[1]人口!$H$40*100000 -> 80.777017 | X36: =M36/[1]人口!$I$40*100000 -> 93.846607 | Y36: =N36/[1]人口!$J$40*100000 -> 94.437624 | Z36: =O36/[1]人口!$K$40*100000 -> 88.434212 | AA36: =P36/[1]人口!$L$40*100000 -> 120.4112 | AB36: =調整死亡率算出!E42 -> 42.595703 | AC36: ='12-10 算出'!E42 -> 39.515286 | AD36: ='12-20 算出'!E42 -> 46.677417 | AE36: ='12-30 算出'!E42 -> 50.598245 | AF36: ='12-40 算出'!E42 -> 49.566171 | AG36: ='12-45 算出'!E42 -> 41.709262 | AH36: ='12-50 算出'!E42 -> 39.97373 | AI36: ='12-55 算出'!E42 -> 39.000536 | AJ36: ='12-60 算出'!E42 -> 32.01058 | AK36: ='12-70 算出'!E42 -> 36.876429 | AL36: ='12-75 算出'!E42 -> 46.693418
E37: 女 | F37: ='12 区別，5歳階級別，選択死因分類別死亡数'!F39 -> 441 | G37: ='12-10'!F39 -> 55 | H37: ='12-20'!F39 -> 69 | I37: ='12-30'!F39 -> 51 | J37: ='12-40'!F39 -> 55 | K37: ='12-45'!F39 -> 30 | L37: ='12-50'!F39 -> 45 | M37: ='12-55'!F39 -> 23 | N37: ='12-60'!F39 -> 41 | O37: ='12-70'!F39 -> 44 | P37: ='12-75'!F39 -> 28 | Q37: =F37/[1]人口!$B$41*100000 -> 41.956485 | R37: =G37/[1]人口!$C$41*100000 -> 41.329456 | S37: =H37/[1]人口!$D$41*100000 -> 45.33866 | T37: =I37/[1]人口!$E$41*100000 -> 36.776371 | U37: =J37/[1]人口!$F$41*100000 -> 49.158935 | V37: =K37/[1]人口!$G$41*100000 -> 43.577415 | W37: =L37/[1]人口!$H$41*100000 -> 37.723196 | X37: =M37/[1]人口!$I$41*100000 -> 37.749475 | Y37: =N37/[1]人口!$J$41*100000 -> 55.169073 | Z37: =O37/[1]人口!$K$41*100000 -> 37.789974 | AA37: =P37/[1]人口!$L$41*100000 -> 37.10821 | AB37: =調整死亡率算出!E43 -> 15.584291 | AC37: ='12-10 算出'!E43 -> 17.440429 | AD37: ='12-20 算出'!E43 -> 16.531282 | AE37: ='12-30 算出'!E43 -> 14.11014 | AF37: ='12-40 算出'!E43 -> 18.266006 | AG37: ='12-45 算出'!E43 -> 16.467934 | AH37: ='12-50 算出'!E43 -> 15.604991 | AI37: ='12-55 算出'!E43 -> 12.674587 | AJ37: ='12-60 算出'!E43 -> 16.481584 | AK37: ='12-70 算出'!E43 -> 15.528663 | AL37: ='12-75 算出'!E43 -> 12.796879
A38: Se 11 | C38: 乳房の悪性新生物 | E38: 総数 | F38: ='12 区別，5歳階級別，選択死因分類別死亡数'!F40 -> 273 | G38: ='12-10'!F40 -> 40 | H38: ='12-20'!F40 -> 32 | I38: ='12-30'!F40 -> 39 | J38: ='12-40'!F40 -> 31 | K38: ='12-45'!F40 -> 20 | L38: ='12-50'!F40 -> 33 | M38: ='12-55'!F40 -> 8 | N38: ='12-60'!F40 -> 22 | O38: ='12-70'!F40 -> 34 | P38: ='12-75'!F40 -> 14 | Q38: =F38/[1]人口!$B$39*100000 -> 13.886487 | R38: =G38/[1]人口!$C$39*100000 -> 16.466598 | S38: =H38/[1]人口!$D$39*100000 -> 11.106715 | T38: =I38/[1]人口!$E$39*100000 -> 14.762494 | U38: =J38/[1]人口!$F$39*100000 -> 14.657488 | V38: =K38/[1]人口!$G$39*100000 -> 15.844094 | W38: =L38/[1]人口!$H$39*100000 -> 14.862053 | X38: =M38/[1]人口!$I$39*100000 -> 6.9401069 | Y38: =N38/[1]人口!$J$39*100000 -> 15.95926 | Z38: =O38/[1]人口!$K$39*100000 -> 15.744969 | AA38: =P38/[1]人口!$L$39*100000 -> 9.8665201 | AB38: =調整死亡率算出!E44 -> 7.9879451 | AC38: ='12-10 算出'!E44 -> 9.3417603 | AD38: ='12-20 算出'!E44 -> 4.9348616 | AE38: ='12-30 算出'!E44 -> 8.9379711 | AF38: ='12-40 算出'!E44 -> 9.1267244 | AG38: ='12-45 算出'!E44 -> 8.5766265 | AH38: ='12-50 算出'!E44 -> 9.5982084 | AI38: ='12-55 算出'!E44 -> 4.1742284 | AJ38: ='12-60 算出'!E44 -> 10.086007 | AK38: ='12-70 算出'!E44 -> 8.9159355 | AL38: ='12-75 算出'!E44 -> 5.1568882
E39: 男 | F39: ='12 区別，5歳階級別，選択死因分類別死亡数'!F41 -> 1 | G39: ='12-10'!F41 -> 0 | H39: ='12-20'!F41 -> 0 | I39: ='12-30'!F41 -> 0 | J39: ='12-40'!F41 -> 0 | K39: ='12-45'!F41 -> 1 | L39: ='12-50'!F41 -> 0 | M39: ='12-55'!F41 -> 0 | N39: ='12-60'!F41 -> 0 | O39: ='12-70'!F41 -> 0 | P39: ='12-75'!F41 -> 0 | Q39: =F39/[1]人口!$B$40*100000 -> 0.10930742 | R39: =G39/[1]人口!$C$40*100000 -> 0 | S39: =H39/[1]人口!$D$40*100000 -> 0 | T39: =I39/[1]人口!$E$40*100000 -> 0 | U39: =J39/[1]人口!$F$40*100000 -> 0 | V39: =K39/[1]人口!$G$40*100000 -> 1.7425549 | W39: =L39/[1]人口!$H$40*100000 -> 0 | X39: =M39/[1]人口!$I$40*100000 -> 0 | Y39: =N39/[1]人口!$J$40*100000 -> 0 | Z39: =O39/[1]人口!$K$40*100000 -> 0 | AA39: =P39/[1]人口!$L$40*100000 -> 0 | AB39: =調整死亡率算出!E45 -> 0.05328899 | AC39: ='12-10 算出'!E45 -> 0 | AD39: ='12-20 算出'!E45 -> 0 | AE39: ='12-30 算出'!E45 -> 0 | AF39: ='12-40 算出'!E45 -> 0 | AG39: ='12-45 算出'!E45 -> 0.70966487 | AH39: ='12-50 算出'!E45 -> 0 | AI39: ='12-55 算出'!E45 -> 0 | AJ39: ='12-60 算出'!E45 -> 0 | AK39: ='12-70 算出'!E45 -> 0 | AL39: ='12-75 算出'!E45 -> 0
E40: 女 | F40: ='12 区別，5歳階級別，選択死因分類別死亡数'!F42 -> 272 | G40: ='12-10'!F42 -> 40 | H40: ='12-20'!F42 -> 32 | I40: ='12-30'!F42 -> 39 | J40: ='12-40'!F42 -> 31 | K40: ='12-45'!F42 -> 19 | L40: ='12-50'!F42 -> 33 | M40: ='12-55'!F42 -> 8 | N40: ='12-60'!F42 -> 22 | O40: ='12-70'!F42 -> 34 | P40: ='12-75'!F42 -> 14 | Q40: =F40/[1]人口!$B$41*100000 -> 25.877923 | R40: =G40/[1]人口!$C$41*100000 -> 30.057786 | S40: =H40/[1]人口!$D$41*100000 -> 21.026625 | T40: =I40/[1]人口!$E$41*100000 -> 28.123107 | U40: =J40/[1]人口!$F$41*100000 -> 27.707764 | V40: =K40/[1]人口!$G$41*100000 -> 27.59903 | W40: =L40/[1]人口!$H$41*100000 -> 27.663677 | X40: =M40/[1]人口!$I$41*100000 -> 13.130252 | Y40: =N40/[1]人口!$J$41*100000 -> 29.602917 | Z40: =O40/[1]人口!$K$41*100000 -> 29.201343 | AA40: =P40/[1]人口!$L$41*100000 -> 18.554105 | AB40: =調整死亡率算出!E46 -> 14.713996 | AC40: ='12-10 算出'!E46 -> 16.545633 | AD40: ='12-20 算出'!E46 -> 8.9294339 | AE40: ='12-30 算出'!E46 -> 16.800692 | AF40: ='12-40 算出'!E46 -> 17.244054 | AG40: ='12-45 算出'!E46 -> 15.066225 | AH40: ='12-50 算出'!E46 -> 17.665662 | AI40: ='12-55 算出'!E46 -> 7.8600997 | AJ40: ='12-60 算出'!E46 -> 18.858624 | AK40: ='12-70 算出'!E46 -> 16.367916 | AL40: ='12-75 算出'!E46 -> 9.6034019
A41: Se 12 | C41: 子宮の悪性新生物 | E41: 総数 | F41: ='12 区別，5歳階級別，選択死因分類別死亡数'!F43 -> 107 | G41: ='12-10'!F43 -> 15 | H41: ='12-20'!F43 -> 11 | I41: ='12-30'!F43 -> 8 | J41: ='12-40'!F43 -> 17 | K41: ='12-45'!F43 -> 8 | L41: ='12-50'!F43 -> 14 | M41: ='12-55'!F43 -> 7 | N41: ='12-60'!F43 -> 8 | O41: ='12-70'!F43 -> 9 | P41: ='12-75'!F43 -> 10 | Q41: =F41/[1]人口!$B$39*100000 -> 5.442689 | R41: =G41/[1]人口!$C$39*100000 -> 6.1749741 | S41: =H41/[1]人口!$D$39*100000 -> 3.8179332 | T41: =I41/[1]人口!$E$39*100000 -> 3.0282039 | U41: =J41/[1]人口!$F$39*100000 -> 8.0379771 | V41: =K41/[1]人口!$G$39*100000 -> 6.3376376 | W41: =L41/[1]人口!$H$39*100000 -> 6.3051134 | X41: =M41/[1]人口!$I$39*100000 -> 6.0725935 | Y41: =N41/[1]人口!$J$39*100000 -> 5.8033674 | Z41: =O41/[1]人口!$K$39*100000 -> 4.1677858 | AA41: =P41/[1]人口!$L$39*100000 -> 7.0475143 | AB41: =調整死亡率算出!E47 -> 2.9080039 | AC41: ='12-10 算出'!E47 -> 3.3423613 | AD41: ='12-20 算出'!E47 -> 2.3951641 | AE41: ='12-30 算出'!E47 -> 1.9408869 | AF41: ='12-40 算出'!E47 -> 3.88481 | AG41: ='12-45 算出'!E47 -> 3.2980503 | AH41: ='12-50 算出'!E47 -> 2.8011188 | AI41: ='12-55 算出'!E47 -> 2.6411863 | AJ41: ='12-60 算出'!E47 -> 3.0789472 | AK41: ='12-70 算出'!E47 -> 2.4312844 | AL41: ='12-75 算出'!E47 -> 4.262601
E42: 男 | F42: ='12 区別，5歳階級別，選択死因分類別死亡数'!F44 -> ・ | G42: ='12-10'!F44 -> ・ | H42: ='12-10'!G44 -> ・ | I42: ='12-10'!H44 -> ・ | J42: ='12-10'!I44 -> ・ | K42: ='12-10'!J44 -> ・ | L42: ='12-10'!K44 -> ・ | M42: ='12-10'!L44 -> ・ | N42: ='12-10'!M44 -> ・ | ... P42: ='12-10'!O44 -> ・ | Q42: ='12 区別，5歳階級別，選択死因分類別死亡数'!Q44 -> ・ | R42: ='12-10'!Q44 -> ・ | S42: ='12-20'!Q44 -> ・ | T42: ='12-30'!Q44 -> ・ | U42: ='12-40'!Q44 -> ・ | V42: ='12-45'!Q44 -> ・ | W42: ='12-50'!Q44 -> ・ | X42: ='12-55'!Q44 -> ・ | Y42: ='12-60'!Q44 -> ・ | Z42: ='12-70'!Q44 -> ・ | AA42: ='12-75'!Q44 -> ・ | AB42: ・ | AC42: ・ | AD42: ・ | AE42: ・ | AF42: ・ | AG42: ・ | AH42: ・ | AI42: ・ | AJ42: ・ | AK42: ・ | AL42: ・
E43: 女 | F43: ='12 区別，5歳階級別，選択死因分類別死亡数'!F45 -> 107 | G43: ='12-10'!F45 -> 15 | H43: ='12-20'!F45 -> 11 | I43: ='12-30'!F45 -> 8 | J43: ='12-40'!F45 -> 17 | K43: ='12-45'!F45 -> 8 | L43: ='12-50'!F45 -> 14 | M43: ='12-55'!F45 -> 7 | N43: ='12-60'!F45 -> 8 | O43: ='12-70'!F45 -> 9 | P43: ='12-75'!F45 -> 10 | Q43: =F43/[1]人口!$B$41*100000 -> 10.179918 | R43: =G43/[1]人口!$C$41*100000 -> 11.27167 | S43: =H43/[1]人口!$D$41*100000 -> 7.2279023 | T43: =I43/[1]人口!$E$41*100000 -> 5.7688425 | U43: =J43/[1]人口!$F$41*100000 -> 15.19458 | V43: =K43/[1]人口!$G$41*100000 -> 11.620644 | W43: =L43/[1]人口!$H$41*100000 -> 11.736105 | X43: =M43/[1]人口!$I$41*100000 -> 11.488971 | Y43: =N43/[1]人口!$J$41*100000 -> 10.764697 | Z43: =O43/[1]人口!$K$41*100000 -> 7.7297673 | AA43: =P43/[1]人口!$L$41*100000 -> 13.252932 | AB43: =調整死亡率算出!E49 -> 5.326178 | AC43: ='12-10 算出'!E49 -> 5.7862944 | AD43: ='12-20 算出'!E49 -> 4.4868877 | AE43: ='12-30 算出'!E49 -> 3.6249256 | AF43: ='12-40 算出'!E49 -> 7.1019987 | AG43: ='12-45 算出'!E49 -> 5.9239181 | AH43: ='12-50 算出'!E49 -> 4.893493 | AI43: ='12-55 算出'!E49 -> 4.8882595 | AJ43: ='12-60 算出'!E49 -> 5.7379976 | AK43: ='12-70 算出'!E49 -> 4.5143787 | AL43: ='12-75 算出'!E49 -> 7.9659588
