Workbook

Sheet 1　年次別，死亡数・粗死亡率・年齢調整死亡率・死亡性比
A1: 第3章 死 亡
A2: 1 年次別にみた死亡数・粗死亡率(人口千対)・年齢調整死亡率及び死亡性比
A4: 年次 | B4: 死亡数 | E4: 粗死亡率 | H4: 年齢調整死亡率 2) | K4: 死亡性比
B5: 総数 | C5: 男 | D5: 女 | E5: 総数 | F5: 男 | G5: 女 | H5: 総数 | I5: 男 | J5: 女
A6: 1950 昭和25年 | B6: 2568 | C6: 1369 | D6: 1199 | E6: 8.1822527 | F6: 8.7593576 | G6: 7.6097994 | H6: 14.383146 | I6: … | J6: … | K6: 114.17848 | M6: 313850 | N6: 156290 | O6: 157560
A7: 55 30 | B7: 2565 | C7: 1376 | D7: 1189 | E7: 6.0123764 | F7: 6.4017568 | G7: 5.6169955 | H7: 11.339229 | I7: … | J7: … | K7: 115.7275 | M7: 426620 | N7: 214941 | O7: 211679
A8: 60 35 | B8: 2927 | C8: 1603 | D8: 1316 | E8: 5.5875947 | F8: 6.0635405 | G8: 5.0718382 | H8: 11.73702 | I8: 14.421391 | J8: 9.7224069 | K8: 121.80851 | M8: 523839 | N8: 264367 | O8: 259472
A9: 65 40 | B9: 3893 | C9: 2143 | D9: 1750 | E9: 4.8974221 | F9: 5.3555586 | G9: 4.4330396 | H9: 10.687308 | I9: 12.716137 | J9: 9.0231122 | K9: 122.45714 | M9: 794908 | N9: 400145 | O9: 394763
A10: 70 45 | B10: 4660 | C10: 2647 | D10: 2013 | E10: 4.6132996 | F10: 5.2607834 | G10: 3.9706805 | H10: 9.1140726 | I10: 11.194551 | J10: 7.4089445 | K10: 131.49528 | M10: 1010123 | N10: 503157 | O10: 506966
A11: 72 47 | B11: 4775 | C11: 2707 | D11: 2068 | E11: 4.3444557 | F11: 4.9521886 | G11: 3.7431558 | H11: … | I11: … | J11: … | K11: 130.89942 | M11: 1099102 | N11: 546627 | O11: 552475
A12: 73 48 | B12: 5173 | C12: 2872 | D12: 2301 | E12: 4.4889823 | F12: 5.0084491 | G12: 3.9744639 | H12: … | I12: … | J12: … | K12: 124.8153 | M12: 1152377 | N12: 573431 | O12: 578946
A13: 74 49 | B13: 5156 | C13: 2821 | D13: 2335 | E13: 4.2913097 | F13: 4.7438234 | G13: 3.8478651 | H13: 8.4017736 | I13: 10.025517 | J13: 7.0718195 | K13: 120.8137 | M13: 1201498 | N13: 594668 | O13: 606830
A14: 75 50 | B14: 5405 | C14: 2919 | D14: 2486 | E14: 4.3567172 | F14: 4.7499483 | G14: 3.9707386 | H14: 8.263264 | I14: 9.7778434 | J14: 7.0238914 | K14: 117.41754 | M14: 1240613 | N14: 614533 | O14: 626080
A15: 76 51 | B15: 5460 | C15: 3069 | D15: 2391 | E15: 4.2805132 | F15: 4.8631843 | G15: 3.7099677 | H15: 7.0150413 | I15: 8.5754261 | J15: 6.3331775 | K15: 128.35634 | M15: 1275548 | N15: 631068 | O15: 644480
A16: 77 52 | B16: 5623 | C16: 3107 | D16: 2516 | E16: 4.3065286 | F16: 4.8175099 | G16: 3.8077769 | H16: 7.8802163 | I16: 9.8353788 | J16: 6.407402 | K16: 123.48967 | M16: 1305692 | N16: 644939 | O16: 660753
A17: 78 53 | B17: 5717 | C17: 3172 | D17: 2545 | E17: 4.2865294 | F17: 4.8199289 | G17: 3.766955 | H17: 7.5349266 | I17: 9.1911779 | J17: 6.1738203 | K17: 124.63654 | M17: 1333713 | N17: 658101 | O17: 675612
A18: 79 54 | B18: 5835 | C18: 3267 | D18: 2568 | E18: 4.2680839 | F18: 4.8449742 | G18: 3.7066065 | H18: 7.1541373 | I18: 8.7082431 | J18: 5.8451066 | K18: 127.21963 | M18: 1367124 | N18: 674307 | O18: 692817
A19: 80 55 | B19: 6342 | C19: 3443 | D19: 2899 | E19: 4.524322 | F19: 4.9822229 | G19: 4.079077 | H19: 7.5469717 | I19: 9.1681149 | J19: 6.26174 | K19: 118.76509 | M19: 1401757 | N19: 691057 | O19: 710700
A20: 81 56 | B20: 6437 | C20: 3610 | D20: 2827 | E20: 4.4938753 | F20: 5.1188974 | G20: 3.8877062 | H20: 7.242967 | I20: 9.0188351 | J20: 5.8083436 | K20: 127.69721 | M20: 1432394 | N20: 705230 | O20: 727164
A21: 82 57 | B21: 6676 | C21: 3730 | D21: 2946 | E21: 4.5629892 | F21: 5.1859792 | G21: 3.9605877 | H21: 7.0524685 | I21: 8.7978857 | J21: 5.6429004 | K21: 126.61236 | M21: 1463076 | N21: 719247 | O21: 743829
A22: 83 58 | B22: 6882 | C22: 3887 | D22: 2995 | E22: 4.6083782 | F22: 5.3048769 | G22: 3.9374478 | H22: 6.8065841 | I22: 8.6452246 | J22: 5.3524417 | K22: 129.78297 | M22: 1493367 | N22: 732722 | O22: 760645
A23: 84 59 | B23: 6856 | C23: 3824 | D23: 3032 | E23: 4.5112267 | F23: 5.1415472 | G23: 3.9071208 | H23: 6.4124387 | I23: 8.0338479 | J23: 5.1062922 | K23: 126.12137 | M23: 1519764 | N23: 743745 | O23: 776019
A24: 85 60 | B24: 7226 | C24: 3968 | D24: 3258 | E24: 4.6927929 | F24: 5.2801486 | G24: 4.1328709 | H24: 6.4448127 | I24: 8.1003392 | J24: 5.1585586 | K24: 121.79251 | M24: 1539808 | N24: 751494 | O24: 788314
... A56: 17 29 | B56: 18668 | C56: 9534 | D56: 9134 | E56: 9.510331 | F56: 10.429931 | G56: 8.7088513 | H56: 3.4688829 | I56: 4.7328623 | J56: 2.5444055 | K56: 104.37924 | M56: 1962918 | N56: 914100 | O56: 1048818
A57: 18 30 | B57: =SUM(C57:D57) -> 19343 | C57: ='3 月・性別，区別死亡数'!$C$6 -> 9925 | D57: ='3 月・性別，区別死亡数'!$C$7 -> 9418 | E57: =B57/M57*1000 -> 9.8390592 | F57: =C57/N57*1000 -> 10.848761 | G57: =D57/O57*1000 -> 8.9602308 | H57: =調整死亡率算出!$E$11/100 -> 3.4798424 | I57: =調整死亡率算出!$E$12/100 -> 4.7834869 | J57: =調整死亡率算出!$E$13/100 -> 2.5265219 | K57: =C57/D57*100 -> 105.38331 | M57: =[1]人口!$B$42 -> 1965940 | N57: =[1]人口!$B$43 -> 914851 | O57: =[1]人口!$B$44 -> 1051089
A58: 1) 本市の集計による。
A59: * 昭和35年の総数には性別不詳を含む。
A60: 2) 住民基本台帳の人口により算出。
A61: 3) 率算出に用いた人口は「平成27年国勢調査 年齢・国籍不詳をあん分した人口（参考表）（総務省統計局）おける日本人人口による。

Sheet 2　区別，年次別死亡数・死亡率
A1: 2 区別にみた年次別死亡数及び粗死亡率(人口千対)
A3: 年次 | B3: 総数 | C3: 中央区 | D3: 北区 | E3: 東区 | F3: 白石区 | G3: 厚別区 | H3: 豊平区 | I3: 清田区 | J3: 南区 | K3: 西区 | L3: 手稲区
B4: 死亡数 | N4: =[1]年次別人口!C3 -> 総数 | O4: =[1]年次別人口!D3 -> 中央区 | P4: =[1]年次別人口!E3 -> 北区 | Q4: =[1]年次別人口!F3 -> 東区 | R4: =[1]年次別人口!G3 -> 白石区 | S4: =[1]年次別人口!H3 -> 厚別区 | T4: =[1]年次別人口!I3 -> 豊平区 | U4: =[1]年次別人口!J3 -> 清田区 | ... X4: =[1]年次別人口!M3 -> 手稲区
A5: 85 60 | B5: =SUM(C5:L5) -> 7226 | C5: 1081 | D5: 1010 | E5: 1094 | F5: 1107 | G5: … | H5: 1092 | I5: … | J5: 596 | K5: 1246 | L5: … | N5: =[1]年次別人口!C4 -> 1539808 | O5: =[1]年次別人口!D4 -> 180845 | P5: =[1]年次別人口!E4 -> 212508 | Q5: =[1]年次別人口!F4 -> 224539 | R5: =[1]年次別人口!G4 -> 263938 | S5: =[1]年次別人口!H4 -> 0 | T5: =[1]年次別人口!I4 -> 249956 | U5: =[1]年次別人口!J4 -> 0 | ... X5: =[1]年次別人口!M4 -> 0
A6: 1986 昭和61年 | B6: =SUM(C6:L6) -> 7127 | C6: 993 | D6: 1002 | E6: 1076 | F6: 1210 | G6: … | H6: 1044 | I6: … | J6: 602 | K6: 1200 | L6: … | N6: =[1]年次別人口!C5 -> 1566871 | O6: =[1]年次別人口!D5 -> 182427 | P6: =[1]年次別人口!E5 -> 214728 | Q6: =[1]年次別人口!F5 -> 224730 | R6: =[1]年次別人口!G5 -> 272037 | S6: =[1]年次別人口!H5 -> 0 | T6: =[1]年次別人口!I5 -> 255105 | U6: =[1]年次別人口!J5 -> 0 | ... X6: =[1]年次別人口!M5 -> 0
A7: 1987 昭和62年 | B7: =SUM(C7:L7) -> 7074 | C7: 1021 | D7: 941 | E7: 1036 | F7: 1138 | G7: … | H7: 1061 | I7: … | J7: 618 | K7: 1259 | L7: … | N7: =[1]年次別人口!C6 -> 1593205 | O7: =[1]年次別人口!D6 -> 182818 | P7: =[1]年次別人口!E6 -> 217384 | Q7: =[1]年次別人口!F6 -> 225693 | R7: =[1]年次別人口!G6 -> 280378 | S7: =[1]年次別人口!H6 -> 0 | T7: =[1]年次別人口!I6 -> 260488 | U7: =[1]年次別人口!J6 -> 0 | ... X7: =[1]年次別人口!M6 -> 0
A8: 1988 昭和63年 | B8: =SUM(C8:L8) -> 7761 | C8: 1071 | D8: 1069 | E8: 1091 | F8: 1309 | G8: … | H8: 1152 | I8: … | J8: 648 | K8: 1421 | L8: … | N8: =[1]年次別人口!C7 -> 1618861 | O8: =[1]年次別人口!D7 -> 182735 | P8: =[1]年次別人口!E7 -> 220308 | Q8: =[1]年次別人口!F7 -> 227252 | R8: =[1]年次別人口!G7 -> 287265 | S8: =[1]年次別人口!H7 -> 0 | T8: =[1]年次別人口!I7 -> 266739 | U8: =[1]年次別人口!J7 -> 0 | ... X8: =[1]年次別人口!M7 -> 0
A9: 89 平成元年 | B9: =SUM(C9:L9) -> 8103 | C9: 1093 | D9: 1081 | E9: 1196 | F9: 1362 | G9: … | H9: 1277 | I9: … | J9: 698 | K9: 1396 | L9: … | N9: =[1]年次別人口!C8 -> 1645095 | O9: =[1]年次別人口!D8 -> 181535 | P9: =[1]年次別人口!E8 -> 224721 | Q9: =[1]年次別人口!F8 -> 230623 | R9: =[1]年次別人口!G8 -> 294751 | S9: =[1]年次別人口!H8 -> 0 | T9: =[1]年次別人口!I8 -> 272011 | U9: =[1]年次別人口!J8 -> 0 | ... X9: =[1]年次別人口!M8 -> 0
A10: 90 2 | B10: =SUM(C10:L10) -> 8278 | C10: 1082 | D10: 1121 | E10: 1199 | F10: 978 | G10: 408 | H10: 1286 | I10: … | J10: 726 | K10: 957 | L10: 521 | N10: =[1]年次別人口!C9 -> 1667984 | O10: =[1]年次別人口!D9 -> 179184 | P10: =[1]年次別人口!E9 -> 230918 | Q10: =[1]年次別人口!F9 -> 232999 | R10: =[1]年次別人口!G9 -> 188043 | S10: =[1]年次別人口!H9 -> 112623 | T10: =[1]年次別人口!I9 -> 277801 | U10: =[1]年次別人口!J9 -> 0 | ... X10: =[1]年次別人口!M9 -> 110974
A11: 91 3 | B11: =SUM(C11:L11) -> 8342 | C11: 1094 | D11: 1112 | E11: 1124 | F11: 884 | G11: 431 | H11: 1336 | I11: … | J11: 811 | K11: 995 | L11: 555 | N11: =[1]年次別人口!C10 -> 1694988 | O11: =[1]年次別人口!D10 -> 177997 | P11: =[1]年次別人口!E10 -> 234595 | Q11: =[1]年次別人口!F10 -> 236454 | R11: =[1]年次別人口!G10 -> 190543 | S11: =[1]年次別人口!H10 -> 115650 | T11: =[1]年次別人口!I10 -> 281463 | U11: =[1]年次別人口!J10 -> 0 | ... X11: =[1]年次別人口!M10 -> 115307
A12: 92 4 | B12: =SUM(C12:L12) -> 8808 | C12: 1074 | D12: 1119 | E12: 1241 | F12: 1002 | G12: 482 | H12: 1432 | I12: … | J12: 818 | K12: 1037 | L12: 603 | N12: =[1]年次別人口!C11 -> 1714488 | O12: =[1]年次別人口!D11 -> 176981 | P12: =[1]年次別人口!E11 -> 239907 | Q12: =[1]年次別人口!F11 -> 237749 | R12: =[1]年次別人口!G11 -> 191928 | S12: =[1]年次別人口!H11 -> 117351 | T12: =[1]年次別人口!I11 -> 285597 | U12: =[1]年次別人口!J11 -> 0 | ... X12: =[1]年次別人口!M11 -> 119703
A13: 1993 平成5年 | B13: =SUM(C13:L13) -> 9428 | C13: 1155 | D13: 1284 | E13: 1303 | F13: 1084 | G13: 565 | H13: 1513 | I13: … | J13: 849 | K13: 1065 | L13: 610 | N13: =[1]年次別人口!C12 -> 1728466 | O13: =[1]年次別人口!D12 -> 174994 | P13: =[1]年次別人口!E12 -> 243771 | Q13: =[1]年次別人口!F12 -> 238168 | R13: =[1]年次別人口!G12 -> 191918 | S13: =[1]年次別人口!H12 -> 119386 | T13: =[1]年次別人口!I12 -> 288941 | U13: =[1]年次別人口!J12 -> 0 | ... X13: =[1]年次別人口!M12 -> 124259
A14: 94 6 | B14: =SUM(C14:L14) -> 8934 | C14: 1034 | D14: 1227 | E14: 1233 | F14: 1059 | G14: 515 | H14: 1453 | I14: … | J14: 803 | K14: 1019 | L14: 591 | N14: =[1]年次別人口!C13 -> 1740534 | O14: =[1]年次別人口!D13 -> 173594 | P14: =[1]年次別人口!E13 -> 247942 | Q14: =[1]年次別人口!F13 -> 238547 | R14: =[1]年次別人口!G13 -> 191099 | S14: =[1]年次別人口!H13 -> 121427 | T14: =[1]年次別人口!I13 -> 292470 | U14: =[1]年次別人口!J13 -> 0 | ... X14: =[1]年次別人口!M13 -> 127384
A15: 95 7 | B15: =SUM(C15:L15) -> 9398 | C15: 1123 | D15: 1280 | E15: 1283 | F15: 1068 | G15: 549 | H15: 1548 | I15: … | J15: 844 | K15: 1053 | L15: 650 | N15: =[1]年次別人口!C14 -> 1752009 | O15: =[1]年次別人口!D14 -> 173358 | P15: =[1]年次別人口!E14 -> 251419 | Q15: =[1]年次別人口!F14 -> 241319 | R15: =[1]年次別人口!G14 -> 192102 | S15: =[1]年次別人口!H14 -> 122738 | T15: =[1]年次別人口!I14 -> 296647 | U15: =[1]年次別人口!J14 -> 0 | ... X15: =[1]年次別人口!M14 -> 129484
A16: 96 8 | B16: =SUM(C16:L16) -> 9512 | C16: 1098 | D16: 1363 | E16: 1352 | F16: 933 | G16: 557 | H16: 1542 | I16: … | J16: 946 | K16: 1054 | L16: 667 | N16: =[1]年次別人口!C15 -> 1774540 | O16: =[1]年次別人口!D15 -> 175812 | P16: =[1]年次別人口!E15 -> 253271 | Q16: =[1]年次別人口!F15 -> 243767 | R16: =[1]年次別人口!G15 -> 193494 | S16: =[1]年次別人口!H15 -> 124213 | T16: =[1]年次別人口!I15 -> 300609 | U16: =[1]年次別人口!J15 -> 0 | ... X16: =[1]年次別人口!M15 -> 131914
A17: 97 9 | B17: =SUM(C17:L17) -> 9840 | C17: 1158 | D17: 1313 | E17: 1298 | F17: 1063 | G17: 639 | H17: 1638 | I17: … | J17: 920 | K17: 1130 | L17: 681 | N17: =[1]年次別人口!C16 -> 1791221 | O17: =[1]年次別人口!D16 -> 178405 | P17: =[1]年次別人口!E16 -> 255530 | Q17: =[1]年次別人口!F16 -> 245544 | R17: =[1]年次別人口!G16 -> 194555 | S17: =[1]年次別人口!H16 -> 124531 | T17: =[1]年次別人口!I16 -> 305192 | U17: =[1]年次別人口!J16 -> 0 | ... X17: =[1]年次別人口!M16 -> 133440
A18: 1998 平成10年 | B18: =SUM(C18:L18) -> 9995 | C18: 1107 | D18: 1412 | E18: 1369 | F18: 1114 | G18: 609 | H18: 1080 | I18: 682 | J18: 954 | K18: 1112 | L18: 556 | N18: =[1]年次別人口!C17 -> 1803546 | O18: =[1]年次別人口!D17 -> 179801 | P18: =[1]年次別人口!E17 -> 257132 | Q18: =[1]年次別人口!F17 -> 247420 | R18: =[1]年次別人口!G17 -> 194903 | S18: =[1]年次別人口!H17 -> 125679 | T18: =[1]年次別人口!I17 -> 202316 | U18: =[1]年次別人口!J17 -> 106984 | ... X18: =[1]年次別人口!M17 -> 134246
A19: 99 11 | B19: =SUM(C19:L19) -> 10806 | C19: 1209 | D19: 1537 | E19: 1420 | F19: 1183 | G19: 644 | H19: 1201 | I19: 574 | J19: 1000 | K19: 1281 | L19: 757 | N19: =[1]年次別人口!C18 -> 1812029 | O19: =[1]年次別人口!D18 -> 180515 | P19: =[1]年次別人口!E18 -> 258640 | Q19: =[1]年次別人口!F18 -> 247756 | R19: =[1]年次別人口!G18 -> 195162 | S19: =[1]年次別人口!H18 -> 126780 | T19: =[1]年次別人口!I18 -> 203514 | U19: =[1]年次別人口!J18 -> 108731 | ... X19: =[1]年次別人口!M18 -> 135293
A20: 2000 12 | B20: =SUM(C20:L20) -> 10800 | C20: 1238 | D20: 1447 | E20: 1430 | F20: 1175 | G20: 674 | H20: 1207 | I20: 645 | J20: 1026 | K20: 1190 | L20: 768 | N20: =[1]年次別人口!C19 -> 1816677 | O20: =[1]年次別人口!D19 -> 180488 | P20: =[1]年次別人口!E19 -> 259139 | Q20: =[1]年次別人口!F19 -> 248140 | R20: =[1]年次別人口!G19 -> 196793 | S20: =[1]年次別人口!H19 -> 127325 | T20: =[1]年次別人口!I19 -> 203918 | U20: =[1]年次別人口!J19 -> 109635 | ... X20: =[1]年次別人口!M19 -> 135785
A21: 01 13 | B21: =SUM(C21:L21) -> 10803 | C21: 1213 | D21: 1504 | E21: 1409 | F21: 1243 | G21: 677 | H21: 1224 | I21: 511 | J21: 1020 | K21: 1205 | L21: 797 | N21: =[1]年次別人口!C20 -> 1834684 | O21: =[1]年次別人口!D20 -> 185064 | P21: =[1]年次別人口!E20 -> 262443 | Q21: =[1]年次別人口!F20 -> 249707 | R21: =[1]年次別人口!G20 -> 198580 | S21: =[1]年次別人口!H20 -> 128443 | T21: =[1]年次別人口!I20 -> 205066 | U21: =[1]年次別人口!J20 -> 110759 | ... X21: =[1]年次別人口!M20 -> 136580
A22: 02 14 | B22: =SUM(C22:L22) -> 11151 | C22: 1249 | D22: 1601 | E22: 1488 | F22: 1268 | G22: 691 | H22: 1202 | I22: 603 | J22: 1024 | K22: 1236 | L22: 789 | N22: =[1]年次別人口!C21 -> 1848276 | O22: =[1]年次別人口!D21 -> 190254 | P22: =[1]年次別人口!E21 -> 265023 | Q22: =[1]年次別人口!F21 -> 251256 | R22: =[1]年次別人口!G21 -> 199164 | S22: =[1]年次別人口!H21 -> 129105 | T22: =[1]年次別人口!I21 -> 205981 | U22: =[1]年次別人口!J21 -> 111613 | ... X22: =[1]年次別人口!M21 -> 137261
A23: 03 15 | B23: =SUM(C23:L23) -> 11769 | C23: 1290 | D23: 1610 | E23: 1651 | F23: 1241 | G23: 803 | H23: 1201 | I23: 610 | J23: 1104 | K23: 1360 | L23: 899 | N23: =[1]年次別人口!C22 -> 1862361 | O23: =[1]年次別人口!D22 -> 194901 | P23: =[1]年次別人口!E22 -> 268387 | Q23: =[1]年次別人口!F22 -> 252494 | R23: =[1]年次別人口!G22 -> 200077 | S23: =[1]年次別人口!H22 -> 129660 | T23: =[1]年次別人口!I22 -> 207859 | U23: =[1]年次別人口!J22 -> 112333 | ... X23: =[1]年次別人口!M22 -> 137634
A24: 04 16 | B24: 12348 | C24: 1432 | D24: 1844 | E24: 1675 | F24: 1340 | G24: 751 | H24: 1296 | I24: 626 | J24: 1129 | K24: 1400 | L24: 855 | N24: =[1]年次別人口!C23 -> 1872703 | O24: =[1]年次別人口!D23 -> 198946 | P24: =[1]年次別人口!E23 -> 271222 | Q24: =[1]年次別人口!F23 -> 253520 | R24: =[1]年次別人口!G23 -> 200856 | S24: =[1]年次別人口!H23 -> 129645 | T24: =[1]年次別人口!I23 -> 208605 | U24: =[1]年次別人口!J23 -> 112473 | ... X24: =[1]年次別人口!M23 -> 137562
A25: 05 17 | B25: =SUM(C25:L25) -> 13105 | C25: 1481 | D25: 1924 | E25: 1760 | F25: 1420 | G25: 832 | H25: 1413 | I25: 651 | J25: 1172 | K25: 1537 | L25: 915 | N25: =[1]年次別人口!C24 -> 1874479 | O25: =[1]年次別人口!D24 -> 201612 | P25: =[1]年次別人口!E24 -> 271750 | Q25: =[1]年次別人口!F24 -> 253138 | R25: =[1]年次別人口!G24 -> 200866 | S25: =[1]年次別人口!H24 -> 129346 | T25: =[1]年次別人口!I24 -> 208576 | U25: =[1]年次別人口!J24 -> 112398 | ... X25: =[1]年次別人口!M24 -> 137383
A26: 06 18 | B26: =SUM(C26:L26) -> 13268 | C26: 1447 | D26: 1940 | E26: 1789 | F26: 1435 | G26: 867 | H26: 1402 | I26: 732 | J26: 1203 | K26: 1481 | L26: 972 | N26: 1889460 | O26: 206768 | P26: 273792 | Q26: 254899 | R26: 202638 | S26: 129500 | T26: 209102 | U26: 113572 | V26: 151858 | W26: 208975 | X26: 138356
A27: 07 19 | B27: 14044 | C27: 1576 | D27: 1962 | E27: 1758 | F27: 1507 | G27: 982 | H27: 1543 | I27: 772 | J27: 1278 | K27: 1584 | L27: 1082 | N27: 1895901 | O27: 210166 | P27: 276240 | Q27: 255210 | R27: 203006 | S27: 128963 | T27: 209334 | U27: 114646 | V27: 150261 | W27: 209532 | X27: 138543
A28: 08 20 | B28: 14366 | C28: 1547 | D28: 2023 | E28: 1894 | F28: 1573 | G28: 966 | H28: 1613 | I28: 784 | J28: 1297 | K28: 1615 | L28: 1054 | N28: 1900815 | O28: 213591 | P28: 276624 | Q28: 255365 | R28: 203180 | S28: 129034 | T28: 209789 | U28: 115606 | V28: 148867 | W28: 210231 | X28: 138647
A29: 09 21 | B29: 14506 | C29: 1571 | D29: 2057 | E29: 1860 | F29: 1581 | G29: 934 | H29: 1540 | I29: 856 | J29: 1362 | K29: 1654 | L29: 1091 | N29: 1907404 | O29: 216780 | P29: 278310 | Q29: 255376 | R29: 203764 | S29: 128668 | T29: 211014 | U29: 116022 | V29: 147757 | W29: 210564 | X29: 139149
A30: 10 22 | B30: 15482 | C30: 1679 | D30: 2252 | E30: 2085 | F30: 1617 | G30: 980 | H30: 1666 | I30: 851 | J30: 1484 | K30: 1702 | L30: 1166 | N30: 1906674 | O30: 218964 | P30: 277240 | Q30: 254909 | R30: 203771 | S30: 128133 | T30: 211221 | U30: 116261 | V30: 145958 | W30: 210771 | X30: 139446
A31: 11 23 | B31: 15926 | C31: 1710 | D31: 2296 | E31: 2100 | F31: 1733 | G31: 1085 | H31: 1703 | I31: 889 | J31: 1508 | K31: 1760 | L31: 1142 | N31: 1921935 | O31: 223614 | P31: 280423 | Q31: 256523 | R31: 205395 | S31: 128630 | T31: 213788 | U31: 116589 | V31: 145217 | W31: 211671 | X31: 140085
A32: 12 24 | B32: 16228 | C32: 1844 | D32: 2279 | E32: 2089 | F32: 1735 | G32: 1064 | H32: 1782 | I32: 892 | J32: 1459 | K32: 1770 | L32: 1314 | N32: 1928776 | O32: 226938 | P32: 281330 | Q32: 257367 | R32: 206800 | S32: 128739 | T32: 215694 | U32: 116655 | V32: 144080 | W32: 210751 | X32: 140422
A33: 13 25 | B33: 16844 | C33: 1851 | D33: 2423 | E33: 2184 | F33: 1819 | G33: 1085 | H33: 1873 | I33: 929 | J33: 1494 | K33: 1881 | L33: 1305 | N33: 1936189 | O33: 230015 | P33: 281985 | Q33: 258747 | R33: 208404 | S33: 128663 | T33: 217208 | U33: 116279 | V33: 143100 | W33: 211268 | X33: 140520
A34: 14 26 | B34: 17668 | C34: 1954 | D34: 2573 | E34: 2325 | F34: 1949 | G34: 1200 | H34: 1883 | I34: 960 | J34: 1582 | K34: 1885 | L34: 1357 | N34: 1942648 | O34: 233080 | P34: 283513 | Q34: 259508 | R34: 209064 | S34: 128133 | T34: 218136 | U34: 116199 | V34: 141960 | W34: 212322 | X34: 140733
A35: 15 27 | B35: 17523 | C35: 1894 | D35: 2571 | E35: 2253 | F35: 1885 | G35: 1193 | H35: 1866 | I35: 994 | J35: 1524 | K35: 1969 | L35: 1374 | N35: 1943527 | O35: 235736 | P35: 283298 | Q35: 260791 | R35: 208989 | S35: 127359 | T35: 217532 | U35: 115326 | V35: 140753 | W35: 213012 | X35: 140740
A36: 16 28 | B36: 18504 | C36: 1995 | D36: 2558 | E36: 2449 | F36: 2027 | G36: 1282 | H36: 2074 | I36: 1036 | J36: 1607 | K36: 2042 | L36: 1434 | N36: 1958405 | O36: 239820 | P36: 286905 | Q36: 263476 | R36: 210171 | S36: 126906 | T36: 219660 | U36: 115905 | V36: 140184 | W36: 214169 | X36: 141209
A37: 17 29 | B37: 18668 | C37: 2002 | D37: 2540 | E37: 2413 | F37: 2074 | G37: 1245 | H37: 2025 | I37: 1135 | J37: 1763 | K37: 2041 | L37: 1430 | N37: 1962918 | O37: 241267 | P37: 287761 | Q37: 264312 | R37: 210686 | S37: 126421 | T37: 220905 | U37: 115746 | V37: 139157 | W37: 214973 | X37: 141690
A38: 18 30 | B38: =SUM(C38:L38) -> 19343 | C38: ='3 月・性別，区別死亡数'!$C$8 -> 2174 | D38: ='3 月・性別，区別死亡数'!$C$11 -> 2842 | E38: ='3 月・性別，区別死亡数'!$C$14 -> 2512 | F38: ='3 月・性別，区別死亡数'!$C$17 -> 2032 | G38: ='3 月・性別，区別死亡数'!$C$20 -> 1268 | H38: ='3 月・性別，区別死亡数'!$C$23 -> 2047 | I38: ='3 月・性別，区別死亡数'!$C$26 -> 1137 | J38: ='3 月・性別，区別死亡数'!$C$29 -> 1710 | K38: ='3 月・性別，区別死亡数'!$C$32 -> 2067 | L38: ='3 月・性別，区別死亡数'!$C$35 -> 1554 | N38: =[1]年次別人口!C37 -> 1965940 | O38: =[1]年次別人口!D37 -> 242916 | P38: =[1]年次別人口!E37 -> 288114 | Q38: =[1]年次別人口!F37 -> 264183 | R38: =[1]年次別人口!G37 -> 211496 | S38: =[1]年次別人口!H37 -> 126230 | T38: =[1]年次別人口!I37 -> 222042 | U38: =[1]年次別人口!J37 -> 115272 | ... X38: =[1]年次別人口!M37 -> 141894
B39: 粗死亡率
A40: 85 60 | B40: =B5/N5*1000 -> 4.6927929 | C40: =C5/O5*1000 -> 5.9774945 | D40: =D5/P5*1000 -> 4.7527622 | E40: =E5/Q5*1000 -> 4.8722048 | F40: =F5/R5*1000 -> 4.1941668 | G40: ・ | H40: =H5/T5*1000 -> 4.3687689 | I40: ・ | J40: =J5/V5*1000 -> 4.2047932 | K40: =K5/W5*1000 -> 4.6242346 | L40: ・
A41: 1986 昭和61年 | B41: =B6/N6*1000 -> 4.5485557 | C41: =C6/O6*1000 -> 5.4432732 | D41: =D6/P6*1000 -> 4.6663686 | E41: =E6/Q6*1000 -> 4.7879678 | F41: =F6/R6*1000 -> 4.4479244 | G41: ・ | H41: =H6/T6*1000 -> 4.0924325 | I41: ・ | J41: =J6/V6*1000 -> 4.212972 | K41: =K6/W6*1000 -> 4.3643981 | L41: ・
...

Sheet 3　月・性別，区別死亡数
A1: 3 月・性別にみた区別死亡数及び粗死亡率(人口千対)
O2: 平成30年
A3: 区 ・ 性 | C3: 総 数 | D3: 1 月 | E3: 2 月 | F3: 3 月 | G3: 4 月 | H3: 5 月 | I3: 6 月 | J3: 7 月 | K3: 8 月 | L3: 9 月 | M3: 10月 | N3: 11月 | O3: 12月
C4: 死亡数
A5: 総数 | C5: =SUM(C8,C11,C14,C17,C20,C23,C26,C29,C32,C35) -> 19343 | D5: =SUM(D8,D11,D14,D17,D20,D23,D26,D29,D32,D35) -> 1833 | E5: =SUM(E8,E11,E14,E17,E20,E23,E26,E29,E32,E35) -> 1624 | F5: =SUM(F8,F11,F14,F17,F20,F23,F26,F29,F32,F35) -> 1724 | G5: =SUM(G8,G11,G14,G17,G20,G23,G26,G29,G32,G35) -> 1536 | H5: =SUM(H8,H11,H14,H17,H20,H23,H26,H29,H32,H35) -> 1563 | I5: =SUM(I8,I11,I14,I17,I20,I23,I26,I29,I32,I35) -> 1432 | J5: =SUM(J8,J11,J14,J17,J20,J23,J26,J29,J32,J35) -> 1520 | ... O5: =SUM(O8,O11,O14,O17,O20,O23,O26,O29,O32,O35) -> 1726
B6: 男 | C6: =SUM(C9,C12,C15,C18,C21,C24,C27,C30,C33,C36) -> 9925 | D6: =SUM(D9,D12,D15,D18,D21,D24,D27,D30,D33,D36) -> 916 | E6: =SUM(E9,E12,E15,E18,E21,E24,E27,E30,E33,E36) -> 881 | F6: =SUM(F9,F12,F15,F18,F21,F24,F27,F30,F33,F36) -> 881 | G6: =SUM(G9,G12,G15,G18,G21,G24,G27,G30,G33,G36) -> 786 | H6: =SUM(H9,H12,H15,H18,H21,H24,H27,H30,H33,H36) -> 797 | I6: =SUM(I9,I12,I15,I18,I21,I24,I27,I30,I33,I36) -> 747 | J6: =SUM(J9,J12,J15,J18,J21,J24,J27,J30,J33,J36) -> 770 | ... O6: =SUM(O9,O12,O15,O18,O21,O24,O27,O30,O33,O36) -> 910
B7: 女 | C7: =SUM(C10,C13,C16,C19,C22,C25,C28,C31,C34,C37) -> 9418 | D7: =SUM(D10,D13,D16,D19,D22,D25,D28,D31,D34,D37) -> 917 | E7: =SUM(E10,E13,E16,E19,E22,E25,E28,E31,E34,E37) -> 743 | F7: =SUM(F10,F13,F16,F19,F22,F25,F28,F31,F34,F37) -> 843 | G7: =SUM(G10,G13,G16,G19,G22,G25,G28,G31,G34,G37) -> 750 | H7: =SUM(H10,H13,H16,H19,H22,H25,H28,H31,H34,H37) -> 766 | I7: =SUM(I10,I13,I16,I19,I22,I25,I28,I31,I34,I37) -> 685 | J7: =SUM(J10,J13,J16,J19,J22,J25,J28,J31,J34,J37) -> 750 | ... O7: =SUM(O10,O13,O16,O19,O22,O25,O28,O31,O34,O37) -> 816
A8: 中央 | C8: =SUM(D8:O8) -> 2174 | D8: =SUM(D9:D10) -> 212 | E8: =SUM(E9:E10) -> 185 | F8: =SUM(F9:F10) -> 203 | G8: =SUM(G9:G10) -> 177 | H8: =SUM(H9:H10) -> 149 | I8: =SUM(I9:I10) -> 157 | J8: =SUM(J9:J10) -> 188 | K8: =SUM(K9:K10) -> 164 | ... O8: =SUM(O9:O10) -> 194
B9: 男 | C9: =SUM(D9:O9) -> 1056 | D9: 104 | E9: 95 | F9: 100 | G9: 84 | H9: 68 | I9: 79 | J9: 77 | K9: 76 | L9: 95 | M9: 75 | N9: 96 | O9: 107
B10: 女 | C10: =SUM(D10:O10) -> 1118 | D10: 108 | E10: 90 | F10: 103 | G10: 93 | H10: 81 | I10: 78 | J10: 111 | K10: 88 | L10: 91 | M10: 85 | N10: 103 | O10: 87
A11: 北 | C11: =SUM(D11:O11) -> 2842 | D11: =SUM(D12:D13) -> 267 | E11: =SUM(E12:E13) -> 239 | F11: =SUM(F12:F13) -> 262 | G11: =SUM(G12:G13) -> 239 | H11: =SUM(H12:H13) -> 205 | I11: =SUM(I12:I13) -> 224 | J11: =SUM(J12:J13) -> 216 | K11: =SUM(K12:K13) -> 216 | ... O11: =SUM(O12:O13) -> 221
B12: 男 | C12: =SUM(D12:O12) -> 1477 | D12: 140 | E12: 137 | F12: 141 | G12: 120 | H12: 102 | I12: 125 | J12: 109 | K12: 113 | L12: 131 | M12: 133 | N12: 116 | O12: 110
B13: 女 | C13: =SUM(D13:O13) -> 1365 | D13: 127 | E13: 102 | F13: 121 | G13: 119 | H13: 103 | I13: 99 | J13: 107 | K13: 103 | L13: 123 | M13: 126 | N13: 124 | O13: 111
A14: 東 | C14: =SUM(D14:O14) -> 2512 | D14: =SUM(D15:D16) -> 244 | E14: =SUM(E15:E16) -> 230 | F14: =SUM(F15:F16) -> 219 | G14: =SUM(G15:G16) -> 196 | H14: =SUM(H15:H16) -> 219 | I14: =SUM(I15:I16) -> 174 | J14: =SUM(J15:J16) -> 201 | K14: =SUM(K15:K16) -> 189 | ... O14: =SUM(O15:O16) -> 224
B15: 男 | C15: =SUM(D15:O15) -> 1319 | D15: 118 | E15: 131 | F15: 124 | G15: 108 | H15: 118 | I15: 91 | J15: 105 | K15: 91 | L15: 99 | M15: 105 | N15: 110 | O15: 119
B16: 女 | C16: =SUM(D16:O16) -> 1193 | D16: 126 | E16: 99 | F16: 95 | G16: 88 | H16: 101 | I16: 83 | J16: 96 | K16: 98 | L16: 94 | M16: 101 | N16: 107 | O16: 105
A17: 白石 | C17: =SUM(D17:O17) -> 2032 | D17: =SUM(D18:D19) -> 195 | E17: =SUM(E18:E19) -> 158 | F17: =SUM(F18:F19) -> 173 | G17: =SUM(G18:G19) -> 160 | H17: =SUM(H18:H19) -> 181 | I17: =SUM(I18:I19) -> 151 | J17: =SUM(J18:J19) -> 167 | K17: =SUM(K18:K19) -> 148 | ... O17: =SUM(O18:O19) -> 195
B18: 男 | C18: =SUM(D18:O18) -> 1053 | D18: 87 | E18: 83 | F18: 84 | G18: 91 | H18: 98 | I18: 79 | J18: 84 | K18: 74 | L18: 78 | M18: 95 | N18: 101 | O18: 99
B19: 女 | C19: =SUM(D19:O19) -> 979 | D19: 108 | E19: 75 | F19: 89 | G19: 69 | H19: 83 | I19: 72 | J19: 83 | K19: 74 | L19: 80 | M19: 84 | N19: 66 | O19: 96
A20: 厚別 | C20: =SUM(D20:O20) -> 1268 | D20: =SUM(D21:D22) -> 114 | E20: =SUM(E21:E22) -> 102 | F20: =SUM(F21:F22) -> 95 | G20: =SUM(G21:G22) -> 113 | H20: =SUM(H21:H22) -> 99 | I20: =SUM(I21:I22) -> 91 | J20: =SUM(J21:J22) -> 100 | K20: =SUM(K21:K22) -> 106 | ... O20: =SUM(O21:O22) -> 121
B21: 男 | C21: =SUM(D21:O21) -> 625 | D21: 63 | E21: 52 | F21: 47 | G21: 59 | H21: 47 | I21: 37 | J21: 51 | K21: 54 | L21: 44 | M21: 51 | N21: 63 | O21: 57
B22: 女 | C22: =SUM(D22:O22) -> 643 | D22: 51 | E22: 50 | F22: 48 | G22: 54 | H22: 52 | I22: 54 | J22: 49 | K22: 52 | L22: 61 | M22: 58 | N22: 50 | O22: 64
A23: 豊平 | C23: =SUM(D23:O23) -> 2047 | D23: =SUM(D24:D25) -> 185 | E23: =SUM(E24:E25) -> 173 | F23: =SUM(F24:F25) -> 177 | G23: =SUM(G24:G25) -> 164 | H23: =SUM(H24:H25) -> 167 | I23: =SUM(I24:I25) -> 133 | J23: =SUM(J24:J25) -> 173 | K23: =SUM(K24:K25) -> 180 | ... O23: =SUM(O24:O25) -> 185
B24: 男 | C24: =SUM(D24:O24) -> 1047 | D24: 86 | E24: 103 | F24: 88 | G24: 86 | H24: 77 | I24: 72 | J24: 84 | K24: 85 | L24: 88 | M24: 71 | N24: 104 | O24: 103
B25: 女 | C25: =SUM(D25:O25) -> 1000 | D25: 99 | E25: 70 | F25: 89 | G25: 78 | H25: 90 | I25: 61 | J25: 89 | K25: 95 | L25: 82 | M25: 77 | N25: 88 | O25: 82
A26: 清田 | C26: =SUM(D26:O26) -> 1137 | D26: =SUM(D27:D28) -> 114 | E26: =SUM(E27:E28) -> 107 | F26: =SUM(F27:F28) -> 94 | G26: =SUM(G27:G28) -> 96 | H26: =SUM(H27:H28) -> 100 | I26: =SUM(I27:I28) -> 83 | J26: =SUM(J27:J28) -> 84 | K26: =SUM(K27:K28) -> 79 | ... O26: =SUM(O27:O28) -> 87
B27: 男 | C27: =SUM(D27:O27) -> 600 | D27: 53 | E27: 52 | F27: 48 | G27: 45 | H27: 61 | I27: 51 | J27: 49 | K27: 43 | L27: 53 | M27: 47 | N27: 45 | O27: 53
B28: 女 | C28: =SUM(D28:O28) -> 537 | D28: 61 | E28: 55 | F28: 46 | G28: 51 | H28: 39 | I28: 32 | J28: 35 | K28: 36 | L28: 39 | M28: 63 | N28: 46 | O28: 34
A29: 南 | C29: =SUM(D29:O29) -> 1710 | D29: =SUM(D30:D31) -> 146 | E29: =SUM(E30:E31) -> 135 | F29: =SUM(F30:F31) -> 157 | G29: =SUM(G30:G31) -> 138 | H29: =SUM(H30:H31) -> 167 | I29: =SUM(I30:I31) -> 108 | J29: =SUM(J30:J31) -> 121 | K29: =SUM(K30:K31) -> 146 | ... O29: =SUM(O30:O31) -> 164
B30: 男 | C30: =SUM(D30:O30) -> 886 | D30: 79 | E30: 72 | F30: 70 | G30: 77 | H30: 81 | I30: 55 | J30: 70 | K30: 74 | L30: 73 | M30: 77 | N30: 75 | O30: 83
B31: 女 | C31: =SUM(D31:O31) -> 824 | D31: 67 | E31: 63 | F31: 87 | G31: 61 | H31: 86 | I31: 53 | J31: 51 | K31: 72 | L31: 63 | M31: 74 | N31: 66 | O31: 81
A32: 西 | C32: =SUM(D32:O32) -> 2067 | D32: =SUM(D33:D34) -> 211 | E32: =SUM(E33:E34) -> 165 | F32: =SUM(F33:F34) -> 203 | G32: =SUM(G33:G34) -> 135 | H32: =SUM(H33:H34) -> 155 | I32: =SUM(I33:I34) -> 182 | J32: =SUM(J33:J34) -> 166 | K32: =SUM(K33:K34) -> 164 | ... O32: =SUM(O33:O34) -> 173
B33: 男 | C33: =SUM(D33:O33) -> 1055 | D33: 110 | E33: 87 | F33: 100 | G33: 64 | H33: 78 | I33: 95 | J33: 82 | K33: 92 | L33: 81 | M33: 79 | N33: 93 | O33: 94
B34: 女 | C34: =SUM(D34:O34) -> 1012 | D34: 101 | E34: 78 | F34: 103 | G34: 71 | H34: 77 | I34: 87 | J34: 84 | K34: 72 | L34: 84 | M34: 83 | N34: 93 | O34: 79
A35: 手稲 | C35: =SUM(D35:O35) -> 1554 | D35: =SUM(D36:D37) -> 145 | E35: =SUM(E36:E37) -> 130 | F35: =SUM(F36:F37) -> 141 | G35: =SUM(G36:G37) -> 118 | H35: =SUM(H36:H37) -> 121 | I35: =SUM(I36:I37) -> 129 | J35: =SUM(J36:J37) -> 104 | K35: =SUM(K36:K37) -> 108 | ... O35: =SUM(O36:O37) -> 162
B36: 男 | C36: =SUM(D36:O36) -> 807 | D36: 76 | E36: 69 | F36: 79 | G36: 52 | H36: 67 | I36: 63 | J36: 59 | K36: 58 | L36: 69 | M36: 54 | N36: 76 | O36: 85
B37: 女 | C37: =SUM(D37:O37) -> 747 | D37: 69 | E37: 61 | F37: 62 | G37: 66 | H37: 54 | I37: 66 | J37: 45 | K37: 50 | L37: 66 | M37: 65 | N37: 66 | O37: 77
C38: 粗死亡率 | Q38: =[1]人口!B9 -> (国調年)日本人推計人口 (国調年以外)国調ベース人口 | R38: =[1]人口!C9 -> １月 | S38: =[1]人口!D9 -> ２月 | T38: =[1]人口!E9 -> ３月 | U38: =[1]人口!F9 -> ４月 | V38: =[1]人口!G9 -> ５月 | W38: =[1]人口!H9 -> ６月 | X38: =[1]人口!I9 -> ７月 | ... AC38: =[1]人口!N9 -> １２月
A39: 総数 | C39: =C5/Q39*1000 -> 9.8390592 | D39: =D5/(R39/$Q$50*R$50)*1000 -> 10.990941 | E39: =E5/(S39/$Q$50*S$50)*1000 -> 10.784585 | F39: =F5/(T39/$Q$50*T$50)*1000 -> 10.342923 | G39: =G5/(U39/$Q$50*U$50)*1000 -> 9.5287384 | H39: =H5/(V39/$Q$50*V$50)*1000 -> 9.3637927 | I39: =I5/(W39/$Q$50*W$50)*1000 -> 8.8624875 | J39: =J5/(X39/$Q$50*X$50)*1000 -> 9.1041407 | K39: =K5/(Y39/$Q$50*Y$50)*1000 -> 8.9830288 | ... O39: =O5/(AC39/$Q$50*AC$50)*1000 -> 10.333087 | Q39: =[1]人口!B10 -> 1965940 | R39: =[1]人口!C10 -> 1963626 | S39: =[1]人口!D10 -> 1962987 | T39: =[1]人口!E10 -> 1962570 | U39: =[1]人口!F10 -> 1961225 | V39: =[1]人口!G10 -> 1965343 | W39: =[1]人口!H10 -> 1965889 | X39: =[1]人口!I10 -> 1965784 | ... AC39: =[1]人口!N10 -> 1966717
A40: 中央 | C40: =C8/Q40*1000 -> 8.9495957 | D40: =D8/(R40/$Q$50*R$50)*1000 -> 10.332729 | E40: =E8/(S40/$Q$50*S$50)*1000 -> 9.9834292 | F40: =F8/(T40/$Q$50*T$50)*1000 -> 9.8954273 | G40: =G8/(U40/$Q$50*U$50)*1000 -> 8.918366 | H40: =H8/(V40/$Q$50*V$50)*1000 -> 7.2394982 | I40: =I8/(W40/$Q$50*W$50)*1000 -> 7.8738589 | J40: =J8/(X40/$Q$50*X$50)*1000 -> 9.1211514 | K40: =K8/(Y40/$Q$50*Y$50)*1000 -> 7.9489208 | ... O40: =O8/(AC40/$Q$50*AC$50)*1000 -> 9.3964546 | Q40: =[1]人口!B11 -> 242916 | R40: =[1]人口!C11 -> 241575 | S40: =[1]人口!D11 -> 241561 | T40: =[1]人口!E11 -> 241542 | U40: =[1]人口!F11 -> 241468 | V40: =[1]人口!G11 -> 242331 | W40: =[1]人口!H11 -> 242596 | X40: =[1]人口!I11 -> 242683 | ... AC40: =[1]人口!N11 -> 243091
...

Sheet 4 年次別，死因順位
A1: 4 年次別にみた死因順位
A3: 年次 | B3: 第1位 | D3: 第2位 | F3: 第3位 | H3: 第4位 | J3: 第5位 | L3: 第6位 | N3: 第7位 | P3: 第8位 | R3: 第9位 | T3: 第10位
B4: 死 因 | C4: 死亡数 死亡率 | D4: 死 因 | E4: 死亡数 死亡率 | F4: 死 因 | G4: 死亡数 死亡率 | H4: 死 因 | I4: 死亡数 死亡率 | J4: 死 因 | K4: 死亡数 死亡率 | L4: 死 因 | M4: 死亡数 死亡率 | N4: 死 因 | O4: 死亡数 死亡率 | P4: 死 因 | Q4: 死亡数 死亡率 | R4: 死 因 | S4: 死亡数 死亡率 | T4: 死 因 | U4: 死亡数 死亡率
A5: 1985 昭和60年 | B5: 悪性新生物 | C5: 1986 | D5: 心疾患 | E5: 1511 | F5: 脳血管疾患 | G5: 1075 | H5: 肺炎及び 気管支炎 | I5: 544 | J5: 不慮の事故 及び有害作用 | K5: 266 | L5: 自 殺 | M5: 261 | N5: 腎炎，ﾈﾌﾛｰｾﾞ症 候群及びﾈﾌﾛｰｾﾞ | O5: 176 | P5: 慢性肝疾患 及び肝硬変 | Q5: 152 | R5: 良性及び性質 不詳の新生物 | S5: 118 | T5: 糖尿病 | U5: 89
C6: 128.97712 | E6: 98.129117 | G6: 69.813899 | I6: 35.32908 | K6: 17.274881 | M6: 16.950165 | O6: 11.429996 | Q6: 9.8713606 | S6: 7.6632931 | U6: 5.7799414
A7: 86 61 | B7: 悪性新生物 | C7: 2075 | D7: 心疾患 | E7: 1468 | F7: 脳血管疾患 | G7: 940 | H7: 肺炎及び 気管支炎 | I7: 502 | J7: 自 殺 | K7: 287 | L7: 不慮の事故 及び有害作用 | M7: 265 | N7: 腎炎，ﾈﾌﾛｰｾﾞ症 候群及びﾈﾌﾛｰｾﾞ | O7: 184 | P7: 慢性肝疾患 及び肝硬変 | Q7: 176 | R7: 良性及び性質 不詳の新生物 | S7: 107 | T7: 糖尿病 | U7: 98
C8: 132.42954 | E8: 93.689908 | G8: 59.992175 | I8: 32.038375 | K8: 18.31676 | M8: 16.912688 | O8: 11.743149 | Q8: 11.232578 | S8: 6.8288966 | U8: 6.2545034
A9: 1987 昭和62年 | B9: 悪性新生物 | C9: 2071 | D9: 心疾患 | E9: 1496 | F9: 脳血管疾患 | G9: 908 | H9: 肺炎及び 気管支炎 | I9: 500 | J9: 不慮の事故 及び有害作用 | K9: 255 | L9: 自 殺 | M9: 238 | N9: 腎炎、ﾈﾌﾛｰｾﾞ症 候群及びﾈﾌﾛｰｾﾞ | O9: 206 | P9: 良性及び性質 不詳の新生物 | Q9: 130 | R9: 慢性肝疾患 及び肝硬変 | S9: 128 | T9: 糖尿病 | U9: 98
C10: 129.98955 | E10: 93.898776 | G10: 56.992038 | I10: 31.383281 | K10: 16.005473 | M10: 14.938442 | O10: 12.929912 | Q10: 8.159653 | S10: 8.0341199 | U10: 6.1511231
A11: 1988 昭和63年 | B11: 悪性新生物 | C11: 2288 | D11: 心疾患 | E11: 1716 | F11: 脳血管疾患 | G11: 899 | H11: 肺炎及び 気管支炎 | I11: 589 | J11: 不慮の事故 及び有害作用 | K11: 302 | L11: 自 殺 | M11: 275 | N11: 腎炎、ﾈﾌﾛｰｾﾞ症 候群及びﾈﾌﾛｰｾﾞ | O11: 207 | P11: 慢性肝疾患 及び肝硬変 | Q11: 165 | R11: 良性及び性質 不詳の新生物 | S11: 115 | T11: 糖尿病 | U11: 101
C12: 141.33394 | E12: 106.00045 | G12: 55.532872 | I12: 36.383606 | K12: 18.655091 | M12: 16.987252 | O12: 12.786768 | Q12: 10.192351 | S12: 7.10376 | U12: 6.2389544
A13: 89 平成元年 | B13: 悪性新生物 | C13: 2524 | D13: 心疾患 | E13: 1673 | F13: 脳血管疾患 | G13: 906 | H13: 肺炎及び 気管支炎 | I13: 745 | J13: 不慮の事故 及び有害作用 | K13: 274 | L13: 自 殺 | M13: 251 | N13: 腎炎、ﾈﾌﾛｰｾﾞ症 候群及びﾈﾌﾛｰｾﾞ | O13: 220 | P13: 慢性肝疾患 及び肝硬変 | Q13: 171 | R13: 良性及び性質 不詳の新生物 | S13: 121 | T13: 糖尿病 | U13: 108
C14: 153.42579 | E14: 101.69625 | G14: 55.072807 | I14: 45.286138 | K14: 16.655573 | M14: 15.257478 | O14: 13.373088 | Q14: 10.394536 | S14: 7.3551983 | U14: 6.5649704
A15: 90 2 | B15: 悪性新生物 | C15: 2483 | D15: 心疾患 | E15: 1786 | F15: 肺炎及び 気管支炎 | G15: 870 | H15: 脳血管疾患 | I15: 859 | J15: 不慮の事故 及び有害作用 | K15: 343 | L15: 腎炎、ﾈﾌﾛｰｾﾞ症 候群及びﾈﾌﾛｰｾﾞ | M15: 230 | N15: 自殺 | O15: 208 | P15: 慢性肝疾患 及び肝硬変 | Q15: 153 | R15: 糖尿病 | S15: 121 | T15: 良性及び性質 不詳の新生物 | U15: 103
C16: 148.86234 | E16: 107.07537 | G16: 52.158774 | I16: 51.499295 | K16: 20.563746 | M16: 13.789101 | O16: 12.470144 | Q16: 9.1727499 | S16: 7.2542662 | U16: 6.1751192
A17: 91 3 | B17: 悪性新生物 | C17: 2569 | D17: 心疾患 | E17: 1714 | F17: 脳血管疾患 | G17: 905 | H17: 肺炎及び 気管支炎 | I17: 776 | J17: 不慮の事故 及び有害作用 | K17: 304 | L17: 腎炎、ﾈﾌﾛｰｾﾞ症 候群及びﾈﾌﾛｰｾﾞ | M17: 229 | N17: 自殺 | O17: 192 | P17: 慢性肝疾患 及び肝硬変 | Q17: 176 | R17: 糖尿病 | S17: 126 | T17: 良性及び性質 不詳の新生物 | U17: 117
C18: 151.56449 | E18: 101.12166 | G18: 53.392708 | I18: 45.782035 | K18: 17.93523 | M18: 13.51042 | O18: 11.327514 | Q18: 10.383554 | S18: 7.4336809 | U18: 6.9027037
A19: 92 4 | B19: 悪性新生物 | C19: 2684 | D19: 心疾患 | E19: 1894 | F19: 脳血管疾患 | G19: 955 | H19: 肺炎及び 気管支炎 | I19: 861 | J19: 不慮の事故 及び有害作用 | K19: 296 | L19: 腎炎、ﾈﾌﾛｰｾﾞ症 候群及びﾈﾌﾛｰｾﾞ | M19: 248 | N19: 自殺 | O19: 219 | P19: 慢性肝疾患 及び肝硬変 | Q19: 169 | R19: 糖尿病 | S19: 106 | T19: 良性及び性質 不詳の新生物 | U19: 102
C20: 156.54819 | E20: 110.4703 | G20: 55.701761 | I20: 50.219074 | K20: 17.264629 | M20: 14.46496 | O20: 12.773493 | Q20: 9.8571702 | S20: 6.1826038 | U20: 5.949298
A21: 1993 平成5年 | B21: 悪性新生物 | C21: 2767 | D21: 心疾患 | E21: 1944 | F21: 肺炎及び 気管支炎 | G21: 1142 | H21: 脳血管疾患 | I21: 982 | J21: 不慮の事故 及び有害作用 | K21: 326 | L21: 自 殺 | M21: 241 | N21: 腎炎、ﾈﾌﾛｰｾﾞ症 候群及びﾈﾌﾛｰｾﾞ | O21: 229 | P21: 慢性肝疾患 及び肝硬変 | Q21: 192 | R21: 糖尿病 | S21: 123 | T21: 循環系のその 他の疾患 | U21: 119
C22: 160.08414 | E22: 112.46967 | G22: 66.070145 | I22: 56.813383 | K22: 18.860654 | M22: 13.942999 | O22: 13.248742 | Q22: 11.108116 | S22: 7.1161365 | U22: 6.8847174
A23: 94 6 | B23: 悪性新生物 | C23: 2779 | D23: 心疾患 | E23: 1637 | F23: 脳血管疾患 | G23: 1005 | H23: 肺炎及び 気管支炎 | I23: 971 | J23: 不慮の事故 及び有害作用 | K23: 349 | L23: 腎炎、ﾈﾌﾛｰｾﾞ症 候群及びﾈﾌﾛｰｾﾞ | M23: 255 | N23: 自殺 | O23: 222 | P23: 慢性肝疾患 及び肝硬変 | Q23: 161 | R23: 糖尿病 | S23: 125 | T23: 循環系のその 他の疾患 | U23: 113
C24: 159.66364 | E24: 94.051596 | G24: 57.7409 | I24: 55.787477 | K24: 20.051318 | M24: 14.650676 | O24: 12.754706 | Q24: 9.2500348 | S24: 7.181704 | U24: 6.4922604
A25: 95 7 | B25: 悪性新生物 | C25: 3083 | D25: 心疾患 | E25: 1574 | F25: 脳血管疾患 | G25: 1278 | H25: 肺 炎 | I25: 727 | J25: 不慮の事故 | K25: 377 | L25: 自 殺 | M25: 228 | N25: 腎 不 全 | O25: 204 | P25: 肝疾患 | Q25: 156 | R25: 糖尿病 | S25: 142 | T25: 慢性閉塞性 肺疾患 | U25: 129
C26: 175.96942 | E26: 89.839721 | G26: 72.944831 | I26: 41.495221 | K26: 21.518154 | M26: 13.013632 | O26: 11.643776 | Q26: 8.9040638 | S26: 8.1049812 | U26: 7.3629759
A27: 96 8 | B27: 悪性新生物 | C27: 3295 | D27: 心疾患 | E27: 1536 | F27: 脳血管疾患 | G27: 1292 | H27: 肺 炎 | I27: 689 | J27: 不慮の事故 | K27: 356 | L27: 自 殺 | M27: 248 | N27: 腎 不 全 | O27: 228 | P27: 肝疾患 | Q27: 158 | R27: 糖尿病 | S27: 133 | T27: 慢性閉塞性 肺疾患 | U27: 102
C28: 185.68192 | E28: 86.557643 | G28: 72.807601 | I28: 38.826964 | K28: 20.061537 | M28: 13.975453 | O28: 12.8484 | Q28: 8.9037159 | S28: 7.4949001 | U28: 5.7479685
A29: 97 9 | B29: 悪性新生物 | C29: 3352 | D29: 心疾患 | E29: 1541 | F29: 脳血管疾患 | G29: 1345 | H29: 肺 炎 | I29: 728 | J29: 不慮の事故 | K29: 370 | L29: 自 殺 | M29: 308 | N29: 腎 不 全 | O29: 234 | P29: 肝疾患 | Q29: 183 | R29: 糖尿病 | S29: 130 | T29: 慢性閉塞性 肺疾患 | U29: 122
C30: 187.13492 | E30: 86.030702 | G30: 75.088445 | I30: 40.642668 | K30: 20.656301 | M30: 17.194975 | O30: 13.063715 | Q30: 10.216495 | S30: 7.2576192 | U30: 6.8109965
A31: 98 10 | B31: 悪性新生物 | C31: 3439 | D31: 心疾患 | E31: 1591 | F31: 脳血管疾患 | G31: 1307 | H31: 肺 炎 | I31: 748 | J31: 自 殺 | K31: 413 | L31: 不慮の事故 | M31: 322 | N31: 腎 不 全 | O31: 198 | P31: 肝疾患 | Q31: 145 | R31: 糖尿病 | S31: 144 | T31: その他の 新生物 | U31: 94
C32: 190.67992 | E32: 88.215105 | G32: 72.468348 | I32: 41.473852 | K32: 22.899333 | M32: 17.853717 | O32: 10.978373 | Q32: 8.0397173 | S32: 7.984271 | U32: 5.2119547
A33: 99 11 | B33: 悪性新生物 | C33: 3515 | D33: 心疾患 | E33: 1726 | F33: 脳血管疾患 | G33: 1418 | H33: 肺 炎 | I33: 910 | J33: 自 殺 | K33: 442 | L33: 不慮の事故 | M33: 360 | N33: 腎 不 全 | O33: 222 | P33: 肝疾患 | Q33: 166 | R33: 糖尿病 | S33: 158 | T33: その他の 新生物 | U33: 124
C34: 193.98144 | E34: 95.252339 | G34: 78.254818 | I34: 50.219947 | K34: 24.392546 | M34: 19.867232 | O34: 12.25146 | Q34: 9.1610013 | S34: 8.7195072 | U34: 6.8431576
A35: 2000 12 | B35: 悪性新生物 | C35: 3727 | D35: 心疾患 | E35: 1651 | F35: 脳血管疾患 | G35: 1439 | H35: 肺 炎 | I35: 820 | J35: 自 殺 | K35: 475 | L35: 不慮の事故 | M35: 355 | N35: 腎 不 全 | O35: 228 | P35: 肝疾患 | Q35: 148 | R35: 糖尿病 | S35: 141 | T35: 慢性閉塞性 肺疾患 | U35: 125
C36: 205.1548 | E36: 90.880217 | G36: 79.210559 | I36: 45.137358 | K36: 26.14664 | M36: 19.541173 | O36: 12.550387 | Q36: 8.1467427 | S36: 7.7614237 | U36: 6.8806948
A37: 01 13 | B37: 悪性新生物 | C37: 3765 | D37: 心疾患 | E37: 1669 | F37: 脳血管疾患 | G37: 1341 | H37: 肺 炎 | I37: 803 | J37: 不慮の事故 | K37: 375 | L37: 自 殺 | M37: 351 | N37: 腎 不 全 | O37: 257 | P37: 糖尿病 | Q37: 161 | R37: 肝疾患 | S37: 135 | U37: 128
C38: 205.21245 | E38: 90.969344 | G38: 73.091606 | I38: 43.767755 | K38: 20.439487 | M38: 19.13136 | O38: 14.007862 | Q38: 8.7753531 | S38: 7.3582154 | U38: 6.9766783
A39: 02 14 | B39: 悪性新生物 | C39: 3926 | D39: 心疾患 | E39: 1624 | F39: 脳血管疾患 | G39: 1415 | H39: 肺 炎 | I39: 820 | J39: 自 殺 | K39: 394 | L39: 不慮の事故 | M39: 363 | N39: 腎 不 全 | O39: 289 | P39: 肝 疾 患 | Q39: 150 | R39: 大動脈瘤及び解離 | S39: 139 | T39: 糖 尿 病 | U39: 136
C40: 212.41416 | E40: 87.865665 | G40: 76.55783 | I40: 44.365668 | K40: 21.317163 | M40: 19.639924 | O40: 15.636193 | Q40: 8.115671 | S40: 7.5205218 | U40: 7.3582084
A41: 03 15 | B41: 悪性新生物 | C41: 3997 | D41: 心疾患 | E41: 1761 | F41: 脳血管疾患 | G41: 1468 | H41: 肺 炎 | I41: 960 | J41: 自 殺 | K41: 467 | L41: 不慮の事故 | M41: 390 | N41: 腎 不 全 | O41: 278 | P41: 肝 疾 患 | Q41: 148 | R41: 慢性閉塞性肺疾患 | S41: 144 | T41: 糖 尿 病 | U41: 140
...

Sheet 5　死因順位・総数
A1: 5 性・年齢(5歳階級)別にみた死因順位
A3: 死亡数、死亡率(人口10万対)、割合(％)2) | E3: 総数 | W3: ='3 月・性別，区別死亡数'!$O$2 -> 平成30年
A4: 年齢 | B4: 人口1） | C4: 死亡 総数 | D4: 第1位 | H4: 第2位 | L4: 第3位 | P4: 第4位 | T4: 第5位
D5: 死 因 | E5: 死亡数 | F5: 死亡率 | G5: 割合 (％) | H5: 死 因 | I5: 死亡数 | J5: 死亡率 | K5: 割合 (％) | L5: 死 因 | M5: 死亡数 | N5: 死亡率 | O5: 割合 (％) | P5: 死 因 | Q5: 死亡数 | R5: 死亡率 | S5: 割合 (％) | T5: 死 因 | U5: 死亡数 | V5: 死亡率 | W5: 割合 (％)
A6: 総数 | B6: =[1]人口!$B$39 -> 1965940 | C6: ='9 性・年齢別，区別死亡数'!B6 -> 19343 | D6: 悪性新生物 | E6: 6115 | F6: =IF(E6>0,E6/$B6*100000,"") -> 311.04713 | G6: =IF(E6>0,E6/$C6*100,"") -> 31.613504 | H6: 心疾患 | I6: 2540 | J6: =IF(I6>0,I6/$B6*100000,"") -> 129.20028 | K6: =IF(I6>0,I6/$C6*100,"") -> 13.131365 | L6: 脳血管疾患 | M6: 1418 | N6: =IF(M6>0,M6/$B6*100000,"") -> 72.128346 | O6: =IF(M6>0,M6/$C6*100,"") -> 7.3308173 | P6: 肺 炎 | Q6: 1348 | R6: =IF(Q6>0,Q6/$B6*100000,"") -> 68.567708 | S6: =IF(Q6>0,Q6/$C6*100,"") -> 6.9689293 | T6: 老 衰 | U6: 1019 | V6: =IF(U6>0,U6/$B6*100000,"") -> 51.832711 | W6: =IF(U6>0,U6/$C6*100,"") -> 5.2680556 | Y6: 悪性新生物
A7: 0歳 3） | B7: =[1]出生数!$G$4 -> 13248 | C7: ='9 性・年齢別，区別死亡数'!$C$6 -> 34 | D7: 先天奇形，変形及び染色体異常 | E7: 13 | F7: =IF(E7>0,E7/$B7*100000,"") -> 98.128019 | G7: =IF(E7>0,E7/$C7*100,"") -> 38.235294 | H7: 周産期に特異的な呼吸障害及び心血管障害 | I7: 8 | J7: =IF(I7>0,I7/$B7*100000,"") -> 60.386473 | K7: =IF(I7>0,I7/$C7*100,"") -> 23.529412 | L7: 心疾患 その他の周産期に発生した病態 その他のすべての疾患 | M7: 2 | N7: =IF(M7>0,M7/$B7*100000,"") -> 15.096618 | O7: =IF(M7>0,M7/$C7*100,"") -> 5.8823529 | R7: =IF(Q7>0,Q7/$B7*100000,"") | S7: =IF(Q7>0,Q7/$C7*100,"") | V7: =IF(U7>0,U7/$B7*100000,"") | W7: =IF(U7>0,U7/$C7*100,"") | Y7: 心疾患
A8: 1～ 4 | B8: ='[1]年齢階級・区別人口(住基）'!$E$3-'[1]年齢階級・区別人口(住基）'!$D$3 -> 56816 | C8: =SUM('9 性・年齢別，区別死亡数'!$D$6:$G$6) -> 10 | D8: 敗 血 症 心疾患 | E8: 2 | F8: =IF(E8>0,E8/$B8*100000,"") -> 3.5201352 | G8: =IF(E8>0,E8/$C8*100,"") -> 20 | J8: =IF(I8>0,I8/$B8*100000,"") | K8: =IF(I8>0,I8/$C8*100,"") | L8: 悪性新生物 その他の新生物 肝 疾 患 | M8: 1 | N8: =IF(M8>0,M8/$B8*100000,"") -> 1.7600676 | O8: =IF(M8>0,M8/$C8*100,"") -> 10 | R8: =IF(Q8>0,Q8/$B8*100000,"") | S8: =IF(Q8>0,Q8/$C8*100,"") | V8: =IF(U8>0,U8/$B8*100000,"") | W8: =IF(U8>0,U8/$C8*100,"") | Y8: 脳血管疾患
A9: 5～ 9 | B9: ='[1]年齢階級・区別人口(住基）'!$F$3 -> 74513 | C9: ='9 性・年齢別，区別死亡数'!$I$6 -> 4 | D9: 悪性新生物 | E9: 2 | F9: =IF(E9>0,E9/$B9*100000,"") -> 2.6840954 | G9: =IF(E9>0,E9/$C9*100,"") -> 50 | H9: 心疾患 | I9: 1 | J9: =IF(I9>0,I9/$B9*100000,"") -> 1.3420477 | K9: =IF(I9>0,I9/$C9*100,"") -> 25 | N9: =IF(M9>0,M9/$B9*100000,"") | O9: =IF(M9>0,M9/$C9*100,"") | R9: =IF(Q9>0,Q9/$B9*100000,"") | S9: =IF(Q9>0,Q9/$C9*100,"") | V9: =IF(U9>0,U9/$B9*100000,"") | W9: =IF(U9>0,U9/$C9*100,"") | Y9: 肺 炎
A10: 10～14 | B10: ='[1]年齢階級・区別人口(住基）'!$G$3 -> 76328 | C10: ='9 性・年齢別，区別死亡数'!$J$6 -> 7 | D10: 悪性新生物 糖 尿 病 髄 膜 炎 心疾患 脳血管疾患 先天奇形，変形及び染色体異常 自 殺 | E10: 1 | F10: =IF(E10>0,E10/$B10*100000,"") -> 1.3101352 | G10: =IF(E10>0,E10/$C10*100,"") -> 14.285714 | J10: =IF(I10>0,I10/$B10*100000,"") | K10: =IF(I10>0,I10/$C10*100,"") | N10: =IF(M10>0,M10/$B10*100000,"") | O10: =IF(M10>0,M10/$C10*100,"") | R10: =IF(Q10>0,Q10/$B10*100000,"") | S10: =IF(Q10>0,Q10/$C10*100,"") | V10: =IF(U10>0,U10/$B10*100000,"") | W10: =IF(U10>0,U10/$C10*100,"") | Y10: 不慮の事故
A11: 15～19 | B11: ='[1]年齢階級・区別人口(住基）'!$H$3 -> 81718 | C11: ='9 性・年齢別，区別死亡数'!$K$6 -> 19 | D11: 自 殺 | E11: 6 | F11: =IF(E11>0,E11/$B11*100000,"") -> 7.3423236 | G11: =IF(E11>0,E11/$C11*100,"") -> 31.578947 | H11: 不慮の事故 | I11: 4 | J11: =IF(I11>0,I11/$B11*100000,"") -> 4.8948824 | K11: =IF(I11>0,I11/$C11*100,"") -> 21.052632 | L11: 悪性新生物 | M11: 3 | N11: =IF(M11>0,M11/$B11*100000,"") -> 3.6711618 | O11: =IF(M11>0,M11/$C11*100,"") -> 15.789474 | P11: 敗 血 症 その他の新生物 他 殺 | Q11: 1 | R11: =IF(Q11>0,Q11/$B11*100000,"") -> 1.2237206 | S11: =IF(Q11>0,Q11/$C11*100,"") -> 5.2631579 | V11: =IF(U11>0,U11/$B11*100000,"") | W11: =IF(U11>0,U11/$C11*100,"") | Y11: 自 殺
A12: 20～24 | B12: ='[1]年齢階級・区別人口(住基）'!$I$3 -> 95417 | C12: ='9 性・年齢別，区別死亡数'!$L$6 -> 40 | D12: 自 殺 | E12: 25 | F12: =IF(E12>0,E12/$B12*100000,"") -> 26.200782 | G12: =IF(E12>0,E12/$C12*100,"") -> 62.5 | H12: 不慮の事故 | I12: 4 | J12: =IF(I12>0,I12/$B12*100000,"") -> 4.1921251 | K12: =IF(I12>0,I12/$C12*100,"") -> 10 | L12: 悪性新生物 | M12: 2 | N12: =IF(M12>0,M12/$B12*100000,"") -> 2.0960625 | O12: =IF(M12>0,M12/$C12*100,"") -> 5 | P12: その他の新生物 先天奇形，変形及び染色体異常 他 殺 | Q12: 1 | R12: =IF(Q12>0,Q12/$B12*100000,"") -> 1.0480313 | S12: =IF(Q12>0,Q12/$C12*100,"") -> 2.5 | V12: =IF(U12>0,U12/$B12*100000,"") | W12: =IF(U12>0,U12/$C12*100,"") | Y12: 腎 不 全
A13: 25～29 | B13: ='[1]年齢階級・区別人口(住基）'!$J$3 -> 99856 | C13: ='9 性・年齢別，区別死亡数'!$M$6 -> 34 | D13: 自 殺 | E13: 15 | F13: =IF(E13>0,E13/$B13*100000,"") -> 15.021631 | G13: =IF(E13>0,E13/$C13*100,"") -> 44.117647 | H13: 悪性新生物 不慮の事故 | I13: 4 | J13: =IF(I13>0,I13/$B13*100000,"") -> 4.0057683 | K13: =IF(I13>0,I13/$C13*100,"") -> 11.764706 | N13: =IF(M13>0,M13/$B13*100000,"") | O13: =IF(M13>0,M13/$C13*100,"") | P13: 心疾患 | Q13: 3 | R13: =IF(Q13>0,Q13/$B13*100000,"") -> 3.0043262 | S13: =IF(Q13>0,Q13/$C13*100,"") -> 8.8235294 | T13: その他の新生物 先天奇形，変形及び染色体異常 | U13: 1 | V13: =IF(U13>0,U13/$B13*100000,"") -> 1.0014421 | W13: =IF(U13>0,U13/$C13*100,"") -> 2.9411765 | Y13: 老 衰
A14: 30～34 | B14: ='[1]年齢階級・区別人口(住基）'!$K$3 -> 115082 | C14: ='9 性・年齢別，区別死亡数'!$N$6 -> 59 | D14: 自 殺 | E14: 25 | F14: =IF(E14>0,E14/$B14*100000,"") -> 21.723641 | G14: =IF(E14>0,E14/$C14*100,"") -> 42.372881 | H14: 悪性新生物 | I14: 10 | J14: =IF(I14>0,I14/$B14*100000,"") -> 8.6894562 | K14: =IF(I14>0,I14/$C14*100,"") -> 16.949153 | L14: 不慮の事故 | M14: 8 | N14: =IF(M14>0,M14/$B14*100000,"") -> 6.951565 | O14: =IF(M14>0,M14/$C14*100,"") -> 13.559322 | P14: 心疾患 | Q14: 5 | R14: =IF(Q14>0,Q14/$B14*100000,"") -> 4.3447281 | S14: =IF(Q14>0,Q14/$C14*100,"") -> 8.4745763 | T14: 敗 血 症 髄 膜 炎 脳血管疾患 肝 疾 患 腎 不 全 先天奇形，変形及び染色体異常 | U14: 1 | V14: =IF(U14>0,U14/$B14*100000,"") -> 0.86894562 | W14: =IF(U14>0,U14/$C14*100,"") -> 1.6949153 | Y14: 慢性閉塞性 肺疾患
A15: 35～39 | B15: ='[1]年齢階級・区別人口(住基）'!$L$3 -> 126631 | C15: ='9 性・年齢別，区別死亡数'!$O$6 -> 92 | D15: 自 殺 | E15: 20 | F15: =IF(E15>0,E15/$B15*100000,"") -> 15.793921 | G15: =IF(E15>0,E15/$C15*100,"") -> 21.73913 | H15: 悪性新生物 | I15: 17 | J15: =IF(I15>0,I15/$B15*100000,"") -> 13.424833 | K15: =IF(I15>0,I15/$C15*100,"") -> 18.478261 | L15: 心疾患 不慮の事故 | M15: 8 | N15: =IF(M15>0,M15/$B15*100000,"") -> 6.3175684 | O15: =IF(M15>0,M15/$C15*100,"") -> 8.6956522 | R15: =IF(Q15>0,Q15/$B15*100000,"") | S15: =IF(Q15>0,Q15/$C15*100,"") | T15: 肝 疾 患 | U15: 7 | V15: =IF(U15>0,U15/$B15*100000,"") -> 5.5278723 | W15: =IF(U15>0,U15/$C15*100,"") -> 7.6086957 | Y15: その他の 新生物
A16: 40～44 | B16: ='[1]年齢階級・区別人口(住基）'!$M$3 -> 147253 | C16: ='9 性・年齢別，区別死亡数'!$P$6 -> 155 | D16: 悪性新生物 | E16: 45 | F16: =IF(E16>0,E16/$B16*100000,"") -> 30.559649 | G16: =IF(E16>0,E16/$C16*100,"") -> 29.032258 | H16: 自 殺 | I16: 33 | J16: =IF(I16>0,I16/$B16*100000,"") -> 22.410409 | K16: =IF(I16>0,I16/$C16*100,"") -> 21.290323 | L16: 脳血管疾患 | M16: 20 | N16: =IF(M16>0,M16/$B16*100000,"") -> 13.582066 | O16: =IF(M16>0,M16/$C16*100,"") -> 12.903226 | P16: 心疾患 | Q16: 14 | R16: =IF(Q16>0,Q16/$B16*100000,"") -> 9.5074464 | S16: =IF(Q16>0,Q16/$C16*100,"") -> 9.0322581 | T16: 肝 疾 患 不慮の事故 | U16: 7 | V16: =IF(U16>0,U16/$B16*100000,"") -> 4.7537232 | W16: =IF(U16>0,U16/$C16*100,"") -> 4.516129 | Y16: 糖 尿 病
A17: 45～49 | B17: ='[1]年齢階級・区別人口(住基）'!$N$3 -> 153168 | C17: ='9 性・年齢別，区別死亡数'!$Q$6 -> 214 | D17: 悪性新生物 | E17: 82 | F17: =IF(E17>0,E17/$B17*100000,"") -> 53.535987 | G17: =IF(E17>0,E17/$C17*100,"") -> 38.317757 | H17: 自 殺 | I17: 30 | J17: =IF(I17>0,I17/$B17*100000,"") -> 19.586337 | K17: =IF(I17>0,I17/$C17*100,"") -> 14.018692 | L17: 脳血管疾患 | M17: 19 | N17: =IF(M17>0,M17/$B17*100000,"") -> 12.40468 | O17: =IF(M17>0,M17/$C17*100,"") -> 8.8785047 | P17: 心疾患 | Q17: 18 | R17: =IF(Q17>0,Q17/$B17*100000,"") -> 11.751802 | S17: =IF(Q17>0,Q17/$C17*100,"") -> 8.411215 | T17: 不慮の事故 | U17: 11 | V17: =IF(U17>0,U17/$B17*100000,"") -> 7.1816567 | W17: =IF(U17>0,U17/$C17*100,"") -> 5.1401869 | Y17: 先天奇形， 変形及び 染色体異常
A18: 50～54 | B18: ='[1]年齢階級・区別人口(住基）'!$O$3 -> 133525 | C18: ='9 性・年齢別，区別死亡数'!$R$6 -> 321 | D18: 悪性新生物 | E18: 147 | F18: =IF(E18>0,E18/$B18*100000,"") -> 110.09174 | G18: =IF(E18>0,E18/$C18*100,"") -> 45.794393 | H18: 自 殺 | I18: 28 | J18: =IF(I18>0,I18/$B18*100000,"") -> 20.969856 | K18: =IF(I18>0,I18/$C18*100,"") -> 8.7227414 | L18: 心疾患 | M18: 27 | N18: =IF(M18>0,M18/$B18*100000,"") -> 20.220932 | O18: =IF(M18>0,M18/$C18*100,"") -> 8.411215 | P18: 肝 疾 患 | Q18: 21 | R18: =IF(Q18>0,Q18/$B18*100000,"") -> 15.727392 | S18: =IF(Q18>0,Q18/$C18*100,"") -> 6.5420561 | T18: 脳血管疾患 不慮の事故 | U18: 15 | V18: =IF(U18>0,U18/$B18*100000,"") -> 11.233851 | W18: =IF(U18>0,U18/$C18*100,"") -> 4.6728972 | Y18: 周産期に 発生した病態
A19: 55～59 | B19: ='[1]年齢階級・区別人口(住基）'!$P$3 -> 125451 | C19: ='9 性・年齢別，区別死亡数'!$S$6 -> 476 | D19: 悪性新生物 | E19: 245 | F19: =IF(E19>0,E19/$B19*100000,"") -> 195.29537 | G19: =IF(E19>0,E19/$C19*100,"") -> 51.470588 | H19: 心疾患 | I19: 40 | J19: =IF(I19>0,I19/$B19*100000,"") -> 31.884959 | K19: =IF(I19>0,I19/$C19*100,"") -> 8.4033613 | L19: 自 殺 | M19: 31 | N19: =IF(M19>0,M19/$B19*100000,"") -> 24.710843 | O19: =IF(M19>0,M19/$C19*100,"") -> 6.512605 | P19: 脳血管疾患 | Q19: 29 | R19: =IF(Q19>0,Q19/$B19*100000,"") -> 23.116595 | S19: =IF(Q19>0,Q19/$C19*100,"") -> 6.092437 | T19: 肝 疾 患 | U19: 16 | V19: =IF(U19>0,U19/$B19*100000,"") -> 12.753984 | W19: =IF(U19>0,U19/$C19*100,"") -> 3.3613445 | Y19: 乳幼児突然死 症候群
A20: 60～64 | B20: ='[1]年齢階級・区別人口(住基）'!$Q$3 -> 123510 | C20: ='9 性・年齢別，区別死亡数'!$T$6 -> 708 | D20: 悪性新生物 | E20: 349 | F20: =IF(E20>0,E20/$B20*100000,"") -> 282.56821 | G20: =IF(E20>0,E20/$C20*100,"") -> 49.293785 | H20: 心疾患 | I20: 60 | J20: =IF(I20>0,I20/$B20*100000,"") -> 48.579062 | K20: =IF(I20>0,I20/$C20*100,"") -> 8.4745763 | L20: 脳血管疾患 | M20: 48 | N20: =IF(M20>0,M20/$B20*100000,"") -> 38.86325 | O20: =IF(M20>0,M20/$C20*100,"") -> 6.779661 | P20: 肝 疾 患 | Q20: 25 | R20: =IF(Q20>0,Q20/$B20*100000,"") -> 20.241276 | S20: =IF(Q20>0,Q20/$C20*100,"") -> 3.5310734 | T20: 不慮の事故 | U20: 24 | V20: =IF(U20>0,U20/$B20*100000,"") -> 19.431625 | W20: =IF(U20>0,U20/$C20*100,"") -> 3.3898305 | Y20: インフルエンザ
A21: 65～69 | B21: ='[1]年齢階級・区別人口(住基）'!$R$3 -> 151394 | C21: ='9 性・年齢別，区別死亡数'!$U$6 -> 1373 | D21: 悪性新生物 | E21: 724 | F21: =IF(E21>0,E21/$B21*100000,"") -> 478.22239 | G21: =IF(E21>0,E21/$C21*100,"") -> 52.731245 | H21: 心疾患 | I21: 110 | J21: =IF(I21>0,I21/$B21*100000,"") -> 72.658097 | K21: =IF(I21>0,I21/$C21*100,"") -> 8.0116533 | L21: 脳血管疾患 | M21: 78 | N21: =IF(M21>0,M21/$B21*100000,"") -> 51.521196 | O21: =IF(M21>0,M21/$C21*100,"") -> 5.6809905 | P21: 肺 炎 不慮の事故 | Q21: 38 | R21: =IF(Q21>0,Q21/$B21*100000,"") -> 25.10007 | S21: =IF(Q21>0,Q21/$C21*100,"") -> 2.7676621 | V21: =IF(U21>0,U21/$B21*100000,"") | W21: =IF(U21>0,U21/$C21*100,"") | Y21: 敗 血 症
A22: 70～74 | B22: ='[1]年齢階級・区別人口(住基）'!$S$3 -> 120560 | C22: ='9 性・年齢別，区別死亡数'!$V$6 -> 1757 | D22: 悪性新生物 | E22: 855 | F22: =IF(E22>0,E22/$B22*100000,"") -> 709.19044 | G22: =IF(E22>0,E22/$C22*100,"") -> 48.662493 | H22: 心疾患 | I22: 179 | J22: =IF(I22>0,I22/$B22*100000,"") -> 148.47379 | K22: =IF(I22>0,I22/$C22*100,"") -> 10.18782 | L22: 脳血管疾患 | M22: 105 | N22: =IF(M22>0,M22/$B22*100000,"") -> 87.093563 | O22: =IF(M22>0,M22/$C22*100,"") -> 5.9760956 | P22: 肺 炎 | Q22: 64 | R22: =IF(Q22>0,Q22/$B22*100000,"") -> 53.085601 | S22: =IF(Q22>0,Q22/$C22*100,"") -> 3.6425726 | T22: 不慮の事故 | U22: 41 | V22: =IF(U22>0,U22/$B22*100000,"") -> 34.007963 | W22: =IF(U22>0,U22/$C22*100,"") -> 2.3335231 | Y22: ヘルニア及び 腸閉塞
A23: 75～79 | B23: ='[1]年齢階級・区別人口(住基）'!$T$3 -> 94743 | C23: ='9 性・年齢別，区別死亡数'!$W$6 -> 2274 | D23: 悪性新生物 | E23: 958 | F23: =IF(E23>0,E23/$B23*100000,"") -> 1011.1565 | G23: =IF(E23>0,E23/$C23*100,"") -> 42.128408 | H23: 心疾患 | I23: 237 | J23: =IF(I23>0,I23/$B23*100000,"") -> 250.15041 | K23: =IF(I23>0,I23/$C23*100,"") -> 10.422164 | L23: 脳血管疾患 | M23: 158 | N23: =IF(M23>0,M23/$B23*100000,"") -> 166.76694 | O23: =IF(M23>0,M23/$C23*100,"") -> 6.9481091 | P23: 肺 炎 | Q23: 119 | R23: =IF(Q23>0,Q23/$B23*100000,"") -> 125.60295 | S23: =IF(Q23>0,Q23/$C23*100,"") -> 5.2330695 | T23: 腎 不 全 | U23: 45 | V23: =IF(U23>0,U23/$B23*100000,"") -> 47.496913 | W23: =IF(U23>0,U23/$C23*100,"") -> 1.9788918 | Y23: 貧 血
A24: 80～84 | B24: ='[1]年齢階級・区別人口(住基）'!$U$3 -> 73002 | C24: ='9 性・年齢別，区別死亡数'!$X$6 -> 3058 | D24: 悪性新生物 | E24: 999 | F24: =IF(E24>0,E24/$B24*100000,"") -> 1368.4557 | G24: =IF(E24>0,E24/$C24*100,"") -> 32.668411 | H24: 心疾患 | I24: 365 | J24: =IF(I24>0,I24/$B24*100000,"") -> 499.9863 | K24: =IF(I24>0,I24/$C24*100,"") -> 11.935906 | L24: 脳血管疾患 | M24: 237 | N24: =IF(M24>0,M24/$B24*100000,"") -> 324.64864 | O24: =IF(M24>0,M24/$C24*100,"") -> 7.7501635 | P24: 肺 炎 | Q24: 209 | R24: =IF(Q24>0,Q24/$B24*100000,"") -> 286.29353 | S24: =IF(Q24>0,Q24/$C24*100,"") -> 6.8345324 | T24: 不慮の事故 | U24: 80 | V24: =IF(U24>0,U24/$B24*100000,"") -> 109.58604 | W24: =IF(U24>0,U24/$C24*100,"") -> 2.6160889 | Y24: 喘 息
A25: 85～89 | B25: ='[1]年齢階級・区別人口(住基）'!$V$3 -> 49321 | C25: ='9 性・年齢別，区別死亡数'!$Y$6 -> 3763 | D25: 悪性新生物 | E25: 963 | F25: =IF(E25>0,E25/$B25*100000,"") -> 1952.5152 | G25: =IF(E25>0,E25/$C25*100,"") -> 25.591284 | H25: 心疾患 | I25: 511 | J25: =IF(I25>0,I25/$B25*100000,"") -> 1036.0698 | K25: =IF(I25>0,I25/$C25*100,"") -> 13.579591 | L25: 肺 炎 | M25: 359 | N25: =IF(M25>0,M25/$B25*100000,"") -> 727.88467 | O25: =IF(M25>0,M25/$C25*100,"") -> 9.5402604 | P25: 脳血管疾患 | Q25: 318 | R25: =IF(Q25>0,Q25/$B25*100000,"") -> 644.75578 | S25: =IF(Q25>0,Q25/$C25*100,"") -> 8.4507042 | T25: 老 衰 | U25: 203 | V25: =IF(U25>0,U25/$B25*100000,"") -> 411.58938 | W25: =IF(U25>0,U25/$C25*100,"") -> 5.3946319
A26: 90歳～ | B26: =SUM('[1]年齢階級・区別人口(住基）'!$W$3:$Y$3) -> 30150 | C26: =SUM('9 性・年齢別，区別死亡数'!Z6:AB6) -> 4945 | D26: 心疾患 | E26: 957 | F26: =IF(E26>0,E26/$B26*100000,"") -> 3174.1294 | G26: =IF(E26>0,E26/$C26*100,"") -> 19.352882 | H26: 老 衰 | I26: 718 | J26: =IF(I26>0,I26/$B26*100000,"") -> 2381.4262 | K26: =IF(I26>0,I26/$C26*100,"") -> 14.519717 | L26: 悪性新生物 | M26: 708 | N26: =IF(M26>0,M26/$B26*100000,"") -> 2348.2587 | O26: =IF(M26>0,M26/$C26*100,"") -> 14.317492 | P26: 肺 炎 | Q26: 521 | R26: =IF(Q26>0,Q26/$B26*100000,"") -> 1728.0265 | S26: =IF(Q26>0,Q26/$C26*100,"") -> 10.535895 | T26: 脳血管疾患 | U26: 384 | V26: =IF(U26>0,U26/$B26*100000,"") -> 1273.6318 | W26: =IF(U26>0,U26/$C26*100,"") -> 7.7654196
A27: 1) 総数は国勢調査による日本人人口、年齢別は住民基本台帳による10月1日現在の人口である。 | L27: 2） それぞれの年齢階級別死亡数を100とした場合の割合である。
A28: 3) 乳児の死因については乳児死因簡単分類を使用。死亡率は出生10万対の率である。 | L28: 4) 出生数
A29: 注) 「心疾患」は「心疾患(高血圧症を除く）」である。

Sheet 5　死因順位・男
A1: 5 性・年齢(5歳階級)別にみた死因順位(つづき)
A3: 死亡数、死亡率(人口10万対)、割合(％)2) | E3: 男 | W3: ='3 月・性別，区別死亡数'!$O$2 -> 平成30年
A4: 年齢 | B4: 人口1） | C4: 死亡 総数 | D4: 第1位 | H4: 第2位 | L4: 第3位 | P4: 第4位 | T4: 第5位
D5: 死 因 | E5: 死亡数 | F5: 死亡率 | G5: 割合 (％) | H5: 死 因 | I5: 死亡数 | J5: 死亡率 | K5: 割合 (％) | L5: 死 因 | M5: 死亡数 | N5: 死亡率 | O5: 割合 (％) | P5: 死 因 | Q5: 死亡数 | R5: 死亡率 | S5: 割合 (％) | T5: 死 因 | U5: 死亡数 | V5: 死亡率 | W5: 割合 (％)
A6: 総数 | B6: =[1]人口!$B$40 -> 914851 | C6: ='9 性・年齢別，区別死亡数'!B18 -> 9925 | D6: 悪性新生物 | E6: 3430 | F6: =IF(E6>0,E6/$B6*100000,"") -> 374.92444 | G6: =IF(E6>0,E6/$C6*100,"") -> 34.559194 | H6: 心疾患 | I6: 1161 | J6: =IF(I6>0,I6/$B6*100000,"") -> 126.90591 | K6: =IF(I6>0,I6/$C6*100,"") -> 11.697733 | L6: 肺 炎 | M6: 760 | N6: =IF(M6>0,M6/$B6*100000,"") -> 83.073637 | O6: =IF(M6>0,M6/$C6*100,"") -> 7.6574307 | P6: 脳血管疾患 | Q6: 724 | R6: =IF(Q6>0,Q6/$B6*100000,"") -> 79.13857 | S6: =IF(Q6>0,Q6/$C6*100,"") -> 7.2947103 | T6: 老 衰 | U6: 269 | V6: =IF(U6>0,U6/$B6*100000,"") -> 29.403695 | W6: =IF(U6>0,U6/$C6*100,"") -> 2.7103275 | Y6: 悪性新生物
A7: 0歳 3） | B7: =[1]出生数!$H$4 -> 6744 | C7: ='9 性・年齢別，区別死亡数'!$C$18 -> 16 | D7: 周産期に特異的な呼吸障害及び心血管障害 | E7: 6 | F7: =IF(E7>0,E7/$B7*100000,"") -> 88.967972 | G7: =IF(E7>0,E7/$C7*100,"") -> 37.5 | H7: 先天奇形，変形及び染色体異常 | I7: 5 | J7: =IF(I7>0,I7/$B7*100000,"") -> 74.139976 | K7: =IF(I7>0,I7/$C7*100,"") -> 31.25 | L7: 敗血症（新生児の細菌性敗血症を除く） 胎児及び新生児の出血性障害及び血液障害 その他の周産期に発生した病態 その他のすべての疾患 | M7: 1 | N7: =IF(M7>0,M7/$B7*100000,"") -> 14.827995 | O7: =IF(M7>0,M7/$C7*100,"") -> 6.25 | R7: =IF(Q7>0,Q7/$B7*100000,"") | S7: =IF(Q7>0,Q7/$C7*100,"") | V7: =IF(U7>0,U7/$B7*100000,"") | W7: =IF(U7>0,U7/$C7*100,"") | Y7: 心疾患
A8: 1～ 4 | B8: ='[1]年齢階級・区別人口(住基）'!$E$4-'[1]年齢階級・区別人口(住基）'!$D$4 -> 29190 | C8: =SUM('9 性・年齢別，区別死亡数'!$D$18:$G$18) -> 3 | D8: 敗 血 症 | E8: 1 | F8: =IF(E8>0,E8/$B8*100000,"") -> 3.4258308 | G8: =IF(E8>0,E8/$C8*100,"") -> 33.333333 | J8: =IF(I8>0,I8/$B8*100000,"") | K8: =IF(I8>0,I8/$C8*100,"") | N8: =IF(M8>0,M8/$B8*100000,"") | O8: =IF(M8>0,M8/$C8*100,"") | R8: =IF(Q8>0,Q8/$B8*100000,"") | S8: =IF(Q8>0,Q8/$C8*100,"") | V8: =IF(U8>0,U8/$B8*100000,"") | W8: =IF(U8>0,U8/$C8*100,"") | Y8: 脳血管疾患
A9: 5～ 9 | B9: ='[1]年齢階級・区別人口(住基）'!$F$4 -> 38133 | C9: ='9 性・年齢別，区別死亡数'!$I$18 -> 3 | D9: 悪性新生物 | E9: 2 | F9: =IF(E9>0,E9/$B9*100000,"") -> 5.2448011 | G9: =IF(E9>0,E9/$C9*100,"") -> 66.666667 | J9: =IF(I9>0,I9/$B9*100000,"") | K9: =IF(I9>0,I9/$C9*100,"") | N9: =IF(M9>0,M9/$B9*100000,"") | O9: =IF(M9>0,M9/$C9*100,"") | R9: =IF(Q9>0,Q9/$B9*100000,"") | S9: =IF(Q9>0,Q9/$C9*100,"") | V9: =IF(U9>0,U9/$B9*100000,"") | W9: =IF(U9>0,U9/$C9*100,"") | Y9: 肺 炎
A10: 10～14 | B10: ='[1]年齢階級・区別人口(住基）'!$G$4 -> 38840 | C10: ='9 性・年齢別，区別死亡数'!$J$18 -> 6 | D10: 悪性新生物 糖 尿 病 髄 膜 炎 脳血管疾患 先天奇形，変形及び染色体異常 自 殺 | E10: 1 | F10: =IF(E10>0,E10/$B10*100000,"") -> 2.5746653 | G10: =IF(E10>0,E10/$C10*100,"") -> 16.666667 | J10: =IF(I10>0,I10/$B10*100000,"") | K10: =IF(I10>0,I10/$C10*100,"") | N10: =IF(M10>0,M10/$B10*100000,"") | O10: =IF(M10>0,M10/$C10*100,"") | R10: =IF(Q10>0,Q10/$B10*100000,"") | S10: =IF(Q10>0,Q10/$C10*100,"") | V10: =IF(U10>0,U10/$B10*100000,"") | W10: =IF(U10>0,U10/$C10*100,"") | Y10: 不慮の事故
A11: 15～19 | B11: ='[1]年齢階級・区別人口(住基）'!$H$4 -> 41296 | C11: ='9 性・年齢別，区別死亡数'!$K$18 -> 15 | D11: 不慮の事故 自 殺 | E11: 4 | F11: =IF(E11>0,E11/$B11*100000,"") -> 9.6861682 | G11: =IF(E11>0,E11/$C11*100,"") -> 26.666667 | J11: =IF(I11>0,I11/$B11*100000,"") | K11: =IF(I11>0,I11/$C11*100,"") | L11: 悪性新生物 | M11: 2 | N11: =IF(M11>0,M11/$B11*100000,"") -> 4.8430841 | O11: =IF(M11>0,M11/$C11*100,"") -> 13.333333 | P11: その他の新生物 他 殺 | Q11: 1 | R11: =IF(Q11>0,Q11/$B11*100000,"") -> 2.421542 | S11: =IF(Q11>0,Q11/$C11*100,"") -> 6.6666667 | V11: =IF(U11>0,U11/$B11*100000,"") | W11: =IF(U11>0,U11/$C11*100,"") | Y11: 自 殺
A12: 20～24 | B12: ='[1]年齢階級・区別人口(住基）'!$I$4 -> 46391 | C12: ='9 性・年齢別，区別死亡数'!$L$18 -> 27 | D12: 自 殺 | E12: 21 | F12: =IF(E12>0,E12/$B12*100000,"") -> 45.267401 | G12: =IF(E12>0,E12/$C12*100,"") -> 77.777778 | H12: 不慮の事故 | I12: 2 | J12: =IF(I12>0,I12/$B12*100000,"") -> 4.311181 | K12: =IF(I12>0,I12/$C12*100,"") -> 7.4074074 | L12: 悪性新生物 その他の新生物 | M12: 1 | N12: =IF(M12>0,M12/$B12*100000,"") -> 2.1555905 | O12: =IF(M12>0,M12/$C12*100,"") -> 3.7037037 | R12: =IF(Q12>0,Q12/$B12*100000,"") | S12: =IF(Q12>0,Q12/$C12*100,"") | V12: =IF(U12>0,U12/$B12*100000,"") | W12: =IF(U12>0,U12/$C12*100,"") | Y12: 腎 不 全
A13: 25～29 | B13: ='[1]年齢階級・区別人口(住基）'!$J$4 -> 47325 | C13: ='9 性・年齢別，区別死亡数'!$M$18 -> 24 | D13: 自 殺 | E13: 9 | F13: =IF(E13>0,E13/$B13*100000,"") -> 19.017433 | G13: =IF(E13>0,E13/$C13*100,"") -> 37.5 | H13: 悪性新生物 心疾患 不慮の事故 | I13: 3 | J13: =IF(I13>0,I13/$B13*100000,"") -> 6.3391442 | K13: =IF(I13>0,I13/$C13*100,"") -> 12.5 | N13: =IF(M13>0,M13/$B13*100000,"") | O13: =IF(M13>0,M13/$C13*100,"") | R13: =IF(Q13>0,Q13/$B13*100000,"") | S13: =IF(Q13>0,Q13/$C13*100,"") | T13: その他の新生物 | U13: 1 | V13: =IF(U13>0,U13/$B13*100000,"") -> 2.1130481 | W13: =IF(U13>0,U13/$C13*100,"") -> 4.1666667 | Y13: 老 衰
A14: 30～34 | B14: ='[1]年齢階級・区別人口(住基）'!$K$4 -> 55925 | C14: ='9 性・年齢別，区別死亡数'!$N$18 -> 40 | D14: 自 殺 | E14: 19 | F14: =IF(E14>0,E14/$B14*100000,"") -> 33.974072 | G14: =IF(E14>0,E14/$C14*100,"") -> 47.5 | H14: 悪性新生物 | I14: 6 | J14: =IF(I14>0,I14/$B14*100000,"") -> 10.728654 | K14: =IF(I14>0,I14/$C14*100,"") -> 15 | L14: 不慮の事故 | M14: 5 | N14: =IF(M14>0,M14/$B14*100000,"") -> 8.9405454 | O14: =IF(M14>0,M14/$C14*100,"") -> 12.5 | P14: 心疾患 | Q14: 4 | R14: =IF(Q14>0,Q14/$B14*100000,"") -> 7.1524363 | S14: =IF(Q14>0,Q14/$C14*100,"") -> 10 | T14: 脳血管疾患 肝 疾 患 | U14: 1 | V14: =IF(U14>0,U14/$B14*100000,"") -> 1.7881091 | W14: =IF(U14>0,U14/$C14*100,"") -> 2.5 | Y14: 慢性閉塞性肺疾患
A15: 35～39 | B15: ='[1]年齢階級・区別人口(住基）'!$L$4 -> 61208 | C15: ='9 性・年齢別，区別死亡数'!$O$18 -> 56 | D15: 自 殺 | E15: 13 | F15: =IF(E15>0,E15/$B15*100000,"") -> 21.239054 | G15: =IF(E15>0,E15/$C15*100,"") -> 23.214286 | H15: 悪性新生物 不慮の事故 | I15: 6 | J15: =IF(I15>0,I15/$B15*100000,"") -> 9.8026402 | K15: =IF(I15>0,I15/$C15*100,"") -> 10.714286 | N15: =IF(M15>0,M15/$B15*100000,"") | O15: =IF(M15>0,M15/$C15*100,"") | P15: 心疾患 | Q15: 5 | R15: =IF(Q15>0,Q15/$B15*100000,"") -> 8.1688668 | S15: =IF(Q15>0,Q15/$C15*100,"") -> 8.9285714 | T15: 脳血管疾患 肝 疾 患 | U15: 4 | V15: =IF(U15>0,U15/$B15*100000,"") -> 6.5350935 | W15: =IF(U15>0,U15/$C15*100,"") -> 7.1428571 | Y15: その他の新生物
A16: 40～44 | B16: ='[1]年齢階級・区別人口(住基）'!$M$4 -> 71422 | C16: ='9 性・年齢別，区別死亡数'!$P$18 -> 89 | D16: 自 殺 | E16: 23 | F16: =IF(E16>0,E16/$B16*100000,"") -> 32.202963 | G16: =IF(E16>0,E16/$C16*100,"") -> 25.842697 | H16: 悪性新生物 | I16: 16 | J16: =IF(I16>0,I16/$B16*100000,"") -> 22.402061 | K16: =IF(I16>0,I16/$C16*100,"") -> 17.977528 | L16: 心疾患 脳血管疾患 | M16: 13 | N16: =IF(M16>0,M16/$B16*100000,"") -> 18.201675 | O16: =IF(M16>0,M16/$C16*100,"") -> 14.606742 | R16: =IF(Q16>0,Q16/$B16*100000,"") | S16: =IF(Q16>0,Q16/$C16*100,"") | T16: 肝 疾 患 | U16: 5 | V16: =IF(U16>0,U16/$B16*100000,"") -> 7.0006441 | W16: =IF(U16>0,U16/$C16*100,"") -> 5.6179775 | Y16: 糖 尿 病
A17: 45～49 | B17: ='[1]年齢階級・区別人口(住基）'!$N$4 -> 73677 | C17: ='9 性・年齢別，区別死亡数'!$Q$18 -> 123 | D17: 悪性新生物 | E17: 29 | F17: =IF(E17>0,E17/$B17*100000,"") -> 39.360995 | G17: =IF(E17>0,E17/$C17*100,"") -> 23.577236 | H17: 自 殺 | I17: 22 | J17: =IF(I17>0,I17/$B17*100000,"") -> 29.860065 | K17: =IF(I17>0,I17/$C17*100,"") -> 17.886179 | L17: 脳血管疾患 | M17: 16 | N17: =IF(M17>0,M17/$B17*100000,"") -> 21.716411 | O17: =IF(M17>0,M17/$C17*100,"") -> 13.00813 | P17: 心疾患 | Q17: 15 | R17: =IF(Q17>0,Q17/$B17*100000,"") -> 20.359135 | S17: =IF(Q17>0,Q17/$C17*100,"") -> 12.195122 | T17: 不慮の事故 | U17: 7 | V17: =IF(U17>0,U17/$B17*100000,"") -> 9.5009297 | W17: =IF(U17>0,U17/$C17*100,"") -> 5.6910569 | Y17: 先天奇形，変形 及び染色体異常
A18: 50～54 | B18: ='[1]年齢階級・区別人口(住基）'!$O$4 -> 62919 | C18: ='9 性・年齢別，区別死亡数'!$R$18 -> 194 | D18: 悪性新生物 | E18: 62 | F18: =IF(E18>0,E18/$B18*100000,"") -> 98.539392 | G18: =IF(E18>0,E18/$C18*100,"") -> 31.958763 | H18: 心疾患 | I18: 24 | J18: =IF(I18>0,I18/$B18*100000,"") -> 38.144281 | K18: =IF(I18>0,I18/$C18*100,"") -> 12.371134 | L18: 自 殺 | M18: 21 | N18: =IF(M18>0,M18/$B18*100000,"") -> 33.376246 | O18: =IF(M18>0,M18/$C18*100,"") -> 10.824742 | P18: 肝 疾 患 | Q18: 17 | R18: =IF(Q18>0,Q18/$B18*100000,"") -> 27.018866 | S18: =IF(Q18>0,Q18/$C18*100,"") -> 8.7628866 | T18: 脳血管疾患 | U18: 10 | V18: =IF(U18>0,U18/$B18*100000,"") -> 15.89345 | W18: =IF(U18>0,U18/$C18*100,"") -> 5.1546392 | Y18: 周産期に 発生した病態
