Workbook

Sheet 1　平均余命の推移
A1: 1 平均余命の推移
A3: （単位 年）
A4: 年 次 及び 主な年齢 | B4: 札幌市 | F4: 北海道 | J4: 全国
B5: 男 | D5: 女 | F5: 男 | H5: 女 | J5: 男 | L5: 女
A6: 1970 昭和45年 | B6: 70.77 | C6: 1) | D6: 76.01 | E6: 1) | F6: 69.26 | G6: 1) | H6: 74.73 | I6: 1) | J6: 69.31 | K6: 2) | L6: 74.66 | M6: 2)
A7: 75 50 | B7: 72.76 | C7: 1) | D7: 77.42 | E7: 1) | F7: 71.46 | G7: 1) | H7: 76.74 | I7: 1) | J7: 71.73 | K7: 2) | L7: 76.89 | M7: 2)
A8: 80 55 | B8: 73.89 | C8: 1) | D8: 78.85 | E8: 1) | F8: 72.96 | G8: 1) | H8: 78.58 | I8: 1) | J8: 73.35 | K8: 2) | L8: 78.76 | M8: 2)
A9: 85 60 | B9: 75.33 | C9: 1) | D9: 80.87 | E9: 1) | F9: 74.5 | G9: 1) | H9: 80.42 | I9: 1) | J9: 74.78 | K9: 2) | L9: 80.48 | M9: 2)
A10: 90 平成2年 | B10: 76.27 | C10: 1) | D10: 82.57 | E10: 1) | F10: 75.67 | G10: 1) | H10: 81.92 | I10: 1) | J10: 75.92 | K10: 2) | L10: 81.9 | M10: 2)
A11: 91 3 | B11: 76.43 | D11: 83.42 | F11: 75.96 | H11: 82.38 | J11: 76.11 | L11: 82.11
A12: 92 4 | B12: 76.63 | D12: 83.36 | F12: 75.97 | H12: 82.39 | J12: 76.09 | L12: 82.22
A13: 93 5 | B13: 76.48 | D13: 82.91 | F13: 76.14 | H13: 82.39 | J13: 76.25 | L13: 82.51
A14: 94 6 | B14: 77.07 | D14: 83.72 | F14: 76.63 | H14: 83.02 | J14: 76.57 | L14: 82.98
A15: 95 7 | B15: 77.41 | C15: 1) | D15: 84.41 | E15: 1) | F15: 76.56 | G15: 1) | H15: 83.41 | I15: 1) | J15: 76.38 | K15: 2) | L15: 82.85 | M15: 2)
J16: 76.46 | K16: 2)3) | L16: 82.96 | M16: 2)3)
A17: 96 8 | B17: 77.52 | D17: 84.36 | F17: 76.83 | H17: 83.58 | J17: 77.01 | L17: 83.59
A18: 97 9 | B18: 77.58 | D18: 84.59 | F18: 77.14 | H18: 83.79 | J18: 77.19 | L18: 83.82
A19: 98 10 | B19: 77.9 | D19: 85.05 | F19: 77.25 | H19: 84.26 | J19: 77.16 | L19: 84.01
A20: 99 11 | B20: 77.77 | D20: 84.46 | F20: 77.05 | H20: 83.97 | J20: 77.1 | L20: 83.99
A21: 2000 12 | B21: 78.55 | C21: 1) | D21: 85.61 | E21: 1) | F21: 77.55 | G21: 1) | H21: 84.84 | I21: 1) | J21: 77.72 | K21: 2) | L21: 84.6 | M21: 2)
A22: 01 13 | B22: 78.79 | D22: 85.81 | F22: 78.04 | H22: 85.03 | J22: 78.07 | L22: 84.93
A23: 02 14 | B23: 78.82 | D23: 86.18 | F23: 78.19 | H23: 85.47 | J23: 78.32 | L23: 85.23
A24: 03 15 | B24: 78.96 | D24: 85.755634 | F24: 78.36 | H24: 85.13 | J24: 78.36 | L24: 85.33
A25: 04 16 | B25: 78.77 | D25: 85.93 | F25: 78.26 | H25: 85.56 | J25: 78.64 | L25: 85.59
A26: 05 17 | B26: 79.05 | C26: 1) | D26: 86.26 | E26: 1) | F26: 78.3 | G26: 1) | H26: 85.78 | I26: 1) | J26: 78.56 | K26: 2) | L26: 85.52 | M26: 2)
A27: 06 18 | B27: 79.281185 | D27: 85.830924 | F27: 78.45 | H27: 85.63 | J27: 79 | L27: 85.81
A28: 07 19 | B28: 79.107015 | D28: 86.030734 | F28: 78.6 | H28: 86.06 | J28: 79.19 | L28: 85.99
A29: 08 20 | B29: 79.400422 | D29: 86.10353 | F29: 78.83 | H29: 85.94 | J29: 79.29 | L29: 86.05
A30: 09 21 | B30: 79.690503 | D30: 86.556867 | F30: 78.88 | H30: 85.94 | J30: 79.59 | L30: 86.44
A31: 10 22 | B31: 79.659468 | D31: 86.373313 | F31: 79.2 | H31: 86.16 | J31: 79.55 | K31: 2) | L31: 86.3 | M31: 2)
A32: 11 23 | B32: 79.68784 | D32: 86.349532 | F32: 79.45 | H32: 86.06 | J32: 79.44 | L32: 85.9
A33: 12 24 | B33: 79.817122 | D33: 86.800007 | F33: 79.43 | H33: 86.45 | J33: 79.94 | L33: 86.41
A34: 13 25 | B34: 80.33219 | D34: 86.53649 | F34: 79.87 | H34: 86.27 | J34: 80.21 | L34: 86.61
A35: 14 26 | B35: 80.253688 | D35: 86.686447 | F35: 79.98 | H35: 86.63 | J35: 80.5 | L35: 86.83
A36: 15 27 | B36: 80.760418 | D36: 87.184259 | F36: 80.24 | H36: 86.74 | J36: 80.79 | L36: 87.05
A37: 16 28 | B37: 80.58 | D37: 87.1 | F37: 80.33 | H37: 86.94 | J37: 80.98 | L37: 87.14
A38: 17 29 | B38: 80.58042 | C38: 1) | D38: 87.104829 | E38: 1) | F38: 80.8 | H38: 87.17 | J38: 81.09 | L38: 87.26
A39: 18 30 | B39: =B40 -> 80.90631 | D39: =D40 -> 87.101883 | F39: 80.64 | H39: 87.06 | J39: 81.25 | L39: 87.32
A40: 0 歳 | B40: =[1]生命表!$K12 -> 80.90631 | D40: =[2]生命表!$K12 -> 87.101883 | F40: 80.64 | H40: 87.06 | J40: 81.25 | L40: 87.32
A41: 1 | B41: =[1]生命表!$K13 -> 80.157886 | D41: =[2]生命表!$K13 -> 86.469272 | F41: 79.8 | H41: 86.21 | J41: 80.41 | L41: 86.47
A42: 2 | B42: =[1]生命表!$K14 -> 79.169044 | D42: =[2]生命表!$K14 -> 85.521509 | F42: 78.82 | H42: 85.25 | J42: 79.43 | L42: 85.5
A43: 3 | B43: =[1]生命表!$K15 -> 78.190609 | D43: =[2]生命表!$K15 -> 84.533565 | F43: 77.84 | H43: 84.26 | J43: 78.45 | L43: 84.51
A44: 4 | B44: =[1]生命表!$K16 -> 77.190609 | D44: =[2]生命表!$K16 -> 83.557516 | F44: 76.84 | H44: 83.27 | J44: 77.46 | L44: 83.52
A45: 5 | B45: =[1]生命表!$K17 -> 76.190609 | D45: =[2]生命表!$K17 -> 82.557516 | F45: 75.85 | H45: 82.27 | J45: 76.47 | L45: 82.53
A46: 10 | B46: =[1]生命表!$K18 -> 71.219548 | D46: =[2]生命表!$K18 -> 77.568468 | F46: 70.88 | H46: 77.29 | J46: 71.49 | L46: 77.56
A47: 15 | B47: =[1]生命表!$K19 -> 66.272264 | D47: =[2]生命表!$K19 -> 72.578416 | F47: 65.93 | H47: 72.3 | J47: 66.53 | L47: 72.58
A48: 20 | B48: =[1]生命表!$K20 -> 61.386575 | D48: =[2]生命表!$K20 -> 67.612481 | F48: 61.03 | H48: 67.33 | J48: 61.61 | L48: 67.63
A49: 25 | B49: =[1]生命表!$K21 -> 56.557793 | D49: =[2]生命表!$K21 -> 62.698789 | F49: 56.21 | H49: 62.41 | J49: 56.74 | L49: 62.7
A50: 30 | B50: =[1]生命表!$K22 -> 51.693772 | D50: =[2]生命表!$K22 -> 57.755618 | F50: 51.38 | H50: 57.5 | J50: 51.88 | L50: 57.77
A51: 35 | B51: =[1]生命表!$K23 -> 46.868935 | D51: =[2]生命表!$K23 -> 52.843451 | F51: 46.55 | H51: 52.59 | J51: 47.03 | L51: 52.86
... A63: 95 | B63: =[1]生命表!$K35 -> 3.0582154 | D63: =[2]生命表!$K35 -> 3.9243135 | F63: 2.64 | H63: 3.95 | J63: 2.86 | L63: 3.61
A64: 100 | B64: =[1]生命表!$K36 -> 1.7826087 | D64: =[2]生命表!$K36 -> 2.6412698 | J64: 1.82 | L64: 2.31
A65: 105歳以上 | J65: 1.13 | L65: 1.49
A66: 注1）全国は厚生労働省統計情報部、北海道は北海道保健福祉部の集計による。
A67: 注2）平成22年については、作成時点で厚生労働省統計情報部「都道府県別生命表」が未発表の為、札幌市は本市集計、
A68: 北海道は北海道保健福祉部の集計による。
A69: 1）厚生労働省統計情報部「都道府県別生命表」による。 2）厚生労働省統計情報部「完全生命表」による。 3）阪神・淡路大
A70: 震災の影響を除去した場合の数値である。

Sheet 2　年次別全国・北海道・札幌市平均寿命
A1: 2 年次別にみた全国・北海道・札幌市における平均寿命
A3: （単位 年） | M3: ＜入力用＞
A4: 年次 | C4: 札幌市 | H4: 北海道 | J4: 全国 | M4: 年次 | O4: 札幌市 | T4: 北海道 | V4: 全国
C5: 男 | D5: 女 | E5: 格差 (女－男) | F5: 延び（対前年） | H5: 男 | I5: 女 | J5: 男 | K5: 女 | O5: 男 | P5: 女 | Q5: 格差 (女－男) | R5: 延び（対前年） | T5: 男 | U5: 女 | V5: 男 | W5: 女
F6: 男 | G6: 女 | R6: 男 | S6: 女
A7: 1970 昭和45年 | B7: 1) | C7: 70.77 | D7: 76.01 | E7: 5.24 | F7: 0 | G7: 0 | H7: 69.26 | I7: 74.73 | J7: 69.31 | K7: 74.66 | M7: 1970 昭和45年 | N7: 1) | O7: 70.77 | P7: 76.01 | Q7: =P7-O7 -> 5.24 | R7: 0 | S7: 0 | T7: 69.26 | U7: 74.73 | V7: 69.31 | W7: 74.66
A8: 75 50 | B8: 1) | C8: 72.76 | D8: 77.42 | E8: 4.66 | F8: 0 | G8: 0 | H8: 71.46 | I8: 76.74 | J8: 71.73 | K8: 76.89 | M8: 75 50 | N8: 1) | O8: 72.76 | P8: 77.42 | Q8: =P8-O8 -> 4.66 | R8: 0 | S8: 0 | T8: 71.46 | U8: 76.74 | V8: 71.73 | W8: 76.89
A9: 80 55 | B9: 1) | C9: 73.89 | D9: 78.85 | E9: 4.96 | F9: 0 | G9: 0 | H9: 72.96 | I9: 78.58 | J9: 73.35 | K9: 78.76 | M9: 80 55 | N9: 1) | O9: 73.89 | P9: 78.85 | Q9: =P9-O9 -> 4.96 | R9: 0 | S9: 0 | T9: 72.96 | U9: 78.58 | V9: 73.35 | W9: 78.76
A10: 85 60 | B10: 1) | C10: 75.33 | D10: 80.87 | E10: 5.54 | F10: 0 | G10: 0 | H10: 74.5 | I10: 80.42 | J10: 74.78 | K10: 80.48 | M10: 85 60 | N10: 1) | O10: 75.33 | P10: 80.87 | Q10: =P10-O10 -> 5.54 | R10: 0 | S10: 0 | T10: 74.5 | U10: 80.42 | V10: 74.78 | W10: 80.48
A11: 90 平成2年 | B11: 1) | C11: 76.27 | D11: 82.57 | E11: 6.3 | F11: 0 | G11: 0 | H11: 75.67 | I11: 81.92 | J11: 75.92 | K11: 81.9 | M11: 90 平成2年 | N11: 1) | O11: 76.27 | P11: 82.57 | Q11: =P11-O11 -> 6.3 | R11: 0 | S11: 0 | T11: 75.67 | U11: 81.92 | V11: 75.92 | W11: 81.9
A12: 91 3 | C12: 76.43 | D12: 83.42 | E12: 6.99 | F12: 0.16 | G12: 0.85 | H12: 75.96 | I12: 82.38 | J12: 76.11 | K12: 82.11 | M12: 91 3 | O12: 76.43 | P12: 83.42 | Q12: =P12-O12 -> 6.99 | R12: =O12-O11 -> 0.16 | S12: =P12-P11 -> 0.85 | T12: 75.96 | U12: 82.38 | V12: 76.11 | W12: 82.11
A13: 92 4 | C13: 76.63 | D13: 83.36 | E13: 6.73 | F13: 0.2 | G13: -0.06 | H13: 75.97 | I13: 82.39 | J13: 76.09 | K13: 82.22 | M13: 92 4 | O13: 76.63 | P13: 83.36 | Q13: =P13-O13 -> 6.73 | R13: =O13-O12 -> 0.2 | S13: =P13-P12 -> -0.06 | T13: 75.97 | U13: 82.39 | V13: 76.09 | W13: 82.22
A14: 93 5 | C14: 76.48 | D14: 82.91 | E14: 6.43 | F14: -0.15 | G14: -0.45 | H14: 76.14 | I14: 82.39 | J14: 76.25 | K14: 82.51 | M14: 93 5 | O14: 76.48 | P14: 82.91 | Q14: =P14-O14 -> 6.43 | R14: =O14-O13 -> -0.15 | S14: =P14-P13 -> -0.45 | T14: 76.14 | U14: 82.39 | V14: 76.25 | W14: 82.51
A15: 94 6 | C15: 77.07 | D15: 83.72 | E15: 6.65 | F15: 0.59 | G15: 0.81 | H15: 76.63 | I15: 83.02 | J15: 76.57 | K15: 82.98 | M15: 94 6 | O15: 77.07 | P15: 83.72 | Q15: =P15-O15 -> 6.65 | R15: =O15-O14 -> 0.59 | S15: =P15-P14 -> 0.81 | T15: 76.63 | U15: 83.02 | V15: 76.57 | W15: 82.98
A16: 95 7 | B16: 1) | C16: 77.41 | D16: 84.41 | E16: 7 | F16: 0.34 | G16: 0.69 | H16: 76.56 | I16: 83.41 | J16: 76.38 | K16: 82.85 | M16: 95 7 | N16: 1) | O16: 77.41 | P16: 84.41 | Q16: =P16-O16 -> 7 | R16: =O16-O15 -> 0.34 | S16: =P16-P15 -> 0.69 | T16: 76.56 | U16: 83.41 | V16: 76.38 | W16: 82.85
A17: 96 8 | C17: 77.52 | D17: 84.36 | E17: 6.84 | F17: 0.11 | G17: -0.05 | H17: 76.83 | I17: 83.58 | J17: 77.01 | K17: 83.59 | M17: 96 8 | O17: 77.52 | P17: 84.36 | Q17: =P17-O17 -> 6.84 | R17: =O17-O16 -> 0.11 | S17: =P17-P16 -> -0.05 | T17: 76.83 | U17: 83.58 | V17: 77.01 | W17: 83.59
A18: 97 9 | C18: 77.58 | D18: 84.59 | E18: 7.01 | F18: 0.06 | G18: 0.23 | H18: 77.14 | I18: 83.79 | J18: 77.19 | K18: 83.82 | M18: 97 9 | O18: 77.58 | P18: 84.59 | Q18: =P18-O18 -> 7.01 | R18: =O18-O17 -> 0.06 | S18: =P18-P17 -> 0.23 | T18: 77.14 | U18: 83.79 | V18: 77.19 | W18: 83.82
A19: 98 10 | C19: 77.9 | D19: 85.05 | E19: 7.15 | F19: 0.32 | G19: 0.46 | H19: 77.25 | I19: 84.26 | J19: 77.16 | K19: 84.01 | M19: 98 10 | O19: 77.9 | P19: 85.05 | Q19: =P19-O19 -> 7.15 | R19: =O19-O18 -> 0.32 | S19: =P19-P18 -> 0.46 | T19: 77.25 | U19: 84.26 | V19: 77.16 | W19: 84.01
A20: 99 11 | C20: 77.77 | D20: 84.46 | E20: 6.69 | F20: -0.13 | G20: -0.59 | H20: 77.05 | I20: 83.97 | J20: 77.1 | K20: 83.99 | M20: 99 11 | O20: 77.77 | P20: 84.46 | Q20: =P20-O20 -> 6.69 | R20: =O20-O19 -> -0.13 | S20: =P20-P19 -> -0.59 | T20: 77.05 | U20: 83.97 | V20: 77.1 | W20: 83.99
A21: 2000 12 | B21: 1) | C21: 78.55 | D21: 85.61 | E21: 7.06 | F21: 0.78 | G21: 1.15 | H21: 77.55 | I21: 84.84 | J21: 77.72 | K21: 84.6 | M21: 2000 12 | N21: 1) | O21: 78.55 | P21: 85.61 | Q21: =P21-O21 -> 7.06 | R21: =O21-O20 -> 0.78 | S21: =P21-P20 -> 1.15 | T21: 77.55 | U21: 84.84 | V21: 77.72 | W21: 84.6
A22: 01 13 | C22: 78.79 | D22: 85.81 | E22: 7.02 | F22: 0.24 | G22: 0.2 | H22: 78.04 | I22: 85.03 | J22: 78.07 | K22: 84.93 | M22: 01 13 | O22: 78.79 | P22: 85.81 | Q22: =P22-O22 -> 7.02 | R22: =O22-O21 -> 0.24 | S22: =P22-P21 -> 0.2 | T22: 78.04 | U22: 85.03 | V22: 78.07 | W22: 84.93
A23: 02 14 | C23: 78.82 | D23: 86.18 | E23: 7.36 | F23: 0.03 | G23: 0.37 | H23: 78.19 | I23: 85.47 | J23: 78.32 | K23: 85.23 | M23: 02 14 | O23: 78.82 | P23: 86.18 | Q23: =P23-O23 -> 7.36 | R23: =O23-O22 -> 0.03 | S23: =P23-P22 -> 0.37 | T23: 78.19 | U23: 85.47 | V23: 78.32 | W23: 85.23
A24: 03 15 | C24: 78.96 | D24: 85.76 | E24: 6.8 | F24: 0.14 | G24: -0.42 | H24: 78.36 | I24: 85.13 | J24: 78.36 | K24: 85.33 | M24: 03 15 | O24: 78.96 | P24: 85.76 | Q24: =P24-O24 -> 6.8 | R24: =O24-O23 -> 0.14 | S24: =P24-P23 -> -0.42 | T24: 78.36 | U24: 85.13 | V24: 78.36 | W24: 85.33
A25: 04 16 | C25: 78.77 | D25: 85.93 | E25: 7.16 | F25: -0.19 | G25: 0.17 | H25: 78.26 | I25: 85.56 | J25: 78.64 | K25: 85.59 | M25: 04 16 | O25: 78.77 | P25: 85.93 | Q25: =P25-O25 -> 7.16 | R25: =O25-O24 -> -0.19 | S25: =P25-P24 -> 0.17 | T25: 78.26 | U25: 85.56 | V25: 78.64 | W25: 85.59
A26: 05 17 | B26: 1) | C26: 79.05 | D26: 86.26 | E26: 7.21 | F26: 0.28 | G26: 0.33 | H26: 78.3 | I26: 85.78 | J26: 78.56 | K26: 85.52 | M26: 05 17 | N26: 1) | O26: 79.05 | P26: 86.26 | Q26: =P26-O26 -> 7.21 | R26: =O26-O25 -> 0.28 | S26: =P26-P25 -> 0.33 | T26: 78.3 | U26: 85.78 | V26: 78.56 | W26: 85.52
A27: 06 18 | C27: 79.28 | D27: 85.83 | E27: 6.55 | F27: 0.23 | G27: -0.43 | H27: 78.45 | I27: 85.63 | J27: 79 | K27: 85.807765 | M27: 06 18 | O27: 79.28 | P27: 85.83 | Q27: =P27-O27 -> 6.55 | R27: =O27-O26 -> 0.23 | S27: =P27-P26 -> -0.43 | T27: 78.45 | U27: 85.63 | V27: 79 | W27: 85.807765
A28: 07 19 | C28: 79.11 | D28: 86.03 | E28: 6.92 | F28: -0.17 | G28: 0.2 | H28: 78.6 | I28: 86.06 | J28: 79.19 | K28: 85.99 | M28: 07 19 | O28: 79.11 | P28: 86.03 | Q28: =P28-O28 -> 6.92 | R28: =O28-O27 -> -0.17 | S28: =P28-P27 -> 0.2 | T28: 78.6 | U28: 86.06 | V28: 79.19 | W28: 85.99
A29: 08 20 | C29: 79.4 | D29: 86.1 | E29: 6.7 | F29: 0.29 | G29: 0.07 | H29: 78.83 | I29: 85.94 | J29: 79.29 | K29: 86.05 | M29: 08 20 | O29: 79.4 | P29: 86.1 | Q29: =P29-O29 -> 6.7 | R29: =O29-O28 -> 0.29 | S29: =P29-P28 -> 0.07 | T29: 78.83 | U29: 85.94 | V29: 79.29 | W29: 86.05
A30: 09 21 | C30: 79.690503 | D30: 86.556867 | E30: 6.8663633 | F30: 0.29050333 | G30: 0.45686665 | H30: 78.88 | I30: 85.94 | J30: 79.59 | K30: 86.44 | M30: 09 21 | O30: 79.690503 | P30: 86.556867 | Q30: =P30-O30 -> 6.8663633 | R30: =O30-O29 -> 0.29050333 | S30: =P30-P29 -> 0.45686665 | T30: 78.88 | U30: 85.94 | V30: 79.59 | W30: 86.44
A31: 10 22 | B31: 2) | C31: 79.659468 | D31: 86.373313 | E31: 6.7138457 | F31: -0.031035772 | G31: -0.18355335 | H31: 79.2 | I31: 86.16 | J31: 79.55 | K31: 86.3 | M31: 10 22 | O31: 79.659468 | P31: 86.373313 | Q31: =P31-O31 -> 6.7138457 | R31: =O31-O29 -> 0.25946756 | S31: =P31-P29 -> 0.27331329 | T31: 79.2 | U31: 86.16 | V31: 79.64 | W31: 86.39
A32: 11 23 | C32: 79.68784 | D32: 86.349532 | E32: 6.6616918 | F32: 0.028372302 | G32: -0.023781598 | H32: 79.45 | I32: 86.06 | J32: 79.44 | K32: 85.9 | M32: 11 23 | O32: 79.68784 | P32: 86.349532 | Q32: 6.6616918 | R32: 0.028372302 | S32: -0.023781598 | T32: 79.45 | U32: 86.06 | V32: 79.44 | W32: 85.9
A33: 12 24 | C33: 79.817122 | D33: 86.800007 | E33: 6.9828849 | F33: 0.12928196 | G33: 0.45047499 | H33: 79.43 | I33: 86.45 | J33: 79.94 | K33: 86.41 | M33: 12 24 | O33: 79.817122 | P33: 86.800007 | Q33: 6.9828849 | R33: 0.12928196 | S33: 0.45047499 | T33: 79.43 | U33: 86.45 | V33: 79.94 | W33: 86.41
A34: 13 25 | C34: 80.33219 | D34: 86.53649 | E34: 6.2043001 | F34: 0.5150679 | G34: -0.2635169 | H34: 79.87 | I34: 86.27 | J34: 80.21 | K34: 86.61 | M34: 13 25 | O34: 80.33219 | P34: 86.53649 | Q34: 6.2043001 | R34: 0.5150679 | S34: -0.2635169 | T34: 79.87 | U34: 86.27 | V34: 80.21 | W34: 86.61
A35: 14 26 | C35: 80.253688 | D35: 86.686447 | E35: 6.4327584 | F35: -0.078501632 | G35: 0.14995672 | H35: 79.98 | I35: 86.63 | J35: 80.5 | K35: 86.83 | M35: 14 26 | O35: 80.253688 | P35: 86.686447 | Q35: 6.4327584 | R35: -0.078501632 | S35: 0.14995672 | T35: 79.98 | U35: 86.63 | V35: 80.5 | W35: 86.83
A36: 15 27 | B36: 2) | C36: 80.760418 | D36: 87.184259 | E36: 6.4238411 | F36: 0.50672952 | G36: 0.49781219 | H36: 80.24 | I36: 86.74 | J36: 80.79 | K36: 87.05 | M36: 15 27 | O36: 80.760418 | P36: 87.184259 | Q36: 6.4238411 | R36: 0.50672952 | S36: 0.49781219 | T36: 80.24 | U36: 86.74 | V36: 80.79 | W36: 87.05
A37: 16 28 | C37: 80.58 | D37: 87.1 | E37: 6.52 | F37: -0.18 | G37: -0.08 | H37: 80.33 | I37: 86.94 | J37: 80.98 | K37: 87.14 | M37: 16 28 | O37: 80.58 | P37: 87.1 | Q37: 6.52 | R37: -0.18 | S37: -0.08 | T37: 80.33 | U37: 86.94 | V37: 80.98 | W37: 87.14
A38: 17 29 | B38: 1) | C38: 80.58042 | D38: 87.104829 | E38: 6.5244094 | F38: 0.00041983985 | G38: 0.0048292686 | H38: 80.8 | I38: 87.17 | J38: 81.09 | K38: 87.26 | M38: 17 29 | O38: 80.58042 | P38: 87.104829 | Q38: 6.5244094 | R38: 0.00041983985 | S38: 0.0048292686 | T38: 0 | U38: 0 | V38: 81.09 | W38: 87.26
A39: 18 30 | B39: 1) | C39: ='1 平均余命の推移'!B39 -> 80.90631 | D39: ='1 平均余命の推移'!D39 -> 87.101883 | E39: =D39-C39 -> 6.1955727 | F39: =C39-C38 -> 0.32589017 | G39: =D39-D38 -> -0.0029465306 | H39: ='1 平均余命の推移'!F39 -> 80.64 | I39: ='1 平均余命の推移'!H39 -> 87.06 | J39: ='1 平均余命の推移'!J39 -> 81.25 | K39: ='1 平均余命の推移'!L39 -> 87.32 | M39: 18 30 | O39: ='1 平均余命の推移'!B39 -> 80.90631 | P39: ='1 平均余命の推移'!D39 -> 87.101883 | Q39: =P39-O39 -> 6.1955727 | R39: =O39-O38 -> 0.32589017 | S39: =P39-P38 -> -0.0029465306 | T39: ='1 平均余命の推移'!F39 -> 80.64 | U39: ='1 平均余命の推移'!H39 -> 87.06 | V39: ='1 平均余命の推移'!J39 -> 81.25 | W39: ='1 平均余命の推移'!L39 -> 87.32
A40: 注）全国は厚生労働省統計情報部、北海道は北海道保健福祉部の集計による。
A41: 1）札幌市、北海道は厚生労働省統計情報部「都道府県別生命表」による。全国は厚生労働省統計情報部「完全生命表」による。
A42: 2）作成時点で厚生労働省統計情報部「都道府県別生命表」が未発表の為、札幌市分は本市集計、北海道は北海道保健福祉部の集計による。
A43: 全国は厚生労働省統計情報部「簡易生命表」による。

Sheet 3　年次別特定年齢までの生存割合
A1: 3 年次別にみた生命表上の特定年齢まで生存する者の割合
A3: （単位 ％） | M3: ＜入力用＞
A4: 年次 | C4: 男 | F4: 女 | I4: 格差(女－男) | M4: 年次 | N4: 総数 | O4: 生 存 数（男） | R4: 生 存 数（女）
C5: 40歳 | D5: 65歳 | E5: 80歳 | F5: 40歳 | G5: 65歳 | H5: 80歳 | I5: 40歳 | J5: 65歳 | K5: 80歳 | O5: 40歳 | P5: 65歳 | Q5: 80歳 | R5: 40歳 | S5: 65歳 | T5: 80歳
A6: 1975 昭和50年 | B6: 1) | C6: 95.759 | D6: 78.41 | E6: 35.632 | F6: 97.228 | G6: 86.146 | H6: 51.49 | I6: 1.469 | J6: 7.736 | K6: 15.858 | M6: 1975 昭和50年 | N6: 100000 | O6: 95759 | P6: 78410 | Q6: 35632 | R6: 97228 | S6: 86146 | T6: 51490
A7: 80 55 | B7: 1) | C7: 96.365 | D7: 79.856 | E7: 39.005 | F7: 97.716 | G7: 88.63 | H7: 56.48 | I7: 1.351 | J7: 8.774 | K7: 17.475 | M7: 80 55 | N7: 100000 | O7: 96365 | P7: 79856 | Q7: 39005 | R7: 97716 | S7: 88630 | T7: 56480
A8: 85 60 | B8: 1) | C8: 96.795 | D8: 81.223 | E8: 44.295 | F8: 98.121 | G8: 90.167 | H8: 63.077 | I8: 1.326 | J8: 8.944 | K8: 18.782 | M8: 85 60 | N8: 100000 | O8: 96795 | P8: 81223 | Q8: 44295 | R8: 98121 | S8: 90167 | T8: 63077
A9: 90 平成2年 | B9: 1) | C9: 97.166 | D9: 83.412 | E9: 47.448 | F9: 98.44 | G9: 91.474 | H9: 67.952 | I9: 1.274 | J9: 8.062 | K9: 20.504 | M9: 90 平成2年 | N9: 100000 | O9: 97166 | P9: 83412 | Q9: 47448 | R9: 98440 | S9: 91474 | T9: 67952
A10: 91 3 | C10: 97.386 | D10: 84.035 | E10: 47.371 | F10: 98.684 | G10: 91.398 | H10: 69.139 | I10: 1.298 | J10: 7.363 | K10: 21.768 | M10: 91 3 | N10: 100000 | O10: 97386 | P10: 84035 | Q10: 47371 | R10: 98684 | S10: 91398 | T10: 69139
A11: 92 4 | C11: 97.642 | D11: 83.297 | E11: 46.736 | F11: 98.577 | G11: 91.938 | H11: 68.834 | I11: 0.935 | J11: 8.641 | K11: 22.098 | M11: 92 4 | N11: 100000 | O11: 97642 | P11: 83297 | Q11: 46736 | R11: 98577 | S11: 91938 | T11: 68834
A12: 93 5 | C12: 97.679 | D12: 83.487 | E12: 46.832 | F12: 98.376 | G12: 91.323 | H12: 69.051 | I12: 0.697 | J12: 7.836 | K12: 22.219 | M12: 93 5 | N12: 100000 | O12: 97679 | P12: 83487 | Q12: 46832 | R12: 98376 | S12: 91323 | T12: 69051
A13: 94 6 | C13: 97.289 | D13: 84.78 | E13: 49.652 | F13: 98.538 | G13: 92.46 | H13: 72.406 | I13: 1.249 | J13: 7.68 | K13: 22.754 | M13: 94 6 | N13: 100000 | O13: 97289 | P13: 84780 | Q13: 49652 | R13: 98538 | S13: 92460 | T13: 72406
A14: 95 7 | B14: 1) | C14: 97.423 | D14: 84.543 | E14: 50.84 | F14: 98.663 | G14: 92.335 | H14: 72.67 | I14: 1.24 | J14: 7.792 | K14: 21.83 | M14: 95 7 | N14: 100000 | O14: 97423 | P14: 84543 | Q14: 50840 | R14: 98663 | S14: 92335 | T14: 72670
A15: 96 8 | C15: 97.561 | D15: 84.724 | E15: 51.859 | F15: 98.75 | G15: 92.224 | H15: 72.507 | I15: 1.189 | J15: 7.5 | K15: 20.648 | M15: 96 8 | N15: 100000 | O15: 97561 | P15: 84724 | Q15: 51859 | R15: 98750 | S15: 92224 | T15: 72507
A16: 97 9 | C16: 97.727 | D16: 84.793 | E16: 51.728 | F16: 98.737 | G16: 92.595 | H16: 73.766 | I16: 1.01 | J16: 7.802 | K16: 22.038 | M16: 97 9 | N16: 100000 | O16: 97727 | P16: 84793 | Q16: 51728 | R16: 98737 | S16: 92595 | T16: 73766
A17: 98 10 | C17: 97.647 | D17: 85.262 | E17: 53.103 | F17: 98.749 | G17: 92.754 | H17: 74.897 | I17: 1.102 | J17: 7.492 | K17: 21.794 | M17: 98 10 | N17: 100000 | O17: 97647 | P17: 85262 | Q17: 53103 | R17: 98749 | S17: 92754 | T17: 74897
A18: 99 11 | C18: 97.554367 | D18: 84.734363 | E18: 52.84373 | F18: 98.397606 | G18: 92.211369 | H18: 73.910322 | I18: 0.84323886 | J18: 7.4770062 | K18: 21.066592 | M18: 99 11 | N18: 100000 | O18: 97554.367 | P18: 84734.363 | Q18: 52843.73 | R18: 98397.606 | S18: 92211.369 | T18: 73910.322
A19: 2000 12 | B19: 1) | C19: 97.644 | D19: 84.852 | E19: 54.632 | F19: 98.589 | G19: 92.67 | H19: 75.539 | I19: 0.945 | J19: 7.818 | K19: 20.907 | M19: 2000 12 | N19: 100000 | O19: 97644 | P19: 84852 | Q19: 54632 | R19: 98589 | S19: 92670 | T19: 75539
A20: 01 13 | C20: 97.886 | D20: 85.899 | E20: 54.982 | F20: 98.693 | G20: 92.969 | H20: 76.305 | I20: 0.807 | J20: 7.07 | K20: 21.323 | M20: 01 13 | N20: 100000 | O20: 97886 | P20: 85899 | Q20: 54982 | R20: 98693 | S20: 92969 | T20: 76305
A21: 02 14 | C21: 97.753 | D21: 85.981 | E21: 55.528 | F21: 98.773 | G21: 93.115 | H21: 77.306 | I21: 1.02 | J21: 7.134 | K21: 21.778 | M21: 02 14 | N21: 100000 | O21: 97753 | P21: 85981 | Q21: 55528 | R21: 98773 | S21: 93115 | T21: 77306
A22: 03 15 | C22: 97.741 | D22: 85.935 | E22: 56.788 | F22: 98.627 | G22: 93.073 | H22: 77.15 | I22: 0.886 | J22: 7.138 | K22: 20.362 | M22: 03 15 | N22: 100000 | O22: 97741 | P22: 85935 | Q22: 56788 | R22: 98627 | S22: 93073 | T22: 77150
A23: 04 16 | C23: 97.553 | D23: 85.307 | E23: 55.067 | F23: 98.703 | G23: 92.814 | H23: 77.647 | I23: 1.15 | J23: 7.507 | K23: 22.58 | M23: 04 16 | N23: 100000 | O23: 97553 | P23: 85307 | Q23: 55067 | R23: 98703 | S23: 92814 | T23: 77647
A24: 05 17 | B24: 1) | C24: 97.69 | D24: 85.412 | E24: 56.225 | F24: 98.506 | G24: 92.85 | H24: 77.773 | I24: 0.816 | J24: 7.438 | K24: 21.548 | M24: 05 17 | N24: 100000 | O24: 97690 | P24: 85412 | Q24: 56225 | R24: 98506 | S24: 92850 | T24: 77773
A25: 06 18 | C25: 97.88852 | D25: 86.36102 | E25: 57.317232 | F25: 98.447592 | G25: 92.82164 | H25: 77.677352 | I25: 0.55907162 | J25: 6.4606207 | K25: 20.36012 | M25: 06 18 | N25: 100000 | O25: 97888.52 | P25: 86361.02 | Q25: 57317.232 | R25: 98447.592 | S25: 92821.64 | T25: 77677.352
A26: 07 19 | C26: 97.967 | D26: 86.05 | E26: 57.004 | F26: 98.768039 | G26: 92.922073 | H26: 77.751559 | I26: 0.80103894 | J26: 6.8720727 | K26: 20.747559 | M26: 07 19 | N26: 100000 | O26: 97967 | P26: 86050 | Q26: 57004 | R26: 98768.039 | S26: 92922.073 | T26: 77751.559
A27: 08 20 | C27: 97.849288 | D27: 86.706722 | E27: 57.106961 | F27: 98.509418 | G27: 93.036953 | H27: 78.033216 | I27: 0.66012966 | J27: 6.3302309 | K27: 20.926254 | M27: 08 20 | N27: 100000 | O27: 97849.288 | P27: 86706.722 | Q27: 57106.961 | R27: 98509.418 | S27: 93036.953 | T27: 78033.216
A28: 09 21 | C28: 98.133 | D28: 87.135 | E28: 58.631 | F28: 98.667 | G28: 93.182 | H28: 79.159 | I28: 0.534 | J28: 6.047 | K28: 20.528 | M28: 09 21 | N28: 100000 | O28: 98133 | P28: 87135 | Q28: 58631 | R28: 98667 | S28: 93182 | T28: 79159
A29: 10 22 | B29: 2) | C29: 98.056941 | D29: 87.106415 | E29: 58.799857 | F29: 98.858437 | G29: 93.142658 | H29: 78.564524 | I29: 0.80149646 | J29: 6.0362439 | K29: 19.764667 | M29: 10 22 | N29: 100000 | O29: 98056.941 | P29: 87106.415 | Q29: 58799.857 | R29: 98858.437 | S29: 93142.658 | T29: 78564.524
A30: 11 23 | C30: 97.942304 | D30: 87.157533 | E30: 59.053435 | F30: 98.625277 | G30: 93.067224 | H30: 78.770325 | I30: 0.68297309 | J30: 5.9096916 | K30: 19.71689 | M30: 11 23 | N30: 100000 | O30: 97942.304 | P30: 87157.533 | Q30: 59053.435 | R30: 98625.277 | S30: 93067.224 | T30: 78770.325
A31: 12 24 | C31: 97.803293 | D31: 87.195793 | E31: 59.728673 | F31: 98.83838 | G31: 93.816954 | H31: 79.729149 | I31: 1.0350867 | J31: 6.6211601 | K31: 20.000475 | M31: 12 24 | N31: 100000 | O31: 97803.293 | P31: 87195.793 | Q31: 59728.673 | R31: 98838.38 | S31: 93816.954 | T31: 79729.149
A32: 13 25 | C32: 98.105055 | D32: 88.144083 | E32: 60.711277 | F32: 98.786406 | G32: 93.388107 | H32: 79.362404 | I32: 0.68135176 | J32: 5.2440241 | K32: 18.651127 | M32: 13 25 | N32: 100000 | O32: 98105.055 | P32: 88144.083 | Q32: 60711.277 | R32: 98786.406 | S32: 93388.107 | T32: 79362.404
A33: 14 26 | C33: 98.001703 | D33: 88.43369 | E33: 60.729526 | F33: 98.885989 | G33: 93.738862 | H33: 79.024479 | I33: 0.8842856 | J33: 5.3051718 | K33: 18.294953 | M33: 14 26 | N33: 100000 | O33: 98001.703 | P33: 88433.69 | Q33: 60729.526 | R33: 98885.989 | S33: 93738.862 | T33: 79024.479
A34: 15 27 | B34: 2) | C34: 98.276766 | D34: 89.008131 | E34: 61.595919 | F34: 99.11627 | G34: 93.71132 | H34: 80.659489 | I34: 0.83950342 | J34: 4.703189 | K34: 19.06357 | M34: 15 27 | N34: 100000 | O34: 98276.766 | P34: 89008.131 | Q34: 61595.919 | R34: 99116.27 | S34: 93711.32 | T34: 80659.489
A35: 16 28 | B35: 2) | C35: 98.233558 | D35: 88.524349 | E35: 61.515462 | F35: 98.939713 | G35: 93.915519 | H35: 79.873503 | I35: 0.70615557 | J35: 5.3911692 | K35: 18.358041 | M35: 16 28 | N35: 100000 | O35: 98233.558 | P35: 88524.349 | Q35: 61515.462 | R35: 98939.713 | S35: 93915.519 | T35: 79873.503
A36: 17 29 | B36: 2) | C36: 98.233558 | D36: 88.524349 | E36: 61.515462 | F36: 98.939713 | G36: 93.915519 | H36: 79.873503 | I36: 0.70615557 | J36: 5.3911692 | K36: 18.358041 | M36: 17 29 | N36: 100000 | O36: 98233.558 | P36: 88524.349 | Q36: 61515.462 | R36: 98939.713 | S36: 93915.519 | T36: 79873.503
A37: 18 30 | B37: 2) | C37: =[1]生命表!$M$24 -> 98.018122 | D37: =[1]生命表!$M$29 -> 89.285997 | E37: =[1]生命表!$M$32 -> 62.719488 | F37: =[2]生命表!$M$24 -> 98.746155 | G37: =[2]生命表!$M$29 -> 93.675531 | H37: =[2]生命表!$M$32 -> 80.260487 | I37: =F37-C37 -> 0.72803273 | J37: =G37-D37 -> 4.3895339 | K37: =H37-E37 -> 17.540999 | M37: 18 30 | N37: 100000 | O37: =[1]生命表!$G$24 -> 98018.122 | P37: =[1]生命表!$G$29 -> 89285.997 | Q37: =[1]生命表!$G$32 -> 62719.488 | R37: =[2]生命表!$G$24 -> 98746.155 | S37: =[2]生命表!$G$29 -> 93675.531 | T37: =[2]生命表!$G$32 -> 80260.487
A38: 1）厚生労働省統計情報部「都道府県別生命表」による。
A39: 2）作成時点で厚生労働省統計情報部「都道府県別生命表」が未発表の為、本市集計による。
M41: ＜貼り付け用＞
M42: 年次 | O42: 男 | R42: 女 | U42: 格差(女－男)
O43: 40歳 | P43: 65歳 | Q43: 80歳 | R43: 40歳 | S43: 65歳 | T43: 80歳 | U43: 40歳 | V43: 65歳 | W43: 80歳
M44: 1975 昭和50年 | N44: 1) | O44: =O6/$N6*100 -> 95.759 | P44: =P6/$N6*100 -> 78.41 | Q44: =Q6/$N6*100 -> 35.632 | R44: =R6/$N6*100 -> 97.228 | S44: =S6/$N6*100 -> 86.146 | T44: =T6/$N6*100 -> 51.49 | U44: =R44-O44 -> 1.469 | V44: =S44-P44 -> 7.736 | W44: =T44-Q44 -> 15.858
M45: 80 55 | N45: 1) | O45: =O7/$N7*100 -> 96.365 | P45: =P7/$N7*100 -> 79.856 | Q45: =Q7/$N7*100 -> 39.005 | R45: =R7/$N7*100 -> 97.716 | S45: =S7/$N7*100 -> 88.63 | T45: =T7/$N7*100 -> 56.48 | U45: =R45-O45 -> 1.351 | V45: =S45-P45 -> 8.774 | W45: =T45-Q45 -> 17.475
M46: 85 60 | N46: 1) | O46: =O8/$N8*100 -> 96.795 | P46: =P8/$N8*100 -> 81.223 | Q46: =Q8/$N8*100 -> 44.295 | R46: =R8/$N8*100 -> 98.121 | S46: =S8/$N8*100 -> 90.167 | T46: =T8/$N8*100 -> 63.077 | U46: =R46-O46 -> 1.326 | V46: =S46-P46 -> 8.944 | W46: =T46-Q46 -> 18.782
M47: 90 平成2年 | N47: 1) | O47: =O9/$N9*100 -> 97.166 | P47: =P9/$N9*100 -> 83.412 | Q47: =Q9/$N9*100 -> 47.448 | R47: =R9/$N9*100 -> 98.44 | S47: =S9/$N9*100 -> 91.474 | T47: =T9/$N9*100 -> 67.952 | U47: =R47-O47 -> 1.274 | V47: =S47-P47 -> 8.062 | W47: =T47-Q47 -> 20.504
M48: 91 3 | O48: =O10/$N10*100 -> 97.386 | P48: =P10/$N10*100 -> 84.035 | Q48: =Q10/$N10*100 -> 47.371 | R48: =R10/$N10*100 -> 98.684 | S48: =S10/$N10*100 -> 91.398 | T48: =T10/$N10*100 -> 69.139 | U48: =R48-O48 -> 1.298 | V48: =S48-P48 -> 7.363 | W48: =T48-Q48 -> 21.768
M49: 92 4 | O49: =O11/$N11*100 -> 97.642 | P49: =P11/$N11*100 -> 83.297 | Q49: =Q11/$N11*100 -> 46.736 | R49: =R11/$N11*100 -> 98.577 | S49: =S11/$N11*100 -> 91.938 | T49: =T11/$N11*100 -> 68.834 | U49: =R49-O49 -> 0.935 | V49: =S49-P49 -> 8.641 | W49: =T49-Q49 -> 22.098
M50: 93 5 | O50: =O12/$N12*100 -> 97.679 | P50: =P12/$N12*100 -> 83.487 | Q50: =Q12/$N12*100 -> 46.832 | R50: =R12/$N12*100 -> 98.376 | S50: =S12/$N12*100 -> 91.323 | T50: =T12/$N12*100 -> 69.051 | U50: =R50-O50 -> 0.697 | V50: =S50-P50 -> 7.836 | W50: =T50-Q50 -> 22.219
M51: 94 6 | O51: =O13/$N13*100 -> 97.289 | P51: =P13/$N13*100 -> 84.78 | Q51: =Q13/$N13*100 -> 49.652 | R51: =R13/$N13*100 -> 98.538 | S51: =S13/$N13*100 -> 92.46 | T51: =T13/$N13*100 -> 72.406 | U51: =R51-O51 -> 1.249 | V51: =S51-P51 -> 7.68 | W51: =T51-Q51 -> 22.754
M52: 95 7 | N52: 1) | O52: =O14/$N14*100 -> 97.423 | P52: =P14/$N14*100 -> 84.543 | Q52: =Q14/$N14*100 -> 50.84 | R52: =R14/$N14*100 -> 98.663 | S52: =S14/$N14*100 -> 92.335 | T52: =T14/$N14*100 -> 72.67 | U52: =R52-O52 -> 1.24 | V52: =S52-P52 -> 7.792 | W52: =T52-Q52 -> 21.83
M53: 96 8 | O53: =O15/$N15*100 -> 97.561 | P53: =P15/$N15*100 -> 84.724 | Q53: =Q15/$N15*100 -> 51.859 | R53: =R15/$N15*100 -> 98.75 | S53: =S15/$N15*100 -> 92.224 | T53: =T15/$N15*100 -> 72.507 | U53: =R53-O53 -> 1.189 | V53: =S53-P53 -> 7.5 | W53: =T53-Q53 -> 20.648
M54: 97 9 | O54: =O16/$N16*100 -> 97.727 | P54: =P16/$N16*100 -> 84.793 | Q54: =Q16/$N16*100 -> 51.728 | R54: =R16/$N16*100 -> 98.737 | S54: =S16/$N16*100 -> 92.595 | T54: =T16/$N16*100 -> 73.766 | U54: =R54-O54 -> 1.01 | V54: =S54-P54 -> 7.802 | W54: =T54-Q54 -> 22.038
M55: 98 10 | O55: =O17/$N17*100 -> 97.647 | P55: =P17/$N17*100 -> 85.262 | Q55: =Q17/$N17*100 -> 53.103 | R55: =R17/$N17*100 -> 98.749 | S55: =S17/$N17*100 -> 92.754 | T55: =T17/$N17*100 -> 74.897 | U55: =R55-O55 -> 1.102 | V55: =S55-P55 -> 7.492 | W55: =T55-Q55 -> 21.794
M56: 99 11 | O56: =O18/$N18*100 -> 97.554367 | P56: =P18/$N18*100 -> 84.734363 | Q56: =Q18/$N18*100 -> 52.84373 | R56: =R18/$N18*100 -> 98.397606 | S56: =S18/$N18*100 -> 92.211369 | T56: =T18/$N18*100 -> 73.910322 | U56: =R56-O56 -> 0.84323886 | V56: =S56-P56 -> 7.4770062 | W56: =T56-Q56 -> 21.066592
M57: 2000 12 | N57: 1) | O57: =O19/$N19*100 -> 97.644 | P57: =P19/$N19*100 -> 84.852 | Q57: =Q19/$N19*100 -> 54.632 | R57: =R19/$N19*100 -> 98.589 | S57: =S19/$N19*100 -> 92.67 | T57: =T19/$N19*100 -> 75.539 | U57: =R57-O57 -> 0.945 | V57: =S57-P57 -> 7.818 | W57: =T57-Q57 -> 20.907
M58: 01 13 | O58: =O20/$N20*100 -> 97.886 | P58: =P20/$N20*100 -> 85.899 | Q58: =Q20/$N20*100 -> 54.982 | R58: =R20/$N20*100 -> 98.693 | S58: =S20/$N20*100 -> 92.969 | T58: =T20/$N20*100 -> 76.305 | U58: =R58-O58 -> 0.807 | V58: =S58-P58 -> 7.07 | W58: =T58-Q58 -> 21.323
M59: 02 14 | O59: =O21/$N21*100 -> 97.753 | P59: =P21/$N21*100 -> 85.981 | Q59: =Q21/$N21*100 -> 55.528 | R59: =R21/$N21*100 -> 98.773 | S59: =S21/$N21*100 -> 93.115 | T59: =T21/$N21*100 -> 77.306 | U59: =R59-O59 -> 1.02 | V59: =S59-P59 -> 7.134 | W59: =T59-Q59 -> 21.778
M60: 03 15 | O60: =O22/$N22*100 -> 97.741 | P60: =P22/$N22*100 -> 85.935 | Q60: =Q22/$N22*100 -> 56.788 | R60: =R22/$N22*100 -> 98.627 | S60: =S22/$N22*100 -> 93.073 | T60: =T22/$N22*100 -> 77.15 | U60: =R60-O60 -> 0.886 | V60: =S60-P60 -> 7.138 | W60: =T60-Q60 -> 20.362
M61: 04 16 | O61: =O23/$N23*100 -> 97.553 | P61: =P23/$N23*100 -> 85.307 | Q61: =Q23/$N23*100 -> 55.067 | R61: =R23/$N23*100 -> 98.703 | S61: =S23/$N23*100 -> 92.814 | T61: =T23/$N23*100 -> 77.647 | U61: =R61-O61 -> 1.15 | V61: =S61-P61 -> 7.507 | W61: =T61-Q61 -> 22.58
M62: 05 17 | N62: 1) | O62: =O24/$N24*100 -> 97.69 | P62: =P24/$N24*100 -> 85.412 | Q62: =Q24/$N24*100 -> 56.225 | R62: =R24/$N24*100 -> 98.506 | S62: =S24/$N24*100 -> 92.85 | T62: =T24/$N24*100 -> 77.773 | U62: =R62-O62 -> 0.816 | V62: =S62-P62 -> 7.438 | W62: =T62-Q62 -> 21.548
M63: 06 18 | O63: =O25/$N25*100 -> 97.88852 | P63: =P25/$N25*100 -> 86.36102 | Q63: =Q25/$N25*100 -> 57.317232 | R63: =R25/$N25*100 -> 98.447592 | S63: =S25/$N25*100 -> 92.82164 | T63: =T25/$N25*100 -> 77.677352 | U63: =R63-O63 -> 0.55907162 | V63: =S63-P63 -> 6.4606207 | W63: =T63-Q63 -> 20.36012
M64: 07 19 | O64: =O26/$N26*100 -> 97.967 | P64: =P26/$N26*100 -> 86.05 | Q64: =Q26/$N26*100 -> 57.004 | R64: =R26/$N26*100 -> 98.768039 | S64: =S26/$N26*100 -> 92.922073 | T64: =T26/$N26*100 -> 77.751559 | U64: =R64-O64 -> 0.80103894 | V64: =S64-P64 -> 6.8720727 | W64: =T64-Q64 -> 20.747559
M65: 08 20 | O65: =O27/$N27*100 -> 97.849288 | P65: =P27/$N27*100 -> 86.706722 | Q65: =Q27/$N27*100 -> 57.106961 | R65: =R27/$N27*100 -> 98.509418 | S65: =S27/$N27*100 -> 93.036953 | T65: =T27/$N27*100 -> 78.033216 | U65: =R65-O65 -> 0.66012966 | V65: =S65-P65 -> 6.3302309 | W65: =T65-Q65 -> 20.926254
M66: 09 21 | O66: =O28/$N28*100 -> 98.133 | P66: =P28/$N28*100 -> 87.135 | Q66: =Q28/$N28*100 -> 58.631 | R66: =R28/$N28*100 -> 98.667 | S66: =S28/$N28*100 -> 93.182 | T66: =T28/$N28*100 -> 79.159 | U66: =R66-O66 -> 0.534 | V66: =S66-P66 -> 6.047 | W66: =T66-Q66 -> 20.528
M67: 10 22 | O67: =O36/$N36*100 -> 98.233558 | P67: =P36/$N36*100 -> 88.524349 | Q67: =Q36/$N36*100 -> 61.515462 | R67: =R36/$N36*100 -> 98.939713 | S67: =S36/$N36*100 -> 93.915519 | T67: =T36/$N36*100 -> 79.873503 | U67: =R67-O67 -> 0.70615557 | V67: =S67-P67 -> 5.3911692 | W67: =T67-Q67 -> 18.358041
M68: 11 23 | O68: =O37/$N37*100 -> 98.018122 | P68: =P37/$N37*100 -> 89.285997 | Q68: =Q37/$N37*100 -> 62.719488 | R68: =R37/$N37*100 -> 98.746155 | S68: =S37/$N37*100 -> 93.675531 | T68: =T37/$N37*100 -> 80.260487 | U68: =R68-O68 -> 0.72803273 | V68: =S68-P68 -> 4.3895339 | W68: =T68-Q68 -> 17.540999

Sheet 4　特定死因除去の延び
A1: 4 特定死因を除去した場合の平均寿命の延び
A3: （単位 年） | H3: ='6 生命表'!J2 -> 平成30年 | J3: ＜入力用＞
A4: 死因 | E4: 男 | G4: 女 | J4: 死因 | N4: 男 | P4: 女
E5: 除去した場合 の平均寿命 | F5: 平均寿命の延び | G5: 除去した場合 の平均寿命 | H5: 平均寿命の延び | N5: 除去した場合 の平均寿命 | O5: 平均寿命の延び | P5: 除去した場合 の平均寿命 | Q5: 平均寿命の延び
A6: 結核 | E6: =N6 -> 80.913739 | F6: =O6 -> 0.01 | G6: =P6 -> 87.111958 | H6: =Q6 -> 0.01 | J6: 結核 | N6: =[1]特定死因除去後生命表!$C$7 -> 80.913739 | O6: =ROUND(N6-$N$23,2) -> 0.01 | P6: =[2]特定死因除去後生命表!$C$8 -> 87.111958 | Q6: =ROUND(P6-$P$23,2) -> 0.01
A7: 悪性新生物 | E7: =N7 -> 85.004012 | F7: =O7 -> 4.1 | G7: =P7 -> 90.577387 | H7: =Q7 -> 3.48 | J7: 悪性新生物 | N7: =[1]特定死因除去後生命表!$D$7 -> 85.004012 | O7: =ROUND(N7-$N$23,2) -> 4.1 | P7: =[2]特定死因除去後生命表!$D$8 -> 90.577387 | Q7: =ROUND(P7-$P$23,2) -> 3.48
A8: 糖尿病 | E8: =N8 -> 81.100716 | F8: =O8 -> 0.19 | G8: =P8 -> 87.606133 | H8: =Q8 -> 0.5 | J8: 糖尿病 | N8: =[1]特定死因除去後生命表!$E$7 -> 81.100716 | O8: =ROUND(N8-$N$23,2) -> 0.19 | P8: =[2]特定死因除去後生命表!$E$8 -> 87.606133 | Q8: =ROUND(P8-$P$23,2) -> 0.5
A9: 高血圧性疾患 | E9: =N9 -> 80.937015 | F9: =O9 -> 0.03 | G9: =P9 -> 87.147318 | H9: =Q9 -> 0.05 | J9: 高血圧性疾患 | N9: =[1]特定死因除去後生命表!$F$7 -> 80.937015 | O9: =ROUND(N9-$N$23,2) -> 0.03 | P9: =[2]特定死因除去後生命表!$F$8 -> 87.147318 | Q9: =ROUND(P9-$P$23,2) -> 0.05
A10: 心疾患 | E10: =N10 -> 82.100444 | F10: =O10 -> 1.19 | G10: =P10 -> 88.419782 | H10: =Q10 -> 1.32 | J10: 心疾患 | N10: =[1]特定死因除去後生命表!$G$7 -> 82.100444 | O10: =ROUND(N10-$N$23,2) -> 1.19 | P10: =[2]特定死因除去後生命表!$G$8 -> 88.419782 | Q10: =ROUND(P10-$P$23,2) -> 1.32
A11: 脳血管疾患 | E11: =N11 -> 81.634435 | F11: =O11 -> 0.73 | G11: =P11 -> 87.744527 | H11: =Q11 -> 0.64 | J11: 脳血管疾患 | N11: =[1]特定死因除去後生命表!$H$7 -> 81.634435 | O11: =ROUND(N11-$N$23,2) -> 0.73 | P11: =[2]特定死因除去後生命表!$H$8 -> 87.744527 | Q11: =ROUND(P11-$P$23,2) -> 0.64
A12: 大動脈瘤及び解離 | E12: =N12 -> 81.051801 | F12: =O12 -> 0.15 | G12: =P12 -> 87.202567 | H12: =Q12 -> 0.1 | J12: 大動脈瘤及び解離 | N12: =[1]特定死因除去後生命表!$I$7 -> 81.051801 | O12: =ROUND(N12-$N$23,2) -> 0.15 | P12: =[2]特定死因除去後生命表!$I$8 -> 87.202567 | Q12: =ROUND(P12-$P$23,2) -> 0.1
A13: 肺炎 | E13: =N13 -> 81.530949 | F13: =O13 -> 0.62 | G13: =P13 -> 87.582583 | H13: =Q13 -> 0.48 | J13: 肺炎 | N13: =[1]特定死因除去後生命表!$J$7 -> 81.530949 | O13: =ROUND(N13-$N$23,2) -> 0.62 | P13: =[2]特定死因除去後生命表!$J$8 -> 87.582583 | Q13: =ROUND(P13-$P$23,2) -> 0.48
A14: 慢性閉塞性肺疾患 | E14: =N14 -> 81.047757 | F14: =O14 -> 0.14 | G14: =P14 -> 87.134589 | H14: =Q14 -> 0.03 | J14: 慢性閉塞性肺疾患 | N14: =[1]特定死因除去後生命表!$K$7 -> 81.047757 | O14: =ROUND(N14-$N$23,2) -> 0.14 | P14: =[2]特定死因除去後生命表!$K$8 -> 87.134589 | Q14: =ROUND(P14-$P$23,2) -> 0.03
A15: 喘息 | E15: =N15 -> 80.909623 | F15: =O15 -> 0 | G15: =P15 -> 87.12182 | H15: =Q15 -> 0.02 | J15: 喘息 | N15: =[1]特定死因除去後生命表!$L$7 -> 80.909623 | O15: =ROUND(N15-$N$23,2) -> 0 | P15: =[2]特定死因除去後生命表!$L$8 -> 87.12182 | Q15: =ROUND(P15-$P$23,2) -> 0.02
A16: 肝疾患 | E16: =N16 -> 81.134998 | F16: =O16 -> 0.23 | G16: =P16 -> 87.25257 | H16: =Q16 -> 0.15 | J16: 肝疾患 | N16: =[1]特定死因除去後生命表!$M$7 -> 81.134998 | O16: =ROUND(N16-$N$23,2) -> 0.23 | P16: =[2]特定死因除去後生命表!$M$8 -> 87.25257 | Q16: =ROUND(P16-$P$23,2) -> 0.15
A17: 腎不全 | E17: =N17 -> 81.071968 | F17: =O17 -> 0.17 | G17: =P17 -> 87.274309 | H17: =Q17 -> 0.17 | J17: 腎不全 | N17: =[1]特定死因除去後生命表!$N$7 -> 81.071968 | O17: =ROUND(N17-$N$23,2) -> 0.17 | P17: =[2]特定死因除去後生命表!$N$8 -> 87.274309 | Q17: =ROUND(P17-$P$23,2) -> 0.17
A18: 老衰 | E18: =N18 -> 81.089385 | F18: =O18 -> 0.18 | G18: =P18 -> 87.728093 | H18: =Q18 -> 0.63 | J18: 老衰 | N18: =[1]特定死因除去後生命表!$O$7 -> 81.089385 | O18: =ROUND(N18-$N$23,2) -> 0.18 | P18: =[2]特定死因除去後生命表!$O$8 -> 87.728093 | Q18: =ROUND(P18-$P$23,2) -> 0.63
A19: 不慮の事故 | E19: =N19 -> 81.257671 | F19: =O19 -> 0.35 | G19: =P19 -> 87.368211 | H19: =Q19 -> 0.27 | J19: 不慮の事故 | N19: =[1]特定死因除去後生命表!$P$7 -> 81.257671 | O19: =ROUND(N19-$N$23,2) -> 0.35 | P19: =[2]特定死因除去後生命表!$P$8 -> 87.368211 | Q19: =ROUND(P19-$P$23,2) -> 0.27
B20: うち交通事故 | E20: =N20 -> 80.964932 | F20: =O20 -> 0.06 | G20: =P20 -> 87.138661 | H20: =Q20 -> 0.04 | K20: うち交通事故 | N20: =[1]特定死因除去後生命表!$Q$7 -> 80.964932 | O20: =ROUND(N20-$N$23,2) -> 0.06 | P20: =[2]特定死因除去後生命表!$Q$8 -> 87.138661 | Q20: =ROUND(P20-$P$23,2) -> 0.04
A21: 自殺 | E21: =N21 -> 81.518999 | F21: =O21 -> 0.61 | G21: =P21 -> 87.367242 | H21: =Q21 -> 0.27 | J21: 自殺 | N21: =[1]特定死因除去後生命表!$R$7 -> 81.518999 | O21: =ROUND(N21-$N$23,2) -> 0.61 | P21: =[2]特定死因除去後生命表!$R$8 -> 87.367242 | Q21: =ROUND(P21-$P$23,2) -> 0.27
A22: （特掲） | C22: ３大死因 | D22: 1) | E22: =N22 -> 88.06983 | F22: =O22 -> 7.16 | G22: =P22 -> 93.42326 | H22: =Q22 -> 6.32 | J22: （特掲） | L22: ３大死因 | M22: 1) | N22: =[1]特定死因除去後生命表!$S$7 -> 88.06983 | O22: =ROUND(N22-$N$23,2) -> 7.16 | P22: =[2]特定死因除去後生命表!$S$8 -> 93.42326 | Q22: =ROUND(P22-$P$23,2) -> 6.32
A23: （参考） | C23: 平均寿命 | E23: =N23 -> 80.90631 | F23: =O23 -> 0 | G23: =P23 -> 87.101883 | H23: =Q23 -> 0 | J23: （参考） | L23: 平均寿命 | N23: =[1]特定死因除去後生命表!$B$7 -> 80.90631 | O23: =ROUND(N23-$N$23,2) -> 0 | P23: =[2]特定死因除去後生命表!$B$8 -> 87.101883 | Q23: =ROUND(P23-$P$23,2) -> 0
A24: 1）「悪性新生物」、「心疾患」及び「脳血管疾患」。

Sheet 5　区別平均寿命
A1: 5 区別平均寿命
A3: （単位 年） | F3: ='6 生命表'!J2 -> 平成30年
A4: 区 | B4: 平均寿命 | E4: 全市平均との格差 | H4: 区 | I4: 平均寿命 | L4: 全市平均との格差
B5: 男 | C5: 女 | D5: 格差(女－男) | E5: 男 | F5: 女 | I5: 男 | J5: 女 | K5: 格差(女－男) | L5: 男 | M5: 女
A6: 全市 | B6: =I6 -> 80.90631 | C6: =J6 -> 87.101883 | D6: =K6 -> 6.1955727 | E6: =L6 -> 0 | F6: =M6 -> 0 | H6: 全市 | I6: ='1 平均余命の推移'!B39 -> 80.90631 | J6: ='1 平均余命の推移'!D39 -> 87.101883 | K6: =J6-I6 -> 6.1955727 | L6: =I6-I$6 -> 0 | M6: =J6-J$6 -> 0
A7: 中央区 | B7: =I7 -> 80.454633 | C7: =J7 -> 86.738892 | D7: =K7 -> 6.284259 | E7: =L7 -> -0.45167691 | F7: =M7 -> -0.3629906 | H7: 中央区 | I7: =[3]中央区!$K$12 -> 80.454633 | J7: =[4]中央区!$K$12 -> 86.738892 | K7: =J7-I7 -> 6.284259 | L7: =I7-I$6 -> -0.45167691 | M7: =J7-J$6 -> -0.3629906
A8: 北区 | B8: =I8 -> 80.811255 | C8: =J8 -> 86.990959 | D8: =K8 -> 6.179704 | E8: =L8 -> -0.095055315 | F8: =M8 -> -0.11092408 | H8: 北区 | I8: =[3]北区!$K$12 -> 80.811255 | J8: =[4]北区!$K$12 -> 86.990959 | K8: =J8-I8 -> 6.179704 | L8: =I8-I$6 -> -0.095055315 | M8: =J8-J$6 -> -0.11092408
A9: 東区 | B9: =I9 -> 80.431531 | C9: =J9 -> 87.147324 | D9: =K9 -> 6.7157923 | E9: =L9 -> -0.47477871 | F9: =M9 -> 0.045440878 | H9: 東区 | I9: =[3]東区!$K$12 -> 80.431531 | J9: =[4]東区!$K$12 -> 87.147324 | K9: =J9-I9 -> 6.7157923 | L9: =I9-I$6 -> -0.47477871 | M9: =J9-J$6 -> 0.045440878
A10: 白石区 | B10: =I10 -> 79.577637 | C10: =J10 -> 86.798323 | D10: =K10 -> 7.2206862 | E10: =L10 -> -1.3286729 | F10: =M10 -> -0.30355939 | H10: 白石区 | I10: =[3]白石区!$K$12 -> 79.577637 | J10: =[4]白石区!$K$12 -> 86.798323 | K10: =J10-I10 -> 7.2206862 | L10: =I10-I$6 -> -1.3286729 | M10: =J10-J$6 -> -0.30355939
A11: 厚別区 | B11: =I11 -> 82.307794 | C11: =J11 -> 87.756371 | D11: =K11 -> 5.4485764 | E11: =L11 -> 1.4014843 | F11: =M11 -> 0.654488 | H11: 厚別区 | I11: =[3]厚別区!$K$12 -> 82.307794 | J11: =[4]厚別区!$K$12 -> 87.756371 | K11: =J11-I11 -> 5.4485764 | L11: =I11-I$6 -> 1.4014843 | M11: =J11-J$6 -> 0.654488
A12: 豊平区 | B12: =I12 -> 81.132517 | C12: =J12 -> 87.626552 | D12: =K12 -> 6.4940356 | E12: =L12 -> 0.22620671 | F12: =M12 -> 0.52466957 | H12: 豊平区 | I12: =[3]豊平区!$K$12 -> 81.132517 | J12: =[4]豊平区!$K$12 -> 87.626552 | K12: =J12-I12 -> 6.4940356 | L12: =I12-I$6 -> 0.22620671 | M12: =J12-J$6 -> 0.52466957
A13: 清田区 | B13: =I13 -> 81.274971 | C13: =J13 -> 87.618128 | D13: =K13 -> 6.3431566 | E13: =L13 -> 0.36866105 | F13: =M13 -> 0.51624492 | H13: 清田区 | I13: =[3]清田区!$K$12 -> 81.274971 | J13: =[4]清田区!$K$12 -> 87.618128 | K13: =J13-I13 -> 6.3431566 | L13: =I13-I$6 -> 0.36866105 | M13: =J13-J$6 -> 0.51624492
A14: 南区 | B14: =I14 -> 80.854109 | C14: =J14 -> 86.56884 | D14: =K14 -> 5.7147301 | E14: =L14 -> -0.052200547 | F14: =M14 -> -0.53304322 | H14: 南区 | I14: =[3]南区!$K$12 -> 80.854109 | J14: =[4]南区!$K$12 -> 86.56884 | K14: =J14-I14 -> 5.7147301 | L14: =I14-I$6 -> -0.052200547 | M14: =J14-J$6 -> -0.53304322
A15: 西区 | B15: =I15 -> 81.634941 | C15: =J15 -> 87.388188 | D15: =K15 -> 5.7532467 | E15: =L15 -> 0.72863087 | F15: =M15 -> 0.28630486 | H15: 西区 | I15: =[3]西区!$K$12 -> 81.634941 | J15: =[4]西区!$K$12 -> 87.388188 | K15: =J15-I15 -> 5.7532467 | L15: =I15-I$6 -> 0.72863087 | M15: =J15-J$6 -> 0.28630486
A16: 手稲区 | B16: =I16 -> 81.797405 | C16: =J16 -> 86.999382 | D16: =K16 -> 5.2019768 | E16: =L16 -> 0.89109539 | F16: =M16 -> -0.10250058 | H16: 手稲区 | I16: =[3]手稲区!$K$12 -> 81.797405 | J16: =[4]手稲区!$K$12 -> 86.999382 | K16: =J16-I16 -> 5.2019768 | L16: =I16-I$6 -> 0.89109539 | M16: =J16-J$6 -> -0.10250058

Sheet 6 生命表
A1: 6 生命表
J2: 平成30年
A3: 年齢 | E3: 死亡確率 | F3: 生存数 | G3: 死亡数 | H3: 定常人口 | J3: 平均余命
E4: qx | F4: lx | G4: dx | H4: Lx | I4: Tx | J4: ex
E5: 男
B6: 0 | D6: 週 | E6: =[1]生命表!$F7 -> 0.0016942626 | F6: =[1]生命表!$G7 -> 100000 | G6: =[1]生命表!$H7 -> 169.42626 | H6: =[1]生命表!$I7 -> 7664.7343 | I6: =[1]生命表!$J7 -> 8090631 | J6: =[1]生命表!$K7 -> 80.90631
B7: 4 | E7: =[1]生命表!$F8 -> 0.00016754991 | F7: =[1]生命表!$G8 -> 99830.574 | G7: =[1]生命表!$H8 -> 16.726604 | H7: =[1]生命表!$I8 -> 8979.4408 | I7: =[1]生命表!$J8 -> 8082966.3 | J7: =[1]生命表!$K8 -> 80.966842
B8: 2 | D8: 月 | E8: =[1]生命表!$F9 -> 0.00018527323 | F8: =[1]生命表!$G9 -> 99813.847 | G8: =[1]生命表!$H9 -> 18.492834 | H8: =[1]生命表!$I9 -> 8317.0501 | I8: =[1]生命表!$J9 -> 8073986.8 | J8: =[1]生命表!$K9 -> 80.890448
B9: 3 | E9: =[1]生命表!$F10 -> 0.00047249825 | F9: =[1]生命表!$G10 -> 99795.354 | G9: =[1]生命表!$H10 -> 47.15313 | H9: =[1]生命表!$I10 -> 24942.944 | I9: =[1]生命表!$J10 -> 8065669.8 | J9: =[1]生命表!$K10 -> 80.822097
B10: 6 | E10: =[1]生命表!$F11 -> 0.00059250848 | F10: =[1]生命表!$G11 -> 99748.201 | G10: =[1]生命表!$H11 -> 59.101655 | H10: =[1]生命表!$I11 -> 49859.325 | I10: =[1]生命表!$J11 -> 8040726.8 | J10: =[1]生命表!$K11 -> 80.610244
B11: 0 | D11: 歳 | E11: =[1]生命表!$F12 -> 0.0031090048 | F11: =[1]生命表!$G12 -> 100000 | G11: =[1]生命表!$H12 -> 310.90048 | H11: =[1]生命表!$I12 -> 99763.495 | I11: =[1]生命表!$J12 -> 8090631 | J11: =[1]生命表!$K12 -> 80.90631
B12: 1 | E12: =[1]生命表!$F13 -> 0.00014004622 | F12: =[1]生命表!$G13 -> 99689.1 | G12: =[1]生命表!$H13 -> 13.961081 | H12: =[1]生命表!$I13 -> 99682.119 | I12: =[1]生命表!$J13 -> 7990867.5 | J12: =[1]生命表!$K13 -> 80.157886
B13: 2 | E13: =[1]生命表!$F14 -> 0.00027404768 | F13: =[1]生命表!$G14 -> 99675.138 | G13: =[1]生命表!$H14 -> 27.315741 | H13: =[1]生命表!$I14 -> 99661.481 | I13: =[1]生命表!$J14 -> 7891185.4 | J13: =[1]生命表!$K14 -> 79.169044
B14: 3 | E14: =[1]生命表!$F15 -> 0 | F14: =[1]生命表!$G15 -> 99647.823 | G14: =[1]生命表!$H15 -> 0 | H14: =[1]生命表!$I15 -> 99647.823 | I14: =[1]生命表!$J15 -> 7791523.9 | J14: =[1]生命表!$K15 -> 78.190609
B15: 4 | E15: =[1]生命表!$F16 -> 0 | F15: =[1]生命表!$G16 -> 99647.823 | G15: =[1]生命表!$H16 -> 0 | H15: =[1]生命表!$I16 -> 99647.823 | I15: =[1]生命表!$J16 -> 7691876.1 | J15: =[1]生命表!$K16 -> 77.190609
A16: 5 | B16: ～ | C16: 9 | E16: =[1]生命表!$F17 -> 0.00039256225 | F16: =[1]生命表!$G17 -> 99647.823 | G16: =[1]生命表!$H17 -> 39.117974 | H16: =[1]生命表!$I17 -> 498141.32 | I16: =[1]生命表!$J17 -> 7592228.3 | J16: =[1]生命表!$K17 -> 76.190609
A17: 10 | B17: ～ | C17: 14 | E17: =[1]生命表!$F18 -> 0.00077077778 | F17: =[1]生命表!$G18 -> 99608.705 | G17: =[1]生命表!$H18 -> 76.776176 | H17: =[1]生命表!$I18 -> 497880.68 | I17: =[1]生命表!$J18 -> 7094086.9 | J17: =[1]生命表!$K18 -> 71.219548
A18: 15 | B18: ～ | C18: 19 | E18: =[1]生命表!$F19 -> 0.0017962007 | F18: =[1]生命表!$G19 -> 99531.929 | G18: =[1]生命表!$H19 -> 178.77932 | H18: =[1]生命表!$I19 -> 497256.76 | I18: =[1]生命表!$J19 -> 6596206.3 | J18: =[1]生命表!$K19 -> 66.272264
A19: 20 | B19: ～ | C19: 24 | E19: =[1]生命表!$F20 -> 0.0029016567 | F19: =[1]生命表!$G20 -> 99353.149 | G19: =[1]生命表!$H20 -> 288.28874 | H19: =[1]生命表!$I20 -> 496059.61 | I19: =[1]生命表!$J20 -> 6098949.5 | J19: =[1]生命表!$K20 -> 61.386575
A20: 25 | B20: ～ | C20: 29 | E20: =[1]生命表!$F21 -> 0.0025115784 | F20: =[1]生命表!$G21 -> 99064.86 | G20: =[1]生命表!$H21 -> 248.80916 | H20: =[1]生命表!$I21 -> 494715.44 | I20: =[1]生命表!$J21 -> 5602889.9 | J20: =[1]生命表!$K21 -> 56.557793
A21: 30 | B21: ～ | C21: 34 | E21: =[1]生命表!$F22 -> 0.0035564842 | F21: =[1]生命表!$G22 -> 98816.051 | G21: =[1]生命表!$H22 -> 351.43773 | H21: =[1]生命表!$I22 -> 493242.85 | I21: =[1]生命表!$J22 -> 5108174.5 | J21: =[1]生命表!$K22 -> 51.693772
A22: 35 | B22: ～ | C22: 39 | E22: =[1]生命表!$F23 -> 0.0045345342 | F22: =[1]生命表!$G23 -> 98464.614 | G22: =[1]生命表!$H23 -> 446.49116 | H22: =[1]生命表!$I23 -> 491259.75 | I22: =[1]生命表!$J23 -> 4614931.6 | J22: =[1]生命表!$K23 -> 46.868935
A23: 40 | B23: ～ | C23: 44 | E23: =[1]生命表!$F24 -> 0.0061765082 | F23: =[1]生命表!$G24 -> 98018.122 | G23: =[1]生命表!$H24 -> 605.40974 | H23: =[1]生命表!$I24 -> 488653.95 | I23: =[1]生命表!$J24 -> 4123671.9 | J23: =[1]生命表!$K24 -> 42.070504
A24: 45 | B24: ～ | C24: 49 | E24: =[1]生命表!$F25 -> 0.0083710476 | F24: =[1]生命表!$G25 -> 97412.713 | G24: =[1]生命表!$H25 -> 815.44645 | H24: =[1]生命表!$I25 -> 485208.85 | I24: =[1]生命表!$J25 -> 3635017.9 | J24: =[1]生命表!$K25 -> 37.315642
A25: 50 | B25: ～ | C25: 54 | E25: =[1]生命表!$F26 -> 0.015405757 | F25: =[1]生命表!$G26 -> 96597.266 | G25: =[1]生命表!$H26 -> 1488.154 | H25: =[1]生命表!$I26 -> 479576.81 | I25: =[1]生命表!$J26 -> 3149809.1 | J25: =[1]生命表!$K26 -> 32.607642
A26: 55 | B26: ～ | C26: 59 | E26: =[1]生命表!$F27 -> 0.024167914 | F26: =[1]生命表!$G27 -> 95109.112 | G26: =[1]生命表!$H27 -> 2298.5888 | H26: =[1]生命表!$I27 -> 470229.02 | I26: =[1]生命表!$J27 -> 2670232.2 | J26: =[1]生命表!$K27 -> 28.075462
A27: 60 | B27: ～ | C27: 64 | E27: =[1]生命表!$F28 -> 0.037975506 | F27: =[1]生命表!$G28 -> 92810.523 | G27: =[1]生命表!$H28 -> 3524.5266 | H27: =[1]生命表!$I28 -> 455916.07 | I27: =[1]生命表!$J28 -> 2200003.2 | J27: =[1]生命表!$K28 -> 23.704243
... A34: 95 | B34: ～ | C34: 99 | E34: =[1]生命表!$F35 -> 0.80245455 | F34: =[1]生命表!$G35 -> 9428.5882 | G34: =[1]生命表!$H35 -> 7566.0135 | H34: =[1]生命表!$I35 -> 25514.411 | I34: =[1]生命表!$J35 -> 28834.653 | J34: =[1]生命表!$K35 -> 3.0582154
A35: 100 | B35: 歳 | C35: 以 | D35: 上 | E35: =[1]生命表!$F36 -> 1 | F35: =[1]生命表!$G36 -> 1862.5747 | G35: =[1]生命表!$H36 -> 1862.5747 | H35: =[1]生命表!$I36 -> 3320.2419 | I35: =[1]生命表!$J36 -> 3320.2419 | J35: =[1]生命表!$K36 -> 1.7826087
E36: 女
B37: 0 | D37: 週 | E37: =[2]生命表!$F7 -> 0.0014406915 | F37: =[2]生命表!$G7 -> 100000 | G37: =[2]生命表!$H7 -> 144.06915 | H37: =[2]生命表!$I7 -> 7665.7069 | I37: =[2]生命表!$J7 -> 8710188.3 | J37: =[2]生命表!$K7 -> 87.101883
B38: 4 | E38: =[2]生命表!$F8 -> 0.00034923898 | F38: =[2]生命表!$G8 -> 99855.931 | G38: =[2]生命表!$H8 -> 34.873583 | H38: =[2]生命表!$I8 -> 8980.9056 | I38: =[2]生命表!$J8 -> 8702522.6 | J38: =[2]生命表!$K8 -> 87.150783
B39: 2 | D39: 月 | E39: =[2]生命表!$F9 -> 0.00019268949 | F39: =[2]生命表!$G9 -> 99821.057 | G39: =[2]生命表!$H9 -> 19.234468 | H39: =[2]生命表!$I9 -> 8317.62 | I39: =[2]生命表!$J9 -> 8693541.7 | J39: =[2]生命表!$K9 -> 87.09126
B40: 3 | E40: =[2]生命表!$F10 -> 0.00098729963 | F40: =[2]生命表!$G10 -> 99801.823 | G40: =[2]生命表!$H10 -> 98.534302 | H40: =[2]生命表!$I10 -> 24938.139 | I40: =[2]生命表!$J10 -> 8685224 | J40: =[2]生命表!$K10 -> 87.024704
B41: 6 | E41: =[2]生命表!$F11 -> 0.0012533283 | F41: =[2]生命表!$G11 -> 99703.288 | G41: =[2]生命表!$H11 -> 124.96095 | H41: =[2]生命表!$I11 -> 49820.404 | I41: =[2]生命表!$J11 -> 8660285.9 | J41: =[2]生命表!$K11 -> 86.860584
B42: 0 | D42: 歳 | E42: =[2]生命表!$F12 -> 0.0042167246 | F42: =[2]生命表!$G12 -> 100000 | G42: =[2]生命表!$H12 -> 421.67246 | H42: =[2]生命表!$I12 -> 99722.775 | I42: =[2]生命表!$J12 -> 8710188.3 | J42: =[2]生命表!$K12 -> 87.101883
B43: 1 | E43: =[2]生命表!$F13 -> 0.00060725672 | F43: =[2]生命表!$G13 -> 99578.328 | G43: =[2]生命表!$H13 -> 60.469608 | H43: =[2]生命表!$I13 -> 99548.093 | I43: =[2]生命表!$J13 -> 8610465.5 | J43: =[2]生命表!$K13 -> 86.469272
B44: 2 | E44: =[2]生命表!$F14 -> 0.00014177359 | F44: =[2]生命表!$G14 -> 99517.858 | G44: =[2]生命表!$H14 -> 14.109004 | H44: =[2]生命表!$I14 -> 99510.803 | I44: =[2]生命表!$J14 -> 8510917.4 | J44: =[2]生命表!$K14 -> 85.521509
B45: 3 | E45: =[2]生命表!$F15 -> 0.00028494087 | F45: =[2]生命表!$G15 -> 99503.749 | G45: =[2]生命表!$H15 -> 28.352685 | H45: =[2]生命表!$I15 -> 99489.573 | I45: =[2]生命表!$J15 -> 8411406.6 | J45: =[2]生命表!$K15 -> 84.533565
B46: 4 | E46: =[2]生命表!$F16 -> 0 | F46: =[2]生命表!$G16 -> 99475.396 | G46: =[2]生命表!$H16 -> 0 | H46: =[2]生命表!$I16 -> 99475.396 | I46: =[2]生命表!$J16 -> 8311917 | J46: =[2]生命表!$K16 -> 83.557516
A47: 5 | B47: ～ | C47: 9 | E47: =[2]生命表!$F17 -> 0.00013678581 | F47: =[2]生命表!$G17 -> 99475.396 | G47: =[2]生命表!$H17 -> 13.606822 | H47: =[2]生命表!$I17 -> 497342.96 | I47: =[2]生命表!$J17 -> 8212441.6 | J47: =[2]生命表!$K17 -> 82.557516
A48: 10 | B48: ～ | C48: 14 | E48: =[2]生命表!$F18 -> 0.00013347036 | F48: =[2]生命表!$G18 -> 99461.789 | G48: =[2]生命表!$H18 -> 13.275201 | H48: =[2]生命表!$I18 -> 497283.06 | I48: =[2]生命表!$J18 -> 7715098.7 | J48: =[2]生命表!$K18 -> 77.568468
A49: 15 | B49: ～ | C49: 19 | E49: =[2]生命表!$F19 -> 0.00048940475 | F49: =[2]生命表!$G19 -> 99448.514 | G49: =[2]生命表!$H19 -> 48.670575 | H49: =[2]生命表!$I19 -> 497145.57 | I49: =[2]生命表!$J19 -> 7217815.6 | J49: =[2]生命表!$K19 -> 72.578416
A50: 20 | B50: ～ | C50: 24 | E50: =[2]生命表!$F20 -> 0.0013252168 | F50: =[2]生命表!$G20 -> 99399.844 | G50: =[2]生命表!$H20 -> 131.72634 | H50: =[2]生命表!$I20 -> 496679.29 | I50: =[2]生命表!$J20 -> 6720670 | J50: =[2]生命表!$K20 -> 67.612481
A51: 25 | B51: ～ | C51: 29 | E51: =[2]生命表!$F21 -> 0.00094404796 | F51: =[2]生命表!$G21 -> 99268.117 | G51: =[2]生命表!$H21 -> 93.713863 | H51: =[2]生命表!$I21 -> 496111.79 | I51: =[2]生命表!$J21 -> 6223990.7 | J51: =[2]生命表!$K21 -> 62.698789
A52: 30 | B52: ～ | C52: 34 | E52: =[2]生命表!$F22 -> 0.0015937438 | F52: =[2]生命表!$G22 -> 99174.403 | G52: =[2]生命表!$H22 -> 158.05859 | H52: =[2]生命表!$I22 -> 495513.64 | I52: =[2]生命表!$J22 -> 5727879 | J52: =[2]生命表!$K22 -> 57.755618
A53: 35 | B53: ～ | C53: 39 | E53: =[2]生命表!$F23 -> 0.0027287382 | F53: =[2]生命表!$G23 -> 99016.345 | G53: =[2]生命表!$H23 -> 270.18969 | H53: =[2]生命表!$I23 -> 494462.06 | I53: =[2]生命表!$J23 -> 5232365.3 | J53: =[2]生命表!$K23 -> 52.843451
A54: 40 | B54: ～ | C54: 44 | E54: =[2]生命表!$F24 -> 0.0043136974 | F54: =[2]生命表!$G24 -> 98746.155 | G54: =[2]生命表!$H24 -> 425.96103 | H54: =[2]生命表!$I24 -> 492727.18 | I54: =[2]生命表!$J24 -> 4737903.3 | J54: =[2]生命表!$K24 -> 47.980635
A55: 45 | B55: ～ | C55: 49 | E55: =[2]生命表!$F25 -> 0.0057409503 | F55: =[2]生命表!$G25 -> 98320.194 | G55: =[2]生命表!$H25 -> 564.45134 | H55: =[2]生命表!$I25 -> 490284.5 | I55: =[2]生命表!$J25 -> 4245176.1 | J55: =[2]生命表!$K25 -> 43.177051
A56: 50 | B56: ～ | C56: 54 | E56: =[2]生命表!$F26 -> 0.0090052899 | F56: =[2]生命表!$G26 -> 97755.743 | G56: =[2]生命表!$H26 -> 880.31881 | H56: =[2]生命表!$I26 -> 486746.98 | I56: =[2]生命表!$J26 -> 3754891.6 | J56: =[2]生命表!$K26 -> 38.410956
A57: 55 | B57: ～ | C57: 59 | E57: =[2]生命表!$F27 -> 0.014160914 | F57: =[2]生命表!$G27 -> 96875.424 | G57: =[2]生命表!$H27 -> 1371.8445 | H57: =[2]生命表!$I27 -> 481145.28 | I57: =[2]生命表!$J27 -> 3268144.6 | J57: =[2]生命表!$K27 -> 33.735539
A58: 60 | B58: ～ | C58: 64 | E58: =[2]生命表!$F28 -> 0.019141155 | F58: =[2]生命表!$G28 -> 95503.579 | G58: =[2]生命表!$H28 -> 1828.0488 | H58: =[2]生命表!$I28 -> 473232.5 | I58: =[2]生命表!$J28 -> 2786999.3 | J58: =[2]生命表!$K28 -> 29.182145
... A65: 95 | B65: ～ | C65: 99 | E65: =[2]生命表!$F35 -> 0.69325552 | F65: =[2]生命表!$G35 -> 27654.762 | G65: =[2]生命表!$H35 -> 19171.816 | H65: =[2]生命表!$I35 -> 86120.207 | I65: =[2]生命表!$J35 -> 108525.96 | J65: =[2]生命表!$K35 -> 3.9243135
A66: 100 | B66: 歳 | C66: 以 | D66: 上 | E66: =[2]生命表!$F36 -> 1 | F66: =[2]生命表!$G36 -> 8482.9456 | G66: =[2]生命表!$H36 -> 8482.9456 | H66: =[2]生命表!$I36 -> 22405.748 | I66: =[2]生命表!$J36 -> 22405.748 | J66: =[2]生命表!$K36 -> 2.6412698
