Workbook

Sheet 1　年次別，乳児死亡数・新生児死亡数・率・死亡性比・割合
A1: 第4章 乳 児 死 亡
A2: 1 年次別にみた乳児死亡数・乳児死亡率(出生千対)・乳児死亡性比・総死亡中乳児死亡の占め る割合・新生児死亡数・新生児死亡率（出生千対）・新生児死亡性比及び乳児 死亡中新生児死亡の占める割合
A4: 年次 | B4: 出生数 | C4: 乳児死亡数 | F4: 乳児死亡率 (出生千対) | G4: 乳児死亡 性 比 | H4: 総死亡中乳児 死亡の占める 割合 （％） | I4: 新生児死亡数 | L4: 新生児死亡率 (出生千対) | M4: 新生児死亡 性 比 | N4: 乳児死亡中新 生児死亡の占 める割合(％)
C5: 総数 | D5: 男 | E5: 女 | I5: 総 数 | J5: 男 | K5: 女
A6: 1950 昭和25年 | B6: 8178 | C6: 342 | D6: … | E6: … | F6: 41.819516 | G6: ・ | H6: 13.317757 | I6: … | J6: … | K6: … | L6: ・ | M6: ・ | N6: ・ | P6: 2568
A7: 55 30 | B7: 7551 | C7: 178 | D7: 100 | E7: 78 | F7: 23.573037 | G7: 128.20513 | H7: 6.9395712 | I7: 78 | J7: 46 | K7: 32 | L7: 10.329758 | M7: 143.75 | N7: 43.820225 | P7: 2565
A8: 60 35 | B8: 9392 | C8: 194 | D8: 102 | E8: 92 | F8: 20.7 | G8: 110.86957 | H8: 6.6279467 | I8: 92 | J8: … | K8: … | L8: 9.8 | M8: ・ | N8: 47.42268 | P8: 2927
A9: 65 40 | B9: 16370 | C9: 222 | D9: … | E9: … | F9: 13.561393 | G9: ・ | H9: 5.702543 | I9: 159 | J9: … | K9: … | L9: 9.7128894 | M9: ・ | N9: 71.621622 | P9: 3893
A10: 70 45 | B10: 20411 | C10: 195 | D10: 113 | E10: 82 | F10: 9.553672 | G10: 137.80488 | H10: 4.1845494 | I10: 128 | J10: 81 | K10: 47 | L10: 6.2711283 | M10: 172.34043 | N10: 65.641026 | P10: 4660
A11: 72 47 | B11: 22017 | C11: 207 | D11: 131 | E11: 76 | F11: 9.4018259 | G11: 172.36842 | H11: 4.3350785 | I11: 149 | J11: 91 | K11: 58 | L11: 6.7674978 | M11: 156.89655 | N11: 71.980676 | P11: 4775
A12: 73 48 | B12: 23759 | C12: 237 | D12: 139 | E12: 98 | F12: 9.9751673 | G12: 141.83673 | H12: 4.5814808 | I12: 136 | J12: 81 | K12: 55 | L12: 5.7241466 | M12: 147.27273 | N12: 57.383966 | P12: 5173
A13: 74 49 | B13: 24525 | C13: 246 | D13: 144 | E13: 102 | F13: 10.030581 | G13: 141.17647 | H13: 4.7711404 | I13: 155 | J13: 93 | K13: 62 | L13: 6.3200815 | M13: 150 | N13: 63.00813 | P13: 5156
A14: 75 50 | B14: 23404 | C14: 214 | D14: 116 | E14: 98 | F14: 9.1437361 | G14: 118.36735 | H14: 3.9592969 | I14: 150 | J14: 86 | K14: 64 | L14: 6.4091608 | M14: 134.375 | N14: 70.093458 | P14: 5405
A15: 76 51 | B15: 22910 | C15: 191 | D15: 105 | E15: 86 | F15: 8.3369708 | G15: 122.09302 | H15: 3.4981685 | I15: 132 | J15: 76 | K15: 56 | L15: 5.7616761 | M15: 135.71429 | N15: 69.109948 | P15: 5460
A16: 77 52 | B16: 22286 | C16: 170 | D16: 91 | E16: 79 | F16: 7.6281073 | G16: 115.18987 | H16: 3.0232972 | I16: 119 | J16: 64 | K16: 55 | L16: 5.3396751 | M16: 116.36364 | N16: 70 | P16: 5623
A17: 78 53 | B17: 22251 | C17: 163 | D17: 89 | E17: 74 | F17: 7.3255135 | G17: 120.27027 | H17: 2.8511457 | I17: 116 | J17: 62 | K17: 54 | L17: 5.2132488 | M17: 114.81481 | N17: 71.165644 | P17: 5717
A18: 79 54 | B18: 21577 | C18: 142 | D18: 83 | E18: 59 | F18: 6.5810817 | G18: 140.67797 | H18: 2.4335904 | I18: 92 | J18: 56 | K18: 36 | L18: 4.2637994 | M18: 155.55556 | N18: 64.788732 | P18: 5835
A19: 80 55 | B19: 20931 | C19: 156 | D19: 77 | E19: 79 | F19: 7.4530601 | G19: 97.468354 | H19: 2.4597919 | I19: 97 | J19: 48 | K19: 49 | L19: 4.6342745 | M19: 97.959184 | N19: 62.179487 | P19: 6342
A20: 81 56 | B20: 19944 | C20: 129 | D20: 70 | E20: 59 | F20: 6.4681107 | G20: 118.64407 | H20: 2.0040391 | I20: 79 | J20: 46 | K20: 33 | L20: 3.9610911 | M20: 139.39394 | N20: 61.24031 | P20: 6437
A21: 82 57 | B21: 20727 | C21: 120 | D21: 63 | E21: 57 | F21: 5.7895499 | G21: 110.52632 | H21: 1.7974835 | I21: 71 | J21: 39 | K21: 32 | L21: 3.4254837 | M21: 121.875 | N21: 59.166667 | P21: 6676
... A56: 17 29 | B56: 13821 | C56: 25 | D56: 9 | E56: 16 | F56: 1.8088416 | G56: 56.25 | H56: 0.13391901 | I56: 14 | J56: 7 | K56: 7 | L56: 1.0129513 | M56: 100 | N56: 56 | P56: 18668
A57: 18 30 | B57: =[1]出生数!$G$4 -> 13248 | C57: =SUM(D57:E57) -> 34 | D57: ='3 乳児死亡数，月・性・区別'!$C$5 -> 16 | E57: ='3 乳児死亡数，月・性・区別'!$C$6 -> 18 | F57: =C57/B57*1000 -> 2.5664251 | G57: =D57/E57*100 -> 88.888889 | H57: =C57/P57*100 -> 0.17577418 | I57: =SUM(J57:K57) -> 20 | J57: ='6 生存期間・性別，区別乳児死亡数'!$O$7 -> 11 | K57: ='6 生存期間・性別，区別乳児死亡数'!$O$8 -> 9 | L57: =I57/B57*1000 -> 1.5096618 | M57: =J57/K57*100 -> 122.22222 | N57: =I57/C57*100 -> 58.823529 | P57: ='[2]1 年次別，死亡数・粗死亡率・年齢調整死亡率・死亡性比'!B57 -> 19343
A58: 1) 本市の集計による。

Sheet 2　区別，年次別乳児死亡数・率
A1: 2 区別にみた年次別乳児死亡数及び乳児死亡率（出生千対）
A3: 年次 | B3: 総数 | C3: 中央区 | D3: 北区 | E3: 東区 | F3: 白石区 | G3: 厚別区 | H3: 豊平区 | I3: 清田区 | J3: 南区 | K3: 西区 | L3: 手稲区
B4: 乳児死亡数
A5: 85 60 | B5: =SUM(C5:L5) -> 101 | C5: 12 | D5: 11 | E5: 20 | F5: 17 | G5: … | H5: 13 | I5: … | J5: 7 | K5: 21 | L5: …
A6: 1986 昭和61年 | B6: =SUM(C6:L6) -> 86 | C6: 12 | D6: 15 | E6: 19 | F6: 11 | G6: … | H6: 14 | I6: … | J6: 5 | K6: 10 | L6: …
A7: 1987 昭和62年 | B7: =SUM(C7:L7) -> 88 | C7: 6 | D7: 7 | E7: 19 | F7: 14 | G7: … | H7: 22 | I7: … | J7: 8 | K7: 12 | L7: …
A8: 1988 昭和63年 | B8: 80 | C8: 7 | D8: 12 | E8: 16 | F8: 20 | G8: … | H8: 11 | I8: … | J8: 2 | K8: 12 | L8: …
A9: 89 平成元年 | B9: 75 | C9: 4 | D9: 10 | E9: 7 | F9: 14 | G9: … | H9: 15 | I9: … | J9: 11 | K9: 14 | L9: …
A10: 90 2 | B10: 85 | C10: 10 | D10: 8 | E10: 10 | F10: 15 | G10: 5 | H10: 13 | I10: … | J10: 7 | K10: 14 | L10: 3
A11: 91 3 | B11: 63 | C11: 5 | D11: 8 | E11: 9 | F11: 12 | G11: 3 | H11: 11 | I11: … | J11: 4 | K11: 7 | L11: 4
A12: 93 4 | B12: 57 | C12: 5 | D12: 7 | E12: 10 | F12: 11 | G12: 4 | H12: 9 | I12: … | J12: 2 | K12: 5 | L12: 4
A13: 1993 平成5年 | B13: 51 | C13: 10 | D13: 7 | E13: 10 | F13: 6 | G13: 1 | H13: 6 | I13: … | J13: 4 | K13: 6 | L13: 1
A14: 94 6 | B14: 65 | C14: 6 | D14: 11 | E14: 14 | F14: 6 | G14: 1 | H14: 11 | I14: … | J14: 6 | K14: 9 | L14: 1
A15: 95 7 | B15: 53 | C15: 5 | D15: 3 | E15: 9 | F15: 6 | G15: 7 | H15: 11 | I15: … | J15: 4 | K15: 6 | L15: 2
A16: 96 8 | B16: 55 | C16: 3 | D16: 7 | E16: 5 | F16: 4 | G16: 2 | H16: 15 | I16: … | J16: 6 | K16: 5 | L16: 8
A17: 97 9 | B17: 52 | C17: 3 | D17: 4 | E17: 8 | F17: 6 | G17: 2 | H17: 12 | I17: … | J17: 5 | K17: 8 | L17: 4
A18: 1998 平成10年 | B18: 45 | C18: 5 | D18: 5 | E18: 3 | F18: 4 | G18: 4 | H18: 12 | I18: 1 | J18: 3 | K18: 7 | L18: 1
A19: 99 11 | B19: 32 | C19: 1 | D19: 7 | E19: 4 | F19: 4 | G19: 2 | H19: 3 | I19: 3 | J19: 1 | K19: 5 | L19: 2
A20: 2000 12 | B20: 34 | C20: 4 | D20: 3 | E20: 10 | F20: 0 | G20: 3 | H20: 1 | I20: 4 | J20: 6 | K20: 3 | L20: 0
A21: 01 13 | B21: 33 | C21: 5 | D21: 5 | E21: 7 | F21: 4 | G21: 0 | H21: 5 | I21: 0 | J21: 0 | K21: 6 | L21: 1
A22: 02 14 | B22: 31 | C22: 3 | D22: 4 | E22: 5 | F22: 6 | G22: 1 | H22: 3 | I22: 1 | J22: 1 | K22: 6 | L22: 1
A23: 03 15 | B23: 40 | C23: 3 | D23: 4 | E23: 3 | F23: 10 | G23: 5 | H23: 6 | I23: 1 | J23: 2 | K23: 4 | L23: 2
A24: 04 16 | B24: 45 | C24: 6 | D24: 9 | E24: 10 | F24: 5 | G24: 2 | H24: 6 | I24: 1 | J24: 3 | K24: 1 | L24: 2
A25: 05 17 | B25: 38 | C25: 2 | D25: 4 | E25: 8 | F25: 3 | G25: 6 | H25: 6 | I25: 2 | J25: 1 | K25: 5 | L25: 1
A26: 06 18 | B26: 34 | C26: 1 | D26: 8 | E26: 4 | F26: 7 | G26: 1 | H26: 1 | I26: 2 | J26: 1 | K26: 6 | L26: 3
A27: 07 19 | B27: 34 | C27: 6 | D27: 4 | E27: 4 | F27: 3 | G27: 2 | H27: 7 | I27: 2 | J27: 0 | K27: 4 | L27: 2
A28: 08 20 | B28: 34 | C28: 4 | D28: 6 | E28: 3 | F28: 4 | G28: 1 | H28: 4 | I28: 3 | J28: 2 | K28: 6 | L28: 1
A29: 09 21 | B29: 33 | C29: 2 | D29: 3 | E29: 6 | F29: 8 | G29: 2 | H29: 1 | I29: 2 | J29: 4 | K29: 3 | L29: 2
... A37: 17 29 | B37: 25 | C37: 1 | D37: 1 | E37: 6 | F37: 4 | G37: 0 | H37: 4 | I37: 2 | J37: 2 | K37: 4 | L37: 1
A38: 18 30 | B38: =SUM(C38:L38) -> 34 | C38: ='3 乳児死亡数，月・性・区別'!$C$7 -> 6 | D38: ='3 乳児死亡数，月・性・区別'!$C$10 -> 3 | E38: ='3 乳児死亡数，月・性・区別'!$C$13 -> 5 | F38: ='3 乳児死亡数，月・性・区別'!$C$16 -> 4 | G38: ='3 乳児死亡数，月・性・区別'!$C$19 -> 3 | H38: ='3 乳児死亡数，月・性・区別'!$C$22 -> 4 | I38: ='3 乳児死亡数，月・性・区別'!$C$25 -> 2 | J38: ='3 乳児死亡数，月・性・区別'!$C$28 -> 2 | K38: ='3 乳児死亡数，月・性・区別'!$C$31 -> 3 | L38: ='3 乳児死亡数，月・性・区別'!$C$34 -> 2
B39: 乳児死亡率
A40: 85 60 | B40: 5.2293673 | C40: 6.2532569 | D40: 4.5342127 | E40: 6.3593005 | F40: 4.638472 | G40: ・ | H40: 4.1573393 | I40: ・ | J40: 4.0983607 | K40: 6.3176895 | L40: ・
A41: 1986 昭和61年 | B41: 4.4955567 | C41: 6.2111801 | D41: 6.3829787 | E41: 6.2830688 | F41: 2.8534371 | G41: ・ | H41: 4.4628626 | I41: ・ | J41: 3.0156815 | K41: 3.1505986 | L41: ・
A42: 1987 昭和62年 | B42: 4.7482868 | C42: 3.2414911 | D42: 3.1717263 | E42: 6.7280453 | F42: 3.7685061 | G42: ・ | H42: 7.1151358 | I42: ・ | J42: 5.1446945 | K42: 3.6485254 | L42: ・
A43: 1988 昭和63年 | B43: 4.3917435 | C43: 3.9215686 | D43: 5.5865922 | E43: 5.7761733 | F43: 5.3461641 | G43: ・ | H43: 3.6255768 | I43: ・ | J43: 1.2383901 | K43: 3.8424592 | L43: ・
A44: 89 平成元年 | B44: 4.2908633 | C44: 2.5268478 | D44: 5.0025013 | E44: 2.6246719 | F44: 3.7848067 | G44: ・ | H44: 5.1212018 | I44: ・ | J44: 7.2559367 | K44: 4.536617 | L44: ・
A45: 90 2 | B45: 4.8780488 | C45: 6.2774639 | D45: 4.0140492 | E45: 3.699593 | F45: 6.5559441 | G45: 3.591954 | H45: 4.4142615 | I45: ・ | J45: 4.6022354 | K45: 7.3030777 | L45: 2.7958993
A46: 91 3 | B46: 3.6086608 | C46: 3.342246 | D46: 3.8722168 | E46: 3.1578947 | F46: 5.1260145 | G46: 2.283105 | H46: 3.9020929 | I46: ・ | J46: 2.7378508 | K46: 3.5140562 | L46: 3.5746202
A47: 93 4 | B47: 3.2900433 | C47: 3.4364261 | D47: 3.3301618 | E47: 3.7119525 | F47: 4.6629928 | G47: 3.0075188 | H47: 3.1260854 | I47: ・ | J47: 1.4492754 | K47: 2.5654182 | L47: 3.3984707
A48: 1993 平成5年 | B48: 3.1152648 | C48: 7.6394194 | D48: 3.493014 | E48: 3.8314176 | F48: 2.8860029 | G48: 0.79617834 | H48: 2.1842009 | I48: ・ | J48: 2.8922632 | K48: 3.2858708 | L48: 0.86430424
A49: 94 6 | B49: 3.8107522 | C49: 4.2735043 | D49: 5.0091075 | E49: 5.3353659 | F49: 2.7485112 | G49: 0.75018755 | H49: 3.8841808 | I49: ・ | J49: 4.2887777 | K49: 4.756871 | L49: 0.83752094
A50: 95 7 | B50: 3.2661613 | C50: 3.776435 | D50: 1.4648438 | E50: 3.5046729 | F50: 2.9382958 | G50: 5.907173 | H50: 3.9725533 | I50: ・ | J50: 2.9006526 | K50: 3.2858708 | L50: 1.8416206
A51: 96 8 | B51: 3.3661791 | C51: 2.2222222 | D51: 3.2377428 | E51: 1.9193858 | F51: 1.9184652 | G51: 1.5797788 | H51: 5.4605024 | I51: ・ | J51: 4.5283019 | K51: 2.8587764 | L51: 7.6190476
A52: 1998 平成10年 | B52: 3.2760033 | C52: 2.1913806 | D52: 1.946472 | E52: 3.1286664 | F52: 3.0150754 | G52: 1.7793594 | H52: 4.0680473 | I52: ・ | J52: 3.9556962 | K52: 4.6948357 | L52: 3.6166365
A53: 98 10 | B53: 2.7837921 | C53: 3.617945 | D53: 2.4425989 | E53: 1.1342155 | F53: 1.9129603 | G53: 3.5180299 | H53: 6.3525675 | I53: 1.2376238 | J53: 2.4610336 | K53: 3.7654653 | L53: 0.91911765
A54: 99 11 | B54: 2.0836046 | C54: 0.74850299 | D54: 3.53714 | E54: 1.6240357 | F54: 2.0502307 | G54: 1.8181818 | H54: 1.6051364 | I54: 3.7174721 | J54: 0.89445438 | K54: 2.8555111 | L54: 2.0325203
A55: 2000 12 | B55: 2.2175841 | C55: 3.0326005 | D55: 1.540832 | E55: 3.8925652 | F55: 0 | G55: 2.8169014 | H55: 0.54854635 | I55: 5.1020408 | J55: 5.4102795 | K55: 1.7401392 | L55: 0
A56: 01 13 | B56: 2.1551724 | C56: 3.6231884 | D56: 2.5227043 | E56: 2.8067362 | F56: 2.0030045 | G56: 0 | H56: 2.820079 | I56: 0 | J56: 0 | K56: 3.353829 | L56: 1.048218
A57: 02 14 | B57: 1.9901136 | C57: 2.050581 | D57: 1.9102197 | E57: 2.035002 | F57: 2.9806259 | G57: 0.9765625 | H57: 1.5806112 | I57: 1.2210012 | J57: 0.99009901 | K57: 3.3688939 | L57: 0.98231827
A58: 03 15 | B58: 2.6668445 | C58: 2.1306818 | D58: 1.9930244 | E58: 1.2427506 | F58: 5.2826202 | G58: 5.2910053 | H58: 3.3898305 | I58: 1.2195122 | J58: 1.9493177 | K58: 2.2870212 | L58: 2.0682523
A59: 04 16 | B59: 3.0510543 | C59: 4.0677966 | D59: 4.4378698 | E59: 4.3572985 | F59: 2.6539278 | G59: 2.0470829 | H59: 3.3688939 | I59: 1.3812155 | J59: 3.1512605 | K59: 0.57240985 | L59: 2.2573363
A60: 05 17 | B60: 2.679075 | C60: 1.4234875 | D60: 2.038736 | E60: 3.5351304 | F60: 1.6059957 | G60: 7.0422535 | H60: 3.5566094 | I60: 2.8653295 | J60: 1.1376564 | K60: 2.9994001 | L60: 1.1074197
A61: 06 18 | B61: 2.3082145 | C61: 0.6443299 | D61: 4.0100251 | E61: 1.7301038 | F61: 3.6706869 | G61: 1.1806375 | H61: 0.5608525 | I61: 2.5348542 | J61: 1.1750881 | K61: 3.4364261 | L61: 3.164557
A62: 07 19 | B62: 2.3451511 | C62: 3.9395929 | D62: 1.984127 | E62: 1.7817372 | F62: 1.6216216 | G62: 2.3364486 | H62: 4.0650407 | I62: 2.7434842 | J62: 0 | K62: 2.3364486 | L62: 2.0618557
A63: 08 20 | B63: 2.2903334 | C63: 2.4420024 | D63: 2.855783 | E63: 1.3060514 | F63: 2.0693223 | G63: 1.1918951 | H63: 2.2650057 | I63: 3.7174721 | J63: 2.2727273 | K63: 3.5481963 | L63: 1.1198208
A64: 09 21 | B64: 2.2749207 | C64: 1.2658228 | D64: 1.4619883 | E64: 2.7014858 | F64: 4.3691972 | G64: 2.4420024 | H64: 0.58105752 | I64: 2.5873221 | J64: 4.5924225 | K64: 1.7804154 | L64: 2.0986359
... A72: 17 29 | B72: 1.8088416 | C72: 0.56433409 | D72: 0.53276505 | E72: 2.8076743 | F72: 2.302821 | G72: 0 | H72: 2.2948939 | I72: 3.2206119 | J72: 2.7855153 | K72: 2.4213075 | L72: 1.1520737
A73: 18 30 | B73: =B38/[1]出生数!G$19*1000 -> 2.5664251 | C73: =C38/[1]出生数!H$19*1000 -> 3.440367 | D73: =D38/[1]出生数!I$19*1000 -> 1.6242555 | E73: =E38/[1]出生数!J$19*1000 -> 2.5278059 | F73: =F38/[1]出生数!K$19*1000 -> 2.3378141 | G73: =G38/[1]出生数!L$19*1000 -> 4.5385779 | H73: =H38/[1]出生数!M$19*1000 -> 2.3781213 | I73: =I38/[1]出生数!N$19*1000 -> 3.1055901 | ... L73: =L38/[1]出生数!Q$19*1000 -> 2.4721879
A74: 1) 分区後の清田区分を含む。

Sheet 3　乳児死亡数，月・性・区別
A1: 3 月・性別にみた区別乳児死亡数
O2: 平成30年
A3: 区 ・ 性 | C3: 総数 | D3: 1 月 | E3: 2 月 | F3: 3 月 | G3: 4 月 | H3: 5 月 | I3: 6 月 | J3: 7 月 | K3: 8 月 | L3: 9 月 | M3: 10月 | N3: 11月 | O3: 12月
A4: 総数 | C4: =SUM(C7,C10,C13,C16,C19,C22,C25,C28,C31,C34) -> 34 | D4: =SUM(D7,D10,D13,D16,D19,D22,D25,D28,D31,D34) -> 2 | E4: =SUM(E7,E10,E13,E16,E19,E22,E25,E28,E31,E34) -> 0 | F4: =SUM(F7,F10,F13,F16,F19,F22,F25,F28,F31,F34) -> 3 | G4: =SUM(G7,G10,G13,G16,G19,G22,G25,G28,G31,G34) -> 3 | H4: =SUM(H7,H10,H13,H16,H19,H22,H25,H28,H31,H34) -> 3 | I4: =SUM(I7,I10,I13,I16,I19,I22,I25,I28,I31,I34) -> 5 | J4: =SUM(J7,J10,J13,J16,J19,J22,J25,J28,J31,J34) -> 1 | ... O4: =SUM(O7,O10,O13,O16,O19,O22,O25,O28,O31,O34) -> 3
B5: 男 | C5: =SUM(C8,C11,C14,C17,C20,C23,C26,C29,C32,C35) -> 16 | D5: =SUM(D8,D11,D14,D17,D20,D23,D26,D29,D32,D35) -> 1 | E5: =SUM(E8,E11,E14,E17,E20,E23,E26,E29,E32,E35) -> 0 | F5: =SUM(F8,F11,F14,F17,F20,F23,F26,F29,F32,F35) -> 1 | G5: =SUM(G8,G11,G14,G17,G20,G23,G26,G29,G32,G35) -> 0 | H5: =SUM(H8,H11,H14,H17,H20,H23,H26,H29,H32,H35) -> 2 | I5: =SUM(I8,I11,I14,I17,I20,I23,I26,I29,I32,I35) -> 5 | J5: =SUM(J8,J11,J14,J17,J20,J23,J26,J29,J32,J35) -> 0 | ... O5: =SUM(O8,O11,O14,O17,O20,O23,O26,O29,O32,O35) -> 2
B6: 女 | C6: =SUM(C9,C12,C15,C18,C21,C24,C27,C30,C33,C36) -> 18 | D6: =SUM(D9,D12,D15,D18,D21,D24,D27,D30,D33,D36) -> 1 | E6: =SUM(E9,E12,E15,E18,E21,E24,E27,E30,E33,E36) -> 0 | F6: =SUM(F9,F12,F15,F18,F21,F24,F27,F30,F33,F36) -> 2 | G6: =SUM(G9,G12,G15,G18,G21,G24,G27,G30,G33,G36) -> 3 | H6: =SUM(H9,H12,H15,H18,H21,H24,H27,H30,H33,H36) -> 1 | I6: =SUM(I9,I12,I15,I18,I21,I24,I27,I30,I33,I36) -> 0 | J6: =SUM(J9,J12,J15,J18,J21,J24,J27,J30,J33,J36) -> 1 | ... O6: =SUM(O9,O12,O15,O18,O21,O24,O27,O30,O33,O36) -> 1
A7: 中央 | C7: =SUM(D7:O7) -> 6 | D7: =SUM(D8:D9) -> 0 | E7: =SUM(E8:E9) -> 0 | F7: =SUM(F8:F9) -> 0 | G7: =SUM(G8:G9) -> 1 | H7: =SUM(H8:H9) -> 2 | I7: =SUM(I8:I9) -> 1 | J7: =SUM(J8:J9) -> 0 | K7: =SUM(K8:K9) -> 0 | ... O7: =SUM(O8:O9) -> 0
B8: 男 | C8: =SUM(D8:O8) -> 3 | D8: 0 | E8: 0 | F8: 0 | G8: 0 | H8: 2 | I8: 1 | J8: 0 | K8: 0 | L8: 0 | M8: 0 | N8: 0 | O8: 0
B9: 女 | C9: =SUM(D9:O9) -> 3 | D9: 0 | E9: 0 | F9: 0 | G9: 1 | H9: 0 | I9: 0 | J9: 0 | K9: 0 | L9: 1 | M9: 0 | N9: 1 | O9: 0
A10: 北 | C10: =SUM(D10:O10) -> 3 | D10: =SUM(D11:D12) -> 0 | E10: =SUM(E11:E12) -> 0 | F10: =SUM(F11:F12) -> 0 | G10: =SUM(G11:G12) -> 0 | H10: =SUM(H11:H12) -> 0 | I10: =SUM(I11:I12) -> 0 | J10: =SUM(J11:J12) -> 0 | K10: =SUM(K11:K12) -> 1 | ... O10: =SUM(O11:O12) -> 0
B11: 男 | C11: =SUM(D11:O11) -> 2 | D11: 0 | E11: 0 | F11: 0 | G11: 0 | H11: 0 | I11: 0 | J11: 0 | K11: 0 | L11: 2 | M11: 0 | N11: 0 | O11: 0
B12: 女 | C12: =SUM(D12:O12) -> 1 | D12: 0 | E12: 0 | F12: 0 | G12: 0 | H12: 0 | I12: 0 | J12: 0 | K12: 1 | L12: 0 | M12: 0 | N12: 0 | O12: 0
A13: 東 | C13: =SUM(D13:O13) -> 5 | D13: =SUM(D14:D15) -> 0 | E13: =SUM(E14:E15) -> 0 | F13: =SUM(F14:F15) -> 0 | G13: =SUM(G14:G15) -> 0 | H13: =SUM(H14:H15) -> 0 | I13: =SUM(I14:I15) -> 0 | J13: =SUM(J14:J15) -> 1 | K13: =SUM(K14:K15) -> 0 | ... O13: =SUM(O14:O15) -> 2
B14: 男 | C14: =SUM(D14:O14) -> 3 | D14: 0 | E14: 0 | F14: 0 | G14: 0 | H14: 0 | I14: 0 | J14: 0 | K14: 0 | L14: 0 | M14: 0 | N14: 1 | O14: 2
B15: 女 | C15: =SUM(D15:O15) -> 2 | D15: 0 | E15: 0 | F15: 0 | G15: 0 | H15: 0 | I15: 0 | J15: 1 | K15: 0 | L15: 0 | M15: 0 | N15: 1 | O15: 0
A16: 白石 | C16: =SUM(D16:O16) -> 4 | D16: =SUM(D17:D18) -> 0 | E16: =SUM(E17:E18) -> 0 | F16: =SUM(F17:F18) -> 1 | G16: =SUM(G17:G18) -> 2 | H16: =SUM(H17:H18) -> 0 | I16: =SUM(I17:I18) -> 0 | J16: =SUM(J17:J18) -> 0 | K16: =SUM(K17:K18) -> 1 | ... O16: =SUM(O17:O18) -> 0
B17: 男 | C17: =SUM(D17:O17) -> 1 | D17: 0 | E17: 0 | F17: 1 | G17: 0 | H17: 0 | I17: 0 | J17: 0 | K17: 0 | L17: 0 | M17: 0 | N17: 0 | O17: 0
B18: 女 | C18: =SUM(D18:O18) -> 3 | D18: 0 | E18: 0 | F18: 0 | G18: 2 | H18: 0 | I18: 0 | J18: 0 | K18: 1 | L18: 0 | M18: 0 | N18: 0 | O18: 0
A19: 厚別 | C19: =SUM(D19:O19) -> 3 | D19: =SUM(D20:D21) -> 0 | E19: =SUM(E20:E21) -> 0 | F19: =SUM(F20:F21) -> 0 | G19: =SUM(G20:G21) -> 0 | H19: =SUM(H20:H21) -> 0 | I19: =SUM(I20:I21) -> 2 | J19: =SUM(J20:J21) -> 0 | K19: =SUM(K20:K21) -> 0 | ... O19: =SUM(O20:O21) -> 0
B20: 男 | C20: =SUM(D20:O20) -> 2 | D20: 0 | E20: 0 | F20: 0 | G20: 0 | H20: 0 | I20: 2 | J20: 0 | K20: 0 | L20: 0 | M20: 0 | N20: 0 | O20: 0
B21: 女 | C21: =SUM(D21:O21) -> 1 | D21: 0 | E21: 0 | F21: 0 | G21: 0 | H21: 0 | I21: 0 | J21: 0 | K21: 0 | L21: 0 | M21: 1 | N21: 0 | O21: 0
A22: 豊平 | C22: =SUM(D22:O22) -> 4 | D22: =SUM(D23:D24) -> 0 | E22: =SUM(E23:E24) -> 0 | F22: =SUM(F23:F24) -> 2 | G22: =SUM(G23:G24) -> 0 | H22: =SUM(H23:H24) -> 0 | I22: =SUM(I23:I24) -> 1 | J22: =SUM(J23:J24) -> 0 | K22: =SUM(K23:K24) -> 1 | ... O22: =SUM(O23:O24) -> 0
B23: 男 | C23: =SUM(D23:O23) -> 2 | D23: 0 | E23: 0 | F23: 0 | G23: 0 | H23: 0 | I23: 1 | J23: 0 | K23: 1 | L23: 0 | M23: 0 | N23: 0 | O23: 0
B24: 女 | C24: =SUM(D24:O24) -> 2 | D24: 0 | E24: 0 | F24: 2 | G24: 0 | H24: 0 | I24: 0 | J24: 0 | K24: 0 | L24: 0 | M24: 0 | N24: 0 | O24: 0
A25: 清田 | C25: =SUM(D25:O25) -> 2 | D25: =SUM(D26:D27) -> 1 | E25: =SUM(E26:E27) -> 0 | F25: =SUM(F26:F27) -> 0 | G25: =SUM(G26:G27) -> 0 | H25: =SUM(H26:H27) -> 0 | I25: =SUM(I26:I27) -> 0 | J25: =SUM(J26:J27) -> 0 | K25: =SUM(K26:K27) -> 1 | ... O25: =SUM(O26:O27) -> 0
B26: 男 | C26: =SUM(D26:O26) -> 1 | D26: 0 | E26: 0 | F26: 0 | G26: 0 | H26: 0 | I26: 0 | J26: 0 | K26: 1 | L26: 0 | M26: 0 | N26: 0 | O26: 0
B27: 女 | C27: =SUM(D27:O27) -> 1 | D27: 1 | E27: 0 | F27: 0 | G27: 0 | H27: 0 | I27: 0 | J27: 0 | K27: 0 | L27: 0 | M27: 0 | N27: 0 | O27: 0
A28: 南 | C28: =SUM(D28:O28) -> 2 | D28: =SUM(D29:D30) -> 0 | E28: =SUM(E29:E30) -> 0 | F28: =SUM(F29:F30) -> 0 | G28: =SUM(G29:G30) -> 0 | H28: =SUM(H29:H30) -> 0 | I28: =SUM(I29:I30) -> 1 | J28: =SUM(J29:J30) -> 0 | K28: =SUM(K29:K30) -> 0 | ... O28: =SUM(O29:O30) -> 0
B29: 男 | C29: =SUM(D29:O29) -> 1 | D29: 0 | E29: 0 | F29: 0 | G29: 0 | H29: 0 | I29: 1 | J29: 0 | K29: 0 | L29: 0 | M29: 0 | N29: 0 | O29: 0
B30: 女 | C30: =SUM(D30:O30) -> 1 | D30: 0 | E30: 0 | F30: 0 | G30: 0 | H30: 0 | I30: 0 | J30: 0 | K30: 0 | L30: 1 | M30: 0 | N30: 0 | O30: 0
A31: 西 | C31: =SUM(D31:O31) -> 3 | D31: =SUM(D32:D33) -> 1 | E31: =SUM(E32:E33) -> 0 | F31: =SUM(F32:F33) -> 0 | G31: =SUM(G32:G33) -> 0 | H31: =SUM(H32:H33) -> 1 | I31: =SUM(I32:I33) -> 0 | J31: =SUM(J32:J33) -> 0 | K31: =SUM(K32:K33) -> 0 | ... O31: =SUM(O32:O33) -> 1
B32: 男 | C32: =SUM(D32:O32) -> 1 | D32: 1 | E32: 0 | F32: 0 | G32: 0 | H32: 0 | I32: 0 | J32: 0 | K32: 0 | L32: 0 | M32: 0 | N32: 0 | O32: 0
B33: 女 | C33: =SUM(D33:O33) -> 2 | D33: 0 | E33: 0 | F33: 0 | G33: 0 | H33: 1 | I33: 0 | J33: 0 | K33: 0 | L33: 0 | M33: 0 | N33: 0 | O33: 1
A34: 手稲 | C34: =SUM(D34:O34) -> 2 | D34: =SUM(D35:D36) -> 0 | E34: =SUM(E35:E36) -> 0 | F34: =SUM(F35:F36) -> 0 | G34: =SUM(G35:G36) -> 0 | H34: =SUM(H35:H36) -> 0 | I34: =SUM(I35:I36) -> 0 | J34: =SUM(J35:J36) -> 0 | K34: =SUM(K35:K36) -> 2 | ... O34: =SUM(O35:O36) -> 0
B35: 男 | C35: =SUM(D35:O35) -> 0 | D35: 0 | E35: 0 | F35: 0 | G35: 0 | H35: 0 | I35: 0 | J35: 0 | K35: 0 | L35: 0 | M35: 0 | N35: 0 | O35: 0
B36: 女 | C36: =SUM(D36:O36) -> 2 | D36: 0 | E36: 0 | F36: 0 | G36: 0 | H36: 0 | I36: 0 | J36: 0 | K36: 2 | L36: 0 | M36: 0 | N36: 0 | O36: 0

Sheet 4 年次別，乳児死因順位
A1: 4 年次別にみた乳児死因順位
A3: 年次 | B3: 乳児死 亡総数 | C3: 第 1 位 | D3: 乳 児 死亡数 | E3: 第 2 位 | F3: 乳 児 死亡数 | G3: 第 3 位 | H3: 乳 児 死亡数 | I3: 第 4 位 | J3: 乳 児 死亡数 | K3: 第 5 位 | L3: 乳 児 死亡数
A4: 1965 昭和40年 | B4: 222 | C4: その他の新生児固有疾患 | D4: … | E4: 先天異常 | F4: … | G4: 出生時の損傷 | H4: … | I4: 新生児の感染 | J4: … | K4: 肺炎 | L4: …
A5: 70 45 | B5: 195 | C5: 詳細不明の未熟児 | D5: … | E5: 先天異常 | F5: … | G5: 肺炎及び気管支炎 | H5: … | I5: 出生時損傷、難産及び その他の無酸素症、低酸素症 | J5: … | K5: 不慮の事故 | L5: …
A6: 1975 昭和50年 | B6: 214 | C6: 先天異常 | D6: 55 | E6: 出生時損傷、難産及び その他の無酸素症、低酸素症 | F6: 51 | G6: 肺炎及び気管支炎 | H6: 16 | J6: 11
A7: 80 55 | B7: 156 | C7: 出生時外傷、低酸素症、分娩 仮死及びその他の呼吸器病態 | D7: 57 | E7: 先天異常 | F7: 43 | G7: 不慮の事故及び有害作用 | H7: 10 | J7: 5
A8: 85 60 | B8: 101 | C8: 先天異常 | D8: 38 | E8: 出生時外傷、低酸素症、分娩 仮死及びその他の呼吸器病態 | F8: 25 | G8: 不慮の事故及び有害作用 | H8: 8 | I8: 心疾患 | J8: 6 | K8: その他の外因 | L8: 5
A9: 86 61 | B9: 86 | C9: 先天異常 | D9: 29 | E9: 出生時外傷、低酸素症、分娩 仮死及びその他の呼吸器病態 | F9: 18 | G9: 不慮の事故及び有害作用 | H9: 9 | I9: その他の外因 | J9: 5 | K9: 心疾患 | L9: 3
A10: 87 62 | B10: 88 | C10: 先天異常 | D10: 34 | E10: 出生時外傷、低酸素症、分娩 仮死及びその他の呼吸器病態 | F10: 15 | G10: 不慮の事故及び有害作用 | H10: 12 | J10: 4
A11: 88 63 | B11: 80 | C11: 先天異常 | D11: 24 | E11: 出生時外傷、低酸素症、分娩 仮死及びその他の呼吸器病態 | F11: 20 | H11: 4 | K11: その他の外因 | L11: 3
A12: 89 平成元年 | B12: 75 | C12: 先天異常 | D12: 26 | E12: 出生時外傷、低酸素症、分娩 仮死及びその他の呼吸器病態 | F12: 21 | G12: 不慮の事故及び有害作用 | H12: 6 | J12: 2
A13: 1990 平成2年 | B13: 85 | C13: 先天異常 | D13: 41 | E13: 出生時外傷、低酸素症、分娩 仮死及びその他の呼吸器病態 | F13: 11 | G13: 不慮の事故及び有害作用 | H13: 4 | J13: 3
A14: 91 3 | B14: 63 | C14: 先天異常 | D14: 26 | E14: 出生時外傷、低酸素症、分娩 仮死及びその他の呼吸器病態 | F14: 9 | H14: 3
A15: 92 4 | B15: 57 | C15: 先天異常 | D15: 22 | E15: 出生時外傷、低酸素症、分娩 仮死及びその他の呼吸器病態 | F15: 8 | G15: 心疾患 | H15: 4 | I15: その他の外因 | J15: 4 | K15: 敗血症 (新生児敗血症を含む） | L15: 3
A16: 93 5 | B16: 51 | C16: 先天異常 | D16: 21 | E16: 出生時外傷、低酸素症、分娩 仮死及びその他の呼吸器病態 | F16: 8 | G16: 不慮の事故及び有害作用 | H16: 7 | I16: 心疾患 | J16: 2 | L16: 1
A17: 94 6 | B17: 65 | C17: 先天異常 | D17: 25 | E17: 出生時外傷、低酸素症、分娩 仮死及びその他の呼吸器病態 | F17: 8 | G17: 敗血症(新生児敗血症を含む） | H17: 3 | J17: 2
A18: 95 7 | B18: 53 | C18: 先天奇形、変形及び染色体異常 | D18: 18 | E18: 乳幼児突然死症候群 | F18: 6 | H18: 4 | K18: 不慮の事故 | L18: 3
A19: 96 8 | B19: 55 | C19: 先天奇形、変形及び染色体異常 | D19: 25 | E19: 周産期に特異的な呼吸 障害及び心血管障害 | F19: 10 | G19: 乳幼児突然死症候群 | H19: 5 | I19: 不慮の事故 | J19: 3 | K19: 胎児及び新生児の出血 性障害及び血液障害 | L19: 2
A20: 97 9 | B20: 52 | C20: 先天奇形、変形及び染色体異常 | D20: 16 | F20: 6 | I20: 不慮の事故 | J20: 5 | K20: 乳幼児突然死症候群 | L20: 3
A21: 98 10 | B21: 45 | C21: 先天奇形、変形及び染色体異常 | D21: 16 | E21: 周産期に特異的な呼吸 障害及び心血管障害 | F21: 11 | G21: 心疾患（高血圧性を除く） | H21: 4 | I21: 胎児及び新生児の出血 性障害及び血液障害 | J21: 3 | K21: 不慮の事故 | L21: 2
A22: 99 11 | B22: 32 | C22: 先天奇形、変形及び染色体異常 | D22: 14 | F22: 3 | K22: 胎児及び新生児の出血 性障害及び血液障害 | L22: 2
A23: 2000 12 | B23: 34 | C23: 先天奇形、変形及び染色体異常 | D23: 11 | E23: 不慮の事故 | F23: 6 | G23: 心疾患（高血圧性を除く） | H23: 3 | J23: 2
A24: 01 13 | B24: 33 | C24: 先天奇形、変形及び染色体異常 | D24: 13 | E24: 乳幼児突然死症候群 | F24: 6 | G24: 周産期に特異的な呼吸障害 及び心血管障害 | H24: 4 | I24: 不慮の事故 | J24: 3 | L24: 1
A25: 02 14 | B25: 31 | C25: 先天奇形、変形及び染色体異常 | D25: 10 | E25: 周産期に特異的な呼吸障害 及び心血管障害 | F25: 6 | G25: 不慮の事故 | H25: 5 | J25: 2
A26: 03 15 | B26: 40 | C26: 先天奇形、変形及び染色体異常 | D26: 11 | E26: 周産期に特異的な呼吸障害 及び心血管障害 | F26: 6 | G26: 乳幼児突然死症候群 | H26: 4 | I26: 不慮の事故 | J26: 3 | K26: 代謝障害、心疾患 | L26: 2
A27: 04 16 | B27: 45 | C27: 先天奇形、変形及び染色体異常 | D27: 21 | E27: 周産期に特異的な呼吸障害 及び心血管障害 | F27: 8 | G27: 乳幼児突然死症候群 | H27: 6 | I27: 不慮の事故 | J27: 3 | K27: 心疾患 | L27: 2
A28: 05 17 | B28: 38 | C28: 先天奇形、変形及び染色体異常 | D28: 21 | E28: 周産期に特異的な呼吸障害 及び心血管障害 | F28: 8 | G28: 乳幼児突然死症候群 | H28: 6 | I28: 不慮の事故 | J28: 3 | K28: 心疾患 | L28: 2
A29: 06 18 | B29: 34 | C29: 先天奇形，変形及び染色体異常 | D29: 15 | E29: 乳幼児突然死症候群 | F29: 4 | G29: 周産期に特異的な呼吸障害及び心血管障害 | H29: 2 | J29: 1
A30: 07 19 | B30: 34 | C30: 先天奇形，変形及び染色体異常 | D30: 13 | F30: 5 | I30: 心疾患 | J30: 2 | L30: 1
A31: 08 20 | B31: 34 | C31: 先天奇形，変形及び染色体異常 | D31: 15 | E31: 周産期に特異的な呼吸障害 及び心血管障害 | F31: 9 | G31: 乳幼児突然死症候群 | H31: 6 | I31: 悪性新生物 心疾患 肺 炎 | J31: 1
A32: 09 21 | B32: 33 | C32: 先天奇形，変形及び染色体異常 | D32: 9 | E32: 周産期に特異的な呼吸障害 及び心血管障害 | F32: 7 | G32: 乳幼児突然死症候群 | H32: 6 | I32: 不慮の事故 | J32: 2 | L32: 1
A33: 10 22 | B33: 26 | C33: 先天奇形，変形及び染色体異常 | D33: 11 | E33: 乳幼児突然死症候群 | F33: 4 | G33: 周産期に特異的な呼吸障害 及び心血管障害 | H33: 3 | J33: 2 | L33: 1
A34: 11 23 | B34: 40 | C34: 先天奇形，変形及び染色体異常 | D34: 17 | E34: 乳幼児突然死症候群 | F34: 9 | G34: 周産期に特異的な呼吸障害及び心血管障害 | H34: 5 | I34: その他のすべての疾患 | J34: 4 | K34: 肺 炎 周産期に特異的な感染症 その他の周産期に発生した病態 不慮の事故 | L34: 1
A35: 12 24 | B35: 34 | C35: 先天奇形，変形及び染色体異常 | D35: 12 | E35: 乳幼児突然死症候群 | F35: 6 | G35: 周産期に特異的な呼吸障害及び心血管障害 | H35: 5 | I35: 胎児及び新生児の出血性障害及び血液障害 | J35: 3 | K35: 肺 炎 | L35: 2
A36: 13 25 | B36: 35 | C36: 先天奇形，変形及び染色体異常 | D36: 11 | E36: 乳幼児突然死症候群 | F36: 7 | G36: 周産期に特異的な呼吸障害及び心血管障害 | H36: 4 | I36: 胎児及び新生児の出血性障害及び血液障害 | J36: 3 | K36: 妊娠期間及び胎児発育に関連する障害 その他のすべての疾患 | L36: 2
A37: 14 26 | B37: 26 | C37: 先天奇形，変形及び染色体異常 | D37: 13 | E37: 周産期に特異的な呼吸障害及び心血管障害 乳幼児突然死症候群 | F37: 3 | G37: 0 | H37: 0 | I37: 心疾患 その他のすべての疾患 | J37: 2 | K37: 0 | L37: 0
A38: 15 27 | B38: 27 | C38: 先天奇形，変形及び染色体異常 | D38: 8 | E38: 乳幼児突然死症候群 | F38: 6 | G38: 周産期に特異的な呼吸障害及び心血管障害 | H38: 3 | I38: 心疾患 その他の周産期に発生した病態 | J38: 2 | K38: 0 | L38: 0
A39: 16 28 | B39: 29 | C39: 先天奇形，変形及び染色体異常 | D39: 8 | E39: 乳幼児突然死症候群 | F39: 7 | G39: 周産期に特異的な呼吸障害及び心血管障害 | H39: 5 | I39: 不慮の事故 | J39: 3 | K39: 腸管感染症 その他の感染症及び寄生虫症 心疾患 妊娠期間及び胎児発育に関連する障害 その他のすべての疾患 | L39: 1
A40: 17 29 | B40: 25 | C40: 先天奇形，変形及び染色体異常 | D40: 9 | E40: 周産期に特異的な呼吸障害及び心血管障害 その他のすべての疾患 | F40: 4 | G40: 0 | H40: 0 | I40: 周産期に特異的な感染症 | J40: 2 | K40: 代謝障害 心疾患 ヘルニア及び腸閉塞 妊娠期間及び胎児発育に関連する障害 胎児及び新生児の出血性障害及び血液障害 不慮の事故 | L40: 1
A41: 18 30 | B41: ='3 乳児死亡数，月・性・区別'!C4 -> 34 | C41: ='[3]■4 年次別，乳児死因順位'!$C$4 -> 先天奇形，変形及び染色体異常 | D41: ='[3]■4 年次別，乳児死因順位'!$D$4 -> 13 | E41: ='[3]■4 年次別，乳児死因順位'!$E$4 -> 周産期に特異的な呼吸障害及び心血管障害 | F41: ='[3]■4 年次別，乳児死因順位'!$F$4 -> 8 | G41: ='[3]■4 年次別，乳児死因順位'!$G$4 -> 心疾患 その他の周産期に発生した病態 その他のすべての疾患 | H41: ='[3]■4 年次別，乳児死因順位'!$H$4 -> 2 | I41: ='[3]■4 年次別，乳児死因順位'!$I$4 -> 0 | J41: ='[3]■4 年次別，乳児死因順位'!$J$4 -> 0 | K41: ='[3]■4 年次別，乳児死因順位'!$K$4 -> 0 | L41: ='[3]■4 年次別，乳児死因順位'!$L$4 -> 0

Sheet 5 生存期間別，乳児死亡数・率
A1: 5 生存期間別にみた年次別乳児死亡数及び乳児死亡率（出生10万対）
A3: 年次 | B3: 総数 | C3: 日齢―月齢
C4: 1 日 未満 | D4: 1日 | E4: 2日 | F4: 3日 | G4: 4日 | H4: 5日 | I4: 6日 | J4: １週未満 | K4: 1週～ 2週未満 | L4: 2週～ 3週未満 | M4: 3週～ 4週未満 | N4: 4週未満 | O4: 4週～ 2か月未満 | P4: 2か月 | Q4: 3か月 | R4: 4か月 | S4: 5か月 | T4: 6か月 | U4: 7か月 | V4: 8か月 | W4: 9か月 | X4: 10か月 | Y4: 11か月
B5: 乳児死亡数
A6: 85 60 | B6: 101 | C6: 25 | D6: 7 | E6: 6 | F6: 2 | G6: 4 | H6: 2 | I6: 0 | J6: 46 | K6: 9 | L6: 5 | M6: 3 | N6: 63 | O6: 6 | P6: 9 | Q6: 0 | R6: 6 | S6: 2 | T6: 2 | U6: 0 | V6: 3 | W6: 2 | X6: 4 | Y6: 4
A7: 1986 昭和61年 | B7: 86 | C7: 19 | D7: 1 | E7: 2 | F7: 4 | G7: 2 | H7: 2 | I7: 3 | J7: 33 | K7: 9 | L7: 2 | M7: 4 | N7: 48 | O7: 7 | P7: 3 | Q7: 5 | R7: 4 | S7: 7 | T7: 3 | U7: 0 | V7: 3 | W7: 2 | X7: 3 | Y7: 1
A8: 1987 昭和62年 | B8: 88 | C8: 22 | D8: 8 | E8: 4 | F8: 2 | G8: 2 | H8: 0 | I8: 0 | J8: 38 | K8: 7 | L8: 2 | M8: 5 | N8: 52 | O8: 8 | P8: 5 | Q8: 1 | R8: 2 | S8: 2 | T8: 3 | U8: 3 | V8: 5 | W8: 1 | X8: 6 | Y8: 0
A9: 1988 昭和63年 | B9: 80 | C9: 32 | D9: 2 | E9: 1 | F9: 0 | G9: 2 | H9: 2 | I9: 0 | J9: 39 | K9: 2 | L9: 3 | M9: 0 | N9: 44 | O9: 6 | P9: 2 | Q9: 10 | R9: 0 | S9: 4 | T9: 5 | U9: 2 | V9: 3 | W9: 3 | X9: 0 | Y9: 1
A10: 89 平成元年 | B10: 75 | C10: 20 | D10: 6 | E10: 3 | F10: 2 | G10: 4 | H10: 0 | I10: 1 | J10: 36 | K10: 1 | L10: 3 | M10: 0 | N10: 40 | O10: 5 | P10: 5 | Q10: 4 | R10: 3 | S10: 3 | T10: 2 | U10: 2 | V10: 3 | W10: 5 | X10: 0 | Y10: 3
A11: 90 2 | B11: 85 | C11: 24 | D11: 5 | E11: 3 | F11: 0 | G11: 0 | H11: 1 | I11: 0 | J11: 33 | K11: 5 | L11: 7 | M11: 2 | N11: 47 | O11: 6 | P11: 10 | Q11: 6 | R11: 5 | S11: 3 | T11: 3 | U11: 1 | V11: 1 | W11: 1 | X11: 2 | Y11: 0
A12: 91 3 | B12: 63 | C12: 17 | D12: 7 | E12: 4 | F12: 2 | G12: 0 | H12: 0 | I12: 1 | J12: 31 | K12: 1 | L12: 1 | M12: 3 | N12: 36 | O12: 4 | P12: 4 | Q12: 4 | R12: 5 | S12: 2 | T12: 1 | U12: 1 | V12: 2 | W12: 3 | X12: 0 | Y12: 1
A13: 93 4 | B13: 57 | C13: 16 | D13: 3 | E13: 1 | F13: 0 | G13: 0 | H13: 2 | I13: 1 | J13: 23 | K13: 3 | L13: 1 | M13: 2 | N13: 29 | O13: 6 | P13: 4 | Q13: 4 | R13: 1 | S13: 1 | T13: 1 | U13: 4 | V13: 1 | W13: 2 | X13: 0 | Y13: 4
A14: 1993 平成5年 | B14: 51 | C14: 16 | D14: 2 | E14: 0 | F14: 1 | G14: 0 | H14: 0 | I14: 0 | J14: 19 | K14: 1 | L14: 0 | M14: 0 | N14: 20 | O14: 7 | P14: 1 | Q14: 4 | R14: 4 | S14: 2 | T14: 5 | U14: 5 | V14: 1 | W14: 1 | X14: 0 | Y14: 1
A15: 94 6 | B15: 65 | C15: 14 | D15: 6 | E15: 2 | F15: 1 | G15: 0 | H15: 0 | I15: 0 | J15: 23 | K15: 5 | L15: 3 | M15: 2 | N15: 33 | O15: 6 | P15: 6 | Q15: 1 | R15: 4 | S15: 3 | T15: 2 | U15: 2 | V15: 4 | W15: 3 | X15: 1 | Y15: 0
A16: 95 7 | B16: 53 | C16: 12 | D16: 0 | E16: 0 | F16: 2 | G16: 0 | H16: 0 | I16: 1 | J16: 15 | K16: 4 | L16: 5 | M16: 1 | N16: 25 | O16: 6 | P16: 2 | Q16: 3 | R16: 5 | S16: 1 | T16: 3 | U16: 2 | V16: 1 | W16: 3 | X16: 2 | Y16: 0
A17: 96 8 | B17: 55 | C17: 11 | D17: 6 | E17: 1 | F17: 2 | G17: 2 | H17: 0 | I17: 0 | J17: 22 | K17: 5 | L17: 3 | M17: 1 | N17: 31 | O17: 6 | P17: 3 | Q17: 3 | R17: 2 | S17: 2 | T17: 0 | U17: 0 | V17: 3 | W17: 1 | X17: 1 | Y17: 3
... A38: 17 29 | B38: 25 | C38: 7 | D38: 4 | E38: 0 | F38: 0 | G38: 1 | H38: 0 | I38: 1 | J38: 13 | K38: 1 | L38: 0 | M38: 0 | N38: 14 | O38: 3 | P38: 0 | Q38: 1 | R38: 4 | S38: 2 | T38: 1 | U38: 0 | V38: 0 | W38: 0 | X38: 0 | Y38: 0
A39: 18 30 | B39: =SUM(N39:Y39) -> 34 | C39: ='6 生存期間・性別，区別乳児死亡数'!D$6 -> 10 | D39: ='6 生存期間・性別，区別乳児死亡数'!E$6 -> 1 | E39: ='6 生存期間・性別，区別乳児死亡数'!F$6 -> 0 | F39: ='6 生存期間・性別，区別乳児死亡数'!G$6 -> 3 | G39: ='6 生存期間・性別，区別乳児死亡数'!H$6 -> 0 | H39: ='6 生存期間・性別，区別乳児死亡数'!I$6 -> 1 | I39: ='6 生存期間・性別，区別乳児死亡数'!J$6 -> 0 | J39: =SUM(C39:I39) -> 15 | K39: ='6 生存期間・性別，区別乳児死亡数'!L$6 -> 1 | L39: ='6 生存期間・性別，区別乳児死亡数'!M$6 -> 3 | M39: ='6 生存期間・性別，区別乳児死亡数'!N$6 -> 1 | N39: =SUM(J39:M39) -> 20 | O39: ='6 生存期間・性別，区別乳児死亡数'!P$6 -> 3 | P39: ='6 生存期間・性別，区別乳児死亡数'!Q$6 -> 2 | Q39: ='6 生存期間・性別，区別乳児死亡数'!R$6 -> 2 | R39: ='6 生存期間・性別，区別乳児死亡数'!S$6 -> 3 | S39: ='6 生存期間・性別，区別乳児死亡数'!T$6 -> 1 | T39: ='6 生存期間・性別，区別乳児死亡数'!U$6 -> 1 | U39: ='6 生存期間・性別，区別乳児死亡数'!V$6 -> 0 | V39: ='6 生存期間・性別，区別乳児死亡数'!W$6 -> 1 | ... Y39: ='6 生存期間・性別，区別乳児死亡数'!Z$6 -> 0
B40: 乳 児 死 亡 率 ( 出 生 10 万 対 ）
A41: 85 60 | B41: 522.93673 | C41: 129.43978 | D41: 36.24314 | E41: 31.065548 | F41: 10.355183 | G41: 20.710366 | H41: 10.355183 | I41: 0 | J41: 238.1692 | K41: 46.598322 | L41: 25.887957 | M41: 15.532774 | N41: 326.18826 | O41: 31.065548 | P41: 46.598322 | Q41: 0 | R41: 31.065548 | S41: 10.355183 | T41: 10.355183 | U41: 0 | V41: 15.532774 | W41: 10.355183 | X41: 20.710366 | Y41: 20.710366
A42: 1986 昭和61年 | B42: 449.55567 | C42: 99.320439 | D42: 5.2273915 | E42: 10.454783 | F42: 20.909566 | G42: 10.454783 | H42: 10.454783 | I42: 15.682175 | J42: 172.50392 | K42: 47.046524 | L42: 10.454783 | M42: 20.909566 | N42: 250.91479 | O42: 36.591741 | P42: 15.682175 | Q42: 26.136958 | R42: 20.909566 | S42: 36.591741 | T42: 15.682175 | U42: 0 | V42: 15.682175 | W42: 10.454783 | X42: 15.682175 | Y42: 5.2273915
A43: 1987 昭和62年 | B43: 474.82868 | C43: 118.70717 | D43: 43.166244 | E43: 21.583122 | F43: 10.791561 | G43: 10.791561 | H43: 0 | I43: 0 | J43: 205.03966 | K43: 37.770463 | L43: 10.791561 | M43: 26.978902 | N43: 280.58059 | O43: 43.166244 | P43: 26.978902 | Q43: 5.3957805 | R43: 10.791561 | S43: 10.791561 | T43: 16.187341 | U43: 16.187341 | V43: 26.978902 | W43: 5.3957805 | X43: 32.374683 | Y43: 0
A44: 1988 昭和63年 | B44: 439.17435 | C44: 175.66974 | D44: 10.979359 | E44: 5.4896794 | F44: 0 | G44: 10.979359 | H44: 10.979359 | I44: 0 | J44: 214.0975 | K44: 10.979359 | L44: 16.469038 | M44: 0 | N44: 241.54589 | O44: 32.938076 | P44: 10.979359 | Q44: 54.896794 | R44: 0 | S44: 21.958718 | T44: 27.448397 | U44: 10.979359 | V44: 16.469038 | W44: 16.469038 | X44: 0 | Y44: 5.4896794
A45: 89 平成元年 | B45: 429.08633 | C45: 114.42302 | D45: 34.326907 | E45: 17.163453 | F45: 11.442302 | G45: 22.884604 | H45: 0 | I45: 5.7211511 | J45: 205.96144 | K45: 5.7211511 | L45: 17.163453 | M45: 0 | N45: 228.84604 | O45: 28.605755 | P45: 28.605755 | Q45: 22.884604 | R45: 17.163453 | S45: 17.163453 | T45: 11.442302 | U45: 11.442302 | V45: 17.163453 | W45: 28.605755 | X45: 0 | Y45: 17.163453
A46: 90 2 | B46: 487.80488 | C46: 137.73314 | D46: 28.694405 | E46: 17.216643 | F46: 0 | G46: 0 | H46: 5.7388809 | I46: 0 | J46: 189.38307 | K46: 28.694405 | L46: 40.172166 | M46: 11.477762 | N46: 269.7274 | O46: 34.433286 | P46: 57.388809 | Q46: 34.433286 | R46: 28.694405 | S46: 17.216643 | T46: 17.216643 | U46: 5.7388809 | V46: 5.7388809 | W46: 5.7388809 | X46: 11.477762 | Y46: 0
A47: 91 3 | B47: 360.86608 | C47: 97.376561 | D47: 40.096231 | E47: 22.912132 | F47: 11.456066 | G47: 0 | H47: 0 | I47: 5.728033 | J47: 177.56902 | K47: 5.728033 | L47: 5.728033 | M47: 17.184099 | N47: 206.20919 | O47: 22.912132 | P47: 22.912132 | Q47: 22.912132 | R47: 28.640165 | S47: 11.456066 | T47: 5.728033 | U47: 5.728033 | V47: 11.456066 | W47: 17.184099 | X47: 0 | Y47: 5.728033
A48: 93 4 | B48: 329.00433 | C48: 92.352092 | D48: 17.316017 | E48: 5.7720058 | F48: 0 | G48: 0 | H48: 11.544012 | I48: 5.7720058 | J48: 132.75613 | K48: 17.316017 | L48: 5.7720058 | M48: 11.544012 | N48: 167.38817 | O48: 34.632035 | P48: 23.088023 | Q48: 23.088023 | R48: 5.7720058 | S48: 5.7720058 | T48: 5.7720058 | U48: 23.088023 | V48: 5.7720058 | W48: 11.544012 | X48: 0 | Y48: 23.088023
A49: 1993 平成5年 | B49: 311.52648 | C49: 97.733798 | D49: 12.216725 | E49: 0 | F49: 6.1083623 | G49: 0 | H49: 0 | I49: 0 | J49: 116.05888 | K49: 6.1083623 | L49: 0 | M49: 0 | N49: 122.16725 | O49: 42.758536 | P49: 6.1083623 | Q49: 24.433449 | R49: 24.433449 | S49: 12.216725 | T49: 30.541812 | U49: 30.541812 | V49: 6.1083623 | W49: 6.1083623 | X49: 0 | Y49: 6.1083623
A50: 94 6 | B50: 381.07522 | C50: 82.077739 | D50: 35.176174 | E50: 11.725391 | F50: 5.8626957 | G50: 0 | H50: 0 | I50: 0 | J50: 134.842 | K50: 29.313478 | L50: 17.588087 | M50: 11.725391 | N50: 193.46896 | O50: 35.176174 | P50: 35.176174 | Q50: 5.8626957 | R50: 23.450783 | S50: 17.588087 | T50: 11.725391 | U50: 11.725391 | V50: 23.450783 | W50: 17.588087 | X50: 5.8626957 | Y50: 0
A51: 95 7 | B51: 326.61613 | C51: 73.950823 | D51: 0 | E51: 0 | F51: 12.325137 | G51: 0 | H51: 0 | I51: 6.1625686 | J51: 92.438528 | K51: 24.650274 | L51: 30.812843 | M51: 6.1625686 | N51: 154.06421 | O51: 36.975411 | P51: 12.325137 | Q51: 18.487706 | R51: 30.812843 | S51: 6.1625686 | T51: 18.487706 | U51: 12.325137 | V51: 6.1625686 | W51: 18.487706 | X51: 12.325137 | Y51: 0
A52: 96 8 | B52: 336.61791 | C52: 67.323582 | D52: 36.721954 | E52: 6.1203256 | F52: 12.240651 | G52: 12.240651 | H52: 0 | I52: 0 | J52: 134.64716 | K52: 30.601628 | L52: 18.360977 | M52: 6.1203256 | N52: 189.73009 | O52: 36.721954 | P52: 18.360977 | Q52: 18.360977 | R52: 12.240651 | S52: 12.240651 | T52: 0 | U52: 0 | V52: 18.360977 | W52: 6.1203256 | X52: 6.1203256 | Y52: 18.360977
... A73: 17 29 | B73: 180.88416 | C73: 50.647565 | D73: 28.941466 | E73: 0 | F73: 0 | G73: 7.2353665 | H73: 0 | I73: 7.2353665 | J73: 94.059764 | K73: 7.2353665 | L73: 0 | M73: 0 | N73: 101.29513 | O73: 21.706099 | P73: 0 | Q73: 7.2353665 | R73: 28.941466 | S73: 14.470733 | T73: 7.2353665 | U73: 0 | V73: 0 | W73: 0 | X73: 0 | Y73: 0
A74: 18 30 | B74: =B39/[1]出生数!$B55*100000 -> 256.64251 | C74: =C39/[1]出生数!$B55*100000 -> 75.483092 | D74: =D39/[1]出生数!$B55*100000 -> 7.5483092 | E74: =E39/[1]出生数!$B55*100000 -> 0 | F74: =F39/[1]出生数!$B55*100000 -> 22.644928 | G74: =G39/[1]出生数!$B55*100000 -> 0 | H74: =H39/[1]出生数!$B55*100000 -> 7.5483092 | I74: =I39/[1]出生数!$B55*100000 -> 0 | ... Y74: =Y39/[1]出生数!$B55*100000 -> 0

Sheet 6　生存期間・性別，区別乳児死亡数
A1: 6 生存期間・性別にみた区別乳児死亡数
Z2: ='3 乳児死亡数，月・性・区別'!$O$2 -> 平成30年
A3: 区 ・ 性 | C3: 総 数 | D3: 日齢―月齢
D4: 1 日 未満 | E4: 1日 | F4: 2日 | G4: 3日 | H4: 4日 | I4: 5日 | J4: 6日 | K4: １週未満 | L4: 1週～ 2週未満 | M4: 2週～ 3週未満 | N4: 3週～ 4週未満 | O4: 4週未満 | P4: 4週～ 2か月未満 | Q4: 2か月 | R4: 3か月 | S4: 4か月 | T4: 5か月 | U4: 6か月 | V4: 7か月 | W4: 8か月 | X4: 9か月 | Y4: 10か月 | Z4: 11か月
A6: 総数 | C6: =SUM(C9,C12,C15,C18,C21,C24,C27,C30,C33,C36) -> 34 | D6: =SUM(D9,D12,D15,D18,D21,D24,D27,D30,D33,D36) -> 10 | E6: =SUM(E9,E12,E15,E18,E21,E24,E27,E30,E33,E36) -> 1 | F6: =SUM(F9,F12,F15,F18,F21,F24,F27,F30,F33,F36) -> 0 | G6: =SUM(G9,G12,G15,G18,G21,G24,G27,G30,G33,G36) -> 3 | H6: =SUM(H9,H12,H15,H18,H21,H24,H27,H30,H33,H36) -> 0 | I6: =SUM(I9,I12,I15,I18,I21,I24,I27,I30,I33,I36) -> 1 | J6: =SUM(J9,J12,J15,J18,J21,J24,J27,J30,J33,J36) -> 0 | ... Z6: =SUM(Z9,Z12,Z15,Z18,Z21,Z24,Z27,Z30,Z33,Z36) -> 0
B7: 男 | C7: =SUM(C10,C13,C16,C19,C22,C25,C28,C31,C34,C37) -> 16 | D7: =SUM(D10,D13,D16,D19,D22,D25,D28,D31,D34,D37) -> 6 | E7: =SUM(E10,E13,E16,E19,E22,E25,E28,E31,E34,E37) -> 1 | F7: =SUM(F10,F13,F16,F19,F22,F25,F28,F31,F34,F37) -> 0 | G7: =SUM(G10,G13,G16,G19,G22,G25,G28,G31,G34,G37) -> 1 | H7: =SUM(H10,H13,H16,H19,H22,H25,H28,H31,H34,H37) -> 0 | I7: =SUM(I10,I13,I16,I19,I22,I25,I28,I31,I34,I37) -> 0 | J7: =SUM(J10,J13,J16,J19,J22,J25,J28,J31,J34,J37) -> 0 | ... Z7: =SUM(Z10,Z13,Z16,Z19,Z22,Z25,Z28,Z31,Z34,Z37) -> 0
B8: 女 | C8: =SUM(C11,C14,C17,C20,C23,C26,C29,C32,C35,C38) -> 18 | D8: =SUM(D11,D14,D17,D20,D23,D26,D29,D32,D35,D38) -> 4 | E8: =SUM(E11,E14,E17,E20,E23,E26,E29,E32,E35,E38) -> 0 | F8: =SUM(F11,F14,F17,F20,F23,F26,F29,F32,F35,F38) -> 0 | G8: =SUM(G11,G14,G17,G20,G23,G26,G29,G32,G35,G38) -> 2 | H8: =SUM(H11,H14,H17,H20,H23,H26,H29,H32,H35,H38) -> 0 | I8: =SUM(I11,I14,I17,I20,I23,I26,I29,I32,I35,I38) -> 1 | J8: =SUM(J11,J14,J17,J20,J23,J26,J29,J32,J35,J38) -> 0 | ... Z8: =SUM(Z11,Z14,Z17,Z20,Z23,Z26,Z29,Z32,Z35,Z38) -> 0
A9: 中央 | C9: =SUM(O9:Z9) -> 6 | D9: =SUM(D10:D11) -> 0 | E9: =SUM(E10:E11) -> 0 | F9: =SUM(F10:F11) -> 0 | G9: =SUM(G10:G11) -> 1 | H9: =SUM(H10:H11) -> 0 | I9: =SUM(I10:I11) -> 1 | J9: =SUM(J10:J11) -> 0 | K9: =SUM(K10:K11) -> 2 | ... Z9: =SUM(Z10:Z11) -> 0
B10: 男 | C10: =SUM(O10:Z10) -> 3 | D10: 0 | E10: 0 | F10: 0 | G10: 1 | H10: 0 | I10: 0 | J10: 0 | K10: =SUM(D10:J10) -> 1 | L10: 0 | M10: 1 | N10: 1 | O10: =SUM(K10:N10) -> 3 | P10: 0 | Q10: 0 | R10: 0 | S10: 0 | T10: 0 | U10: 0 | V10: 0 | W10: 0 | X10: 0 | Y10: 0 | Z10: 0
B11: 女 | C11: =SUM(O11:Z11) -> 3 | D11: 0 | E11: 0 | F11: 0 | G11: 0 | H11: 0 | I11: 1 | J11: 0 | K11: =SUM(D11:J11) -> 1 | L11: 0 | M11: 1 | N11: 0 | O11: =SUM(K11:N11) -> 2 | P11: 0 | Q11: 0 | R11: 0 | S11: 0 | T11: 0 | U11: 1 | V11: 0 | W11: 0 | X11: 0 | Y11: 0 | Z11: 0
A12: 北 | C12: =SUM(O12:Z12) -> 3 | D12: =SUM(D13:D14) -> 0 | E12: =SUM(E13:E14) -> 1 | F12: =SUM(F13:F14) -> 0 | G12: =SUM(G13:G14) -> 0 | H12: =SUM(H13:H14) -> 0 | I12: =SUM(I13:I14) -> 0 | J12: =SUM(J13:J14) -> 0 | K12: =SUM(K13:K14) -> 1 | ... Z12: =SUM(Z13:Z14) -> 0
B13: 男 | C13: =SUM(O13:Z13) -> 2 | D13: 0 | E13: 1 | F13: 0 | G13: 0 | H13: 0 | I13: 0 | J13: 0 | K13: =SUM(D13:J13) -> 1 | L13: 0 | M13: 0 | N13: 0 | O13: =SUM(K13:N13) -> 1 | P13: 1 | Q13: 0 | R13: 0 | S13: 0 | T13: 0 | U13: 0 | V13: 0 | W13: 0 | X13: 0 | Y13: 0 | Z13: 0
B14: 女 | C14: =SUM(O14:Z14) -> 1 | D14: 0 | E14: 0 | F14: 0 | G14: 0 | H14: 0 | I14: 0 | J14: 0 | K14: =SUM(D14:J14) -> 0 | L14: 0 | M14: 0 | N14: 0 | O14: =SUM(K14:N14) -> 0 | P14: 0 | Q14: 0 | R14: 0 | S14: 0 | T14: 0 | U14: 0 | V14: 0 | W14: 1 | X14: 0 | Y14: 0 | Z14: 0
A15: 東 | C15: =SUM(O15:Z15) -> 5 | D15: =SUM(D16:D17) -> 3 | E15: =SUM(E16:E17) -> 0 | F15: =SUM(F16:F17) -> 0 | G15: =SUM(G16:G17) -> 0 | H15: =SUM(H16:H17) -> 0 | I15: =SUM(I16:I17) -> 0 | J15: =SUM(J16:J17) -> 0 | K15: =SUM(K16:K17) -> 3 | ... Z15: =SUM(Z16:Z17) -> 0
B16: 男 | C16: =SUM(O16:Z16) -> 3 | D16: 2 | E16: 0 | F16: 0 | G16: 0 | H16: 0 | I16: 0 | J16: 0 | K16: =SUM(D16:J16) -> 2 | L16: 0 | M16: 1 | N16: 0 | O16: =SUM(K16:N16) -> 3 | P16: 0 | Q16: 0 | R16: 0 | S16: 0 | T16: 0 | U16: 0 | V16: 0 | W16: 0 | X16: 0 | Y16: 0 | Z16: 0
B17: 女 | C17: =SUM(O17:Z17) -> 2 | D17: 1 | E17: 0 | F17: 0 | G17: 0 | H17: 0 | I17: 0 | J17: 0 | K17: =SUM(D17:J17) -> 1 | L17: 0 | M17: 0 | N17: 0 | O17: =SUM(K17:N17) -> 1 | P17: 0 | Q17: 0 | R17: 0 | S17: 1 | T17: 0 | U17: 0 | V17: 0 | W17: 0 | X17: 0 | Y17: 0 | Z17: 0
A18: 白石 | C18: =SUM(O18:Z18) -> 4 | D18: =SUM(D19:D20) -> 1 | E18: =SUM(E19:E20) -> 0 | F18: =SUM(F19:F20) -> 0 | G18: =SUM(G19:G20) -> 0 | H18: =SUM(H19:H20) -> 0 | I18: =SUM(I19:I20) -> 0 | J18: =SUM(J19:J20) -> 0 | K18: =SUM(K19:K20) -> 1 | ... Z18: =SUM(Z19:Z20) -> 0
B19: 男 | C19: =SUM(O19:Z19) -> 1 | D19: 0 | E19: 0 | F19: 0 | G19: 0 | H19: 0 | I19: 0 | J19: 0 | K19: =SUM(D19:J19) -> 0 | L19: 0 | M19: 0 | N19: 0 | O19: =SUM(K19:N19) -> 0 | P19: 0 | Q19: 0 | R19: 0 | S19: 0 | T19: 0 | U19: 0 | V19: 0 | W19: 0 | X19: 1 | Y19: 0 | Z19: 0
B20: 女 | C20: =SUM(O20:Z20) -> 3 | D20: 1 | E20: 0 | F20: 0 | G20: 0 | H20: 0 | I20: 0 | J20: 0 | K20: =SUM(D20:J20) -> 1 | L20: 0 | M20: 0 | N20: 0 | O20: =SUM(K20:N20) -> 1 | P20: 1 | Q20: 1 | R20: 0 | S20: 0 | T20: 0 | U20: 0 | V20: 0 | W20: 0 | X20: 0 | Y20: 0 | Z20: 0
A21: 厚別 | C21: =SUM(O21:Z21) -> 3 | D21: =SUM(D22:D23) -> 2 | E21: =SUM(E22:E23) -> 0 | F21: =SUM(F22:F23) -> 0 | G21: =SUM(G22:G23) -> 0 | H21: =SUM(H22:H23) -> 0 | I21: =SUM(I22:I23) -> 0 | J21: =SUM(J22:J23) -> 0 | K21: =SUM(K22:K23) -> 2 | ... Z21: =SUM(Z22:Z23) -> 0
B22: 男 | C22: =SUM(O22:Z22) -> 2 | D22: 2 | E22: 0 | F22: 0 | G22: 0 | H22: 0 | I22: 0 | J22: 0 | K22: =SUM(D22:J22) -> 2 | L22: 0 | M22: 0 | N22: 0 | O22: =SUM(K22:N22) -> 2 | P22: 0 | Q22: 0 | R22: 0 | S22: 0 | T22: 0 | U22: 0 | V22: 0 | W22: 0 | X22: 0 | Y22: 0 | Z22: 0
B23: 女 | C23: =SUM(O23:Z23) -> 1 | D23: 0 | E23: 0 | F23: 0 | G23: 0 | H23: 0 | I23: 0 | J23: 0 | K23: =SUM(D23:J23) -> 0 | L23: 0 | M23: 0 | N23: 0 | O23: =SUM(K23:N23) -> 0 | P23: 1 | Q23: 0 | R23: 0 | S23: 0 | T23: 0 | U23: 0 | V23: 0 | W23: 0 | X23: 0 | Y23: 0 | Z23: 0
A24: 豊平 | C24: =SUM(O24:Z24) -> 4 | D24: =SUM(D25:D26) -> 1 | E24: =SUM(E25:E26) -> 0 | F24: =SUM(F25:F26) -> 0 | G24: =SUM(G25:G26) -> 1 | H24: =SUM(H25:H26) -> 0 | I24: =SUM(I25:I26) -> 0 | J24: =SUM(J25:J26) -> 0 | K24: =SUM(K25:K26) -> 2 | ... Z24: =SUM(Z25:Z26) -> 0
B25: 男 | C25: =SUM(O25:Z25) -> 2 | D25: 1 | E25: 0 | F25: 0 | G25: 0 | H25: 0 | I25: 0 | J25: 0 | K25: =SUM(D25:J25) -> 1 | L25: 0 | M25: 0 | N25: 0 | O25: =SUM(K25:N25) -> 1 | P25: 0 | Q25: 0 | R25: 0 | S25: 1 | T25: 0 | U25: 0 | V25: 0 | W25: 0 | X25: 0 | Y25: 0 | Z25: 0
B26: 女 | C26: =SUM(O26:Z26) -> 2 | D26: 0 | E26: 0 | F26: 0 | G26: 1 | H26: 0 | I26: 0 | J26: 0 | K26: =SUM(D26:J26) -> 1 | L26: 0 | M26: 0 | N26: 0 | O26: =SUM(K26:N26) -> 1 | P26: 0 | Q26: 0 | R26: 1 | S26: 0 | T26: 0 | U26: 0 | V26: 0 | W26: 0 | X26: 0 | Y26: 0 | Z26: 0
A27: 清田 | C27: =SUM(O27:Z27) -> 2 | D27: =SUM(D28:D29) -> 1 | E27: =SUM(E28:E29) -> 0 | F27: =SUM(F28:F29) -> 0 | G27: =SUM(G28:G29) -> 0 | H27: =SUM(H28:H29) -> 0 | I27: =SUM(I28:I29) -> 0 | J27: =SUM(J28:J29) -> 0 | K27: =SUM(K28:K29) -> 1 | ... Z27: =SUM(Z28:Z29) -> 0
B28: 男 | C28: =SUM(O28:Z28) -> 1 | D28: 0 | E28: 0 | F28: 0 | G28: 0 | H28: 0 | I28: 0 | J28: 0 | K28: =SUM(D28:J28) -> 0 | L28: 0 | M28: 0 | N28: 0 | O28: =SUM(K28:N28) -> 0 | P28: 0 | Q28: 1 | R28: 0 | S28: 0 | T28: 0 | U28: 0 | V28: 0 | W28: 0 | X28: 0 | Y28: 0 | Z28: 0
B29: 女 | C29: =SUM(O29:Z29) -> 1 | D29: 1 | E29: 0 | F29: 0 | G29: 0 | H29: 0 | I29: 0 | J29: 0 | K29: =SUM(D29:J29) -> 1 | L29: 0 | M29: 0 | N29: 0 | O29: =SUM(K29:N29) -> 1 | P29: 0 | Q29: 0 | R29: 0 | S29: 0 | T29: 0 | U29: 0 | V29: 0 | W29: 0 | X29: 0 | Y29: 0 | Z29: 0
A30: 南 | C30: =SUM(O30:Z30) -> 2 | D30: =SUM(D31:D32) -> 0 | E30: =SUM(E31:E32) -> 0 | F30: =SUM(F31:F32) -> 0 | G30: =SUM(G31:G32) -> 0 | H30: =SUM(H31:H32) -> 0 | I30: =SUM(I31:I32) -> 0 | J30: =SUM(J31:J32) -> 0 | K30: =SUM(K31:K32) -> 0 | ... Z30: =SUM(Z31:Z32) -> 0
B31: 男 | C31: =SUM(O31:Z31) -> 1 | D31: 0 | E31: 0 | F31: 0 | G31: 0 | H31: 0 | I31: 0 | J31: 0 | K31: =SUM(D31:J31) -> 0 | L31: 0 | M31: 0 | N31: 0 | O31: =SUM(K31:N31) -> 0 | P31: 0 | Q31: 0 | R31: 0 | S31: 1 | T31: 0 | U31: 0 | V31: 0 | W31: 0 | X31: 0 | Y31: 0 | Z31: 0
B32: 女 | C32: =SUM(O32:Z32) -> 1 | D32: 0 | E32: 0 | F32: 0 | G32: 0 | H32: 0 | I32: 0 | J32: 0 | K32: =SUM(D32:J32) -> 0 | L32: 1 | M32: 0 | N32: 0 | O32: =SUM(K32:N32) -> 1 | P32: 0 | Q32: 0 | R32: 0 | S32: 0 | T32: 0 | U32: 0 | V32: 0 | W32: 0 | X32: 0 | Y32: 0 | Z32: 0
A33: 西 | C33: =SUM(O33:Z33) -> 3 | D33: =SUM(D34:D35) -> 2 | E33: =SUM(E34:E35) -> 0 | F33: =SUM(F34:F35) -> 0 | G33: =SUM(G34:G35) -> 0 | H33: =SUM(H34:H35) -> 0 | I33: =SUM(I34:I35) -> 0 | J33: =SUM(J34:J35) -> 0 | K33: =SUM(K34:K35) -> 2 | ... Z33: =SUM(Z34:Z35) -> 0
B34: 男 | C34: =SUM(O34:Z34) -> 1 | D34: 1 | E34: 0 | F34: 0 | G34: 0 | H34: 0 | I34: 0 | J34: 0 | K34: =SUM(D34:J34) -> 1 | L34: 0 | M34: 0 | N34: 0 | O34: =SUM(K34:N34) -> 1 | P34: 0 | Q34: 0 | R34: 0 | S34: 0 | T34: 0 | U34: 0 | V34: 0 | W34: 0 | X34: 0 | Y34: 0 | Z34: 0
B35: 女 | C35: =SUM(O35:Z35) -> 2 | D35: 1 | E35: 0 | F35: 0 | G35: 0 | H35: 0 | I35: 0 | J35: 0 | K35: =SUM(D35:J35) -> 1 | L35: 0 | M35: 0 | N35: 0 | O35: =SUM(K35:N35) -> 1 | P35: 0 | Q35: 0 | R35: 0 | S35: 0 | T35: 1 | U35: 0 | V35: 0 | W35: 0 | X35: 0 | Y35: 0 | Z35: 0
A36: 手稲 | C36: =SUM(O36:Z36) -> 2 | D36: =SUM(D37:D38) -> 0 | E36: =SUM(E37:E38) -> 0 | F36: =SUM(F37:F38) -> 0 | G36: =SUM(G37:G38) -> 1 | H36: =SUM(H37:H38) -> 0 | I36: =SUM(I37:I38) -> 0 | J36: =SUM(J37:J38) -> 0 | K36: =SUM(K37:K38) -> 1 | ... Z36: =SUM(Z37:Z38) -> 0
B37: 男 | C37: =SUM(O37:Z37) -> 0 | D37: 0 | E37: 0 | F37: 0 | G37: 0 | H37: 0 | I37: 0 | J37: 0 | K37: =SUM(D37:J37) -> 0 | L37: 0 | M37: 0 | N37: 0 | O37: =SUM(K37:N37) -> 0 | P37: 0 | Q37: 0 | R37: 0 | S37: 0 | T37: 0 | U37: 0 | V37: 0 | W37: 0 | X37: 0 | Y37: 0 | Z37: 0
B38: 女 | C38: =SUM(O38:Z38) -> 2 | D38: 0 | E38: 0 | F38: 0 | G38: 1 | H38: 0 | I38: 0 | J38: 0 | K38: =SUM(D38:J38) -> 1 | L38: 0 | M38: 0 | N38: 0 | O38: =SUM(K38:N38) -> 1 | P38: 0 | Q38: 0 | R38: 1 | S38: 0 | T38: 0 | U38: 0 | V38: 0 | W38: 0 | X38: 0 | Y38: 0 | Z38: 0

Sheet 7　月・性別，乳児死因簡単分類別死亡数
A1: 7 月・性別にみた乳児死因簡単分類別乳児死亡数
Q2: ='3 乳児死亡数，月・性・区別'!$O$2 -> 平成30年
A3: 乳児死因 簡単分類 コ ー ド | B3: 死 因 ・ 性 | E3: 総数 | F3: 1月 | G3: 2月 | H3: 3月 | I3: 4月 | J3: 5月 | K3: 6月 | L3: 7月 | M3: 8月 | N3: 9月 | O3: 10月 | P3: 11月 | Q3: 12月
B5: 総 数 | D5: 総数 | E5: =SUM(E8,E11,E14,E17,E20,E23,E32,E35,E38,E41,E44,E47,E50,E53,E56,E59,E62,E65,E68,E71,E74,E110,E137,E140,E143,E170,E173) -> 34 | F5: =SUM(F8,F11,F14,F17,F20,F23,F32,F35,F38,F41,F44,F47,F50,F53,F56,F59,F62,F65,F68,F71,F74,F110,F137,F140,F143,F170,F173) -> 2 | G5: =SUM(G8,G11,G14,G17,G20,G23,G32,G35,G38,G41,G44,G47,G50,G53,G56,G59,G62,G65,G68,G71,G74,G110,G137,G140,G143,G170,G173) -> 0 | H5: =SUM(H8,H11,H14,H17,H20,H23,H32,H35,H38,H41,H44,H47,H50,H53,H56,H59,H62,H65,H68,H71,H74,H110,H137,H140,H143,H170,H173) -> 3 | I5: =SUM(I8,I11,I14,I17,I20,I23,I32,I35,I38,I41,I44,I47,I50,I53,I56,I59,I62,I65,I68,I71,I74,I110,I137,I140,I143,I170,I173) -> 3 | J5: =SUM(J8,J11,J14,J17,J20,J23,J32,J35,J38,J41,J44,J47,J50,J53,J56,J59,J62,J65,J68,J71,J74,J110,J137,J140,J143,J170,J173) -> 3 | K5: =SUM(K8,K11,K14,K17,K20,K23,K32,K35,K38,K41,K44,K47,K50,K53,K56,K59,K62,K65,K68,K71,K74,K110,K137,K140,K143,K170,K173) -> 5 | L5: =SUM(L8,L11,L14,L17,L20,L23,L32,L35,L38,L41,L44,L47,L50,L53,L56,L59,L62,L65,L68,L71,L74,L110,L137,L140,L143,L170,L173) -> 1 | ... Q5: =SUM(Q8,Q11,Q14,Q17,Q20,Q23,Q32,Q35,Q38,Q41,Q44,Q47,Q50,Q53,Q56,Q59,Q62,Q65,Q68,Q71,Q74,Q110,Q137,Q140,Q143,Q170,Q173) -> 3
D6: 男 | E6: =SUM(E9,E12,E15,E18,E21,E24,E33,E36,E39,E42,E45,E48,E51,E54,E57,E60,E63,E66,E69,E72,E75,E111,E138,E141,E144,E171,E174) -> 16 | F6: =SUM(F9,F12,F15,F18,F21,F24,F33,F36,F39,F42,F45,F48,F51,F54,F57,F60,F63,F66,F69,F72,F75,F111,F138,F141,F144,F171,F174) -> 1 | G6: =SUM(G9,G12,G15,G18,G21,G24,G33,G36,G39,G42,G45,G48,G51,G54,G57,G60,G63,G66,G69,G72,G75,G111,G138,G141,G144,G171,G174) -> 0 | H6: =SUM(H9,H12,H15,H18,H21,H24,H33,H36,H39,H42,H45,H48,H51,H54,H57,H60,H63,H66,H69,H72,H75,H111,H138,H141,H144,H171,H174) -> 1 | I6: =SUM(I9,I12,I15,I18,I21,I24,I33,I36,I39,I42,I45,I48,I51,I54,I57,I60,I63,I66,I69,I72,I75,I111,I138,I141,I144,I171,I174) -> 0 | J6: =SUM(J9,J12,J15,J18,J21,J24,J33,J36,J39,J42,J45,J48,J51,J54,J57,J60,J63,J66,J69,J72,J75,J111,J138,J141,J144,J171,J174) -> 2 | K6: =SUM(K9,K12,K15,K18,K21,K24,K33,K36,K39,K42,K45,K48,K51,K54,K57,K60,K63,K66,K69,K72,K75,K111,K138,K141,K144,K171,K174) -> 5 | L6: =SUM(L9,L12,L15,L18,L21,L24,L33,L36,L39,L42,L45,L48,L51,L54,L57,L60,L63,L66,L69,L72,L75,L111,L138,L141,L144,L171,L174) -> 0 | ... Q6: =SUM(Q9,Q12,Q15,Q18,Q21,Q24,Q33,Q36,Q39,Q42,Q45,Q48,Q51,Q54,Q57,Q60,Q63,Q66,Q69,Q72,Q75,Q111,Q138,Q141,Q144,Q171,Q174) -> 2
D7: 女 | E7: =SUM(E10,E13,E16,E19,E22,E25,E34,E37,E40,E43,E46,E49,E52,E55,E58,E61,E64,E67,E70,E73,E76,E112,E139,E142,E145,E172,E175) -> 18 | F7: =SUM(F10,F13,F16,F19,F22,F25,F34,F37,F40,F43,F46,F49,F52,F55,F58,F61,F64,F67,F70,F73,F76,F112,F139,F142,F145,F172,F175) -> 1 | G7: =SUM(G10,G13,G16,G19,G22,G25,G34,G37,G40,G43,G46,G49,G52,G55,G58,G61,G64,G67,G70,G73,G76,G112,G139,G142,G145,G172,G175) -> 0 | H7: =SUM(H10,H13,H16,H19,H22,H25,H34,H37,H40,H43,H46,H49,H52,H55,H58,H61,H64,H67,H70,H73,H76,H112,H139,H142,H145,H172,H175) -> 2 | I7: =SUM(I10,I13,I16,I19,I22,I25,I34,I37,I40,I43,I46,I49,I52,I55,I58,I61,I64,I67,I70,I73,I76,I112,I139,I142,I145,I172,I175) -> 3 | J7: =SUM(J10,J13,J16,J19,J22,J25,J34,J37,J40,J43,J46,J49,J52,J55,J58,J61,J64,J67,J70,J73,J76,J112,J139,J142,J145,J172,J175) -> 1 | K7: =SUM(K10,K13,K16,K19,K22,K25,K34,K37,K40,K43,K46,K49,K52,K55,K58,K61,K64,K67,K70,K73,K76,K112,K139,K142,K145,K172,K175) -> 0 | L7: =SUM(L10,L13,L16,L19,L22,L25,L34,L37,L40,L43,L46,L49,L52,L55,L58,L61,L64,L67,L70,L73,L76,L112,L139,L142,L145,L172,L175) -> 1 | ... Q7: =SUM(Q10,Q13,Q16,Q19,Q22,Q25,Q34,Q37,Q40,Q43,Q46,Q49,Q52,Q55,Q58,Q61,Q64,Q67,Q70,Q73,Q76,Q112,Q139,Q142,Q145,Q172,Q175) -> 1
A8: Ba01 | B8: 腸管感染症 | D8: 総数 | E8: =SUM(F8:Q8) -> 0 | F8: =SUM(F9:F10) -> 0 | G8: =SUM(G9:G10) -> 0 | H8: =SUM(H9:H10) -> 0 | I8: =SUM(I9:I10) -> 0 | J8: =SUM(J9:J10) -> 0 | K8: =SUM(K9:K10) -> 0 | L8: =SUM(L9:L10) -> 0 | M8: =SUM(M9:M10) -> 0 | ... Q8: =SUM(Q9:Q10) -> 0
D9: 男 | E9: =SUM(F9:Q9) -> 0 | F9: 0 | G9: 0 | H9: 0 | I9: 0 | J9: 0 | K9: 0 | L9: 0 | M9: 0 | N9: 0 | O9: 0 | P9: 0 | Q9: 0
D10: 女 | E10: =SUM(F10:Q10) -> 0 | F10: 0 | G10: 0 | H10: 0 | I10: 0 | J10: 0 | K10: 0 | L10: 0 | M10: 0 | N10: 0 | O10: 0 | P10: 0 | Q10: 0
A11: Ba02 | B11: 敗血症（新生児の細菌性敗血症を除く） | D11: 総数 | E11: =SUM(F11:Q11) -> 1 | F11: =SUM(F12:F13) -> 0 | G11: =SUM(G12:G13) -> 0 | H11: =SUM(H12:H13) -> 1 | I11: =SUM(I12:I13) -> 0 | J11: =SUM(J12:J13) -> 0 | K11: =SUM(K12:K13) -> 0 | L11: =SUM(L12:L13) -> 0 | M11: =SUM(M12:M13) -> 0 | ... Q11: =SUM(Q12:Q13) -> 0
D12: 男 | E12: =SUM(F12:Q12) -> 1 | F12: 0 | G12: 0 | H12: 1 | I12: 0 | J12: 0 | K12: 0 | L12: 0 | M12: 0 | N12: 0 | O12: 0 | P12: 0 | Q12: 0
D13: 女 | E13: =SUM(F13:Q13) -> 0 | F13: 0 | G13: 0 | H13: 0 | I13: 0 | J13: 0 | K13: 0 | L13: 0 | M13: 0 | N13: 0 | O13: 0 | P13: 0 | Q13: 0
A14: Ba03 | B14: 麻 疹 | D14: 総数 | E14: =SUM(F14:Q14) -> 0 | F14: =SUM(F15:F16) -> 0 | G14: =SUM(G15:G16) -> 0 | H14: =SUM(H15:H16) -> 0 | I14: =SUM(I15:I16) -> 0 | J14: =SUM(J15:J16) -> 0 | K14: =SUM(K15:K16) -> 0 | L14: =SUM(L15:L16) -> 0 | M14: =SUM(M15:M16) -> 0 | ... Q14: =SUM(Q15:Q16) -> 0
D15: 男 | E15: =SUM(F15:Q15) -> 0 | F15: 0 | G15: 0 | H15: 0 | I15: 0 | J15: 0 | K15: 0 | L15: 0 | M15: 0 | N15: 0 | O15: 0 | P15: 0 | Q15: 0
D16: 女 | E16: =SUM(F16:Q16) -> 0 | F16: 0 | G16: 0 | H16: 0 | I16: 0 | J16: 0 | K16: 0 | L16: 0 | M16: 0 | N16: 0 | O16: 0 | P16: 0 | Q16: 0
A17: Ba04 | B17: ウイルス肝炎 | D17: 総数 | E17: =SUM(F17:Q17) -> 0 | F17: =SUM(F18:F19) -> 0 | G17: =SUM(G18:G19) -> 0 | H17: =SUM(H18:H19) -> 0 | I17: =SUM(I18:I19) -> 0 | J17: =SUM(J18:J19) -> 0 | K17: =SUM(K18:K19) -> 0 | L17: =SUM(L18:L19) -> 0 | M17: =SUM(M18:M19) -> 0 | ... Q17: =SUM(Q18:Q19) -> 0
D18: 男 | E18: =SUM(F18:Q18) -> 0 | F18: 0 | G18: 0 | H18: 0 | I18: 0 | J18: 0 | K18: 0 | L18: 0 | M18: 0 | N18: 0 | O18: 0 | P18: 0 | Q18: 0
D19: 女 | E19: =SUM(F19:Q19) -> 0 | F19: 0 | G19: 0 | H19: 0 | I19: 0 | J19: 0 | K19: 0 | L19: 0 | M19: 0 | N19: 0 | O19: 0 | P19: 0 | Q19: 0
A20: Ba05 | B20: その他の感染症及び寄生虫症 | D20: 総数 | E20: =SUM(F20:Q20) -> 0 | F20: =SUM(F21:F22) -> 0 | G20: =SUM(G21:G22) -> 0 | H20: =SUM(H21:H22) -> 0 | I20: =SUM(I21:I22) -> 0 | J20: =SUM(J21:J22) -> 0 | K20: =SUM(K21:K22) -> 0 | L20: =SUM(L21:L22) -> 0 | M20: =SUM(M21:M22) -> 0 | ... Q20: =SUM(Q21:Q22) -> 0
D21: 男 | E21: =SUM(F21:Q21) -> 0 | F21: 0 | G21: 0 | H21: 0 | I21: 0 | J21: 0 | K21: 0 | L21: 0 | M21: 0 | N21: 0 | O21: 0 | P21: 0 | Q21: 0
D22: 女 | E22: =SUM(F22:Q22) -> 0 | F22: 0 | G22: 0 | H22: 0 | I22: 0 | J22: 0 | K22: 0 | L22: 0 | M22: 0 | N22: 0 | O22: 0 | P22: 0 | Q22: 0
A23: Ba06 | B23: 悪性新生物 | D23: 総数 | E23: =SUM(F23:Q23) -> 0 | F23: =SUM(F26,F29) -> 0 | G23: =SUM(G26,G29) -> 0 | H23: =SUM(H26,H29) -> 0 | I23: =SUM(I26,I29) -> 0 | J23: =SUM(J26,J29) -> 0 | K23: =SUM(K26,K29) -> 0 | L23: =SUM(L26,L29) -> 0 | M23: =SUM(M26,M29) -> 0 | ... Q23: =SUM(Q26,Q29) -> 0
D24: 男 | E24: =SUM(F24:Q24) -> 0 | F24: =SUM(F27,F30) -> 0 | G24: =SUM(G27,G30) -> 0 | H24: =SUM(H27,H30) -> 0 | I24: =SUM(I27,I30) -> 0 | J24: =SUM(J27,J30) -> 0 | K24: =SUM(K27,K30) -> 0 | L24: =SUM(L27,L30) -> 0 | M24: =SUM(M27,M30) -> 0 | ... Q24: =SUM(Q27,Q30) -> 0
D25: 女 | E25: =SUM(F25:Q25) -> 0 | F25: =SUM(F28,F31) -> 0 | G25: =SUM(G28,G31) -> 0 | H25: =SUM(H28,H31) -> 0 | I25: =SUM(I28,I31) -> 0 | J25: =SUM(J28,J31) -> 0 | K25: =SUM(K28,K31) -> 0 | L25: =SUM(L28,L31) -> 0 | M25: =SUM(M28,M31) -> 0 | ... Q25: =SUM(Q28,Q31) -> 0
A26: Ba07 | C26: 白 血 病 | D26: 総数 | E26: =SUM(F26:Q26) -> 0 | F26: =SUM(F27:F28) -> 0 | G26: =SUM(G27:G28) -> 0 | H26: =SUM(H27:H28) -> 0 | I26: =SUM(I27:I28) -> 0 | J26: =SUM(J27:J28) -> 0 | K26: =SUM(K27:K28) -> 0 | L26: =SUM(L27:L28) -> 0 | M26: =SUM(M27:M28) -> 0 | ... Q26: =SUM(Q27:Q28) -> 0
D27: 男 | E27: =SUM(F27:Q27) -> 0 | F27: 0 | G27: 0 | H27: 0 | I27: 0 | J27: 0 | K27: 0 | L27: 0 | M27: 0 | N27: 0 | O27: 0 | P27: 0 | Q27: 0
D28: 女 | E28: =SUM(F28:Q28) -> 0 | F28: 0 | G28: 0 | H28: 0 | I28: 0 | J28: 0 | K28: 0 | L28: 0 | M28: 0 | N28: 0 | O28: 0 | P28: 0 | Q28: 0
A29: Ba08 | C29: その他の悪性新生物 | D29: 総数 | E29: =SUM(F29:Q29) -> 0 | F29: =SUM(F30:F31) -> 0 | G29: =SUM(G30:G31) -> 0 | H29: =SUM(H30:H31) -> 0 | I29: =SUM(I30:I31) -> 0 | J29: =SUM(J30:J31) -> 0 | K29: =SUM(K30:K31) -> 0 | L29: =SUM(L30:L31) -> 0 | M29: =SUM(M30:M31) -> 0 | ... Q29: =SUM(Q30:Q31) -> 0
D30: 男 | E30: =SUM(F30:Q30) -> 0 | F30: 0 | G30: 0 | H30: 0 | I30: 0 | J30: 0 | K30: 0 | L30: 0 | M30: 0 | N30: 0 | O30: 0 | P30: 0 | Q30: 0
D31: 女 | E31: =SUM(F31:Q31) -> 0 | F31: 0 | G31: 0 | H31: 0 | I31: 0 | J31: 0 | K31: 0 | L31: 0 | M31: 0 | N31: 0 | O31: 0 | P31: 0 | Q31: 0
A32: Ba09 | B32: その他の新生物 | D32: 総数 | E32: =SUM(F32:Q32) -> 0 | F32: =SUM(F33:F34) -> 0 | G32: =SUM(G33:G34) -> 0 | H32: =SUM(H33:H34) -> 0 | I32: =SUM(I33:I34) -> 0 | J32: =SUM(J33:J34) -> 0 | K32: =SUM(K33:K34) -> 0 | L32: =SUM(L33:L34) -> 0 | M32: =SUM(M33:M34) -> 0 | ... Q32: =SUM(Q33:Q34) -> 0
D33: 男 | E33: =SUM(F33:Q33) -> 0 | F33: 0 | G33: 0 | H33: 0 | I33: 0 | J33: 0 | K33: 0 | L33: 0 | M33: 0 | N33: 0 | O33: 0 | P33: 0 | Q33: 0
D34: 女 | E34: =SUM(F34:Q34) -> 0 | F34: 0 | G34: 0 | H34: 0 | I34: 0 | J34: 0 | K34: 0 | L34: 0 | M34: 0 | N34: 0 | O34: 0 | P34: 0 | Q34: 0
A35: Ba10 | B35: 栄養失調症及びその他の栄養欠乏症 | D35: 総数 | E35: =SUM(F35:Q35) -> 0 | F35: =SUM(F36:F37) -> 0 | G35: =SUM(G36:G37) -> 0 | H35: =SUM(H36:H37) -> 0 | I35: =SUM(I36:I37) -> 0 | J35: =SUM(J36:J37) -> 0 | K35: =SUM(K36:K37) -> 0 | L35: =SUM(L36:L37) -> 0 | M35: =SUM(M36:M37) -> 0 | ... Q35: =SUM(Q36:Q37) -> 0
D36: 男 | E36: =SUM(F36:Q36) -> 0 | F36: 0 | G36: 0 | H36: 0 | I36: 0 | J36: 0 | K36: 0 | L36: 0 | M36: 0 | N36: 0 | O36: 0 | P36: 0 | Q36: 0
D37: 女 | E37: =SUM(F37:Q37) -> 0 | F37: 0 | G37: 0 | H37: 0 | I37: 0 | J37: 0 | K37: 0 | L37: 0 | M37: 0 | N37: 0 | O37: 0 | P37: 0 | Q37: 0
A38: Ba11 | B38: 代 謝 障 害 | D38: 総数 | E38: =SUM(F38:Q38) -> 0 | F38: =SUM(F39:F40) -> 0 | G38: =SUM(G39:G40) -> 0 | H38: =SUM(H39:H40) -> 0 | I38: =SUM(I39:I40) -> 0 | J38: =SUM(J39:J40) -> 0 | K38: =SUM(K39:K40) -> 0 | L38: =SUM(L39:L40) -> 0 | M38: =SUM(M39:M40) -> 0 | ... Q38: =SUM(Q39:Q40) -> 0
D39: 男 | E39: =SUM(F39:Q39) -> 0 | F39: 0 | G39: 0 | H39: 0 | I39: 0 | J39: 0 | K39: 0 | L39: 0 | M39: 0 | N39: 0 | O39: 0 | P39: 0 | Q39: 0
D40: 女 | E40: =SUM(F40:Q40) -> 0 | F40: 0 | G40: 0 | H40: 0 | I40: 0 | J40: 0 | K40: 0 | L40: 0 | M40: 0 | N40: 0 | O40: 0 | P40: 0 | Q40: 0
A41: Ba12 | B41: 髄 膜 炎 | D41: 総数 | E41: =SUM(F41:Q41) -> 0 | F41: =SUM(F42:F43) -> 0 | G41: =SUM(G42:G43) -> 0 | H41: =SUM(H42:H43) -> 0 | I41: =SUM(I42:I43) -> 0 | J41: =SUM(J42:J43) -> 0 | K41: =SUM(K42:K43) -> 0 | L41: =SUM(L42:L43) -> 0 | M41: =SUM(M42:M43) -> 0 | ... Q41: =SUM(Q42:Q43) -> 0
D42: 男 | E42: =SUM(F42:Q42) -> 0 | F42: 0 | G42: 0 | H42: 0 | I42: 0 | J42: 0 | K42: 0 | L42: 0 | M42: 0 | N42: 0 | O42: 0 | P42: 0 | Q42: 0
D43: 女 | E43: =SUM(F43:Q43) -> 0 | F43: 0 | G43: 0 | H43: 0 | I43: 0 | J43: 0 | K43: 0 | L43: 0 | M43: 0 | N43: 0 | O43: 0 | P43: 0 | Q43: 0
A44: Ba13 | B44: 脊髄性筋萎縮症及び関連症候群 | D44: 総数 | E44: =SUM(F44:Q44) -> 0 | F44: =SUM(F45:F46) -> 0 | G44: =SUM(G45:G46) -> 0 | H44: =SUM(H45:H46) -> 0 | I44: =SUM(I45:I46) -> 0 | J44: =SUM(J45:J46) -> 0 | K44: =SUM(K45:K46) -> 0 | L44: =SUM(L45:L46) -> 0 | M44: =SUM(M45:M46) -> 0 | ... Q44: =SUM(Q45:Q46) -> 0
D45: 男 | E45: =SUM(F45:Q45) -> 0 | F45: 0 | G45: 0 | H45: 0 | I45: 0 | J45: 0 | K45: 0 | L45: 0 | M45: 0 | N45: 0 | O45: 0 | P45: 0 | Q45: 0
D46: 女 | E46: =SUM(F46:Q46) -> 0 | F46: 0 | G46: 0 | H46: 0 | I46: 0 | J46: 0 | K46: 0 | L46: 0 | M46: 0 | N46: 0 | O46: 0 | P46: 0 | Q46: 0
A47: Ba14 | B47: 脳 性 麻 痺 | D47: 総数 | E47: =SUM(F47:Q47) -> 0 | F47: =SUM(F48:F49) -> 0 | G47: =SUM(G48:G49) -> 0 | H47: =SUM(H48:H49) -> 0 | I47: =SUM(I48:I49) -> 0 | J47: =SUM(J48:J49) -> 0 | K47: =SUM(K48:K49) -> 0 | L47: =SUM(L48:L49) -> 0 | M47: =SUM(M48:M49) -> 0 | ... Q47: =SUM(Q48:Q49) -> 0
D48: 男 | E48: =SUM(F48:Q48) -> 0 | F48: 0 | G48: 0 | H48: 0 | I48: 0 | J48: 0 | K48: 0 | L48: 0 | M48: 0 | N48: 0 | O48: 0 | P48: 0 | Q48: 0
D49: 女 | E49: =SUM(F49:Q49) -> 0 | F49: 0 | G49: 0 | H49: 0 | I49: 0 | J49: 0 | K49: 0 | L49: 0 | M49: 0 | N49: 0 | O49: 0 | P49: 0 | Q49: 0
A50: Ba15 | B50: 心疾患（高血圧性を除く） | D50: 総数 | E50: =SUM(F50:Q50) -> 2 | F50: =SUM(F51:F52) -> 0 | G50: =SUM(G51:G52) -> 0 | H50: =SUM(H51:H52) -> 0 | I50: =SUM(I51:I52) -> 0 | J50: =SUM(J51:J52) -> 0 | K50: =SUM(K51:K52) -> 0 | L50: =SUM(L51:L52) -> 0 | M50: =SUM(M51:M52) -> 1 | ... Q50: =SUM(Q51:Q52) -> 0
D51: 男 | E51: =SUM(F51:Q51) -> 0 | F51: 0 | G51: 0 | H51: 0 | I51: 0 | J51: 0 | K51: 0 | L51: 0 | M51: 0 | N51: 0 | O51: 0 | P51: 0 | Q51: 0
D52: 女 | E52: =SUM(F52:Q52) -> 2 | F52: 0 | G52: 0 | H52: 0 | I52: 0 | J52: 0 | K52: 0 | L52: 0 | M52: 1 | N52: 0 | O52: 1 | P52: 0 | Q52: 0
A53: Ba16 | B53: 脳血管疾患 | D53: 総数 | E53: =SUM(F53:Q53) -> 0 | F53: =SUM(F54:F55) -> 0 | G53: =SUM(G54:G55) -> 0 | H53: =SUM(H54:H55) -> 0 | I53: =SUM(I54:I55) -> 0 | J53: =SUM(J54:J55) -> 0 | K53: =SUM(K54:K55) -> 0 | L53: =SUM(L54:L55) -> 0 | M53: =SUM(M54:M55) -> 0 | ... Q53: =SUM(Q54:Q55) -> 0
D54: 男 | E54: =SUM(F54:Q54) -> 0 | F54: 0 | G54: 0 | H54: 0 | I54: 0 | J54: 0 | K54: 0 | L54: 0 | M54: 0 | N54: 0 | O54: 0 | P54: 0 | Q54: 0
D55: 女 | E55: =SUM(F55:Q55) -> 0 | F55: 0 | G55: 0 | H55: 0 | I55: 0 | J55: 0 | K55: 0 | L55: 0 | M55: 0 | N55: 0 | O55: 0 | P55: 0 | Q55: 0
A56: Ba17 | B56: インフルエンザ | D56: 総数 | E56: =SUM(F56:Q56) -> 0 | F56: =SUM(F57:F58) -> 0 | G56: =SUM(G57:G58) -> 0 | H56: =SUM(H57:H58) -> 0 | I56: =SUM(I57:I58) -> 0 | J56: =SUM(J57:J58) -> 0 | K56: =SUM(K57:K58) -> 0 | L56: =SUM(L57:L58) -> 0 | M56: =SUM(M57:M58) -> 0 | ... Q56: =SUM(Q57:Q58) -> 0
D57: 男 | E57: =SUM(F57:Q57) -> 0 | F57: 0 | G57: 0 | H57: 0 | I57: 0 | J57: 0 | K57: 0 | L57: 0 | M57: 0 | N57: 0 | O57: 0 | P57: 0 | Q57: 0
D58: 女 | E58: =SUM(F58:Q58) -> 0 | F58: 0 | G58: 0 | H58: 0 | I58: 0 | J58: 0 | K58: 0 | L58: 0 | M58: 0 | N58: 0 | O58: 0 | P58: 0 | Q58: 0
A59: Ba18 | B59: 肺 炎 | D59: 総数 | E59: =SUM(F59:Q59) -> 1 | F59: =SUM(F60:F61) -> 0 | G59: =SUM(G60:G61) -> 0 | H59: =SUM(H60:H61) -> 0 | I59: =SUM(I60:I61) -> 0 | J59: =SUM(J60:J61) -> 0 | K59: =SUM(K60:K61) -> 0 | L59: =SUM(L60:L61) -> 0 | M59: =SUM(M60:M61) -> 0 | ... Q59: =SUM(Q60:Q61) -> 0
D60: 男 | E60: =SUM(F60:Q60) -> 0 | F60: 0 | G60: 0 | H60: 0 | I60: 0 | J60: 0 | K60: 0 | L60: 0 | M60: 0 | N60: 0 | O60: 0 | P60: 0 | Q60: 0
D61: 女 | E61: =SUM(F61:Q61) -> 1 | F61: 0 | G61: 0 | H61: 0 | I61: 0 | J61: 0 | K61: 0 | L61: 0 | M61: 0 | N61: 1 | O61: 0 | P61: 0 | Q61: 0
A62: Ba19 | B62: 喘 息 | D62: 総数 | E62: =SUM(F62:Q62) -> 0 | F62: =SUM(F63:F64) -> 0 | G62: =SUM(G63:G64) -> 0 | H62: =SUM(H63:H64) -> 0 | I62: =SUM(I63:I64) -> 0 | J62: =SUM(J63:J64) -> 0 | K62: =SUM(K63:K64) -> 0 | L62: =SUM(L63:L64) -> 0 | M62: =SUM(M63:M64) -> 0 | ... Q62: =SUM(Q63:Q64) -> 0
D63: 男 | E63: =SUM(F63:Q63) -> 0 | F63: 0 | G63: 0 | H63: 0 | I63: 0 | J63: 0 | K63: 0 | L63: 0 | M63: 0 | N63: 0 | O63: 0 | P63: 0 | Q63: 0
D64: 女 | E64: =SUM(F64:Q64) -> 0 | F64: 0 | G64: 0 | H64: 0 | I64: 0 | J64: 0 | K64: 0 | L64: 0 | M64: 0 | N64: 0 | O64: 0 | P64: 0 | Q64: 0
A65: Ba20 | B65: ヘルニア及び腸閉塞 | D65: 総数 | E65: =SUM(F65:Q65) -> 0 | F65: =SUM(F66:F67) -> 0 | G65: =SUM(G66:G67) -> 0 | H65: =SUM(H66:H67) -> 0 | I65: =SUM(I66:I67) -> 0 | J65: =SUM(J66:J67) -> 0 | K65: =SUM(K66:K67) -> 0 | L65: =SUM(L66:L67) -> 0 | M65: =SUM(M66:M67) -> 0 | ... Q65: =SUM(Q66:Q67) -> 0
D66: 男 | E66: =SUM(F66:Q66) -> 0 | F66: 0 | G66: 0 | H66: 0 | I66: 0 | J66: 0 | K66: 0 | L66: 0 | M66: 0 | N66: 0 | O66: 0 | P66: 0 | Q66: 0
D67: 女 | E67: =SUM(F67:Q67) -> 0 | F67: 0 | G67: 0 | H67: 0 | I67: 0 | J67: 0 | K67: 0 | L67: 0 | M67: 0 | N67: 0 | O67: 0 | P67: 0 | Q67: 0
A68: Ba21 | B68: 肝 疾 患 | D68: 総数 | E68: =SUM(F68:Q68) -> 1 | F68: =SUM(F69:F70) -> 0 | G68: =SUM(G69:G70) -> 0 | H68: =SUM(H69:H70) -> 0 | I68: =SUM(I69:I70) -> 0 | J68: =SUM(J69:J70) -> 0 | K68: =SUM(K69:K70) -> 0 | L68: =SUM(L69:L70) -> 0 | M68: =SUM(M69:M70) -> 0 | ... Q68: =SUM(Q69:Q70) -> 0
D69: 男 | E69: =SUM(F69:Q69) -> 0 | F69: 0 | G69: 0 | H69: 0 | I69: 0 | J69: 0 | K69: 0 | L69: 0 | M69: 0 | N69: 0 | O69: 0 | P69: 0 | Q69: 0
D70: 女 | E70: =SUM(F70:Q70) -> 1 | F70: 0 | G70: 0 | H70: 0 | I70: 0 | J70: 0 | K70: 0 | L70: 0 | M70: 0 | N70: 0 | O70: 0 | P70: 1 | Q70: 0
A71: Ba22 | B71: 腎 不 全 | D71: 総数 | E71: =SUM(F71:Q71) -> 0 | F71: =SUM(F72:F73) -> 0 | G71: =SUM(G72:G73) -> 0 | H71: =SUM(H72:H73) -> 0 | I71: =SUM(I72:I73) -> 0 | J71: =SUM(J72:J73) -> 0 | K71: =SUM(K72:K73) -> 0 | L71: =SUM(L72:L73) -> 0 | M71: =SUM(M72:M73) -> 0 | ... Q71: =SUM(Q72:Q73) -> 0
D72: 男 | E72: =SUM(F72:Q72) -> 0 | F72: 0 | G72: 0 | H72: 0 | I72: 0 | J72: 0 | K72: 0 | L72: 0 | M72: 0 | N72: 0 | O72: 0 | P72: 0 | Q72: 0
D73: 女 | E73: =SUM(F73:Q73) -> 0 | F73: 0 | G73: 0 | H73: 0 | I73: 0 | J73: 0 | K73: 0 | L73: 0 | M73: 0 | N73: 0 | O73: 0 | P73: 0 | Q73: 0
A74: Ba23 | B74: 周産期に発生した病態 | D74: 総数 | E74: =SUM(F74:Q74) -> 12 | F74: =SUM(F77,F80,F83,F86,F89,F92,F95,F98,F101,F104,F107) -> 2 | G74: =SUM(G77,G80,G83,G86,G89,G92,G95,G98,G101,G104,G107) -> 0 | H74: =SUM(H77,H80,H83,H86,H89,H92,H95,H98,H101,H104,H107) -> 0 | I74: =SUM(I77,I80,I83,I86,I89,I92,I95,I98,I101,I104,I107) -> 0 | J74: =SUM(J77,J80,J83,J86,J89,J92,J95,J98,J101,J104,J107) -> 2 | K74: =SUM(K77,K80,K83,K86,K89,K92,K95,K98,K101,K104,K107) -> 3 | L74: =SUM(L77,L80,L83,L86,L89,L92,L95,L98,L101,L104,L107) -> 1 | M74: =SUM(M77,M80,M83,M86,M89,M92,M95,M98,M101,M104,M107) -> 1 | ... Q74: =SUM(Q77,Q80,Q83,Q86,Q89,Q92,Q95,Q98,Q101,Q104,Q107) -> 1
D75: 男 | E75: =SUM(F75:Q75) -> 8 | F75: =SUM(F78,F81,F84,F87,F90,F93,F96,F99,F102,F105,F108) -> 1 | G75: =SUM(G78,G81,G84,G87,G90,G93,G96,G99,G102,G105,G108) -> 0 | H75: =SUM(H78,H81,H84,H87,H90,H93,H96,H99,H102,H105,H108) -> 0 | I75: =SUM(I78,I81,I84,I87,I90,I93,I96,I99,I102,I105,I108) -> 0 | J75: =SUM(J78,J81,J84,J87,J90,J93,J96,J99,J102,J105,J108) -> 1 | K75: =SUM(K78,K81,K84,K87,K90,K93,K96,K99,K102,K105,K108) -> 3 | L75: =SUM(L78,L81,L84,L87,L90,L93,L96,L99,L102,L105,L108) -> 0 | M75: =SUM(M78,M81,M84,M87,M90,M93,M96,M99,M102,M105,M108) -> 0 | ... Q75: =SUM(Q78,Q81,Q84,Q87,Q90,Q93,Q96,Q99,Q102,Q105,Q108) -> 1
D76: 女 | E76: =SUM(F76:Q76) -> 4 | F76: =SUM(F79,F82,F85,F88,F91,F94,F97,F100,F103,F106,F109) -> 1 | G76: =SUM(G79,G82,G85,G88,G91,G94,G97,G100,G103,G106,G109) -> 0 | H76: =SUM(H79,H82,H85,H88,H91,H94,H97,H100,H103,H106,H109) -> 0 | I76: =SUM(I79,I82,I85,I88,I91,I94,I97,I100,I103,I106,I109) -> 0 | J76: =SUM(J79,J82,J85,J88,J91,J94,J97,J100,J103,J106,J109) -> 1 | K76: =SUM(K79,K82,K85,K88,K91,K94,K97,K100,K103,K106,K109) -> 0 | L76: =SUM(L79,L82,L85,L88,L91,L94,L97,L100,L103,L106,L109) -> 1 | M76: =SUM(M79,M82,M85,M88,M91,M94,M97,M100,M103,M106,M109) -> 1 | ... Q76: =SUM(Q79,Q82,Q85,Q88,Q91,Q94,Q97,Q100,Q103,Q106,Q109) -> 0
A77: Ba24 | C77: 妊娠期間及び胎児発育に関連する障害 | D77: 総数 | E77: =SUM(F77:Q77) -> 0 | F77: =SUM(F78:F79) -> 0 | G77: =SUM(G78:G79) -> 0 | H77: =SUM(H78:H79) -> 0 | I77: =SUM(I78:I79) -> 0 | J77: =SUM(J78:J79) -> 0 | K77: =SUM(K78:K79) -> 0 | L77: =SUM(L78:L79) -> 0 | M77: =SUM(M78:M79) -> 0 | ... Q77: =SUM(Q78:Q79) -> 0
D78: 男 | E78: =SUM(F78:Q78) -> 0 | F78: 0 | G78: 0 | H78: 0 | I78: 0 | J78: 0 | K78: 0 | L78: 0 | M78: 0 | N78: 0 | O78: 0 | P78: 0 | Q78: 0
D79: 女 | E79: =SUM(F79:Q79) -> 0 | F79: 0 | G79: 0 | H79: 0 | I79: 0 | J79: 0 | K79: 0 | L79: 0 | M79: 0 | N79: 0 | O79: 0 | P79: 0 | Q79: 0
A80: Ba25 | C80: 出 産 外 傷 | D80: 総数 | E80: =SUM(F80:Q80) -> 0 | F80: =SUM(F81:F82) -> 0 | G80: =SUM(G81:G82) -> 0 | H80: =SUM(H81:H82) -> 0 | I80: =SUM(I81:I82) -> 0 | J80: =SUM(J81:J82) -> 0 | K80: =SUM(K81:K82) -> 0 | L80: =SUM(L81:L82) -> 0 | M80: =SUM(M81:M82) -> 0 | ... Q80: =SUM(Q81:Q82) -> 0
D81: 男 | E81: =SUM(F81:Q81) -> 0 | F81: 0 | G81: 0 | H81: 0 | I81: 0 | J81: 0 | K81: 0 | L81: 0 | M81: 0 | N81: 0 | O81: 0 | P81: 0 | Q81: 0
D82: 女 | E82: =SUM(F82:Q82) -> 0 | F82: 0 | G82: 0 | H82: 0 | I82: 0 | J82: 0 | K82: 0 | L82: 0 | M82: 0 | N82: 0 | O82: 0 | P82: 0 | Q82: 0
A83: Ba26 | C83: 出生時仮死 | D83: 総数 | E83: =SUM(F83:Q83) -> 2 | F83: =SUM(F84:F85) -> 0 | G83: =SUM(G84:G85) -> 0 | H83: =SUM(H84:H85) -> 0 | I83: =SUM(I84:I85) -> 0 | J83: =SUM(J84:J85) -> 1 | K83: =SUM(K84:K85) -> 0 | L83: =SUM(L84:L85) -> 0 | M83: =SUM(M84:M85) -> 0 | ... Q83: =SUM(Q84:Q85) -> 0
D84: 男 | E84: =SUM(F84:Q84) -> 1 | F84: 0 | G84: 0 | H84: 0 | I84: 0 | J84: 0 | K84: 0 | L84: 0 | M84: 0 | N84: 1 | O84: 0 | P84: 0 | Q84: 0
D85: 女 | E85: =SUM(F85:Q85) -> 1 | F85: 0 | G85: 0 | H85: 0 | I85: 0 | J85: 1 | K85: 0 | L85: 0 | M85: 0 | N85: 0 | O85: 0 | P85: 0 | Q85: 0
A86: Ba27 | C86: 新生児の呼吸窮迫 | D86: 総数 | E86: =SUM(F86:Q86) -> 3 | F86: =SUM(F87:F88) -> 1 | G86: =SUM(G87:G88) -> 0 | H86: =SUM(H87:H88) -> 0 | I86: =SUM(I87:I88) -> 0 | J86: =SUM(J87:J88) -> 0 | K86: =SUM(K87:K88) -> 2 | L86: =SUM(L87:L88) -> 0 | M86: =SUM(M87:M88) -> 0 | ... Q86: =SUM(Q87:Q88) -> 0
D87: 男 | E87: =SUM(F87:Q87) -> 3 | F87: 1 | G87: 0 | H87: 0 | I87: 0 | J87: 0 | K87: 2 | L87: 0 | M87: 0 | N87: 0 | O87: 0 | P87: 0 | Q87: 0
D88: 女 | E88: =SUM(F88:Q88) -> 0 | F88: 0 | G88: 0 | H88: 0 | I88: 0 | J88: 0 | K88: 0 | L88: 0 | M88: 0 | N88: 0 | O88: 0 | P88: 0 | Q88: 0
A89: Ba28 | C89: 周産期に発生した肺出血 | D89: 総数 | E89: =SUM(F89:Q89) -> 0 | F89: =SUM(F90:F91) -> 0 | G89: =SUM(G90:G91) -> 0 | H89: =SUM(H90:H91) -> 0 | I89: =SUM(I90:I91) -> 0 | J89: =SUM(J90:J91) -> 0 | K89: =SUM(K90:K91) -> 0 | L89: =SUM(L90:L91) -> 0 | M89: =SUM(M90:M91) -> 0 | ... Q89: =SUM(Q90:Q91) -> 0
D90: 男 | E90: =SUM(F90:Q90) -> 0 | F90: 0 | G90: 0 | H90: 0 | I90: 0 | J90: 0 | K90: 0 | L90: 0 | M90: 0 | N90: 0 | O90: 0 | P90: 0 | Q90: 0
D91: 女 | E91: =SUM(F91:Q91) -> 0 | F91: 0 | G91: 0 | H91: 0 | I91: 0 | J91: 0 | K91: 0 | L91: 0 | M91: 0 | N91: 0 | O91: 0 | P91: 0 | Q91: 0
A92: Ba29 | C92: 周産期に発生した心血管障害 | D92: 総数 | E92: =SUM(F92:Q92) -> 1 | F92: =SUM(F93:F94) -> 0 | G92: =SUM(G93:G94) -> 0 | H92: =SUM(H93:H94) -> 0 | I92: =SUM(I93:I94) -> 0 | J92: =SUM(J93:J94) -> 0 | K92: =SUM(K93:K94) -> 1 | L92: =SUM(L93:L94) -> 0 | M92: =SUM(M93:M94) -> 0 | ... Q92: =SUM(Q93:Q94) -> 0
D93: 男 | E93: =SUM(F93:Q93) -> 1 | F93: 0 | G93: 0 | H93: 0 | I93: 0 | J93: 0 | K93: 1 | L93: 0 | M93: 0 | N93: 0 | O93: 0 | P93: 0 | Q93: 0
D94: 女 | E94: =SUM(F94:Q94) -> 0 | F94: 0 | G94: 0 | H94: 0 | I94: 0 | J94: 0 | K94: 0 | L94: 0 | M94: 0 | N94: 0 | O94: 0 | P94: 0 | Q94: 0
A95: Ba30 | C95: その他の周産期に特異的な呼吸障害及び心血管障害 | D95: 総数 | E95: =SUM(F95:Q95) -> 2 | F95: =SUM(F96:F97) -> 1 | G95: =SUM(G96:G97) -> 0 | H95: =SUM(H96:H97) -> 0 | I95: =SUM(I96:I97) -> 0 | J95: =SUM(J96:J97) -> 0 | K95: =SUM(K96:K97) -> 0 | L95: =SUM(L96:L97) -> 0 | M95: =SUM(M96:M97) -> 0 | ... Q95: =SUM(Q96:Q97) -> 0
D96: 男 | E96: =SUM(F96:Q96) -> 1 | F96: 0 | G96: 0 | H96: 0 | I96: 0 | J96: 0 | K96: 0 | L96: 0 | M96: 0 | N96: 0 | O96: 0 | P96: 1 | Q96: 0
D97: 女 | E97: =SUM(F97:Q97) -> 1 | F97: 1 | G97: 0 | H97: 0 | I97: 0 | J97: 0 | K97: 0 | L97: 0 | M97: 0 | N97: 0 | O97: 0 | P97: 0 | Q97: 0
A98: Ba31 | C98: 新生児の細菌性敗血症 | D98: 総数 | E98: =SUM(F98:Q98) -> 1 | F98: =SUM(F99:F100) -> 0 | G98: =SUM(G99:G100) -> 0 | H98: =SUM(H99:H100) -> 0 | I98: =SUM(I99:I100) -> 0 | J98: =SUM(J99:J100) -> 0 | K98: =SUM(K99:K100) -> 0 | L98: =SUM(L99:L100) -> 1 | M98: =SUM(M99:M100) -> 0 | ... Q98: =SUM(Q99:Q100) -> 0
D99: 男 | E99: =SUM(F99:Q99) -> 0 | F99: 0 | G99: 0 | H99: 0 | I99: 0 | J99: 0 | K99: 0 | L99: 0 | M99: 0 | N99: 0 | O99: 0 | P99: 0 | Q99: 0
D100: 女 | E100: =SUM(F100:Q100) -> 1 | F100: 0 | G100: 0 | H100: 0 | I100: 0 | J100: 0 | K100: 0 | L100: 1 | M100: 0 | N100: 0 | O100: 0 | P100: 0 | Q100: 0
A101: Ba32 | C101: その他の周産期に特異的な感染症 | D101: 総数 | E101: =SUM(F101:Q101) -> 0 | F101: =SUM(F102:F103) -> 0 | G101: =SUM(G102:G103) -> 0 | H101: =SUM(H102:H103) -> 0 | I101: =SUM(I102:I103) -> 0 | J101: =SUM(J102:J103) -> 0 | K101: =SUM(K102:K103) -> 0 | L101: =SUM(L102:L103) -> 0 | M101: =SUM(M102:M103) -> 0 | ... Q101: =SUM(Q102:Q103) -> 0
...

Sheet 8 死亡の場所別，年次別死亡数・百分率
A1: 8 死亡の場所別にみた年次別乳児死亡数及び百分率
A3: 年次 | B3: 総数 | C3: 施設内 | G3: 施設外
C4: 総数 | D4: 病院 | E4: 診療所 | F4: 助産所 | G4: 総 数 | H4: 自宅 | I4: その他
B5: 乳児死亡数
A6: 85 60 | B6: 101 | C6: 88 | D6: 87 | E6: 1 | F6: 0 | G6: 13 | H6: 10 | I6: 3
A7: 1986 昭和61年 | B7: 86 | C7: 71 | D7: 67 | E7: 4 | F7: 0 | G7: 15 | H7: 11 | I7: 4
A8: 1987 昭和62年 | B8: 88 | C8: 76 | D8: 71 | E8: 5 | F8: 0 | G8: 12 | H8: 8 | I8: 4
A9: 1988 昭和63年 | B9: 80 | C9: 67 | D9: 65 | E9: 2 | F9: 0 | G9: 13 | H9: 10 | I9: 3
A10: 89 平成元年 | B10: 75 | C10: 69 | D10: 65 | E10: 4 | F10: 0 | G10: 6 | H10: 5 | I10: 1
A11: 90 2 | B11: 85 | C11: 78 | D11: 74 | E11: 4 | F11: 0 | G11: 7 | H11: 6 | I11: 1
A12: 91 3 | B12: 63 | C12: 57 | D12: 55 | E12: 2 | F12: 0 | G12: 6 | H12: 4 | I12: 2
A13: 93 4 | B13: 57 | C13: 50 | D13: 49 | E13: 1 | F13: 0 | G13: 7 | H13: 6 | I13: 1
A14: 1993 平成5年 | B14: 51 | C14: 50 | D14: 47 | E14: 3 | F14: 0 | G14: 1 | H14: 1 | I14: 0
A15: 94 6 | B15: 65 | C15: 55 | D15: 54 | E15: 1 | F15: 0 | G15: 10 | H15: 10 | I15: 0
A16: 95 7 | B16: 53 | C16: 45 | D16: 45 | E16: 0 | F16: 0 | G16: 8 | H16: 7 | I16: 1
A17: 96 8 | B17: 55 | C17: 52 | D17: 52 | E17: 0 | F17: 0 | G17: 3 | H17: 2 | I17: 1
... A38: 17 29 | B38: 25 | C38: 24 | D38: 24 | E38: 0 | F38: 0 | G38: 1 | H38: 1 | I38: 0
A39: 18 30 | B39: =SUM(C39,G39) -> 34 | C39: =SUM(D39:E39) -> 31 | D39: ='[3]■8 死亡の場所別，年次別死亡数・百分率'!$D$5 -> 30 | E39: ='[3]■8 死亡の場所別，年次別死亡数・百分率'!$E$5 -> 1 | F39: ='[3]■8 死亡の場所別，年次別死亡数・百分率'!$F$5 -> 0 | G39: =SUM(H39:I39) -> 3 | H39: ='[3]■8 死亡の場所別，年次別死亡数・百分率'!$H$5 -> 3 | I39: ='[3]■8 死亡の場所別，年次別死亡数・百分率'!$I$5 -> 0
B40: 百分率
A41: 85 60 | B41: 100 | C41: 87.128713 | D41: 86.138614 | E41: 0.99009901 | F41: 0 | G41: 12.871287 | H41: 9.9009901 | I41: 2.970297
A42: 1986 昭和61年 | B42: 100 | C42: 82.55814 | D42: 77.906977 | E42: 4.6511628 | F42: 0 | G42: 17.44186 | H42: 12.790698 | I42: 4.6511628
A43: 1987 昭和62年 | B43: 100 | C43: 86.363636 | D43: 80.681818 | E43: 5.6818182 | F43: 0 | G43: 13.636364 | H43: 9.0909091 | I43: 4.5454545
A44: 1988 昭和63年 | B44: 100 | C44: 83.75 | D44: 81.25 | E44: 2.5 | F44: 0 | G44: 16.25 | H44: 12.5 | I44: 3.75
A45: 89 平成元年 | B45: 100 | C45: 92 | D45: 86.666667 | E45: 5.3333333 | F45: 0 | G45: 8 | H45: 6.6666667 | I45: 1.3333333
A46: 90 2 | B46: 100 | C46: 91.764706 | D46: 87.058824 | E46: 4.7058824 | F46: 0 | G46: 8.2352941 | H46: 7.0588235 | I46: 1.1764706
A47: 91 3 | B47: 100 | C47: 90.47619 | D47: 87.301587 | E47: 3.1746032 | F47: 0 | G47: 9.5238095 | H47: 6.3492063 | I47: 3.1746032
A48: 93 4 | B48: 100 | C48: 87.719298 | D48: 85.964912 | E48: 1.754386 | F48: 0 | G48: 12.280702 | H48: 10.526316 | I48: 1.754386
A49: 1993 平成5年 | B49: 100 | C49: 98.039216 | D49: 92.156863 | E49: 5.8823529 | F49: 0 | G49: 1.9607843 | H49: 1.9607843 | I49: 0
A50: 94 6 | B50: 100 | C50: 84.615385 | D50: 83.076923 | E50: 1.5384615 | F50: 0 | G50: 15.384615 | H50: 15.384615 | I50: 0
A51: 95 7 | B51: 100 | C51: 84.90566 | D51: 84.90566 | E51: 0 | F51: 0 | G51: 15.09434 | H51: 13.207547 | I51: 1.8867925
A52: 96 8 | B52: 100 | C52: 94.545455 | D52: 94.545455 | E52: 0 | F52: 0 | G52: 5.4545455 | H52: 3.6363636 | I52: 1.8181818
... A65: 09 21 | B65: 100 | C65: 72.727273 | D65: 72.727273 | E65: 0 | F65: 0 | G65: 27.272727 | H65: 27.272727 | I65: 0
A66: 10 22 | B66: =SUM(C66,G66) -> 100 | C66: =C31/$B31*100 -> 76.923077 | D66: =D31/$B31*100 -> 76.923077 | E66: =E31/$B31*100 -> 0 | F66: =F31/$B31*100 -> 0 | G66: =G31/$B31*100 -> 23.076923 | H66: =H31/$B31*100 -> 19.230769 | I66: =I31/$B31*100 -> 3.8461538
A67: 11 23 | B67: 100 | C67: 80 | D67: 77.5 | E67: 2.5 | F67: 0 | G67: 20 | H67: 20 | I67: 0
A68: 12 24 | B68: 100 | C68: 79.411765 | D68: 76.470588 | E68: 2.9411765 | F68: 0 | G68: 20.588235 | H68: 17.647059 | I68: 2.9411765
A69: 13 25 | B69: 100 | C69: 88.235294 | D69: 88.235294 | E69: 0 | F69: 0 | G69: 11.764706 | H69: 11.764706 | I69: 0
A70: 14 26 | B70: 100 | C70: 96.153846 | D70: 88.461538 | E70: 7.6923077 | F70: 0 | G70: 3.8461538 | H70: 3.8461538 | I70: 0
A71: 15 27 | B71: 100 | C71: 100 | D71: 100 | E71: 0 | F71: 0 | G71: 0 | H71: 0 | I71: 0
A72: 16 28 | B72: 100 | C72: 96.551724 | D72: 96.551724 | E72: 0 | F72: 0 | G72: 3.4482759 | H72: 3.4482759 | I72: 0
A73: 17 29 | B73: 100 | C73: 96 | D73: 96 | E73: 0 | F73: 0 | G73: 4 | H73: 4 | I73: 0
A74: 18 30 | B74: =SUM(C74,G74) -> 100 | C74: =C39/$B39*100 -> 91.176471 | D74: =D39/$B39*100 -> 88.235294 | E74: =E39/$B39*100 -> 2.9411765 | F74: =F39/$B39*100 -> 0 | G74: =G39/$B39*100 -> 8.8235294 | H74: =H39/$B39*100 -> 8.8235294 | I74: =I39/$B39*100 -> 0

Sheet 9 生存期間・性別，乳児簡単死因分類別死亡数
A1: 9 生存期間・性別にみた乳児死因簡単分類別乳児死亡数
AB2: ='3 乳児死亡数，月・性・区別'!$O$2 -> 平成30年
A3: 乳児死因 簡単分類 コ ー ド | B3: 死因・性 | E3: 総数 | F3: 日 齢 － 月 齢
F4: 1日 未満 | G4: 1日 | H4: 2日 | I4: 3日 | J4: 4日 | K4: 5日 | L4: 6日 | M4: １週未満 | N4: 1週～ 2週未満 | O4: 2週～ 3週未満 | P4: 3週～ 4週未満 | Q4: 4週未満 | R4: 4週～ 2か月未満 | S4: 2か月 | T4: 3か月 | U4: 4か月 | V4: 5か月 | W4: 6か月 | X4: 7か月 | Y4: 8か月 | Z4: 9か月 | AA4: 10か月 | AB4: 11か月
B6: 総 数 | D6: 総数 | E6: =SUM(E9,E12,E15,E18,E21,E24,E33,E36,E39,E42,E45,E48,E51,E54,E57,E60,E63,E66,E69,E72,E75,E111,E138,E141,E144,E171,E174) -> 34 | F6: =SUM(F9,F12,F15,F18,F21,F24,F33,F36,F39,F42,F45,F48,F51,F54,F57,F60,F63,F66,F69,F72,F75,F111,F138,F141,F144,F171,F174) -> 10 | G6: =SUM(G9,G12,G15,G18,G21,G24,G33,G36,G39,G42,G45,G48,G51,G54,G57,G60,G63,G66,G69,G72,G75,G111,G138,G141,G144,G171,G174) -> 1 | H6: =SUM(H9,H12,H15,H18,H21,H24,H33,H36,H39,H42,H45,H48,H51,H54,H57,H60,H63,H66,H69,H72,H75,H111,H138,H141,H144,H171,H174) -> 0 | I6: =SUM(I9,I12,I15,I18,I21,I24,I33,I36,I39,I42,I45,I48,I51,I54,I57,I60,I63,I66,I69,I72,I75,I111,I138,I141,I144,I171,I174) -> 3 | J6: =SUM(J9,J12,J15,J18,J21,J24,J33,J36,J39,J42,J45,J48,J51,J54,J57,J60,J63,J66,J69,J72,J75,J111,J138,J141,J144,J171,J174) -> 0 | K6: =SUM(K9,K12,K15,K18,K21,K24,K33,K36,K39,K42,K45,K48,K51,K54,K57,K60,K63,K66,K69,K72,K75,K111,K138,K141,K144,K171,K174) -> 1 | L6: =SUM(L9,L12,L15,L18,L21,L24,L33,L36,L39,L42,L45,L48,L51,L54,L57,L60,L63,L66,L69,L72,L75,L111,L138,L141,L144,L171,L174) -> 0 | ... AB6: =SUM(AB9,AB12,AB15,AB18,AB21,AB24,AB33,AB36,AB39,AB42,AB45,AB48,AB51,AB54,AB57,AB60,AB63,AB66,AB69,AB72,AB75,AB111,AB138,AB141,AB144,AB171,AB174) -> 0
D7: 男 | E7: =SUM(E10,E13,E16,E19,E22,E25,E34,E37,E40,E43,E46,E49,E52,E55,E58,E61,E64,E67,E70,E73,E76,E112,E139,E142,E145,E172,E175) -> 16 | F7: =SUM(F10,F13,F16,F19,F22,F25,F34,F37,F40,F43,F46,F49,F52,F55,F58,F61,F64,F67,F70,F73,F76,F112,F139,F142,F145,F172,F175) -> 6 | G7: =SUM(G10,G13,G16,G19,G22,G25,G34,G37,G40,G43,G46,G49,G52,G55,G58,G61,G64,G67,G70,G73,G76,G112,G139,G142,G145,G172,G175) -> 1 | H7: =SUM(H10,H13,H16,H19,H22,H25,H34,H37,H40,H43,H46,H49,H52,H55,H58,H61,H64,H67,H70,H73,H76,H112,H139,H142,H145,H172,H175) -> 0 | I7: =SUM(I10,I13,I16,I19,I22,I25,I34,I37,I40,I43,I46,I49,I52,I55,I58,I61,I64,I67,I70,I73,I76,I112,I139,I142,I145,I172,I175) -> 1 | J7: =SUM(J10,J13,J16,J19,J22,J25,J34,J37,J40,J43,J46,J49,J52,J55,J58,J61,J64,J67,J70,J73,J76,J112,J139,J142,J145,J172,J175) -> 0 | K7: =SUM(K10,K13,K16,K19,K22,K25,K34,K37,K40,K43,K46,K49,K52,K55,K58,K61,K64,K67,K70,K73,K76,K112,K139,K142,K145,K172,K175) -> 0 | L7: =SUM(L10,L13,L16,L19,L22,L25,L34,L37,L40,L43,L46,L49,L52,L55,L58,L61,L64,L67,L70,L73,L76,L112,L139,L142,L145,L172,L175) -> 0 | ... AB7: =SUM(AB10,AB13,AB16,AB19,AB22,AB25,AB34,AB37,AB40,AB43,AB46,AB49,AB52,AB55,AB58,AB61,AB64,AB67,AB70,AB73,AB76,AB112,AB139,AB142,AB145,AB172,AB175) -> 0
D8: 女 | E8: =SUM(E11,E14,E17,E20,E23,E26,E35,E38,E41,E44,E47,E50,E53,E56,E59,E62,E65,E68,E71,E74,E77,E113,E140,E143,E146,E173,E176) -> 18 | F8: =SUM(F11,F14,F17,F20,F23,F26,F35,F38,F41,F44,F47,F50,F53,F56,F59,F62,F65,F68,F71,F74,F77,F113,F140,F143,F146,F173,F176) -> 4 | G8: =SUM(G11,G14,G17,G20,G23,G26,G35,G38,G41,G44,G47,G50,G53,G56,G59,G62,G65,G68,G71,G74,G77,G113,G140,G143,G146,G173,G176) -> 0 | H8: =SUM(H11,H14,H17,H20,H23,H26,H35,H38,H41,H44,H47,H50,H53,H56,H59,H62,H65,H68,H71,H74,H77,H113,H140,H143,H146,H173,H176) -> 0 | I8: =SUM(I11,I14,I17,I20,I23,I26,I35,I38,I41,I44,I47,I50,I53,I56,I59,I62,I65,I68,I71,I74,I77,I113,I140,I143,I146,I173,I176) -> 2 | J8: =SUM(J11,J14,J17,J20,J23,J26,J35,J38,J41,J44,J47,J50,J53,J56,J59,J62,J65,J68,J71,J74,J77,J113,J140,J143,J146,J173,J176) -> 0 | K8: =SUM(K11,K14,K17,K20,K23,K26,K35,K38,K41,K44,K47,K50,K53,K56,K59,K62,K65,K68,K71,K74,K77,K113,K140,K143,K146,K173,K176) -> 1 | L8: =SUM(L11,L14,L17,L20,L23,L26,L35,L38,L41,L44,L47,L50,L53,L56,L59,L62,L65,L68,L71,L74,L77,L113,L140,L143,L146,L173,L176) -> 0 | ... AB8: =SUM(AB11,AB14,AB17,AB20,AB23,AB26,AB35,AB38,AB41,AB44,AB47,AB50,AB53,AB56,AB59,AB62,AB65,AB68,AB71,AB74,AB77,AB113,AB140,AB143,AB146,AB173,AB176) -> 0
A9: Ba01 | B9: 腸管感染症 | D9: 総数 | E9: =SUM(Q9:AB9) -> 0 | F9: =SUM(F10:F11) -> 0 | G9: =SUM(G10:G11) -> 0 | H9: =SUM(H10:H11) -> 0 | I9: =SUM(I10:I11) -> 0 | J9: =SUM(J10:J11) -> 0 | K9: =SUM(K10:K11) -> 0 | L9: =SUM(L10:L11) -> 0 | M9: =SUM(M10:M11) -> 0 | ... AB9: =SUM(AB10:AB11) -> 0
D10: 男 | E10: =SUM(Q10:AB10) -> 0 | F10: 0 | G10: 0 | H10: 0 | I10: 0 | J10: 0 | K10: 0 | L10: 0 | M10: =SUM(F10:L10) -> 0 | N10: 0 | O10: 0 | P10: 0 | Q10: =SUM(M10:P10) -> 0 | R10: 0 | S10: 0 | T10: 0 | U10: 0 | V10: 0 | W10: 0 | X10: 0 | Y10: 0 | Z10: 0 | AA10: 0 | AB10: 0
D11: 女 | E11: =SUM(Q11:AB11) -> 0 | F11: 0 | G11: 0 | H11: 0 | I11: 0 | J11: 0 | K11: 0 | L11: 0 | M11: =SUM(F11:L11) -> 0 | N11: 0 | O11: 0 | P11: 0 | Q11: =SUM(M11:P11) -> 0 | R11: 0 | S11: 0 | T11: 0 | U11: 0 | V11: 0 | W11: 0 | X11: 0 | Y11: 0 | Z11: 0 | AA11: 0 | AB11: 0
A12: Ba02 | B12: 敗血症（新生児の細菌性敗血症を除く） | D12: 総数 | E12: =SUM(Q12:AB12) -> 1 | F12: =SUM(F13:F14) -> 0 | G12: =SUM(G13:G14) -> 0 | H12: =SUM(H13:H14) -> 0 | I12: =SUM(I13:I14) -> 0 | J12: =SUM(J13:J14) -> 0 | K12: =SUM(K13:K14) -> 0 | L12: =SUM(L13:L14) -> 0 | M12: =SUM(M13:M14) -> 0 | ... AB12: =SUM(AB13:AB14) -> 0
D13: 男 | E13: =SUM(Q13:AB13) -> 1 | F13: 0 | G13: 0 | H13: 0 | I13: 0 | J13: 0 | K13: 0 | L13: 0 | M13: =SUM(F13:L13) -> 0 | N13: 0 | O13: 0 | P13: 0 | Q13: =SUM(M13:P13) -> 0 | R13: 0 | S13: 0 | T13: 0 | U13: 0 | V13: 0 | W13: 0 | X13: 0 | Y13: 0 | Z13: 1 | AA13: 0 | AB13: 0
D14: 女 | E14: =SUM(Q14:AB14) -> 0 | F14: 0 | G14: 0 | H14: 0 | I14: 0 | J14: 0 | K14: 0 | L14: 0 | M14: =SUM(F14:L14) -> 0 | N14: 0 | O14: 0 | P14: 0 | Q14: =SUM(M14:P14) -> 0 | R14: 0 | S14: 0 | T14: 0 | U14: 0 | V14: 0 | W14: 0 | X14: 0 | Y14: 0 | Z14: 0 | AA14: 0 | AB14: 0
A15: Ba03 | B15: 麻 疹 | D15: 総数 | E15: =SUM(Q15:AB15) -> 0 | F15: =SUM(F16:F17) -> 0 | G15: =SUM(G16:G17) -> 0 | H15: =SUM(H16:H17) -> 0 | I15: =SUM(I16:I17) -> 0 | J15: =SUM(J16:J17) -> 0 | K15: =SUM(K16:K17) -> 0 | L15: =SUM(L16:L17) -> 0 | M15: =SUM(M16:M17) -> 0 | ... AB15: =SUM(AB16:AB17) -> 0
D16: 男 | E16: =SUM(Q16:AB16) -> 0 | F16: 0 | G16: 0 | H16: 0 | I16: 0 | J16: 0 | K16: 0 | L16: 0 | M16: =SUM(F16:L16) -> 0 | N16: 0 | O16: 0 | P16: 0 | Q16: =SUM(M16:P16) -> 0 | R16: 0 | S16: 0 | T16: 0 | U16: 0 | V16: 0 | W16: 0 | X16: 0 | Y16: 0 | Z16: 0 | AA16: 0 | AB16: 0
D17: 女 | E17: =SUM(Q17:AB17) -> 0 | F17: 0 | G17: 0 | H17: 0 | I17: 0 | J17: 0 | K17: 0 | L17: 0 | M17: =SUM(F17:L17) -> 0 | N17: 0 | O17: 0 | P17: 0 | Q17: =SUM(M17:P17) -> 0 | R17: 0 | S17: 0 | T17: 0 | U17: 0 | V17: 0 | W17: 0 | X17: 0 | Y17: 0 | Z17: 0 | AA17: 0 | AB17: 0
A18: Ba04 | B18: ウイルス肝炎 | D18: 総数 | E18: =SUM(Q18:AB18) -> 0 | F18: =SUM(F19:F20) -> 0 | G18: =SUM(G19:G20) -> 0 | H18: =SUM(H19:H20) -> 0 | I18: =SUM(I19:I20) -> 0 | J18: =SUM(J19:J20) -> 0 | K18: =SUM(K19:K20) -> 0 | L18: =SUM(L19:L20) -> 0 | M18: =SUM(M19:M20) -> 0 | ... AB18: =SUM(AB19:AB20) -> 0
D19: 男 | E19: =SUM(Q19:AB19) -> 0 | F19: 0 | G19: 0 | H19: 0 | I19: 0 | J19: 0 | K19: 0 | L19: 0 | M19: =SUM(F19:L19) -> 0 | N19: 0 | O19: 0 | P19: 0 | Q19: =SUM(M19:P19) -> 0 | R19: 0 | S19: 0 | T19: 0 | U19: 0 | V19: 0 | W19: 0 | X19: 0 | Y19: 0 | Z19: 0 | AA19: 0 | AB19: 0
D20: 女 | E20: =SUM(Q20:AB20) -> 0 | F20: 0 | G20: 0 | H20: 0 | I20: 0 | J20: 0 | K20: 0 | L20: 0 | M20: =SUM(F20:L20) -> 0 | N20: 0 | O20: 0 | P20: 0 | Q20: =SUM(M20:P20) -> 0 | R20: 0 | S20: 0 | T20: 0 | U20: 0 | V20: 0 | W20: 0 | X20: 0 | Y20: 0 | Z20: 0 | AA20: 0 | AB20: 0
A21: Ba05 | B21: その他の感染症及び寄生虫症 | D21: 総数 | E21: =SUM(Q21:AB21) -> 0 | F21: =SUM(F22:F23) -> 0 | G21: =SUM(G22:G23) -> 0 | H21: =SUM(H22:H23) -> 0 | I21: =SUM(I22:I23) -> 0 | J21: =SUM(J22:J23) -> 0 | K21: =SUM(K22:K23) -> 0 | L21: =SUM(L22:L23) -> 0 | M21: =SUM(M22:M23) -> 0 | ... AB21: =SUM(AB22:AB23) -> 0
D22: 男 | E22: =SUM(Q22:AB22) -> 0 | F22: 0 | G22: 0 | H22: 0 | I22: 0 | J22: 0 | K22: 0 | L22: 0 | M22: =SUM(F22:L22) -> 0 | N22: 0 | O22: 0 | P22: 0 | Q22: =SUM(M22:P22) -> 0 | R22: 0 | S22: 0 | T22: 0 | U22: 0 | V22: 0 | W22: 0 | X22: 0 | Y22: 0 | Z22: 0 | AA22: 0 | AB22: 0
D23: 女 | E23: =SUM(Q23:AB23) -> 0 | F23: 0 | G23: 0 | H23: 0 | I23: 0 | J23: 0 | K23: 0 | L23: 0 | M23: =SUM(F23:L23) -> 0 | N23: 0 | O23: 0 | P23: 0 | Q23: =SUM(M23:P23) -> 0 | R23: 0 | S23: 0 | T23: 0 | U23: 0 | V23: 0 | W23: 0 | X23: 0 | Y23: 0 | Z23: 0 | AA23: 0 | AB23: 0
A24: Ba06 | B24: 悪性新生物 | D24: 総数 | E24: =SUM(Q24:AB24) -> 0 | F24: =SUM(F27,F30) -> 0 | G24: =SUM(G27,G30) -> 0 | H24: =SUM(H27,H30) -> 0 | I24: =SUM(I27,I30) -> 0 | J24: =SUM(J27,J30) -> 0 | K24: =SUM(K27,K30) -> 0 | L24: =SUM(L27,L30) -> 0 | M24: =SUM(M27,M30) -> 0 | ... AB24: =SUM(AB27,AB30) -> 0
D25: 男 | E25: =SUM(Q25:AB25) -> 0 | F25: =SUM(F28,F31) -> 0 | G25: =SUM(G28,G31) -> 0 | H25: =SUM(H28,H31) -> 0 | I25: =SUM(I28,I31) -> 0 | J25: =SUM(J28,J31) -> 0 | K25: =SUM(K28,K31) -> 0 | L25: =SUM(L28,L31) -> 0 | M25: =SUM(M28,M31) -> 0 | ... AB25: =SUM(AB28,AB31) -> 0
D26: 女 | E26: =SUM(Q26:AB26) -> 0 | F26: =SUM(F29,F32) -> 0 | G26: =SUM(G29,G32) -> 0 | H26: =SUM(H29,H32) -> 0 | I26: =SUM(I29,I32) -> 0 | J26: =SUM(J29,J32) -> 0 | K26: =SUM(K29,K32) -> 0 | L26: =SUM(L29,L32) -> 0 | M26: =SUM(M29,M32) -> 0 | ... AB26: =SUM(AB29,AB32) -> 0
A27: Ba07 | C27: 白 血 病 | D27: 総数 | E27: =SUM(Q27:AB27) -> 0 | F27: =SUM(F28:F29) -> 0 | G27: =SUM(G28:G29) -> 0 | H27: =SUM(H28:H29) -> 0 | I27: =SUM(I28:I29) -> 0 | J27: =SUM(J28:J29) -> 0 | K27: =SUM(K28:K29) -> 0 | L27: =SUM(L28:L29) -> 0 | M27: =SUM(M28:M29) -> 0 | ... AB27: =SUM(AB28:AB29) -> 0
D28: 男 | E28: =SUM(Q28:AB28) -> 0 | F28: 0 | G28: 0 | H28: 0 | I28: 0 | J28: 0 | K28: 0 | L28: 0 | M28: =SUM(F28:L28) -> 0 | N28: 0 | O28: 0 | P28: 0 | Q28: =SUM(M28:P28) -> 0 | R28: 0 | S28: 0 | T28: 0 | U28: 0 | V28: 0 | W28: 0 | X28: 0 | Y28: 0 | Z28: 0 | AA28: 0 | AB28: 0
D29: 女 | E29: =SUM(Q29:AB29) -> 0 | F29: 0 | G29: 0 | H29: 0 | I29: 0 | J29: 0 | K29: 0 | L29: 0 | M29: =SUM(F29:L29) -> 0 | N29: 0 | O29: 0 | P29: 0 | Q29: =SUM(M29:P29) -> 0 | R29: 0 | S29: 0 | T29: 0 | U29: 0 | V29: 0 | W29: 0 | X29: 0 | Y29: 0 | Z29: 0 | AA29: 0 | AB29: 0
A30: Ba08 | C30: その他の悪性新生物 | D30: 総数 | E30: =SUM(Q30:AB30) -> 0 | F30: =SUM(F31:F32) -> 0 | G30: =SUM(G31:G32) -> 0 | H30: =SUM(H31:H32) -> 0 | I30: =SUM(I31:I32) -> 0 | J30: =SUM(J31:J32) -> 0 | K30: =SUM(K31:K32) -> 0 | L30: =SUM(L31:L32) -> 0 | M30: =SUM(M31:M32) -> 0 | ... AB30: =SUM(AB31:AB32) -> 0
D31: 男 | E31: =SUM(Q31:AB31) -> 0 | F31: 0 | G31: 0 | H31: 0 | I31: 0 | J31: 0 | K31: 0 | L31: 0 | M31: =SUM(F31:L31) -> 0 | N31: 0 | O31: 0 | P31: 0 | Q31: =SUM(M31:P31) -> 0 | R31: 0 | S31: 0 | T31: 0 | U31: 0 | V31: 0 | W31: 0 | X31: 0 | Y31: 0 | Z31: 0 | AA31: 0 | AB31: 0
D32: 女 | E32: =SUM(Q32:AB32) -> 0 | F32: 0 | G32: 0 | H32: 0 | I32: 0 | J32: 0 | K32: 0 | L32: 0 | M32: =SUM(F32:L32) -> 0 | N32: 0 | O32: 0 | P32: 0 | Q32: =SUM(M32:P32) -> 0 | R32: 0 | S32: 0 | T32: 0 | U32: 0 | V32: 0 | W32: 0 | X32: 0 | Y32: 0 | Z32: 0 | AA32: 0 | AB32: 0
A33: Ba09 | B33: その他の新生物 | D33: 総数 | E33: =SUM(Q33:AB33) -> 0 | F33: =SUM(F34:F35) -> 0 | G33: =SUM(G34:G35) -> 0 | H33: =SUM(H34:H35) -> 0 | I33: =SUM(I34:I35) -> 0 | J33: =SUM(J34:J35) -> 0 | K33: =SUM(K34:K35) -> 0 | L33: =SUM(L34:L35) -> 0 | M33: =SUM(M34:M35) -> 0 | ... AB33: =SUM(AB34:AB35) -> 0
D34: 男 | E34: =SUM(Q34:AB34) -> 0 | F34: 0 | G34: 0 | H34: 0 | I34: 0 | J34: 0 | K34: 0 | L34: 0 | M34: =SUM(F34:L34) -> 0 | N34: 0 | O34: 0 | P34: 0 | Q34: =SUM(M34:P34) -> 0 | R34: 0 | S34: 0 | T34: 0 | U34: 0 | V34: 0 | W34: 0 | X34: 0 | Y34: 0 | Z34: 0 | AA34: 0 | AB34: 0
D35: 女 | E35: =SUM(Q35:AB35) -> 0 | F35: 0 | G35: 0 | H35: 0 | I35: 0 | J35: 0 | K35: 0 | L35: 0 | M35: =SUM(F35:L35) -> 0 | N35: 0 | O35: 0 | P35: 0 | Q35: =SUM(M35:P35) -> 0 | R35: 0 | S35: 0 | T35: 0 | U35: 0 | V35: 0 | W35: 0 | X35: 0 | Y35: 0 | Z35: 0 | AA35: 0 | AB35: 0
A36: Ba10 | B36: 栄養失調症及びその他の栄養欠乏症 | D36: 総数 | E36: =SUM(Q36:AB36) -> 0 | F36: =SUM(F37:F38) -> 0 | G36: =SUM(G37:G38) -> 0 | H36: =SUM(H37:H38) -> 0 | I36: =SUM(I37:I38) -> 0 | J36: =SUM(J37:J38) -> 0 | K36: =SUM(K37:K38) -> 0 | L36: =SUM(L37:L38) -> 0 | M36: =SUM(M37:M38) -> 0 | ... AB36: =SUM(AB37:AB38) -> 0
D37: 男 | E37: =SUM(Q37:AB37) -> 0 | F37: 0 | G37: 0 | H37: 0 | I37: 0 | J37: 0 | K37: 0 | L37: 0 | M37: =SUM(F37:L37) -> 0 | N37: 0 | O37: 0 | P37: 0 | Q37: =SUM(M37:P37) -> 0 | R37: 0 | S37: 0 | T37: 0 | U37: 0 | V37: 0 | W37: 0 | X37: 0 | Y37: 0 | Z37: 0 | AA37: 0 | AB37: 0
D38: 女 | E38: =SUM(Q38:AB38) -> 0 | F38: 0 | G38: 0 | H38: 0 | I38: 0 | J38: 0 | K38: 0 | L38: 0 | M38: =SUM(F38:L38) -> 0 | N38: 0 | O38: 0 | P38: 0 | Q38: =SUM(M38:P38) -> 0 | R38: 0 | S38: 0 | T38: 0 | U38: 0 | V38: 0 | W38: 0 | X38: 0 | Y38: 0 | Z38: 0 | AA38: 0 | AB38: 0
A39: Ba11 | B39: 代 謝 障 害 | D39: 総数 | E39: =SUM(Q39:AB39) -> 0 | F39: =SUM(F40:F41) -> 0 | G39: =SUM(G40:G41) -> 0 | H39: =SUM(H40:H41) -> 0 | I39: =SUM(I40:I41) -> 0 | J39: =SUM(J40:J41) -> 0 | K39: =SUM(K40:K41) -> 0 | L39: =SUM(L40:L41) -> 0 | M39: =SUM(M40:M41) -> 0 | ... AB39: =SUM(AB40:AB41) -> 0
D40: 男 | E40: =SUM(Q40:AB40) -> 0 | F40: 0 | G40: 0 | H40: 0 | I40: 0 | J40: 0 | K40: 0 | L40: 0 | M40: =SUM(F40:L40) -> 0 | N40: 0 | O40: 0 | P40: 0 | Q40: =SUM(M40:P40) -> 0 | R40: 0 | S40: 0 | T40: 0 | U40: 0 | V40: 0 | W40: 0 | X40: 0 | Y40: 0 | Z40: 0 | AA40: 0 | AB40: 0
D41: 女 | E41: =SUM(Q41:AB41) -> 0 | F41: 0 | G41: 0 | H41: 0 | I41: 0 | J41: 0 | K41: 0 | L41: 0 | M41: =SUM(F41:L41) -> 0 | N41: 0 | O41: 0 | P41: 0 | Q41: =SUM(M41:P41) -> 0 | R41: 0 | S41: 0 | T41: 0 | U41: 0 | V41: 0 | W41: 0 | X41: 0 | Y41: 0 | Z41: 0 | AA41: 0 | AB41: 0
A42: Ba12 | B42: 髄 膜 炎 | D42: 総数 | E42: =SUM(Q42:AB42) -> 0 | F42: =SUM(F43:F44) -> 0 | G42: =SUM(G43:G44) -> 0 | H42: =SUM(H43:H44) -> 0 | I42: =SUM(I43:I44) -> 0 | J42: =SUM(J43:J44) -> 0 | K42: =SUM(K43:K44) -> 0 | L42: =SUM(L43:L44) -> 0 | M42: =SUM(M43:M44) -> 0 | ... AB42: =SUM(AB43:AB44) -> 0
D43: 男 | E43: =SUM(Q43:AB43) -> 0 | F43: 0 | G43: 0 | H43: 0 | I43: 0 | J43: 0 | K43: 0 | L43: 0 | M43: =SUM(F43:L43) -> 0 | N43: 0 | O43: 0 | P43: 0 | Q43: =SUM(M43:P43) -> 0 | R43: 0 | S43: 0 | T43: 0 | U43: 0 | V43: 0 | W43: 0 | X43: 0 | Y43: 0 | Z43: 0 | AA43: 0 | AB43: 0
D44: 女 | E44: =SUM(Q44:AB44) -> 0 | F44: 0 | G44: 0 | H44: 0 | I44: 0 | J44: 0 | K44: 0 | L44: 0 | M44: =SUM(F44:L44) -> 0 | N44: 0 | O44: 0 | P44: 0 | Q44: =SUM(M44:P44) -> 0 | R44: 0 | S44: 0 | T44: 0 | U44: 0 | V44: 0 | W44: 0 | X44: 0 | Y44: 0 | Z44: 0 | AA44: 0 | AB44: 0
A45: Ba13 | B45: 脊髄性筋萎縮症及び関連症候群 | D45: 総数 | E45: =SUM(Q45:AB45) -> 0 | F45: =SUM(F46:F47) -> 0 | G45: =SUM(G46:G47) -> 0 | H45: =SUM(H46:H47) -> 0 | I45: =SUM(I46:I47) -> 0 | J45: =SUM(J46:J47) -> 0 | K45: =SUM(K46:K47) -> 0 | L45: =SUM(L46:L47) -> 0 | M45: =SUM(M46:M47) -> 0 | ... AB45: =SUM(AB46:AB47) -> 0
D46: 男 | E46: =SUM(Q46:AB46) -> 0 | F46: 0 | G46: 0 | H46: 0 | I46: 0 | J46: 0 | K46: 0 | L46: 0 | M46: =SUM(F46:L46) -> 0 | N46: 0 | O46: 0 | P46: 0 | Q46: =SUM(M46:P46) -> 0 | R46: 0 | S46: 0 | T46: 0 | U46: 0 | V46: 0 | W46: 0 | X46: 0 | Y46: 0 | Z46: 0 | AA46: 0 | AB46: 0
D47: 女 | E47: =SUM(Q47:AB47) -> 0 | F47: 0 | G47: 0 | H47: 0 | I47: 0 | J47: 0 | K47: 0 | L47: 0 | M47: =SUM(F47:L47) -> 0 | N47: 0 | O47: 0 | P47: 0 | Q47: =SUM(M47:P47) -> 0 | R47: 0 | S47: 0 | T47: 0 | U47: 0 | V47: 0 | W47: 0 | X47: 0 | Y47: 0 | Z47: 0 | AA47: 0 | AB47: 0
A48: Ba14 | B48: 脳 性 麻 痺 | D48: 総数 | E48: =SUM(Q48:AB48) -> 0 | F48: =SUM(F49:F50) -> 0 | G48: =SUM(G49:G50) -> 0 | H48: =SUM(H49:H50) -> 0 | I48: =SUM(I49:I50) -> 0 | J48: =SUM(J49:J50) -> 0 | K48: =SUM(K49:K50) -> 0 | L48: =SUM(L49:L50) -> 0 | M48: =SUM(M49:M50) -> 0 | ... AB48: =SUM(AB49:AB50) -> 0
D49: 男 | E49: =SUM(Q49:AB49) -> 0 | F49: 0 | G49: 0 | H49: 0 | I49: 0 | J49: 0 | K49: 0 | L49: 0 | M49: =SUM(F49:L49) -> 0 | N49: 0 | O49: 0 | P49: 0 | Q49: =SUM(M49:P49) -> 0 | R49: 0 | S49: 0 | T49: 0 | U49: 0 | V49: 0 | W49: 0 | X49: 0 | Y49: 0 | Z49: 0 | AA49: 0 | AB49: 0
D50: 女 | E50: =SUM(Q50:AB50) -> 0 | F50: 0 | G50: 0 | H50: 0 | I50: 0 | J50: 0 | K50: 0 | L50: 0 | M50: =SUM(F50:L50) -> 0 | N50: 0 | O50: 0 | P50: 0 | Q50: =SUM(M50:P50) -> 0 | R50: 0 | S50: 0 | T50: 0 | U50: 0 | V50: 0 | W50: 0 | X50: 0 | Y50: 0 | Z50: 0 | AA50: 0 | AB50: 0
A51: Ba15 | B51: 心疾患（高血圧性を除く） | D51: 総数 | E51: =SUM(Q51:AB51) -> 2 | F51: =SUM(F52:F53) -> 0 | G51: =SUM(G52:G53) -> 0 | H51: =SUM(H52:H53) -> 0 | I51: =SUM(I52:I53) -> 0 | J51: =SUM(J52:J53) -> 0 | K51: =SUM(K52:K53) -> 0 | L51: =SUM(L52:L53) -> 0 | M51: =SUM(M52:M53) -> 0 | ... AB51: =SUM(AB52:AB53) -> 0
D52: 男 | E52: =SUM(Q52:AB52) -> 0 | F52: 0 | G52: 0 | H52: 0 | I52: 0 | J52: 0 | K52: 0 | L52: 0 | M52: =SUM(F52:L52) -> 0 | N52: 0 | O52: 0 | P52: 0 | Q52: =SUM(M52:P52) -> 0 | R52: 0 | S52: 0 | T52: 0 | U52: 0 | V52: 0 | W52: 0 | X52: 0 | Y52: 0 | Z52: 0 | AA52: 0 | AB52: 0
D53: 女 | E53: =SUM(Q53:AB53) -> 2 | F53: 0 | G53: 0 | H53: 0 | I53: 0 | J53: 0 | K53: 0 | L53: 0 | M53: =SUM(F53:L53) -> 0 | N53: 0 | O53: 0 | P53: 0 | Q53: =SUM(M53:P53) -> 0 | R53: 1 | S53: 0 | T53: 0 | U53: 0 | V53: 0 | W53: 0 | X53: 0 | Y53: 1 | Z53: 0 | AA53: 0 | AB53: 0
A54: Ba16 | B54: 脳血管疾患 | D54: 総数 | E54: =SUM(Q54:AB54) -> 0 | F54: =SUM(F55:F56) -> 0 | G54: =SUM(G55:G56) -> 0 | H54: =SUM(H55:H56) -> 0 | I54: =SUM(I55:I56) -> 0 | J54: =SUM(J55:J56) -> 0 | K54: =SUM(K55:K56) -> 0 | L54: =SUM(L55:L56) -> 0 | M54: =SUM(M55:M56) -> 0 | ... AB54: =SUM(AB55:AB56) -> 0
D55: 男 | E55: =SUM(Q55:AB55) -> 0 | F55: 0 | G55: 0 | H55: 0 | I55: 0 | J55: 0 | K55: 0 | L55: 0 | M55: =SUM(F55:L55) -> 0 | N55: 0 | O55: 0 | P55: 0 | Q55: =SUM(M55:P55) -> 0 | R55: 0 | S55: 0 | T55: 0 | U55: 0 | V55: 0 | W55: 0 | X55: 0 | Y55: 0 | Z55: 0 | AA55: 0 | AB55: 0
D56: 女 | E56: =SUM(Q56:AB56) -> 0 | F56: 0 | G56: 0 | H56: 0 | I56: 0 | J56: 0 | K56: 0 | L56: 0 | M56: =SUM(F56:L56) -> 0 | N56: 0 | O56: 0 | P56: 0 | Q56: =SUM(M56:P56) -> 0 | R56: 0 | S56: 0 | T56: 0 | U56: 0 | V56: 0 | W56: 0 | X56: 0 | Y56: 0 | Z56: 0 | AA56: 0 | AB56: 0
A57: Ba17 | B57: インフルエンザ | D57: 総数 | E57: =SUM(Q57:AB57) -> 0 | F57: =SUM(F58:F59) -> 0 | G57: =SUM(G58:G59) -> 0 | H57: =SUM(H58:H59) -> 0 | I57: =SUM(I58:I59) -> 0 | J57: =SUM(J58:J59) -> 0 | K57: =SUM(K58:K59) -> 0 | L57: =SUM(L58:L59) -> 0 | M57: =SUM(M58:M59) -> 0 | ... AB57: =SUM(AB58:AB59) -> 0
D58: 男 | E58: =SUM(Q58:AB58) -> 0 | F58: 0 | G58: 0 | H58: 0 | I58: 0 | J58: 0 | K58: 0 | L58: 0 | M58: =SUM(F58:L58) -> 0 | N58: 0 | O58: 0 | P58: 0 | Q58: =SUM(M58:P58) -> 0 | R58: 0 | S58: 0 | T58: 0 | U58: 0 | V58: 0 | W58: 0 | X58: 0 | Y58: 0 | Z58: 0 | AA58: 0 | AB58: 0
D59: 女 | E59: =SUM(Q59:AB59) -> 0 | F59: 0 | G59: 0 | H59: 0 | I59: 0 | J59: 0 | K59: 0 | L59: 0 | M59: =SUM(F59:L59) -> 0 | N59: 0 | O59: 0 | P59: 0 | Q59: =SUM(M59:P59) -> 0 | R59: 0 | S59: 0 | T59: 0 | U59: 0 | V59: 0 | W59: 0 | X59: 0 | Y59: 0 | Z59: 0 | AA59: 0 | AB59: 0
A60: Ba18 | B60: 肺 炎 | D60: 総数 | E60: =SUM(Q60:AB60) -> 1 | F60: =SUM(F61:F62) -> 0 | G60: =SUM(G61:G62) -> 0 | H60: =SUM(H61:H62) -> 0 | I60: =SUM(I61:I62) -> 0 | J60: =SUM(J61:J62) -> 0 | K60: =SUM(K61:K62) -> 0 | L60: =SUM(L61:L62) -> 0 | M60: =SUM(M61:M62) -> 0 | ... AB60: =SUM(AB61:AB62) -> 0
D61: 男 | E61: =SUM(Q61:AB61) -> 0 | F61: 0 | G61: 0 | H61: 0 | I61: 0 | J61: 0 | K61: 0 | L61: 0 | M61: =SUM(F61:L61) -> 0 | N61: 0 | O61: 0 | P61: 0 | Q61: =SUM(M61:P61) -> 0 | R61: 0 | S61: 0 | T61: 0 | U61: 0 | V61: 0 | W61: 0 | X61: 0 | Y61: 0 | Z61: 0 | AA61: 0 | AB61: 0
D62: 女 | E62: =SUM(Q62:AB62) -> 1 | F62: 0 | G62: 0 | H62: 0 | I62: 0 | J62: 0 | K62: 0 | L62: 0 | M62: =SUM(F62:L62) -> 0 | N62: 1 | O62: 0 | P62: 0 | Q62: =SUM(M62:P62) -> 1 | R62: 0 | S62: 0 | T62: 0 | U62: 0 | V62: 0 | W62: 0 | X62: 0 | Y62: 0 | Z62: 0 | AA62: 0 | AB62: 0
A63: Ba19 | B63: 喘 息 | D63: 総数 | E63: =SUM(Q63:AB63) -> 0 | F63: =SUM(F64:F65) -> 0 | G63: =SUM(G64:G65) -> 0 | H63: =SUM(H64:H65) -> 0 | I63: =SUM(I64:I65) -> 0 | J63: =SUM(J64:J65) -> 0 | K63: =SUM(K64:K65) -> 0 | L63: =SUM(L64:L65) -> 0 | M63: =SUM(M64:M65) -> 0 | ... AB63: =SUM(AB64:AB65) -> 0
D64: 男 | E64: =SUM(Q64:AB64) -> 0 | F64: 0 | G64: 0 | H64: 0 | I64: 0 | J64: 0 | K64: 0 | L64: 0 | M64: =SUM(F64:L64) -> 0 | N64: 0 | O64: 0 | P64: 0 | Q64: =SUM(M64:P64) -> 0 | R64: 0 | S64: 0 | T64: 0 | U64: 0 | V64: 0 | W64: 0 | X64: 0 | Y64: 0 | Z64: 0 | AA64: 0 | AB64: 0
D65: 女 | E65: =SUM(Q65:AB65) -> 0 | F65: 0 | G65: 0 | H65: 0 | I65: 0 | J65: 0 | K65: 0 | L65: 0 | M65: =SUM(F65:L65) -> 0 | N65: 0 | O65: 0 | P65: 0 | Q65: =SUM(M65:P65) -> 0 | R65: 0 | S65: 0 | T65: 0 | U65: 0 | V65: 0 | W65: 0 | X65: 0 | Y65: 0 | Z65: 0 | AA65: 0 | AB65: 0
A66: Ba20 | B66: ヘルニア及び腸閉塞 | D66: 総数 | E66: =SUM(Q66:AB66) -> 0 | F66: =SUM(F67:F68) -> 0 | G66: =SUM(G67:G68) -> 0 | H66: =SUM(H67:H68) -> 0 | I66: =SUM(I67:I68) -> 0 | J66: =SUM(J67:J68) -> 0 | K66: =SUM(K67:K68) -> 0 | L66: =SUM(L67:L68) -> 0 | M66: =SUM(M67:M68) -> 0 | ... AB66: =SUM(AB67:AB68) -> 0
D67: 男 | E67: =SUM(Q67:AB67) -> 0 | F67: 0 | G67: 0 | H67: 0 | I67: 0 | J67: 0 | K67: 0 | L67: 0 | M67: =SUM(F67:L67) -> 0 | N67: 0 | O67: 0 | P67: 0 | Q67: =SUM(M67:P67) -> 0 | R67: 0 | S67: 0 | T67: 0 | U67: 0 | V67: 0 | W67: 0 | X67: 0 | Y67: 0 | Z67: 0 | AA67: 0 | AB67: 0
D68: 女 | E68: =SUM(Q68:AB68) -> 0 | F68: 0 | G68: 0 | H68: 0 | I68: 0 | J68: 0 | K68: 0 | L68: 0 | M68: =SUM(F68:L68) -> 0 | N68: 0 | O68: 0 | P68: 0 | Q68: =SUM(M68:P68) -> 0 | R68: 0 | S68: 0 | T68: 0 | U68: 0 | V68: 0 | W68: 0 | X68: 0 | Y68: 0 | Z68: 0 | AA68: 0 | AB68: 0
A69: Ba21 | B69: 肝 疾 患 | D69: 総数 | E69: =SUM(Q69:AB69) -> 1 | F69: =SUM(F70:F71) -> 0 | G69: =SUM(G70:G71) -> 0 | H69: =SUM(H70:H71) -> 0 | I69: =SUM(I70:I71) -> 0 | J69: =SUM(J70:J71) -> 0 | K69: =SUM(K70:K71) -> 0 | L69: =SUM(L70:L71) -> 0 | M69: =SUM(M70:M71) -> 0 | ... AB69: =SUM(AB70:AB71) -> 0
D70: 男 | E70: =SUM(Q70:AB70) -> 0 | F70: 0 | G70: 0 | H70: 0 | I70: 0 | J70: 0 | K70: 0 | L70: 0 | M70: =SUM(F70:L70) -> 0 | N70: 0 | O70: 0 | P70: 0 | Q70: =SUM(M70:P70) -> 0 | R70: 0 | S70: 0 | T70: 0 | U70: 0 | V70: 0 | W70: 0 | X70: 0 | Y70: 0 | Z70: 0 | AA70: 0 | AB70: 0
D71: 女 | E71: =SUM(Q71:AB71) -> 1 | F71: 0 | G71: 0 | H71: 0 | I71: 0 | J71: 0 | K71: 0 | L71: 0 | M71: =SUM(F71:L71) -> 0 | N71: 0 | O71: 0 | P71: 0 | Q71: =SUM(M71:P71) -> 0 | R71: 0 | S71: 0 | T71: 0 | U71: 1 | V71: 0 | W71: 0 | X71: 0 | Y71: 0 | Z71: 0 | AA71: 0 | AB71: 0
A72: Ba22 | B72: 腎 不 全 | D72: 総数 | E72: =SUM(Q72:AB72) -> 0 | F72: =SUM(F73:F74) -> 0 | G72: =SUM(G73:G74) -> 0 | H72: =SUM(H73:H74) -> 0 | I72: =SUM(I73:I74) -> 0 | J72: =SUM(J73:J74) -> 0 | K72: =SUM(K73:K74) -> 0 | L72: =SUM(L73:L74) -> 0 | M72: =SUM(M73:M74) -> 0 | ... AB72: =SUM(AB73:AB74) -> 0
D73: 男 | E73: =SUM(Q73:AB73) -> 0 | F73: 0 | G73: 0 | H73: 0 | I73: 0 | J73: 0 | K73: 0 | L73: 0 | M73: =SUM(F73:L73) -> 0 | N73: 0 | O73: 0 | P73: 0 | Q73: =SUM(M73:P73) -> 0 | R73: 0 | S73: 0 | T73: 0 | U73: 0 | V73: 0 | W73: 0 | X73: 0 | Y73: 0 | Z73: 0 | AA73: 0 | AB73: 0
D74: 女 | E74: =SUM(Q74:AB74) -> 0 | F74: 0 | G74: 0 | H74: 0 | I74: 0 | J74: 0 | K74: 0 | L74: 0 | M74: =SUM(F74:L74) -> 0 | N74: 0 | O74: 0 | P74: 0 | Q74: =SUM(M74:P74) -> 0 | R74: 0 | S74: 0 | T74: 0 | U74: 0 | V74: 0 | W74: 0 | X74: 0 | Y74: 0 | Z74: 0 | AA74: 0 | AB74: 0
A75: Ba23 | B75: 周産期に発生した病態 | D75: 総数 | E75: =SUM(Q75:AB75) -> 12 | F75: =SUM(F78,F81,F84,F87,F90,F93,F96,F99,F102,F105,F108) -> 7 | G75: =SUM(G78,G81,G84,G87,G90,G93,G96,G99,G102,G105,G108) -> 1 | H75: =SUM(H78,H81,H84,H87,H90,H93,H96,H99,H102,H105,H108) -> 0 | I75: =SUM(I78,I81,I84,I87,I90,I93,I96,I99,I102,I105,I108) -> 2 | J75: =SUM(J78,J81,J84,J87,J90,J93,J96,J99,J102,J105,J108) -> 0 | K75: =SUM(K78,K81,K84,K87,K90,K93,K96,K99,K102,K105,K108) -> 0 | L75: =SUM(L78,L81,L84,L87,L90,L93,L96,L99,L102,L105,L108) -> 0 | M75: =SUM(M78,M81,M84,M87,M90,M93,M96,M99,M102,M105,M108) -> 10 | ... AB75: =SUM(AB78,AB81,AB84,AB87,AB90,AB93,AB96,AB99,AB102,AB105,AB108) -> 0
D76: 男 | E76: =SUM(Q76:AB76) -> 8 | F76: =SUM(F79,F82,F85,F88,F91,F94,F97,F100,F103,F106,F109) -> 4 | G76: =SUM(G79,G82,G85,G88,G91,G94,G97,G100,G103,G106,G109) -> 1 | H76: =SUM(H79,H82,H85,H88,H91,H94,H97,H100,H103,H106,H109) -> 0 | I76: =SUM(I79,I82,I85,I88,I91,I94,I97,I100,I103,I106,I109) -> 1 | J76: =SUM(J79,J82,J85,J88,J91,J94,J97,J100,J103,J106,J109) -> 0 | K76: =SUM(K79,K82,K85,K88,K91,K94,K97,K100,K103,K106,K109) -> 0 | L76: =SUM(L79,L82,L85,L88,L91,L94,L97,L100,L103,L106,L109) -> 0 | M76: =SUM(M79,M82,M85,M88,M91,M94,M97,M100,M103,M106,M109) -> 6 | ... AB76: =SUM(AB79,AB82,AB85,AB88,AB91,AB94,AB97,AB100,AB103,AB106,AB109) -> 0
D77: 女 | E77: =SUM(Q77:AB77) -> 4 | F77: =SUM(F80,F83,F86,F89,F92,F95,F98,F101,F104,F107,F110) -> 3 | G77: =SUM(G80,G83,G86,G89,G92,G95,G98,G101,G104,G107,G110) -> 0 | H77: =SUM(H80,H83,H86,H89,H92,H95,H98,H101,H104,H107,H110) -> 0 | I77: =SUM(I80,I83,I86,I89,I92,I95,I98,I101,I104,I107,I110) -> 1 | J77: =SUM(J80,J83,J86,J89,J92,J95,J98,J101,J104,J107,J110) -> 0 | K77: =SUM(K80,K83,K86,K89,K92,K95,K98,K101,K104,K107,K110) -> 0 | L77: =SUM(L80,L83,L86,L89,L92,L95,L98,L101,L104,L107,L110) -> 0 | M77: =SUM(M80,M83,M86,M89,M92,M95,M98,M101,M104,M107,M110) -> 4 | ... AB77: =SUM(AB80,AB83,AB86,AB89,AB92,AB95,AB98,AB101,AB104,AB107,AB110) -> 0
A78: Ba24 | C78: 妊娠期間及び胎児発育に関連する障害 | D78: 総数 | E78: =SUM(Q78:AB78) -> 0 | F78: =SUM(F79:F80) -> 0 | G78: =SUM(G79:G80) -> 0 | H78: =SUM(H79:H80) -> 0 | I78: =SUM(I79:I80) -> 0 | J78: =SUM(J79:J80) -> 0 | K78: =SUM(K79:K80) -> 0 | L78: =SUM(L79:L80) -> 0 | M78: =SUM(M79:M80) -> 0 | ... AB78: =SUM(AB79:AB80) -> 0
D79: 男 | E79: =SUM(Q79:AB79) -> 0 | F79: 0 | G79: 0 | H79: 0 | I79: 0 | J79: 0 | K79: 0 | L79: 0 | M79: =SUM(F79:L79) -> 0 | N79: 0 | O79: 0 | P79: 0 | Q79: =SUM(M79:P79) -> 0 | R79: 0 | S79: 0 | T79: 0 | U79: 0 | V79: 0 | W79: 0 | X79: 0 | Y79: 0 | Z79: 0 | AA79: 0 | AB79: 0
D80: 女 | E80: =SUM(Q80:AB80) -> 0 | F80: 0 | G80: 0 | H80: 0 | I80: 0 | J80: 0 | K80: 0 | L80: 0 | M80: =SUM(F80:L80) -> 0 | N80: 0 | O80: 0 | P80: 0 | Q80: =SUM(M80:P80) -> 0 | R80: 0 | S80: 0 | T80: 0 | U80: 0 | V80: 0 | W80: 0 | X80: 0 | Y80: 0 | Z80: 0 | AA80: 0 | AB80: 0
A81: Ba25 | C81: 出 産 外 傷 | D81: 総数 | E81: =SUM(Q81:AB81) -> 0 | F81: =SUM(F82:F83) -> 0 | G81: =SUM(G82:G83) -> 0 | H81: =SUM(H82:H83) -> 0 | I81: =SUM(I82:I83) -> 0 | J81: =SUM(J82:J83) -> 0 | K81: =SUM(K82:K83) -> 0 | L81: =SUM(L82:L83) -> 0 | M81: =SUM(M82:M83) -> 0 | ... AB81: =SUM(AB82:AB83) -> 0
D82: 男 | E82: =SUM(Q82:AB82) -> 0 | F82: 0 | G82: 0 | H82: 0 | I82: 0 | J82: 0 | K82: 0 | L82: 0 | M82: =SUM(F82:L82) -> 0 | N82: 0 | O82: 0 | P82: 0 | Q82: =SUM(M82:P82) -> 0 | R82: 0 | S82: 0 | T82: 0 | U82: 0 | V82: 0 | W82: 0 | X82: 0 | Y82: 0 | Z82: 0 | AA82: 0 | AB82: 0
D83: 女 | E83: =SUM(Q83:AB83) -> 0 | F83: 0 | G83: 0 | H83: 0 | I83: 0 | J83: 0 | K83: 0 | L83: 0 | M83: =SUM(F83:L83) -> 0 | N83: 0 | O83: 0 | P83: 0 | Q83: =SUM(M83:P83) -> 0 | R83: 0 | S83: 0 | T83: 0 | U83: 0 | V83: 0 | W83: 0 | X83: 0 | Y83: 0 | Z83: 0 | AA83: 0 | AB83: 0
A84: Ba26 | C84: 出生時仮死 | D84: 総数 | E84: =SUM(Q84:AB84) -> 2 | F84: =SUM(F85:F86) -> 1 | G84: =SUM(G85:G86) -> 1 | H84: =SUM(H85:H86) -> 0 | I84: =SUM(I85:I86) -> 0 | J84: =SUM(J85:J86) -> 0 | K84: =SUM(K85:K86) -> 0 | L84: =SUM(L85:L86) -> 0 | M84: =SUM(M85:M86) -> 2 | ... AB84: =SUM(AB85:AB86) -> 0
D85: 男 | E85: =SUM(Q85:AB85) -> 1 | F85: 0 | G85: 1 | H85: 0 | I85: 0 | J85: 0 | K85: 0 | L85: 0 | M85: =SUM(F85:L85) -> 1 | N85: 0 | O85: 0 | P85: 0 | Q85: =SUM(M85:P85) -> 1 | R85: 0 | S85: 0 | T85: 0 | U85: 0 | V85: 0 | W85: 0 | X85: 0 | Y85: 0 | Z85: 0 | AA85: 0 | AB85: 0
D86: 女 | E86: =SUM(Q86:AB86) -> 1 | F86: 1 | G86: 0 | H86: 0 | I86: 0 | J86: 0 | K86: 0 | L86: 0 | M86: =SUM(F86:L86) -> 1 | N86: 0 | O86: 0 | P86: 0 | Q86: =SUM(M86:P86) -> 1 | R86: 0 | S86: 0 | T86: 0 | U86: 0 | V86: 0 | W86: 0 | X86: 0 | Y86: 0 | Z86: 0 | AA86: 0 | AB86: 0
A87: Ba27 | C87: 新生児の呼吸窮迫 | D87: 総数 | E87: =SUM(Q87:AB87) -> 3 | F87: =SUM(F88:F89) -> 3 | G87: =SUM(G88:G89) -> 0 | H87: =SUM(H88:H89) -> 0 | I87: =SUM(I88:I89) -> 0 | J87: =SUM(J88:J89) -> 0 | K87: =SUM(K88:K89) -> 0 | L87: =SUM(L88:L89) -> 0 | M87: =SUM(M88:M89) -> 3 | ... AB87: =SUM(AB88:AB89) -> 0
D88: 男 | E88: =SUM(Q88:AB88) -> 3 | F88: 3 | G88: 0 | H88: 0 | I88: 0 | J88: 0 | K88: 0 | L88: 0 | M88: =SUM(F88:L88) -> 3 | N88: 0 | O88: 0 | P88: 0 | Q88: =SUM(M88:P88) -> 3 | R88: 0 | S88: 0 | T88: 0 | U88: 0 | V88: 0 | W88: 0 | X88: 0 | Y88: 0 | Z88: 0 | AA88: 0 | AB88: 0
D89: 女 | E89: =SUM(Q89:AB89) -> 0 | F89: 0 | G89: 0 | H89: 0 | I89: 0 | J89: 0 | K89: 0 | L89: 0 | M89: =SUM(F89:L89) -> 0 | N89: 0 | O89: 0 | P89: 0 | Q89: =SUM(M89:P89) -> 0 | R89: 0 | S89: 0 | T89: 0 | U89: 0 | V89: 0 | W89: 0 | X89: 0 | Y89: 0 | Z89: 0 | AA89: 0 | AB89: 0
A90: Ba28 | C90: 周産期に発生した肺出血 | D90: 総数 | E90: =SUM(Q90:AB90) -> 0 | F90: =SUM(F91:F92) -> 0 | G90: =SUM(G91:G92) -> 0 | H90: =SUM(H91:H92) -> 0 | I90: =SUM(I91:I92) -> 0 | J90: =SUM(J91:J92) -> 0 | K90: =SUM(K91:K92) -> 0 | L90: =SUM(L91:L92) -> 0 | M90: =SUM(M91:M92) -> 0 | ... AB90: =SUM(AB91:AB92) -> 0
D91: 男 | E91: =SUM(Q91:AB91) -> 0 | F91: 0 | G91: 0 | H91: 0 | I91: 0 | J91: 0 | K91: 0 | L91: 0 | M91: =SUM(F91:L91) -> 0 | N91: 0 | O91: 0 | P91: 0 | Q91: =SUM(M91:P91) -> 0 | R91: 0 | S91: 0 | T91: 0 | U91: 0 | V91: 0 | W91: 0 | X91: 0 | Y91: 0 | Z91: 0 | AA91: 0 | AB91: 0
D92: 女 | E92: =SUM(Q92:AB92) -> 0 | F92: 0 | G92: 0 | H92: 0 | I92: 0 | J92: 0 | K92: 0 | L92: 0 | M92: =SUM(F92:L92) -> 0 | N92: 0 | O92: 0 | P92: 0 | Q92: =SUM(M92:P92) -> 0 | R92: 0 | S92: 0 | T92: 0 | U92: 0 | V92: 0 | W92: 0 | X92: 0 | Y92: 0 | Z92: 0 | AA92: 0 | AB92: 0
A93: Ba29 | C93: 周産期に発生した心血管障害 | D93: 総数 | E93: =SUM(Q93:AB93) -> 1 | F93: =SUM(F94:F95) -> 0 | G93: =SUM(G94:G95) -> 0 | H93: =SUM(H94:H95) -> 0 | I93: =SUM(I94:I95) -> 0 | J93: =SUM(J94:J95) -> 0 | K93: =SUM(K94:K95) -> 0 | L93: =SUM(L94:L95) -> 0 | M93: =SUM(M94:M95) -> 0 | ... AB93: =SUM(AB94:AB95) -> 0
D94: 男 | E94: =SUM(Q94:AB94) -> 1 | F94: 0 | G94: 0 | H94: 0 | I94: 0 | J94: 0 | K94: 0 | L94: 0 | M94: =SUM(F94:L94) -> 0 | N94: 0 | O94: 1 | P94: 0 | Q94: =SUM(M94:P94) -> 1 | R94: 0 | S94: 0 | T94: 0 | U94: 0 | V94: 0 | W94: 0 | X94: 0 | Y94: 0 | Z94: 0 | AA94: 0 | AB94: 0
D95: 女 | E95: =SUM(Q95:AB95) -> 0 | F95: 0 | G95: 0 | H95: 0 | I95: 0 | J95: 0 | K95: 0 | L95: 0 | M95: =SUM(F95:L95) -> 0 | N95: 0 | O95: 0 | P95: 0 | Q95: =SUM(M95:P95) -> 0 | R95: 0 | S95: 0 | T95: 0 | U95: 0 | V95: 0 | W95: 0 | X95: 0 | Y95: 0 | Z95: 0 | AA95: 0 | AB95: 0
A96: Ba30 | C96: その他の周産期に特異的な呼吸障害及び心血管障害 | D96: 総数 | E96: =SUM(Q96:AB96) -> 2 | F96: =SUM(F97:F98) -> 2 | G96: =SUM(G97:G98) -> 0 | H96: =SUM(H97:H98) -> 0 | I96: =SUM(I97:I98) -> 0 | J96: =SUM(J97:J98) -> 0 | K96: =SUM(K97:K98) -> 0 | L96: =SUM(L97:L98) -> 0 | M96: =SUM(M97:M98) -> 2 | ... AB96: =SUM(AB97:AB98) -> 0
D97: 男 | E97: =SUM(Q97:AB97) -> 1 | F97: 1 | G97: 0 | H97: 0 | I97: 0 | J97: 0 | K97: 0 | L97: 0 | M97: =SUM(F97:L97) -> 1 | N97: 0 | O97: 0 | P97: 0 | Q97: =SUM(M97:P97) -> 1 | R97: 0 | S97: 0 | T97: 0 | U97: 0 | V97: 0 | W97: 0 | X97: 0 | Y97: 0 | Z97: 0 | AA97: 0 | AB97: 0
D98: 女 | E98: =SUM(Q98:AB98) -> 1 | F98: 1 | G98: 0 | H98: 0 | I98: 0 | J98: 0 | K98: 0 | L98: 0 | M98: =SUM(F98:L98) -> 1 | N98: 0 | O98: 0 | P98: 0 | Q98: =SUM(M98:P98) -> 1 | R98: 0 | S98: 0 | T98: 0 | U98: 0 | V98: 0 | W98: 0 | X98: 0 | Y98: 0 | Z98: 0 | AA98: 0 | AB98: 0
A99: Ba31 | C99: 新生児の細菌性敗血症 | D99: 総数 | E99: =SUM(Q99:AB99) -> 1 | F99: =SUM(F100:F101) -> 1 | G99: =SUM(G100:G101) -> 0 | H99: =SUM(H100:H101) -> 0 | I99: =SUM(I100:I101) -> 0 | J99: =SUM(J100:J101) -> 0 | K99: =SUM(K100:K101) -> 0 | L99: =SUM(L100:L101) -> 0 | M99: =SUM(M100:M101) -> 1 | ... AB99: =SUM(AB100:AB101) -> 0
D100: 男 | E100: =SUM(Q100:AB100) -> 0 | F100: 0 | G100: 0 | H100: 0 | I100: 0 | J100: 0 | K100: 0 | L100: 0 | M100: =SUM(F100:L100) -> 0 | N100: 0 | O100: 0 | P100: 0 | Q100: =SUM(M100:P100) -> 0 | R100: 0 | S100: 0 | T100: 0 | U100: 0 | V100: 0 | W100: 0 | X100: 0 | Y100: 0 | Z100: 0 | AA100: 0 | AB100: 0
D101: 女 | E101: =SUM(Q101:AB101) -> 1 | F101: 1 | G101: 0 | H101: 0 | I101: 0 | J101: 0 | K101: 0 | L101: 0 | M101: =SUM(F101:L101) -> 1 | N101: 0 | O101: 0 | P101: 0 | Q101: =SUM(M101:P101) -> 1 | R101: 0 | S101: 0 | T101: 0 | U101: 0 | V101: 0 | W101: 0 | X101: 0 | Y101: 0 | Z101: 0 | AA101: 0 | AB101: 0
...

Sheet 10　体重別，病死乳児死亡数
A1: 10 出生時の体重別にみた乳児死因簡単分類別病死による乳児死亡数及び率(出生10万対）
AC2: ='3 乳児死亡数，月・性・区別'!$O$2 -> 平成30年
A3: 乳児死因 簡単分類 コ ー ド | B3: 死 因 | D3: 病死による乳児死亡数 | Q3: 病 死 に よ る 乳 児 死 亡 率 (出生10万対)
D4: 総数 | E4: 0.5㎏未満 | F4: 0.5㎏以上 1.0㎏未満 | G4: 1.0～1.5㎏ | H4: 1.5～2.0㎏ | I4: 2.0～2.5㎏ | J4: 2.5～3.0㎏ | K4: 3.0～3.5㎏ | L4: 3.5～4.0㎏ | M4: 4.0～4.5㎏ | N4: 4.5～5.0㎏ | O4: 5.0㎏ 以上 | P4: 不詳 | Q4: 総数 | R4: 0.5㎏未満 | S4: 0.5㎏以上 1.0㎏未満 | T4: 1.0～1.5㎏ | U4: 1.5～2.0㎏ | V4: 2.0～2.5㎏ | W4: 2.5～3.0㎏ | X4: 3.0～3.5㎏ | Y4: 3.5～4.0㎏ | Z4: 4.0～4.5㎏ | AA4: 4.5～5.0㎏ | AB4: 5.0㎏ 以上 | AC4: 不詳
B5: 総 数 | D5: =SUM(D6:D11,D14:D28,D40,D49:D50) -> 33 | E5: =SUM(E6:E11,E14:E28,E40,E49:E50) -> 4 | F5: =SUM(F6:F11,F14:F28,F40,F49:F50) -> 7 | G5: =SUM(G6:G11,G14:G28,G40,G49:G50) -> 4 | H5: =SUM(H6:H11,H14:H28,H40,H49:H50) -> 3 | I5: =SUM(I6:I11,I14:I28,I40,I49:I50) -> 4 | J5: =SUM(J6:J11,J14:J28,J40,J49:J50) -> 6 | K5: =SUM(K6:K11,K14:K28,K40,K49:K50) -> 5 | ... P5: =SUM(P6:P11,P14:P28,P40,P49:P50) -> 0 | Q5: =D5/[1]出生数!$G$4*100000 -> 249.0942 | R5: =E5/[1]出生数!$G$4*100000 -> 30.193237 | S5: =F5/[1]出生数!$G$4*100000 -> 52.838164 | T5: =G5/[1]出生数!$G$4*100000 -> 30.193237 | U5: =H5/[1]出生数!$G$4*100000 -> 22.644928 | V5: =I5/[1]出生数!$G$4*100000 -> 30.193237 | W5: =J5/[1]出生数!$G$4*100000 -> 45.289855 | X5: =K5/[1]出生数!$G$4*100000 -> 37.741546 | ... AC5: =P5/[1]出生数!$G$4*100000 -> 0
A6: Ba01 | B6: 腸管感染症 | D6: =SUM(E6:P6) -> 0 | E6: 0 | F6: 0 | G6: 0 | H6: 0 | I6: 0 | J6: 0 | K6: 0 | L6: 0 | M6: 0 | N6: 0 | O6: 0 | P6: 0 | Q6: =D6/[1]出生数!$G$4*100000 -> 0 | R6: =E6/[1]出生数!$G$4*100000 -> 0 | S6: =F6/[1]出生数!$G$4*100000 -> 0 | T6: =G6/[1]出生数!$G$4*100000 -> 0 | U6: =H6/[1]出生数!$G$4*100000 -> 0 | V6: =I6/[1]出生数!$G$4*100000 -> 0 | W6: =J6/[1]出生数!$G$4*100000 -> 0 | X6: =K6/[1]出生数!$G$4*100000 -> 0 | ... AC6: =P6/[1]出生数!$G$4*100000 -> 0
A7: Ba02 | B7: 敗血症（新生児の細菌性敗血症を除く） | D7: =SUM(E7:P7) -> 1 | E7: 0 | F7: 0 | G7: 0 | H7: 0 | I7: 1 | J7: 0 | K7: 0 | L7: 0 | M7: 0 | N7: 0 | O7: 0 | P7: 0 | Q7: =D7/[1]出生数!$G$4*100000 -> 7.5483092 | R7: =E7/[1]出生数!$G$4*100000 -> 0 | S7: =F7/[1]出生数!$G$4*100000 -> 0 | T7: =G7/[1]出生数!$G$4*100000 -> 0 | U7: =H7/[1]出生数!$G$4*100000 -> 0 | V7: =I7/[1]出生数!$G$4*100000 -> 7.5483092 | W7: =J7/[1]出生数!$G$4*100000 -> 0 | X7: =K7/[1]出生数!$G$4*100000 -> 0 | ... AC7: =P7/[1]出生数!$G$4*100000 -> 0
A8: Ba03 | B8: 麻 疹 | D8: =SUM(E8:P8) -> 0 | E8: 0 | F8: 0 | G8: 0 | H8: 0 | I8: 0 | J8: 0 | K8: 0 | L8: 0 | M8: 0 | N8: 0 | O8: 0 | P8: 0 | Q8: =D8/[1]出生数!$G$4*100000 -> 0 | R8: =E8/[1]出生数!$G$4*100000 -> 0 | S8: =F8/[1]出生数!$G$4*100000 -> 0 | T8: =G8/[1]出生数!$G$4*100000 -> 0 | U8: =H8/[1]出生数!$G$4*100000 -> 0 | V8: =I8/[1]出生数!$G$4*100000 -> 0 | W8: =J8/[1]出生数!$G$4*100000 -> 0 | X8: =K8/[1]出生数!$G$4*100000 -> 0 | ... AC8: =P8/[1]出生数!$G$4*100000 -> 0
A9: Ba04 | B9: ウイルス肝炎 | D9: =SUM(E9:P9) -> 0 | E9: 0 | F9: 0 | G9: 0 | H9: 0 | I9: 0 | J9: 0 | K9: 0 | L9: 0 | M9: 0 | N9: 0 | O9: 0 | P9: 0 | Q9: =D9/[1]出生数!$G$4*100000 -> 0 | R9: =E9/[1]出生数!$G$4*100000 -> 0 | S9: =F9/[1]出生数!$G$4*100000 -> 0 | T9: =G9/[1]出生数!$G$4*100000 -> 0 | U9: =H9/[1]出生数!$G$4*100000 -> 0 | V9: =I9/[1]出生数!$G$4*100000 -> 0 | W9: =J9/[1]出生数!$G$4*100000 -> 0 | X9: =K9/[1]出生数!$G$4*100000 -> 0 | ... AC9: =P9/[1]出生数!$G$4*100000 -> 0
A10: Ba05 | B10: その他の感染症及び寄生虫症 | D10: =SUM(E10:P10) -> 0 | E10: 0 | F10: 0 | G10: 0 | H10: 0 | I10: 0 | J10: 0 | K10: 0 | L10: 0 | M10: 0 | N10: 0 | O10: 0 | P10: 0 | Q10: =D10/[1]出生数!$G$4*100000 -> 0 | R10: =E10/[1]出生数!$G$4*100000 -> 0 | S10: =F10/[1]出生数!$G$4*100000 -> 0 | T10: =G10/[1]出生数!$G$4*100000 -> 0 | U10: =H10/[1]出生数!$G$4*100000 -> 0 | V10: =I10/[1]出生数!$G$4*100000 -> 0 | W10: =J10/[1]出生数!$G$4*100000 -> 0 | X10: =K10/[1]出生数!$G$4*100000 -> 0 | ... AC10: =P10/[1]出生数!$G$4*100000 -> 0
A11: Ba06 | B11: 悪性新生物 | D11: =SUM(E11:P11) -> 0 | E11: =SUM(E12:E13) -> 0 | F11: =SUM(F12:F13) -> 0 | G11: =SUM(G12:G13) -> 0 | H11: =SUM(H12:H13) -> 0 | I11: =SUM(I12:I13) -> 0 | J11: =SUM(J12:J13) -> 0 | K11: =SUM(K12:K13) -> 0 | L11: =SUM(L12:L13) -> 0 | ... P11: =SUM(P12:P13) -> 0 | Q11: =D11/[1]出生数!$G$4*100000 -> 0 | R11: =E11/[1]出生数!$G$4*100000 -> 0 | S11: =F11/[1]出生数!$G$4*100000 -> 0 | T11: =G11/[1]出生数!$G$4*100000 -> 0 | U11: =H11/[1]出生数!$G$4*100000 -> 0 | V11: =I11/[1]出生数!$G$4*100000 -> 0 | W11: =J11/[1]出生数!$G$4*100000 -> 0 | X11: =K11/[1]出生数!$G$4*100000 -> 0 | ... AC11: =P11/[1]出生数!$G$4*100000 -> 0
A12: Ba07 | C12: 白 血 病 | D12: =SUM(E12:P12) -> 0 | E12: 0 | F12: 0 | G12: 0 | H12: 0 | I12: 0 | J12: 0 | K12: 0 | L12: 0 | M12: 0 | N12: 0 | O12: 0 | P12: 0 | Q12: =D12/[1]出生数!$G$4*100000 -> 0 | R12: =E12/[1]出生数!$G$4*100000 -> 0 | S12: =F12/[1]出生数!$G$4*100000 -> 0 | T12: =G12/[1]出生数!$G$4*100000 -> 0 | U12: =H12/[1]出生数!$G$4*100000 -> 0 | V12: =I12/[1]出生数!$G$4*100000 -> 0 | W12: =J12/[1]出生数!$G$4*100000 -> 0 | X12: =K12/[1]出生数!$G$4*100000 -> 0 | ... AC12: =P12/[1]出生数!$G$4*100000 -> 0
A13: Ba08 | C13: その他の悪性新生物 | D13: =SUM(E13:P13) -> 0 | E13: 0 | F13: 0 | G13: 0 | H13: 0 | I13: 0 | J13: 0 | K13: 0 | L13: 0 | M13: 0 | N13: 0 | O13: 0 | P13: 0 | Q13: =D13/[1]出生数!$G$4*100000 -> 0 | R13: =E13/[1]出生数!$G$4*100000 -> 0 | S13: =F13/[1]出生数!$G$4*100000 -> 0 | T13: =G13/[1]出生数!$G$4*100000 -> 0 | U13: =H13/[1]出生数!$G$4*100000 -> 0 | V13: =I13/[1]出生数!$G$4*100000 -> 0 | W13: =J13/[1]出生数!$G$4*100000 -> 0 | X13: =K13/[1]出生数!$G$4*100000 -> 0 | ... AC13: =P13/[1]出生数!$G$4*100000 -> 0
A14: Ba09 | B14: その他の新生物 | D14: =SUM(E14:P14) -> 0 | E14: 0 | F14: 0 | G14: 0 | H14: 0 | I14: 0 | J14: 0 | K14: 0 | L14: 0 | M14: 0 | N14: 0 | O14: 0 | P14: 0 | Q14: =D14/[1]出生数!$G$4*100000 -> 0 | R14: =E14/[1]出生数!$G$4*100000 -> 0 | S14: =F14/[1]出生数!$G$4*100000 -> 0 | T14: =G14/[1]出生数!$G$4*100000 -> 0 | U14: =H14/[1]出生数!$G$4*100000 -> 0 | V14: =I14/[1]出生数!$G$4*100000 -> 0 | W14: =J14/[1]出生数!$G$4*100000 -> 0 | X14: =K14/[1]出生数!$G$4*100000 -> 0 | ... AC14: =P14/[1]出生数!$G$4*100000 -> 0
A15: Ba10 | B15: 栄養失調症及びその他の栄養欠乏症 | D15: =SUM(E15:P15) -> 0 | E15: 0 | F15: 0 | G15: 0 | H15: 0 | I15: 0 | J15: 0 | K15: 0 | L15: 0 | M15: 0 | N15: 0 | O15: 0 | P15: 0 | Q15: =D15/[1]出生数!$G$4*100000 -> 0 | R15: =E15/[1]出生数!$G$4*100000 -> 0 | S15: =F15/[1]出生数!$G$4*100000 -> 0 | T15: =G15/[1]出生数!$G$4*100000 -> 0 | U15: =H15/[1]出生数!$G$4*100000 -> 0 | V15: =I15/[1]出生数!$G$4*100000 -> 0 | W15: =J15/[1]出生数!$G$4*100000 -> 0 | X15: =K15/[1]出生数!$G$4*100000 -> 0 | ... AC15: =P15/[1]出生数!$G$4*100000 -> 0
A16: Ba11 | B16: 代 謝 障 害 | D16: =SUM(E16:P16) -> 0 | E16: 0 | F16: 0 | G16: 0 | H16: 0 | I16: 0 | J16: 0 | K16: 0 | L16: 0 | M16: 0 | N16: 0 | O16: 0 | P16: 0 | Q16: =D16/[1]出生数!$G$4*100000 -> 0 | R16: =E16/[1]出生数!$G$4*100000 -> 0 | S16: =F16/[1]出生数!$G$4*100000 -> 0 | T16: =G16/[1]出生数!$G$4*100000 -> 0 | U16: =H16/[1]出生数!$G$4*100000 -> 0 | V16: =I16/[1]出生数!$G$4*100000 -> 0 | W16: =J16/[1]出生数!$G$4*100000 -> 0 | X16: =K16/[1]出生数!$G$4*100000 -> 0 | ... AC16: =P16/[1]出生数!$G$4*100000 -> 0
A17: Ba12 | B17: 髄 膜 炎 | D17: =SUM(E17:P17) -> 0 | E17: 0 | F17: 0 | G17: 0 | H17: 0 | I17: 0 | J17: 0 | K17: 0 | L17: 0 | M17: 0 | N17: 0 | O17: 0 | P17: 0 | Q17: =D17/[1]出生数!$G$4*100000 -> 0 | R17: =E17/[1]出生数!$G$4*100000 -> 0 | S17: =F17/[1]出生数!$G$4*100000 -> 0 | T17: =G17/[1]出生数!$G$4*100000 -> 0 | U17: =H17/[1]出生数!$G$4*100000 -> 0 | V17: =I17/[1]出生数!$G$4*100000 -> 0 | W17: =J17/[1]出生数!$G$4*100000 -> 0 | X17: =K17/[1]出生数!$G$4*100000 -> 0 | ... AC17: =P17/[1]出生数!$G$4*100000 -> 0
A18: Ba13 | B18: 脊髄性筋萎縮症及び関連症候群 | D18: =SUM(E18:P18) -> 0 | E18: 0 | F18: 0 | G18: 0 | H18: 0 | I18: 0 | J18: 0 | K18: 0 | L18: 0 | M18: 0 | N18: 0 | O18: 0 | P18: 0 | Q18: =D18/[1]出生数!$G$4*100000 -> 0 | R18: =E18/[1]出生数!$G$4*100000 -> 0 | S18: =F18/[1]出生数!$G$4*100000 -> 0 | T18: =G18/[1]出生数!$G$4*100000 -> 0 | U18: =H18/[1]出生数!$G$4*100000 -> 0 | V18: =I18/[1]出生数!$G$4*100000 -> 0 | W18: =J18/[1]出生数!$G$4*100000 -> 0 | X18: =K18/[1]出生数!$G$4*100000 -> 0 | ... AC18: =P18/[1]出生数!$G$4*100000 -> 0
A19: Ba14 | B19: 脳 性 麻 痺 | D19: =SUM(E19:P19) -> 0 | E19: 0 | F19: 0 | G19: 0 | H19: 0 | I19: 0 | J19: 0 | K19: 0 | L19: 0 | M19: 0 | N19: 0 | O19: 0 | P19: 0 | Q19: =D19/[1]出生数!$G$4*100000 -> 0 | R19: =E19/[1]出生数!$G$4*100000 -> 0 | S19: =F19/[1]出生数!$G$4*100000 -> 0 | T19: =G19/[1]出生数!$G$4*100000 -> 0 | U19: =H19/[1]出生数!$G$4*100000 -> 0 | V19: =I19/[1]出生数!$G$4*100000 -> 0 | W19: =J19/[1]出生数!$G$4*100000 -> 0 | X19: =K19/[1]出生数!$G$4*100000 -> 0 | ... AC19: =P19/[1]出生数!$G$4*100000 -> 0
A20: Ba15 | B20: 心疾患（高血圧性を除く） | D20: =SUM(E20:P20) -> 2 | E20: 1 | F20: 0 | G20: 0 | H20: 0 | I20: 0 | J20: 1 | K20: 0 | L20: 0 | M20: 0 | N20: 0 | O20: 0 | P20: 0 | Q20: =D20/[1]出生数!$G$4*100000 -> 15.096618 | R20: =E20/[1]出生数!$G$4*100000 -> 7.5483092 | S20: =F20/[1]出生数!$G$4*100000 -> 0 | T20: =G20/[1]出生数!$G$4*100000 -> 0 | U20: =H20/[1]出生数!$G$4*100000 -> 0 | V20: =I20/[1]出生数!$G$4*100000 -> 0 | W20: =J20/[1]出生数!$G$4*100000 -> 7.5483092 | X20: =K20/[1]出生数!$G$4*100000 -> 0 | ... AC20: =P20/[1]出生数!$G$4*100000 -> 0
A21: Ba16 | B21: 脳血管疾患 | D21: =SUM(E21:P21) -> 0 | E21: 0 | F21: 0 | G21: 0 | H21: 0 | I21: 0 | J21: 0 | K21: 0 | L21: 0 | M21: 0 | N21: 0 | O21: 0 | P21: 0 | Q21: =D21/[1]出生数!$G$4*100000 -> 0 | R21: =E21/[1]出生数!$G$4*100000 -> 0 | S21: =F21/[1]出生数!$G$4*100000 -> 0 | T21: =G21/[1]出生数!$G$4*100000 -> 0 | U21: =H21/[1]出生数!$G$4*100000 -> 0 | V21: =I21/[1]出生数!$G$4*100000 -> 0 | W21: =J21/[1]出生数!$G$4*100000 -> 0 | X21: =K21/[1]出生数!$G$4*100000 -> 0 | ... AC21: =P21/[1]出生数!$G$4*100000 -> 0
A22: Ba17 | B22: インフルエンザ | D22: =SUM(E22:P22) -> 0 | E22: 0 | F22: 0 | G22: 0 | H22: 0 | I22: 0 | J22: 0 | K22: 0 | L22: 0 | M22: 0 | N22: 0 | O22: 0 | P22: 0 | Q22: =D22/[1]出生数!$G$4*100000 -> 0 | R22: =E22/[1]出生数!$G$4*100000 -> 0 | S22: =F22/[1]出生数!$G$4*100000 -> 0 | T22: =G22/[1]出生数!$G$4*100000 -> 0 | U22: =H22/[1]出生数!$G$4*100000 -> 0 | V22: =I22/[1]出生数!$G$4*100000 -> 0 | W22: =J22/[1]出生数!$G$4*100000 -> 0 | X22: =K22/[1]出生数!$G$4*100000 -> 0 | ... AC22: =P22/[1]出生数!$G$4*100000 -> 0
A23: Ba18 | B23: 肺 炎 | D23: =SUM(E23:P23) -> 1 | E23: 0 | F23: 1 | G23: 0 | H23: 0 | I23: 0 | J23: 0 | K23: 0 | L23: 0 | M23: 0 | N23: 0 | O23: 0 | P23: 0 | Q23: =D23/[1]出生数!$G$4*100000 -> 7.5483092 | R23: =E23/[1]出生数!$G$4*100000 -> 0 | S23: =F23/[1]出生数!$G$4*100000 -> 7.5483092 | T23: =G23/[1]出生数!$G$4*100000 -> 0 | U23: =H23/[1]出生数!$G$4*100000 -> 0 | V23: =I23/[1]出生数!$G$4*100000 -> 0 | W23: =J23/[1]出生数!$G$4*100000 -> 0 | X23: =K23/[1]出生数!$G$4*100000 -> 0 | ... AC23: =P23/[1]出生数!$G$4*100000 -> 0
A24: Ba19 | B24: 喘 息 | D24: =SUM(E24:P24) -> 0 | E24: 0 | F24: 0 | G24: 0 | H24: 0 | I24: 0 | J24: 0 | K24: 0 | L24: 0 | M24: 0 | N24: 0 | O24: 0 | P24: 0 | Q24: =D24/[1]出生数!$G$4*100000 -> 0 | R24: =E24/[1]出生数!$G$4*100000 -> 0 | S24: =F24/[1]出生数!$G$4*100000 -> 0 | T24: =G24/[1]出生数!$G$4*100000 -> 0 | U24: =H24/[1]出生数!$G$4*100000 -> 0 | V24: =I24/[1]出生数!$G$4*100000 -> 0 | W24: =J24/[1]出生数!$G$4*100000 -> 0 | X24: =K24/[1]出生数!$G$4*100000 -> 0 | ... AC24: =P24/[1]出生数!$G$4*100000 -> 0
A25: Ba20 | B25: ヘルニア及び腸閉塞 | D25: =SUM(E25:P25) -> 0 | E25: 0 | F25: 0 | G25: 0 | H25: 0 | I25: 0 | J25: 0 | K25: 0 | L25: 0 | M25: 0 | N25: 0 | O25: 0 | P25: 0 | Q25: =D25/[1]出生数!$G$4*100000 -> 0 | R25: =E25/[1]出生数!$G$4*100000 -> 0 | S25: =F25/[1]出生数!$G$4*100000 -> 0 | T25: =G25/[1]出生数!$G$4*100000 -> 0 | U25: =H25/[1]出生数!$G$4*100000 -> 0 | V25: =I25/[1]出生数!$G$4*100000 -> 0 | W25: =J25/[1]出生数!$G$4*100000 -> 0 | X25: =K25/[1]出生数!$G$4*100000 -> 0 | ... AC25: =P25/[1]出生数!$G$4*100000 -> 0
... A27: Ba22 | B27: 腎 不 全 | D27: =SUM(E27:P27) -> 0 | E27: 0 | F27: 0 | G27: 0 | H27: 0 | I27: 0 | J27: 0 | K27: 0 | L27: 0 | M27: 0 | N27: 0 | O27: 0 | P27: 0 | Q27: =D27/[1]出生数!$G$4*100000 -> 0 | R27: =E27/[1]出生数!$G$4*100000 -> 0 | S27: =F27/[1]出生数!$G$4*100000 -> 0 | T27: =G27/[1]出生数!$G$4*100000 -> 0 | U27: =H27/[1]出生数!$G$4*100000 -> 0 | V27: =I27/[1]出生数!$G$4*100000 -> 0 | W27: =J27/[1]出生数!$G$4*100000 -> 0 | X27: =K27/[1]出生数!$G$4*100000 -> 0 | ... AC27: =P27/[1]出生数!$G$4*100000 -> 0
A28: Ba23 | B28: 周産期に発生した病態 | D28: =SUM(E28:P28) -> 12 | E28: =SUM(E29:E39) -> 3 | F28: =SUM(F29:F39) -> 5 | G28: =SUM(G29:G39) -> 1 | H28: =SUM(H29:H39) -> 0 | I28: =SUM(I29:I39) -> 1 | J28: =SUM(J29:J39) -> 0 | K28: =SUM(K29:K39) -> 2 | L28: =SUM(L29:L39) -> 0 | ... P28: =SUM(P29:P39) -> 0 | Q28: =D28/[1]出生数!$G$4*100000 -> 90.57971 | R28: =E28/[1]出生数!$G$4*100000 -> 22.644928 | S28: =F28/[1]出生数!$G$4*100000 -> 37.741546 | T28: =G28/[1]出生数!$G$4*100000 -> 7.5483092 | U28: =H28/[1]出生数!$G$4*100000 -> 0 | V28: =I28/[1]出生数!$G$4*100000 -> 7.5483092 | W28: =J28/[1]出生数!$G$4*100000 -> 0 | X28: =K28/[1]出生数!$G$4*100000 -> 15.096618 | ... AC28: =P28/[1]出生数!$G$4*100000 -> 0
A29: Ba24 | C29: 妊娠期間及び胎児発育に関連する障害 | D29: =SUM(E29:P29) -> 0 | E29: 0 | F29: 0 | G29: 0 | H29: 0 | I29: 0 | J29: 0 | K29: 0 | L29: 0 | M29: 0 | N29: 0 | O29: 0 | P29: 0 | Q29: =D29/[1]出生数!$G$4*100000 -> 0 | R29: =E29/[1]出生数!$G$4*100000 -> 0 | S29: =F29/[1]出生数!$G$4*100000 -> 0 | T29: =G29/[1]出生数!$G$4*100000 -> 0 | U29: =H29/[1]出生数!$G$4*100000 -> 0 | V29: =I29/[1]出生数!$G$4*100000 -> 0 | W29: =J29/[1]出生数!$G$4*100000 -> 0 | X29: =K29/[1]出生数!$G$4*100000 -> 0 | ... AC29: =P29/[1]出生数!$G$4*100000 -> 0
A30: Ba25 | C30: 出 産 外 傷 | D30: =SUM(E30:P30) -> 0 | E30: 0 | F30: 0 | G30: 0 | H30: 0 | I30: 0 | J30: 0 | K30: 0 | L30: 0 | M30: 0 | N30: 0 | O30: 0 | P30: 0 | Q30: =D30/[1]出生数!$G$4*100000 -> 0 | R30: =E30/[1]出生数!$G$4*100000 -> 0 | S30: =F30/[1]出生数!$G$4*100000 -> 0 | T30: =G30/[1]出生数!$G$4*100000 -> 0 | U30: =H30/[1]出生数!$G$4*100000 -> 0 | V30: =I30/[1]出生数!$G$4*100000 -> 0 | W30: =J30/[1]出生数!$G$4*100000 -> 0 | X30: =K30/[1]出生数!$G$4*100000 -> 0 | ... AC30: =P30/[1]出生数!$G$4*100000 -> 0
A31: Ba26 | C31: 出生時仮死 | D31: =SUM(E31:P31) -> 2 | E31: 0 | F31: 0 | G31: 0 | H31: 0 | I31: 1 | J31: 0 | K31: 1 | L31: 0 | M31: 0 | N31: 0 | O31: 0 | P31: 0 | Q31: =D31/[1]出生数!$G$4*100000 -> 15.096618 | R31: =E31/[1]出生数!$G$4*100000 -> 0 | S31: =F31/[1]出生数!$G$4*100000 -> 0 | T31: =G31/[1]出生数!$G$4*100000 -> 0 | U31: =H31/[1]出生数!$G$4*100000 -> 0 | V31: =I31/[1]出生数!$G$4*100000 -> 7.5483092 | W31: =J31/[1]出生数!$G$4*100000 -> 0 | X31: =K31/[1]出生数!$G$4*100000 -> 7.5483092 | ... AC31: =P31/[1]出生数!$G$4*100000 -> 0
A32: Ba27 | C32: 新生児の呼吸窮<促>迫 | D32: =SUM(E32:P32) -> 3 | E32: 1 | F32: 2 | G32: 0 | H32: 0 | I32: 0 | J32: 0 | K32: 0 | L32: 0 | M32: 0 | N32: 0 | O32: 0 | P32: 0 | Q32: =D32/[1]出生数!$G$4*100000 -> 22.644928 | R32: =E32/[1]出生数!$G$4*100000 -> 7.5483092 | S32: =F32/[1]出生数!$G$4*100000 -> 15.096618 | T32: =G32/[1]出生数!$G$4*100000 -> 0 | U32: =H32/[1]出生数!$G$4*100000 -> 0 | V32: =I32/[1]出生数!$G$4*100000 -> 0 | W32: =J32/[1]出生数!$G$4*100000 -> 0 | X32: =K32/[1]出生数!$G$4*100000 -> 0 | ... AC32: =P32/[1]出生数!$G$4*100000 -> 0
A33: Ba28 | C33: 周産期に発生した肺出血 | D33: =SUM(E33:P33) -> 0 | E33: 0 | F33: 0 | G33: 0 | H33: 0 | I33: 0 | J33: 0 | K33: 0 | L33: 0 | M33: 0 | N33: 0 | O33: 0 | P33: 0 | Q33: =D33/[1]出生数!$G$4*100000 -> 0 | R33: =E33/[1]出生数!$G$4*100000 -> 0 | S33: =F33/[1]出生数!$G$4*100000 -> 0 | T33: =G33/[1]出生数!$G$4*100000 -> 0 | U33: =H33/[1]出生数!$G$4*100000 -> 0 | V33: =I33/[1]出生数!$G$4*100000 -> 0 | W33: =J33/[1]出生数!$G$4*100000 -> 0 | X33: =K33/[1]出生数!$G$4*100000 -> 0 | ... AC33: =P33/[1]出生数!$G$4*100000 -> 0
A34: Ba29 | C34: 周産期に発生した心血管障害 | D34: =SUM(E34:P34) -> 1 | E34: 0 | F34: 1 | G34: 0 | H34: 0 | I34: 0 | J34: 0 | K34: 0 | L34: 0 | M34: 0 | N34: 0 | O34: 0 | P34: 0 | Q34: =D34/[1]出生数!$G$4*100000 -> 7.5483092 | R34: =E34/[1]出生数!$G$4*100000 -> 0 | S34: =F34/[1]出生数!$G$4*100000 -> 7.5483092 | T34: =G34/[1]出生数!$G$4*100000 -> 0 | U34: =H34/[1]出生数!$G$4*100000 -> 0 | V34: =I34/[1]出生数!$G$4*100000 -> 0 | W34: =J34/[1]出生数!$G$4*100000 -> 0 | X34: =K34/[1]出生数!$G$4*100000 -> 0 | ... AC34: =P34/[1]出生数!$G$4*100000 -> 0
A35: Ba30 | C35: その他の周産期に特異的な呼吸障害及び心血管障害 | D35: =SUM(E35:P35) -> 2 | E35: 1 | F35: 1 | G35: 0 | H35: 0 | I35: 0 | J35: 0 | K35: 0 | L35: 0 | M35: 0 | N35: 0 | O35: 0 | P35: 0 | Q35: =D35/[1]出生数!$G$4*100000 -> 15.096618 | R35: =E35/[1]出生数!$G$4*100000 -> 7.5483092 | S35: =F35/[1]出生数!$G$4*100000 -> 7.5483092 | T35: =G35/[1]出生数!$G$4*100000 -> 0 | U35: =H35/[1]出生数!$G$4*100000 -> 0 | V35: =I35/[1]出生数!$G$4*100000 -> 0 | W35: =J35/[1]出生数!$G$4*100000 -> 0 | X35: =K35/[1]出生数!$G$4*100000 -> 0 | ... AC35: =P35/[1]出生数!$G$4*100000 -> 0
A36: Ba31 | C36: 新生児の細菌性敗血症 | D36: =SUM(E36:P36) -> 1 | E36: 0 | F36: 1 | G36: 0 | H36: 0 | I36: 0 | J36: 0 | K36: 0 | L36: 0 | M36: 0 | N36: 0 | O36: 0 | P36: 0 | Q36: =D36/[1]出生数!$G$4*100000 -> 7.5483092 | R36: =E36/[1]出生数!$G$4*100000 -> 0 | S36: =F36/[1]出生数!$G$4*100000 -> 7.5483092 | T36: =G36/[1]出生数!$G$4*100000 -> 0 | U36: =H36/[1]出生数!$G$4*100000 -> 0 | V36: =I36/[1]出生数!$G$4*100000 -> 0 | W36: =J36/[1]出生数!$G$4*100000 -> 0 | X36: =K36/[1]出生数!$G$4*100000 -> 0 | ... AC36: =P36/[1]出生数!$G$4*100000 -> 0
A37: Ba32 | C37: その他の周産期に特異的な感染症 | D37: =SUM(E37:P37) -> 0 | E37: 0 | F37: 0 | G37: 0 | H37: 0 | I37: 0 | J37: 0 | K37: 0 | L37: 0 | M37: 0 | N37: 0 | O37: 0 | P37: 0 | Q37: =D37/[1]出生数!$G$4*100000 -> 0 | R37: =E37/[1]出生数!$G$4*100000 -> 0 | S37: =F37/[1]出生数!$G$4*100000 -> 0 | T37: =G37/[1]出生数!$G$4*100000 -> 0 | U37: =H37/[1]出生数!$G$4*100000 -> 0 | V37: =I37/[1]出生数!$G$4*100000 -> 0 | W37: =J37/[1]出生数!$G$4*100000 -> 0 | X37: =K37/[1]出生数!$G$4*100000 -> 0 | ... AC37: =P37/[1]出生数!$G$4*100000 -> 0
A38: Ba33 | C38: 胎児及び新生児の出血性障害及び血液障害 | D38: =SUM(E38:P38) -> 1 | E38: 0 | F38: 0 | G38: 1 | H38: 0 | I38: 0 | J38: 0 | K38: 0 | L38: 0 | M38: 0 | N38: 0 | O38: 0 | P38: 0 | Q38: =D38/[1]出生数!$G$4*100000 -> 7.5483092 | R38: =E38/[1]出生数!$G$4*100000 -> 0 | S38: =F38/[1]出生数!$G$4*100000 -> 0 | T38: =G38/[1]出生数!$G$4*100000 -> 7.5483092 | U38: =H38/[1]出生数!$G$4*100000 -> 0 | V38: =I38/[1]出生数!$G$4*100000 -> 0 | W38: =J38/[1]出生数!$G$4*100000 -> 0 | X38: =K38/[1]出生数!$G$4*100000 -> 0 | ... AC38: =P38/[1]出生数!$G$4*100000 -> 0
A39: Ba34 | C39: その他の周産期に発生した病態 | D39: =SUM(E39:P39) -> 2 | E39: 1 | F39: 0 | G39: 0 | H39: 0 | I39: 0 | J39: 0 | K39: 1 | L39: 0 | M39: 0 | N39: 0 | O39: 0 | P39: 0 | Q39: =D39/[1]出生数!$G$4*100000 -> 15.096618 | R39: =E39/[1]出生数!$G$4*100000 -> 7.5483092 | S39: =F39/[1]出生数!$G$4*100000 -> 0 | T39: =G39/[1]出生数!$G$4*100000 -> 0 | U39: =H39/[1]出生数!$G$4*100000 -> 0 | V39: =I39/[1]出生数!$G$4*100000 -> 0 | W39: =J39/[1]出生数!$G$4*100000 -> 0 | X39: =K39/[1]出生数!$G$4*100000 -> 7.5483092 | ... AC39: =P39/[1]出生数!$G$4*100000 -> 0
A40: Ba35 | B40: 先天奇形、変形及び染色体異常 | D40: =SUM(E40:P40) -> 13 | E40: =SUM(E41:E48) -> 0 | F40: =SUM(F41:F48) -> 0 | G40: =SUM(G41:G48) -> 2 | H40: =SUM(H41:H48) -> 3 | I40: =SUM(I41:I48) -> 2 | J40: =SUM(J41:J48) -> 4 | K40: =SUM(K41:K48) -> 2 | L40: =SUM(L41:L48) -> 0 | ... P40: =SUM(P41:P48) -> 0 | Q40: =D40/[1]出生数!$G$4*100000 -> 98.128019 | R40: =E40/[1]出生数!$G$4*100000 -> 0 | S40: =F40/[1]出生数!$G$4*100000 -> 0 | T40: =G40/[1]出生数!$G$4*100000 -> 15.096618 | U40: =H40/[1]出生数!$G$4*100000 -> 22.644928 | V40: =I40/[1]出生数!$G$4*100000 -> 15.096618 | W40: =J40/[1]出生数!$G$4*100000 -> 30.193237 | X40: =K40/[1]出生数!$G$4*100000 -> 15.096618 | ... AC40: =P40/[1]出生数!$G$4*100000 -> 0
A41: Ba36 | C41: 神経系の先天奇形 | D41: =SUM(E41:P41) -> 0 | E41: 0 | F41: 0 | G41: 0 | H41: 0 | I41: 0 | J41: 0 | K41: 0 | L41: 0 | M41: 0 | N41: 0 | O41: 0 | P41: 0 | Q41: =D41/[1]出生数!$G$4*100000 -> 0 | R41: =E41/[1]出生数!$G$4*100000 -> 0 | S41: =F41/[1]出生数!$G$4*100000 -> 0 | T41: =G41/[1]出生数!$G$4*100000 -> 0 | U41: =H41/[1]出生数!$G$4*100000 -> 0 | V41: =I41/[1]出生数!$G$4*100000 -> 0 | W41: =J41/[1]出生数!$G$4*100000 -> 0 | X41: =K41/[1]出生数!$G$4*100000 -> 0 | ... AC41: =P41/[1]出生数!$G$4*100000 -> 0
A42: Ba37 | C42: 心臓の先天奇形 | D42: =SUM(E42:P42) -> 6 | E42: 0 | F42: 0 | G42: 0 | H42: 1 | I42: 0 | J42: 3 | K42: 2 | L42: 0 | M42: 0 | N42: 0 | O42: 0 | P42: 0 | Q42: =D42/[1]出生数!$G$4*100000 -> 45.289855 | R42: =E42/[1]出生数!$G$4*100000 -> 0 | S42: =F42/[1]出生数!$G$4*100000 -> 0 | T42: =G42/[1]出生数!$G$4*100000 -> 0 | U42: =H42/[1]出生数!$G$4*100000 -> 7.5483092 | V42: =I42/[1]出生数!$G$4*100000 -> 0 | W42: =J42/[1]出生数!$G$4*100000 -> 22.644928 | X42: =K42/[1]出生数!$G$4*100000 -> 15.096618 | ... AC42: =P42/[1]出生数!$G$4*100000 -> 0
A43: Ba38 | C43: その他の循環器系の先天奇形 | D43: =SUM(E43:P43) -> 0 | E43: 0 | F43: 0 | G43: 0 | H43: 0 | I43: 0 | J43: 0 | K43: 0 | L43: 0 | M43: 0 | N43: 0 | O43: 0 | P43: 0 | Q43: =D43/[1]出生数!$G$4*100000 -> 0 | R43: =E43/[1]出生数!$G$4*100000 -> 0 | S43: =F43/[1]出生数!$G$4*100000 -> 0 | T43: =G43/[1]出生数!$G$4*100000 -> 0 | U43: =H43/[1]出生数!$G$4*100000 -> 0 | V43: =I43/[1]出生数!$G$4*100000 -> 0 | W43: =J43/[1]出生数!$G$4*100000 -> 0 | X43: =K43/[1]出生数!$G$4*100000 -> 0 | ... AC43: =P43/[1]出生数!$G$4*100000 -> 0
A44: Ba39 | C44: 呼吸器系の先天奇形 | D44: =SUM(E44:P44) -> 1 | E44: 0 | F44: 0 | G44: 1 | H44: 0 | I44: 0 | J44: 0 | K44: 0 | L44: 0 | M44: 0 | N44: 0 | O44: 0 | P44: 0 | Q44: =D44/[1]出生数!$G$4*100000 -> 7.5483092 | R44: =E44/[1]出生数!$G$4*100000 -> 0 | S44: =F44/[1]出生数!$G$4*100000 -> 0 | T44: =G44/[1]出生数!$G$4*100000 -> 7.5483092 | U44: =H44/[1]出生数!$G$4*100000 -> 0 | V44: =I44/[1]出生数!$G$4*100000 -> 0 | W44: =J44/[1]出生数!$G$4*100000 -> 0 | X44: =K44/[1]出生数!$G$4*100000 -> 0 | ... AC44: =P44/[1]出生数!$G$4*100000 -> 0
A45: Ba40 | C45: 消化器系の先天奇形 | D45: =SUM(E45:P45) -> 1 | E45: 0 | F45: 0 | G45: 0 | H45: 0 | I45: 1 | J45: 0 | K45: 0 | L45: 0 | M45: 0 | N45: 0 | O45: 0 | P45: 0 | Q45: =D45/[1]出生数!$G$4*100000 -> 7.5483092 | R45: =E45/[1]出生数!$G$4*100000 -> 0 | S45: =F45/[1]出生数!$G$4*100000 -> 0 | T45: =G45/[1]出生数!$G$4*100000 -> 0 | U45: =H45/[1]出生数!$G$4*100000 -> 0 | V45: =I45/[1]出生数!$G$4*100000 -> 7.5483092 | W45: =J45/[1]出生数!$G$4*100000 -> 0 | X45: =K45/[1]出生数!$G$4*100000 -> 0 | ... AC45: =P45/[1]出生数!$G$4*100000 -> 0
A46: Ba41 | C46: 筋骨格系の先天奇形及び変形 | D46: =SUM(E46:P46) -> 0 | E46: 0 | F46: 0 | G46: 0 | H46: 0 | I46: 0 | J46: 0 | K46: 0 | L46: 0 | M46: 0 | N46: 0 | O46: 0 | P46: 0 | Q46: =D46/[1]出生数!$G$4*100000 -> 0 | R46: =E46/[1]出生数!$G$4*100000 -> 0 | S46: =F46/[1]出生数!$G$4*100000 -> 0 | T46: =G46/[1]出生数!$G$4*100000 -> 0 | U46: =H46/[1]出生数!$G$4*100000 -> 0 | V46: =I46/[1]出生数!$G$4*100000 -> 0 | W46: =J46/[1]出生数!$G$4*100000 -> 0 | X46: =K46/[1]出生数!$G$4*100000 -> 0 | ... AC46: =P46/[1]出生数!$G$4*100000 -> 0
A47: Ba42 | C47: その他の先天奇形及び変形 | D47: =SUM(E47:P47) -> 1 | E47: 0 | F47: 0 | G47: 0 | H47: 0 | I47: 1 | J47: 0 | K47: 0 | L47: 0 | M47: 0 | N47: 0 | O47: 0 | P47: 0 | Q47: =D47/[1]出生数!$G$4*100000 -> 7.5483092 | R47: =E47/[1]出生数!$G$4*100000 -> 0 | S47: =F47/[1]出生数!$G$4*100000 -> 0 | T47: =G47/[1]出生数!$G$4*100000 -> 0 | U47: =H47/[1]出生数!$G$4*100000 -> 0 | V47: =I47/[1]出生数!$G$4*100000 -> 7.5483092 | W47: =J47/[1]出生数!$G$4*100000 -> 0 | X47: =K47/[1]出生数!$G$4*100000 -> 0 | ... AC47: =P47/[1]出生数!$G$4*100000 -> 0
A48: Ba43 | C48: 染色体異常、他に分類されないもの | D48: =SUM(E48:P48) -> 4 | E48: 0 | F48: 0 | G48: 1 | H48: 2 | I48: 0 | J48: 1 | K48: 0 | L48: 0 | M48: 0 | N48: 0 | O48: 0 | P48: 0 | Q48: =D48/[1]出生数!$G$4*100000 -> 30.193237 | R48: =E48/[1]出生数!$G$4*100000 -> 0 | S48: =F48/[1]出生数!$G$4*100000 -> 0 | T48: =G48/[1]出生数!$G$4*100000 -> 7.5483092 | U48: =H48/[1]出生数!$G$4*100000 -> 15.096618 | V48: =I48/[1]出生数!$G$4*100000 -> 0 | W48: =J48/[1]出生数!$G$4*100000 -> 7.5483092 | X48: =K48/[1]出生数!$G$4*100000 -> 0 | ... AC48: =P48/[1]出生数!$G$4*100000 -> 0
A49: Ba44 | B49: 乳幼児突然死症候群 | D49: =SUM(E49:P49) -> 1 | E49: 0 | F49: 0 | G49: 0 | H49: 0 | I49: 0 | J49: 1 | K49: 0 | L49: 0 | M49: 0 | N49: 0 | O49: 0 | P49: 0 | Q49: =D49/[1]出生数!$G$4*100000 -> 7.5483092 | R49: =E49/[1]出生数!$G$4*100000 -> 0 | S49: =F49/[1]出生数!$G$4*100000 -> 0 | T49: =G49/[1]出生数!$G$4*100000 -> 0 | U49: =H49/[1]出生数!$G$4*100000 -> 0 | V49: =I49/[1]出生数!$G$4*100000 -> 0 | W49: =J49/[1]出生数!$G$4*100000 -> 7.5483092 | X49: =K49/[1]出生数!$G$4*100000 -> 0 | ... AC49: =P49/[1]出生数!$G$4*100000 -> 0
A50: Ba45 | B50: その他のすべての疾患 | D50: =SUM(E50:P50) -> 2 | E50: 0 | F50: 0 | G50: 1 | H50: 0 | I50: 0 | J50: 0 | K50: 1 | L50: 0 | M50: 0 | N50: 0 | O50: 0 | P50: 0 | Q50: =D50/[1]出生数!$G$4*100000 -> 15.096618 | R50: =E50/[1]出生数!$G$4*100000 -> 0 | S50: =F50/[1]出生数!$G$4*100000 -> 0 | T50: =G50/[1]出生数!$G$4*100000 -> 7.5483092 | U50: =H50/[1]出生数!$G$4*100000 -> 0 | V50: =I50/[1]出生数!$G$4*100000 -> 0 | W50: =J50/[1]出生数!$G$4*100000 -> 0 | X50: =K50/[1]出生数!$G$4*100000 -> 7.5483092 | ... AC50: =P50/[1]出生数!$G$4*100000 -> 0

Sheet 体重別，単産-複産・母の年齢階級別乳児死亡数
A1: 出生時の体重・性別にみた単産-複産・母の年齢階級別病死による乳児死亡数
A3: 単産-複産 母の年齢 | B3: 病死による乳児死亡数 | O3: データの個数 : 客体区分 | Q3: 乳児死亡 | R3: 1歳未満の死亡 | S3: 全体重区分
B4: 総 数 | C4: 0.5㎏未満 | D4: 0.5㎏ 以上 1.0㎏ 未満 | E4: 1.0～1.5㎏ | F4: 1.5～2.0㎏ | G4: 2.0～2.5㎏ | H4: 2.5～3.0㎏ | I4: 3.0～3.5㎏ | J4: 3.5～4.0㎏ | K4: 4.0～4.5㎏ | L4: 4.5～5.0㎏ | M4: 5.0㎏ 以上 | Q4: 乳児 | Y4: 乳児 計 | Z4: 総計
A5: 総 数 | B5: =SUM(B16,B27) -> 0 | C5: =SUM(C16,C27) -> 0 | D5: =SUM(D16,D27) -> 0 | E5: =SUM(E16,E27) -> 0 | F5: =SUM(F16,F27) -> 0 | G5: =SUM(G16,G27) -> 0 | H5: =SUM(H16,H27) -> 0 | I5: =SUM(I16,I27) -> 0 | ... M5: =SUM(M16,M27) -> 0 | Q5: 1 | X5: 1 計
A6: ～14歳 | B6: =SUM(B17,B28) -> 0 | C6: =SUM(C17,C28) -> 0 | D6: =SUM(D17,D28) -> 0 | E6: =SUM(E17,E28) -> 0 | F6: =SUM(F17,F28) -> 0 | G6: =SUM(G17,G28) -> 0 | H6: =SUM(H17,H28) -> 0 | I6: =SUM(I17,I28) -> 0 | ... M6: =SUM(M17,M28) -> 0 | O6: 胎数 | P6: 母の年齢区分 | Q6: 500g未満 | R6: 500g以上1000g未満 | S6: 1000g以上1500g未満 | T6: 1500g以上2000g未満 | U6: 2000g以上2500g未満 | V6: 2500g以上3000g未満 | W6: 3000g以上3500g未満
A7: 15～19 | B7: =SUM(B18,B29) -> 0 | C7: =SUM(C18,C29) -> 0 | D7: =SUM(D18,D29) -> 0 | E7: =SUM(E18,E29) -> 0 | F7: =SUM(F18,F29) -> 0 | G7: =SUM(G18,G29) -> 0 | H7: =SUM(H18,H29) -> 0 | I7: =SUM(I18,I29) -> 0 | ... M7: =SUM(M18,M29) -> 0 | O7: 1 | P7: 20～24 | Q7: 0 | R7: 0 | S7: 0 | T7: 0 | U7: 0 | V7: 1 | W7: 2 | X7: 3 | Y7: 3 | Z7: 3
A8: 20～24 | B8: =SUM(B19,B30) -> 0 | C8: =SUM(C19,C30) -> 0 | D8: =SUM(D19,D30) -> 0 | E8: =SUM(E19,E30) -> 0 | F8: =SUM(F19,F30) -> 0 | G8: =SUM(G19,G30) -> 0 | H8: =SUM(H19,H30) -> 0 | I8: =SUM(I19,I30) -> 0 | ... M8: =SUM(M19,M30) -> 0 | P8: 25～29 | Q8: 0 | R8: 2 | S8: 1 | T8: 1 | U8: 1 | V8: 2 | W8: 3 | X8: 10 | Y8: 10 | Z8: 10
A9: 25～29 | B9: =SUM(B20,B31) -> 0 | C9: =SUM(C20,C31) -> 0 | D9: =SUM(D20,D31) -> 0 | E9: =SUM(E20,E31) -> 0 | F9: =SUM(F20,F31) -> 0 | G9: =SUM(G20,G31) -> 0 | H9: =SUM(H20,H31) -> 0 | I9: =SUM(I20,I31) -> 0 | ... M9: =SUM(M20,M31) -> 0 | P9: 30～34 | Q9: 1 | R9: 0 | S9: 0 | T9: 1 | U9: 0 | V9: 4 | W9: 1 | X9: 7 | Y9: 7 | Z9: 7
A10: 30～34 | B10: =SUM(B21,B32) -> 0 | C10: =SUM(C21,C32) -> 0 | D10: =SUM(D21,D32) -> 0 | E10: =SUM(E21,E32) -> 0 | F10: =SUM(F21,F32) -> 0 | G10: =SUM(G21,G32) -> 0 | H10: =SUM(H21,H32) -> 0 | I10: =SUM(I21,I32) -> 0 | ... M10: =SUM(M21,M32) -> 0 | P10: 35～39 | Q10: 0 | R10: 0 | S10: 1 | T10: 0 | U10: 0 | V10: 1 | W10: 1 | X10: 3 | Y10: 3 | Z10: 3
A11: 35～39 | B11: =SUM(B22,B33) -> 0 | C11: =SUM(C22,C33) -> 0 | D11: =SUM(D22,D33) -> 0 | E11: =SUM(E22,E33) -> 0 | F11: =SUM(F22,F33) -> 0 | G11: =SUM(G22,G33) -> 0 | H11: =SUM(H22,H33) -> 0 | I11: =SUM(I22,I33) -> 0 | ... M11: =SUM(M22,M33) -> 0 | O11: 1 計 | Q11: 1 | R11: 2 | S11: 2 | T11: 2 | U11: 1 | V11: 8 | W11: 7 | X11: 23 | Y11: 23 | Z11: 23
A12: 40～44 | B12: =SUM(B23,B34) -> 0 | C12: =SUM(C23,C34) -> 0 | D12: =SUM(D23,D34) -> 0 | E12: =SUM(E23,E34) -> 0 | F12: =SUM(F23,F34) -> 0 | G12: =SUM(G23,G34) -> 0 | H12: =SUM(H23,H34) -> 0 | I12: =SUM(I23,I34) -> 0 | ... M12: =SUM(M23,M34) -> 0 | O12: 2 | P12: 25～29 | Q12: 0 | R12: 0 | S12: 0 | T12: 1 | U12: 0 | V12: 1 | W12: 0 | X12: 2 | Y12: 2 | Z12: 2
A13: 45～ | B13: =SUM(B24,B35) -> 0 | C13: =SUM(C24,C35) -> 0 | D13: =SUM(D24,D35) -> 0 | E13: =SUM(E24,E35) -> 0 | F13: =SUM(F24,F35) -> 0 | G13: =SUM(G24,G35) -> 0 | H13: =SUM(H24,H35) -> 0 | I13: =SUM(I24,I35) -> 0 | ... M13: =SUM(M24,M35) -> 0 | P13: 30～34 | Q13: 0 | R13: 1 | S13: 0 | T13: 0 | U13: 0 | V13: 0 | W13: 0 | X13: 1 | Y13: 1 | Z13: 1
A14: 不詳 | B14: =SUM(B25,B36) -> 0 | C14: =SUM(C25,C36) -> 0 | D14: =SUM(D25,D36) -> 0 | E14: =SUM(E25,E36) -> 0 | F14: =SUM(F25,F36) -> 0 | G14: =SUM(G25,G36) -> 0 | H14: =SUM(H25,H36) -> 0 | I14: =SUM(I25,I36) -> 0 | ... M14: =SUM(M25,M36) -> 0 | P14: 35～39 | Q14: 0 | R14: 0 | S14: 0 | T14: 1 | U14: 0 | V14: 0 | W14: 0 | X14: 1 | Y14: 1 | Z14: 1
O15: 2 計 | Q15: 0 | R15: 1 | S15: 0 | T15: 2 | U15: 0 | V15: 1 | W15: 0 | X15: 4 | Y15: 4 | Z15: 4
A16: 単 産 | B16: =SUM(C16:M16) -> 0 | C16: =SUM(C17:C25) -> 0 | D16: =SUM(D17:D25) -> 0 | E16: =SUM(E17:E25) -> 0 | F16: =SUM(F17:F25) -> 0 | G16: =SUM(G17:G25) -> 0 | H16: =SUM(H17:H25) -> 0 | I16: =SUM(I17:I25) -> 0 | J16: =SUM(J17:J25) -> 0 | ... M16: =SUM(M17:M25) -> 0 | O16: 総計 | Q16: 1 | R16: 3 | S16: 2 | T16: 4 | U16: 1 | V16: 9 | W16: 7 | X16: 27 | Y16: 27 | Z16: 27
A17: ～14歳 | B17: =SUM(C17:M17) -> 0
A18: 15～19 | B18: =SUM(C18:M18) -> 0
A19: 20～24 | B19: =SUM(C19:M19) -> 0
A20: 25～29 | B20: =SUM(C20:M20) -> 0
A21: 30～34 | B21: =SUM(C21:M21) -> 0
A22: 35～39 | B22: =SUM(C22:M22) -> 0
A23: 40～44 | B23: =SUM(C23:M23) -> 0
A24: 45～ | B24: =SUM(C24:M24) -> 0
A25: 不詳 | B25: =SUM(C25:M25) -> 0
A27: 複 産 | B27: =SUM(C27:M27) -> 0 | C27: =SUM(C28:C36) -> 0 | D27: =SUM(D28:D36) -> 0 | E27: =SUM(E28:E36) -> 0 | F27: =SUM(F28:F36) -> 0 | G27: =SUM(G28:G36) -> 0 | H27: =SUM(H28:H36) -> 0 | I27: =SUM(I28:I36) -> 0 | J27: =SUM(J28:J36) -> 0 | ... M27: =SUM(M28:M36) -> 0
A28: ～14歳 | B28: =SUM(C28:M28) -> 0
A29: 15～19 | B29: =SUM(C29:M29) -> 0
A30: 20～24 | B30: =SUM(C30:M30) -> 0
A31: 25～29 | B31: =SUM(C31:M31) -> 0
A32: 30～34 | B32: =SUM(C32:M32) -> 0
A33: 35～39 | B33: =SUM(C33:M33) -> 0
A34: 40～44 | B34: =SUM(C34:M34) -> 0
A35: 45～ | B35: =SUM(C35:M35) -> 0
A36: 不詳 | B36: =SUM(C36:M36) -> 0

Sheet 月・性別，区別死亡率
A1: 月・性別にみた区別乳児死亡率（出生千対）
A3: 区 | B3: 総数 | C3: １月 | D3: ２月 | E3: ３月 | F3: ４月 | G3: ５月 | H3: ６月 | I3: ７月 | J3: ８月 | K3: ９月 | L3: １０月 | M3: １１月 | N3: １２月
A4: 総数 | B4: ='3 乳児死亡数，月・性・区別'!C4/[1]出生数!G4*1000 -> 2.5664251 | C4: ='3 乳児死亡数，月・性・区別'!D4/(SUM([1]出生数!K4:V4)*[1]出生数!V$15/SUM([1]出生数!K$15:V$15))*1000 -> 1.7040587 | D4: ='3 乳児死亡数，月・性・区別'!E4/(SUM([1]出生数!L4:W4)*[1]出生数!W$15/SUM([1]出生数!L$15:W$15))*1000 -> 0 | E4: ='3 乳児死亡数，月・性・区別'!F4/(SUM([1]出生数!M4:X4)*[1]出生数!X$15/SUM([1]出生数!M$15:X$15))*1000 -> 2.559051 | F4: ='3 乳児死亡数，月・性・区別'!G4/(SUM([1]出生数!N4:Y4)*[1]出生数!Y$15/SUM([1]出生数!N$15:Y$15))*1000 -> 2.668909 | G4: ='3 乳児死亡数，月・性・区別'!H4/(SUM([1]出生数!O4:Z4)*[1]出生数!Z$15/SUM([1]出生数!O$15:Z$15))*1000 -> 2.589632 | H4: ='3 乳児死亡数，月・性・区別'!I4/(SUM([1]出生数!P4:AA4)*[1]出生数!AA$15/SUM([1]出生数!P$15:AA$15))*1000 -> 4.4635214 | I4: ='3 乳児死亡数，月・性・区別'!J4/(SUM([1]出生数!Q4:AB4)*[1]出生数!AB$15/SUM([1]出生数!Q$15:AB$15))*1000 -> 0.87391031 | J4: ='3 乳児死亡数，月・性・区別'!K4/(SUM([1]出生数!R4:AC4)*[1]出生数!AC$15/SUM([1]出生数!R$15:AC$15))*1000 -> 5.2287145 | ... N4: ='3 乳児死亡数，月・性・区別'!O4/(SUM([1]出生数!V4:AG4)*[1]出生数!AG$15/SUM([1]出生数!V$15:AG$15))*1000 -> 2.6662576
A5: 中央 | B5: ='3 乳児死亡数，月・性・区別'!C7/[1]出生数!G5*1000 -> 3.440367 | C5: ='3 乳児死亡数，月・性・区別'!D7/(SUM([1]出生数!K5:V5)*[1]出生数!V$15/SUM([1]出生数!K$15:V$15))*1000 -> 0 | D5: ='3 乳児死亡数，月・性・区別'!E7/(SUM([1]出生数!L5:W5)*[1]出生数!W$15/SUM([1]出生数!L$15:W$15))*1000 -> 0 | E5: ='3 乳児死亡数，月・性・区別'!F7/(SUM([1]出生数!M5:X5)*[1]出生数!X$15/SUM([1]出生数!M$15:X$15))*1000 -> 0 | F5: ='3 乳児死亡数，月・性・区別'!G7/(SUM([1]出生数!N5:Y5)*[1]出生数!Y$15/SUM([1]出生数!N$15:Y$15))*1000 -> 6.7667779 | G5: ='3 乳児死亡数，月・性・区別'!H7/(SUM([1]出生数!O5:Z5)*[1]出生数!Z$15/SUM([1]出生数!O$15:Z$15))*1000 -> 13.02455 | H5: ='3 乳児死亡数，月・性・区別'!I7/(SUM([1]出生数!P5:AA5)*[1]出生数!AA$15/SUM([1]出生数!P$15:AA$15))*1000 -> 6.7780873 | I5: ='3 乳児死亡数，月・性・区別'!J7/(SUM([1]出生数!Q5:AB5)*[1]出生数!AB$15/SUM([1]出生数!Q$15:AB$15))*1000 -> 0 | J5: ='3 乳児死亡数，月・性・区別'!K7/(SUM([1]出生数!R5:AC5)*[1]出生数!AC$15/SUM([1]出生数!R$15:AC$15))*1000 -> 0 | ... N5: ='3 乳児死亡数，月・性・区別'!O7/(SUM([1]出生数!V5:AG5)*[1]出生数!AG$15/SUM([1]出生数!V$15:AG$15))*1000 -> 0
A6: 北 | B6: ='3 乳児死亡数，月・性・区別'!C10/[1]出生数!G6*1000 -> 1.6242555 | C6: ='3 乳児死亡数，月・性・区別'!D10/(SUM([1]出生数!K6:V6)*[1]出生数!V$15/SUM([1]出生数!K$15:V$15))*1000 -> 0 | D6: ='3 乳児死亡数，月・性・区別'!E10/(SUM([1]出生数!L6:W6)*[1]出生数!W$15/SUM([1]出生数!L$15:W$15))*1000 -> 0 | E6: ='3 乳児死亡数，月・性・区別'!F10/(SUM([1]出生数!M6:X6)*[1]出生数!X$15/SUM([1]出生数!M$15:X$15))*1000 -> 0 | F6: ='3 乳児死亡数，月・性・区別'!G10/(SUM([1]出生数!N6:Y6)*[1]出生数!Y$15/SUM([1]出生数!N$15:Y$15))*1000 -> 0 | G6: ='3 乳児死亡数，月・性・区別'!H10/(SUM([1]出生数!O6:Z6)*[1]出生数!Z$15/SUM([1]出生数!O$15:Z$15))*1000 -> 0 | H6: ='3 乳児死亡数，月・性・区別'!I10/(SUM([1]出生数!P6:AA6)*[1]出生数!AA$15/SUM([1]出生数!P$15:AA$15))*1000 -> 0 | I6: ='3 乳児死亡数，月・性・区別'!J10/(SUM([1]出生数!Q6:AB6)*[1]出生数!AB$15/SUM([1]出生数!Q$15:AB$15))*1000 -> 0 | J6: ='3 乳児死亡数，月・性・区別'!K10/(SUM([1]出生数!R6:AC6)*[1]出生数!AC$15/SUM([1]出生数!R$15:AC$15))*1000 -> 6.4164542 | ... N6: ='3 乳児死亡数，月・性・区別'!O10/(SUM([1]出生数!V6:AG6)*[1]出生数!AG$15/SUM([1]出生数!V$15:AG$15))*1000 -> 0
A7: 東 | B7: ='3 乳児死亡数，月・性・区別'!C13/[1]出生数!G7*1000 -> 2.5278059 | C7: ='3 乳児死亡数，月・性・区別'!D13/(SUM([1]出生数!K7:V7)*[1]出生数!V$15/SUM([1]出生数!K$15:V$15))*1000 -> 0 | D7: ='3 乳児死亡数，月・性・区別'!E13/(SUM([1]出生数!L7:W7)*[1]出生数!W$15/SUM([1]出生数!L$15:W$15))*1000 -> 0 | E7: ='3 乳児死亡数，月・性・区別'!F13/(SUM([1]出生数!M7:X7)*[1]出生数!X$15/SUM([1]出生数!M$15:X$15))*1000 -> 0 | F7: ='3 乳児死亡数，月・性・区別'!G13/(SUM([1]出生数!N7:Y7)*[1]出生数!Y$15/SUM([1]出生数!N$15:Y$15))*1000 -> 0 | G7: ='3 乳児死亡数，月・性・区別'!H13/(SUM([1]出生数!O7:Z7)*[1]出生数!Z$15/SUM([1]出生数!O$15:Z$15))*1000 -> 0 | H7: ='3 乳児死亡数，月・性・区別'!I13/(SUM([1]出生数!P7:AA7)*[1]出生数!AA$15/SUM([1]出生数!P$15:AA$15))*1000 -> 0 | I7: ='3 乳児死亡数，月・性・区別'!J13/(SUM([1]出生数!Q7:AB7)*[1]出生数!AB$15/SUM([1]出生数!Q$15:AB$15))*1000 -> 5.8461736 | J7: ='3 乳児死亡数，月・性・区別'!K13/(SUM([1]出生数!R7:AC7)*[1]出生数!AC$15/SUM([1]出生数!R$15:AC$15))*1000 -> 0 | ... N7: ='3 乳児死亡数，月・性・区別'!O13/(SUM([1]出生数!V7:AG7)*[1]出生数!AG$15/SUM([1]出生数!V$15:AG$15))*1000 -> 11.90515
A8: 白石 | B8: ='3 乳児死亡数，月・性・区別'!C16/[1]出生数!G8*1000 -> 2.3378141 | C8: ='3 乳児死亡数，月・性・区別'!D16/(SUM([1]出生数!K8:V8)*[1]出生数!V$15/SUM([1]出生数!K$15:V$15))*1000 -> 0 | D8: ='3 乳児死亡数，月・性・区別'!E16/(SUM([1]出生数!L8:W8)*[1]出生数!W$15/SUM([1]出生数!L$15:W$15))*1000 -> 0 | E8: ='3 乳児死亡数，月・性・区別'!F16/(SUM([1]出生数!M8:X8)*[1]出生数!X$15/SUM([1]出生数!M$15:X$15))*1000 -> 6.9056854 | F8: ='3 乳児死亡数，月・性・区別'!G16/(SUM([1]出生数!N8:Y8)*[1]出生数!Y$15/SUM([1]出生数!N$15:Y$15))*1000 -> 14.280125 | G8: ='3 乳児死亡数，月・性・区別'!H16/(SUM([1]出生数!O8:Z8)*[1]出生数!Z$15/SUM([1]出生数!O$15:Z$15))*1000 -> 0 | H8: ='3 乳児死亡数，月・性・区別'!I16/(SUM([1]出生数!P8:AA8)*[1]出生数!AA$15/SUM([1]出生数!P$15:AA$15))*1000 -> 0 | I8: ='3 乳児死亡数，月・性・区別'!J16/(SUM([1]出生数!Q8:AB8)*[1]出生数!AB$15/SUM([1]出生数!Q$15:AB$15))*1000 -> 0 | J8: ='3 乳児死亡数，月・性・区別'!K16/(SUM([1]出生数!R8:AC8)*[1]出生数!AC$15/SUM([1]出生数!R$15:AC$15))*1000 -> 7.0335684 | ... N8: ='3 乳児死亡数，月・性・区別'!O16/(SUM([1]出生数!V8:AG8)*[1]出生数!AG$15/SUM([1]出生数!V$15:AG$15))*1000 -> 0
A9: 厚別 | B9: ='3 乳児死亡数，月・性・区別'!C19/[1]出生数!G9*1000 -> 4.5385779 | C9: ='3 乳児死亡数，月・性・区別'!D19/(SUM([1]出生数!K9:V9)*[1]出生数!V$15/SUM([1]出生数!K$15:V$15))*1000 -> 0 | D9: ='3 乳児死亡数，月・性・区別'!E19/(SUM([1]出生数!L9:W9)*[1]出生数!W$15/SUM([1]出生数!L$15:W$15))*1000 -> 0 | E9: ='3 乳児死亡数，月・性・区別'!F19/(SUM([1]出生数!M9:X9)*[1]出生数!X$15/SUM([1]出生数!M$15:X$15))*1000 -> 0 | F9: ='3 乳児死亡数，月・性・区別'!G19/(SUM([1]出生数!N9:Y9)*[1]出生数!Y$15/SUM([1]出生数!N$15:Y$15))*1000 -> 0 | G9: ='3 乳児死亡数，月・性・区別'!H19/(SUM([1]出生数!O9:Z9)*[1]出生数!Z$15/SUM([1]出生数!O$15:Z$15))*1000 -> 0 | H9: ='3 乳児死亡数，月・性・区別'!I19/(SUM([1]出生数!P9:AA9)*[1]出生数!AA$15/SUM([1]出生数!P$15:AA$15))*1000 -> 36.372696 | I9: ='3 乳児死亡数，月・性・区別'!J19/(SUM([1]出生数!Q9:AB9)*[1]出生数!AB$15/SUM([1]出生数!Q$15:AB$15))*1000 -> 0 | J9: ='3 乳児死亡数，月・性・区別'!K19/(SUM([1]出生数!R9:AC9)*[1]出生数!AC$15/SUM([1]出生数!R$15:AC$15))*1000 -> 0 | ... N9: ='3 乳児死亡数，月・性・区別'!O19/(SUM([1]出生数!V9:AG9)*[1]出生数!AG$15/SUM([1]出生数!V$15:AG$15))*1000 -> 0
A10: 豊平 | B10: ='3 乳児死亡数，月・性・区別'!C22/[1]出生数!G10*1000 -> 2.3781213 | C10: ='3 乳児死亡数，月・性・区別'!D22/(SUM([1]出生数!K10:V10)*[1]出生数!V$15/SUM([1]出生数!K$15:V$15))*1000 -> 0 | D10: ='3 乳児死亡数，月・性・区別'!E22/(SUM([1]出生数!L10:W10)*[1]出生数!W$15/SUM([1]出生数!L$15:W$15))*1000 -> 0 | E10: ='3 乳児死亡数，月・性・区別'!F22/(SUM([1]出生数!M10:X10)*[1]出生数!X$15/SUM([1]出生数!M$15:X$15))*1000 -> 13.038974 | F10: ='3 乳児死亡数，月・性・区別'!G22/(SUM([1]出生数!N10:Y10)*[1]出生数!Y$15/SUM([1]出生数!N$15:Y$15))*1000 -> 0 | G10: ='3 乳児死亡数，月・性・区別'!H22/(SUM([1]出生数!O10:Z10)*[1]出生数!Z$15/SUM([1]出生数!O$15:Z$15))*1000 -> 0 | H10: ='3 乳児死亡数，月・性・区別'!I22/(SUM([1]出生数!P10:AA10)*[1]出生数!AA$15/SUM([1]出生数!P$15:AA$15))*1000 -> 6.7667779 | I10: ='3 乳児死亡数，月・性・区別'!J22/(SUM([1]出生数!Q10:AB10)*[1]出生数!AB$15/SUM([1]出生数!Q$15:AB$15))*1000 -> 0 | J10: ='3 乳児死亡数，月・性・区別'!K22/(SUM([1]出生数!R10:AC10)*[1]出生数!AC$15/SUM([1]出生数!R$15:AC$15))*1000 -> 6.6633806 | ... N10: ='3 乳児死亡数，月・性・区別'!O22/(SUM([1]出生数!V10:AG10)*[1]出生数!AG$15/SUM([1]出生数!V$15:AG$15))*1000 -> 0
A11: 清田 | B11: ='3 乳児死亡数，月・性・区別'!C25/[1]出生数!G11*1000 -> 3.1055901 | C11: ='3 乳児死亡数，月・性・区別'!D25/(SUM([1]出生数!K11:V11)*[1]出生数!V$15/SUM([1]出生数!K$15:V$15))*1000 -> 18.718909 | D11: ='3 乳児死亡数，月・性・区別'!E25/(SUM([1]出生数!L11:W11)*[1]出生数!W$15/SUM([1]出生数!L$15:W$15))*1000 -> 0 | E11: ='3 乳児死亡数，月・性・区別'!F25/(SUM([1]出生数!M11:X11)*[1]出生数!X$15/SUM([1]出生数!M$15:X$15))*1000 -> 0 | F11: ='3 乳児死亡数，月・性・区別'!G25/(SUM([1]出生数!N11:Y11)*[1]出生数!Y$15/SUM([1]出生数!N$15:Y$15))*1000 -> 0 | G11: ='3 乳児死亡数，月・性・区別'!H25/(SUM([1]出生数!O11:Z11)*[1]出生数!Z$15/SUM([1]出生数!O$15:Z$15))*1000 -> 0 | H11: ='3 乳児死亡数，月・性・区別'!I25/(SUM([1]出生数!P11:AA11)*[1]出生数!AA$15/SUM([1]出生数!P$15:AA$15))*1000 -> 0 | I11: ='3 乳児死亡数，月・性・区別'!J25/(SUM([1]出生数!Q11:AB11)*[1]出生数!AB$15/SUM([1]出生数!Q$15:AB$15))*1000 -> 0 | J11: ='3 乳児死亡数，月・性・区別'!K25/(SUM([1]出生数!R11:AC11)*[1]出生数!AC$15/SUM([1]出生数!R$15:AC$15))*1000 -> 18.311343 | ... N11: ='3 乳児死亡数，月・性・区別'!O25/(SUM([1]出生数!V11:AG11)*[1]出生数!AG$15/SUM([1]出生数!V$15:AG$15))*1000 -> 0
A12: 南 | B12: ='3 乳児死亡数，月・性・区別'!C28/[1]出生数!G12*1000 -> 3.1152648 | C12: ='3 乳児死亡数，月・性・区別'!D28/(SUM([1]出生数!K12:V12)*[1]出生数!V$15/SUM([1]出生数!K$15:V$15))*1000 -> 0 | D12: ='3 乳児死亡数，月・性・区別'!E28/(SUM([1]出生数!L12:W12)*[1]出生数!W$15/SUM([1]出生数!L$15:W$15))*1000 -> 0 | E12: ='3 乳児死亡数，月・性・区別'!F28/(SUM([1]出生数!M12:X12)*[1]出生数!X$15/SUM([1]出生数!M$15:X$15))*1000 -> 0 | F12: ='3 乳児死亡数，月・性・区別'!G28/(SUM([1]出生数!N12:Y12)*[1]出生数!Y$15/SUM([1]出生数!N$15:Y$15))*1000 -> 0 | G12: ='3 乳児死亡数，月・性・区別'!H28/(SUM([1]出生数!O12:Z12)*[1]出生数!Z$15/SUM([1]出生数!O$15:Z$15))*1000 -> 0 | H12: ='3 乳児死亡数，月・性・区別'!I28/(SUM([1]出生数!P12:AA12)*[1]出生数!AA$15/SUM([1]出生数!P$15:AA$15))*1000 -> 17.380952 | I12: ='3 乳児死亡数，月・性・区別'!J28/(SUM([1]出生数!Q12:AB12)*[1]出生数!AB$15/SUM([1]出生数!Q$15:AB$15))*1000 -> 0 | J12: ='3 乳児死亡数，月・性・区別'!K28/(SUM([1]出生数!R12:AC12)*[1]出生数!AC$15/SUM([1]出生数!R$15:AC$15))*1000 -> 0 | ... N12: ='3 乳児死亡数，月・性・区別'!O28/(SUM([1]出生数!V12:AG12)*[1]出生数!AG$15/SUM([1]出生数!V$15:AG$15))*1000 -> 0
A13: 西 | B13: ='3 乳児死亡数，月・性・区別'!C31/[1]出生数!G13*1000 -> 1.9607843 | C13: ='3 乳児死亡数，月・性・区別'!D31/(SUM([1]出生数!K13:V13)*[1]出生数!V$15/SUM([1]出生数!K$15:V$15))*1000 -> 7.1445349 | D13: ='3 乳児死亡数，月・性・区別'!E31/(SUM([1]出生数!L13:W13)*[1]出生数!W$15/SUM([1]出生数!L$15:W$15))*1000 -> 0 | E13: ='3 乳児死亡数，月・性・区別'!F31/(SUM([1]出生数!M13:X13)*[1]出生数!X$15/SUM([1]出生数!M$15:X$15))*1000 -> 0 | F13: ='3 乳児死亡数，月・性・区別'!G31/(SUM([1]出生数!N13:Y13)*[1]出生数!Y$15/SUM([1]出生数!N$15:Y$15))*1000 -> 0 | G13: ='3 乳児死亡数，月・性・区別'!H31/(SUM([1]出生数!O13:Z13)*[1]出生数!Z$15/SUM([1]出生数!O$15:Z$15))*1000 -> 7.2770047 | H13: ='3 乳児死亡数，月・性・区別'!I31/(SUM([1]出生数!P13:AA13)*[1]出生数!AA$15/SUM([1]出生数!P$15:AA$15))*1000 -> 0 | I13: ='3 乳児死亡数，月・性・区別'!J31/(SUM([1]出生数!Q13:AB13)*[1]出生数!AB$15/SUM([1]出生数!Q$15:AB$15))*1000 -> 0 | J13: ='3 乳児死亡数，月・性・区別'!K31/(SUM([1]出生数!R13:AC13)*[1]出生数!AC$15/SUM([1]出生数!R$15:AC$15))*1000 -> 0 | ... N13: ='3 乳児死亡数，月・性・区別'!O31/(SUM([1]出生数!V13:AG13)*[1]出生数!AG$15/SUM([1]出生数!V$15:AG$15))*1000 -> 7.6955513
A14: 手稲 | B14: ='3 乳児死亡数，月・性・区別'!C34/[1]出生数!G14*1000 -> 2.4721879 | C14: ='3 乳児死亡数，月・性・区別'!D34/(SUM([1]出生数!K14:V14)*[1]出生数!V$15/SUM([1]出生数!K$15:V$15))*1000 -> 0 | D14: ='3 乳児死亡数，月・性・区別'!E34/(SUM([1]出生数!L14:W14)*[1]出生数!W$15/SUM([1]出生数!L$15:W$15))*1000 -> 0 | E14: ='3 乳児死亡数，月・性・区別'!F34/(SUM([1]出生数!M14:X14)*[1]出生数!X$15/SUM([1]出生数!M$15:X$15))*1000 -> 0 | F14: ='3 乳児死亡数，月・性・区別'!G34/(SUM([1]出生数!N14:Y14)*[1]出生数!Y$15/SUM([1]出生数!N$15:Y$15))*1000 -> 0 | G14: ='3 乳児死亡数，月・性・区別'!H34/(SUM([1]出生数!O14:Z14)*[1]出生数!Z$15/SUM([1]出生数!O$15:Z$15))*1000 -> 0 | H14: ='3 乳児死亡数，月・性・区別'!I34/(SUM([1]出生数!P14:AA14)*[1]出生数!AA$15/SUM([1]出生数!P$15:AA$15))*1000 -> 0 | I14: ='3 乳児死亡数，月・性・区別'!J34/(SUM([1]出生数!Q14:AB14)*[1]出生数!AB$15/SUM([1]出生数!Q$15:AB$15))*1000 -> 0 | J14: ='3 乳児死亡数，月・性・区別'!K34/(SUM([1]出生数!R14:AC14)*[1]出生数!AC$15/SUM([1]出生数!R$15:AC$15))*1000 -> 27.834973 | ... N14: ='3 乳児死亡数，月・性・区別'!O34/(SUM([1]出生数!V14:AG14)*[1]出生数!AG$15/SUM([1]出生数!V$15:AG$15))*1000 -> 0

Sheet 死亡の場所別，区別死亡数
A1: 死亡の場所別にみた区別乳児死亡数及び百分率
A3: 区 | B3: 総数 | C3: 施設内 | G3: 施設外 | K3: データの個数 : 客体区分 | L3: 乳児死亡 | M3: 死亡場所区分
C4: 総 数 | D4: 病院 | E4: 診療所 | F4: 助産所 | G4: 総 数 | H4: 自宅 | I4: その他 | L4: 乳児 | P4: 乳児 計 | Q4: 総計
A5: 総数 | B5: =SUM(C5,G5) -> 0 | C5: =SUM(D5:E5) -> 0 | D5: =SUM(D6:D15) -> 0 | E5: =SUM(E6:E15) -> 0 | F5: =SUM(F6:F15) -> 0 | G5: =SUM(H5:I5) -> 0 | H5: =SUM(H6:H15) -> 0 | I5: =SUM(I6:I15) -> 0 | K5: 区コード | L5: 1 病院 | M5: 2 診療所 | N5: 6 自宅 | O5: 7 その他
A6: 中央 | B6: =SUM(C6,G6) -> 0 | C6: =SUM(D6:E6) -> 0 | G6: =SUM(H6:I6) -> 0 | K6: 10 中央区 | L6: 4 | N6: 1 | P6: 5 | Q6: 5
A7: 北 | B7: =SUM(C7,G7) -> 0 | C7: =SUM(D7:E7) -> 0 | G7: =SUM(H7:I7) -> 0 | K7: 20 北区 | L7: 3 | N7: 2 | P7: 5 | Q7: 5
A8: 東 | B8: =SUM(C8,G8) -> 0 | C8: =SUM(D8:E8) -> 0 | G8: =SUM(H8:I8) -> 0 | K8: 30 東区 | L8: 5 | M8: 1 | N8: 1 | P8: 7 | Q8: 7
A9: 白石 | B9: =SUM(C9,G9) -> 0 | C9: =SUM(D9:E9) -> 0 | G9: =SUM(H9:I9) -> 0 | K9: 40 白石区 | L9: 2 | N9: 2 | P9: 4 | Q9: 4
A10: 厚別 | B10: =SUM(C10,G10) -> 0 | C10: =SUM(D10:E10) -> 0 | G10: =SUM(H10:I10) -> 0 | K10: 50 豊平区 | L10: 5 | P10: 5 | Q10: 5
A11: 豊平 | B11: =SUM(C11,G11) -> 0 | C11: =SUM(D11:E11) -> 0 | G11: =SUM(H11:I11) -> 0 | K11: 70 西区 | L11: 3 | N11: 2 | O11: 1 | P11: 6 | Q11: 6
A12: 清田 | B12: =SUM(C12,G12) -> 0 | C12: =SUM(D12:E12) -> 0 | G12: =SUM(H12:I12) -> 0 | K12: 75 手稲区 | N12: 1 | P12: 1 | Q12: 1
A13: 南 | B13: =SUM(C13,G13) -> 0 | C13: =SUM(D13:E13) -> 0 | G13: =SUM(H13:I13) -> 0 | K13: 総計 | L13: 22 | M13: 1 | N13: 9 | O13: 1 | P13: 33 | Q13: 33
A14: 西 | B14: =SUM(C14,G14) -> 0 | C14: =SUM(D14:E14) -> 0 | G14: =SUM(H14:I14) -> 0
A15: 手稲 | B15: =SUM(C15,G15) -> 0 | C15: =SUM(D15:E15) -> 0 | G15: =SUM(H15:I15) -> 0
