Workbook

Sheet 1 初婚-再婚別，年次別婚姻件数・再婚の割合・婚姻率
A1: 第7章 婚 姻
A2: 1 年次別にみた初婚-再婚別婚姻件数・総件数に対する再婚件数の割合及び婚姻率（人口千対）
A4: 年 次 | B4: 総数 | C4: 夫 | E4: 妻 | G4: 総件数に対する 再婚件数の割合 | I4: 婚姻率
C5: 初婚 | D5: 再婚 | E5: 初婚 | F5: 再婚 | G5: 夫 | H5: 妻
A6: 1950 昭和25年 | B6: 3105 | C6: … | D6: … | E6: … | F6: … | G6: ・ | H6: ・ | I6: 9.8932611 | K6: 313850
A7: 55 30 | B7: 4154 | C7: … | D7: … | E7: … | F7: … | G7: ・ | H7: ・ | I7: 9.7370025 | K7: 426620
A8: 60 35 | B8: 6651 | C8: 5961 | D8: 690 | E8: 6175 | F8: 476 | G8: 10.37438 | H8: 7.1568185 | I8: 12.696649 | K8: 523839
A9: 65 40 | B9: 10222 | C9: 9235 | D9: 987 | E9: 9469 | F9: 753 | G9: 9.6556447 | H9: 7.3664645 | I9: 12.85935 | K9: 794908
A10: 70 45 | B10: 12776 | C10: 11476 | D10: 1300 | E10: 11714 | F10: 1062 | G10: 10.175329 | H10: 8.3124609 | I10: 12.647965 | K10: 1010123
A11: 72 47 | B11: 14158 | C11: 12532 | D11: 1626 | E11: 13001 | F11: 1157 | G11: 11.484673 | H11: 8.1720582 | I11: 12.881425 | K11: 1099102
A12: 73 48 | B12: 15047 | C12: 13308 | D12: 1739 | E12: 13633 | F12: 1414 | G12: 11.557121 | H12: 9.397222 | I12: 13.057359 | K12: 1152377
A13: 74 49 | B13: 15712 | C13: 13336 | D13: 2376 | E13: 13594 | F13: 2118 | G13: 15.1222 | H13: 13.480143 | I13: 13.077009 | K13: 1201498
A14: 75 50 | B14: 14533 | C14: 12692 | D14: 1841 | E14: 12939 | F14: 1594 | G14: 12.667722 | H14: 10.968141 | I14: 11.71437 | K14: 1240613
A15: 76 51 | B15: 13508 | C15: 11631 | D15: 1877 | E15: 11860 | F15: 1648 | G15: 13.895469 | H15: 12.200178 | I15: 10.589958 | K15: 1275548
A16: 77 52 | B16: 12550 | C16: 10718 | D16: 1832 | E16: 10913 | F16: 1637 | G16: 14.59761 | H16: 13.043825 | I16: 9.6117614 | K16: 1305692
A17: 78 53 | B17: 11959 | C17: 10090 | D17: 1869 | E17: 10376 | F17: 1583 | G17: 15.628397 | H17: 13.236893 | I17: 8.9666967 | K17: 1333713
A18: 79 54 | B18: 12329 | C18: 10333 | D18: 1996 | E18: 10581 | F18: 1748 | G18: 16.189472 | H18: 14.177954 | I18: 9.0182017 | K18: 1367124
A19: 80 55 | B19: 12382 | C19: 10313 | D19: 2069 | E19: 10597 | F19: 1785 | G19: 16.70974 | H19: 14.416088 | I19: 8.8332 | K19: 1401757
... A44: 05 17 | B44: 11191 | C44: 8756 | D44: 2435 | E44: 9215 | F44: 1976 | G44: 21.758556 | H44: 17.657046 | I44: 6 | K44: 1880863
A45: 06 18 | B45: 11644 | C45: 9039 | D45: 2605 | E45: 9535 | F45: 2109 | G45: 22.372037 | H45: 18.112333 | I45: =B45/K45*1000 -> 6.1626073 | K45: 1889460
A46: 07 19 | B46: 11357 | C46: 8817 | D46: 2540 | E46: 9395 | F46: 1962 | G46: 22.365061 | H46: 17.275689 | I46: =B46/K46*1000 -> 5.9902917 | K46: 1895901
A47: 08 20 | B47: 11625 | C47: 9107 | D47: 2518 | E47: 9485 | F47: 2140 | G47: 21.660215 | H47: 18.408602 | I47: =B47/K47*1000 -> 6.1157977 | K47: 1900815
A48: 09 21 | B48: 11225 | C48: 8791 | D48: 2434 | E48: 9225 | F48: 2000 | G48: 21.683742 | H48: 17.817372 | I48: =B48/K48*1000 -> 5.884962 | K48: 1907404
A49: 10 22 | B49: 11522 | C49: 8958 | D49: 2564 | E49: 9455 | F49: 2067 | G49: 22.253081 | H49: 17.939594 | I49: 6.0429838 | K49: 1906674
A50: 11 23 | B50: 10576 | C50: 8224 | D50: 2352 | E50: 8649 | F50: 1927 | G50: 22.239032 | H50: 18.220499 | I50: 5.5027876 | K50: 1921935
A51: 12 24 | B51: 10859 | C51: 8363 | D51: 2496 | E51: 8924 | F51: 1935 | G51: 22.985542 | H51: 17.81932 | I51: 5.6299954 | K51: 1928776
A52: 13 25 | B52: 10914 | C52: 8364 | D52: 2550 | E52: 8835 | F52: 2079 | G52: 23.364486 | H52: 19.048928 | I52: 5.6368464 | K52: 1936189
A53: 14 26 | B53: 10752 | C53: 8202 | D53: 2550 | E53: 8715 | F53: 2037 | G53: 23.716518 | H53: 18.945312 | I53: 5.5347134 | K53: 1942648
A54: 15 27 | B54: 10800 | C54: 8160 | D54: 2640 | E54: 8745 | F54: 2055 | G54: 24.444444 | H54: 19.027778 | I54: 2） 5.6 | K54: 1943527
A55: 16 28 | B55: 10495 | C55: 7966 | D55: 2529 | E55: 8505 | F55: 1990 | G55: 24.1 | H55: 19 | I55: 5.4 | K55: 1958405
A56: 17 29 | B56: 10134 | C56: 7764 | D56: 2370 | E56: 8243 | F56: 1891 | G56: 23.386619 | H56: 18.659957 | I56: 5.162722 | K56: 1962918
A57: 18 30 | B57: =SUM(C57:D57) -> 9878 | C57: ='[1]■1 初婚-再婚別，年次別婚姻件数・再婚の割合・婚姻率'!$C$6 -> 7565 | D57: ='[1]■1 初婚-再婚別，年次別婚姻件数・再婚の割合・婚姻率'!$D$6 -> 2313 | E57: ='[1]■1 初婚-再婚別，年次別婚姻件数・再婚の割合・婚姻率'!$E$6 -> 8012 | F57: ='[1]■1 初婚-再婚別，年次別婚姻件数・再婚の割合・婚姻率'!$F$6 -> 1866 | G57: =D57/B57*100 -> 23.415671 | H57: =F57/B57*100 -> 18.890464 | I57: =B57/K57*1000 -> 5.0245684 | K57: =[2]人口!$B$42 -> 1965940
A58: 1) 本市の集計による。
A59: 2) 率算出に用いた人口は「平成27年国勢調査 年齢・国籍不詳をあん分した人口（参考表」（総務省統計局）における
A60: 日本人人口による。

Sheet 2　初婚再婚の組合せ別，年次別婚姻件数・再婚割合
A1: 2 夫妻の初婚・再婚の組合せ別にみた年次別婚姻件数及び百分率
A3: 年 次 | B3: 婚姻件数 | G3: 百分率
B4: 総数 | C4: 夫妻とも 初 婚 | D4: 夫初婚 妻再婚 | E4: 夫再婚 妻初婚 | F4: 夫妻とも 再 婚 | G4: 総数 | H4: 夫妻とも 初 婚 | I4: 夫初婚 妻再婚 | J4: 夫再婚 妻初婚 | K4: 夫妻とも 再 婚
A5: 85 60 | B5: =SUM(C5,F5,D5,E5) -> 11994 | C5: 9124 | D5: 695 | E5: 1047 | F5: 1128 | G5: =SUM(H5:K5) -> 100 | H5: =C5/$B5*100 -> 76.071369 | I5: =D5/$B5*100 -> 5.7945639 | J5: =E5/$B5*100 -> 8.7293647 | K5: =F5/$B5*100 -> 9.4047024
A6: 1986 昭和61年 | B6: =SUM(C6,F6,D6,E6) -> 11788 | C6: 8839 | D6: 673 | E6: 1063 | F6: 1213 | G6: =SUM(H6:K6) -> 100 | H6: =C6/$B6*100 -> 74.983034 | I6: =D6/$B6*100 -> 5.7091958 | J6: =E6/$B6*100 -> 9.0176451 | K6: =F6/$B6*100 -> 10.290126
A7: 1987 昭和62年 | B7: =SUM(C7,F7,D7,E7) -> 11423 | C7: 8448 | D7: 685 | E7: 1042 | F7: 1248 | G7: =SUM(H7:K7) -> 100 | H7: =C7/$B7*100 -> 73.956054 | I7: =D7/$B7*100 -> 5.9966734 | J7: =E7/$B7*100 -> 9.1219469 | K7: =F7/$B7*100 -> 10.925326
A8: 1988 昭和63年 | B8: 11982 | C8: 8754 | D8: 758 | E8: 1140 | F8: 1330 | G8: 100 | H8: 73.059589 | I8: 6.3261559 | J8: 9.5142714 | K8: 11.099983
A9: 89 平成元年 | B9: 11975 | C9: 8880 | D9: 729 | E9: 1112 | F9: 1254 | G9: 100 | H9: 74.154489 | I9: 6.0876827 | J9: 9.2860125 | K9: 10.471816
A10: 90 2 | B10: 12329 | C10: 9193 | D10: 737 | E10: 1115 | F10: 1284 | G10: 100 | H10: 74.564036 | I10: 5.977776 | J10: 9.0437181 | K10: 10.41447
A11: 91 3 | B11: 12687 | C11: 9528 | D11: 758 | E11: 1165 | F11: 1236 | G11: 100 | H11: 75.100497 | I11: 5.9746197 | J11: 9.1826279 | K11: 9.7422559
A12: 92 4 | B12: 12777 | C12: 9649 | D12: 711 | E12: 1151 | F12: 1266 | G12: 100 | H12: 75.51851 | I12: 5.5646865 | J12: 9.0083744 | K12: 9.9084292
A13: 1993 平成5年 | B13: 13263 | C13: 10053 | D13: 802 | E13: 1165 | F13: 1243 | G13: 100 | H13: 75.797331 | I13: 6.0468974 | J13: 8.7838347 | K13: 9.371937
A14: 94 6 | B14: 12975 | C14: 9813 | D14: 766 | E14: 1255 | F14: 1141 | G14: 100 | H14: 75.630058 | I14: 5.9036609 | J14: 9.672447 | K14: 8.7938343
A15: 95 7 | B15: 13026 | C15: 9916 | D15: 775 | E15: 1205 | F15: 1130 | G15: 100 | H15: 76.124674 | I15: 5.9496392 | J15: 9.2507293 | K15: 8.6749578
A16: 96 8 | B16: 13111 | C16: 9927 | D16: 780 | E16: 1215 | F16: 1189 | G16: 100 | H16: 75.715048 | I16: 5.949203 | J16: 9.2670277 | K16: 9.0687209
A17: 97 9 | B17: 12417 | C17: 9293 | D17: 798 | E17: 1179 | F17: 1147 | G17: 100 | H17: 74.840944 | I17: 6.4266731 | J17: 9.4950471 | K17: 9.2373359
A18: 1998 平成10年 | B18: 12500 | C18: 9360 | D18: 799 | E18: 1170 | F18: 1171 | G18: 100 | H18: 74.88 | I18: 6.392 | J18: 9.36 | K18: 9.368
A19: 99 11 | B19: 12032 | C19: 9099 | D19: 699 | E19: 1149 | F19: 1085 | G19: 100 | H19: 75.623338 | I19: 5.809508 | J19: 9.5495346 | K19: 9.0176197
... A37: 17 29 | B37: 10134 | C37: 6993 | D37: 771 | E37: 1250 | F37: 1120 | G37: 100 | H37: 69.005329 | I37: 7.6080521 | J37: 12.334715 | K37: 11.051904
A38: 18 30 | B38: =SUM(C38,F38,D38,E38) -> 9878 | C38: ='[1]■2 初婚再婚の組合せ別，年次別婚姻件数・再婚割合'!$C$5 -> 6825 | D38: ='[1]■2 初婚再婚の組合せ別，年次別婚姻件数・再婚割合'!$D$5 -> 740 | E38: ='[1]■2 初婚再婚の組合せ別，年次別婚姻件数・再婚割合'!$E$5 -> 1187 | F38: ='[1]■2 初婚再婚の組合せ別，年次別婚姻件数・再婚割合'!$F$5 -> 1126 | G38: =SUM(H38:K38) -> 100 | H38: =C38/$B38*100 -> 69.092934 | I38: =D38/$B38*100 -> 7.491395 | J38: =E38/$B38*100 -> 12.016603 | K38: =F38/$B38*100 -> 11.399069

Sheet 3　初婚再婚の組合せ別，区別婚姻件数・再婚割合 
A1: 3 夫妻の初婚・再婚の組合せ別にみた区別婚姻件数及び百分率
K2: 平成30年
A3: 区 | B3: 婚姻件数 | G3: 百分率
B4: 総数 | C4: 夫妻とも 初 婚 | D4: 夫初婚 妻再婚 | E4: 夫再婚 妻初婚 | F4: 夫妻とも 再 婚 | G4: 総数 | H4: 夫妻とも 初 婚 | I4: 夫初婚 妻再婚 | J4: 夫再婚 妻初婚 | K4: 夫妻とも 再 婚
A5: 総数 | B5: =SUM(C5,F5,D5,E5) -> 9878 | C5: =SUM(C6:C15) -> 6825 | D5: =SUM(D6:D15) -> 740 | E5: =SUM(E6:E15) -> 1187 | F5: =SUM(F6:F15) -> 1126 | G5: =SUM(H5:K5) -> 100 | H5: =C5/$B5*100 -> 69.092934 | I5: =D5/$B5*100 -> 7.491395 | J5: =E5/$B5*100 -> 12.016603 | K5: =F5/$B5*100 -> 11.399069
A6: 中央 | B6: =SUM(C6,F6,D6,E6) -> 1556 | C6: 1117 | D6: 91 | E6: 220 | F6: 128 | G6: =SUM(H6:K6) -> 100 | H6: =C6/$B6*100 -> 71.786632 | I6: =D6/$B6*100 -> 5.848329 | J6: =E6/$B6*100 -> 14.138817 | K6: =F6/$B6*100 -> 8.2262211
A7: 北 | B7: =SUM(C7,F7,D7,E7) -> 1213 | C7: 803 | D7: 110 | E7: 133 | F7: 167 | G7: =SUM(H7:K7) -> 100 | H7: =C7/$B7*100 -> 66.199505 | I7: =D7/$B7*100 -> 9.0684254 | J7: =E7/$B7*100 -> 10.964551 | K7: =F7/$B7*100 -> 13.767519
A8: 東 | B8: =SUM(C8,F8,D8,E8) -> 1408 | C8: 943 | D8: 115 | E8: 168 | F8: 182 | G8: =SUM(H8:K8) -> 100 | H8: =C8/$B8*100 -> 66.974432 | I8: =D8/$B8*100 -> 8.1676136 | J8: =E8/$B8*100 -> 11.931818 | K8: =F8/$B8*100 -> 12.926136
A9: 白石 | B9: =SUM(C9,F9,D9,E9) -> 1455 | C9: 1048 | D9: 95 | E9: 158 | F9: 154 | G9: =SUM(H9:K9) -> 100 | H9: =C9/$B9*100 -> 72.027491 | I9: =D9/$B9*100 -> 6.5292096 | J9: =E9/$B9*100 -> 10.859107 | K9: =F9/$B9*100 -> 10.584192
A10: 厚別 | B10: =SUM(C10,F10,D10,E10) -> 440 | C10: 298 | D10: 42 | E10: 55 | F10: 45 | G10: =SUM(H10:K10) -> 100 | H10: =C10/$B10*100 -> 67.727273 | I10: =D10/$B10*100 -> 9.5454545 | J10: =E10/$B10*100 -> 12.5 | K10: =F10/$B10*100 -> 10.227273
A11: 豊平 | B11: =SUM(C11,F11,D11,E11) -> 1458 | C11: 1082 | D11: 89 | E11: 156 | F11: 131 | G11: =SUM(H11:K11) -> 100 | H11: =C11/$B11*100 -> 74.211248 | I11: =D11/$B11*100 -> 6.1042524 | J11: =E11/$B11*100 -> 10.699588 | K11: =F11/$B11*100 -> 8.9849108
A12: 清田 | B12: =SUM(C12,F12,D12,E12) -> 312 | C12: 161 | D12: 33 | E12: 47 | F12: 71 | G12: =SUM(H12:K12) -> 100 | H12: =C12/$B12*100 -> 51.602564 | I12: =D12/$B12*100 -> 10.576923 | J12: =E12/$B12*100 -> 15.064103 | K12: =F12/$B12*100 -> 22.75641
A13: 南 | B13: =SUM(C13,F13,D13,E13) -> 445 | C13: 263 | D13: 43 | E13: 60 | F13: 79 | G13: =SUM(H13:K13) -> 100 | H13: =C13/$B13*100 -> 59.101124 | I13: =D13/$B13*100 -> 9.6629213 | J13: =E13/$B13*100 -> 13.483146 | K13: =F13/$B13*100 -> 17.752809
A14: 西 | B14: =SUM(C14,F14,D14,E14) -> 1132 | C14: 824 | D14: 77 | E14: 130 | F14: 101 | G14: =SUM(H14:K14) -> 100 | H14: =C14/$B14*100 -> 72.791519 | I14: =D14/$B14*100 -> 6.8021201 | J14: =E14/$B14*100 -> 11.484099 | K14: =F14/$B14*100 -> 8.9222615
A15: 手稲 | B15: =SUM(C15,F15,D15,E15) -> 459 | C15: 286 | D15: 45 | E15: 60 | F15: 68 | G15: =SUM(H15:K15) -> 100 | H15: =C15/$B15*100 -> 62.309368 | I15: =D15/$B15*100 -> 9.8039216 | J15: =E15/$B15*100 -> 13.071895 | K15: =F15/$B15*100 -> 14.814815

Sheet 4　届出月別，区別婚姻件数・百分率
A1: 4 届出月別にみた区別婚姻件数及び百分率
N2: ='3 初婚再婚の組合せ別，区別婚姻件数・再婚割合 '!$K$2 -> 平成30年
A3: 区 | B3: 総 数 | C3: 1 月 | D3: 2 月 | E3: 3 月 | F3: 4 月 | G3: 5 月 | H3: 6 月 | I3: 7 月 | J3: 8 月 | K3: 9 月 | L3: 10月 | M3: 11月 | N3: 12月
B4: 婚姻件数
A5: 総数 | B5: =SUM(C5:N5) -> 9878 | C5: =SUM(C6:C15) -> 668 | D5: =SUM(D6:D15) -> 882 | E5: =SUM(E6:E15) -> 933 | F5: =SUM(F6:F15) -> 829 | G5: =SUM(G6:G15) -> 747 | H5: =SUM(H6:H15) -> 713 | I5: =SUM(I6:I15) -> 845 | J5: =SUM(J6:J15) -> 770 | ... N5: =SUM(N6:N15) -> 867
A6: 中央 | B6: =SUM(C6:N6) -> 1556 | C6: 91 | D6: 169 | E6: 135 | F6: 116 | G6: 121 | H6: 110 | I6: 126 | J6: 123 | K6: 175 | L6: 95 | M6: 150 | N6: 145
A7: 北 | B7: =SUM(C7:N7) -> 1213 | C7: 87 | D7: 100 | E7: 132 | F7: 114 | G7: 89 | H7: 108 | I7: 91 | J7: 82 | K7: 103 | L7: 75 | M7: 132 | N7: 100
A8: 東 | B8: =SUM(C8:N8) -> 1408 | C8: 96 | D8: 125 | E8: 135 | F8: 124 | G8: 103 | H8: 91 | I8: 120 | J8: 114 | K8: 136 | L8: 110 | M8: 137 | N8: 117
A9: 白石 | B9: =SUM(C9:N9) -> 1455 | C9: 91 | D9: 126 | E9: 118 | F9: 116 | G9: 115 | H9: 114 | I9: 114 | J9: 123 | K9: 143 | L9: 100 | M9: 161 | N9: 134
A10: 厚別 | B10: =SUM(C10:N10) -> 440 | C10: 26 | D10: 40 | E10: 46 | F10: 39 | G10: 37 | H10: 27 | I10: 43 | J10: 35 | K10: 40 | L10: 38 | M10: 41 | N10: 28
A11: 豊平 | B11: =SUM(C11:N11) -> 1458 | C11: 99 | D11: 132 | E11: 146 | F11: 113 | G11: 111 | H11: 107 | I11: 129 | J11: 115 | K11: 127 | L11: 109 | M11: 142 | N11: 128
A12: 清田 | B12: =SUM(C12:N12) -> 312 | C12: 24 | D12: 26 | E12: 34 | F12: 26 | G12: 23 | H12: 16 | I12: 30 | J12: 29 | K12: 24 | L12: 21 | M12: 28 | N12: 31
A13: 南 | B13: =SUM(C13:N13) -> 445 | C13: 31 | D13: 45 | E13: 42 | F13: 45 | G13: 38 | H13: 25 | I13: 37 | J13: 29 | K13: 34 | L13: 32 | M13: 47 | N13: 40
A14: 西 | B14: =SUM(C14:N14) -> 1132 | C14: 83 | D14: 87 | E14: 101 | F14: 101 | G14: 82 | H14: 79 | I14: 125 | J14: 80 | K14: 100 | L14: 85 | M14: 111 | N14: 98
A15: 手稲 | B15: =SUM(C15:N15) -> 459 | C15: 40 | D15: 32 | E15: 44 | F15: 35 | G15: 28 | H15: 36 | I15: 30 | J15: 40 | K15: 45 | L15: 38 | M15: 45 | N15: 46
B16: 百分率
A17: 総数 | B17: =SUM(C17:N17) -> 100 | C17: =C5/$B5*100 -> 6.7625025 | D17: =D5/$B5*100 -> 8.928933 | E17: =E5/$B5*100 -> 9.4452318 | F17: =F5/$B5*100 -> 8.3923871 | G17: =G5/$B5*100 -> 7.5622596 | H17: =H5/$B5*100 -> 7.2180603 | I17: =I5/$B5*100 -> 8.5543632 | J17: =J5/$B5*100 -> 7.7951002 | ... N17: =N5/$B5*100 -> 8.7770804
A18: 中央 | B18: =SUM(C18:N18) -> 100 | C18: =C6/$B6*100 -> 5.848329 | D18: =D6/$B6*100 -> 10.861183 | E18: =E6/$B6*100 -> 8.6760925 | F18: =F6/$B6*100 -> 7.4550129 | G18: =G6/$B6*100 -> 7.7763496 | H18: =H6/$B6*100 -> 7.0694087 | I18: =I6/$B6*100 -> 8.0976864 | J18: =J6/$B6*100 -> 7.9048843 | ... N18: =N6/$B6*100 -> 9.3187661
A19: 北 | B19: =SUM(C19:N19) -> 100 | C19: =C7/$B7*100 -> 7.1723001 | D19: =D7/$B7*100 -> 8.2440231 | E19: =E7/$B7*100 -> 10.88211 | F19: =F7/$B7*100 -> 9.3981863 | G19: =G7/$B7*100 -> 7.3371805 | H19: =H7/$B7*100 -> 8.9035449 | I19: =I7/$B7*100 -> 7.502061 | J19: =J7/$B7*100 -> 6.7600989 | ... N19: =N7/$B7*100 -> 8.2440231
A20: 東 | B20: =SUM(C20:N20) -> 100 | C20: =C8/$B8*100 -> 6.8181818 | D20: =D8/$B8*100 -> 8.8778409 | E20: =E8/$B8*100 -> 9.5880682 | F20: =F8/$B8*100 -> 8.8068182 | G20: =G8/$B8*100 -> 7.3153409 | H20: =H8/$B8*100 -> 6.4630682 | I20: =I8/$B8*100 -> 8.5227273 | J20: =J8/$B8*100 -> 8.0965909 | ... N20: =N8/$B8*100 -> 8.3096591
A21: 白石 | B21: =SUM(C21:N21) -> 100 | C21: =C9/$B9*100 -> 6.2542955 | D21: =D9/$B9*100 -> 8.6597938 | E21: =E9/$B9*100 -> 8.1099656 | F21: =F9/$B9*100 -> 7.9725086 | G21: =G9/$B9*100 -> 7.9037801 | H21: =H9/$B9*100 -> 7.8350515 | I21: =I9/$B9*100 -> 7.8350515 | J21: =J9/$B9*100 -> 8.4536082 | ... N21: =N9/$B9*100 -> 9.209622
A22: 厚別 | B22: =SUM(C22:N22) -> 100 | C22: =C10/$B10*100 -> 5.9090909 | D22: =D10/$B10*100 -> 9.0909091 | E22: =E10/$B10*100 -> 10.454545 | F22: =F10/$B10*100 -> 8.8636364 | G22: =G10/$B10*100 -> 8.4090909 | H22: =H10/$B10*100 -> 6.1363636 | I22: =I10/$B10*100 -> 9.7727273 | J22: =J10/$B10*100 -> 7.9545455 | ... N22: =N10/$B10*100 -> 6.3636364
A23: 豊平 | B23: =SUM(C23:N23) -> 100 | C23: =C11/$B11*100 -> 6.7901235 | D23: =D11/$B11*100 -> 9.0534979 | E23: =E11/$B11*100 -> 10.013717 | F23: =F11/$B11*100 -> 7.7503429 | G23: =G11/$B11*100 -> 7.6131687 | H23: =H11/$B11*100 -> 7.3388203 | I23: =I11/$B11*100 -> 8.8477366 | J23: =J11/$B11*100 -> 7.8875171 | ... N23: =N11/$B11*100 -> 8.7791495
A24: 清田 | B24: =SUM(C24:N24) -> 100 | C24: =C12/$B12*100 -> 7.6923077 | D24: =D12/$B12*100 -> 8.3333333 | E24: =E12/$B12*100 -> 10.897436 | F24: =F12/$B12*100 -> 8.3333333 | G24: =G12/$B12*100 -> 7.3717949 | H24: =H12/$B12*100 -> 5.1282051 | I24: =I12/$B12*100 -> 9.6153846 | J24: =J12/$B12*100 -> 9.2948718 | ... N24: =N12/$B12*100 -> 9.9358974
A25: 南 | B25: =SUM(C25:N25) -> 100 | C25: =C13/$B13*100 -> 6.9662921 | D25: =D13/$B13*100 -> 10.11236 | E25: =E13/$B13*100 -> 9.4382022 | F25: =F13/$B13*100 -> 10.11236 | G25: =G13/$B13*100 -> 8.5393258 | H25: =H13/$B13*100 -> 5.6179775 | I25: =I13/$B13*100 -> 8.3146067 | J25: =J13/$B13*100 -> 6.5168539 | ... N25: =N13/$B13*100 -> 8.988764
A26: 西 | B26: =SUM(C26:N26) -> 100 | C26: =C14/$B14*100 -> 7.3321555 | D26: =D14/$B14*100 -> 7.6855124 | E26: =E14/$B14*100 -> 8.9222615 | F26: =F14/$B14*100 -> 8.9222615 | G26: =G14/$B14*100 -> 7.2438163 | H26: =H14/$B14*100 -> 6.9787986 | I26: =I14/$B14*100 -> 11.042403 | J26: =J14/$B14*100 -> 7.0671378 | ... N26: =N14/$B14*100 -> 8.6572438
A27: 手稲 | B27: =SUM(C27:N27) -> 100 | C27: =C15/$B15*100 -> 8.7145969 | D27: =D15/$B15*100 -> 6.9716776 | E27: =E15/$B15*100 -> 9.5860566 | F27: =F15/$B15*100 -> 7.6252723 | G27: =G15/$B15*100 -> 6.1002179 | H27: =H15/$B15*100 -> 7.8431373 | I27: =I15/$B15*100 -> 6.5359477 | J27: =J15/$B15*100 -> 8.7145969 | ... N27: =N15/$B15*100 -> 10.021786

Sheet 5 夫妻の年齢別（5歳階級），婚姻件数・百分率
A1: 5 夫妻の年齢（5歳階級）別にみた婚姻件数及び百分率
O2: ='3 初婚再婚の組合せ別，区別婚姻件数・再婚割合 '!$K$2 -> 平成30年
A3: 妻の年齢 | B3: 夫 の 年 齢
B4: 総 数 | C4: 19歳以下 | D4: 20～24 | E4: 25～29 | F4: 30～34 | G4: 35～39 | H4: 40～44 | I4: 45～49 | J4: 50～54 | K4: 55～59 | L4: 60～64 | M4: 65～69 | N4: 70歳～ | O4: 不 詳
B5: 婚姻件数
A6: 総 数 | B6: =SUM(C6:O6) -> 9878 | C6: =SUM(C7:C19) -> 49 | D6: =SUM(D7:D19) -> 945 | E6: =SUM(E7:E19) -> 2992 | F6: =SUM(F7:F19) -> 2351 | G6: =SUM(G7:G19) -> 1366 | H6: =SUM(H7:H19) -> 849 | I6: =SUM(I7:I19) -> 577 | J6: =SUM(J7:J19) -> 284 | ... O6: =SUM(O7:O19) -> 0
A7: 19歳以下 | B7: =SUM(C7:O7) -> 86 | C7: 31 | D7: 42 | E7: 5 | F7: 6 | G7: 1 | H7: 0 | I7: 1 | J7: 0 | K7: 0 | L7: 0 | M7: 0 | N7: 0 | O7: 0
A8: 20～24 | B8: =SUM(C8:O8) -> 1464 | C8: 15 | D8: 647 | E8: 498 | F8: 190 | G8: 72 | H8: 26 | I8: 13 | J8: 2 | K8: 0 | L8: 1 | M8: 0 | N8: 0 | O8: 0
A9: 25～29 | B9: =SUM(C9:O9) -> 3407 | C9: 2 | D9: 200 | E9: 1975 | F9: 836 | G9: 254 | H9: 90 | I9: 44 | J9: 3 | K9: 2 | L9: 1 | M9: 0 | N9: 0 | O9: 0
A10: 30～34 | B10: =SUM(C10:O10) -> 2230 | C10: 1 | D10: 47 | E10: 422 | F10: 1020 | G10: 460 | H10: 182 | I10: 71 | J10: 22 | K10: 3 | L10: 2 | M10: 0 | N10: 0 | O10: 0
A11: 35～39 | B11: =SUM(C11:O11) -> 1197 | C11: 0 | D11: 5 | E11: 75 | F11: 234 | G11: 446 | H11: 271 | I11: 112 | J11: 35 | K11: 13 | L11: 4 | M11: 1 | N11: 1 | O11: 0
A12: 40～44 | B12: =SUM(C12:O12) -> 592 | C12: 0 | D12: 3 | E12: 13 | F12: 47 | G12: 107 | H12: 197 | I12: 146 | J12: 50 | K12: 18 | L12: 6 | M12: 3 | N12: 2 | O12: 0
A13: 45～49 | B13: =SUM(C13:O13) -> 375 | C13: 0 | D13: 1 | E13: 4 | F13: 15 | G13: 25 | H13: 58 | I13: 137 | J13: 75 | K13: 33 | L13: 17 | M13: 4 | N13: 6 | O13: 0
A14: 50～54 | B14: =SUM(C14:O14) -> 213 | C14: 0 | D14: 0 | E14: 0 | F14: 3 | G14: 0 | H14: 22 | I14: 38 | J14: 76 | K14: 45 | L14: 14 | M14: 8 | N14: 7 | O14: 0
A15: 55～59 | B15: =SUM(C15:O15) -> 113 | C15: 0 | D15: 0 | E15: 0 | F15: 0 | G15: 1 | H15: 3 | I15: 10 | J15: 13 | K15: 34 | L15: 25 | M15: 11 | N15: 16 | O15: 0
A16: 60～64 | B16: =SUM(C16:O16) -> 81 | C16: 0 | D16: 0 | E16: 0 | F16: 0 | G16: 0 | H16: 0 | I16: 3 | J16: 7 | K16: 11 | L16: 22 | M16: 22 | N16: 16 | O16: 0
A17: 65～69 | B17: =SUM(C17:O17) -> 56 | C17: 0 | D17: 0 | E17: 0 | F17: 0 | G17: 0 | H17: 0 | I17: 2 | J17: 0 | K17: 7 | L17: 11 | M17: 19 | N17: 17 | O17: 0
A18: 70歳～ | B18: =SUM(C18:O18) -> 64 | C18: 0 | D18: 0 | E18: 0 | F18: 0 | G18: 0 | H18: 0 | I18: 0 | J18: 1 | K18: 1 | L18: 3 | M18: 7 | N18: 52 | O18: 0
A19: 不 詳 | B19: =SUM(C19:O19) -> 0 | C19: 0 | D19: 0 | E19: 0 | F19: 0 | G19: 0 | H19: 0 | I19: 0 | J19: 0 | K19: 0 | L19: 0 | M19: 0 | N19: 0 | O19: 0
B20: 百分率
A21: 総 数 | B21: =SUM(C21:O21) -> 100 | C21: =C6/$B$6*100 -> 0.49605183 | D21: =D6/$B$6*100 -> 9.5667139 | E21: =E6/$B$6*100 -> 30.289532 | F21: =F6/$B$6*100 -> 23.800364 | G21: =G6/$B$6*100 -> 13.82871 | H21: =H6/$B$6*100 -> 8.5948573 | I21: =I6/$B$6*100 -> 5.8412634 | J21: =J6/$B$6*100 -> 2.8750759 | ... O21: =O6/$B$6*100 -> 0
A22: 19歳以下 | B22: =B7/$B$6*100 -> 0.87062158 | C22: =C7/$B$6*100 -> 0.31382871 | D22: =D7/$B$6*100 -> 0.42518728 | E22: =E7/$B$6*100 -> 0.050617534 | F22: =F7/$B$6*100 -> 0.060741041 | G22: =G7/$B$6*100 -> 0.010123507 | H22: =H7/$B$6*100 -> 0 | I22: =I7/$B$6*100 -> 0.010123507 | ... O22: =O7/$B$6*100 -> 0
A23: 20～24 | B23: =B8/$B$6*100 -> 14.820814 | C23: =C8/$B$6*100 -> 0.1518526 | D23: =D8/$B$6*100 -> 6.5499089 | E23: =E8/$B$6*100 -> 5.0415064 | F23: =F8/$B$6*100 -> 1.9234663 | G23: =G8/$B$6*100 -> 0.72889249 | H23: =H8/$B$6*100 -> 0.26321118 | I23: =I8/$B$6*100 -> 0.13160559 | ... O23: =O8/$B$6*100 -> 0
A24: 25～29 | B24: =B9/$B$6*100 -> 34.490788 | C24: =C9/$B$6*100 -> 0.020247014 | D24: =D9/$B$6*100 -> 2.0247014 | E24: =E9/$B$6*100 -> 19.993926 | F24: =F9/$B$6*100 -> 8.4632517 | G24: =G9/$B$6*100 -> 2.5713707 | H24: =H9/$B$6*100 -> 0.91111561 | I24: =I9/$B$6*100 -> 0.4454343 | ... O24: =O9/$B$6*100 -> 0
A25: 30～34 | B25: =B10/$B$6*100 -> 22.57542 | C25: =C10/$B$6*100 -> 0.010123507 | D25: =D10/$B$6*100 -> 0.47580482 | E25: =E10/$B$6*100 -> 4.2721199 | F25: =F10/$B$6*100 -> 10.325977 | G25: =G10/$B$6*100 -> 4.6568131 | H25: =H10/$B$6*100 -> 1.8424782 | I25: =I10/$B$6*100 -> 0.71876898 | ... O25: =O10/$B$6*100 -> 0
A26: 35～39 | B26: =B11/$B$6*100 -> 12.117838 | C26: =C11/$B$6*100 -> 0 | D26: =D11/$B$6*100 -> 0.050617534 | E26: =E11/$B$6*100 -> 0.75926301 | F26: =F11/$B$6*100 -> 2.3689006 | G26: =G11/$B$6*100 -> 4.515084 | H26: =H11/$B$6*100 -> 2.7434703 | I26: =I11/$B$6*100 -> 1.1338328 | ... O26: =O11/$B$6*100 -> 0
A27: 40～44 | B27: =B12/$B$6*100 -> 5.993116 | C27: =C12/$B$6*100 -> 0 | D27: =D12/$B$6*100 -> 0.03037052 | E27: =E12/$B$6*100 -> 0.13160559 | F27: =F12/$B$6*100 -> 0.47580482 | G27: =G12/$B$6*100 -> 1.0832152 | H27: =H12/$B$6*100 -> 1.9943308 | I27: =I12/$B$6*100 -> 1.478032 | ... O27: =O12/$B$6*100 -> 0
A28: 45～49 | B28: =B13/$B$6*100 -> 3.796315 | C28: =C13/$B$6*100 -> 0 | D28: =D13/$B$6*100 -> 0.010123507 | E28: =E13/$B$6*100 -> 0.040494027 | F28: =F13/$B$6*100 -> 0.1518526 | G28: =G13/$B$6*100 -> 0.25308767 | H28: =H13/$B$6*100 -> 0.58716339 | I28: =I13/$B$6*100 -> 1.3869204 | ... O28: =O13/$B$6*100 -> 0
A29: 50～54 | B29: =B14/$B$6*100 -> 2.1563069 | C29: =C14/$B$6*100 -> 0 | D29: =D14/$B$6*100 -> 0 | E29: =E14/$B$6*100 -> 0 | F29: =F14/$B$6*100 -> 0.03037052 | G29: =G14/$B$6*100 -> 0 | H29: =H14/$B$6*100 -> 0.22271715 | I29: =I14/$B$6*100 -> 0.38469326 | ... O29: =O14/$B$6*100 -> 0
A30: 55～59 | B30: =B15/$B$6*100 -> 1.1439563 | C30: =C15/$B$6*100 -> 0 | D30: =D15/$B$6*100 -> 0 | E30: =E15/$B$6*100 -> 0 | F30: =F15/$B$6*100 -> 0 | G30: =G15/$B$6*100 -> 0.010123507 | H30: =H15/$B$6*100 -> 0.03037052 | I30: =I15/$B$6*100 -> 0.10123507 | ... O30: =O15/$B$6*100 -> 0
A31: 60～64 | B31: =B16/$B$6*100 -> 0.82000405 | C31: =C16/$B$6*100 -> 0 | D31: =D16/$B$6*100 -> 0 | E31: =E16/$B$6*100 -> 0 | F31: =F16/$B$6*100 -> 0 | G31: =G16/$B$6*100 -> 0 | H31: =H16/$B$6*100 -> 0 | I31: =I16/$B$6*100 -> 0.03037052 | ... O31: =O16/$B$6*100 -> 0
A32: 65～69 | B32: =B17/$B$6*100 -> 0.56691638 | C32: =C17/$B$6*100 -> 0 | D32: =D17/$B$6*100 -> 0 | E32: =E17/$B$6*100 -> 0 | F32: =F17/$B$6*100 -> 0 | G32: =G17/$B$6*100 -> 0 | H32: =H17/$B$6*100 -> 0 | I32: =I17/$B$6*100 -> 0.020247014 | ... O32: =O17/$B$6*100 -> 0
A33: 70歳～ | B33: =B18/$B$6*100 -> 0.64790443 | C33: =C18/$B$6*100 -> 0 | D33: =D18/$B$6*100 -> 0 | E33: =E18/$B$6*100 -> 0 | F33: =F18/$B$6*100 -> 0 | G33: =G18/$B$6*100 -> 0 | H33: =H18/$B$6*100 -> 0 | I33: =I18/$B$6*100 -> 0 | ... O33: =O18/$B$6*100 -> 0
A34: 不 詳 | B34: =B19/$B$6*100 -> 0 | C34: =C19/$B$6*100 -> 0 | D34: =D19/$B$6*100 -> 0 | E34: =E19/$B$6*100 -> 0 | F34: =F19/$B$6*100 -> 0 | G34: =G19/$B$6*100 -> 0 | H34: =H19/$B$6*100 -> 0 | I34: =I19/$B$6*100 -> 0 | ... O34: =O19/$B$6*100 -> 0

Sheet 6 夫妻の年齢別（5歳階級），初婚夫妻の婚姻件数・百分率
A1: 6 夫妻の年齢（5歳階級）別にみた初婚夫妻の婚姻件数及び百分率
O2: ='3 初婚再婚の組合せ別，区別婚姻件数・再婚割合 '!$K$2 -> 平成30年
A3: 妻の年齢 | B3: 夫 の 年 齢
B4: 総 数 | C4: 19歳以下 | D4: 20～24 | E4: 25～29 | F4: 30～34 | G4: 35～39 | H4: 40～44 | I4: 45～49 | J4: 50～54 | K4: 55～59 | L4: 60～64 | M4: 65～69 | N4: 70歳～ | O4: 不 詳
B5: 婚姻件数
A6: 総 数 | B6: =SUM(C6:O6) -> 6825 | C6: =SUM(C7:C19) -> 48 | D6: =SUM(D7:D19) -> 882 | E6: =SUM(E7:E19) -> 2712 | F6: =SUM(F7:F19) -> 1807 | G6: =SUM(G7:G19) -> 804 | H6: =SUM(H7:H19) -> 364 | I6: =SUM(I7:I19) -> 159 | J6: =SUM(J7:J19) -> 35 | ... O6: =SUM(O7:O19) -> 0
A7: 19歳以下 | B7: =SUM(C7:O7) -> 82 | C7: 31 | D7: 41 | E7: 4 | F7: 5 | G7: 1 | H7: 0 | I7: 0 | J7: 0 | K7: 0 | L7: 0 | M7: 0 | N7: 0 | O7: 0
A8: 20～24 | B8: =SUM(C8:O8) -> 1294 | C8: 15 | D8: 620 | E8: 457 | F8: 141 | G8: 46 | H8: 11 | I8: 4 | J8: 0 | K8: 0 | L8: 0 | M8: 0 | N8: 0 | O8: 0
A9: 25～29 | B9: =SUM(C9:O9) -> 2950 | C9: 2 | D9: 182 | E9: 1853 | F9: 687 | G9: 162 | H9: 47 | I9: 15 | J9: 1 | K9: 0 | L9: 1 | M9: 0 | N9: 0 | O9: 0
A10: 30～34 | B10: =SUM(C10:O10) -> 1587 | C10: 0 | D10: 34 | E10: 343 | F10: 786 | G10: 300 | H10: 97 | I10: 25 | J10: 2 | K10: 0 | L10: 0 | M10: 0 | N10: 0 | O10: 0
A11: 35～39 | B11: =SUM(C11:O11) -> 645 | C11: 0 | D11: 4 | E11: 48 | F11: 166 | G11: 250 | H11: 127 | I11: 43 | J11: 7 | K11: 0 | L11: 0 | M11: 0 | N11: 0 | O11: 0
A12: 40～44 | B12: =SUM(C12:O12) -> 189 | C12: 0 | D12: 1 | E12: 5 | F12: 17 | G12: 40 | H12: 67 | I12: 45 | J12: 11 | K12: 3 | L12: 0 | M12: 0 | N12: 0 | O12: 0
A13: 45～49 | B13: =SUM(C13:O13) -> 56 | C13: 0 | D13: 0 | E13: 2 | F13: 4 | G13: 5 | H13: 11 | I13: 23 | J13: 10 | K13: 1 | L13: 0 | M13: 0 | N13: 0 | O13: 0
A14: 50～54 | B14: =SUM(C14:O14) -> 13 | C14: 0 | D14: 0 | E14: 0 | F14: 1 | G14: 0 | H14: 4 | I14: 2 | J14: 4 | K14: 2 | L14: 0 | M14: 0 | N14: 0 | O14: 0
A15: 55～59 | B15: =SUM(C15:O15) -> 4 | C15: 0 | D15: 0 | E15: 0 | F15: 0 | G15: 0 | H15: 0 | I15: 2 | J15: 0 | K15: 1 | L15: 1 | M15: 0 | N15: 0 | O15: 0
A16: 60～64 | B16: =SUM(C16:O16) -> 3 | C16: 0 | D16: 0 | E16: 0 | F16: 0 | G16: 0 | H16: 0 | I16: 0 | J16: 0 | K16: 1 | L16: 1 | M16: 1 | N16: 0 | O16: 0
A17: 65～69 | B17: =SUM(C17:O17) -> 2 | C17: 0 | D17: 0 | E17: 0 | F17: 0 | G17: 0 | H17: 0 | I17: 0 | J17: 0 | K17: 1 | L17: 1 | M17: 0 | N17: 0 | O17: 0
A18: 70歳～ | B18: =SUM(C18:O18) -> 0 | C18: 0 | D18: 0 | E18: 0 | F18: 0 | G18: 0 | H18: 0 | I18: 0 | J18: 0 | K18: 0 | L18: 0 | M18: 0 | N18: 0 | O18: 0
A19: 不 詳 | B19: =SUM(C19:O19) -> 0 | C19: 0 | D19: 0 | E19: 0 | F19: 0 | G19: 0 | H19: 0 | I19: 0 | J19: 0 | K19: 0 | L19: 0 | M19: 0 | N19: 0 | O19: 0
B20: 百分率
A21: 総 数 | B21: =SUM(C21:O21) -> 100 | C21: =C6/$B$6*100 -> 0.7032967 | D21: =D6/$B$6*100 -> 12.923077 | E21: =E6/$B$6*100 -> 39.736264 | F21: =F6/$B$6*100 -> 26.47619 | G21: =G6/$B$6*100 -> 11.78022 | H21: =H6/$B$6*100 -> 5.3333333 | I21: =I6/$B$6*100 -> 2.3296703 | J21: =J6/$B$6*100 -> 0.51282051 | ... O21: =O6/$B$6*100 -> 0
A22: 19歳以下 | B22: =B7/$B$6*100 -> 1.2014652 | C22: =C7/$B$6*100 -> 0.45421245 | D22: =D7/$B$6*100 -> 0.6007326 | E22: =E7/$B$6*100 -> 0.058608059 | F22: =F7/$B$6*100 -> 0.073260073 | G22: =G7/$B$6*100 -> 0.014652015 | H22: =H7/$B$6*100 -> 0 | I22: =I7/$B$6*100 -> 0 | ... O22: =O7/$B$6*100 -> 0
A23: 20～24 | B23: =B8/$B$6*100 -> 18.959707 | C23: =C8/$B$6*100 -> 0.21978022 | D23: =D8/$B$6*100 -> 9.0842491 | E23: =E8/$B$6*100 -> 6.6959707 | F23: =F8/$B$6*100 -> 2.0659341 | G23: =G8/$B$6*100 -> 0.67399267 | H23: =H8/$B$6*100 -> 0.16117216 | I23: =I8/$B$6*100 -> 0.058608059 | ... O23: =O8/$B$6*100 -> 0
A24: 25～29 | B24: =B9/$B$6*100 -> 43.223443 | C24: =C9/$B$6*100 -> 0.029304029 | D24: =D9/$B$6*100 -> 2.6666667 | E24: =E9/$B$6*100 -> 27.150183 | F24: =F9/$B$6*100 -> 10.065934 | G24: =G9/$B$6*100 -> 2.3736264 | H24: =H9/$B$6*100 -> 0.68864469 | I24: =I9/$B$6*100 -> 0.21978022 | ... O24: =O9/$B$6*100 -> 0
A25: 30～34 | B25: =B10/$B$6*100 -> 23.252747 | C25: =C10/$B$6*100 -> 0 | D25: =D10/$B$6*100 -> 0.4981685 | E25: =E10/$B$6*100 -> 5.025641 | F25: =F10/$B$6*100 -> 11.516484 | G25: =G10/$B$6*100 -> 4.3956044 | H25: =H10/$B$6*100 -> 1.4212454 | I25: =I10/$B$6*100 -> 0.36630037 | ... O25: =O10/$B$6*100 -> 0
A26: 35～39 | B26: =B11/$B$6*100 -> 9.4505495 | C26: =C11/$B$6*100 -> 0 | D26: =D11/$B$6*100 -> 0.058608059 | E26: =E11/$B$6*100 -> 0.7032967 | F26: =F11/$B$6*100 -> 2.4322344 | G26: =G11/$B$6*100 -> 3.6630037 | H26: =H11/$B$6*100 -> 1.8608059 | I26: =I11/$B$6*100 -> 0.63003663 | ... O26: =O11/$B$6*100 -> 0
A27: 40～44 | B27: =B12/$B$6*100 -> 2.7692308 | C27: =C12/$B$6*100 -> 0 | D27: =D12/$B$6*100 -> 0.014652015 | E27: =E12/$B$6*100 -> 0.073260073 | F27: =F12/$B$6*100 -> 0.24908425 | G27: =G12/$B$6*100 -> 0.58608059 | H27: =H12/$B$6*100 -> 0.98168498 | I27: =I12/$B$6*100 -> 0.65934066 | ... O27: =O12/$B$6*100 -> 0
A28: 45～49 | B28: =B13/$B$6*100 -> 0.82051282 | C28: =C13/$B$6*100 -> 0 | D28: =D13/$B$6*100 -> 0 | E28: =E13/$B$6*100 -> 0.029304029 | F28: =F13/$B$6*100 -> 0.058608059 | G28: =G13/$B$6*100 -> 0.073260073 | H28: =H13/$B$6*100 -> 0.16117216 | I28: =I13/$B$6*100 -> 0.33699634 | ... O28: =O13/$B$6*100 -> 0
A29: 50～54 | B29: =B14/$B$6*100 -> 0.19047619 | C29: =C14/$B$6*100 -> 0 | D29: =D14/$B$6*100 -> 0 | E29: =E14/$B$6*100 -> 0 | F29: =F14/$B$6*100 -> 0.014652015 | G29: =G14/$B$6*100 -> 0 | H29: =H14/$B$6*100 -> 0.058608059 | I29: =I14/$B$6*100 -> 0.029304029 | ... O29: =O14/$B$6*100 -> 0
A30: 55～59 | B30: =B15/$B$6*100 -> 0.058608059 | C30: =C15/$B$6*100 -> 0 | D30: =D15/$B$6*100 -> 0 | E30: =E15/$B$6*100 -> 0 | F30: =F15/$B$6*100 -> 0 | G30: =G15/$B$6*100 -> 0 | H30: =H15/$B$6*100 -> 0 | I30: =I15/$B$6*100 -> 0.029304029 | ... O30: =O15/$B$6*100 -> 0
A31: 60～64 | B31: =B16/$B$6*100 -> 0.043956044 | C31: =C16/$B$6*100 -> 0 | D31: =D16/$B$6*100 -> 0 | E31: =E16/$B$6*100 -> 0 | F31: =F16/$B$6*100 -> 0 | G31: =G16/$B$6*100 -> 0 | H31: =H16/$B$6*100 -> 0 | I31: =I16/$B$6*100 -> 0 | ... O31: =O16/$B$6*100 -> 0
A32: 65～69 | B32: =B17/$B$6*100 -> 0.029304029 | C32: =C17/$B$6*100 -> 0 | D32: =D17/$B$6*100 -> 0 | E32: =E17/$B$6*100 -> 0 | F32: =F17/$B$6*100 -> 0 | G32: =G17/$B$6*100 -> 0 | H32: =H17/$B$6*100 -> 0 | I32: =I17/$B$6*100 -> 0 | ... O32: =O17/$B$6*100 -> 0
A33: 70歳～ | B33: =B18/$B$6*100 -> 0 | C33: =C18/$B$6*100 -> 0 | D33: =D18/$B$6*100 -> 0 | E33: =E18/$B$6*100 -> 0 | F33: =F18/$B$6*100 -> 0 | G33: =G18/$B$6*100 -> 0 | H33: =H18/$B$6*100 -> 0 | I33: =I18/$B$6*100 -> 0 | ... O33: =O18/$B$6*100 -> 0
A34: 不 詳 | B34: =B19/$B$6*100 -> 0 | C34: =C19/$B$6*100 -> 0 | D34: =D19/$B$6*100 -> 0 | E34: =E19/$B$6*100 -> 0 | F34: =F19/$B$6*100 -> 0 | G34: =G19/$B$6*100 -> 0 | H34: =H19/$B$6*100 -> 0 | I34: =I19/$B$6*100 -> 0 | ... O34: =O19/$B$6*100 -> 0

Sheet 7 年次別平均婚姻年齢・年齢差
A1: 7 初婚―再婚別にみた年次別平均婚姻年齢及び夫妻の年齢差
A3: 年 次 | B3: 全婚姻 1) | D3: 初婚 | F3: 再 婚 2) | H3: 年齢差
B4: 夫 | C4: 妻 | D4: 夫 | E4: 妻 | F4: 夫 | G4: 妻 | H4: 全婚姻 | I4: 初 婚 | J4: 再 婚
A5: 85 60 | B5: 29.7 | C5: 27.2 | D5: 28 | E5: 25.9 | F5: 39 | G5: 36 | H5: =B5-C5 -> 2.5 | I5: =D5-E5 -> 2.1 | J5: =F5-G5 -> 3
A6: 1986 昭和61年 | B6: 30 | C6: 27.4 | D6: 28.2 | E6: 26.1 | F6: 39.4 | G6: 36.4 | H6: =B6-C6 -> 2.6 | I6: =D6-E6 -> 2.1 | J6: =F6-G6 -> 3
A7: 1987 昭和62年 | B7: 30.1 | C7: 27.5 | D7: 28.2 | E7: 26.1 | F7: 39.6 | G7: 36.3 | H7: =B7-C7 -> 2.6 | I7: =D7-E7 -> 2.1 | J7: =F7-G7 -> 3.3
A8: 1988 昭和63年 | B8: 30.4 | C8: 27.8 | D8: 28.3 | E8: 26.2 | F8: 39.6 | G8: 36.5 | H8: 2.6 | I8: 2 | J8: 3.1
A9: 89 平成元年 | B9: 30.3 | C9: 27.8 | D9: 28.3 | E9: 26.1 | F9: 39.6 | G9: 37 | H9: 2.5 | I9: 2.1 | J9: 2.6
A10: 90 2 | B10: 30.5 | C10: 27.8 | D10: 28.3 | E10: 26.2 | F10: 40.5 | G10: 37.4 | H10: 2.7 | I10: 2 | J10: 3.1
A11: 91 3 | B11: 30.3 | C11: 27.7 | D11: 28.3 | E11: 26.1 | F11: 40 | G11: 37.3 | H11: 2.6 | I11: 2.1 | J11: 2.7
A12: 92 4 | B12: 30.4 | C12: 27.9 | D12: 28.4 | E12: 26.4 | F12: 40.7 | G12: 37.9 | H12: 2.5 | I12: 1.9 | J12: 2.8
A13: 1993 平成5年 | B13: 30.4 | C13: 28 | D13: 28.4 | E13: 26.5 | F13: 40.6 | G13: 37.5 | H13: 2.4 | I13: 1.9 | J13: 3.1
A14: 94 6 | B14: 30.4 | C14: 28 | D14: 28.4 | E14: 26.5 | F14: 40.6 | G14: 37.9 | H14: 2.4 | I14: 1.9 | J14: 2.7
A15: 95 7 | B15: 30.3 | C15: 28 | D15: 28.4 | E15: 26.6 | F15: 40.1 | G15: 37.4 | H15: 2.3 | I15: 1.8 | J15: 2.7
A16: 96 8 | B16: 30.4 | C16: 28.2 | D16: 28.5 | E16: 26.8 | F16: 40.4 | G16: 37.7 | H16: 2.2 | I16: 1.6 | J16: 2.7
A17: 97 9 | B17: 30.5 | C17: 28.3 | D17: 28.5 | E17: 26.9 | F17: 40.5 | G17: 37.4 | H17: 2.2 | I17: 1.6 | J17: 3.1
A18: 1998 平成10年 | B18: 30.5 | C18: 28.4 | D18: 28.6 | E18: 27 | F18: 40.2 | G18: 37.1 | H18: 2.1 | I18: 1.6 | J18: 3.1
A19: 99 11 | B19: 30.5 | C19: 28.5 | D19: 28.5 | E19: 27.1 | F19: 40.6 | G19: 37.8 | H19: 2 | I19: 1.4 | J19: 2.8
... A37: 17 29 | B37: 34.309552 | C37: 32.098151 | D37: 31.321194 | E37: 29.857141 | F37: 44.099262 | G37: 41.866869 | H37: 2.2114006 | I37: 1.4640526 | J37: 2.2323922
A38: 18 30 | B38: ='[1]■7 年次別平均婚姻年齢・年齢差'!$B$5 -> 34.421408 | C38: ='[1]■7 年次別平均婚姻年齢・年齢差'!$C$5 -> 32.315103 | D38: ='[1]■7 年次別平均婚姻年齢・年齢差'!$D$5 -> 31.232144 | E38: ='[1]■7 年次別平均婚姻年齢・年齢差'!$E$5 -> 30.002975 | F38: ='[1]■7 年次別平均婚姻年齢・年齢差'!$F$5 -> 44.852356 | G38: ='[1]■7 年次別平均婚姻年齢・年齢差'!$G$5 -> 42.242631 | H38: =B38-C38 -> 2.1063053 | I38: =D38-E38 -> 1.2291689 | J38: =F38-G38 -> 2.609725
A39: 1) 平成11年までの全婚姻の平均婚姻年齢は本市の集計による。
A40: 2) 平成11年までの再婚の平均婚姻年齢は「同居を開始した年齢」である。

Sheet 8 婚姻件数，夫妻の年齢差別
A1: 8 夫妻の年齢差別にみた婚姻件数
G2: ='3 初婚再婚の組合せ別，区別婚姻件数・再婚割合 '!$K$2 -> 平成30年
A3: 年 齢 差 | B3: 全婚姻 | E3: 初婚夫妻
B4: 総 数 | C4: 夫 年 上 | D4: 妻 年 上 | E4: 総 数 | F4: 夫 年 上 | G4: 妻 年 上
A5: 総 数 | B5: =SUM(B6:B27) -> 9878 | C5: =SUM(C7:C27) -> 4971 | D5: =SUM(D7:D27) -> 2022 | E5: =SUM(E6:E27) -> 6825 | F5: =SUM(F7:F27) -> 3145 | G5: =SUM(G7:G27) -> 1336
A6: 夫妻同年 | B6: 2885 | C6: ・ | D6: ・ | E6: 2344 | F6: ・ | G6: ・
A7: 1歳 | B7: =C7+D7 -> 1481 | C7: 933 | D7: 548 | E7: =SUM(F7:G7) -> 1118 | F7: 712 | G7: 406
A8: 2 | B8: =C8+D8 -> 1081 | C8: 694 | D8: 387 | E8: =SUM(F8:G8) -> 787 | F8: 505 | G8: 282
A9: 3 | B9: =C9+D9 -> 866 | C9: 587 | D9: 279 | E9: =SUM(F9:G9) -> 630 | F9: 421 | G9: 209
A10: 4 | B10: =C10+D10 -> 740 | C10: 509 | D10: 231 | E10: =SUM(F10:G10) -> 490 | F10: 335 | G10: 155
A11: 5 | B11: =C11+D11 -> 546 | C11: 407 | D11: 139 | E11: =SUM(F11:G11) -> 357 | F11: 278 | G11: 79
A12: 6 | B12: =C12+D12 -> 467 | C12: 352 | D12: 115 | E12: =SUM(F12:G12) -> 276 | F12: 217 | G12: 59
A13: 7 | B13: =C13+D13 -> 357 | C13: 280 | D13: 77 | E13: =SUM(F13:G13) -> 190 | F13: 156 | G13: 34
A14: 8 | B14: =C14+D14 -> 317 | C14: 246 | D14: 71 | E14: =SUM(F14:G14) -> 173 | F14: 133 | G14: 40
A15: 9 | B15: =C15+D15 -> 176 | C15: 139 | D15: 37 | E15: =SUM(F15:G15) -> 97 | F15: 78 | G15: 19
A16: 10 | B16: =C16+D16 -> 195 | C16: 151 | D16: 44 | E16: =SUM(F16:G16) -> 94 | F16: 73 | G16: 21
A17: 11 | B17: =C17+D17 -> 177 | C17: 149 | D17: 28 | E17: =SUM(F17:G17) -> 75 | F17: 61 | G17: 14
A18: 12 | B18: =C18+D18 -> 124 | C18: 106 | D18: 18 | E18: =SUM(F18:G18) -> 52 | F18: 45 | G18: 7
... A27: 41歳～ | B27: =C27+D27 -> 0 | C27: 0 | D27: 0 | E27: =SUM(F27:G27) -> 0 | F27: 0 | G27: 0
B30: 0 | E30: 0
