Workbook

Sheet 通常計算
B1: 上下水道料金 計算表 | AR1: ●水道使用量等の確認方法
C3: ① 何か月ごとに検針されていますか。
H6: か月
C8: ② 水道使用用途および口径を選択してください。
C13: ③ 水道使用量を入力してください。
H16: ㎥
C18: ④ 汚水排出量を入力してください。
D19: ※水道使用量と同量の場合は、入力不要です。
H22: ㎥
C24: 改定後の料金 | Y24: 改定前の料金
I25: 本体 | N25: 消費税（10％） | S25: 税込 | Y25: 本体 | AD25: 消費税（10％） | AI25: 税込
C26: 下水道使用料 | I26: =X36 -> 0 | M26: 円 | N26: =X37 -> 0 | R26: 円 | S26: =X34 -> 0 | W26: 円 | Y26: =従前料金!T34 -> 0 | AC26: 円 | AD26: =従前料金!Y34 -> 0 | AH26: 円 | AI26: =従前料金!AD34 -> 0 | AM26: 円
C27: 水道料金 | I27: =X57 -> #VALUE! | M27: 円 | N27: =X58 -> #VALUE! | R27: 円 | S27: =X55 -> #VALUE! | W27: 円 | Y27: =X57 -> #VALUE! | AC27: 円 | AD27: =X58 -> #VALUE! | AH27: 円 | AI27: =X55 -> #VALUE! | AM27: 円 | AN27: ※変更なし
C28: 合計 | I28: =SUM(I26:L27) -> #VALUE! | M28: 円 | N28: =SUM(N26:Q27) -> #VALUE! | R28: 円 | S28: =SUM(S26:V27) -> #VALUE! | W28: 円 | Y28: =SUM(Y26:AB27) -> #VALUE! | AC28: 円 | AD28: =SUM(AD26:AG27) -> #VALUE! | AH28: 円 | AI28: =SUM(AI26:AL27) -> #VALUE! | AM28: 円
C30: 増加額 | I30: =I28-Y28 -> #VALUE! | M30: 円 | N30: =N28-AD28 -> #VALUE! | R30: 円 | S30: =S28-AI28 -> #VALUE! | W30: 円
B32: 下水道使用料の計算
B34: (1) | D34: 検針月数： | I34: =E5 -> 0 | K34: ヵ月 | N34: =ROUNDUP(I34,0) -> 0 | R34: 下水道使用料（税込) | X34: =AD50 -> 0 | AD34: 円
B36: (2) | D36: 汚水排出量： | I36: =E21 -> 0 | M36: ㎥ | R36: 本体 | X36: =T50 -> 0 | AD36: 円
R37: 税（10％） | X37: =Y50 -> 0 | AD37: 円
B39: 汚水排出量（基準） | K39: 単 価 | O39: 汚水排出量 | T39: 下水道使用料
T40: 本 体 | Y40: 消 費 税 | AD40: 合 計
K41: (A) | O41: (B) | T41: (A*B=C) | Y41: (C*10%=D) | AD41: (C+D)
B42: =10*N34 -> 0 | E42: ㎥まで（基本水量） | L42: 750 | N42: 円 | O42: =IF($I$36>$B$42,$B$42,$I$36) -> 0 | S42: ㎥ | T42: =L42*I34 -> 0 | X42: 円
B43: =$B$42+1 -> 1 | E43: ㎥～ | G43: =20*$N$34 -> 0 | J43: ㎥ | K43: 1㎥当たり | L43: 87 | N43: 円 | O43: =IF($I$36>$G$43,$G$43-$B$43+1,IF($I$36-$B$43+1<0,0,$I$36-$B$43+1)) -> 0 | S43: ㎥ | T43: =L43*O43 -> 0 | X43: 円
B44: =$G$43+1 -> 1 | E44: ㎥～ | G44: =30*$N$34 -> 0 | J44: ㎥ | L44: 114 | N44: 円 | O44: =IF($I$36>$G$44,$G$44-$B$44+1,IF($I$36-$B$44+1<0,0,$I$36-$B$44+1)) -> 0 | S44: ㎥ | T44: =L44*O44 -> 0 | X44: 円
B45: =$G$44+1 -> 1 | E45: ㎥～ | G45: =100*$N$34 -> 0 | J45: ㎥ | L45: 146 | N45: 円 | O45: =IF($I$36>$G$45,$G$45-$B$45+1,IF($I$36-$B$45+1<0,0,$I$36-$B$45+1)) -> 0 | S45: ㎥ | T45: =L45*O45 -> 0 | X45: 円
B46: =$G$45+1 -> 1 | E46: ㎥～ | G46: =200*$N$34 -> 0 | J46: ㎥ | L46: 177 | N46: 円 | O46: =IF($I$36>$G$46,$G$46-$B$46+1,IF($I$36-$B$46+1<0,0,$I$36-$B$46+1)) -> 0 | S46: ㎥ | T46: =L46*O46 -> 0 | X46: 円
B47: =$G$46+1 -> 1 | E47: ㎥～ | G47: =1000*$N$34 -> 0 | J47: ㎥ | L47: 203 | N47: 円 | O47: =IF($I$36>$G$47,$G$47-$B$47+1,IF($I$36-$B$47+1<0,0,$I$36-$B$47+1)) -> 0 | S47: ㎥ | T47: =L47*O47 -> 0 | X47: 円
B48: =$G$47+1 -> 1 | E48: ㎥～ | G48: =5000*$N$34 -> 0 | J48: ㎥ | L48: 232 | N48: 円 | O48: =IF($I$36>$G$48,$G$48-$B$48+1,IF($I$36-$B$48+1<0,0,$I$36-$B$48+1)) -> 0 | S48: ㎥ | T48: =L48*O48 -> 0 | X48: 円
B49: =$G$48+1 -> 1 | E49: ㎥以上 | L49: 265 | N49: 円 | O49: =IF($I$36-$B$49+1<0,0,$I$36-$B$49+1) -> 0 | S49: ㎥ | T49: =L49*O49 -> 0 | X49: 円
B50: 合 計 | O50: =SUM(O42:R49) -> 0 | S50: ㎥ | T50: =SUM(T42:W49) -> 0 | X50: 円 | Y50: =ROUNDDOWN(T50*0.1,0) -> 0 | AC50: 円 | AD50: =T50+Y50 -> 0 | AH50: 円
B53: 上水道使用料計算表（参考）
B55: (1) | D55: 検針月数： | I55: =I34 -> 0 | K55: ヵ月 | R55: 上水道使用料（税込) | X55: =BF73 -> #VALUE! | AD55: 円
B57: (2) | D57: 上水量： | I57: =E15 -> 0 | M57: ㎥ | R57: 本体 | X57: =AV73 -> #VALUE! | AD57: 円
R58: 税（10％） | X58: =BA73 -> #VALUE! | AD58: 円
B59: (3) | D59: 口径： | I59: =E10 -> 0
B62: 上水量（基準） | K62: 単 価 表 | AM62: 汚水排出量 | AR62: 単価 | AV62: 本 体 | BA62: 消 費 税 | BF62: 合 計
L63: 家事用 | O63: 家事用以外20㎜以下 | R63: 家事用以外25㎜ | U63: 家事用以外40㎜ | X63: 家事用以外50㎜ | AA63: 家事用以外75㎜ | AD63: 家事用以外100㎜ | AG63: 家事用以外150㎜ | AJ63: 家事用以外200㎜ | AR63: =I59 -> 0
L64: A | O64: B | R64: C | U64: D | X64: E | AA64: F | AD64: G | AG64: H | AJ64: I | AM64: (A) | AR64: (B) | AV64: (A*B=C) | BA64: (C*10%=D) | BF64: (C+D)
B65: 基本料金 | K65: 1㎥当たり | L65: 1320 | O65: 2500 | R65: 4300 | U65: 19000 | X65: 49000 | AA65: 216000 | AD65: 244000 | AG65: 511000 | AJ65: 583000 | AR65: =_xlfn.XLOOKUP(I59, L63:AL63, L65:AL65, "") | AV65: =AR65*I34 -> #VALUE! | AZ65: 円
B66: 0 | E66: ㎥～ | G66: =10*$N$34 -> 0 | J66: ㎥ | L66: 0 | O66: 0 | R66: 0 | U66: 0 | X66: 0 | AA66: 0 | AD66: 0 | AG66: 0 | AJ66: 0 | AM66: =IF($I$57>$G$66,$G$66,$I$57) -> 0 | AQ66: ㎥ | AR66: =_xlfn.XLOOKUP(I59, L63:AL63, L66:AL66, "") | AV66: =AM66*AR66 -> #VALUE! | AZ66: 円
B67: =$G$66+1 -> 1 | E67: ㎥～ | G67: =20*$N$34 -> 0 | J67: ㎥ | L67: 200 | O67: 265 | R67: 265 | U67: 0 | X67: 0 | AA67: 0 | AD67: 0 | AG67: 0 | AJ67: 0 | AM67: =IF($I$57>$G$67,$G$67-$B$67+1,IF($I$57-$B$67+1<0,0,$I$57-$B$67+1)) -> 0 | AQ67: ㎥ | AR67: =_xlfn.XLOOKUP(I59, L63:AL63, L67:AL67, "") | AV67: =AM67*AR67 -> #VALUE! | AZ67: 円
B68: =$G$67+1 -> 1 | E68: ㎥～ | G68: =30*$N$34 -> 0 | J68: ㎥ | L68: 230 | O68: 265 | R68: 265 | U68: 0 | X68: 0 | AA68: 0 | AD68: 0 | AG68: 0 | AJ68: 0 | AM68: =IF($I$57>$G$68,$G$68-$B$68+1,IF($I$57-$B$68+1<0,0,$I$57-$B$68+1)) -> 0 | AQ68: ㎥ | AR68: =_xlfn.XLOOKUP(I59, L63:AL63, L68:AL68, "") | AV68: =AM68*AR68 -> #VALUE! | AZ68: 円
B69: =$G$68+1 -> 1 | E69: ㎥～ | G69: =100*$N$34 -> 0 | J69: ㎥ | L69: 265 | O69: 305 | R69: 305 | U69: 330 | X69: 0 | AA69: 0 | AD69: 0 | AG69: 0 | AJ69: 0 | AM69: =IF($I$57>$G$69,$G$69-$B$69+1,IF($I$57-$B$69+1<0,0,$I$57-$B$69+1)) -> 0 | AQ69: ㎥ | AR69: =_xlfn.XLOOKUP(I59, L63:AL63, L69:AL69, "") | AV69: =AM69*AR69 -> #VALUE! | AZ69: 円
B70: =$G$69+1 -> 1 | E70: ㎥～ | G70: =500*$N$34 -> 0 | J70: ㎥ | L70: 330 | O70: 330 | R70: 330 | U70: 345 | X70: 345 | AA70: 0 | AD70: 0 | AG70: 0 | AJ70: 0 | AM70: =IF($I$57>$G$70,$G$70-$B$70+1,IF($I$57-$B$70+1<0,0,$I$57-$B$70+1)) -> 0 | AQ70: ㎥ | AR70: =_xlfn.XLOOKUP(I59, L63:AL63, L70:AL70, "") | AV70: =AM70*AR70 -> #VALUE! | AZ70: 円
B71: =$G$70+1 -> 1 | E71: ㎥～ | G71: =1000*$N$34 -> 0 | J71: ㎥ | L71: 350 | O71: 350 | R71: 350 | U71: 360 | X71: 360 | AA71: 360 | AD71: 360 | AG71: 0 | AJ71: 0 | AM71: =IF($I$57>$G$71,$G$71-$B$71+1,IF($I$57-$B$71+1<0,0,$I$57-$B$71+1)) -> 0 | AQ71: ㎥ | AR71: =_xlfn.XLOOKUP(I59, L63:AL63, L71:AL71, "") | AV71: =AM71*AR71 -> #VALUE! | AZ71: 円
B72: =$G$47+1 -> 1 | E72: ㎥以上 | L72: 375 | O72: 375 | R72: 375 | U72: 375 | X72: 375 | AA72: 375 | AD72: 375 | AG72: 375 | AJ72: 375 | AM72: =IF($I$57-$B$72+1<0,0,$I$57-$B$72+1) -> 0 | AQ72: ㎥ | AR72: =_xlfn.XLOOKUP(I59, L63:AL63, L72:AL72, "") | AV72: =AM72*AR72 -> #VALUE! | AZ72: 円
B73: 合 計 | AM73: =SUM(AM66:AP72) -> 0 | AQ73: ㎥ | AV73: =SUM(AV65:AY72) -> #VALUE! | AZ73: 円 | BA73: =ROUNDDOWN(AV73*0.1,0) -> #VALUE! | BE73: 円 | BF73: =AV73+BA73 -> #VALUE! | BJ73: 円

Sheet 従前料金
B1: 下水道使用料計算表
B4: (1) | D4: 検針月数： | I4: =通常計算!E5 -> 0 | K4: ヵ月 | N4: =ROUNDUP(I4,0) -> 0 | P4: 下水道使用料（税込) | V4: =AD21 -> 0 | AB4: 円
B6: (2) | D6: 汚水排出量： | I6: =通常計算!E21 -> 0 | M6: ㎥ | P6: 本体 | V6: =T21 -> 0 | AB6: 円 | AD6: =V6 -> 0
P7: 税（10％） | V7: =Y21 -> 0 | AB7: 円 | AD7: =V7 -> 0
B8: (3) | D8: 新旧差額： | I8: =AD21-AD34 -> 0 | M8: 円（税込）
B10: 汚水排出量（基準） | K10: 単 価 | O10: 汚水排出量 | T10: 下水道使用料
T11: 本 体 | Y11: 消 費 税 | AD11: 合 計
T12: (A) | Y12: (A*10%=B) | AD12: (A+B)
B13: =10*N4 -> 0 | E13: ㎥まで（基本水量） | L13: =750*I4 -> 0 | N13: 円 | O13: =IF($I$6>$B$13,$B$13,$I$6) -> 0 | S13: ㎥ | T13: =750*I4 -> 0 | X13: 円
B14: =$B$13+1 -> 1 | E14: ㎥～ | G14: =20*$N$4 -> 0 | J14: ㎥ | K14: 1㎥当たり | L14: 87 | N14: 円 | O14: =IF($I$6>$G$14,$G$14-$B$14+1,IF($I$6-$B$14+1<0,0,$I$6-$B$14+1)) -> 0 | S14: ㎥ | T14: =L14*O14 -> 0 | X14: 円
B15: =$G$14+1 -> 1 | E15: ㎥～ | G15: =30*$N$4 -> 0 | J15: ㎥ | L15: 114 | N15: 円 | O15: =IF($I$6>$G$15,$G$15-$B$15+1,IF($I$6-$B$15+1<0,0,$I$6-$B$15+1)) -> 0 | S15: ㎥ | T15: =L15*O15 -> 0 | X15: 円
B16: =$G$15+1 -> 1 | E16: ㎥～ | G16: =100*$N$4 -> 0 | J16: ㎥ | L16: 146 | N16: 円 | O16: =IF($I$6>$G$16,$G$16-$B$16+1,IF($I$6-$B$16+1<0,0,$I$6-$B$16+1)) -> 0 | S16: ㎥ | T16: =L16*O16 -> 0 | X16: 円
B17: =$G$16+1 -> 1 | E17: ㎥～ | G17: =200*$N$4 -> 0 | J17: ㎥ | L17: 177 | N17: 円 | O17: =IF($I$6>$G$17,$G$17-$B$17+1,IF($I$6-$B$17+1<0,0,$I$6-$B$17+1)) -> 0 | S17: ㎥ | T17: =L17*O17 -> 0 | X17: 円
B18: =$G$17+1 -> 1 | E18: ㎥～ | G18: =1000*$N$4 -> 0 | J18: ㎥ | L18: 203 | N18: 円 | O18: =IF($I$6>$G$18,$G$18-$B$18+1,IF($I$6-$B$18+1<0,0,$I$6-$B$18+1)) -> 0 | S18: ㎥ | T18: =L18*O18 -> 0 | X18: 円
B19: =$G$18+1 -> 1 | E19: ㎥～ | G19: =5000*$N$4 -> 0 | J19: ㎥ | L19: 232 | N19: 円 | O19: =IF($I$6>$G$19,$G$19-$B$19+1,IF($I$6-$B$19+1<0,0,$I$6-$B$19+1)) -> 0 | S19: ㎥ | T19: =L19*O19 -> 0 | X19: 円
B20: =$G$19+1 -> 1 | E20: ㎥以上 | L20: 265 | N20: 円 | O20: =IF(I6-B20+1<0,0,I6-B20+1) -> 0 | S20: ㎥ | T20: =L20*O20 -> 0 | X20: 円
B21: 合 計 | O21: =SUM(O13:R20) -> 0 | S21: ㎥ | T21: =SUM(T13:W20) -> 0 | X21: 円 | Y21: =ROUNDDOWN(T21*0.1,0) -> 0 | AC21: 円 | AD21: =T21+Y21 -> 0 | AH21: 円
B23: 汚水排出量（基準） | K23: 旧料金単価 | O23: 汚水排出量 | T23: 下水道使用料
T24: 本 体 | Y24: 消 費 税 | AD24: 合 計
T25: (A) | Y25: (A*10%=B) | AD25: (A+B)
B26: =10*N4 -> 0 | E26: ㎥まで（基本水量） | L26: =600*I4 -> 0 | N26: 円 | O26: =IF($I$6>$B$13,$B$13,$I$6) -> 0 | S26: ㎥ | T26: =600*I4 -> 0 | X26: 円
B27: =$B$13+1 -> 1 | E27: ㎥～ | G27: =20*$N$4 -> 0 | J27: ㎥ | K27: 1㎥当たり | L27: 67 | N27: 円 | O27: =IF($I$6>$G$14,$G$14-$B$14+1,IF($I$6-$B$14+1<0,0,$I$6-$B$14+1)) -> 0 | S27: ㎥ | T27: =L27*O27 -> 0 | X27: 円
B28: =$G$14+1 -> 1 | E28: ㎥～ | G28: =30*$N$4 -> 0 | J28: ㎥ | L28: 91 | N28: 円 | O28: =IF($I$6>$G$15,$G$15-$B$15+1,IF($I$6-$B$15+1<0,0,$I$6-$B$15+1)) -> 0 | S28: ㎥ | T28: =L28*O28 -> 0 | X28: 円
B29: =$G$15+1 -> 1 | E29: ㎥～ | G29: =100*$N$4 -> 0 | J29: ㎥ | L29: 118 | N29: 円 | O29: =IF($I$6>$G$16,$G$16-$B$16+1,IF($I$6-$B$16+1<0,0,$I$6-$B$16+1)) -> 0 | S29: ㎥ | T29: =L29*O29 -> 0 | X29: 円
B30: =$G$16+1 -> 1 | E30: ㎥～ | G30: =200*$N$4 -> 0 | J30: ㎥ | L30: 145 | N30: 円 | O30: =IF($I$6>$G$17,$G$17-$B$17+1,IF($I$6-$B$17+1<0,0,$I$6-$B$17+1)) -> 0 | S30: ㎥ | T30: =L30*O30 -> 0 | X30: 円
B31: =$G$17+1 -> 1 | E31: ㎥～ | G31: =1000*$N$4 -> 0 | J31: ㎥ | L31: 168 | N31: 円 | O31: =IF($I$6>$G$18,$G$18-$B$18+1,IF($I$6-$B$18+1<0,0,$I$6-$B$18+1)) -> 0 | S31: ㎥ | T31: =L31*O31 -> 0 | X31: 円
B32: =$G$18+1 -> 1 | E32: ㎥～ | G32: =5000*$N$4 -> 0 | J32: ㎥ | L32: 199 | N32: 円 | O32: =IF($I$6>$G$19,$G$19-$B$19+1,IF($I$6-$B$19+1<0,0,$I$6-$B$19+1)) -> 0 | S32: ㎥ | T32: =L32*O32 -> 0 | X32: 円
B33: =$G$19+1 -> 1 | E33: ㎥以上 | L33: 237 | N33: 円 | O33: =IF(I6-B20+1<0,0,I6-B20+1) -> 0 | S33: ㎥ | T33: =L33*O33 -> 0 | X33: 円
B34: 合 計 | O34: =SUM(O26:R33) -> 0 | S34: ㎥ | T34: =SUM(T26:W33) -> 0 | X34: 円 | Y34: =ROUNDDOWN(T34*0.1,0) -> 0 | AC34: 円 | AD34: =T34+Y34 -> 0 | AH34: 円
